{"text_format":"1","workbook":"xlsx","n_sheets":4,"sheets":["入力用","１枚目","２枚目","３枚目"],"not_rendered":{"charts":0,"images":0,"macros":1,"external_links":0,"defined_names":4,"comments":1,"pivot_tables":0},"unopened":[],"bounds":{"document_bytes":16777216,"sheet_cells":100000,"rows_first":2000,"rows_last":500,"rows_between":2000,"halvings":0,"cell_chars":16384,"cell_head_chars":4096},"cells_cut":0,"cells_raw":0,"read":"whole","date_system":"1900"}

{"sheet":"入力用","index":0,"n_rows":137,"n_cols":35,"rows_kept":137,"cut":false,"hidden":false,"merged":[[129,0,132,0],[129,2,129,10],[130,2,130,3],[130,4,130,5],[131,2,131,3],[131,4,131,5],[133,0,136,0],[133,2,133,10],[134,2,134,3],[134,4,134,5],[135,2,135,3],[135,4,135,5],[121,0,124,0],[121,2,121,10],[122,2,122,3],[122,4,122,5],[123,2,123,3],[123,4,123,5],[125,0,128,0],[125,2,125,10],[126,2,126,3],[126,4,126,5],[127,2,127,3],[127,4,127,5],[109,0,112,0],[109,2,109,10],[117,0,120,0],[117,2,117,10],[118,2,118,3],[118,4,118,5],[119,2,119,3],[119,4,119,5],[113,0,116,0],[113,2,113,10],[101,15,101,16],[102,2,102,3],[102,4,102,5],[103,2,103,3],[107,2,107,3],[108,2,108,3],[114,2,114,3],[114,4,114,5],[115,2,115,3],[115,4,115,5],[110,2,110,3],[110,4,110,5],[111,2,111,3],[111,4,111,5],[93,0,97,0],[93,2,93,10],[94,2,94,3],[94,4,94,5],[96,2,96,3],[96,4,96,5],[107,1,108,1],[105,2,105,3],[106,2,106,3],[104,2,104,3],[104,4,104,6],[108,4,108,6],[98,0,108,0],[98,1,99,1],[99,2,99,3],[99,4,99,5],[100,1,101,1],[101,2,101,3],[103,1,104,1],[101,4,101,5],[105,1,106,1],[106,4,106,6],[83,0,87,0],[83,2,83,10],[84,2,84,3],[84,4,84,5],[86,2,86,3],[86,4,86,5],[88,0,92,0],[88,2,88,10],[89,2,89,3],[89,4,89,5],[91,2,91,3],[91,4,91,5],[73,0,77,0],[73,2,73,10],[74,2,74,3],[74,4,74,5],[76,2,76,3],[76,4,76,5],[78,0,82,0],[78,2,78,10],[79,2,79,3],[79,4,79,5],[81,2,81,3],[81,4,81,5],[63,0,67,0],[63,2,63,10],[64,2,64,3],[64,4,64,5],[66,2,66,3],[66,4,66,5],[68,0,72,0],[68,2,68,10],[69,2,69,3],[69,4,69,5],[71,2,71,3],[71,4,71,5],[53,0,57,0],[53,2,53,10],[54,2,54,3],[54,4,54,5],[56,2,56,3],[56,4,56,5],[58,0,62,0],[58,2,58,10],[59,2,59,3],[59,4,59,5],[61,2,61,3],[61,4,61,5],[43,0,47,0],[43,2,43,10],[44,2,44,3],[44,4,44,5],[46,2,46,3],[46,4,46,5],[48,0,52,0],[48,2,48,10],[49,2,49,3],[49,4,49,5],[51,2,51,3],[51,4,51,5],[39,2,39,3],[39,4,39,5],[41,2,41,3],[41,4,41,5],[32,0,32,1],[33,0,33,1],[38,0,42,0],[37,2,37,9],[27,0,27,1],[27,4,27,5],[27,8,27,9],[28,0,28,1],[29,0,29,1],[30,0,30,1],[31,0,31,1],[34,0,34,1],[28,4,28,5],[28,8,28,9],[34,2,34,10],[35,0,35,1],[38,2,38,10],[20,16,20,17],[21,0,23,0],[21,2,21,5],[22,2,22,10],[23,4,23,5],[23,7,23,8],[16,16,16,34],[17,4,17,5],[17,7,17,8],[17,19,17,22],[17,23,17,26],[17,27,17,30],[17,31,17,34],[18,0,18,1],[19,0,20,0],[19,2,19,10],[20,2,20,10],[15,0,17,0],[15,2,15,10],[16,2,16,10],[10,16,10,17],[11,2,11,10],[12,4,12,5],[13,2,13,10],[14,4,14,5],[14,7,14,8],[9,4,9,5],[9,7,9,8],[1,14,1,22],[2,0,5,0],[2,2,2,10],[3,2,3,10],[4,2,4,10],[5,2,5,10],[26,0,26,1],[26,2,26,10],[10,0,14,0],[10,2,10,10],[6,0,7,0],[6,2,6,5],[7,2,7,10],[8,0,9,0],[8,4,8,5],[8,7,8,8],[24,0,25,0],[24,2,24,10],[25,4,25,5],[25,7,25,8]]}
[]
[{"$f":"IF(L2=\"\",\"印刷されましたら，「NW控」の裏面に施設組合印および御社の社印を押印してください。\",\"必要事項をすべて入力すると，右の表示が消えます。\")","v":"必要事項をすべて入力すると，右の表示が消えます。"},null,null,null,null,null,null,null,null,null,null,{"$f":"IF(M2=\"\",\"\",M2)","v":"入力に不備があります。"},{"$f":"IF(COUNTBLANK(M3:M4)+COUNTBLANK(M7:M30)+COUNTBLANK(M32:M137)=132,\"\",\"入力に不備があります。\")","v":"入力に不備があります。"},null,"ドロップダウンリスト"]
["ご契約名義","フリガナ",null,null,null,null,null,null,null,null,null,"←入力してください。",{"$f":"IF(C3=\"\",\"←入力してください。\",IF(LEN(ASC(C3))>40,\"←「゛」「゜」を含め，40文字以内としてください。\",\"\"))","v":"←入力してください。"},null,"支払方法","契約種別","供給電気方式・供給電圧","業種","契約決定方法","臨時供給設備から常時供給設備への移行","力率","適用業種別回路数内訳","出力"]
[null,"漢字",null,null,null,null,null,null,null,null,null,"←入力してください。",{"$f":"IF(C4=\"\",\"←入力してください。\",\"\")","v":"←入力してください。"}]
[null,"代表者肩書",null,null,null,null,null,null,null,null,null,"ご契約者が個人名ではない場合は入力してください。",{"$f":"IF(C5=\"\",\"ご契約者が個人名ではない場合は入力してください。\",\"\")","v":"ご契約者が個人名ではない場合は入力してください。"},null,"振込用紙","臨時電灯Ａ","単相2線式100Ｖ","建築工事","ブレーカー契約","する","高力率型","住宅","㏋"]
[null,"代表者名",null,null,null,null,null,null,null,null,null,"ご契約者が個人名ではない場合は入力してください。",{"$f":"IF(C6=\"\",\"ご契約者が個人名ではない場合は入力してください。\",\"\")","v":"ご契約者が個人名ではない場合は入力してください。"},null,"口座振替","臨時電力(定額制)","単相2線式200Ｖ","土木工事","主開閉器契約","しない","低力率型","アパート・寮","kW"]
["ご使用場所","郵便番号",null,null,null,null,null,null,null,null,null,"←入力してください。",{"$f":"IF(C7=\"\",\"←入力してください。\",IF(OR(AND(MID(C7,4,1)<>\"-\",LEN(C7)<>7),AND(MID(C7,4,1)=\"-\",LEN(C7)<>8)),\"←入力誤りです。\",\"\"))","v":"←入力してください。"},null,null,"臨時電灯Ｂ(未計器扱い)","単相3線式100V・200V","祭典用","回路契約","配電Ｎｅｔ申込",null,"商店"]
[null,"住所",null,null,null,null,null,null,null,null,null,"←入力してください。",{"$f":"IF(C8=\"\",\"←入力してください。\",\"\")","v":"←入力してください。"},null,null,"臨時電灯Ｃ(未計器扱い)","3相3線式200V","仮店舗","負荷設備契約",null,null,"工場"]
["電話番号","固定",null,"-",null,null,"-",null,null,null,null,"",{"$f":"IF(OR(C9=\"\",E9=\"\",H9=\"\"),\"\",IF(OR(LEN(H9)<>4,LEN(C9)+LEN(E9)+LEN(H9)<>10),\"←入力内容が不正です。\",\"\"))","v":""},null,null,null,null,"その他",null,"有",null,"事務所"]
[null,"携帯",null,"-",null,null,"-",null,null,null,null,"",{"$f":"IF(OR(C10=\"\",E10=\"\",K10=\"\"),\"\",IF(OR(LEN(K10)<>4,LEN(C10)+LEN(E10)+LEN(K10)<>11),\"←入力内容が不正です。\",\"\"))","v":""},null,null,null,null,null,null,"無",null,"旅館・飲食店"]
["電気工事会社","会社名",null,null,null,null,null,null,null,null,null,"←入力してください。",{"$f":"IF(C11=\"\",\"←入力してください。\",\"\")","v":"←入力してください。"},null,null,null,"契約容量等算定用",null,null,null,null,"学校・病院"]
[null,"担当者",null,null,null,null,null,null,null,null,null,"←入力してください。",{"$f":"IF(C12=\"\",\"←入力してください。\",\"\")","v":"←入力してください。"},null,null,null,"回路契約",{"$f":"Q105+Q107+Q109+C100+C102","v":0},null,null,null,"劇場・娯楽場"]
[null,"工事会社№",null,"-",null,null,null,null,null,null,null,"←入力してください。",{"$f":"IF(OR(C13=\"\",E13=\"\"),\"←入力してください。\",IF(OR(LEN(C13)<>2,LEN(E13)<>3),\"←入力内容が不正です。\",\"\"))","v":"←入力してください。"},null,null,null,"容量圧縮",{"$f":"IF(O33<4,R15,IF(R12<6000,R12*0.95,IF(R12<20000,6000*0.95+(R12-6000)*0.85,IF(R12<50000,6000*0.95+14000*0.85+(R12-20000)*0.75,6000*0.95+14000*0.85+30000*0.75+(R12-50000)*0.65))))","v":""},null,null,null,"その他"]
[null,"住所",null,null,null,null,null,null,null,null,null,"←入力してください。",{"$f":"IF(C14=\"\",\"←入力してください。\",\"\")","v":"←入力してください。"},null,null,null,"契約算定",{"$f":"IF(R13=\"\",\"\",IF(O30=4,IF(O33=5,\"\",IF(AND(R13>1000,R13<=1500),15,ROUNDUP(R13/1000,0)*10)),ROUND(R13/1000,0)))","v":""}]
[null,"電話",null,"-",null,null,"-",null,null,null,null,"←入力してください。",{"$f":"IF(AND(C15=\"\",E15=\"\",H15=\"\"),\"←入力してください。\",IF(OR(LEN(H15)<>4,LEN(C15)+LEN(E15)+LEN(H15)<10,LEN(C15)+LEN(E15)+LEN(H15)>11),\"←入力内容が不正です。\",\"\"))","v":"←入力してください。"},null,null,null,"合計容量",{"$f":"IF(OR(O33=2,AND(O33=3,O31=2)),C34*100,IF(AND(O33=3,O31>2,O31<5),C34*200,IF(AND(O33=3,O31=5),C34*200*1.732,IF(O33=4,R12,IF(O33=5,C100+C102,\"\")))))","v":""}]
["建築会社","会社名",null,null,null,null,null,null,null,null,null,"",{"$f":"IF(AND(C17=\"\",C18=\"\",E18=\"\",H18=\"\"),\"\",IF(C16=\"\",\"←入力してください。\",\"\"))","v":""}]
[null,"担当者",null,null,null,null,null,null,null,null,null,"",{"$f":"IF(AND(C16=\"\",C18=\"\",E18=\"\",H18=\"\"),\"\",IF(C17=\"\",\"←入力してください。\",\"\"))","v":""},null,null,null,"台数圧縮"]
[null,"電話",null,"-",null,null,"-",null,null,null,null,"",{"$f":"IF(LEN(C18)+LEN(E18)+LEN(H18)=0,\"\",IF(OR(LEN(H18)<>4,LEN(C18)+LEN(E18)+LEN(H18)<10,LEN(C18)+LEN(E18)+LEN(H18)>11),\"←入力内容が不正です。\",\"\"))","v":""},null,"ドロップダウンデータ反映列",null,"最初の2台",{"$f":"IF(U19>1,T19*2,T19+X19)","v":0},{"$f":"ROUND(R18*1,3)","v":0},"1番目",null,null,null,"2番目",null,null,null,"3番目",null,null,null,"4番目"]
["お支払方法",null,null,null,null,null,null,null,null,null,null,"←選択してください。",{"$f":"IF(O19=1,\"←選択してください。\",\"\")","v":"←選択してください。"},null,1,null,"次の２台",{"$f":"IF(U19>3,T19*2,IF(U19=3,T19+X19,IF(U19=2,IF(Y19>1,X19*2,X19+AB19),IF(Y19>2,X19*2,IF(Y19=2,X19+AB19,IF(Y19=1,IF(AC19>1,AB19*2,AB19+AF19)))))))","v":0},{"$f":"ROUND(R19*0.95,3)","v":0},{"$f":"MAX(T20:W26)","v":0},{"$f":"COUNTIF(T20:W26,T19)","v":28},null,null,{"$f":"MAX(X20:AA26)+T19","v":-100},{"$f":"COUNTIF(X20:AA26,X19-T19)","v":28},null,null,{"$f":"MAX(AB20:AE26)+X19","v":-200},{"$f":"COUNTIF(AB20:AE26,AB19-X19)","v":28},null,null,{"$f":"MAX(AF20:AI26)+AB19","v":-300},{"$f":"COUNTIF(AF20:AI26,AF19-AB19)","v":28}]
["支払者名","フリガナ",null,null,null,null,null,null,null,null,null,"",{"$f":"IF(AND(C20=\"\",C21=\"\"),\"\",IF(AND(C20=\"\",C21<>\"同上\"),\"←入力してください。\",IF(LEN(ASC(C20))>40,\"←「゛」「゜」を含め，40文字以内としてください。\",\"\")))","v":""},null,null,null,"残り",{"$f":"R34-R18-R19","v":0},{"$f":"ROUND(R20*0.9,3)","v":0},{"$f":"P112","v":0},{"$f":"IF(C113>1,P112,0)","v":0},{"$f":"IF(C113>2,P112,0)","v":0},{"$f":"IF(C113>3,P112,0)","v":0},{"$f":"IF(T20-$T$19=0,-100,T20-$T$19)","v":-100},{"$f":"IF(U20-$T$19=0,-100,U20-$T$19)","v":-100},-100,-100,{"$f":"IF(X20-$X$19+$T$19=0,-100,X20-$X$19+$T$19)","v":-100},{"$f":"IF(Y20-$X$19+$T$19=0,-100,Y20-$X$19+$T$19)","v":-100},-100,-100,{"$f":"IF(AB20-$AB$19+$X$19=0,-100,AB20-$AB$19+$X$19)","v":-100},{"$f":"IF(AC20-$AB$19+$X$19=0,-100,AC20-$AB$19+$X$19)","v":-100},-100,-100]
[null,"漢字",null,null,null,null,null,null,null,null,null,"←入力してください。",{"$f":"IF(C21=\"\",\"←入力してください。\",\"\")","v":"←入力してください。"},null,null,null,"合計",null,{"$f":"SUM(S18:S20)","v":0},{"$f":"P116","v":0},{"$f":"IF(C117>1,P116,0)","v":0},{"$f":"IF(C117>2,P116,0)","v":0},{"$f":"IF(C117>3,P116,0)","v":0},{"$f":"IF(T21-$T$19=0,-100,T21-$T$19)","v":-100},-100,-100,-100,{"$f":"IF(X21-$X$19+$T$19=0,-100,X21-$X$19+$T$19)","v":-100},-100,-100,-100,{"$f":"IF(AB21-$AB$19+$X$19=0,-100,AB21-$AB$19+$X$19)","v":-100},-100,-100,-100]
["請求書送付先","郵便番号",null,null,null,null,null,null,null,null,null,"",{"$f":"IF(AND(C22=\"\",C23=\"\"),\"\",IF(AND(C22=\"\",C23<>\"同上\"),\"←入力してください。\",IF(C22=\"\",\"\",IF(OR(AND(MID(C22,4,1)<>\"-\",LEN(C22)<>7),AND(MID(C22,4,1)=\"-\",LEN(C22)<>8)),\"←入力誤りです。\",\"\"))))","v":""},null,null,null,null,null,null,{"$f":"P120","v":0},{"$f":"IF(C121>1,P120,0)","v":0},{"$f":"IF(C121>2,P120,0)","v":0},{"$f":"IF(C121>3,P120,0)","v":0},-100,-100,-100,-100,-100,-100,-100,-100,-100,-100,-100,-100]
[null,"住所",null,null,null,null,null,null,null,null,null,"←入力してください。",{"$f":"IF(C23=\"\",\"←入力してください。\",\"\")","v":"←入力してください。"},null,null,null,"容量圧縮",{"$f":"IF(S21<6,S21,IF(S21<20,(S21-6)*0.9+6,IF(S21<50,(S21-20)*0.8+6+14*0.9,(S21-50)*0.7+6+14*0.9+30*0.8)))","v":0},null,{"$f":"P124","v":0},{"$f":"IF(C125>1,P124,0)","v":0},{"$f":"IF(C125>2,P124,0)","v":0},{"$f":"IF(C125>3,P124,0)","v":0},-100,-100,-100,-100,-100,-100,-100,-100,-100,-100,-100,-100]
[null,"電話",null,"-",null,null,"-",null,null,null,null,"",{"$f":"IF(AND(C23=\"\",C24=\"\",E24=\"\",H24=\"\"),\"\",IF(C23=\"同上\",\"\",IF(AND(C24=\"\",E24=\"\",H24=\"\"),\"←入力してください。\",IF(OR(LEN(H24)<>4,LEN(C24)+LEN(E24)+LEN(H24)<10,LEN(C24)+LEN(E24)+LEN(H24)>11),\"←入力内容が不正です。\",\"\"))))","v":""},null,null,null,null,null,null,{"$f":"P128","v":0},{"$f":"IF(C129>1,P128,0)","v":0},{"$f":"IF(C129>2,P128,0)","v":0},{"$f":"IF(C129>3,P128,0)","v":0},-100,-100,-100,-100,-100,-100,-100,-100,-100,-100,-100,-100]
["ご連絡先","住所",null,null,null,null,null,null,null,null,null,"←入力してください。",{"$f":"IF(C25=\"\",\"←入力してください。\",\"\")","v":"←入力してください。"},null,null,null,"主開閉器契約",{"$f":"IF(O31=2,C34*100/1000,IF(OR(O31=3,O31=4),C34*200/1000,IF(O31=5,C34*200*1.732/1000,0)))","v":0},null,{"$f":"P132","v":0},{"$f":"IF(C133>1,P132,0)","v":0},{"$f":"IF(C133>2,P132,0)","v":0},{"$f":"IF(C133>3,P132,0)","v":0},-100,-100,-100,-100,-100,-100,-100,-100,-100,-100,-100,-100]
[null,"電話",null,"-",null,null,"-",null,null,null,null,"",{"$f":"IF(AND(C25=\"\",C26=\"\",E26=\"\",H26=\"\"),\"\",IF(OR(C25=\"同上\",C25=\"同左\"),\"\",IF(AND(C26=\"\",E26=\"\",H26=\"\"),\"←入力してください。\",IF(OR(LEN(H26)<>4,LEN(C26)+LEN(E26)+LEN(H26)<10,LEN(C26)+LEN(E26)+LEN(H26)>11),\"←入力内容が不正です。\",\"\"))))","v":""},null,null,null,null,null,null,{"$f":"P136","v":0},{"$f":"IF(C137>1,P136,0)","v":0},{"$f":"IF(C137>2,P136,0)","v":0},{"$f":"IF(C137>3,P136,0)","v":0},-100,-100,-100,-100,-100,-100,-100,-100,-100,-100,-100,-100]
["臨時工事費ご請求先のメールアドレス",null,null,null,null,null,null,null,null,null,null,"←メールアドレスまたは携帯電話番号を入力してください。",{"$f":"IF(C27=\"\",\"←メールアドレスまたは携帯電話番号を入力してください。\",\"\")","v":"←メールアドレスまたは携帯電話番号を入力してください。"}]
["受電希望日",null,null,"年",null,null,"月",null,"日",null,null,"←入力してください。",{"$f":"IF(OR(C28=\"\",E28=\"\",H28=\"\"),\"←入力してください。\",IF(AND(ISNUMBER(C28),ISNUMBER(E28),ISNUMBER(H28)),IF(OR(C29=\"\",E29=\"\",H29=\"\"),\"\",IF(OR(C28<1,E28<1,E28>12,H28<1,H28>31,DATEVALUE(C29-12&\"/\"&E29&\"/\"&H29)<DATEVALUE(C28-12&\"/\"&E28&\"/\"&H28),DATEVALUE(C29-12&\"/\"&E29&\"/\"&H29)>=DATEVALUE(C28-12&\"/\"&E28&\"/\"&H28)+365),\"←入力内容が不正です。\",\"\")),\"←数字を入力してください。\"))","v":"←入力してください。"},"←平成から元号が変わったときに修正要",null,null,"負荷設備契約自動計算可否確認",{"$f":"IF(OR(AND(P112=0,C113<>\"\"),AND(P116=0,C117<>\"\"),AND(P120=0,C121<>\"\"),AND(P124=0,C125<>\"\"),AND(P128=0,C129<>\"\"),AND(P132=0,C133<>\"\"),AND(P136=0,C137<>\"\")),\"\",R23)","v":0}]
["使用終了予定日",null,null,"年",null,null,"月",null,"日",null,null,"←入力してください。",{"$f":"IF(OR(C29=\"\",E29=\"\",H29=\"\"),\"←入力してください。\",IF(AND(ISNUMBER(C29),ISNUMBER(E29),ISNUMBER(H29)),IF(OR(C29<1,E29<1,E29>12,H29<1,H29>31),\"←入力内容が不正です。\",\"\"),\"←数字を入力してください。\"))","v":"←入力してください。"}]
["契約種別",null,null,null,null,null,null,null,null,null,null,"←選択してください。",{"$f":"IF(O30=1,\"←選択してください。\",IF(AND(O30=2,'１枚目'!CL88>3000,'１枚目'!CL88<>\"\"),\"←臨時電灯Ａの範囲外の容量です\",IF(AND(O30=3,R31>5,R31<>\"\"),\"←従量制供給となります。\",IF(AND(O30=4,R14<>\"\",R14<>0,R14<>40,R14<>50,R14<>60),\"←臨時電灯Ｂの範囲外の容量です。\",IF(AND(O30=5,OR(R14<6,R14>49),R14<>\"\"),\"←臨時電灯Ｃの範囲外の容量です。\",\"\")))))","v":"←選択してください。"},null,1]
["供給電気方式・供給電圧",null,null,null,null,null,null,null,null,null,null,"←選択してください。",{"$f":"IF(O31=1,\"←選択してください。\",IF(OR(AND(O30=3,O31>1,O31<5),AND(OR(O30=2,O30>3),O31=5)),\"←間違いありませんか？\",\"\"))","v":"←選択してください。"},null,1,"業種表示用","契約電力確定",{"$f":"IF(O33=3,IF(AND(R25>0,R25<=0.5),0.5,ROUND(R25,0)),IF(O33=5,IF(AND(R28>0,R28<=0.5),0.5,ROUND(R28,0)),\"\"))","v":""}]
["業種",null,null,null,null,null,null,null,null,null,null,"←選択してください。",{"$f":"IF(O32=1,\"←選択してください。\",IF(AND(O32=6,K32=\"\"),\"←具体的な業種を入力してください。\",\"\"))","v":"←選択してください。"},null,1,{"$f":"IF(O32=2,R5,IF(O32=3,R6,IF(O32=4,R7,IF(O32=5,R8,IF(O32=6,R9,IF(O32=7,R10,IF(O32=8,K32,\"\")))))))","v":""}]
["契約決定方法",null,null,null,null,null,null,null,null,null,null,{"$f":"IF(M33=\"\",\"\",M33)","v":"←選択してください。"},{"$f":"IF(O33=1,\"←選択してください。\",IF(OR(AND(O30<4,OR(O33=2,O33=4)),AND(O30=4,O33=4),AND(O30=5,O33=2)),\"←選択できません。\",\"\"))","v":"←選択してください。"},null,1]
["主開閉器・電流制限器の定格電流",null,null,"A",null,null,null,null,null,null,null,{"$f":"IF(M34=\"\",\"\",M34)","v":""},{"$f":"IF(AND(C34=\"\",OR(O33=2,O33=3)),\"←入力してください。\",IF(OR(C34=\"\",ISNUMBER(C34)),IF(AND(O33=2,C34<>40,C34<>50,C34<>60),\"←電流制限器の容量が不正です。\",\"\"),\"←数字を入力してください。\"))","v":""},null,null,null,"入力合計",{"$f":"IF(OR(AND(P112=0,C113<>\"\"),AND(P116=0,C117<>\"\"),AND(P120=0,C121<>\"\"),AND(P124=0,C125<>\"\"),AND(P128=0,C129<>\"\"),AND(P132=0,C133<>\"\"),AND(P136=0,C137<>\"\")),\"\",SUM(P113,P117,P121,P125,P129,P133,P137))","v":0}]
["フリーエリア計器払出事業所名",null,null,null,null,null,null,null,null,null,null,"←希望がなければ「なし」と入力してください。",{"$f":"IF(C35=\"\",\"←希望がなければ「なし」と入力してください。\",\"\")","v":"←希望がなければ「なし」と入力してください。"},null,1]
["臨時供給設備から常時供給設備への移行",null,null,null,null,null,null,null,null,null,null,"←選択してください。",{"$f":"IF(O36=1,\"←選択してください。\",\"\")","v":"←選択してください。"},null,1]
["電設Ｎｅｔ申込",null,null,null,null,null,null,null,null,null,null,{"$f":"IF(M37=\"\",\"\",M37)","v":"←選択してください。"},{"$f":"IF(O37=1,\"←選択してください。\",\"\")","v":"←選択してください。"},null,1]
["電設工事番号",null,null,null,null,null,null,null,null,null,null,{"$f":"IF(M38=\"\",\"\",M38)","v":""},{"$f":"IF(OR(O37=1,O37=3),\"\",IF(LEN(ASC(C38))>10,\"←10桁の番号を入力してください。\",\"\"))","v":""}]
["臨時電灯Ａ\n１","機器種別",null,null,null,null,null,null,null,null,null,"",{"$f":"IF(AND(O$30>2,C39<>\"\"),\"←臨時電灯Ａ以外の場合，入力できません。\",IF(AND(O$30=2,O$33=5,C39=\"\",OR(C40<>\"\",O41<>1,C42<>\"\",C43<>\"\")),\"←入力してください。\",\"\"))","v":""}]
[null,"出力",null,null,"Ｗ",null,null,null,null,null,null,"",{"$f":"IF(AND(O$30>2,C40<>\"\"),\"←臨時電灯Ａ以外の場合，入力できません。\",IF(AND(C39<>\"\",C40=\"\",C42=\"\"),\"←入力してください。\",IF(OR(C40=\"\",ISNUMBER(C40)),\"\",\"←数字を入力してください。\")))","v":""},null,1]
[null,"力率",null,null,null,null,null,null,null,null,null,"",{"$f":"IF(AND(O$30>2,O41>1),\"←臨時電灯Ａ以外の場合，選択できません。\",IF(AND(C39<>\"\",O41=1),\"←選択してください。\",\"\"))","v":""},null,1]
[null,"入力",null,null,"VA",null,null,null,null,null,null,"",{"$f":"IF(AND(O$30>2,C42<>\"\"),\"←臨時電灯Ａ以外の場合，入力できません。\",IF(AND(C39<>\"\",C40=\"\",C42=\"\"),\"←入力してください。\",IF(OR(C42=\"\",ISNUMBER(C42)),\"\",\"←数字を入力してください。\")))","v":""},null,null,"入力合計算定"]
[null,"台数",null,"台",null,null,null,null,null,null,null,"",{"$f":"IF(AND(O$30>2,C43<>\"\"),\"←臨時電灯Ａ以外の場合，入力できません。\",IF(AND(C39<>\"\",C43=\"\"),\"←入力してください。\",IF(OR(C43=\"\",ISNUMBER(C43)),\"\",\"←数字を入力してください。\")))","v":""},null,null,{"$f":"IF(AND(C42=\"\",C43<>\"\"),\"\",C42*C43)","v":0}]
["臨時電灯Ａ\n２","機器種別",null,null,null,null,null,null,null,null,null,"",{"$f":"IF(AND(O$30>2,C44<>\"\"),\"←臨時電灯Ａ以外の場合，入力できません。\",IF(AND(O$30=2,O$33=5,C44=\"\",OR(C45<>\"\",O46<>1,C47<>\"\",C48<>\"\")),\"←入力してください。\",\"\"))","v":""}]
[null,"出力",null,null,"Ｗ",null,null,null,null,null,null,"",{"$f":"IF(AND(O$30>2,C45<>\"\"),\"←臨時電灯Ａ以外の場合，入力できません。\",IF(AND(C44<>\"\",C45=\"\",C47=\"\"),\"←入力してください。\",IF(OR(C45=\"\",ISNUMBER(C45)),\"\",\"←数字を入力してください。\")))","v":""},null,1]
[null,"力率",null,null,null,null,null,null,null,null,null,"",{"$f":"IF(AND(O$30>2,O46>1),\"←臨時電灯Ａ以外の場合，選択できません。\",IF(AND(C44<>\"\",O46=1),\"←選択してください。\",\"\"))","v":""},null,1]
[null,"入力",null,null,"VA",null,null,null,null,null,null,"",{"$f":"IF(AND(O$30>2,C47<>\"\"),\"←臨時電灯Ａ以外の場合，入力できません。\",IF(AND(C44<>\"\",C45=\"\",C47=\"\"),\"←入力してください。\",IF(OR(C47=\"\",ISNUMBER(C47)),\"\",\"←数字を入力してください。\")))","v":""},null,null,"入力合計算定"]
[null,"台数",null,"台",null,null,null,null,null,null,null,"",{"$f":"IF(AND(O$30>2,C48<>\"\"),\"←臨時電灯Ａ以外の場合，入力できません。\",IF(AND(C44<>\"\",C48=\"\"),\"←入力してください。\",IF(OR(C48=\"\",ISNUMBER(C48)),\"\",\"←数字を入力してください。\")))","v":""},null,null,{"$f":"IF(AND(C47=\"\",C48<>\"\"),\"\",C47*C48)","v":0}]
["臨時電灯Ａ\n３","機器種別",null,null,null,null,null,null,null,null,null,"",{"$f":"IF(AND(O$30>2,C49<>\"\"),\"←臨時電灯Ａ以外の場合，入力できません。\",IF(AND(O$30=2,O$33=5,C49=\"\",OR(C50<>\"\",O51<>1,C52<>\"\",C53<>\"\")),\"←入力してください。\",\"\"))","v":""}]
[null,"出力",null,null,"Ｗ",null,null,null,null,null,null,"",{"$f":"IF(AND(O$30>2,C50<>\"\"),\"←臨時電灯Ａ以外の場合，入力できません。\",IF(AND(C49<>\"\",C50=\"\",C52=\"\"),\"←入力してください。\",IF(OR(C50=\"\",ISNUMBER(C50)),\"\",\"←数字を入力してください。\")))","v":""},null,1]
[null,"力率",null,null,null,null,null,null,null,null,null,"",{"$f":"IF(AND(O$30>2,O51>1),\"←臨時電灯Ａ以外の場合，選択できません。\",IF(AND(C49<>\"\",O51=1),\"←選択してください。\",\"\"))","v":""},null,1]
[null,"入力",null,null,"VA",null,null,null,null,null,null,"",{"$f":"IF(AND(O$30>2,C52<>\"\"),\"←臨時電灯Ａ以外の場合，入力できません。\",IF(AND(C49<>\"\",C50=\"\",C52=\"\"),\"←入力してください。\",IF(OR(C52=\"\",ISNUMBER(C52)),\"\",\"←数字を入力してください。\")))","v":""},null,null,"入力合計算定"]
[null,"台数",null,"台",null,null,null,null,null,null,null,"",{"$f":"IF(AND(O$30>2,C53<>\"\"),\"←臨時電灯Ａ以外の場合，入力できません。\",IF(AND(C49<>\"\",C53=\"\"),\"←入力してください。\",IF(OR(C53=\"\",ISNUMBER(C53)),\"\",\"←数字を入力してください。\")))","v":""},null,null,{"$f":"IF(AND(C52=\"\",C53<>\"\"),\"\",C52*C53)","v":0}]
["臨時電灯Ａ\n４","機器種別",null,null,null,null,null,null,null,null,null,"",{"$f":"IF(AND(O$30>2,C54<>\"\"),\"←臨時電灯Ａ以外の場合，入力できません。\",IF(AND(O$30=2,O$33=5,C54=\"\",OR(C55<>\"\",O56<>1,C57<>\"\",C58<>\"\")),\"←入力してください。\",\"\"))","v":""}]
[null,"出力",null,null,"Ｗ",null,null,null,null,null,null,"",{"$f":"IF(AND(O$30>2,C55<>\"\"),\"←臨時電灯Ａ以外の場合，入力できません。\",IF(AND(C54<>\"\",C55=\"\",C57=\"\"),\"←入力してください。\",IF(OR(C55=\"\",ISNUMBER(C55)),\"\",\"←数字を入力してください。\")))","v":""},null,1]
[null,"力率",null,null,null,null,null,null,null,null,null,"",{"$f":"IF(AND(O$30>2,O56>1),\"←臨時電灯Ａ以外の場合，選択できません。\",IF(AND(C54<>\"\",O56=1),\"←選択してください。\",\"\"))","v":""},null,1]
[null,"入力",null,null,"VA",null,null,null,null,null,null,"",{"$f":"IF(AND(O$30>2,C57<>\"\"),\"←臨時電灯Ａ以外の場合，入力できません。\",IF(AND(C54<>\"\",C55=\"\",C57=\"\"),\"←入力してください。\",IF(OR(C57=\"\",ISNUMBER(C57)),\"\",\"←数字を入力してください。\")))","v":""},null,null,"入力合計算定"]
[null,"台数",null,"台",null,null,null,null,null,null,null,"",{"$f":"IF(AND(O$30>2,C58<>\"\"),\"←臨時電灯Ａ以外の場合，入力できません。\",IF(AND(C54<>\"\",C58=\"\"),\"←入力してください。\",IF(OR(C58=\"\",ISNUMBER(C58)),\"\",\"←数字を入力してください。\")))","v":""},null,null,{"$f":"IF(AND(C57=\"\",C58<>\"\"),\"\",C57*C58)","v":0}]
["臨時電灯Ａ\n５","機器種別",null,null,null,null,null,null,null,null,null,"",{"$f":"IF(AND(O$30>2,C59<>\"\"),\"←臨時電灯Ａ以外の場合，入力できません。\",IF(AND(O$30=2,O$33=5,C59=\"\",OR(C60<>\"\",O61<>1,C62<>\"\",C63<>\"\")),\"←入力してください。\",\"\"))","v":""}]
[null,"出力",null,null,"Ｗ",null,null,null,null,null,null,"",{"$f":"IF(AND(O$30>2,C60<>\"\"),\"←臨時電灯Ａ以外の場合，入力できません。\",IF(AND(C59<>\"\",C60=\"\",C62=\"\"),\"←入力してください。\",IF(OR(C60=\"\",ISNUMBER(C60)),\"\",\"←数字を入力してください。\")))","v":""},null,1]
[null,"力率",null,null,null,null,null,null,null,null,null,"",{"$f":"IF(AND(O$30>2,O61>1),\"←臨時電灯Ａ以外の場合，選択できません。\",IF(AND(C59<>\"\",O61=1),\"←選択してください。\",\"\"))","v":""},null,1]
[null,"入力",null,null,"VA",null,null,null,null,null,null,"",{"$f":"IF(AND(O$30>2,C62<>\"\"),\"←臨時電灯Ａ以外の場合，入力できません。\",IF(AND(C59<>\"\",C60=\"\",C62=\"\"),\"←入力してください。\",IF(OR(C62=\"\",ISNUMBER(C62)),\"\",\"←数字を入力してください。\")))","v":""},null,null,"入力合計算定"]
[null,"台数",null,"台",null,null,null,null,null,null,null,"",{"$f":"IF(AND(O$30>2,C63<>\"\"),\"←臨時電灯Ａ以外の場合，入力できません。\",IF(AND(C59<>\"\",C63=\"\"),\"←入力してください。\",IF(OR(C63=\"\",ISNUMBER(C63)),\"\",\"←数字を入力してください。\")))","v":""},null,null,{"$f":"IF(AND(C62=\"\",C63<>\"\"),\"\",C62*C63)","v":0}]
["臨時電灯Ａ\n６","機器種別",null,null,null,null,null,null,null,null,null,"",{"$f":"IF(AND(O$30>2,C64<>\"\"),\"←臨時電灯Ａ以外の場合，入力できません。\",IF(AND(O$30=2,O$33=5,C64=\"\",OR(C65<>\"\",O66<>1,C67<>\"\",C68<>\"\")),\"←入力してください。\",\"\"))","v":""}]
[null,"出力",null,null,"Ｗ",null,null,null,null,null,null,"",{"$f":"IF(AND(O$30>2,C65<>\"\"),\"←臨時電灯Ａ以外の場合，入力できません。\",IF(AND(C64<>\"\",C65=\"\",C67=\"\"),\"←入力してください。\",IF(OR(C65=\"\",ISNUMBER(C65)),\"\",\"←数字を入力してください。\")))","v":""},null,1]
[null,"力率",null,null,null,null,null,null,null,null,null,"",{"$f":"IF(AND(O$30>2,O66>1),\"←臨時電灯Ａ以外の場合，選択できません。\",IF(AND(C64<>\"\",O66=1),\"←選択してください。\",\"\"))","v":""},null,1]
[null,"入力",null,null,"VA",null,null,null,null,null,null,{"$f":"IF(M67=\"\",\"\",M67)","v":""},{"$f":"IF(AND(O$30>2,C67<>\"\"),\"←臨時電灯Ａ以外の場合，入力できません。\",IF(AND(C64<>\"\",C65=\"\",C67=\"\"),\"←入力してください。\",IF(OR(C67=\"\",ISNUMBER(C67)),\"\",\"←数字を入力してください。\")))","v":""},null,null,"入力合計算定"]
[null,"台数",null,"台",null,null,null,null,null,null,null,"",{"$f":"IF(AND(O$30>2,C68<>\"\"),\"←臨時電灯Ａ以外の場合，入力できません。\",IF(AND(C64<>\"\",C68=\"\"),\"←入力してください。\",IF(OR(C68=\"\",ISNUMBER(C68)),\"\",\"←数字を入力してください。\")))","v":""},null,null,{"$f":"IF(AND(C67=\"\",C68<>\"\"),\"\",C67*C68)","v":0}]
["臨時電灯Ａ\n７","機器種別",null,null,null,null,null,null,null,null,null,"",{"$f":"IF(AND(O$30>2,C69<>\"\"),\"←臨時電灯Ａ以外の場合，入力できません。\",IF(AND(O$30=2,O$33=5,C69=\"\",OR(C70<>\"\",O71<>1,C72<>\"\",C73<>\"\")),\"←入力してください。\",\"\"))","v":""}]
[null,"出力",null,null,"Ｗ",null,null,null,null,null,null,"",{"$f":"IF(AND(O$30>2,C70<>\"\"),\"←臨時電灯Ａ以外の場合，入力できません。\",IF(AND(C69<>\"\",C70=\"\",C72=\"\"),\"←入力してください。\",IF(OR(C70=\"\",ISNUMBER(C70)),\"\",\"←数字を入力してください。\")))","v":""},null,1]
[null,"力率",null,null,null,null,null,null,null,null,null,"",{"$f":"IF(AND(O$30>2,O71>1),\"←臨時電灯Ａ以外の場合，選択できません。\",IF(AND(C69<>\"\",O71=1),\"←選択してください。\",\"\"))","v":""},null,1]
[null,"入力",null,null,"VA",null,null,null,null,null,null,"",{"$f":"IF(AND(O$30>2,C72<>\"\"),\"←臨時電灯Ａ以外の場合，入力できません。\",IF(AND(C69<>\"\",C70=\"\",C72=\"\"),\"←入力してください。\",IF(OR(C72=\"\",ISNUMBER(C72)),\"\",\"←数字を入力してください。\")))","v":""},null,null,"入力合計算定"]
[null,"台数",null,"台",null,null,null,null,null,null,null,"",{"$f":"IF(AND(O$30>2,C73<>\"\"),\"←臨時電灯Ａ以外の場合，入力できません。\",IF(AND(C69<>\"\",C73=\"\"),\"←入力してください。\",IF(OR(C73=\"\",ISNUMBER(C73)),\"\",\"←数字を入力してください。\")))","v":""},null,null,{"$f":"IF(AND(C72=\"\",C73<>\"\"),\"\",C72*C73)","v":0}]
["臨時電灯Ａ\n８","機器種別",null,null,null,null,null,null,null,null,null,"",{"$f":"IF(AND(O$30>2,C74<>\"\"),\"←臨時電灯Ａ以外の場合，入力できません。\",IF(AND(O$30=2,O$33=5,C74=\"\",OR(C75<>\"\",O76<>1,C77<>\"\",C78<>\"\")),\"←入力してください。\",\"\"))","v":""}]
[null,"出力",null,null,"Ｗ",null,null,null,null,null,null,"",{"$f":"IF(AND(O$30>2,C75<>\"\"),\"←臨時電灯Ａ以外の場合，入力できません。\",IF(AND(C74<>\"\",C75=\"\",C77=\"\"),\"←入力してください。\",IF(OR(C75=\"\",ISNUMBER(C75)),\"\",\"←数字を入力してください。\")))","v":""},null,1]
[null,"力率",null,null,null,null,null,null,null,null,null,"",{"$f":"IF(AND(O$30>2,O76>1),\"←臨時電灯Ａ以外の場合，選択できません。\",IF(AND(C74<>\"\",O76=1),\"←選択してください。\",\"\"))","v":""},null,1]
[null,"入力",null,null,"VA",null,null,null,null,null,null,"",{"$f":"IF(AND(O$30>2,C77<>\"\"),\"←臨時電灯Ａ以外の場合，入力できません。\",IF(AND(C74<>\"\",C75=\"\",C77=\"\"),\"←入力してください。\",IF(OR(C77=\"\",ISNUMBER(C77)),\"\",\"←数字を入力してください。\")))","v":""},null,null,"入力合計算定"]
[null,"台数",null,"台",null,null,null,null,null,null,null,"",{"$f":"IF(AND(O$30>2,C78<>\"\"),\"←臨時電灯Ａ以外の場合，入力できません。\",IF(AND(C74<>\"\",C78=\"\"),\"←入力してください。\",IF(OR(C78=\"\",ISNUMBER(C78)),\"\",\"←数字を入力してください。\")))","v":""},null,null,{"$f":"IF(AND(C77=\"\",C78<>\"\"),\"\",C77*C78)","v":0}]
["臨時電灯Ａ\n９","機器種別",null,null,null,null,null,null,null,null,null,"",{"$f":"IF(AND(O$30>2,C79<>\"\"),\"←臨時電灯Ａ以外の場合，入力できません。\",IF(AND(O$30=2,O$33=5,C79=\"\",OR(C80<>\"\",O81<>1,C82<>\"\",C83<>\"\")),\"←入力してください。\",\"\"))","v":""}]
[null,"出力",null,null,"Ｗ",null,null,null,null,null,null,"",{"$f":"IF(AND(O$30>2,C80<>\"\"),\"←臨時電灯Ａ以外の場合，入力できません。\",IF(AND(C79<>\"\",C80=\"\",C82=\"\"),\"←入力してください。\",IF(OR(C80=\"\",ISNUMBER(C80)),\"\",\"←数字を入力してください。\")))","v":""},null,1]
[null,"力率",null,null,null,null,null,null,null,null,null,"",{"$f":"IF(AND(O$30>2,O81>1),\"←臨時電灯Ａ以外の場合，選択できません。\",IF(AND(C79<>\"\",O81=1),\"←選択してください。\",\"\"))","v":""},null,1]
[null,"入力",null,null,"VA",null,null,null,null,null,null,"",{"$f":"IF(AND(O$30>2,C82<>\"\"),\"←臨時電灯Ａ以外の場合，入力できません。\",IF(AND(C79<>\"\",C80=\"\",C82=\"\"),\"←入力してください。\",IF(OR(C82=\"\",ISNUMBER(C82)),\"\",\"←数字を入力してください。\")))","v":""},null,null,"入力合計算定"]
[null,"台数",null,"台",null,null,null,null,null,null,null,"",{"$f":"IF(AND(O$30>2,C83<>\"\"),\"←臨時電灯Ａ以外の場合，入力できません。\",IF(AND(C79<>\"\",C83=\"\"),\"←入力してください。\",IF(OR(C83=\"\",ISNUMBER(C83)),\"\",\"←数字を入力してください。\")))","v":""},null,null,{"$f":"IF(AND(C82=\"\",C83<>\"\"),\"\",C82*C83)","v":0}]
["臨時電灯Ａ\n１０","機器種別",null,null,null,null,null,null,null,null,null,"",{"$f":"IF(AND(O$30>2,C84<>\"\"),\"←臨時電灯Ａ以外の場合，入力できません。\",IF(AND(O$30=2,O$33=5,C84=\"\",OR(C85<>\"\",O86<>1,C87<>\"\",C88<>\"\")),\"←入力してください。\",\"\"))","v":""}]
[null,"出力",null,null,"Ｗ",null,null,null,null,null,null,"",{"$f":"IF(AND(O$30>2,C85<>\"\"),\"←臨時電灯Ａ以外の場合，入力できません。\",IF(AND(C84<>\"\",C85=\"\",C87=\"\"),\"←入力してください。\",IF(OR(C85=\"\",ISNUMBER(C85)),\"\",\"←数字を入力してください。\")))","v":""},null,1]
[null,"力率",null,null,null,null,null,null,null,null,null,"",{"$f":"IF(AND(O$30>2,O86>1),\"←臨時電灯Ａ以外の場合，選択できません。\",IF(AND(C84<>\"\",O86=1),\"←選択してください。\",\"\"))","v":""},null,1]
[null,"入力",null,null,"VA",null,null,null,null,null,null,"",{"$f":"IF(AND(O$30>2,C87<>\"\"),\"←臨時電灯Ａ以外の場合，入力できません。\",IF(AND(C84<>\"\",C85=\"\",C87=\"\"),\"←入力してください。\",IF(OR(C87=\"\",ISNUMBER(C87)),\"\",\"←数字を入力してください。\")))","v":""},null,null,"入力合計算定"]
[null,"台数",null,"台",null,null,null,null,null,null,null,"",{"$f":"IF(AND(O$30>2,C88<>\"\"),\"←臨時電灯Ａ以外の場合，入力できません。\",IF(AND(C84<>\"\",C88=\"\"),\"←入力してください。\",IF(OR(C88=\"\",ISNUMBER(C88)),\"\",\"←数字を入力してください。\")))","v":""},null,null,{"$f":"IF(AND(C87=\"\",C88<>\"\"),\"\",C87*C88)","v":0}]
["臨時電灯Ａ\n１１","機器種別",null,null,null,null,null,null,null,null,null,"",{"$f":"IF(AND(O$30>2,C89<>\"\"),\"←臨時電灯Ａ以外の場合，入力できません。\",IF(AND(O$30=2,O$33=5,C89=\"\",OR(C90<>\"\",O91<>1,C92<>\"\",C93<>\"\")),\"←入力してください。\",\"\"))","v":""}]
[null,"出力",null,null,"Ｗ",null,null,null,null,null,null,"",{"$f":"IF(AND(O$30>2,C90<>\"\"),\"←臨時電灯Ａ以外の場合，入力できません。\",IF(AND(C89<>\"\",C90=\"\",C92=\"\"),\"←入力してください。\",IF(OR(C90=\"\",ISNUMBER(C90)),\"\",\"←数字を入力してください。\")))","v":""},null,1]
[null,"力率",null,null,null,null,null,null,null,null,null,"",{"$f":"IF(AND(O$30>2,O91>1),\"←臨時電灯Ａ以外の場合，選択できません。\",IF(AND(C89<>\"\",O91=1),\"←選択してください。\",\"\"))","v":""},null,1]
[null,"入力",null,null,"VA",null,null,null,null,null,null,"",{"$f":"IF(AND(O$30>2,C92<>\"\"),\"←臨時電灯Ａ以外の場合，入力できません。\",IF(AND(C89<>\"\",C90=\"\",C92=\"\"),\"←入力してください。\",IF(OR(C92=\"\",ISNUMBER(C92)),\"\",\"←数字を入力してください。\")))","v":""},null,null,"入力合計算定"]
[null,"台数",null,"台",null,null,null,null,null,null,null,"",{"$f":"IF(AND(O$30>2,C93<>\"\"),\"←臨時電灯Ａ以外の場合，入力できません。\",IF(AND(C89<>\"\",C93=\"\"),\"←入力してください。\",IF(OR(C93=\"\",ISNUMBER(C93)),\"\",\"←数字を入力してください。\")))","v":""},null,null,{"$f":"IF(AND(C92=\"\",C93<>\"\"),\"\",C92*C93)","v":0}]
["臨時電灯Ａ\n１２","機器種別",null,null,null,null,null,null,null,null,null,"",{"$f":"IF(AND(O$30>2,C94<>\"\"),\"←臨時電灯Ａ以外の場合，入力できません。\",IF(AND(O$30=2,O$33=5,C94=\"\",OR(C95<>\"\",O96<>1,C97<>\"\",C98<>\"\")),\"←入力してください。\",\"\"))","v":""}]
[null,"出力",null,null,"Ｗ",null,null,null,null,null,null,"",{"$f":"IF(AND(O$30>2,C95<>\"\"),\"←臨時電灯Ａ以外の場合，入力できません。\",IF(AND(C94<>\"\",C95=\"\",C97=\"\"),\"←入力してください。\",IF(OR(C95=\"\",ISNUMBER(C95)),\"\",\"←数字を入力してください。\")))","v":""},null,1]
[null,"力率",null,null,null,null,null,null,null,null,null,"",{"$f":"IF(AND(O$30>2,O96>1),\"←臨時電灯Ａ以外の場合，選択できません。\",IF(AND(C94<>\"\",O96=1),\"←選択してください。\",\"\"))","v":""},null,1]
[null,"入力",null,null,"VA",null,null,null,null,null,null,"",{"$f":"IF(AND(O$30>2,C97<>\"\"),\"←臨時電灯Ａ以外の場合，入力できません。\",IF(AND(C94<>\"\",C95=\"\",C97=\"\"),\"←入力してください。\",IF(OR(C97=\"\",ISNUMBER(C97)),\"\",\"←数字を入力してください。\")))","v":""},null,null,"入力合計算定"]
[null,"台数",null,"台",null,null,null,null,null,null,null,"",{"$f":"IF(AND(O$30>2,C98<>\"\"),\"←臨時電灯Ａ以外の場合，入力できません。\",IF(AND(C94<>\"\",C98=\"\"),\"←入力してください。\",IF(OR(C98=\"\",ISNUMBER(C98)),\"\",\"←数字を入力してください。\")))","v":""},null,null,{"$f":"IF(AND(C97=\"\",C98<>\"\"),\"\",C97*C98)","v":0}]
["臨時電灯\nＢ・Ｃ","電灯",null,null,null,null,null,null,null,null,null,"",{"$f":"IF(AND(O$30=2,C99<>\"\"),\"←臨時電灯Ａの場合，入力できません。\",IF(AND(O$30=3,C99<>\"\"),\"←臨時電力の場合，入力できません。\",IF(AND(O$30>3,O$33=5,C99=\"\",OR(C101=\"\",C100<>\"\")),\"←入力してください。\",IF(OR(C99=\"\",ISNUMBER(C99)),\"\",\"←数字を入力してください。\"))))","v":""}]
[null,null,null,null,"ＶＡ",null,null,null,null,null,null,"",{"$f":"IF(AND(O$30=2,C100<>\"\"),\"←臨時電灯Ａの場合，入力できません。\",IF(AND(O$30=3,C100<>\"\"),\"←臨時電力の場合，入力できません。\",IF(AND(O$30>3,O$33=5,C100=\"\",OR(C102=\"\",C99<>\"\")),\"←入力してください。\",IF(OR(C100=\"\",ISNUMBER(C100)),\"\",\"←数字を入力してください。\"))))","v":""}]
[null,"小型機器",null,null,null,null,null,null,null,null,null,"",{"$f":"IF(AND(O$30=2,C101<>\"\"),\"←臨時電灯Ａの場合，入力できません。\",IF(AND(O$30=3,C101<>\"\"),\"←臨時電力の場合，入力できません。\",IF(AND(O$30>3,O$33=5,C101=\"\",OR(C99=\"\",C102<>\"\")),\"←入力してください。\",IF(OR(C101=\"\",ISNUMBER(C101)),\"\",\"←数字を入力してください。\"))))","v":""}]
[null,null,null,null,"ＶＡ",null,null,null,null,null,null,"",{"$f":"IF(AND(O$30=2,C102<>\"\"),\"←臨時電灯Ａの場合，入力できません。\",IF(AND(O$30=3,C102<>\"\"),\"←臨時電力の場合，入力できません。\",IF(AND(O$30>3,O$33=5,C102=\"\",OR(C100=\"\",C101<>\"\")),\"←入力してください。\",IF(OR(C102=\"\",ISNUMBER(C102)),\"\",\"←数字を入力してください。\"))))","v":""},null,null,"回路契約"]
[null,"回路数",null,null,"回路",null,null,null,null,null,null,"",{"$f":"IF(AND(O$30=2,C103<>\"\"),\"←臨時電灯Ａの場合，入力できません。\",IF(AND(O$30=3,C103<>\"\"),\"←臨時電力の場合，入力できません。\",IF(AND(O$30>3,C103=\"\"),\"←入力してください。\",IF(OR(C103=\"\",ISNUMBER(C103)),\"\",\"←数字を入力してください。\"))))","v":""},null,1,"業種表示用","容量計算用"]
[null,"適用業種別\n回路数内訳１","業種",null,null,null,null,null,null,null,null,"",{"$f":"IF(AND(O$33<>4,O104>1),\"←回路契約以外の場合，選択できません。\",IF(AND(O$30=5,O$33=4,O104=1),\"←選択してください。\",\"\"))","v":""},null,1,{"$f":"IF(O104=2,V$5,IF(O104=3,V$6,IF(O104=4,V$7,IF(O104=5,V$8,IF(O104=6,V$9,IF(O104=7,V$10,IF(O104=8,V$11,IF(O104=9,V$12,\"\"))))))))","v":""}]
[null,null,"回路数",null,null,null,null,"回路",null,null,null,"",{"$f":"IF(AND(O$33<>4,E105<>\"\"),\"←回路契約以外の場合，入力できません。\",IF(AND(O$30=5,O$33=4,E105=\"\"),\"←入力してください。\",\"\"))","v":""},null,1,{"$f":"IF(O104=10,V$13,P104)","v":""}]
[null,"適用業種別\n回路数内訳２","業種",null,null,null,null,null,null,null,null,"",{"$f":"IF(AND(O$33<>4,O106>1),\"←回路契約以外の場合，選択できません。\",IF(AND(O$30=5,O$33=4,O106=1,E107<>\"\"),\"←選択してください。\",\"\"))","v":""},null,1,{"$f":"IF(O106=2,V$5,IF(O106=3,V$6,IF(O106=4,V$7,IF(O106=5,V$8,IF(O106=6,V$9,IF(O106=7,V$10,IF(O106=8,V$11,IF(O106=9,V$12,\"\"))))))))","v":""}]
[null,null,"回路数",null,null,null,null,"回路",null,null,null,"",{"$f":"IF(AND(O$33<>4,E107<>\"\"),\"←回路契約以外の場合，入力できません。\",IF(AND(O$30=5,O$33=4,E107=\"\",O106>1),\"←入力してください。\",\"\"))","v":""},null,1,{"$f":"IF(O106=10,V$13,P106)","v":""}]
[null,"適用業種別\n回路数内訳３","業種",null,null,null,null,null,null,null,null,"",{"$f":"IF(AND(O$33<>4,O108>1),\"←回路契約以外の場合，選択できません。\",IF(AND(O$30=5,O$33=4,O108=1,E109<>\"\"),\"←選択してください。\",\"\"))","v":""},null,1,{"$f":"IF(O108=2,V$5,IF(O108=3,V$6,IF(O108=4,V$7,IF(O108=5,V$8,IF(O108=6,V$9,IF(O108=7,V$10,IF(O108=8,V$11,IF(O108=9,V$12,\"\"))))))))","v":""}]
[null,null,null,null,null,null,null,null,null,null,null,"",{"$f":"IF(AND(O$33<>4,E109<>\"\"),\"←回路契約以外の場合，入力できません。\",IF(AND(O$30=5,O$33=4,E109=\"\",O108>1),\"←入力してください。\",\"\"))","v":""},null,null,{"$f":"IF(O108=10,V$13,P108)","v":""}]
["臨時電力１","機器種別",null,null,null,null,null,null,null,null,null,"",{"$f":"IF(AND(O$30<>3,C110<>\"\"),\"←臨時電力以外の場合，入力できません。\",IF(AND(O$30=3,C110=\"\",OR(C111<>\"\",O111>1,C112<>\"\",C113<>\"\")),\"←入力してください。\",\"\"))","v":""},null,1]
[null,"出力",null,null,null,null,null,null,null,null,null,"",{"$f":"IF(AND(O$30<>3,C111<>\"\"),\"←臨時電力以外の場合，入力できません。\",IF(AND(C110<>\"\",C111=\"\",C112=\"\"),\"←入力してください。\",IF(AND(O$30<>3,O111>1),\"←臨時電力以外の場合，選択できません。\",IF(AND(C111<>\"\",O111=1),\"←選択してください。\",IF(OR(C111=\"\",ISNUMBER(C111)),\"\",\"←数字を入力してください。\")))))","v":""},null,1,"入力値算定"]
[null,"入力",null,null,"kW",null,null,null,null,null,null,"",{"$f":"IF(AND(O$30<>3,C112<>\"\"),\"←臨時電力以外の場合，入力できません。\",IF(AND(C110<>\"\",C111=\"\",C112=\"\"),\"←入力してください。\",IF(OR(C112=\"\",ISNUMBER(C112)),\"\",\"←数字を入力してください。\")))","v":""},null,null,{"$f":"IF(C112<>\"\",C112,IF(O111=2,ROUND(C111*0.933,3),0))","v":0}]
[null,"台数",null,"台",null,null,null,null,null,null,null,"",{"$f":"IF(AND(O$30<>3,C113<>\"\"),\"←臨時電力以外の場合，入力できません。\",IF(AND(C110<>\"\",C113=\"\"),\"←入力してください。\",IF(OR(C113=\"\",ISNUMBER(C113)),\"\",\"←数字を入力してください。\")))","v":""},null,null,{"$f":"IF(P112*C113=0,\"\",P112*C113)","v":""}]
["臨時電力２","機器種別",null,null,null,null,null,null,null,null,null,"",{"$f":"IF(AND(O$30<>3,C114<>\"\"),\"←臨時電力以外の場合，入力できません。\",IF(AND(O$30=3,C114=\"\",OR(C115<>\"\",O115>1,C116<>\"\",C117<>\"\")),\"←入力してください。\",\"\"))","v":""},null,1]
[null,"出力",null,null,null,null,null,null,null,null,null,"",{"$f":"IF(AND(O$30<>3,C115<>\"\"),\"←臨時電力以外の場合，入力できません。\",IF(AND(C114<>\"\",C115=\"\",C116=\"\"),\"←入力してください。\",IF(AND(O$30<>3,O115>1),\"←臨時電力以外の場合，選択できません。\",IF(AND(C115<>\"\",O115=1),\"←選択してください。\",IF(OR(C115=\"\",ISNUMBER(C115)),\"\",\"←数字を入力してください。\")))))","v":""},null,1,"入力値算定"]
[null,"入力",null,null,"kW",null,null,null,null,null,null,"",{"$f":"IF(AND(O$30<>3,C116<>\"\"),\"←臨時電力以外の場合，入力できません。\",IF(AND(C114<>\"\",C115=\"\",C116=\"\"),\"←入力してください。\",IF(OR(C116=\"\",ISNUMBER(C116)),\"\",\"←数字を入力してください。\")))","v":""},null,null,{"$f":"IF(C116<>\"\",C116,IF(O115=2,ROUND(C115*0.933,3),0))","v":0}]
[null,"台数",null,"台",null,null,null,null,null,null,null,"",{"$f":"IF(AND(O$30<>3,C117<>\"\"),\"←臨時電力以外の場合，入力できません。\",IF(AND(C114<>\"\",C117=\"\"),\"←入力してください。\",IF(OR(C117=\"\",ISNUMBER(C117)),\"\",\"←数字を入力してください。\")))","v":""},null,null,{"$f":"IF(P116*C117=0,\"\",P116*C117)","v":""}]
["臨時電力３","機器種別",null,null,null,null,null,null,null,null,null,"",{"$f":"IF(AND(O$30<>3,C118<>\"\"),\"←臨時電力以外の場合，入力できません。\",IF(AND(O$30=3,C118=\"\",OR(C119<>\"\",O119>1,C120<>\"\",C121<>\"\")),\"←入力してください。\",\"\"))","v":""},null,1]
[null,"出力",null,null,null,null,null,null,null,null,null,"",{"$f":"IF(AND(O$30<>3,C119<>\"\"),\"←臨時電力以外の場合，入力できません。\",IF(AND(C118<>\"\",C119=\"\",C120=\"\"),\"←入力してください。\",IF(AND(O$30<>3,O119>1),\"←臨時電力以外の場合，選択できません。\",IF(AND(C119<>\"\",O119=1),\"←選択してください。\",IF(OR(C119=\"\",ISNUMBER(C119)),\"\",\"←数字を入力してください。\")))))","v":""},null,1,"入力値算定"]
[null,"入力",null,null,"kW",null,null,null,null,null,null,"",{"$f":"IF(AND(O$30<>3,C120<>\"\"),\"←臨時電力以外の場合，入力できません。\",IF(AND(C118<>\"\",C119=\"\",C120=\"\"),\"←入力してください。\",IF(OR(C120=\"\",ISNUMBER(C120)),\"\",\"←数字を入力してください。\")))","v":""},null,null,{"$f":"IF(C120<>\"\",C120,IF(O119=2,ROUND(C119*0.933,3),0))","v":0}]
[null,"台数",null,"台",null,null,null,null,null,null,null,"",{"$f":"IF(AND(O$30<>3,C121<>\"\"),\"←臨時電力以外の場合，入力できません。\",IF(AND(C118<>\"\",C121=\"\"),\"←入力してください。\",IF(OR(C121=\"\",ISNUMBER(C121)),\"\",\"←数字を入力してください。\")))","v":""},null,null,{"$f":"IF(P120*C121=0,\"\",P120*C121)","v":""}]
["臨時電力４","機器種別",null,null,null,null,null,null,null,null,null,"",{"$f":"IF(AND(O$30<>3,C122<>\"\"),\"←臨時電力以外の場合，入力できません。\",IF(AND(O$30=3,C122=\"\",OR(C123<>\"\",O123>1,C124<>\"\",C125<>\"\")),\"←入力してください。\",\"\"))","v":""},null,1]
[null,"出力",null,null,null,null,null,null,null,null,null,"",{"$f":"IF(AND(O$30<>3,C123<>\"\"),\"←臨時電力以外の場合，入力できません。\",IF(AND(C122<>\"\",C123=\"\",C124=\"\"),\"←入力してください。\",IF(AND(O$30<>3,O123>1),\"←臨時電力以外の場合，選択できません。\",IF(AND(C123<>\"\",O123=1),\"←選択してください。\",IF(OR(C123=\"\",ISNUMBER(C123)),\"\",\"←数字を入力してください。\")))))","v":""},null,1,"入力値算定"]
[null,"入力",null,null,"kW",null,null,null,null,null,null,"",{"$f":"IF(AND(O$30<>3,C124<>\"\"),\"←臨時電力以外の場合，入力できません。\",IF(AND(C122<>\"\",C123=\"\",C124=\"\"),\"←入力してください。\",IF(OR(C124=\"\",ISNUMBER(C124)),\"\",\"←数字を入力してください。\")))","v":""},null,null,{"$f":"IF(C124<>\"\",C124,IF(O123=2,ROUND(C123*0.933,3),0))","v":0}]
[null,"台数",null,"台",null,null,null,null,null,null,null,"",{"$f":"IF(AND(O$30<>3,C125<>\"\"),\"←臨時電力以外の場合，入力できません。\",IF(AND(C122<>\"\",C125=\"\"),\"←入力してください。\",IF(OR(C125=\"\",ISNUMBER(C125)),\"\",\"←数字を入力してください。\")))","v":""},null,null,{"$f":"IF(P124*C125=0,\"\",P124*C125)","v":""}]
["臨時電力５","機器種別",null,null,null,null,null,null,null,null,null,"",{"$f":"IF(AND(O$30<>3,C126<>\"\"),\"←臨時電力以外の場合，入力できません。\",IF(AND(O$30=3,C126=\"\",OR(C127<>\"\",O127>1,C128<>\"\",C129<>\"\")),\"←入力してください。\",\"\"))","v":""},null,1]
[null,"出力",null,null,null,null,null,null,null,null,null,"",{"$f":"IF(AND(O$30<>3,C127<>\"\"),\"←臨時電力以外の場合，入力できません。\",IF(AND(C126<>\"\",C127=\"\",C128=\"\"),\"←入力してください。\",IF(AND(O$30<>3,O127>1),\"←臨時電力以外の場合，選択できません。\",IF(AND(C127<>\"\",O127=1),\"←選択してください。\",IF(OR(C127=\"\",ISNUMBER(C127)),\"\",\"←数字を入力してください。\")))))","v":""},null,1,"入力値算定"]
[null,"入力",null,null,"kW",null,null,null,null,null,null,"",{"$f":"IF(AND(O$30<>3,C128<>\"\"),\"←臨時電力以外の場合，入力できません。\",IF(AND(C126<>\"\",C127=\"\",C128=\"\"),\"←入力してください。\",IF(OR(C128=\"\",ISNUMBER(C128)),\"\",\"←数字を入力してください。\")))","v":""},null,null,{"$f":"IF(C128<>\"\",C128,IF(O127=2,ROUND(C127*0.933,3),0))","v":0}]
[null,"台数",null,"台",null,null,null,null,null,null,null,"",{"$f":"IF(AND(O$30<>3,C129<>\"\"),\"←臨時電力以外の場合，入力できません。\",IF(AND(C126<>\"\",C129=\"\"),\"←入力してください。\",IF(OR(C129=\"\",ISNUMBER(C129)),\"\",\"←数字を入力してください。\")))","v":""},null,null,{"$f":"IF(P128*C129=0,\"\",P128*C129)","v":""}]
["臨時電力６","機器種別",null,null,null,null,null,null,null,null,null,"",{"$f":"IF(AND(O$30<>3,C130<>\"\"),\"←臨時電力以外の場合，入力できません。\",IF(AND(O$30=3,C130=\"\",OR(C131<>\"\",O131>1,C132<>\"\",C133<>\"\")),\"←入力してください。\",\"\"))","v":""},null,1]
[null,"出力",null,null,null,null,null,null,null,null,null,{"$f":"IF(M131=\"\",\"\",M131)","v":""},{"$f":"IF(AND(O$30<>3,C131<>\"\"),\"←臨時電力以外の場合，入力できません。\",IF(AND(C130<>\"\",C131=\"\",C132=\"\"),\"←入力してください。\",IF(AND(O$30<>3,O131>1),\"←臨時電力以外の場合，選択できません。\",IF(AND(C131<>\"\",O131=1),\"←選択してください。\",IF(OR(C131=\"\",ISNUMBER(C131)),\"\",\"←数字を入力してください。\")))))","v":""},null,1,"入力値算定"]
[null,"入力",null,null,"kW",null,null,null,null,null,null,"",{"$f":"IF(AND(O$30<>3,C132<>\"\"),\"←臨時電力以外の場合，入力できません。\",IF(AND(C130<>\"\",C131=\"\",C132=\"\"),\"←入力してください。\",IF(OR(C132=\"\",ISNUMBER(C132)),\"\",\"←数字を入力してください。\")))","v":""},null,null,{"$f":"IF(C132<>\"\",C132,IF(O131=2,ROUND(C131*0.933,3),0))","v":0}]
[null,"台数",null,"台",null,null,null,null,null,null,null,"",{"$f":"IF(AND(O$30<>3,C133<>\"\"),\"←臨時電力以外の場合，入力できません。\",IF(AND(C130<>\"\",C133=\"\"),\"←入力してください。\",IF(OR(C133=\"\",ISNUMBER(C133)),\"\",\"←数字を入力してください。\")))","v":""},null,null,{"$f":"IF(P132*C133=0,\"\",P132*C133)","v":""}]
["臨時電力７","機器種別",null,null,null,null,null,null,null,null,null,"",{"$f":"IF(AND(O$30<>3,C134<>\"\"),\"←臨時電力以外の場合，入力できません。\",IF(AND(O$30=3,C134=\"\",OR(C135<>\"\",O135>1,C136<>\"\",C137<>\"\")),\"←入力してください。\",\"\"))","v":""},null,1]
[null,"出力",null,null,null,null,null,null,null,null,null,"",{"$f":"IF(AND(O$30<>3,C135<>\"\"),\"←臨時電力以外の場合，入力できません。\",IF(AND(C134<>\"\",C135=\"\",C136=\"\"),\"←入力してください。\",IF(AND(O$30<>3,O135>1),\"←臨時電力以外の場合，選択できません。\",IF(AND(C135<>\"\",O135=1),\"←選択してください。\",IF(OR(C135=\"\",ISNUMBER(C135)),\"\",\"←数字を入力してください。\")))))","v":""},null,1,"入力値算定"]
[null,"入力",null,null,"kW",null,null,null,null,null,null,"",{"$f":"IF(AND(O$30<>3,C136<>\"\"),\"←臨時電力以外の場合，入力できません。\",IF(AND(C134<>\"\",C135=\"\",C136=\"\"),\"←入力してください。\",IF(OR(C136=\"\",ISNUMBER(C136)),\"\",\"←数字を入力してください。\")))","v":""},null,null,{"$f":"IF(C136<>\"\",C136,IF(O135=2,ROUND(C135*0.933,3),0))","v":0}]
[null,"台数",null,"台",null,null,null,null,null,null,null,"",{"$f":"IF(AND(O$30<>3,C137<>\"\"),\"←臨時電力以外の場合，入力できません。\",IF(AND(C134<>\"\",C137=\"\"),\"←入力してください。\",IF(OR(C137=\"\",ISNUMBER(C137)),\"\",\"←数字を入力してください。\")))","v":""},null,null,{"$f":"IF(P136*C137=0,\"\",P136*C137)","v":""}]

{"sheet":"１枚目","index":1,"n_rows":163,"n_cols":111,"rows_kept":163,"cut":false,"hidden":false,"merged":[[16,57,17,57],[16,58,17,58],[40,61,47,78],[40,79,47,83],[40,84,47,98],[48,26,53,34],[48,35,53,40],[48,47,53,54],[48,55,53,64],[48,65,53,73],[48,74,53,77],[48,78,53,82],[48,83,50,98],[50,41,53,44],[51,83,53,98],[52,45,53,46],[16,48,17,48],[16,49,17,49],[16,50,17,50],[16,51,17,51],[16,52,17,52],[16,53,17,53],[16,54,17,54],[16,55,17,55],[16,56,17,56],[16,39,17,39],[16,40,17,40],[16,41,17,41],[16,42,17,42],[16,43,17,43],[16,44,17,44],[16,45,17,45],[16,46,17,46],[16,47,17,47],[35,44,36,44],[35,45,36,45],[35,46,36,46],[16,19,17,19],[16,20,17,20],[16,21,17,21],[16,22,17,22],[16,23,17,23],[16,24,17,24],[16,25,17,25],[16,26,17,26],[16,27,17,27],[16,28,17,28],[16,29,17,29],[16,30,17,30],[16,31,17,31],[16,32,17,32],[16,33,17,33],[16,34,17,34],[16,35,17,35],[16,36,17,36],[16,37,17,37],[16,38,17,38],[33,12,39,21],[33,40,34,40],[33,41,34,41],[33,42,34,42],[33,43,34,43],[33,44,34,44],[33,45,34,45],[33,46,34,46],[35,27,36,27],[35,28,36,28],[35,29,36,29],[35,30,36,30],[35,31,36,31],[35,32,36,32],[35,33,36,33],[35,34,36,34],[35,35,36,35],[35,36,36,36],[35,37,36,37],[35,38,36,38],[35,39,36,39],[35,40,36,40],[35,41,36,41],[35,42,36,42],[35,43,36,43],[10,1,11,25],[12,1,13,38],[89,7,91,27],[89,28,91,36],[89,37,91,39],[83,7,85,27],[83,28,85,36],[83,37,85,39],[83,40,85,51],[86,7,88,27],[86,28,88,36],[86,37,88,39],[86,40,88,51],[80,28,82,36],[80,40,82,51],[80,37,82,39],[80,7,82,27],[77,28,79,36],[77,37,79,39],[77,40,79,51],[33,27,34,27],[33,28,34,28],[30,28,32,28],[48,21,53,25],[30,15,32,20],[33,47,39,51],[74,81,77,84],[89,40,91,51],[89,52,91,60],[74,78,76,79],[19,103,20,103],[27,69,30,74],[68,81,69,99],[70,81,73,84],[54,64,55,70],[86,68,88,70],[86,64,88,67],[82,93,85,94],[87,80,91,88],[55,103,62,110],[78,81,81,84],[78,85,81,99],[82,81,85,84],[82,95,85,97],[31,105,32,109],[18,12,21,63],[21,75,22,110],[33,39,34,39],[30,56,32,63],[65,61,67,63],[71,64,73,67],[71,61,73,63],[68,61,70,63],[59,71,61,77],[54,71,55,79],[56,78,58,79],[59,78,61,79],[62,78,64,79],[27,64,32,68],[56,61,58,63],[62,71,64,77],[27,75,30,110],[31,110,32,110],[31,99,32,103],[31,104,32,104],[68,71,70,77],[62,61,64,63],[62,64,64,67],[59,61,61,63],[62,68,64,70],[65,71,67,77],[56,64,58,67],[16,75,18,110],[80,68,82,70],[54,52,55,63],[82,88,85,89],[82,90,85,92],[83,68,85,70],[83,52,85,60],[22,48,23,63],[70,85,73,99],[21,69,22,74],[19,109,20,110],[25,110,26,110],[19,104,20,108],[19,100,20,102],[55,101,62,102],[31,75,32,88],[31,89,32,92],[25,89,26,92],[19,90,20,99],[25,93,26,97],[25,98,26,98],[25,99,26,103],[16,59,17,63],[23,69,24,110],[164,0,165,110],[54,1,122,3],[152,1,154,16],[134,1,135,97],[136,1,137,97],[139,3,141,109],[148,3,150,109],[162,0,163,110],[54,7,55,27],[118,89,122,95],[114,7,116,39],[117,7,119,39],[118,80,122,88],[82,85,85,87],[111,78,113,79],[111,64,113,67],[83,61,85,63],[83,64,85,67],[145,3,147,109],[123,1,130,3],[120,71,122,77],[120,78,122,79],[118,96,122,99],[114,52,116,60],[30,7,32,11],[30,12,32,14],[30,36,32,38],[31,93,32,97],[105,78,107,79],[108,71,110,77],[74,85,77,99],[31,69,32,74],[95,96,99,99],[68,64,70,67],[65,64,67,67],[102,78,104,79],[108,78,110,79],[95,89,99,95],[95,80,99,88],[31,98,32,98],[87,89,91,95],[82,98,85,99],[87,96,91,99],[38,69,39,73],[59,64,61,67],[80,64,82,67],[92,54,93,70],[38,52,39,58],[13,90,15,110],[30,46,32,46],[16,64,26,68],[25,104,26,104],[25,105,26,109],[27,12,29,63],[30,29,32,35],[30,55,32,55],[33,52,34,53],[30,21,32,21],[33,64,34,80],[19,69,20,74],[30,47,32,54],[30,39,32,45],[24,14,26,16],[33,57,34,57],[33,81,39,85],[33,58,34,61],[38,59,39,62],[38,99,39,103],[38,93,39,97],[38,74,39,74],[19,75,20,89],[14,1,15,38],[6,0,9,110],[13,64,15,68],[16,1,39,6],[13,69,15,84],[13,85,15,89],[16,69,18,74],[22,40,23,47],[25,69,26,88],[24,24,26,63],[38,110,39,110],[33,86,34,110],[35,86,37,110],[38,98,39,98],[38,75,39,79],[35,52,37,80],[38,86,39,88],[38,105,39,109],[33,54,34,56],[38,68,39,68],[38,80,39,80],[33,62,34,63],[38,104,39,104],[38,89,39,92],[38,63,39,67],[117,52,119,60],[120,52,122,60],[120,61,122,63],[117,71,119,77],[120,64,122,67],[114,64,116,67],[117,64,119,67],[114,71,116,77],[142,3,144,109],[117,68,119,70],[114,68,116,70],[120,49,122,51],[120,68,122,70],[114,49,116,51],[117,78,119,79],[114,78,116,79],[114,40,116,48],[123,4,130,10],[123,11,130,13],[123,14,126,18],[123,19,126,21],[123,22,126,23],[123,24,126,26],[123,27,126,31],[92,4,99,6],[100,4,122,6],[100,7,101,39],[108,7,110,39],[120,7,122,39],[114,61,116,63],[117,61,119,63],[120,40,122,48],[111,7,113,39],[111,52,113,60],[117,40,119,48],[117,49,119,51],[102,52,104,60],[105,7,107,39],[94,7,99,11],[100,52,101,63],[102,40,104,48],[94,27,99,31],[94,44,99,46],[94,12,99,14],[94,15,99,23],[94,32,99,34],[94,35,99,43],[94,24,99,26],[102,71,104,77],[105,71,107,77],[132,1,133,97],[105,40,107,48],[108,40,110,48],[111,71,113,77],[111,40,113,48],[92,7,93,26],[111,49,113,51],[108,49,110,51],[105,49,107,51],[100,71,101,79],[105,64,107,67],[108,68,110,70],[108,64,110,67],[94,64,95,66],[102,64,104,67],[92,71,93,79],[111,61,113,63],[92,27,93,46],[100,40,101,51],[102,49,104,51],[92,47,93,53],[102,7,104,39],[108,52,110,60],[102,61,104,63],[105,61,107,63],[108,61,110,63],[94,47,99,53],[102,68,104,70],[96,67,97,70],[100,64,101,70],[96,64,97,66],[94,54,95,63],[96,54,97,63],[98,54,99,63],[94,67,95,70],[98,64,99,66],[105,68,107,70],[105,52,107,60],[111,68,113,70],[16,12,17,18],[16,7,23,11],[22,21,23,39],[22,12,23,20],[24,18,26,21],[33,22,39,26],[44,1,47,6],[24,12,26,13],[44,29,47,33],[24,22,26,23],[44,15,47,18],[44,19,47,21],[44,22,47,25],[40,1,43,21],[44,12,47,14],[33,29,34,29],[33,30,34,30],[33,31,34,31],[33,32,34,32],[33,33,34,33],[33,34,34,34],[33,35,34,35],[33,36,34,36],[33,37,34,37],[33,38,34,38],[98,67,99,70],[24,7,29,11],[30,22,32,27],[37,27,39,46],[33,7,39,11],[24,17,26,17],[65,52,67,60],[68,52,70,60],[62,52,64,60],[56,52,58,60],[44,7,47,11],[59,7,61,27],[65,7,67,27],[62,37,64,39],[62,40,64,51],[77,7,79,27],[65,40,67,51],[68,7,70,27],[68,28,70,36],[44,26,47,28],[44,39,47,41],[44,46,47,48],[48,1,53,6],[54,4,91,6],[62,7,64,27],[62,28,64,36],[68,40,70,51],[74,28,76,36],[74,37,76,39],[71,7,73,27],[71,28,73,36],[56,7,58,27],[59,37,61,39],[56,28,58,36],[56,37,58,39],[56,40,58,51],[71,37,73,39],[74,7,76,27],[48,7,53,20],[59,40,61,51],[74,40,76,51],[83,78,85,79],[77,71,79,77],[80,71,82,77],[94,71,99,76],[98,77,99,79],[77,52,79,60],[80,52,82,60],[89,64,91,67],[89,78,91,79],[83,71,85,77],[89,68,91,70],[89,61,91,63],[86,71,88,77],[89,71,91,77],[86,78,88,79],[80,61,82,63],[86,52,88,60],[86,61,88,63],[77,68,79,70],[71,68,73,70],[54,28,55,39],[65,28,67,36],[59,28,61,36],[65,37,67,39],[44,34,47,38],[77,78,79,79],[80,78,82,79],[44,42,47,45],[44,49,47,52],[71,40,73,51],[40,56,47,60],[74,52,76,60],[71,52,73,60],[54,40,55,51],[59,52,61,60],[40,22,43,55],[68,37,70,39],[74,71,76,77],[56,71,58,77],[68,78,70,79],[71,78,73,79],[65,68,67,70],[68,68,70,70],[56,68,58,70],[59,68,61,70],[1,93,5,109],[123,32,126,34],[123,35,126,39],[123,40,126,42],[123,43,126,45],[123,46,126,48],[127,14,130,18],[127,19,130,21],[127,22,130,23],[127,24,130,26],[127,27,130,31],[127,32,130,34],[127,35,130,39],[127,40,130,42],[127,43,130,45],[127,46,130,48],[74,64,76,67],[74,61,76,63],[71,71,73,77],[77,64,79,67],[74,68,76,70],[65,78,67,79],[77,61,79,63],[44,53,47,55]]}
[]
[null,null,null,null,null,null,null,null,null,null,null,null,null,null,null,null,null,null,null,null,null,null,null,null,null,null,null,null,null,null,null,null,null,null,null,null,null,null,null,null,null,null,null,null,null,null,null,null,null,null,null,null,null,null,null,null,null,null,null,null,null,null,null,null,null,null,null,null,null,null,null,null,null,null,null,null,null,null,null,null,null,null,null,null,null,null,null,null,null,null,null,null,null,"離島等供給用"]
[]
[]
[]
[]
["（臨時定額・未計器扱）電気使用申込書（工事会社様控）"]
[]
[]
[]
[null,"北海道電力ネットワーク株式会社　御中"]
[]
[]
[null,null,null,null,null,null,null,null,null,null,null,null,null,null,null,null,null,null,null,null,null,null,null,null,null,null,null,null,null,null,null,null,null,null,null,null,null,null,null,null,null,null,null,null,null,null,null,null,null,null,null,null,null,null,null,null,null,null,null,null,null,null,null,null,"受付扱所名",null,null,null,null,null,null,null,null,null,null,null,null,null,null,null,null,null,null,null,null,"受付№"]
[null,"電気の使用について貴社離島等供給約款[低圧用]に承認のうえ申し込みます。"]
[]
[null,"お 客 さ ま",null,null,null,null,null,"ご契約名義",null,null,null,null,"（フリガナ）",null,null,null,null,null,null,{"$f":"DBCS(MID(ASC(入力用!C3),1,1))","v":""},{"$f":"DBCS(MID(ASC(入力用!C3),2,1))","v":""},{"$f":"DBCS(MID(ASC(入力用!C3),3,1))","v":""},{"$f":"DBCS(MID(ASC(入力用!C3),4,1))","v":""},{"$f":"DBCS(MID(ASC(入力用!C3),5,1))","v":""},{"$f":"DBCS(MID(ASC(入力用!C3),6,1))","v":""},{"$f":"DBCS(MID(ASC(入力用!C3),7,1))","v":""},{"$f":"DBCS(MID(ASC(入力用!C3),8,1))","v":""},{"$f":"DBCS(MID(ASC(入力用!C3),9,1))","v":""},{"$f":"DBCS(MID(ASC(入力用!C3),10,1))","v":""},{"$f":"DBCS(MID(ASC(入力用!C3),11,1))","v":""},{"$f":"DBCS(MID(ASC(入力用!C3),12,1))","v":""},{"$f":"DBCS(MID(ASC(入力用!C3),13,1))","v":""},{"$f":"DBCS(MID(ASC(入力用!C3),14,1))","v":""},{"$f":"DBCS(MID(ASC(入力用!C3),15,1))","v":""},{"$f":"DBCS(MID(ASC(入力用!C3),16,1))","v":""},{"$f":"DBCS(MID(ASC(入力用!C3),17,1))","v":""},{"$f":"DBCS(MID(ASC(入力用!C3),18,1))","v":""},{"$f":"DBCS(MID(ASC(入力用!C3),19,1))","v":""},{"$f":"DBCS(MID(ASC(入力用!C3),20,1))","v":""},{"$f":"DBCS(MID(ASC(入力用!C3),21,1))","v":""},{"$f":"DBCS(MID(ASC(入力用!C3),22,1))","v":""},{"$f":"DBCS(MID(ASC(入力用!C3),23,1))","v":""},{"$f":"DBCS(MID(ASC(入力用!C3),24,1))","v":""},{"$f":"DBCS(MID(ASC(入力用!C3),25,1))","v":""},{"$f":"DBCS(MID(ASC(入力用!C3),26,1))","v":""},{"$f":"DBCS(MID(ASC(入力用!C3),27,1))","v":""},{"$f":"DBCS(MID(ASC(入力用!C3),28,1))","v":""},{"$f":"DBCS(MID(ASC(入力用!C3),29,1))","v":""},{"$f":"DBCS(MID(ASC(入力用!C3),30,1))","v":""},{"$f":"DBCS(MID(ASC(入力用!C3),31,1))","v":""},{"$f":"DBCS(MID(ASC(入力用!C3),32,1))","v":""},{"$f":"DBCS(MID(ASC(入力用!C3),33,1))","v":""},{"$f":"DBCS(MID(ASC(入力用!C3),34,1))","v":""},{"$f":"DBCS(MID(ASC(入力用!C3),35,1))","v":""},{"$f":"DBCS(MID(ASC(入力用!C3),36,1))","v":""},{"$f":"DBCS(MID(ASC(入力用!C3),37,1))","v":""},{"$f":"DBCS(MID(ASC(入力用!C3),38,1))","v":""},{"$f":"DBCS(MID(ASC(入力用!C3),39,1))","v":""},{"$f":"DBCS(MID(ASC(入力用!C3),40,1))","v":""},null,null,null,null,null,"電気工事会社",null,null,null,null," 会社名",null,null,null,null,null,{"$f":"IF(入力用!C11=\"\",\"\",入力用!C11)","v":""}]
[]
[null,null,null,null,null,null,null,null,null,null,null,null,{"$f":"IF(入力用!C4=\"\",\"\",入力用!C4)","v":""}]
[null,null,null,null,null,null,null,null,null,null,null,null,null,null,null,null,null,null,null,null,null,null,null,null,null,null,null,null,null,null,null,null,null,null,null,null,null,null,null,null,null,null,null,null,null,null,null,null,null,null,null,null,null,null,null,null,null,null,null,null,null,null,null,null,null,null,null,null,null,"(担当者)",null,null,null,null,null,{"$f":"IF(入力用!C12=\"\",\"\",入力用!C12)","v":""},null,null,null,null,null,null,null,null,null,null,null,null,null,null,"工事会社№（",null,null,null,null,null,null,null,null,null,{"$f":"IF(入力用!C13=\"\",\"\",入力用!C13)","v":""},null,null,"-",{"$f":"IF(入力用!E13=\"\",\"\",入力用!E13)","v":""},null,null,null,null,")"]
[]
[null,null,null,null,null,null,null,null,null,null,null,null,null,null,null,null,null,null,null,null,null,null,null,null,null,null,null,null,null,null,null,null,null,null,null,null,null,null,null,null,null,null,null,null,null,null,null,null,null,null,null,null,null,null,null,null,null,null,null,null,null,null,null,null,null,null,null,null,null," 住　所",null,null,null,null,null,{"$f":"LEFT(入力用!C14,24)","v":""}]
[null,null,null,null,null,null,null,null,null,null,null,null,"（代表者肩書）",null,null,null,null,null,null,null,null,{"$f":"IF(入力用!C5=\"\",\"\",入力用!C5)","v":""},null,null,null,null,null,null,null,null,null,null,null,null,null,null,null,null,null,null,"（代表者名）",null,null,null,null,null,null,null,{"$f":"IF(入力用!C6=\"\",\"\",入力用!C6)","v":""}]
[null,null,null,null,null,null,null,null,null,null,null,null,null,null,null,null,null,null,null,null,null,null,null,null,null,null,null,null,null,null,null,null,null,null,null,null,null,null,null,null,null,null,null,null,null,null,null,null,null,null,null,null,null,null,null,null,null,null,null,null,null,null,null,null,null,null,null,null,null,{"$f":"MID(入力用!C14,25,28)","v":""}]
[null,null,null,null,null,null,null,"ご使用\n場　所",null,null,null,null,"(〒",null,{"$f":"LEFT(入力用!C7,3)","v":""},null,null,"-",{"$f":"RIGHT(入力用!C7,4)","v":""},null,null,null,")",null,{"$f":"LEFT(入力用!C8,25)","v":""}]
[null,null,null,null,null,null,null,null,null,null,null,null,null,null,null,null,null,null,null,null,null,null,null,null,null,null,null,null,null,null,null,null,null,null,null,null,null,null,null,null,null,null,null,null,null,null,null,null,null,null,null,null,null,null,null,null,null,null,null,null,null,null,null,null,null,null,null,null,null,{"$f":"MID(入力用!C14,53,12)","v":""},null,null,null,null,null,null,null,null,null,null,null,null,null,null,null,null,null,null,null,"電話(",null,null,null,{"$f":"IF(入力用!C15=\"\",\"\",入力用!C15)","v":""},null,null,null,null,"-",{"$f":"IF(入力用!E15=\"\",\"\",入力用!E15)","v":""},null,null,null,null,"-",{"$f":"IF(入力用!H15=\"\",\"\",入力用!H15)","v":""},null,null,null,null,")"]
[]
[null,null,null,null,null,null,null,null,null,null,null,null,{"$f":"MID(入力用!C8,26,33)","v":""},null,null,null,null,null,null,null,null,null,null,null,null,null,null,null,null,null,null,null,null,null,null,null,null,null,null,null,null,null,null,null,null,null,null,null,null,null,null,null,null,null,null,null,null,null,null,null,null,null,null,null,"建築会社",null,null,null,null," 会社名",null,null,null,null,null,{"$f":"IF(入力用!C16=\"\",\"\",入力用!C16)","v":""}]
[]
[]
[null,null,null,null,null,null,null,"電話番号",null,null,null,null,"固定",null,null,{"$f":"IF(入力用!C9=\"\",\"\",入力用!C9)","v":""},null,null,null,null,null,"-",{"$f":"IF(入力用!E9=\"\",\"\",入力用!E9)","v":""},null,null,null,null,null,"-",{"$f":"IF(入力用!H9=\"\",\"\",入力用!H9)","v":""},null,null,null,null,null,null,"携帯",null,null,{"$f":"IF(入力用!C10=\"\",\"\",入力用!C10)","v":""},null,null,null,null,null,null,"-",{"$f":"IF(入力用!E10=\"\",\"\",入力用!E10)","v":""},null,null,null,null,null,null,null,"-",{"$f":"IF(入力用!H10=\"\",\"\",入力用!H10)","v":""}]
[null,null,null,null,null,null,null,null,null,null,null,null,null,null,null,null,null,null,null,null,null,null,null,null,null,null,null,null,null,null,null,null,null,null,null,null,null,null,null,null,null,null,null,null,null,null,null,null,null,null,null,null,null,null,null,null,null,null,null,null,null,null,null,null,null,null,null,null,null,"(担当者)",null,null,null,null,null,{"$f":"IF(入力用!C17=\"\",\"\",入力用!C17)","v":""},null,null,null,null,null,null,null,null,null,null,null,null,null,"電話(",null,null,null,{"$f":"IF(入力用!C18=\"\",\"\",入力用!C18)","v":""},null,null,null,null,"-",{"$f":"IF(入力用!E18=\"\",\"\",入力用!E18)","v":""},null,null,null,null,"-",{"$f":"IF(入力用!H18=\"\",\"\",入力用!H18)","v":""},null,null,null,null,")"]
[]
[null,null,null,null,null,null,null,"お支払\n方　法",null,null,null,null,{"$f":"IF(入力用!O19=2,入力用!O5,IF(入力用!O19=3,入力用!O6,\"\"))","v":""},null,null,null,null,null,null,null,null,null,"支　払\n者　名",null,null,null,null,{"$f":"DBCS(MID(ASC(入力用!C20),1,1))","v":""},{"$f":"DBCS(MID(ASC(入力用!C20),2,1))","v":""},{"$f":"DBCS(MID(ASC(入力用!C20),3,1))","v":""},{"$f":"DBCS(MID(ASC(入力用!C20),4,1))","v":""},{"$f":"DBCS(MID(ASC(入力用!C20),5,1))","v":""},{"$f":"DBCS(MID(ASC(入力用!C20),6,1))","v":""},{"$f":"DBCS(MID(ASC(入力用!C20),7,1))","v":""},{"$f":"DBCS(MID(ASC(入力用!C20),8,1))","v":""},{"$f":"DBCS(MID(ASC(入力用!C20),9,1))","v":""},{"$f":"DBCS(MID(ASC(入力用!C20),10,1))","v":""},{"$f":"DBCS(MID(ASC(入力用!C20),11,1))","v":""},{"$f":"DBCS(MID(ASC(入力用!C20),12,1))","v":""},{"$f":"DBCS(MID(ASC(入力用!C20),13,1))","v":""},{"$f":"DBCS(MID(ASC(入力用!C20),14,1))","v":""},{"$f":"DBCS(MID(ASC(入力用!C20),15,1))","v":""},{"$f":"DBCS(MID(ASC(入力用!C20),16,1))","v":""},{"$f":"DBCS(MID(ASC(入力用!C20),17,1))","v":""},{"$f":"DBCS(MID(ASC(入力用!C20),18,1))","v":""},{"$f":"DBCS(MID(ASC(入力用!C20),19,1))","v":""},{"$f":"DBCS(MID(ASC(入力用!C20),20,1))","v":""},"請求書\n送付先",null,null,null,null,"(〒",null,{"$f":"LEFT(入力用!C22,3)","v":""},null,null,"-",{"$f":"RIGHT(入力用!C22,4)","v":""},null,null,null,")",null,{"$f":"IF(入力用!C23=\"同上\",\"\",LEFT(入力用!C23,11))","v":""},null,null,null,null,null,null,null,null,null,null,null,null,null,null,null,null,"ご連絡先",null,null,null,null,{"$f":"IF(OR(入力用!C25=\"同上\",入力用!C25=\"同左\"),\"\",LEFT(入力用!C25,17))","v":""}]
[]
[null,null,null,null,null,null,null,null,null,null,null,null,null,null,null,null,null,null,null,null,null,null,null,null,null,null,null,{"$f":"DBCS(MID(ASC(入力用!C20),21,1))","v":""},{"$f":"DBCS(MID(ASC(入力用!C20),22,1))","v":""},{"$f":"DBCS(MID(ASC(入力用!C20),23,1))","v":""},{"$f":"DBCS(MID(ASC(入力用!C20),24,1))","v":""},{"$f":"DBCS(MID(ASC(入力用!C20),25,1))","v":""},{"$f":"DBCS(MID(ASC(入力用!C20),26,1))","v":""},{"$f":"DBCS(MID(ASC(入力用!C20),27,1))","v":""},{"$f":"DBCS(MID(ASC(入力用!C20),28,1))","v":""},{"$f":"DBCS(MID(ASC(入力用!C20),29,1))","v":""},{"$f":"DBCS(MID(ASC(入力用!C20),30,1))","v":""},{"$f":"DBCS(MID(ASC(入力用!C20),31,1))","v":""},{"$f":"DBCS(MID(ASC(入力用!C20),32,1))","v":""},{"$f":"DBCS(MID(ASC(入力用!C20),33,1))","v":""},{"$f":"DBCS(MID(ASC(入力用!C20),34,1))","v":""},{"$f":"DBCS(MID(ASC(入力用!C20),35,1))","v":""},{"$f":"DBCS(MID(ASC(入力用!C20),36,1))","v":""},{"$f":"DBCS(MID(ASC(入力用!C20),37,1))","v":""},{"$f":"DBCS(MID(ASC(入力用!C20),38,1))","v":""},{"$f":"DBCS(MID(ASC(入力用!C20),39,1))","v":""},{"$f":"DBCS(MID(ASC(入力用!C20),40,1))","v":""},null,null,null,null,null,{"$f":"IF(入力用!C23=\"同上\",入力用!C23,MID(入力用!C23,12,20))","v":""},null,null,null,null,null,null,null,null,null,null,null,null,null,null,null,null,null,null,null,null,null,null,null,null,null,null,null,null,null,null,null,null,null,{"$f":"IF(OR(入力用!C25=\"同上\",入力用!C25=\"同左\"),入力用!C25,MID(入力用!C25,18,17))","v":""}]
[]
[null,null,null,null,null,null,null,null,null,null,null,null,null,null,null,null,null,null,null,null,null,null,null,null,null,null,null,{"$f":"IF(入力用!C21=\"\",\"\",入力用!C21)","v":""}]
[null,null,null,null,null,null,null,null,null,null,null,null,null,null,null,null,null,null,null,null,null,null,null,null,null,null,null,null,null,null,null,null,null,null,null,null,null,null,null,null,null,null,null,null,null,null,null,null,null,null,null,null,{"$f":"MID(入力用!C23,32,5)","v":""},null,null,null,null,null,null,"電話(",null,null,null,{"$f":"IF(入力用!C24=\"\",\"\",入力用!C24)","v":""},null,null,null,null,"-",{"$f":"IF(入力用!E24=\"\",\"\",入力用!E24)","v":""},null,null,null,null,"-",{"$f":"IF(入力用!H24=\"\",\"\",入力用!H24)","v":""},null,null,null,null,")",null,null,null,null,null,{"$f":"IF(OR(入力用!C25=\"同上\",入力用!C25=\"同左\"),\"\",MID(入力用!C25,35,1))","v":""},null,null,"電話(",null,null,null,{"$f":"IF(入力用!C26=\"\",\"\",入力用!C26)","v":""},null,null,null,null,"-",{"$f":"IF(入力用!E26=\"\",\"\",入力用!E26)","v":""},null,null,null,null,"-",{"$f":"IF(入力用!H26=\"\",\"\",入力用!H26)","v":""},null,null,null,null,")"]
[]
[null,"臨時工事費ご請求情報送信先\nメールアドレスまたは携帯電話番号",null,null,null,null,null,null,null,null,null,null,null,null,null,null,null,null,null,null,null,null,{"$f":"IF(入力用!C27=\"\",\"\",入力用!C27)","v":""},null,null,null,null,null,null,null,null,null,null,null,null,null,null,null,null,null,null,null,null,null,null,null,null,null,null,null,null,null,null,null,null,null,"契約種別",null,null,null,null,{"$f":"IF(入力用!O30=2,入力用!P5,IF(入力用!O30=3,入力用!P6,IF(入力用!O30=4,入力用!P7,IF(入力用!O30=5,入力用!P8,\"\"))))","v":""},null,null,null,null,null,null,null,null,null,null,null,null,null,null,null,null,null,"供給電気\n方 式 ・\n供給電圧",null,null,null,null,{"$f":"IF(入力用!O31=2,入力用!Q5,IF(入力用!O31=3,入力用!Q6,IF(入力用!O31=4,入力用!Q7,IF(入力用!O31=5,入力用!Q8,\"\"))))","v":""}]
[]
[]
[]
[null,"受　 電\n希望日",null,null,null,null,null,{"$f":"IF(入力用!C28=\"\",\"\",入力用!C28)","v":""},null,null,null,null,"年",null,null,{"$f":"IF(入力用!E28=\"\",\"\",入力用!E28)","v":""},null,null,null,"月",null,null,{"$f":"IF(入力用!H28=\"\",\"\",入力用!H28)","v":""},null,null,null,"日",null,null,"使　用\n終　了\n予定日",null,null,null,null,{"$f":"IF(入力用!C29=\"\",\"\",入力用!C29)","v":""},null,null,null,null,"年",null,null,{"$f":"IF(入力用!E29=\"\",\"\",入力用!E29)","v":""},null,null,null,"月",null,null,{"$f":"IF(入力用!H29=\"\",\"\",入力用!H29)","v":""},null,null,null,"日"]
[]
[]
[]
[null,"業種",null,null,null,null,null,{"$f":"IF(入力用!O32=2,入力用!R5,IF(入力用!O32=3,入力用!R6,IF(入力用!O32=4,入力用!R7,IF(入力用!O32=5,入力用!R8,IF(入力用!O32=6,入力用!R9&\"(\"&入力用!K32&\")\",\"\")))))","v":""},null,null,null,null,null,null,null,null,null,null,null,null,null,"契約\n決定\n区分",null,null,null,null,{"$f":"IF(入力用!O33=2,入力用!S5,IF(入力用!O33=3,入力用!S6,IF(入力用!O33=4,入力用!S7,IF(入力用!O33=5,入力用!S8,\"\"))))","v":""},null,null,null,null,null,null,null,null,"主開閉器・\n電流制限器\nの定格電流",null,null,null,null,null,null,null,null,null,null,null,"フリーエリア\n計器払出希望\n事 業 所 名",null,null,null,null,null,null,null,{"$f":"IF(入力用!C35=\"\",\"\",入力用!C35)","v":""},null,null,null,null,null,null,null,null,null,"臨時供給設備\nから常時供給\n設備への移行",null,null,null,null,null,null,null,null,{"$f":"IF(入力用!O36=2,入力用!T5,IF(入力用!O36=3,入力用!T6,\"\"))","v":""},null,null,null,"電設\nＮｅｔ　\n申込",null,null,null,null,{"$f":"IF(入力用!O37=2,入力用!T9,IF(入力用!O37=3,入力用!T10,\"\"))","v":""}]
[]
[null,null,null,null,null,null,null,null,null,null,null,null,null,null,null,null,null,null,null,null,null,null,null,null,null,null,null,null,null,null,null,null,null,null,null,null,null,null,null,null,null,{"$f":"IF(入力用!C34=\"\",\"\",入力用!C34)","v":""}]
[null,null,null,null,null,null,null,null,null,null,null,null,null,null,null,null,null,null,null,null,null,null,null,null,null,null,null,null,null,null,null,null,null,null,null,null,null,null,null,null,null,null,null,null,null,null,null,null,null,null,null,null,null,null,null,null,null,null,null,null,null,null,null,null,null,null,null,null,null,null,null,null,null,null,null,null,null,null,null,null,null,null,null,{"$f":"IF(入力用!C38=\"\",\"\",入力用!C38)","v":""}]
[null,null,null,null,null,null,null,null,null,null,null,null,null,null,null,null,null,null,null,null,null,null,null,null,null,null,null,null,null,null,null,null,null,null,null,null,null,null,null,null,null,null,null,null,null,"Ａ"]
[]
[null,"契　　約　　負　　荷　　設　　備　　内　　訳",null,null,"臨　　時　　電　　灯　　Ａ",null,null,"機　器　種　別",null,null,null,null,null,null,null,null,null,null,null,null,null,null,null,null,null,null,null,null,"出　力",null,null,null,null,null,null,null,null,null,null,null,"力　　率",null,null,null,null,null,null,null,null,null,null,null,"入　力（ａ）",null,null,null,null,null,null,null,null,null,null,null,"台数（ｂ）",null,null,null,null,null,null,"合計(ａ×ｂ)"]
[null,null,null,null,null,null,null,null,null,null,null,null,null,null,null,null,null,null,null,null,null,null,null,null,null,null,null,null,null,null,null,null,null,null,null,null,null,null,null,null,null,null,null,null,null,null,null,null,null,null,null,null,null,null,null,null,null,null,null,null,null,null,null,null,null,null,null,null,null,null,null,null,null,null,null,null,null,null,null,null,null,null,null,null,null,null,null,null,null,null,null,null,null,null,null,null,null,null,null,null,null,"受付"]
[null,null,null,null,null,null,null,{"$f":"IF(入力用!C39=\"\",\"\",入力用!C39)","v":""},null,null,null,null,null,null,null,null,null,null,null,null,null,null,null,null,null,null,null,null,{"$f":"IF(入力用!C40=\"\",\"\",入力用!C40)","v":""},null,null,null,null,null,null,null,null,"Ｗ",null,null,{"$f":"IF(入力用!O41=2,入力用!U5,IF(入力用!O41=3,入力用!U6,\"\"))","v":""},null,null,null,null,null,null,null,null,null,null,null,{"$f":"IF(入力用!C42=\"\",\"\",入力用!C42)","v":""},null,null,null,null,null,null,null,null,"ＶＡ",null,null,{"$f":"IF(入力用!C43=\"\",\"\",入力用!C43)","v":""},null,null,null,"台",null,null,{"$f":"IF(入力用!P43=0,\"\",入力用!P43)","v":""},null,null,null,null,null,null,"VA"]
[]
[]
[null,null,null,null,null,null,null,{"$f":"IF(入力用!C44=\"\",\"\",入力用!C44)","v":""},null,null,null,null,null,null,null,null,null,null,null,null,null,null,null,null,null,null,null,null,{"$f":"IF(入力用!C45=\"\",\"\",入力用!C45)","v":""},null,null,null,null,null,null,null,null,"Ｗ",null,null,{"$f":"IF(入力用!O46=2,入力用!U5,IF(入力用!O46=3,入力用!U6,\"\"))","v":""},null,null,null,null,null,null,null,null,null,null,null,{"$f":"IF(入力用!C47=\"\",\"\",入力用!C47)","v":""},null,null,null,null,null,null,null,null,"ＶＡ",null,null,{"$f":"IF(入力用!C48=\"\",\"\",入力用!C48)","v":""},null,null,null,"台",null,null,{"$f":"IF(入力用!P48=0,\"\",入力用!P48)","v":""},null,null,null,null,null,null,"VA"]
[]
[]
[null,null,null,null,null,null,null,{"$f":"IF(入力用!C49=\"\",\"\",入力用!C49)","v":""},null,null,null,null,null,null,null,null,null,null,null,null,null,null,null,null,null,null,null,null,{"$f":"IF(入力用!C50=\"\",\"\",入力用!C50)","v":""},null,null,null,null,null,null,null,null,"Ｗ",null,null,{"$f":"IF(入力用!O51=2,入力用!U5,IF(入力用!O51=3,入力用!U6,\"\"))","v":""},null,null,null,null,null,null,null,null,null,null,null,{"$f":"IF(入力用!C52=\"\",\"\",入力用!C52)","v":""},null,null,null,null,null,null,null,null,"ＶＡ",null,null,{"$f":"IF(入力用!C53=\"\",\"\",入力用!C53)","v":""},null,null,null,"台",null,null,{"$f":"IF(入力用!P53=0,\"\",入力用!P53)","v":""},null,null,null,null,null,null,"VA"]
[]
[]
[null,null,null,null,null,null,null,{"$f":"IF(入力用!C54=\"\",\"\",入力用!C54)","v":""},null,null,null,null,null,null,null,null,null,null,null,null,null,null,null,null,null,null,null,null,{"$f":"IF(入力用!C55=\"\",\"\",入力用!C55)","v":""},null,null,null,null,null,null,null,null,"Ｗ",null,null,{"$f":"IF(入力用!O56=2,入力用!U5,IF(入力用!O56=3,入力用!U6,\"\"))","v":""},null,null,null,null,null,null,null,null,null,null,null,{"$f":"IF(入力用!C57=\"\",\"\",入力用!C57)","v":""},null,null,null,null,null,null,null,null,"ＶＡ",null,null,{"$f":"IF(入力用!C58=\"\",\"\",入力用!C58)","v":""},null,null,null,"台",null,null,{"$f":"IF(入力用!P58=0,\"\",入力用!P58)","v":""},null,null,null,null,null,null,"VA"]
[]
[]
[null,null,null,null,null,null,null,{"$f":"IF(入力用!C59=\"\",\"\",入力用!C59)","v":""},null,null,null,null,null,null,null,null,null,null,null,null,null,null,null,null,null,null,null,null,{"$f":"IF(入力用!C60=\"\",\"\",入力用!C60)","v":""},null,null,null,null,null,null,null,null,"Ｗ",null,null,{"$f":"IF(入力用!O61=2,入力用!U5,IF(入力用!O61=3,入力用!U6,\"\"))","v":""},null,null,null,null,null,null,null,null,null,null,null,{"$f":"IF(入力用!C62=\"\",\"\",入力用!C62)","v":""},null,null,null,null,null,null,null,null,"ＶＡ",null,null,{"$f":"IF(入力用!C63=\"\",\"\",入力用!C63)","v":""},null,null,null,"台",null,null,{"$f":"IF(入力用!P63=0,\"\",入力用!P63)","v":""},null,null,null,null,null,null,"VA",null,null,"臨時引込線工事の内容"]
[]
[null,null,null,null,null,null,null,null,null,null,null,null,null,null,null,null,null,null,null,null,null,null,null,null,null,null,null,null,null,null,null,null,null,null,null,null,null,null,null,null,null,null,null,null,null,null,null,null,null,null,null,null,null,null,null,null,null,null,null,null,null,null,null,null,null,null,null,null,null,null,null,null,null,null,null,null,null,null,null,null,null,"引込\n方法",null,null,null,"単独・連接・ﾒｯｾﾝｼﾞｬｰ"]
[null,null,null,null,null,null,null,{"$f":"IF(入力用!C64=\"\",\"\",入力用!C64)","v":""},null,null,null,null,null,null,null,null,null,null,null,null,null,null,null,null,null,null,null,null,{"$f":"IF(入力用!C65=\"\",\"\",入力用!C65)","v":""},null,null,null,null,null,null,null,null,"Ｗ",null,null,{"$f":"IF(入力用!O66=2,入力用!U5,IF(入力用!O66=3,入力用!U6,\"\"))","v":""},null,null,null,null,null,null,null,null,null,null,null,{"$f":"IF(入力用!C67=\"\",\"\",入力用!C67)","v":""},null,null,null,null,null,null,null,null,"ＶＡ",null,null,{"$f":"IF(入力用!C68=\"\",\"\",入力用!C68)","v":""},null,null,null,"台",null,null,{"$f":"IF(入力用!P68=0,\"\",入力用!P68)","v":""},null,null,null,null,null,null,"VA"]
[]
[]
[null,null,null,null,null,null,null,{"$f":"IF(入力用!C69=\"\",\"\",入力用!C69)","v":""},null,null,null,null,null,null,null,null,null,null,null,null,null,null,null,null,null,null,null,null,{"$f":"IF(入力用!C70=\"\",\"\",入力用!C70)","v":""},null,null,null,null,null,null,null,null,"Ｗ",null,null,{"$f":"IF(入力用!O71=2,入力用!U5,IF(入力用!O71=3,入力用!U6,\"\"))","v":""},null,null,null,null,null,null,null,null,null,null,null,{"$f":"IF(入力用!C72=\"\",\"\",入力用!C72)","v":""},null,null,null,null,null,null,null,null,"ＶＡ",null,null,{"$f":"IF(入力用!C73=\"\",\"\",入力用!C73)","v":""},null,null,null,"台",null,null,{"$f":"IF(入力用!P73=0,\"\",入力用!P73)","v":""},null,null,null,null,null,null,"VA",null,null,"電気\n方式",null,null,null,"２線式　　３線式"]
[]
[]
[null,null,null,null,null,null,null,{"$f":"IF(入力用!C74=\"\",\"\",入力用!C74)","v":""},null,null,null,null,null,null,null,null,null,null,null,null,null,null,null,null,null,null,null,null,{"$f":"IF(入力用!C75=\"\",\"\",入力用!C75)","v":""},null,null,null,null,null,null,null,null,"Ｗ",null,null,{"$f":"IF(入力用!O76=2,入力用!U5,IF(入力用!O76=3,入力用!U6,\"\"))","v":""},null,null,null,null,null,null,null,null,null,null,null,{"$f":"IF(入力用!C77=\"\",\"\",入力用!C77)","v":""},null,null,null,null,null,null,null,null,"ＶＡ",null,null,{"$f":"IF(入力用!C78=\"\",\"\",入力用!C78)","v":""},null,null,null,"台",null,null,{"$f":"IF(入力用!P78=0,\"\",入力用!P78)","v":""},null,null,null,null,null,null,"VA"]
[null,null,null,null,null,null,null,null,null,null,null,null,null,null,null,null,null,null,null,null,null,null,null,null,null,null,null,null,null,null,null,null,null,null,null,null,null,null,null,null,null,null,null,null,null,null,null,null,null,null,null,null,null,null,null,null,null,null,null,null,null,null,null,null,null,null,null,null,null,null,null,null,null,null,null,null,null,null,null,null,null,"太さ",null,null,null,"2.6　 3.2　 14　 22\n38　60　その他(　 )"]
[]
[null,null,null,null,null,null,null,{"$f":"IF(入力用!C79=\"\",\"\",入力用!C79)","v":""},null,null,null,null,null,null,null,null,null,null,null,null,null,null,null,null,null,null,null,null,{"$f":"IF(入力用!C80=\"\",\"\",入力用!C80)","v":""},null,null,null,null,null,null,null,null,"Ｗ",null,null,{"$f":"IF(入力用!O81=2,入力用!U5,IF(入力用!O81=3,入力用!U6,\"\"))","v":""},null,null,null,null,null,null,null,null,null,null,null,{"$f":"IF(入力用!C82=\"\",\"\",入力用!C82)","v":""},null,null,null,null,null,null,null,null,"ＶＡ",null,null,{"$f":"IF(入力用!C83=\"\",\"\",入力用!C83)","v":""},null,null,null,"台",null,null,{"$f":"IF(入力用!P83=0,\"\",入力用!P83)","v":""},null,null,null,null,null,null,"VA"]
[]
[null,null,null,null,null,null,null,null,null,null,null,null,null,null,null,null,null,null,null,null,null,null,null,null,null,null,null,null,null,null,null,null,null,null,null,null,null,null,null,null,null,null,null,null,null,null,null,null,null,null,null,null,null,null,null,null,null,null,null,null,null,null,null,null,null,null,null,null,null,null,null,null,null,null,null,null,null,null,null,null,null,"工事\n月日",null,null,null,null,null,null,"年",null,null,null,null,"月",null,null,null,null,"日"]
[null,null,null,null,null,null,null,{"$f":"IF(入力用!C84=\"\",\"\",入力用!C84)","v":""},null,null,null,null,null,null,null,null,null,null,null,null,null,null,null,null,null,null,null,null,{"$f":"IF(入力用!C85=\"\",\"\",入力用!C85)","v":""},null,null,null,null,null,null,null,null,"Ｗ",null,null,{"$f":"IF(入力用!O86=2,入力用!U5,IF(入力用!O86=3,入力用!U6,\"\"))","v":""},null,null,null,null,null,null,null,null,null,null,null,{"$f":"IF(入力用!C87=\"\",\"\",入力用!C87)","v":""},null,null,null,null,null,null,null,null,"ＶＡ",null,null,{"$f":"IF(入力用!C88=\"\",\"\",入力用!C88)","v":""},null,null,null,"台",null,null,{"$f":"IF(入力用!P88=0,\"\",入力用!P88)","v":""},null,null,null,null,null,null,"VA"]
[]
[]
[null,null,null,null,null,null,null,{"$f":"IF(入力用!C89=\"\",\"\",入力用!C89)","v":""},null,null,null,null,null,null,null,null,null,null,null,null,null,null,null,null,null,null,null,null,{"$f":"IF(入力用!C90=\"\",\"\",入力用!C90)","v":""},null,null,null,null,null,null,null,null,"Ｗ",null,null,{"$f":"IF(入力用!O91=2,入力用!U5,IF(入力用!O91=3,入力用!U6,\"\"))","v":""},null,null,null,null,null,null,null,null,null,null,null,{"$f":"IF(入力用!C92=\"\",\"\",入力用!C92)","v":""},null,null,null,null,null,null,null,null,"ＶＡ",null,null,{"$f":"IF(入力用!C93=\"\",\"\",入力用!C93)","v":""},null,null,null,"台",null,null,{"$f":"IF(入力用!P93=0,\"\",入力用!P93)","v":""},null,null,null,null,null,null,"VA"]
[null,null,null,null,null,null,null,null,null,null,null,null,null,null,null,null,null,null,null,null,null,null,null,null,null,null,null,null,null,null,null,null,null,null,null,null,null,null,null,null,null,null,null,null,null,null,null,null,null,null,null,null,null,null,null,null,null,null,null,null,null,null,null,null,null,null,null,null,null,null,null,null,null,null,null,null,null,null,null,null,"契約容量",null,null,null,null,null,null,null,null,{"$f":"IF(入力用!O30=2,IF(入力用!O33=3,入力用!R15,IF(SUM(BT57:BZ92)=0,\"\",SUM(BT57:BZ92))),\"\")","v":""},null,null,null,null,null,null,"ＶＡ"]
[]
[null,null,null,null,null,null,null,{"$f":"IF(入力用!C94=\"\",\"\",入力用!C94)","v":""},null,null,null,null,null,null,null,null,null,null,null,null,null,null,null,null,null,null,null,null,{"$f":"IF(入力用!C95=\"\",\"\",入力用!C95)","v":""},null,null,null,null,null,null,null,null,"Ｗ",null,null,{"$f":"IF(入力用!O96=2,入力用!U5,IF(入力用!O96=3,入力用!U6,\"\"))","v":""},null,null,null,null,null,null,null,null,null,null,null,{"$f":"IF(入力用!C97=\"\",\"\",入力用!C97)","v":""},null,null,null,null,null,null,null,null,"ＶＡ",null,null,{"$f":"IF(入力用!C98=\"\",\"\",入力用!C98)","v":""},null,null,null,"台",null,null,{"$f":"IF(入力用!P98=0,\"\",入力用!P98)","v":""},null,null,null,null,null,null,"VA"]
[]
[]
[null,null,null,null,"臨時\n電灯\nＢ･Ｃ",null,null,"電　　　　　灯",null,null,null,null,null,null,null,null,null,null,null,null,null,null,null,null,null,null,null,"小　型　機　器",null,null,null,null,null,null,null,null,null,null,null,null,null,null,null,null,null,null,null,"回路数",null,null,null,null,null,null,"適用業種別回路数内訳",null,null,null,null,null,null,null,null,null,null,null,null,null,null,null,null,"合 計 容 量"]
[]
[null,null,null,null,null,null,null,{"$f":"IF(入力用!C99=\"\",\"\",入力用!C99)","v":""},null,null,null,null,"灯",null,null,{"$f":"IF(入力用!C100=\"\",\"\",入力用!C100)","v":""},null,null,null,null,null,null,null,null,"ＶＡ",null,null,{"$f":"IF(入力用!C101=\"\",\"\",入力用!C101)","v":""},null,null,null,null,"個",null,null,{"$f":"IF(入力用!C102=\"\",\"\",入力用!C102)","v":""},null,null,null,null,null,null,null,null,"ＶＡ",null,null,{"$f":"IF(入力用!C103=\"\",\"\",入力用!C103)","v":""},null,null,null,null,null,null,{"$f":"入力用!P105","v":""},null,null,null,null,null,null,null,null,null,{"$f":"IF(入力用!E105=\"\",\"\",入力用!E105)","v":""},null,null,"回路",null,null,null,{"$f":"IF(OR(入力用!O33<4,入力用!R15=0),\"\",入力用!R15)","v":""}]
[null,null,null,null,null,null,null,null,null,null,null,null,null,null,null,null,null,null,null,null,null,null,null,null,null,null,null,null,null,null,null,null,null,null,null,null,null,null,null,null,null,null,null,null,null,null,null,null,null,null,null,null,null,null,null,null,null,null,null,null,null,null,null,null,null,null,null,null,null,null,null,null,null,null,null,null,null,null,null,null,{"$f":"IF(入力用!O30=4,\"契約電流\",IF(入力用!O30=5,\"契約容量\",\"契約電流\n契約容量\"))","v":"契約電流\n契約容量"},null,null,null,null,null,null,null,null,{"$f":"IF(入力用!O30>3,IF(入力用!R14=0,\"\",入力用!R14),\"\")","v":""},null,null,null,null,null,null,{"$f":"IF(入力用!O30=4,\"Ａ\",IF(入力用!O30=5,\"ＶＡ\",\"Ａ\nｋＶＡ\"))","v":"Ａ\nｋＶＡ"}]
[null,null,null,null,null,null,null,null,null,null,null,null,null,null,null,null,null,null,null,null,null,null,null,null,null,null,null,null,null,null,null,null,null,null,null,null,null,null,null,null,null,null,null,null,null,null,null,null,null,null,null,null,null,null,{"$f":"入力用!P107","v":""},null,null,null,null,null,null,null,null,null,{"$f":"IF(入力用!E107=\"\",\"\",入力用!E107)","v":""},null,null,"回路"]
[]
[null,null,null,null,null,null,null,null,null,null,null,null,null,null,null,null,null,null,null,null,null,null,null,null,null,null,null,null,null,null,null,null,null,null,null,null,null,null,null,null,null,null,null,null,null,null,null,null,null,null,null,null,null,null,{"$f":"入力用!P109","v":""},null,null,null,null,null,null,null,null,null,{"$f":"IF(入力用!E109=\"\",\"\",入力用!E109)","v":""},null,null,"回路",null,null,null,null,null,null,null,null,null,"ＶＡ"]
[]
[null,null,null,null,"臨　時　電　力",null,null,"機　器　種　別",null,null,null,null,null,null,null,null,null,null,null,null,null,null,null,null,null,null,null,null,null,null,null,null,null,null,null,null,null,null,null,null,"出　力",null,null,null,null,null,null,null,null,null,null,null,"入　力（ａ）",null,null,null,null,null,null,null,null,null,null,null,"台数（ｂ）",null,null,null,null,null,null,"合計(ａ×ｂ)"]
[]
[null,null,null,null,null,null,null,{"$f":"IF(入力用!C110=\"\",\"\",入力用!C110)","v":""},null,null,null,null,null,null,null,null,null,null,null,null,null,null,null,null,null,null,null,null,null,null,null,null,null,null,null,null,null,null,null,null,{"$f":"IF(入力用!C111=\"\",\"\",入力用!C111)","v":""},null,null,null,null,null,null,null,null,{"$f":"IF(入力用!O111=2,入力用!W5,IF(入力用!O111=3,入力用!W6,\"㏋\nkW\"))","v":"㏋\nkW"},null,null,{"$f":"IF(入力用!C112=\"\",\"\",入力用!C112)","v":""},null,null,null,null,null,null,null,null,"ｋＷ",null,null,{"$f":"IF(入力用!C113=\"\",\"\",入力用!C113)","v":""},null,null,null,"台",null,null,{"$f":"入力用!P113","v":""},null,null,null,null,null,null,"kW"]
[]
[]
[null,null,null,null,null,null,null,{"$f":"IF(入力用!C114=\"\",\"\",入力用!C114)","v":""},null,null,null,null,null,null,null,null,null,null,null,null,null,null,null,null,null,null,null,null,null,null,null,null,null,null,null,null,null,null,null,null,{"$f":"IF(入力用!C115=\"\",\"\",入力用!C115)","v":""},null,null,null,null,null,null,null,null,{"$f":"IF(入力用!O115=2,入力用!W5,IF(入力用!O115=3,入力用!W6,\"㏋\nkW\"))","v":"㏋\nkW"},null,null,{"$f":"IF(入力用!C116=\"\",\"\",入力用!C116)","v":""},null,null,null,null,null,null,null,null,"ｋＷ",null,null,{"$f":"IF(入力用!C117=\"\",\"\",入力用!C117)","v":""},null,null,null,"台",null,null,{"$f":"入力用!P117","v":""},null,null,null,null,null,null,"kW"]
[]
[]
[null,null,null,null,null,null,null,{"$f":"IF(入力用!C118=\"\",\"\",入力用!C118)","v":""},null,null,null,null,null,null,null,null,null,null,null,null,null,null,null,null,null,null,null,null,null,null,null,null,null,null,null,null,null,null,null,null,{"$f":"IF(入力用!C119=\"\",\"\",入力用!C119)","v":""},null,null,null,null,null,null,null,null,{"$f":"IF(入力用!O119=2,入力用!W5,IF(入力用!O119=3,入力用!W6,\"㏋\nkW\"))","v":"㏋\nkW"},null,null,{"$f":"IF(入力用!C120=\"\",\"\",入力用!C120)","v":""},null,null,null,null,null,null,null,null,"ｋＷ",null,null,{"$f":"IF(入力用!C121=\"\",\"\",入力用!C121)","v":""},null,null,null,"台",null,null,{"$f":"入力用!P121","v":""},null,null,null,null,null,null,"kW"]
[]
[]
[null,null,null,null,null,null,null,{"$f":"IF(入力用!C122=\"\",\"\",入力用!C122)","v":""},null,null,null,null,null,null,null,null,null,null,null,null,null,null,null,null,null,null,null,null,null,null,null,null,null,null,null,null,null,null,null,null,{"$f":"IF(入力用!C123=\"\",\"\",入力用!C123)","v":""},null,null,null,null,null,null,null,null,{"$f":"IF(入力用!O123=2,入力用!W5,IF(入力用!O123=3,入力用!W6,\"㏋\nkW\"))","v":"㏋\nkW"},null,null,{"$f":"IF(入力用!C124=\"\",\"\",入力用!C124)","v":""},null,null,null,null,null,null,null,null,"ｋＷ",null,null,{"$f":"IF(入力用!C125=\"\",\"\",入力用!C125)","v":""},null,null,null,"台",null,null,{"$f":"入力用!P125","v":""},null,null,null,null,null,null,"kW"]
[]
[]
[null,null,null,null,null,null,null,{"$f":"IF(入力用!C126=\"\",\"\",入力用!C126)","v":""},null,null,null,null,null,null,null,null,null,null,null,null,null,null,null,null,null,null,null,null,null,null,null,null,null,null,null,null,null,null,null,null,{"$f":"IF(入力用!C127=\"\",\"\",入力用!C127)","v":""},null,null,null,null,null,null,null,null,{"$f":"IF(入力用!O127=2,入力用!W5,IF(入力用!O127=3,入力用!W6,\"㏋\nkW\"))","v":"㏋\nkW"},null,null,{"$f":"IF(入力用!C128=\"\",\"\",入力用!C128)","v":""},null,null,null,null,null,null,null,null,"ｋＷ",null,null,{"$f":"IF(入力用!C129=\"\",\"\",入力用!C129)","v":""},null,null,null,"台",null,null,{"$f":"入力用!P129","v":""},null,null,null,null,null,null,"kW"]
[]
[]
[null,null,null,null,null,null,null,{"$f":"IF(入力用!C130=\"\",\"\",入力用!C130)","v":""},null,null,null,null,null,null,null,null,null,null,null,null,null,null,null,null,null,null,null,null,null,null,null,null,null,null,null,null,null,null,null,null,{"$f":"IF(入力用!C131=\"\",\"\",入力用!C131)","v":""},null,null,null,null,null,null,null,null,{"$f":"IF(入力用!O131=2,入力用!W5,IF(入力用!O131=3,入力用!W6,\"㏋\nkW\"))","v":"㏋\nkW"},null,null,{"$f":"IF(入力用!C132=\"\",\"\",入力用!C132)","v":""},null,null,null,null,null,null,null,null,"ｋＷ",null,null,{"$f":"IF(入力用!C133=\"\",\"\",入力用!C133)","v":""},null,null,null,"台",null,null,{"$f":"入力用!P133","v":""},null,null,null,null,null,null,"kW"]
[null,null,null,null,null,null,null,null,null,null,null,null,null,null,null,null,null,null,null,null,null,null,null,null,null,null,null,null,null,null,null,null,null,null,null,null,null,null,null,null,null,null,null,null,null,null,null,null,null,null,null,null,null,null,null,null,null,null,null,null,null,null,null,null,null,null,null,null,null,null,null,null,null,null,null,null,null,null,null,null,"契約電力",null,null,null,null,null,null,null,null,{"$f":"IF(入力用!O30=3,IF(入力用!R31=0,\"\",入力用!R31),\"\")","v":""},null,null,null,null,null,null,"ｋＷ"]
[]
[null,null,null,null,null,null,null,{"$f":"IF(入力用!C134=\"\",\"\",入力用!C134)","v":""},null,null,null,null,null,null,null,null,null,null,null,null,null,null,null,null,null,null,null,null,null,null,null,null,null,null,null,null,null,null,null,null,{"$f":"IF(入力用!C135=\"\",\"\",入力用!C135)","v":""},null,null,null,null,null,null,null,null,{"$f":"IF(入力用!O135=2,入力用!W5,IF(入力用!O135=3,入力用!W6,\"㏋\nkW\"))","v":"㏋\nkW"},null,null,{"$f":"IF(入力用!C136=\"\",\"\",入力用!C136)","v":""},null,null,null,null,null,null,null,null,"ｋＷ",null,null,{"$f":"IF(入力用!C135=\"\",\"\",入力用!C135)","v":""},null,null,null,"台",null,null,{"$f":"入力用!P137","v":""},null,null,null,null,null,null,"kW"]
[]
[]
[null,"異動\n種別",null,null,"・ 新設\n・ 増加\n・ 減少\n・ その他\n(　　　 )",null,null,null,null,null,null,"供給地点特定番号",null,null,null,null,null,null,null,"発行\n回数",null,null,"支店",null,"ﾌﾞﾛｯｸ",null,null,"住所",null,null,null,null,"街区",null,null,"契約№",null,null,null,null,"枝番",null,null,"種別"]
[]
[]
[]
[null,null,null,null,null,null,null,null,null,null,null,null,null,null,"010",null,null,null,null,null,null,null,null,null,null,null,null,null,null,null,null,null,null,null,null,null,null,null,null,null,null,null,null,null,null,null,"00"]
[]
[]
[]
[]
[null,"　※　太枠内をご記入願います。"]
[]
[null,"　※　ご契約者さまが法人の場合は，代表者肩書および代表者名をあわせてご記入願います。"]
[]
[null,"　※　ご提供いただいた個人情報は，電気事業の範囲内で利用いたします。"]
[]
[]
[null,null,null,"拝啓　平素は弊社事業に格別のお引き立てを賜り，厚くお礼申し上げます。５６７８９０"]
[]
[]
[null,null,null,"　さて，御社よりお申込みをいただきました上記お客さまの電気のご使用につきまして，"]
[]
[]
[null,null,null,"本内容にて受付させていただきましたことをお知らせいたします。１２３４５６７８９０"]
[]
[]
[null,null,null,"１２３４５６７８９０１２３４５６７８９０１２３４５６７８９０１２３４５６７敬具０"]
[]
[]
[]
[null,"＜連絡事項＞"]
[]
[]
[]
[]
[]
[]
[]
[]
[]
["北　海　道　電　力　ネ　ッ　ト　ワ　ー　ク　株　式　会　社"]

{"sheet":"２枚目","index":2,"n_rows":163,"n_cols":111,"rows_kept":163,"cut":false,"hidden":false,"merged":[[16,38,17,38],[16,39,17,39],[16,40,17,40],[16,41,17,41],[16,42,17,42],[16,43,17,43],[16,44,17,44],[16,45,17,45],[51,83,53,98],[52,45,53,46],[16,46,17,46],[16,47,17,47],[16,48,17,48],[16,49,17,49],[16,50,17,50],[16,51,17,51],[16,52,17,52],[16,53,17,53],[16,54,17,54],[22,40,23,47],[30,55,32,55],[30,47,32,54],[21,69,22,74],[30,56,32,63],[16,19,17,19],[16,20,17,20],[16,21,17,21],[16,22,17,22],[16,23,17,23],[16,24,17,24],[16,25,17,25],[16,26,17,26],[16,27,17,27],[164,0,165,110],[123,54,128,57],[83,7,85,27],[83,37,85,39],[120,49,122,51],[120,68,122,70],[120,40,122,48],[120,64,122,67],[120,52,122,60],[120,61,122,63],[82,95,85,97],[118,89,122,95],[118,96,122,99],[120,7,122,39],[117,40,119,48],[80,7,82,27],[80,28,82,36],[80,37,82,39],[87,89,91,95],[87,96,91,99],[83,61,85,63],[117,7,119,39],[111,7,113,39],[108,49,110,51],[108,52,110,60],[89,7,91,27],[89,37,91,39],[89,40,91,51],[108,64,110,67],[105,7,107,39],[114,61,116,63],[117,49,119,51],[111,52,113,60],[114,52,116,60],[117,52,119,60],[111,61,113,63],[111,49,113,51],[108,61,110,63],[114,64,116,67],[117,64,119,67],[114,49,116,51],[117,61,119,63],[105,52,107,60],[105,61,107,63],[105,49,107,51],[82,90,85,92],[83,78,85,79],[87,80,91,88],[92,7,93,26],[92,27,93,46],[100,71,101,79],[89,78,91,79],[86,7,88,27],[86,28,88,36],[86,37,88,39],[86,40,88,51],[96,54,97,63],[96,67,97,70],[89,68,91,70],[100,64,101,70],[94,67,95,70],[96,64,97,66],[92,54,93,70],[89,64,91,67],[94,7,99,11],[86,68,88,70],[54,28,55,39],[62,28,64,36],[95,89,99,95],[95,96,99,99],[77,71,79,77],[77,78,79,79],[80,78,82,79],[83,71,85,77],[78,81,81,84],[70,85,73,99],[74,81,77,84],[74,85,77,99],[80,71,82,77],[71,78,73,79],[71,71,73,77],[78,85,81,99],[82,81,85,84],[82,85,85,87],[82,98,85,99],[82,93,85,94],[86,71,88,77],[86,78,88,79],[95,80,99,88],[89,71,91,77],[37,27,39,46],[33,47,39,51],[59,71,61,77],[62,71,64,77],[74,71,76,77],[70,81,73,84],[68,81,69,99],[40,79,47,83],[40,61,47,78],[40,84,47,98],[68,28,70,36],[68,78,70,79],[74,68,76,70],[65,78,67,79],[65,71,67,77],[48,26,53,34],[56,61,58,63],[54,52,55,63],[68,61,70,63],[59,64,61,67],[62,52,64,60],[65,52,67,60],[56,28,58,36],[56,37,58,39],[48,83,50,98],[50,41,53,44],[82,88,85,89],[83,40,85,51],[35,28,36,28],[35,29,36,29],[35,30,36,30],[35,31,36,31],[35,32,36,32],[35,33,36,33],[35,34,36,34],[35,35,36,35],[35,36,36,36],[35,37,36,37],[35,38,36,38],[35,39,36,39],[35,40,36,40],[35,41,36,41],[56,52,58,60],[38,63,39,67],[59,78,61,79],[56,64,58,67],[56,78,58,79],[56,40,58,51],[16,37,17,37],[54,71,55,79],[31,69,32,74],[31,75,32,88],[31,89,32,92],[54,64,55,70],[38,104,39,104],[33,36,34,36],[33,37,34,37],[33,38,34,38],[33,39,34,39],[33,40,34,40],[33,41,34,41],[33,42,34,42],[33,43,34,43],[33,44,34,44],[33,45,34,45],[27,64,32,68],[31,93,32,97],[27,69,30,74],[38,86,39,88],[33,86,34,110],[38,110,39,110],[38,69,39,73],[16,28,17,28],[16,29,17,29],[16,30,17,30],[16,31,17,31],[16,32,17,32],[16,33,17,33],[16,34,17,34],[16,35,17,35],[16,36,17,36],[24,22,26,23],[24,24,26,63],[30,29,32,35],[30,22,32,27],[31,104,32,104],[25,93,26,97],[30,36,32,38],[25,98,26,98],[27,75,30,110],[25,104,26,104],[31,98,32,98],[31,99,32,103],[31,110,32,110],[16,64,26,68],[22,48,23,63],[16,75,18,110],[25,105,26,109],[19,103,20,103],[19,69,20,74],[33,46,34,46],[16,59,17,63],[33,54,34,56],[33,57,34,57],[16,55,17,55],[16,56,17,56],[16,57,17,57],[16,58,17,58],[33,58,34,61],[44,1,47,6],[44,7,47,11],[44,19,47,21],[44,12,47,14],[30,46,32,46],[33,22,39,26],[30,21,32,21],[30,15,32,20],[44,15,47,18],[35,27,36,27],[35,42,36,42],[35,43,36,43],[35,44,36,44],[35,45,36,45],[35,46,36,46],[30,7,32,11],[30,12,32,14],[40,1,43,21],[33,12,39,21],[30,39,32,45],[33,27,34,27],[33,28,34,28],[33,29,34,29],[33,30,34,30],[162,0,163,110],[48,1,53,6],[48,21,53,25],[55,101,62,102],[55,103,62,110],[94,15,99,23],[94,32,99,34],[152,1,154,16],[54,1,122,3],[92,4,99,6],[118,80,122,88],[62,78,64,79],[134,1,135,97],[54,4,91,6],[100,40,101,51],[59,52,61,60],[68,52,70,60],[102,61,104,63],[92,47,93,53],[83,68,85,70],[77,37,79,39],[77,40,79,51],[74,7,76,27],[74,28,76,36],[86,52,88,60],[102,40,104,48],[94,35,99,43],[94,44,99,46],[94,24,99,26],[80,52,82,60],[22,12,23,20],[33,62,34,63],[30,28,32,28],[38,59,39,62],[74,37,76,39],[74,40,76,51],[77,7,79,27],[71,37,73,39],[65,40,67,51],[68,40,70,51],[71,40,73,51],[65,7,67,27],[65,28,67,36],[33,31,34,31],[33,32,34,32],[33,33,34,33],[33,34,34,34],[33,35,34,35],[80,64,82,67],[94,64,95,66],[86,64,88,67],[98,54,99,63],[6,0,9,110],[13,64,15,68],[13,69,15,84],[13,85,15,89],[13,90,15,110],[14,1,15,38],[10,1,11,25],[12,1,13,38],[24,12,26,13],[24,14,26,16],[18,12,21,63],[16,69,18,74],[24,17,26,17],[19,104,20,108],[25,69,26,88],[25,89,26,92],[24,18,26,21],[16,1,39,6],[16,12,17,18],[27,12,29,63],[16,7,23,11],[33,7,39,11],[22,21,23,39],[68,71,70,77],[23,69,24,110],[25,110,26,110],[24,7,29,11],[19,90,20,99],[19,100,20,102],[25,99,26,103],[21,75,22,110],[38,93,39,97],[19,109,20,110],[38,74,39,74],[38,75,39,79],[38,80,39,80],[35,86,37,110],[38,89,39,92],[38,98,39,98],[38,99,39,103],[59,40,61,51],[33,81,39,85],[33,64,34,80],[33,52,34,53],[108,40,110,48],[111,40,113,48],[114,40,116,48],[105,40,107,48],[114,7,116,39],[108,7,110,39],[71,7,73,27],[71,28,73,36],[94,47,99,53],[89,52,91,60],[100,52,101,63],[102,52,104,60],[77,28,79,36],[94,54,95,63],[102,49,104,51],[89,61,91,63],[86,61,88,63],[80,40,82,51],[83,28,85,36],[80,61,82,63],[89,28,91,36],[94,12,99,14],[94,27,99,31],[83,52,85,60],[74,61,76,63],[74,64,76,67],[148,3,150,109],[139,3,141,109],[142,3,144,109],[145,3,147,109],[132,1,133,97],[129,54,130,57],[123,4,130,10],[123,1,130,3],[136,1,137,97],[127,22,130,23],[127,24,130,26],[127,27,130,31],[127,32,130,34],[127,35,130,39],[127,40,130,42],[127,43,130,45],[127,46,130,48],[129,58,130,61],[129,62,130,65],[100,4,122,6],[100,7,101,39],[102,7,104,39],[44,22,47,25],[44,26,47,28],[68,64,70,67],[65,61,67,63],[65,64,67,67],[59,7,61,27],[59,28,61,36],[59,37,61,39],[68,7,70,27],[68,37,70,39],[54,40,55,51],[62,37,64,39],[56,7,58,27],[48,7,53,20],[54,7,55,27],[62,7,64,27],[62,64,64,67],[62,40,64,51],[59,61,61,63],[62,61,64,63],[65,37,67,39],[40,56,47,60],[44,49,47,52],[44,53,47,55],[105,64,107,67],[111,64,113,67],[111,68,113,70],[108,68,110,70],[102,68,104,70],[105,68,107,70],[59,68,61,70],[44,29,47,33],[44,34,47,38],[44,39,47,41],[44,42,47,45],[44,46,47,48],[56,68,58,70],[74,52,76,60],[65,68,67,70],[68,68,70,70],[71,52,73,60],[62,68,64,70],[77,61,79,63],[77,64,79,67],[77,52,79,60],[71,68,73,70],[71,64,73,67],[71,61,73,63],[123,43,126,45],[123,46,126,48],[123,49,130,53],[123,58,128,61],[123,62,128,65],[127,14,130,18],[127,19,130,21],[74,78,76,79],[92,71,93,79],[98,77,99,79],[98,64,99,66],[98,67,99,70],[102,71,104,77],[105,71,107,77],[111,71,113,77],[102,78,104,79],[102,64,104,67],[94,71,99,76],[105,78,107,79],[108,71,110,77],[111,78,113,79],[108,78,110,79],[83,64,85,67],[80,68,82,70],[123,11,130,13],[123,14,126,18],[123,19,126,21],[123,22,126,23],[123,24,126,26],[123,27,126,31],[123,32,126,34],[123,35,126,39],[123,40,126,42],[1,93,5,109],[120,78,122,79],[114,71,116,77],[114,78,116,79],[117,71,119,77],[117,78,119,79],[120,71,122,77],[114,68,116,70],[117,68,119,70],[77,68,79,70],[19,75,20,89],[31,105,32,109],[38,105,39,109],[56,71,58,77],[38,68,39,68],[35,52,37,80],[38,52,39,58],[40,22,43,55],[48,35,53,40],[48,47,53,54],[48,55,53,64],[48,65,53,73],[48,74,53,77],[48,78,53,82]]}
[]
[null,null,null,null,null,null,null,null,null,null,null,null,null,null,null,null,null,null,null,null,null,null,null,null,null,null,null,null,null,null,null,null,null,null,null,null,null,null,null,null,null,null,null,null,null,null,null,null,null,null,null,null,null,null,null,null,null,null,null,null,null,null,null,null,null,null,null,null,null,null,null,null,null,null,null,null,null,null,null,null,null,null,null,null,null,null,null,null,null,null,null,null,null,"離島等供給用"]
[]
[]
[]
[]
["（臨時定額・未計器扱）電気使用申込書（お客さま控）"]
[]
[]
[]
[null,"北海道電力ネットワーク株式会社　御中"]
[]
[]
[null,null,null,null,null,null,null,null,null,null,null,null,null,null,null,null,null,null,null,null,null,null,null,null,null,null,null,null,null,null,null,null,null,null,null,null,null,null,null,null,null,null,null,null,null,null,null,null,null,null,null,null,null,null,null,null,null,null,null,null,null,null,null,null,"受付扱所名",null,null,null,null,null,null,null,null,null,null,null,null,null,null,null,null,null,null,null,null,"受付№"]
[null,"電気の使用について貴社離島等供給約款[低圧用]に承認のうえ申し込みます。"]
[]
[null,"お 客 さ ま",null,null,null,null,null,"ご契約名義",null,null,null,null,"（フリガナ）",null,null,null,null,null,null,{"$f":"DBCS(MID(ASC(入力用!C3),1,1))","v":""},{"$f":"DBCS(MID(ASC(入力用!C3),2,1))","v":""},{"$f":"DBCS(MID(ASC(入力用!C3),3,1))","v":""},{"$f":"DBCS(MID(ASC(入力用!C3),4,1))","v":""},{"$f":"DBCS(MID(ASC(入力用!C3),5,1))","v":""},{"$f":"DBCS(MID(ASC(入力用!C3),6,1))","v":""},{"$f":"DBCS(MID(ASC(入力用!C3),7,1))","v":""},{"$f":"DBCS(MID(ASC(入力用!C3),8,1))","v":""},{"$f":"DBCS(MID(ASC(入力用!C3),9,1))","v":""},{"$f":"DBCS(MID(ASC(入力用!C3),10,1))","v":""},{"$f":"DBCS(MID(ASC(入力用!C3),11,1))","v":""},{"$f":"DBCS(MID(ASC(入力用!C3),12,1))","v":""},{"$f":"DBCS(MID(ASC(入力用!C3),13,1))","v":""},{"$f":"DBCS(MID(ASC(入力用!C3),14,1))","v":""},{"$f":"DBCS(MID(ASC(入力用!C3),15,1))","v":""},{"$f":"DBCS(MID(ASC(入力用!C3),16,1))","v":""},{"$f":"DBCS(MID(ASC(入力用!C3),17,1))","v":""},{"$f":"DBCS(MID(ASC(入力用!C3),18,1))","v":""},{"$f":"DBCS(MID(ASC(入力用!C3),19,1))","v":""},{"$f":"DBCS(MID(ASC(入力用!C3),20,1))","v":""},{"$f":"DBCS(MID(ASC(入力用!C3),21,1))","v":""},{"$f":"DBCS(MID(ASC(入力用!C3),22,1))","v":""},{"$f":"DBCS(MID(ASC(入力用!C3),23,1))","v":""},{"$f":"DBCS(MID(ASC(入力用!C3),24,1))","v":""},{"$f":"DBCS(MID(ASC(入力用!C3),25,1))","v":""},{"$f":"DBCS(MID(ASC(入力用!C3),26,1))","v":""},{"$f":"DBCS(MID(ASC(入力用!C3),27,1))","v":""},{"$f":"DBCS(MID(ASC(入力用!C3),28,1))","v":""},{"$f":"DBCS(MID(ASC(入力用!C3),29,1))","v":""},{"$f":"DBCS(MID(ASC(入力用!C3),30,1))","v":""},{"$f":"DBCS(MID(ASC(入力用!C3),31,1))","v":""},{"$f":"DBCS(MID(ASC(入力用!C3),32,1))","v":""},{"$f":"DBCS(MID(ASC(入力用!C3),33,1))","v":""},{"$f":"DBCS(MID(ASC(入力用!C3),34,1))","v":""},{"$f":"DBCS(MID(ASC(入力用!C3),35,1))","v":""},{"$f":"DBCS(MID(ASC(入力用!C3),36,1))","v":""},{"$f":"DBCS(MID(ASC(入力用!C3),37,1))","v":""},{"$f":"DBCS(MID(ASC(入力用!C3),38,1))","v":""},{"$f":"DBCS(MID(ASC(入力用!C3),39,1))","v":""},{"$f":"DBCS(MID(ASC(入力用!C3),40,1))","v":""},null,null,null,null,null,"電気工事会社",null,null,null,null," 会社名",null,null,null,null,null,{"$f":"IF(入力用!C11=\"\",\"\",入力用!C11)","v":""}]
[]
[null,null,null,null,null,null,null,null,null,null,null,null,{"$f":"IF(入力用!C4=\"\",\"\",入力用!C4)","v":""}]
[null,null,null,null,null,null,null,null,null,null,null,null,null,null,null,null,null,null,null,null,null,null,null,null,null,null,null,null,null,null,null,null,null,null,null,null,null,null,null,null,null,null,null,null,null,null,null,null,null,null,null,null,null,null,null,null,null,null,null,null,null,null,null,null,null,null,null,null,null,"(担当者)",null,null,null,null,null,{"$f":"IF(入力用!C12=\"\",\"\",入力用!C12)","v":""},null,null,null,null,null,null,null,null,null,null,null,null,null,null,"工事会社№（",null,null,null,null,null,null,null,null,null,{"$f":"IF(入力用!C13=\"\",\"\",入力用!C13)","v":""},null,null,"-",{"$f":"IF(入力用!E13=\"\",\"\",入力用!E13)","v":""},null,null,null,null,")"]
[]
[null,null,null,null,null,null,null,null,null,null,null,null,null,null,null,null,null,null,null,null,null,null,null,null,null,null,null,null,null,null,null,null,null,null,null,null,null,null,null,null,null,null,null,null,null,null,null,null,null,null,null,null,null,null,null,null,null,null,null,null,null,null,null,null,null,null,null,null,null," 住　所",null,null,null,null,null,{"$f":"LEFT(入力用!C14,24)","v":""}]
[null,null,null,null,null,null,null,null,null,null,null,null,"（代表者肩書）",null,null,null,null,null,null,null,null,{"$f":"IF(入力用!C5=\"\",\"\",入力用!C5)","v":""},null,null,null,null,null,null,null,null,null,null,null,null,null,null,null,null,null,null,"（代表者名）",null,null,null,null,null,null,null,{"$f":"IF(入力用!C6=\"\",\"\",入力用!C6)","v":""}]
[null,null,null,null,null,null,null,null,null,null,null,null,null,null,null,null,null,null,null,null,null,null,null,null,null,null,null,null,null,null,null,null,null,null,null,null,null,null,null,null,null,null,null,null,null,null,null,null,null,null,null,null,null,null,null,null,null,null,null,null,null,null,null,null,null,null,null,null,null,{"$f":"MID(入力用!C14,25,28)","v":""}]
[null,null,null,null,null,null,null,"ご使用\n場　所",null,null,null,null,"(〒",null,{"$f":"LEFT(入力用!C7,3)","v":""},null,null,"-",{"$f":"RIGHT(入力用!C7,4)","v":""},null,null,null,")",null,{"$f":"LEFT(入力用!C8,25)","v":""}]
[null,null,null,null,null,null,null,null,null,null,null,null,null,null,null,null,null,null,null,null,null,null,null,null,null,null,null,null,null,null,null,null,null,null,null,null,null,null,null,null,null,null,null,null,null,null,null,null,null,null,null,null,null,null,null,null,null,null,null,null,null,null,null,null,null,null,null,null,null,{"$f":"MID(入力用!C14,53,12)","v":""},null,null,null,null,null,null,null,null,null,null,null,null,null,null,null,null,null,null,null,"電話(",null,null,null,{"$f":"IF(入力用!C15=\"\",\"\",入力用!C15)","v":""},null,null,null,null,"-",{"$f":"IF(入力用!E15=\"\",\"\",入力用!E15)","v":""},null,null,null,null,"-",{"$f":"IF(入力用!H15=\"\",\"\",入力用!H15)","v":""},null,null,null,null,")"]
[]
[null,null,null,null,null,null,null,null,null,null,null,null,{"$f":"MID(入力用!C8,26,33)","v":""},null,null,null,null,null,null,null,null,null,null,null,null,null,null,null,null,null,null,null,null,null,null,null,null,null,null,null,null,null,null,null,null,null,null,null,null,null,null,null,null,null,null,null,null,null,null,null,null,null,null,null,"建築会社",null,null,null,null," 会社名",null,null,null,null,null,{"$f":"IF(入力用!C16=\"\",\"\",入力用!C16)","v":""}]
[]
[]
[null,null,null,null,null,null,null,"電話番号",null,null,null,null,"固定",null,null,{"$f":"IF(入力用!C9=\"\",\"\",入力用!C9)","v":""},null,null,null,null,null,"-",{"$f":"IF(入力用!E9=\"\",\"\",入力用!E9)","v":""},null,null,null,null,null,"-",{"$f":"IF(入力用!H9=\"\",\"\",入力用!H9)","v":""},null,null,null,null,null,null,"携帯",null,null,{"$f":"IF(入力用!C10=\"\",\"\",入力用!C10)","v":""},null,null,null,null,null,null,"-",{"$f":"IF(入力用!E10=\"\",\"\",入力用!E10)","v":""},null,null,null,null,null,null,null,"-",{"$f":"IF(入力用!H10=\"\",\"\",入力用!H10)","v":""}]
[null,null,null,null,null,null,null,null,null,null,null,null,null,null,null,null,null,null,null,null,null,null,null,null,null,null,null,null,null,null,null,null,null,null,null,null,null,null,null,null,null,null,null,null,null,null,null,null,null,null,null,null,null,null,null,null,null,null,null,null,null,null,null,null,null,null,null,null,null,"(担当者)",null,null,null,null,null,{"$f":"IF(入力用!C17=\"\",\"\",入力用!C17)","v":""},null,null,null,null,null,null,null,null,null,null,null,null,null,"電話(",null,null,null,{"$f":"IF(入力用!C18=\"\",\"\",入力用!C18)","v":""},null,null,null,null,"-",{"$f":"IF(入力用!E18=\"\",\"\",入力用!E18)","v":""},null,null,null,null,"-",{"$f":"IF(入力用!H18=\"\",\"\",入力用!H18)","v":""},null,null,null,null,")"]
[]
[null,null,null,null,null,null,null,"お支払\n方　法",null,null,null,null,{"$f":"IF(入力用!O19=2,入力用!O5,IF(入力用!O19=3,入力用!O6,\"\"))","v":""},null,null,null,null,null,null,null,null,null,"支　払\n者　名",null,null,null,null,{"$f":"DBCS(MID(ASC(入力用!C20),1,1))","v":""},{"$f":"DBCS(MID(ASC(入力用!C20),2,1))","v":""},{"$f":"DBCS(MID(ASC(入力用!C20),3,1))","v":""},{"$f":"DBCS(MID(ASC(入力用!C20),4,1))","v":""},{"$f":"DBCS(MID(ASC(入力用!C20),5,1))","v":""},{"$f":"DBCS(MID(ASC(入力用!C20),6,1))","v":""},{"$f":"DBCS(MID(ASC(入力用!C20),7,1))","v":""},{"$f":"DBCS(MID(ASC(入力用!C20),8,1))","v":""},{"$f":"DBCS(MID(ASC(入力用!C20),9,1))","v":""},{"$f":"DBCS(MID(ASC(入力用!C20),10,1))","v":""},{"$f":"DBCS(MID(ASC(入力用!C20),11,1))","v":""},{"$f":"DBCS(MID(ASC(入力用!C20),12,1))","v":""},{"$f":"DBCS(MID(ASC(入力用!C20),13,1))","v":""},{"$f":"DBCS(MID(ASC(入力用!C20),14,1))","v":""},{"$f":"DBCS(MID(ASC(入力用!C20),15,1))","v":""},{"$f":"DBCS(MID(ASC(入力用!C20),16,1))","v":""},{"$f":"DBCS(MID(ASC(入力用!C20),17,1))","v":""},{"$f":"DBCS(MID(ASC(入力用!C20),18,1))","v":""},{"$f":"DBCS(MID(ASC(入力用!C20),19,1))","v":""},{"$f":"DBCS(MID(ASC(入力用!C20),20,1))","v":""},"請求書\n送付先",null,null,null,null,"(〒",null,{"$f":"LEFT(入力用!C22,3)","v":""},null,null,"-",{"$f":"RIGHT(入力用!C22,4)","v":""},null,null,null,")",null,{"$f":"IF(入力用!C23=\"同上\",\"\",LEFT(入力用!C23,11))","v":""},null,null,null,null,null,null,null,null,null,null,null,null,null,null,null,null,"ご連絡先",null,null,null,null,{"$f":"IF(OR(入力用!C25=\"同上\",入力用!C25=\"同左\"),\"\",LEFT(入力用!C25,17))","v":""}]
[]
[null,null,null,null,null,null,null,null,null,null,null,null,null,null,null,null,null,null,null,null,null,null,null,null,null,null,null,{"$f":"DBCS(MID(ASC(入力用!C20),21,1))","v":""},{"$f":"DBCS(MID(ASC(入力用!C20),22,1))","v":""},{"$f":"DBCS(MID(ASC(入力用!C20),23,1))","v":""},{"$f":"DBCS(MID(ASC(入力用!C20),24,1))","v":""},{"$f":"DBCS(MID(ASC(入力用!C20),25,1))","v":""},{"$f":"DBCS(MID(ASC(入力用!C20),26,1))","v":""},{"$f":"DBCS(MID(ASC(入力用!C20),27,1))","v":""},{"$f":"DBCS(MID(ASC(入力用!C20),28,1))","v":""},{"$f":"DBCS(MID(ASC(入力用!C20),29,1))","v":""},{"$f":"DBCS(MID(ASC(入力用!C20),30,1))","v":""},{"$f":"DBCS(MID(ASC(入力用!C20),31,1))","v":""},{"$f":"DBCS(MID(ASC(入力用!C20),32,1))","v":""},{"$f":"DBCS(MID(ASC(入力用!C20),33,1))","v":""},{"$f":"DBCS(MID(ASC(入力用!C20),34,1))","v":""},{"$f":"DBCS(MID(ASC(入力用!C20),35,1))","v":""},{"$f":"DBCS(MID(ASC(入力用!C20),36,1))","v":""},{"$f":"DBCS(MID(ASC(入力用!C20),37,1))","v":""},{"$f":"DBCS(MID(ASC(入力用!C20),38,1))","v":""},{"$f":"DBCS(MID(ASC(入力用!C20),39,1))","v":""},{"$f":"DBCS(MID(ASC(入力用!C20),40,1))","v":""},null,null,null,null,null,{"$f":"IF(入力用!C23=\"同上\",入力用!C23,MID(入力用!C23,12,20))","v":""},null,null,null,null,null,null,null,null,null,null,null,null,null,null,null,null,null,null,null,null,null,null,null,null,null,null,null,null,null,null,null,null,null,{"$f":"IF(OR(入力用!C25=\"同上\",入力用!C25=\"同左\"),入力用!C25,MID(入力用!C25,18,17))","v":""}]
[]
[null,null,null,null,null,null,null,null,null,null,null,null,null,null,null,null,null,null,null,null,null,null,null,null,null,null,null,{"$f":"IF(入力用!C21=\"\",\"\",入力用!C21)","v":""}]
[null,null,null,null,null,null,null,null,null,null,null,null,null,null,null,null,null,null,null,null,null,null,null,null,null,null,null,null,null,null,null,null,null,null,null,null,null,null,null,null,null,null,null,null,null,null,null,null,null,null,null,null,{"$f":"MID(入力用!C23,32,5)","v":""},null,null,null,null,null,null,"電話(",null,null,null,{"$f":"IF(入力用!C24=\"\",\"\",入力用!C24)","v":""},null,null,null,null,"-",{"$f":"IF(入力用!E24=\"\",\"\",入力用!E24)","v":""},null,null,null,null,"-",{"$f":"IF(入力用!H24=\"\",\"\",入力用!H24)","v":""},null,null,null,null,")",null,null,null,null,null,{"$f":"IF(OR(入力用!C25=\"同上\",入力用!C25=\"同左\"),\"\",MID(入力用!C25,35,1))","v":""},null,null,"電話(",null,null,null,{"$f":"IF(入力用!C26=\"\",\"\",入力用!C26)","v":""},null,null,null,null,"-",{"$f":"IF(入力用!E26=\"\",\"\",入力用!E26)","v":""},null,null,null,null,"-",{"$f":"IF(入力用!H26=\"\",\"\",入力用!H26)","v":""},null,null,null,null,")"]
[]
[null,"臨時工事費ご請求情報送信先\nメールアドレスまたは携帯電話番号",null,null,null,null,null,null,null,null,null,null,null,null,null,null,null,null,null,null,null,null,{"$f":"IF(入力用!C27=\"\",\"\",入力用!C27)","v":""},null,null,null,null,null,null,null,null,null,null,null,null,null,null,null,null,null,null,null,null,null,null,null,null,null,null,null,null,null,null,null,null,null,"契約種別",null,null,null,null,{"$f":"IF(入力用!O30=2,入力用!P5,IF(入力用!O30=3,入力用!P6,IF(入力用!O30=4,入力用!P7,IF(入力用!O30=5,入力用!P8,\"\"))))","v":""},null,null,null,null,null,null,null,null,null,null,null,null,null,null,null,null,null,"供給電気\n方 式 ・\n供給電圧",null,null,null,null,{"$f":"IF(入力用!O31=2,入力用!Q5,IF(入力用!O31=3,入力用!Q6,IF(入力用!O31=4,入力用!Q7,IF(入力用!O31=5,入力用!Q8,\"\"))))","v":""}]
[]
[]
[]
[null,"受　 電\n希望日",null,null,null,null,null,{"$f":"IF(入力用!C28=\"\",\"\",入力用!C28)","v":""},null,null,null,null,"年",null,null,{"$f":"IF(入力用!E28=\"\",\"\",入力用!E28)","v":""},null,null,null,"月",null,null,{"$f":"IF(入力用!H28=\"\",\"\",入力用!H28)","v":""},null,null,null,"日",null,null,"使　用\n終　了\n予定日",null,null,null,null,{"$f":"IF(入力用!C29=\"\",\"\",入力用!C29)","v":""},null,null,null,null,"年",null,null,{"$f":"IF(入力用!E29=\"\",\"\",入力用!E29)","v":""},null,null,null,"月",null,null,{"$f":"IF(入力用!H29=\"\",\"\",入力用!H29)","v":""},null,null,null,"日"]
[]
[]
[]
[null,"業種",null,null,null,null,null,{"$f":"IF(入力用!O32=2,入力用!R5,IF(入力用!O32=3,入力用!R6,IF(入力用!O32=4,入力用!R7,IF(入力用!O32=5,入力用!R8,IF(入力用!O32=6,入力用!R9&\"(\"&入力用!K32&\")\",\"\")))))","v":""},null,null,null,null,null,null,null,null,null,null,null,null,null,"契約\n決定\n区分",null,null,null,null,{"$f":"IF(入力用!O33=2,入力用!S5,IF(入力用!O33=3,入力用!S6,IF(入力用!O33=4,入力用!S7,IF(入力用!O33=5,入力用!S8,\"\"))))","v":""},null,null,null,null,null,null,null,null,"主開閉器・\n電流制限器\nの定格電流",null,null,null,null,null,null,null,null,null,null,null,"フリーエリア\n計器払出希望\n事 業 所 名",null,null,null,null,null,null,null,{"$f":"IF(入力用!C35=\"\",\"\",入力用!C35)","v":""},null,null,null,null,null,null,null,null,null,"臨時供給設備\nから常時供給\n設備への移行",null,null,null,null,null,null,null,null,{"$f":"IF(入力用!O36=2,入力用!T5,IF(入力用!O36=3,入力用!T6,\"\"))","v":""},null,null,null,"電設\nＮｅｔ　\n申込",null,null,null,null,{"$f":"IF(入力用!O37=2,入力用!T9,IF(入力用!O37=3,入力用!T10,\"\"))","v":""}]
[]
[null,null,null,null,null,null,null,null,null,null,null,null,null,null,null,null,null,null,null,null,null,null,null,null,null,null,null,null,null,null,null,null,null,null,null,null,null,null,null,null,null,{"$f":"IF(入力用!C34=\"\",\"\",入力用!C34)","v":""}]
[null,null,null,null,null,null,null,null,null,null,null,null,null,null,null,null,null,null,null,null,null,null,null,null,null,null,null,null,null,null,null,null,null,null,null,null,null,null,null,null,null,null,null,null,null,null,null,null,null,null,null,null,null,null,null,null,null,null,null,null,null,null,null,null,null,null,null,null,null,null,null,null,null,null,null,null,null,null,null,null,null,null,null,{"$f":"IF(入力用!C38=\"\",\"\",入力用!C38)","v":""}]
[null,null,null,null,null,null,null,null,null,null,null,null,null,null,null,null,null,null,null,null,null,null,null,null,null,null,null,null,null,null,null,null,null,null,null,null,null,null,null,null,null,null,null,null,null,"Ａ"]
[]
[null,"契　　約　　負　　荷　　設　　備　　内　　訳",null,null,"臨　　時　　電　　灯　　Ａ",null,null,"機　器　種　別",null,null,null,null,null,null,null,null,null,null,null,null,null,null,null,null,null,null,null,null,"出　力",null,null,null,null,null,null,null,null,null,null,null,"力　　率",null,null,null,null,null,null,null,null,null,null,null,"入　力（ａ）",null,null,null,null,null,null,null,null,null,null,null,"台数（ｂ）",null,null,null,null,null,null,"合計(ａ×ｂ)"]
[null,null,null,null,null,null,null,null,null,null,null,null,null,null,null,null,null,null,null,null,null,null,null,null,null,null,null,null,null,null,null,null,null,null,null,null,null,null,null,null,null,null,null,null,null,null,null,null,null,null,null,null,null,null,null,null,null,null,null,null,null,null,null,null,null,null,null,null,null,null,null,null,null,null,null,null,null,null,null,null,null,null,null,null,null,null,null,null,null,null,null,null,null,null,null,null,null,null,null,null,null,"受付"]
[null,null,null,null,null,null,null,{"$f":"IF(入力用!C39=\"\",\"\",入力用!C39)","v":""},null,null,null,null,null,null,null,null,null,null,null,null,null,null,null,null,null,null,null,null,{"$f":"IF(入力用!C40=\"\",\"\",入力用!C40)","v":""},null,null,null,null,null,null,null,null,"Ｗ",null,null,{"$f":"IF(入力用!O41=2,入力用!U5,IF(入力用!O41=3,入力用!U6,\"\"))","v":""},null,null,null,null,null,null,null,null,null,null,null,{"$f":"IF(入力用!C42=\"\",\"\",入力用!C42)","v":""},null,null,null,null,null,null,null,null,"ＶＡ",null,null,{"$f":"IF(入力用!C43=\"\",\"\",入力用!C43)","v":""},null,null,null,"台",null,null,{"$f":"IF(入力用!P43=0,\"\",入力用!P43)","v":""},null,null,null,null,null,null,"VA"]
[]
[]
[null,null,null,null,null,null,null,{"$f":"IF(入力用!C44=\"\",\"\",入力用!C44)","v":""},null,null,null,null,null,null,null,null,null,null,null,null,null,null,null,null,null,null,null,null,{"$f":"IF(入力用!C45=\"\",\"\",入力用!C45)","v":""},null,null,null,null,null,null,null,null,"Ｗ",null,null,{"$f":"IF(入力用!O46=2,入力用!U5,IF(入力用!O46=3,入力用!U6,\"\"))","v":""},null,null,null,null,null,null,null,null,null,null,null,{"$f":"IF(入力用!C47=\"\",\"\",入力用!C47)","v":""},null,null,null,null,null,null,null,null,"ＶＡ",null,null,{"$f":"IF(入力用!C48=\"\",\"\",入力用!C48)","v":""},null,null,null,"台",null,null,{"$f":"IF(入力用!P48=0,\"\",入力用!P48)","v":""},null,null,null,null,null,null,"VA"]
[]
[]
[null,null,null,null,null,null,null,{"$f":"IF(入力用!C49=\"\",\"\",入力用!C49)","v":""},null,null,null,null,null,null,null,null,null,null,null,null,null,null,null,null,null,null,null,null,{"$f":"IF(入力用!C50=\"\",\"\",入力用!C50)","v":""},null,null,null,null,null,null,null,null,"Ｗ",null,null,{"$f":"IF(入力用!O51=2,入力用!U5,IF(入力用!O51=3,入力用!U6,\"\"))","v":""},null,null,null,null,null,null,null,null,null,null,null,{"$f":"IF(入力用!C52=\"\",\"\",入力用!C52)","v":""},null,null,null,null,null,null,null,null,"ＶＡ",null,null,{"$f":"IF(入力用!C53=\"\",\"\",入力用!C53)","v":""},null,null,null,"台",null,null,{"$f":"IF(入力用!P53=0,\"\",入力用!P53)","v":""},null,null,null,null,null,null,"VA"]
[]
[]
[null,null,null,null,null,null,null,{"$f":"IF(入力用!C54=\"\",\"\",入力用!C54)","v":""},null,null,null,null,null,null,null,null,null,null,null,null,null,null,null,null,null,null,null,null,{"$f":"IF(入力用!C55=\"\",\"\",入力用!C55)","v":""},null,null,null,null,null,null,null,null,"Ｗ",null,null,{"$f":"IF(入力用!O56=2,入力用!U5,IF(入力用!O56=3,入力用!U6,\"\"))","v":""},null,null,null,null,null,null,null,null,null,null,null,{"$f":"IF(入力用!C57=\"\",\"\",入力用!C57)","v":""},null,null,null,null,null,null,null,null,"ＶＡ",null,null,{"$f":"IF(入力用!C58=\"\",\"\",入力用!C58)","v":""},null,null,null,"台",null,null,{"$f":"IF(入力用!P58=0,\"\",入力用!P58)","v":""},null,null,null,null,null,null,"VA"]
[]
[]
[null,null,null,null,null,null,null,{"$f":"IF(入力用!C59=\"\",\"\",入力用!C59)","v":""},null,null,null,null,null,null,null,null,null,null,null,null,null,null,null,null,null,null,null,null,{"$f":"IF(入力用!C60=\"\",\"\",入力用!C60)","v":""},null,null,null,null,null,null,null,null,"Ｗ",null,null,{"$f":"IF(入力用!O61=2,入力用!U5,IF(入力用!O61=3,入力用!U6,\"\"))","v":""},null,null,null,null,null,null,null,null,null,null,null,{"$f":"IF(入力用!C62=\"\",\"\",入力用!C62)","v":""},null,null,null,null,null,null,null,null,"ＶＡ",null,null,{"$f":"IF(入力用!C63=\"\",\"\",入力用!C63)","v":""},null,null,null,"台",null,null,{"$f":"IF(入力用!P63=0,\"\",入力用!P63)","v":""},null,null,null,null,null,null,"VA",null,null,"臨時引込線工事の内容"]
[]
[null,null,null,null,null,null,null,null,null,null,null,null,null,null,null,null,null,null,null,null,null,null,null,null,null,null,null,null,null,null,null,null,null,null,null,null,null,null,null,null,null,null,null,null,null,null,null,null,null,null,null,null,null,null,null,null,null,null,null,null,null,null,null,null,null,null,null,null,null,null,null,null,null,null,null,null,null,null,null,null,null,"引込\n方法",null,null,null,"単独・連接・ﾒｯｾﾝｼﾞｬｰ"]
[null,null,null,null,null,null,null,{"$f":"IF(入力用!C64=\"\",\"\",入力用!C64)","v":""},null,null,null,null,null,null,null,null,null,null,null,null,null,null,null,null,null,null,null,null,{"$f":"IF(入力用!C65=\"\",\"\",入力用!C65)","v":""},null,null,null,null,null,null,null,null,"Ｗ",null,null,{"$f":"IF(入力用!O66=2,入力用!U5,IF(入力用!O66=3,入力用!U6,\"\"))","v":""},null,null,null,null,null,null,null,null,null,null,null,{"$f":"IF(入力用!C67=\"\",\"\",入力用!C67)","v":""},null,null,null,null,null,null,null,null,"ＶＡ",null,null,{"$f":"IF(入力用!C68=\"\",\"\",入力用!C68)","v":""},null,null,null,"台",null,null,{"$f":"IF(入力用!P68=0,\"\",入力用!P68)","v":""},null,null,null,null,null,null,"VA"]
[]
[]
[null,null,null,null,null,null,null,{"$f":"IF(入力用!C69=\"\",\"\",入力用!C69)","v":""},null,null,null,null,null,null,null,null,null,null,null,null,null,null,null,null,null,null,null,null,{"$f":"IF(入力用!C70=\"\",\"\",入力用!C70)","v":""},null,null,null,null,null,null,null,null,"Ｗ",null,null,{"$f":"IF(入力用!O71=2,入力用!U5,IF(入力用!O71=3,入力用!U6,\"\"))","v":""},null,null,null,null,null,null,null,null,null,null,null,{"$f":"IF(入力用!C72=\"\",\"\",入力用!C72)","v":""},null,null,null,null,null,null,null,null,"ＶＡ",null,null,{"$f":"IF(入力用!C73=\"\",\"\",入力用!C73)","v":""},null,null,null,"台",null,null,{"$f":"IF(入力用!P73=0,\"\",入力用!P73)","v":""},null,null,null,null,null,null,"VA",null,null,"電気\n方式",null,null,null,"２線式　　３線式"]
[]
[]
[null,null,null,null,null,null,null,{"$f":"IF(入力用!C74=\"\",\"\",入力用!C74)","v":""},null,null,null,null,null,null,null,null,null,null,null,null,null,null,null,null,null,null,null,null,{"$f":"IF(入力用!C75=\"\",\"\",入力用!C75)","v":""},null,null,null,null,null,null,null,null,"Ｗ",null,null,{"$f":"IF(入力用!O76=2,入力用!U5,IF(入力用!O76=3,入力用!U6,\"\"))","v":""},null,null,null,null,null,null,null,null,null,null,null,{"$f":"IF(入力用!C77=\"\",\"\",入力用!C77)","v":""},null,null,null,null,null,null,null,null,"ＶＡ",null,null,{"$f":"IF(入力用!C78=\"\",\"\",入力用!C78)","v":""},null,null,null,"台",null,null,{"$f":"IF(入力用!P78=0,\"\",入力用!P78)","v":""},null,null,null,null,null,null,"VA"]
[null,null,null,null,null,null,null,null,null,null,null,null,null,null,null,null,null,null,null,null,null,null,null,null,null,null,null,null,null,null,null,null,null,null,null,null,null,null,null,null,null,null,null,null,null,null,null,null,null,null,null,null,null,null,null,null,null,null,null,null,null,null,null,null,null,null,null,null,null,null,null,null,null,null,null,null,null,null,null,null,null,"太さ",null,null,null,"2.6　 3.2　 14　 22\n38　60　その他(　 )"]
[]
[null,null,null,null,null,null,null,{"$f":"IF(入力用!C79=\"\",\"\",入力用!C79)","v":""},null,null,null,null,null,null,null,null,null,null,null,null,null,null,null,null,null,null,null,null,{"$f":"IF(入力用!C80=\"\",\"\",入力用!C80)","v":""},null,null,null,null,null,null,null,null,"Ｗ",null,null,{"$f":"IF(入力用!O81=2,入力用!U5,IF(入力用!O81=3,入力用!U6,\"\"))","v":""},null,null,null,null,null,null,null,null,null,null,null,{"$f":"IF(入力用!C82=\"\",\"\",入力用!C82)","v":""},null,null,null,null,null,null,null,null,"ＶＡ",null,null,{"$f":"IF(入力用!C83=\"\",\"\",入力用!C83)","v":""},null,null,null,"台",null,null,{"$f":"IF(入力用!P83=0,\"\",入力用!P83)","v":""},null,null,null,null,null,null,"VA"]
[]
[null,null,null,null,null,null,null,null,null,null,null,null,null,null,null,null,null,null,null,null,null,null,null,null,null,null,null,null,null,null,null,null,null,null,null,null,null,null,null,null,null,null,null,null,null,null,null,null,null,null,null,null,null,null,null,null,null,null,null,null,null,null,null,null,null,null,null,null,null,null,null,null,null,null,null,null,null,null,null,null,null,"工事\n月日",null,null,null,null,null,null,"年",null,null,null,null,"月",null,null,null,null,"日"]
[null,null,null,null,null,null,null,{"$f":"IF(入力用!C84=\"\",\"\",入力用!C84)","v":""},null,null,null,null,null,null,null,null,null,null,null,null,null,null,null,null,null,null,null,null,{"$f":"IF(入力用!C85=\"\",\"\",入力用!C85)","v":""},null,null,null,null,null,null,null,null,"Ｗ",null,null,{"$f":"IF(入力用!O86=2,入力用!U5,IF(入力用!O86=3,入力用!U6,\"\"))","v":""},null,null,null,null,null,null,null,null,null,null,null,{"$f":"IF(入力用!C87=\"\",\"\",入力用!C87)","v":""},null,null,null,null,null,null,null,null,"ＶＡ",null,null,{"$f":"IF(入力用!C88=\"\",\"\",入力用!C88)","v":""},null,null,null,"台",null,null,{"$f":"IF(入力用!P88=0,\"\",入力用!P88)","v":""},null,null,null,null,null,null,"VA"]
[]
[]
[null,null,null,null,null,null,null,{"$f":"IF(入力用!C89=\"\",\"\",入力用!C89)","v":""},null,null,null,null,null,null,null,null,null,null,null,null,null,null,null,null,null,null,null,null,{"$f":"IF(入力用!C90=\"\",\"\",入力用!C90)","v":""},null,null,null,null,null,null,null,null,"Ｗ",null,null,{"$f":"IF(入力用!O91=2,入力用!U5,IF(入力用!O91=3,入力用!U6,\"\"))","v":""},null,null,null,null,null,null,null,null,null,null,null,{"$f":"IF(入力用!C92=\"\",\"\",入力用!C92)","v":""},null,null,null,null,null,null,null,null,"ＶＡ",null,null,{"$f":"IF(入力用!C93=\"\",\"\",入力用!C93)","v":""},null,null,null,"台",null,null,{"$f":"IF(入力用!P93=0,\"\",入力用!P93)","v":""},null,null,null,null,null,null,"VA"]
[null,null,null,null,null,null,null,null,null,null,null,null,null,null,null,null,null,null,null,null,null,null,null,null,null,null,null,null,null,null,null,null,null,null,null,null,null,null,null,null,null,null,null,null,null,null,null,null,null,null,null,null,null,null,null,null,null,null,null,null,null,null,null,null,null,null,null,null,null,null,null,null,null,null,null,null,null,null,null,null,"契約容量",null,null,null,null,null,null,null,null,{"$f":"IF(入力用!O30=2,IF(入力用!O33=3,入力用!R15,IF(SUM(BT57:BZ92)=0,\"\",SUM(BT57:BZ92))),\"\")","v":""},null,null,null,null,null,null,"ＶＡ"]
[]
[null,null,null,null,null,null,null,{"$f":"IF(入力用!C94=\"\",\"\",入力用!C94)","v":""},null,null,null,null,null,null,null,null,null,null,null,null,null,null,null,null,null,null,null,null,{"$f":"IF(入力用!C95=\"\",\"\",入力用!C95)","v":""},null,null,null,null,null,null,null,null,"Ｗ",null,null,{"$f":"IF(入力用!O96=2,入力用!U5,IF(入力用!O96=3,入力用!U6,\"\"))","v":""},null,null,null,null,null,null,null,null,null,null,null,{"$f":"IF(入力用!C97=\"\",\"\",入力用!C97)","v":""},null,null,null,null,null,null,null,null,"ＶＡ",null,null,{"$f":"IF(入力用!C98=\"\",\"\",入力用!C98)","v":""},null,null,null,"台",null,null,{"$f":"IF(入力用!P98=0,\"\",入力用!P98)","v":""},null,null,null,null,null,null,"VA"]
[]
[]
[null,null,null,null,"臨時\n電灯\nＢ･Ｃ",null,null,"電　　　　　灯",null,null,null,null,null,null,null,null,null,null,null,null,null,null,null,null,null,null,null,"小　型　機　器",null,null,null,null,null,null,null,null,null,null,null,null,null,null,null,null,null,null,null,"回路数",null,null,null,null,null,null,"適用業種別回路数内訳",null,null,null,null,null,null,null,null,null,null,null,null,null,null,null,null,"合 計 容 量"]
[]
[null,null,null,null,null,null,null,{"$f":"IF(入力用!C99=\"\",\"\",入力用!C99)","v":""},null,null,null,null,"灯",null,null,{"$f":"IF(入力用!C100=\"\",\"\",入力用!C100)","v":""},null,null,null,null,null,null,null,null,"ＶＡ",null,null,{"$f":"IF(入力用!C101=\"\",\"\",入力用!C101)","v":""},null,null,null,null,"個",null,null,{"$f":"IF(入力用!C102=\"\",\"\",入力用!C102)","v":""},null,null,null,null,null,null,null,null,"ＶＡ",null,null,{"$f":"IF(入力用!C103=\"\",\"\",入力用!C103)","v":""},null,null,null,null,null,null,{"$f":"入力用!P105","v":""},null,null,null,null,null,null,null,null,null,{"$f":"IF(入力用!E105=\"\",\"\",入力用!E105)","v":""},null,null,"回路",null,null,null,{"$f":"IF(OR(入力用!O33<4,入力用!R15=0),\"\",入力用!R15)","v":""}]
[null,null,null,null,null,null,null,null,null,null,null,null,null,null,null,null,null,null,null,null,null,null,null,null,null,null,null,null,null,null,null,null,null,null,null,null,null,null,null,null,null,null,null,null,null,null,null,null,null,null,null,null,null,null,null,null,null,null,null,null,null,null,null,null,null,null,null,null,null,null,null,null,null,null,null,null,null,null,null,null,{"$f":"IF(入力用!O30=4,\"契約電流\",IF(入力用!O30=5,\"契約容量\",\"契約電流\n契約容量\"))","v":"契約電流\n契約容量"},null,null,null,null,null,null,null,null,{"$f":"IF(入力用!O30>3,IF(入力用!R14=0,\"\",入力用!R14),\"\")","v":""},null,null,null,null,null,null,{"$f":"IF(入力用!O30=4,\"Ａ\",IF(入力用!O30=5,\"ＶＡ\",\"Ａ\nｋＶＡ\"))","v":"Ａ\nｋＶＡ"}]
[null,null,null,null,null,null,null,null,null,null,null,null,null,null,null,null,null,null,null,null,null,null,null,null,null,null,null,null,null,null,null,null,null,null,null,null,null,null,null,null,null,null,null,null,null,null,null,null,null,null,null,null,null,null,{"$f":"入力用!P107","v":""},null,null,null,null,null,null,null,null,null,{"$f":"IF(入力用!E107=\"\",\"\",入力用!E107)","v":""},null,null,"回路"]
[]
[null,null,null,null,null,null,null,null,null,null,null,null,null,null,null,null,null,null,null,null,null,null,null,null,null,null,null,null,null,null,null,null,null,null,null,null,null,null,null,null,null,null,null,null,null,null,null,null,null,null,null,null,null,null,{"$f":"入力用!P109","v":""},null,null,null,null,null,null,null,null,null,{"$f":"IF(入力用!E109=\"\",\"\",入力用!E109)","v":""},null,null,"回路",null,null,null,null,null,null,null,null,null,"ＶＡ"]
[]
[null,null,null,null,"臨　時　電　力",null,null,"機　器　種　別",null,null,null,null,null,null,null,null,null,null,null,null,null,null,null,null,null,null,null,null,null,null,null,null,null,null,null,null,null,null,null,null,"出　力",null,null,null,null,null,null,null,null,null,null,null,"入　力（ａ）",null,null,null,null,null,null,null,null,null,null,null,"台数（ｂ）",null,null,null,null,null,null,"合計(ａ×ｂ)"]
[]
[null,null,null,null,null,null,null,{"$f":"IF(入力用!C110=\"\",\"\",入力用!C110)","v":""},null,null,null,null,null,null,null,null,null,null,null,null,null,null,null,null,null,null,null,null,null,null,null,null,null,null,null,null,null,null,null,null,{"$f":"IF(入力用!C111=\"\",\"\",入力用!C111)","v":""},null,null,null,null,null,null,null,null,{"$f":"IF(入力用!O111=2,入力用!W5,IF(入力用!O111=3,入力用!W6,\"㏋\nkW\"))","v":"㏋\nkW"},null,null,{"$f":"IF(入力用!C112=\"\",\"\",入力用!C112)","v":""},null,null,null,null,null,null,null,null,"ｋＷ",null,null,{"$f":"IF(入力用!C113=\"\",\"\",入力用!C113)","v":""},null,null,null,"台",null,null,{"$f":"入力用!P113","v":""},null,null,null,null,null,null,"kW"]
[]
[]
[null,null,null,null,null,null,null,{"$f":"IF(入力用!C114=\"\",\"\",入力用!C114)","v":""},null,null,null,null,null,null,null,null,null,null,null,null,null,null,null,null,null,null,null,null,null,null,null,null,null,null,null,null,null,null,null,null,{"$f":"IF(入力用!C115=\"\",\"\",入力用!C115)","v":""},null,null,null,null,null,null,null,null,{"$f":"IF(入力用!O115=2,入力用!W5,IF(入力用!O115=3,入力用!W6,\"㏋\nkW\"))","v":"㏋\nkW"},null,null,{"$f":"IF(入力用!C116=\"\",\"\",入力用!C116)","v":""},null,null,null,null,null,null,null,null,"ｋＷ",null,null,{"$f":"IF(入力用!C117=\"\",\"\",入力用!C117)","v":""},null,null,null,"台",null,null,{"$f":"入力用!P117","v":""},null,null,null,null,null,null,"kW"]
[]
[]
[null,null,null,null,null,null,null,{"$f":"IF(入力用!C118=\"\",\"\",入力用!C118)","v":""},null,null,null,null,null,null,null,null,null,null,null,null,null,null,null,null,null,null,null,null,null,null,null,null,null,null,null,null,null,null,null,null,{"$f":"IF(入力用!C119=\"\",\"\",入力用!C119)","v":""},null,null,null,null,null,null,null,null,{"$f":"IF(入力用!O119=2,入力用!W5,IF(入力用!O119=3,入力用!W6,\"㏋\nkW\"))","v":"㏋\nkW"},null,null,{"$f":"IF(入力用!C120=\"\",\"\",入力用!C120)","v":""},null,null,null,null,null,null,null,null,"ｋＷ",null,null,{"$f":"IF(入力用!C121=\"\",\"\",入力用!C121)","v":""},null,null,null,"台",null,null,{"$f":"入力用!P121","v":""},null,null,null,null,null,null,"kW"]
[]
[]
[null,null,null,null,null,null,null,{"$f":"IF(入力用!C122=\"\",\"\",入力用!C122)","v":""},null,null,null,null,null,null,null,null,null,null,null,null,null,null,null,null,null,null,null,null,null,null,null,null,null,null,null,null,null,null,null,null,{"$f":"IF(入力用!C123=\"\",\"\",入力用!C123)","v":""},null,null,null,null,null,null,null,null,{"$f":"IF(入力用!O123=2,入力用!W5,IF(入力用!O123=3,入力用!W6,\"㏋\nkW\"))","v":"㏋\nkW"},null,null,{"$f":"IF(入力用!C124=\"\",\"\",入力用!C124)","v":""},null,null,null,null,null,null,null,null,"ｋＷ",null,null,{"$f":"IF(入力用!C125=\"\",\"\",入力用!C125)","v":""},null,null,null,"台",null,null,{"$f":"入力用!P125","v":""},null,null,null,null,null,null,"kW"]
[]
[]
[null,null,null,null,null,null,null,{"$f":"IF(入力用!C126=\"\",\"\",入力用!C126)","v":""},null,null,null,null,null,null,null,null,null,null,null,null,null,null,null,null,null,null,null,null,null,null,null,null,null,null,null,null,null,null,null,null,{"$f":"IF(入力用!C127=\"\",\"\",入力用!C127)","v":""},null,null,null,null,null,null,null,null,{"$f":"IF(入力用!O127=2,入力用!W5,IF(入力用!O127=3,入力用!W6,\"㏋\nkW\"))","v":"㏋\nkW"},null,null,{"$f":"IF(入力用!C128=\"\",\"\",入力用!C128)","v":""},null,null,null,null,null,null,null,null,"ｋＷ",null,null,{"$f":"IF(入力用!C129=\"\",\"\",入力用!C129)","v":""},null,null,null,"台",null,null,{"$f":"入力用!P129","v":""},null,null,null,null,null,null,"kW"]
[]
[]
[null,null,null,null,null,null,null,{"$f":"IF(入力用!C130=\"\",\"\",入力用!C130)","v":""},null,null,null,null,null,null,null,null,null,null,null,null,null,null,null,null,null,null,null,null,null,null,null,null,null,null,null,null,null,null,null,null,{"$f":"IF(入力用!C131=\"\",\"\",入力用!C131)","v":""},null,null,null,null,null,null,null,null,{"$f":"IF(入力用!O131=2,入力用!W5,IF(入力用!O131=3,入力用!W6,\"㏋\nkW\"))","v":"㏋\nkW"},null,null,{"$f":"IF(入力用!C132=\"\",\"\",入力用!C132)","v":""},null,null,null,null,null,null,null,null,"ｋＷ",null,null,{"$f":"IF(入力用!C133=\"\",\"\",入力用!C133)","v":""},null,null,null,"台",null,null,{"$f":"入力用!P133","v":""},null,null,null,null,null,null,"kW"]
[null,null,null,null,null,null,null,null,null,null,null,null,null,null,null,null,null,null,null,null,null,null,null,null,null,null,null,null,null,null,null,null,null,null,null,null,null,null,null,null,null,null,null,null,null,null,null,null,null,null,null,null,null,null,null,null,null,null,null,null,null,null,null,null,null,null,null,null,null,null,null,null,null,null,null,null,null,null,null,null,"契約電力",null,null,null,null,null,null,null,null,{"$f":"IF(入力用!O30=3,IF(入力用!R31=0,\"\",入力用!R31),\"\")","v":""},null,null,null,null,null,null,"ｋＷ"]
[]
[null,null,null,null,null,null,null,{"$f":"IF(入力用!C134=\"\",\"\",入力用!C134)","v":""},null,null,null,null,null,null,null,null,null,null,null,null,null,null,null,null,null,null,null,null,null,null,null,null,null,null,null,null,null,null,null,null,{"$f":"IF(入力用!C135=\"\",\"\",入力用!C135)","v":""},null,null,null,null,null,null,null,null,{"$f":"IF(入力用!O135=2,入力用!W5,IF(入力用!O135=3,入力用!W6,\"㏋\nkW\"))","v":"㏋\nkW"},null,null,{"$f":"IF(入力用!C136=\"\",\"\",入力用!C136)","v":""},null,null,null,null,null,null,null,null,"ｋＷ",null,null,{"$f":"IF(入力用!C135=\"\",\"\",入力用!C135)","v":""},null,null,null,"台",null,null,{"$f":"入力用!P137","v":""},null,null,null,null,null,null,"kW"]
[]
[]
[null,"異動\n種別",null,null,"・ 新設\n・ 増加\n・ 減少\n・ その他\n(　　　 )",null,null,null,null,null,null,"供給地点特定番号",null,null,null,null,null,null,null,"発行\n回数",null,null,"支店",null,"ﾌﾞﾛｯｸ",null,null,"住所",null,null,null,null,"街区",null,null,"契約№",null,null,null,null,"枝番",null,null,"種別",null,null,null,null,null,"送電日\n（異動日）"]
[]
[]
[]
[null,null,null,null,null,null,null,null,null,null,null,null,null,null,"010",null,null,null,null,null,null,null,null,null,null,null,null,null,null,null,null,null,null,null,null,null,null,null,null,null,null,null,null,null,null,null,"00"]
[]
[null,null,null,null,null,null,null,null,null,null,null,null,null,null,null,null,null,null,null,null,null,null,null,null,null,null,null,null,null,null,null,null,null,null,null,null,null,null,null,null,null,null,null,null,null,null,null,null,null,null,null,null,null,null,"年",null,null,null,"月",null,null,null,"日"]
[]
[]
[null,"　※　太枠内をご記入願います。"]
[]
[null,"　※　ご契約名義またはお支払方法の変更をご希望の場合は，受付扱所名に記載の弊社事業所までご連絡ください。"]
[]
[null,"　※　ご提供いただいた個人情報は，電気事業の範囲内で利用いたします。"]
[]
[]
[null,null,null,"拝啓　平素は弊社事業に格別のお引き立てを賜り，厚くお礼申し上げます。５６７８９０"]
[]
[]
[null,null,null,"　さて，この度お客さまの電気ご使用につきまして，本申込書記載の内容にてご契約させ"]
[]
[]
[null,null,null,"ていただきましたことをお知らせいたします。２３４５６７８９０１２３４５６７８９０"]
[]
[]
[null,null,null,"１２３４５６７８９０１２３４５６７８９０１２３４５６７８９０１２３４５６７敬具０"]
[]
[]
[]
[null,"＜連絡事項＞"]
[]
[]
[]
[]
[]
[]
[]
[]
[]
["北　海　道　電　力　ネ　ッ　ト　ワ　ー　ク　株　式　会　社"]

{"sheet":"３枚目","index":3,"n_rows":173,"n_cols":111,"rows_kept":173,"cut":false,"hidden":false,"merged":[[35,41,36,41],[35,42,36,42],[35,43,36,43],[35,44,36,44],[35,45,36,45],[35,46,36,46],[151,1,158,5],[159,1,160,5],[35,30,36,30],[35,31,36,31],[35,32,36,32],[35,33,36,33],[35,34,36,34],[35,35,36,35],[35,38,36,38],[35,39,36,39],[35,40,36,40],[157,6,158,17],[159,6,160,7],[159,8,160,9],[159,10,160,11],[159,12,160,13],[159,14,160,15],[159,16,160,17],[16,49,17,49],[16,50,17,50],[16,51,17,51],[16,52,17,52],[16,53,17,53],[16,54,17,54],[16,55,17,55],[16,56,17,56],[33,35,34,35],[33,36,34,36],[33,37,34,37],[33,38,34,38],[33,39,34,39],[33,40,34,40],[33,41,34,41],[33,42,34,42],[33,43,34,43],[33,54,34,56],[33,52,34,53],[30,47,32,54],[22,48,23,63],[22,40,23,47],[18,12,21,63],[33,12,39,21],[40,61,47,78],[40,79,47,83],[40,84,47,98],[16,19,17,19],[16,20,17,20],[16,21,17,21],[16,22,17,22],[16,23,17,23],[16,24,17,24],[16,25,17,25],[16,26,17,26],[16,27,17,27],[16,28,17,28],[16,29,17,29],[16,30,17,30],[16,31,17,31],[16,32,17,32],[16,33,17,33],[16,34,17,34],[16,35,17,35],[16,36,17,36],[16,37,17,37],[16,38,17,38],[35,86,37,110],[145,103,152,110],[48,7,53,20],[48,26,53,34],[50,41,53,44],[52,45,53,46],[48,55,53,64],[48,65,53,73],[48,74,53,77],[48,78,53,82],[48,83,50,98],[51,83,53,98],[134,97,137,99],[139,22,142,25],[139,26,142,39],[139,40,142,42],[143,24,146,27],[143,28,146,37],[74,52,76,60],[77,37,79,39],[120,7,122,39],[62,28,64,36],[62,7,64,27],[56,40,58,51],[65,78,67,79],[139,1,142,4],[139,5,142,21],[143,1,146,6],[143,7,146,23],[148,18,150,25],[148,26,150,46],[153,6,154,17],[153,18,160,25],[153,26,160,33],[153,34,160,41],[153,42,160,49],[151,6,152,17],[151,18,152,25],[151,26,152,33],[151,34,152,41],[151,42,152,49],[163,30,165,51],[166,30,168,51],[169,30,171,51],[123,1,130,3],[123,4,124,27],[125,4,126,27],[127,4,128,27],[129,4,130,27],[131,1,138,3],[131,4,132,30],[131,31,138,33],[131,34,138,43],[133,4,134,30],[135,4,136,30],[137,4,138,30],[127,44,130,48],[123,39,126,40],[123,41,126,43],[127,41,130,43],[153,50,160,57],[151,50,152,57],[139,43,142,56],[133,44,134,57],[155,6,156,17],[166,60,168,64],[166,52,168,54],[169,52,171,54],[169,55,171,56],[169,57,171,59],[169,60,171,64],[169,68,171,72],[169,73,171,75],[166,68,168,72],[166,73,168,75],[166,76,168,78],[169,76,171,78],[169,65,171,67],[166,55,168,56],[166,57,168,59],[166,65,168,67],[161,22,162,29],[86,28,88,36],[83,37,85,39],[161,30,162,51],[161,52,162,78],[163,65,165,67],[163,68,165,72],[163,57,165,59],[163,60,165,64],[163,73,165,75],[163,76,165,78],[94,24,99,26],[102,40,104,48],[114,7,116,39],[123,57,126,59],[123,60,126,62],[127,60,130,62],[123,44,126,48],[174,0,175,110],[163,52,165,54],[163,55,165,56],[137,103,144,110],[155,88,157,89],[172,0,173,110],[161,20,171,21],[163,22,171,29],[68,7,70,27],[68,28,70,36],[68,37,70,39],[68,40,70,51],[89,28,91,36],[74,28,76,36],[94,7,99,11],[89,37,91,39],[74,37,76,39],[105,7,107,39],[94,32,99,34],[92,27,93,46],[86,7,88,27],[129,71,130,74],[114,40,116,48],[120,40,122,48],[48,21,53,25],[59,7,61,27],[59,28,61,36],[54,28,55,39],[54,7,55,27],[59,37,61,39],[54,40,55,51],[56,28,58,36],[65,40,67,51],[65,28,67,36],[117,40,119,48],[77,7,79,27],[80,28,82,36],[83,7,85,27],[86,40,88,51],[114,49,116,51],[83,28,85,36],[83,64,85,67],[94,54,95,63],[77,61,79,63],[77,28,79,36],[94,67,95,70],[92,54,93,70],[86,68,88,70],[80,52,82,60],[102,7,104,39],[117,7,119,39],[114,64,116,67],[102,49,104,51],[111,40,113,48],[100,40,101,51],[108,40,110,48],[108,49,110,51],[111,49,113,51],[40,56,47,60],[38,80,39,80],[120,52,122,60],[117,64,119,67],[120,61,122,63],[38,52,39,58],[38,75,39,79],[83,71,85,77],[54,52,55,63],[80,71,82,77],[62,64,64,67],[59,71,61,77],[56,64,58,67],[62,78,64,79],[92,47,93,53],[65,64,67,67],[59,40,61,51],[56,78,58,79],[48,47,53,54],[80,78,82,79],[71,64,73,67],[56,61,58,63],[48,35,53,40],[89,71,91,77],[38,89,39,92],[41,101,48,102],[82,88,85,89],[49,103,56,110],[55,81,57,87],[57,103,64,110],[49,101,56,102],[82,93,85,94],[41,103,48,110],[82,95,85,97],[74,81,77,84],[78,85,81,99],[61,88,63,89],[57,101,64,102],[61,90,63,99],[55,94,57,99],[58,88,60,89],[61,81,63,87],[65,101,72,102],[82,85,85,87],[65,103,72,110],[73,103,80,110],[25,69,26,88],[25,104,26,104],[31,98,32,98],[33,62,34,63],[38,93,39,97],[38,86,39,88],[27,69,30,74],[31,99,32,103],[31,93,32,97],[25,89,26,92],[25,93,26,97],[38,63,39,67],[38,98,39,98],[33,81,39,85],[38,99,39,103],[33,86,34,110],[25,105,26,109],[25,98,26,98],[25,110,26,110],[31,105,32,109],[31,104,32,104],[25,99,26,103],[38,110,39,110],[38,104,39,104],[19,75,20,89],[16,75,18,110],[16,69,18,74],[19,69,20,74],[23,69,24,110],[19,104,20,108],[19,109,20,110],[19,90,20,99],[19,100,20,102],[19,103,20,103],[21,69,22,74],[21,75,22,110],[30,36,32,38],[30,46,32,46],[33,58,34,61],[33,47,39,51],[38,59,39,62],[35,52,37,80],[38,74,39,74],[33,57,34,57],[33,64,34,80],[38,68,39,68],[30,55,32,55],[30,56,32,63],[27,64,32,68],[38,69,39,73],[31,69,32,74],[33,44,34,44],[33,45,34,45],[33,46,34,46],[35,36,36,36],[35,37,36,37],[37,27,39,46],[35,27,36,27],[35,28,36,28],[35,29,36,29],[134,88,137,90],[134,91,137,93],[24,22,26,23],[33,27,34,27],[33,28,34,28],[33,29,34,29],[33,30,34,30],[33,31,34,31],[33,32,34,32],[33,33,34,33],[33,34,34,34],[24,24,26,63],[30,39,32,45],[30,29,32,35],[27,12,29,63],[24,17,26,17],[24,18,26,21],[30,15,32,20],[30,21,32,21],[27,75,30,110],[31,75,32,88],[31,89,32,92],[31,110,32,110],[38,105,39,109],[146,93,148,99],[145,101,152,102],[121,103,128,110],[121,101,128,102],[158,97,160,99],[131,91,133,93],[131,88,133,90],[155,98,157,99],[113,103,120,110],[152,80,154,99],[129,103,136,110],[158,94,160,96],[143,97,145,99],[140,97,142,99],[131,97,133,99],[131,94,133,96],[155,95,157,97],[155,74,157,83],[143,84,145,96],[143,74,145,83],[155,84,157,87],[131,79,137,81],[134,82,137,84],[134,85,137,87],[48,1,53,6],[54,4,91,6],[129,101,136,102],[149,93,151,99],[138,74,139,99],[113,101,120,102],[149,74,151,79],[137,101,144,102],[158,80,160,89],[149,87,151,92],[158,90,160,93],[146,84,148,92],[155,93,157,94],[149,80,151,86],[140,84,142,96],[155,90,157,92],[123,79,128,82],[129,79,130,82],[131,85,133,87],[134,94,137,96],[131,82,133,84],[140,74,142,83],[146,74,148,83],[152,74,154,79],[44,15,47,18],[44,19,47,21],[44,22,47,25],[44,26,47,28],[40,1,43,21],[40,22,43,55],[44,1,47,6],[44,29,47,33],[44,34,47,38],[44,42,47,45],[44,53,47,55],[6,0,9,110],[13,85,15,89],[13,64,15,68],[13,90,15,110],[13,69,15,84],[14,1,15,38],[16,7,23,11],[10,1,11,25],[12,1,13,38],[22,21,23,39],[16,59,17,63],[16,64,26,68],[16,57,17,57],[16,58,17,58],[16,39,17,39],[16,40,17,40],[16,41,17,41],[16,42,17,42],[16,43,17,43],[16,44,17,44],[16,45,17,45],[16,46,17,46],[16,47,17,47],[16,48,17,48],[30,7,32,11],[30,12,32,14],[30,28,32,28],[30,22,32,27],[16,1,39,6],[54,1,122,3],[44,46,47,48],[44,39,47,41],[44,49,47,52],[24,7,29,11],[24,12,26,13],[24,14,26,16],[33,7,39,11],[33,22,39,26],[62,37,64,39],[16,12,17,18],[22,12,23,20],[44,7,47,11],[44,12,47,14],[111,7,113,39],[100,4,122,6],[108,7,110,39],[120,49,122,51],[117,49,119,51],[92,4,99,6],[56,37,58,39],[65,7,67,27],[74,7,76,27],[92,7,93,26],[89,7,91,27],[100,7,101,39],[86,37,88,39],[89,40,91,51],[80,37,82,39],[80,40,82,51],[77,40,79,51],[71,40,73,51],[71,28,73,36],[71,7,73,27],[94,12,99,14],[94,35,99,43],[94,44,99,46],[94,15,99,23],[94,27,99,31],[80,7,82,27],[65,37,67,39],[56,7,58,27],[62,40,64,51],[123,75,128,78],[123,28,130,30],[123,36,126,38],[127,39,130,40],[127,36,130,38],[123,52,126,56],[127,49,130,51],[131,44,132,57],[158,74,160,79],[129,75,130,78],[123,66,130,70],[123,71,128,74],[153,58,160,65],[153,66,160,73],[151,58,152,65],[151,66,152,73],[135,44,136,57],[123,31,126,35],[127,31,130,35],[123,63,126,65],[127,63,130,65],[123,49,126,51],[127,57,130,59],[127,52,130,56],[117,71,119,77],[120,64,122,67],[117,61,119,63],[114,52,116,60],[114,68,116,70],[120,68,122,70],[117,68,119,70],[117,52,119,60],[114,61,116,63],[102,71,104,77],[68,52,70,60],[86,52,88,60],[71,52,73,60],[77,64,79,67],[80,61,82,63],[80,64,82,67],[105,49,107,51],[83,40,85,51],[105,40,107,48],[98,67,99,70],[77,68,79,70],[80,68,82,70],[89,68,91,70],[98,54,99,63],[96,54,97,63],[83,68,85,70],[86,64,88,67],[105,52,107,60],[77,71,79,77],[89,61,91,63],[89,64,91,67],[86,71,88,77],[68,64,70,67],[105,68,107,70],[102,52,104,60],[111,52,113,60],[108,52,110,60],[100,64,101,70],[111,61,113,63],[111,64,113,67],[108,61,110,63],[100,52,101,63],[102,68,104,70],[105,64,107,67],[102,64,104,67],[96,64,97,66],[94,47,99,53],[96,67,97,70],[98,64,99,66],[89,52,91,60],[108,68,110,70],[108,64,110,67],[111,68,113,70],[62,71,64,77],[54,71,55,79],[74,78,76,79],[55,88,57,93],[58,90,60,99],[58,81,60,87],[59,78,61,79],[70,85,73,99],[70,81,73,84],[68,78,70,79],[74,85,77,99],[71,71,73,77],[74,71,76,77],[71,78,73,79],[68,71,70,77],[65,68,67,70],[71,37,73,39],[65,52,67,60],[54,64,55,70],[82,81,85,84],[56,71,58,77],[62,68,64,70],[83,78,85,79],[56,68,58,70],[77,78,79,79],[71,68,73,70],[74,68,76,70],[56,52,58,60],[59,52,61,60],[59,61,61,63],[62,52,64,60],[68,81,69,99],[74,40,76,51],[83,52,85,60],[68,61,70,63],[74,64,76,67],[74,61,76,63],[77,52,79,60],[65,71,67,77],[120,78,122,79],[120,71,122,77],[117,78,119,79],[81,103,88,110],[94,71,99,76],[111,78,113,79],[97,101,104,102],[118,89,122,95],[118,96,122,99],[97,103,104,110],[100,71,101,79],[118,80,122,88],[114,71,116,77],[108,78,110,79],[114,78,116,79],[108,81,111,84],[105,71,107,77],[110,85,111,87],[108,85,109,87],[102,78,104,79],[108,71,110,77],[89,103,96,110],[105,78,107,79],[102,81,103,99],[83,61,85,63],[94,64,95,66],[86,61,88,63],[81,101,88,102],[82,98,85,99],[82,90,85,92],[89,78,91,79],[73,101,80,102],[92,71,93,79],[86,78,88,79],[1,93,5,109],[59,68,61,70],[71,61,73,63],[65,61,67,63],[62,61,64,63],[59,64,61,67],[102,61,104,63],[105,61,107,63],[78,81,81,84],[98,77,99,79],[68,68,70,70],[95,80,99,88],[104,81,107,84],[105,103,112,110],[104,85,105,87],[111,71,113,77],[89,101,96,102],[87,80,91,88],[87,89,91,95],[106,85,107,87],[95,96,99,99],[95,89,99,95],[105,101,112,102],[87,96,91,99]]}
[]
[null,null,null,null,null,null,null,null,null,null,null,null,null,null,null,null,null,null,null,null,null,null,null,null,null,null,null,null,null,null,null,null,null,null,null,null,null,null,null,null,null,null,null,null,null,null,null,null,null,null,null,null,null,null,null,null,null,null,null,null,null,null,null,null,null,null,null,null,null,null,null,null,null,null,null,null,null,null,null,null,null,null,null,null,null,null,null,null,null,null,null,null,null,"離島等供給用"]
[]
[]
[]
[]
["（臨時定額・未計器扱）電気使用申込書（ほくでんＮW控）"]
[]
[]
[]
[null,"北海道電力ネットワーク株式会社　御中"]
[]
[]
[null,null,null,null,null,null,null,null,null,null,null,null,null,null,null,null,null,null,null,null,null,null,null,null,null,null,null,null,null,null,null,null,null,null,null,null,null,null,null,null,null,null,null,null,null,null,null,null,null,null,null,null,null,null,null,null,null,null,null,null,null,null,null,null,"受付扱所名",null,null,null,null,null,null,null,null,null,null,null,null,null,null,null,null,null,null,null,null,"受付№"]
[null,"電気の使用について貴社離島等供給約款[低圧用]に承認のうえ申し込みます。"]
[]
[null,"お 客 さ ま",null,null,null,null,null,"ご契約名義",null,null,null,null,"（フリガナ）",null,null,null,null,null,null,{"$f":"DBCS(MID(ASC(入力用!C3),1,1))","v":""},{"$f":"DBCS(MID(ASC(入力用!C3),2,1))","v":""},{"$f":"DBCS(MID(ASC(入力用!C3),3,1))","v":""},{"$f":"DBCS(MID(ASC(入力用!C3),4,1))","v":""},{"$f":"DBCS(MID(ASC(入力用!C3),5,1))","v":""},{"$f":"DBCS(MID(ASC(入力用!C3),6,1))","v":""},{"$f":"DBCS(MID(ASC(入力用!C3),7,1))","v":""},{"$f":"DBCS(MID(ASC(入力用!C3),8,1))","v":""},{"$f":"DBCS(MID(ASC(入力用!C3),9,1))","v":""},{"$f":"DBCS(MID(ASC(入力用!C3),10,1))","v":""},{"$f":"DBCS(MID(ASC(入力用!C3),11,1))","v":""},{"$f":"DBCS(MID(ASC(入力用!C3),12,1))","v":""},{"$f":"DBCS(MID(ASC(入力用!C3),13,1))","v":""},{"$f":"DBCS(MID(ASC(入力用!C3),14,1))","v":""},{"$f":"DBCS(MID(ASC(入力用!C3),15,1))","v":""},{"$f":"DBCS(MID(ASC(入力用!C3),16,1))","v":""},{"$f":"DBCS(MID(ASC(入力用!C3),17,1))","v":""},{"$f":"DBCS(MID(ASC(入力用!C3),18,1))","v":""},{"$f":"DBCS(MID(ASC(入力用!C3),19,1))","v":""},{"$f":"DBCS(MID(ASC(入力用!C3),20,1))","v":""},{"$f":"DBCS(MID(ASC(入力用!C3),21,1))","v":""},{"$f":"DBCS(MID(ASC(入力用!C3),22,1))","v":""},{"$f":"DBCS(MID(ASC(入力用!C3),23,1))","v":""},{"$f":"DBCS(MID(ASC(入力用!C3),24,1))","v":""},{"$f":"DBCS(MID(ASC(入力用!C3),25,1))","v":""},{"$f":"DBCS(MID(ASC(入力用!C3),26,1))","v":""},{"$f":"DBCS(MID(ASC(入力用!C3),27,1))","v":""},{"$f":"DBCS(MID(ASC(入力用!C3),28,1))","v":""},{"$f":"DBCS(MID(ASC(入力用!C3),29,1))","v":""},{"$f":"DBCS(MID(ASC(入力用!C3),30,1))","v":""},{"$f":"DBCS(MID(ASC(入力用!C3),31,1))","v":""},{"$f":"DBCS(MID(ASC(入力用!C3),32,1))","v":""},{"$f":"DBCS(MID(ASC(入力用!C3),33,1))","v":""},{"$f":"DBCS(MID(ASC(入力用!C3),34,1))","v":""},{"$f":"DBCS(MID(ASC(入力用!C3),35,1))","v":""},{"$f":"DBCS(MID(ASC(入力用!C3),36,1))","v":""},{"$f":"DBCS(MID(ASC(入力用!C3),37,1))","v":""},{"$f":"DBCS(MID(ASC(入力用!C3),38,1))","v":""},{"$f":"DBCS(MID(ASC(入力用!C3),39,1))","v":""},{"$f":"DBCS(MID(ASC(入力用!C3),40,1))","v":""},null,null,null,null,null,"電気工事会社",null,null,null,null," 会社名",null,null,null,null,null,{"$f":"IF(入力用!C11=\"\",\"\",入力用!C11)","v":""}]
[]
[null,null,null,null,null,null,null,null,null,null,null,null,{"$f":"IF(入力用!C4=\"\",\"\",入力用!C4)","v":""}]
[null,null,null,null,null,null,null,null,null,null,null,null,null,null,null,null,null,null,null,null,null,null,null,null,null,null,null,null,null,null,null,null,null,null,null,null,null,null,null,null,null,null,null,null,null,null,null,null,null,null,null,null,null,null,null,null,null,null,null,null,null,null,null,null,null,null,null,null,null,"(担当者)",null,null,null,null,null,{"$f":"IF(入力用!C12=\"\",\"\",入力用!C12)","v":""},null,null,null,null,null,null,null,null,null,null,null,null,null,null,"工事会社№（",null,null,null,null,null,null,null,null,null,{"$f":"IF(入力用!C13=\"\",\"\",入力用!C13)","v":""},null,null,"-",{"$f":"IF(入力用!E13=\"\",\"\",入力用!E13)","v":""},null,null,null,null,")"]
[]
[null,null,null,null,null,null,null,null,null,null,null,null,null,null,null,null,null,null,null,null,null,null,null,null,null,null,null,null,null,null,null,null,null,null,null,null,null,null,null,null,null,null,null,null,null,null,null,null,null,null,null,null,null,null,null,null,null,null,null,null,null,null,null,null,null,null,null,null,null," 住　所",null,null,null,null,null,{"$f":"LEFT(入力用!C14,24)","v":""}]
[null,null,null,null,null,null,null,null,null,null,null,null,"（代表者肩書）",null,null,null,null,null,null,null,null,{"$f":"IF(入力用!C5=\"\",\"\",入力用!C5)","v":""},null,null,null,null,null,null,null,null,null,null,null,null,null,null,null,null,null,null,"（代表者名）",null,null,null,null,null,null,null,{"$f":"IF(入力用!C6=\"\",\"\",入力用!C6)","v":""}]
[null,null,null,null,null,null,null,null,null,null,null,null,null,null,null,null,null,null,null,null,null,null,null,null,null,null,null,null,null,null,null,null,null,null,null,null,null,null,null,null,null,null,null,null,null,null,null,null,null,null,null,null,null,null,null,null,null,null,null,null,null,null,null,null,null,null,null,null,null,{"$f":"MID(入力用!C14,25,28)","v":""}]
[null,null,null,null,null,null,null,"ご使用\n場　所",null,null,null,null,"(〒",null,{"$f":"LEFT(入力用!C7,3)","v":""},null,null,"-",{"$f":"RIGHT(入力用!C7,4)","v":""},null,null,null,")",null,{"$f":"LEFT(入力用!C8,25)","v":""}]
[null,null,null,null,null,null,null,null,null,null,null,null,null,null,null,null,null,null,null,null,null,null,null,null,null,null,null,null,null,null,null,null,null,null,null,null,null,null,null,null,null,null,null,null,null,null,null,null,null,null,null,null,null,null,null,null,null,null,null,null,null,null,null,null,null,null,null,null,null,{"$f":"MID(入力用!C14,53,12)","v":""},null,null,null,null,null,null,null,null,null,null,null,null,null,null,null,null,null,null,null,"電話(",null,null,null,{"$f":"IF(入力用!C15=\"\",\"\",入力用!C15)","v":""},null,null,null,null,"-",{"$f":"IF(入力用!E15=\"\",\"\",入力用!E15)","v":""},null,null,null,null,"-",{"$f":"IF(入力用!H15=\"\",\"\",入力用!H15)","v":""},null,null,null,null,")"]
[]
[null,null,null,null,null,null,null,null,null,null,null,null,{"$f":"MID(入力用!C8,26,33)","v":""},null,null,null,null,null,null,null,null,null,null,null,null,null,null,null,null,null,null,null,null,null,null,null,null,null,null,null,null,null,null,null,null,null,null,null,null,null,null,null,null,null,null,null,null,null,null,null,null,null,null,null,"建築会社",null,null,null,null," 会社名",null,null,null,null,null,{"$f":"IF(入力用!C16=\"\",\"\",入力用!C16)","v":""}]
[]
[]
[null,null,null,null,null,null,null,"電話番号",null,null,null,null,"固定",null,null,{"$f":"IF(入力用!C9=\"\",\"\",入力用!C9)","v":""},null,null,null,null,null,"-",{"$f":"IF(入力用!E9=\"\",\"\",入力用!E9)","v":""},null,null,null,null,null,"-",{"$f":"IF(入力用!H9=\"\",\"\",入力用!H9)","v":""},null,null,null,null,null,null,"携帯",null,null,{"$f":"IF(入力用!C10=\"\",\"\",入力用!C10)","v":""},null,null,null,null,null,null,"-",{"$f":"IF(入力用!E10=\"\",\"\",入力用!E10)","v":""},null,null,null,null,null,null,null,"-",{"$f":"IF(入力用!H10=\"\",\"\",入力用!H10)","v":""}]
[null,null,null,null,null,null,null,null,null,null,null,null,null,null,null,null,null,null,null,null,null,null,null,null,null,null,null,null,null,null,null,null,null,null,null,null,null,null,null,null,null,null,null,null,null,null,null,null,null,null,null,null,null,null,null,null,null,null,null,null,null,null,null,null,null,null,null,null,null,"(担当者)",null,null,null,null,null,{"$f":"IF(入力用!C17=\"\",\"\",入力用!C17)","v":""},null,null,null,null,null,null,null,null,null,null,null,null,null,"電話(",null,null,null,{"$f":"IF(入力用!C18=\"\",\"\",入力用!C18)","v":""},null,null,null,null,"-",{"$f":"IF(入力用!E18=\"\",\"\",入力用!E18)","v":""},null,null,null,null,"-",{"$f":"IF(入力用!H18=\"\",\"\",入力用!H18)","v":""},null,null,null,null,")"]
[]
[null,null,null,null,null,null,null,"お支払\n方　法",null,null,null,null,{"$f":"IF(入力用!O19=2,\"口座振込\",IF(入力用!O19=3,\"口座振替\",\"\"))","v":""},null,null,null,null,null,null,null,null,null,"支　払\n者　名",null,null,null,null,{"$f":"DBCS(MID(ASC(入力用!C20),1,1))","v":""},{"$f":"DBCS(MID(ASC(入力用!C20),2,1))","v":""},{"$f":"DBCS(MID(ASC(入力用!C20),3,1))","v":""},{"$f":"DBCS(MID(ASC(入力用!C20),4,1))","v":""},{"$f":"DBCS(MID(ASC(入力用!C20),5,1))","v":""},{"$f":"DBCS(MID(ASC(入力用!C20),6,1))","v":""},{"$f":"DBCS(MID(ASC(入力用!C20),7,1))","v":""},{"$f":"DBCS(MID(ASC(入力用!C20),8,1))","v":""},{"$f":"DBCS(MID(ASC(入力用!C20),9,1))","v":""},{"$f":"DBCS(MID(ASC(入力用!C20),10,1))","v":""},{"$f":"DBCS(MID(ASC(入力用!C20),11,1))","v":""},{"$f":"DBCS(MID(ASC(入力用!C20),12,1))","v":""},{"$f":"DBCS(MID(ASC(入力用!C20),13,1))","v":""},{"$f":"DBCS(MID(ASC(入力用!C20),14,1))","v":""},{"$f":"DBCS(MID(ASC(入力用!C20),15,1))","v":""},{"$f":"DBCS(MID(ASC(入力用!C20),16,1))","v":""},{"$f":"DBCS(MID(ASC(入力用!C20),17,1))","v":""},{"$f":"DBCS(MID(ASC(入力用!C20),18,1))","v":""},{"$f":"DBCS(MID(ASC(入力用!C20),19,1))","v":""},{"$f":"DBCS(MID(ASC(入力用!C20),20,1))","v":""},"請求書\n送付先",null,null,null,null,"(〒",null,{"$f":"LEFT(入力用!C22,3)","v":""},null,null,"-",{"$f":"RIGHT(入力用!C22,4)","v":""},null,null,null,")",null,{"$f":"IF(入力用!C23=\"同上\",\"\",LEFT(入力用!C23,11))","v":""},null,null,null,null,null,null,null,null,null,null,null,null,null,null,null,null,"ご連絡先",null,null,null,null,{"$f":"IF(OR(入力用!C25=\"同上\",入力用!C25=\"同左\"),\"\",LEFT(入力用!C25,17))","v":""}]
[]
[null,null,null,null,null,null,null,null,null,null,null,null,null,null,null,null,null,null,null,null,null,null,null,null,null,null,null,{"$f":"DBCS(MID(ASC(入力用!C20),21,1))","v":""},{"$f":"DBCS(MID(ASC(入力用!C20),22,1))","v":""},{"$f":"DBCS(MID(ASC(入力用!C20),23,1))","v":""},{"$f":"DBCS(MID(ASC(入力用!C20),24,1))","v":""},{"$f":"DBCS(MID(ASC(入力用!C20),25,1))","v":""},{"$f":"DBCS(MID(ASC(入力用!C20),26,1))","v":""},{"$f":"DBCS(MID(ASC(入力用!C20),27,1))","v":""},{"$f":"DBCS(MID(ASC(入力用!C20),28,1))","v":""},{"$f":"DBCS(MID(ASC(入力用!C20),29,1))","v":""},{"$f":"DBCS(MID(ASC(入力用!C20),30,1))","v":""},{"$f":"DBCS(MID(ASC(入力用!C20),31,1))","v":""},{"$f":"DBCS(MID(ASC(入力用!C20),32,1))","v":""},{"$f":"DBCS(MID(ASC(入力用!C20),33,1))","v":""},{"$f":"DBCS(MID(ASC(入力用!C20),34,1))","v":""},{"$f":"DBCS(MID(ASC(入力用!C20),35,1))","v":""},{"$f":"DBCS(MID(ASC(入力用!C20),36,1))","v":""},{"$f":"DBCS(MID(ASC(入力用!C20),37,1))","v":""},{"$f":"DBCS(MID(ASC(入力用!C20),38,1))","v":""},{"$f":"DBCS(MID(ASC(入力用!C20),39,1))","v":""},{"$f":"DBCS(MID(ASC(入力用!C20),40,1))","v":""},null,null,null,null,null,{"$f":"IF(入力用!C23=\"同上\",入力用!C23,MID(入力用!C23,12,20))","v":""},null,null,null,null,null,null,null,null,null,null,null,null,null,null,null,null,null,null,null,null,null,null,null,null,null,null,null,null,null,null,null,null,null,{"$f":"IF(OR(入力用!C25=\"同上\",入力用!C25=\"同左\"),入力用!C25,MID(入力用!C25,18,17))","v":""}]
[]
[null,null,null,null,null,null,null,null,null,null,null,null,null,null,null,null,null,null,null,null,null,null,null,null,null,null,null,{"$f":"IF(入力用!C21=\"\",\"\",入力用!C21)","v":""}]
[null,null,null,null,null,null,null,null,null,null,null,null,null,null,null,null,null,null,null,null,null,null,null,null,null,null,null,null,null,null,null,null,null,null,null,null,null,null,null,null,null,null,null,null,null,null,null,null,null,null,null,null,{"$f":"MID(入力用!C23,32,5)","v":""},null,null,null,null,null,null,"電話(",null,null,null,{"$f":"IF(入力用!C24=\"\",\"\",入力用!C24)","v":""},null,null,null,null,"-",{"$f":"IF(入力用!E24=\"\",\"\",入力用!E24)","v":""},null,null,null,null,"-",{"$f":"IF(入力用!H24=\"\",\"\",入力用!H24)","v":""},null,null,null,null,")",null,null,null,null,null,{"$f":"IF(OR(入力用!C25=\"同上\",入力用!C25=\"同左\"),\"\",MID(入力用!C25,35,1))","v":""},null,null,"電話(",null,null,null,{"$f":"IF(入力用!C26=\"\",\"\",入力用!C26)","v":""},null,null,null,null,"-",{"$f":"IF(入力用!E26=\"\",\"\",入力用!E26)","v":""},null,null,null,null,"-",{"$f":"IF(入力用!H26=\"\",\"\",入力用!H26)","v":""},null,null,null,null,")"]
[]
[null,"臨時工事費ご請求情報送信先\nメールアドレスまたは携帯電話番号",null,null,null,null,null,null,null,null,null,null,null,null,null,null,null,null,null,null,null,null,{"$f":"IF(入力用!C27=\"\",\"\",入力用!C27)","v":""},null,null,null,null,null,null,null,null,null,null,null,null,null,null,null,null,null,null,null,null,null,null,null,null,null,null,null,null,null,null,null,null,null,"契約種別",null,null,null,null,{"$f":"IF(入力用!O30=2,入力用!P5,IF(入力用!O30=3,入力用!P6,IF(入力用!O30=4,入力用!P7,IF(入力用!O30=5,入力用!P8,\"\"))))","v":""},null,null,null,null,null,null,null,null,null,null,null,null,null,null,null,null,null,"供給電気\n方 式 ・\n供給電圧",null,null,null,null,{"$f":"IF(入力用!O31=2,入力用!Q5,IF(入力用!O31=3,入力用!Q6,IF(入力用!O31=4,入力用!Q7,IF(入力用!O31=5,入力用!Q8,\"\"))))","v":""}]
[null,null,null,null,null,null,null,null,null,null,null,null,null,null,null,null,null,null,null,null,null,null,null,null,null,null,null,null,null,null,null,null,null,null,null,null,null,null,null,null,null,null,null,null,null,null,null,null,null,null,null,null,null,null,null,null,null,null,null,null,null,null,null,null,null,null,null,null,null,null,null,null,null,null,null,null,null,null,null,null,null,null,null,null,null,null,null,null,null,null,null,null,null,null,null,null,null,null,null,null,null,"受付①"]
[]
[]
[null,"受　 電\n希望日",null,null,null,null,null,{"$f":"IF(入力用!C28=\"\",\"\",入力用!C28)","v":""},null,null,null,null,"年",null,null,{"$f":"IF(入力用!E28=\"\",\"\",入力用!E28)","v":""},null,null,null,"月",null,null,{"$f":"IF(入力用!H28=\"\",\"\",入力用!H28)","v":""},null,null,null,"日",null,null,"使　用\n終　了\n予定日",null,null,null,null,{"$f":"IF(入力用!C29=\"\",\"\",入力用!C29)","v":""},null,null,null,null,"年",null,null,{"$f":"IF(入力用!E29=\"\",\"\",入力用!E29)","v":""},null,null,null,"月",null,null,{"$f":"IF(入力用!H29=\"\",\"\",入力用!H29)","v":""},null,null,null,"日"]
[]
[]
[]
[null,"業種",null,null,null,null,null,{"$f":"IF(入力用!O32=2,入力用!R5,IF(入力用!O32=3,入力用!R6,IF(入力用!O32=4,入力用!R7,IF(入力用!O32=5,入力用!R8,IF(入力用!O32=6,入力用!R9&\"(\"&入力用!K32&\")\",\"\")))))","v":""},null,null,null,null,null,null,null,null,null,null,null,null,null,"契約\n決定\n区分",null,null,null,null,{"$f":"IF(入力用!O33=2,入力用!S5,IF(入力用!O33=3,入力用!S6,IF(入力用!O33=4,入力用!S7,IF(入力用!O33=5,入力用!S8,\"\"))))","v":""},null,null,null,null,null,null,null,null,"主開閉器・\n電流制限器\nの定格電流",null,null,null,null,null,null,null,null,null,null,null,"フリーエリア\n計器払出希望\n事 業 所 名",null,null,null,null,null,null,null,{"$f":"IF(入力用!C35=\"\",\"\",入力用!C35)","v":""},null,null,null,null,null,null,null,null,null,"臨時供給設備\nから常時供給\n設備への移行",null,null,null,null,null,null,null,null,{"$f":"IF(入力用!O36=2,入力用!T5,IF(入力用!O36=3,入力用!T6,\"\"))","v":""},null,null,null,"電設\nＮｅｔ　\n申込",null,null,null,null,{"$f":"IF(入力用!O37=2,入力用!T9,IF(入力用!O37=3,入力用!T10,\"\"))","v":""}]
[null,null,null,null,null,null,null,null,null,null,null,null,null,null,null,null,null,null,null,null,null,null,null,null,null,null,null,null,null,null,null,null,null,null,null,null,null,null,null,null,null,null,null,null,null,null,null,null,null,null,null,null,null,null,null,null,null,null,null,null,null,null,null,null,null,null,null,null,null,null,null,null,null,null,null,null,null,null,null,null,null,null,null,null,null,null,null,null,null,null,null,null,null,null,null,null,null,null,null,null,null,"受付②"]
[null,null,null,null,null,null,null,null,null,null,null,null,null,null,null,null,null,null,null,null,null,null,null,null,null,null,null,null,null,null,null,null,null,null,null,null,null,null,null,null,null,{"$f":"IF(入力用!C34=\"\",\"\",入力用!C34)","v":""}]
[null,null,null,null,null,null,null,null,null,null,null,null,null,null,null,null,null,null,null,null,null,null,null,null,null,null,null,null,null,null,null,null,null,null,null,null,null,null,null,null,null,null,null,null,null,null,null,null,null,null,null,null,null,null,null,null,null,null,null,null,null,null,null,null,null,null,null,null,null,null,null,null,null,null,null,null,null,null,null,null,null,null,null,{"$f":"IF(入力用!C38=\"\",\"\",入力用!C38)","v":""}]
[null,null,null,null,null,null,null,null,null,null,null,null,null,null,null,null,null,null,null,null,null,null,null,null,null,null,null,null,null,null,null,null,null,null,null,null,null,null,null,null,null,null,null,null,null,"Ａ"]
[]
[null,"契　　約　　負　　荷　　設　　備　　内　　訳",null,null,"臨　　時　　電　　灯　　Ａ",null,null,"機　器　種　別",null,null,null,null,null,null,null,null,null,null,null,null,null,null,null,null,null,null,null,null,"出　力",null,null,null,null,null,null,null,null,null,null,null,"力　　率",null,null,null,null,null,null,null,null,null,null,null,"入　力（ａ）",null,null,null,null,null,null,null,null,null,null,null,"台数（ｂ）",null,null,null,null,null,null,"合計(ａ×ｂ)"]
[null,null,null,null,null,null,null,null,null,null,null,null,null,null,null,null,null,null,null,null,null,null,null,null,null,null,null,null,null,null,null,null,null,null,null,null,null,null,null,null,null,null,null,null,null,null,null,null,null,null,null,null,null,null,null,null,null,null,null,null,null,null,null,null,null,null,null,null,null,null,null,null,null,null,null,null,null,null,null,null,null,"引込以下工事",null,null,null,null,null,null,"要",null,null,null,null,null,"不要"]
[null,null,null,null,null,null,null,{"$f":"IF(入力用!C39=\"\",\"\",入力用!C39)","v":""},null,null,null,null,null,null,null,null,null,null,null,null,null,null,null,null,null,null,null,null,{"$f":"IF(入力用!C40=\"\",\"\",入力用!C40)","v":""},null,null,null,null,null,null,null,null,"Ｗ",null,null,{"$f":"IF(入力用!O41=2,入力用!U5,IF(入力用!O41=3,入力用!U6,\"\"))","v":""},null,null,null,null,null,null,null,null,null,null,null,{"$f":"IF(入力用!C42=\"\",\"\",入力用!C42)","v":""},null,null,null,null,null,null,null,null,"ＶＡ",null,null,{"$f":"IF(入力用!C43=\"\",\"\",入力用!C43)","v":""},null,null,null,"台",null,null,{"$f":"IF(入力用!P43=0,\"\",入力用!P43)","v":""},null,null,null,null,null,null,"VA"]
[null,null,null,null,null,null,null,null,null,null,null,null,null,null,null,null,null,null,null,null,null,null,null,null,null,null,null,null,null,null,null,null,null,null,null,null,null,null,null,null,null,null,null,null,null,null,null,null,null,null,null,null,null,null,null,null,null,null,null,null,null,null,null,null,null,null,null,null,null,null,null,null,null,null,null,null,null,null,null,null,null,null,null,null,null,null,null,null,null,null,null,null,null,null,null,null,null,null,null,null,null,"受付③"]
[null,null,null,null,null,null,null,null,null,null,null,null,null,null,null,null,null,null,null,null,null,null,null,null,null,null,null,null,null,null,null,null,null,null,null,null,null,null,null,null,null,null,null,null,null,null,null,null,null,null,null,null,null,null,null,null,null,null,null,null,null,null,null,null,null,null,null,null,null,null,null,null,null,null,null,null,null,null,null,null,null,"メッセンジャー",null,null,null,null,null,null," №"]
[null,null,null,null,null,null,null,{"$f":"IF(入力用!C44=\"\",\"\",入力用!C44)","v":""},null,null,null,null,null,null,null,null,null,null,null,null,null,null,null,null,null,null,null,null,{"$f":"IF(入力用!C45=\"\",\"\",入力用!C45)","v":""},null,null,null,null,null,null,null,null,"Ｗ",null,null,{"$f":"IF(入力用!O46=2,入力用!U5,IF(入力用!O46=3,入力用!U6,\"\"))","v":""},null,null,null,null,null,null,null,null,null,null,null,{"$f":"IF(入力用!C47=\"\",\"\",入力用!C47)","v":""},null,null,null,null,null,null,null,null,"ＶＡ",null,null,{"$f":"IF(入力用!C48=\"\",\"\",入力用!C48)","v":""},null,null,null,"台",null,null,{"$f":"IF(入力用!P48=0,\"\",入力用!P48)","v":""},null,null,null,null,null,null,"VA"]
[]
[null,null,null,null,null,null,null,null,null,null,null,null,null,null,null,null,null,null,null,null,null,null,null,null,null,null,null,null,null,null,null,null,null,null,null,null,null,null,null,null,null,null,null,null,null,null,null,null,null,null,null,null,null,null,null,null,null,null,null,null,null,null,null,null,null,null,null,null,null,null,null,null,null,null,null,null,null,null,null,null,null,"外 線 工 事",null,null,null,null,null,null," №"]
[null,null,null,null,null,null,null,{"$f":"IF(入力用!C49=\"\",\"\",入力用!C49)","v":""},null,null,null,null,null,null,null,null,null,null,null,null,null,null,null,null,null,null,null,null,{"$f":"IF(入力用!C50=\"\",\"\",入力用!C50)","v":""},null,null,null,null,null,null,null,null,"Ｗ",null,null,{"$f":"IF(入力用!O51=2,入力用!U5,IF(入力用!O51=3,入力用!U6,\"\"))","v":""},null,null,null,null,null,null,null,null,null,null,null,{"$f":"IF(入力用!C52=\"\",\"\",入力用!C52)","v":""},null,null,null,null,null,null,null,null,"ＶＡ",null,null,{"$f":"IF(入力用!C53=\"\",\"\",入力用!C53)","v":""},null,null,null,"台",null,null,{"$f":"IF(入力用!P53=0,\"\",入力用!P53)","v":""},null,null,null,null,null,null,"VA"]
[]
[]
[null,null,null,null,null,null,null,{"$f":"IF(入力用!C54=\"\",\"\",入力用!C54)","v":""},null,null,null,null,null,null,null,null,null,null,null,null,null,null,null,null,null,null,null,null,{"$f":"IF(入力用!C55=\"\",\"\",入力用!C55)","v":""},null,null,null,null,null,null,null,null,"Ｗ",null,null,{"$f":"IF(入力用!O56=2,入力用!U5,IF(入力用!O56=3,入力用!U6,\"\"))","v":""},null,null,null,null,null,null,null,null,null,null,null,{"$f":"IF(入力用!C57=\"\",\"\",入力用!C57)","v":""},null,null,null,null,null,null,null,null,"ＶＡ",null,null,{"$f":"IF(入力用!C58=\"\",\"\",入力用!C58)","v":""},null,null,null,"台",null,null,{"$f":"IF(入力用!P58=0,\"\",入力用!P58)","v":""},null,null,null,null,null,null,"VA",null,null,null,null,null,null,null,null,null,null,null,null,null,null,null,null,null,null,null,null,null,null,"図面照査"]
[]
[]
[null,null,null,null,null,null,null,{"$f":"IF(入力用!C59=\"\",\"\",入力用!C59)","v":""},null,null,null,null,null,null,null,null,null,null,null,null,null,null,null,null,null,null,null,null,{"$f":"IF(入力用!C60=\"\",\"\",入力用!C60)","v":""},null,null,null,null,null,null,null,null,"Ｗ",null,null,{"$f":"IF(入力用!O61=2,入力用!U5,IF(入力用!O61=3,入力用!U6,\"\"))","v":""},null,null,null,null,null,null,null,null,null,null,null,{"$f":"IF(入力用!C62=\"\",\"\",入力用!C62)","v":""},null,null,null,null,null,null,null,null,"ＶＡ",null,null,{"$f":"IF(入力用!C63=\"\",\"\",入力用!C63)","v":""},null,null,null,"台",null,null,{"$f":"IF(入力用!P63=0,\"\",入力用!P63)","v":""},null,null,null,null,null,null,"VA",null,null,"臨時引込線工事の内容"]
[]
[null,null,null,null,null,null,null,null,null,null,null,null,null,null,null,null,null,null,null,null,null,null,null,null,null,null,null,null,null,null,null,null,null,null,null,null,null,null,null,null,null,null,null,null,null,null,null,null,null,null,null,null,null,null,null,null,null,null,null,null,null,null,null,null,null,null,null,null,null,null,null,null,null,null,null,null,null,null,null,null,null,"引込\n方法",null,null,null,"単独・連接・ﾒｯｾﾝｼﾞｬｰ"]
[null,null,null,null,null,null,null,{"$f":"IF(入力用!C64=\"\",\"\",入力用!C64)","v":""},null,null,null,null,null,null,null,null,null,null,null,null,null,null,null,null,null,null,null,null,{"$f":"IF(入力用!C65=\"\",\"\",入力用!C65)","v":""},null,null,null,null,null,null,null,null,"Ｗ",null,null,{"$f":"IF(入力用!O66=2,入力用!U5,IF(入力用!O66=3,入力用!U6,\"\"))","v":""},null,null,null,null,null,null,null,null,null,null,null,{"$f":"IF(入力用!C67=\"\",\"\",入力用!C67)","v":""},null,null,null,null,null,null,null,null,"ＶＡ",null,null,{"$f":"IF(入力用!C68=\"\",\"\",入力用!C68)","v":""},null,null,null,"台",null,null,{"$f":"IF(入力用!P68=0,\"\",入力用!P68)","v":""},null,null,null,null,null,null,"VA"]
[]
[null,null,null,null,null,null,null,null,null,null,null,null,null,null,null,null,null,null,null,null,null,null,null,null,null,null,null,null,null,null,null,null,null,null,null,null,null,null,null,null,null,null,null,null,null,null,null,null,null,null,null,null,null,null,null,null,null,null,null,null,null,null,null,null,null,null,null,null,null,null,null,null,null,null,null,null,null,null,null,null,null,null,null,null,null,null,null,null,null,null,null,null,null,null,null,null,null,null,null,null,null,"外線設計"]
[null,null,null,null,null,null,null,{"$f":"IF(入力用!C69=\"\",\"\",入力用!C69)","v":""},null,null,null,null,null,null,null,null,null,null,null,null,null,null,null,null,null,null,null,null,{"$f":"IF(入力用!C70=\"\",\"\",入力用!C70)","v":""},null,null,null,null,null,null,null,null,"Ｗ",null,null,{"$f":"IF(入力用!O71=2,入力用!U5,IF(入力用!O71=3,入力用!U6,\"\"))","v":""},null,null,null,null,null,null,null,null,null,null,null,{"$f":"IF(入力用!C72=\"\",\"\",入力用!C72)","v":""},null,null,null,null,null,null,null,null,"ＶＡ",null,null,{"$f":"IF(入力用!C73=\"\",\"\",入力用!C73)","v":""},null,null,null,"台",null,null,{"$f":"IF(入力用!P73=0,\"\",入力用!P73)","v":""},null,null,null,null,null,null,"VA",null,null,"電気\n方式",null,null,null,"２線式　　３線式"]
[]
[]
[null,null,null,null,null,null,null,{"$f":"IF(入力用!C74=\"\",\"\",入力用!C74)","v":""},null,null,null,null,null,null,null,null,null,null,null,null,null,null,null,null,null,null,null,null,{"$f":"IF(入力用!C75=\"\",\"\",入力用!C75)","v":""},null,null,null,null,null,null,null,null,"Ｗ",null,null,{"$f":"IF(入力用!O76=2,入力用!U5,IF(入力用!O76=3,入力用!U6,\"\"))","v":""},null,null,null,null,null,null,null,null,null,null,null,{"$f":"IF(入力用!C77=\"\",\"\",入力用!C77)","v":""},null,null,null,null,null,null,null,null,"ＶＡ",null,null,{"$f":"IF(入力用!C78=\"\",\"\",入力用!C78)","v":""},null,null,null,"台",null,null,{"$f":"IF(入力用!P78=0,\"\",入力用!P78)","v":""},null,null,null,null,null,null,"VA"]
[null,null,null,null,null,null,null,null,null,null,null,null,null,null,null,null,null,null,null,null,null,null,null,null,null,null,null,null,null,null,null,null,null,null,null,null,null,null,null,null,null,null,null,null,null,null,null,null,null,null,null,null,null,null,null,null,null,null,null,null,null,null,null,null,null,null,null,null,null,null,null,null,null,null,null,null,null,null,null,null,null,"太さ",null,null,null,"2.6　 3.2　 14　 22\n38　60　その他(　 )"]
[]
[null,null,null,null,null,null,null,{"$f":"IF(入力用!C79=\"\",\"\",入力用!C79)","v":""},null,null,null,null,null,null,null,null,null,null,null,null,null,null,null,null,null,null,null,null,{"$f":"IF(入力用!C80=\"\",\"\",入力用!C80)","v":""},null,null,null,null,null,null,null,null,"Ｗ",null,null,{"$f":"IF(入力用!O81=2,入力用!U5,IF(入力用!O81=3,入力用!U6,\"\"))","v":""},null,null,null,null,null,null,null,null,null,null,null,{"$f":"IF(入力用!C82=\"\",\"\",入力用!C82)","v":""},null,null,null,null,null,null,null,null,"ＶＡ",null,null,{"$f":"IF(入力用!C83=\"\",\"\",入力用!C83)","v":""},null,null,null,"台",null,null,{"$f":"IF(入力用!P83=0,\"\",入力用!P83)","v":""},null,null,null,null,null,null,"VA"]
[null,null,null,null,null,null,null,null,null,null,null,null,null,null,null,null,null,null,null,null,null,null,null,null,null,null,null,null,null,null,null,null,null,null,null,null,null,null,null,null,null,null,null,null,null,null,null,null,null,null,null,null,null,null,null,null,null,null,null,null,null,null,null,null,null,null,null,null,null,null,null,null,null,null,null,null,null,null,null,null,null,null,null,null,null,null,null,null,null,null,null,null,null,null,null,null,null,null,null,null,null,"臨\n時\n工\n事\n費\n計\n算"]
[null,null,null,null,null,null,null,null,null,null,null,null,null,null,null,null,null,null,null,null,null,null,null,null,null,null,null,null,null,null,null,null,null,null,null,null,null,null,null,null,null,null,null,null,null,null,null,null,null,null,null,null,null,null,null,null,null,null,null,null,null,null,null,null,null,null,null,null,null,null,null,null,null,null,null,null,null,null,null,null,null,"工事\n月日",null,null,null,null,null,null,"年",null,null,null,null,"月",null,null,null,null,"日"]
[null,null,null,null,null,null,null,{"$f":"IF(入力用!C84=\"\",\"\",入力用!C84)","v":""},null,null,null,null,null,null,null,null,null,null,null,null,null,null,null,null,null,null,null,null,{"$f":"IF(入力用!C85=\"\",\"\",入力用!C85)","v":""},null,null,null,null,null,null,null,null,"Ｗ",null,null,{"$f":"IF(入力用!O86=2,入力用!U5,IF(入力用!O86=3,入力用!U6,\"\"))","v":""},null,null,null,null,null,null,null,null,null,null,null,{"$f":"IF(入力用!C87=\"\",\"\",入力用!C87)","v":""},null,null,null,null,null,null,null,null,"ＶＡ",null,null,{"$f":"IF(入力用!C88=\"\",\"\",入力用!C88)","v":""},null,null,null,"台",null,null,{"$f":"IF(入力用!P88=0,\"\",入力用!P88)","v":""},null,null,null,null,null,null,"VA"]
[]
[]
[null,null,null,null,null,null,null,{"$f":"IF(入力用!C89=\"\",\"\",入力用!C89)","v":""},null,null,null,null,null,null,null,null,null,null,null,null,null,null,null,null,null,null,null,null,{"$f":"IF(入力用!C90=\"\",\"\",入力用!C90)","v":""},null,null,null,null,null,null,null,null,"Ｗ",null,null,{"$f":"IF(入力用!O91=2,入力用!U5,IF(入力用!O91=3,入力用!U6,\"\"))","v":""},null,null,null,null,null,null,null,null,null,null,null,{"$f":"IF(入力用!C92=\"\",\"\",入力用!C92)","v":""},null,null,null,null,null,null,null,null,"ＶＡ",null,null,{"$f":"IF(入力用!C93=\"\",\"\",入力用!C93)","v":""},null,null,null,"台",null,null,{"$f":"IF(入力用!P93=0,\"\",入力用!P93)","v":""},null,null,null,null,null,null,"VA"]
[null,null,null,null,null,null,null,null,null,null,null,null,null,null,null,null,null,null,null,null,null,null,null,null,null,null,null,null,null,null,null,null,null,null,null,null,null,null,null,null,null,null,null,null,null,null,null,null,null,null,null,null,null,null,null,null,null,null,null,null,null,null,null,null,null,null,null,null,null,null,null,null,null,null,null,null,null,null,null,null,"契約容量",null,null,null,null,null,null,null,null,{"$f":"IF(入力用!O30=2,IF(入力用!O33=3,入力用!R15,IF(SUM(BT57:BZ92)=0,\"\",SUM(BT57:BZ92))),\"\")","v":""},null,null,null,null,null,null,"ＶＡ"]
[]
[null,null,null,null,null,null,null,{"$f":"IF(入力用!C94=\"\",\"\",入力用!C94)","v":""},null,null,null,null,null,null,null,null,null,null,null,null,null,null,null,null,null,null,null,null,{"$f":"IF(入力用!C95=\"\",\"\",入力用!C95)","v":""},null,null,null,null,null,null,null,null,"Ｗ",null,null,{"$f":"IF(入力用!O96=2,入力用!U5,IF(入力用!O96=3,入力用!U6,\"\"))","v":""},null,null,null,null,null,null,null,null,null,null,null,{"$f":"IF(入力用!C97=\"\",\"\",入力用!C97)","v":""},null,null,null,null,null,null,null,null,"ＶＡ",null,null,{"$f":"IF(入力用!C98=\"\",\"\",入力用!C98)","v":""},null,null,null,"台",null,null,{"$f":"IF(入力用!P98=0,\"\",入力用!P98)","v":""},null,null,null,null,null,null,"VA",null,null,null,null,null,null,null,null,null,null,null,null,null,null,null,null,null,null,null,null,null,null,"臨\n時\n工\n事\n費\n入\n金"]
[]
[]
[null,null,null,null,"臨時\n電灯\nＢ･Ｃ",null,null,"電　　　　　灯",null,null,null,null,null,null,null,null,null,null,null,null,null,null,null,null,null,null,null,"小　型　機　器",null,null,null,null,null,null,null,null,null,null,null,null,null,null,null,null,null,null,null,"回路数",null,null,null,null,null,null,"適用業種別回路数内訳",null,null,null,null,null,null,null,null,null,null,null,null,null,null,null,null,"合 計 容 量"]
[]
[null,null,null,null,null,null,null,{"$f":"IF(入力用!C99=\"\",\"\",入力用!C99)","v":""},null,null,null,null,"灯",null,null,{"$f":"IF(入力用!C100=\"\",\"\",入力用!C100)","v":""},null,null,null,null,null,null,null,null,"ＶＡ",null,null,{"$f":"IF(入力用!C101=\"\",\"\",入力用!C101)","v":""},null,null,null,null,"個",null,null,{"$f":"IF(入力用!C102=\"\",\"\",入力用!C102)","v":""},null,null,null,null,null,null,null,null,"ＶＡ",null,null,{"$f":"IF(入力用!C103=\"\",\"\",入力用!C103)","v":""},null,null,null,null,null,null,{"$f":"入力用!P105","v":""},null,null,null,null,null,null,null,null,null,{"$f":"IF(入力用!E105=\"\",\"\",入力用!E105)","v":""},null,null,"回路",null,null,null,{"$f":"IF(OR(入力用!O33<4,入力用!R15=0),\"\",入力用!R15)","v":""}]
[null,null,null,null,null,null,null,null,null,null,null,null,null,null,null,null,null,null,null,null,null,null,null,null,null,null,null,null,null,null,null,null,null,null,null,null,null,null,null,null,null,null,null,null,null,null,null,null,null,null,null,null,null,null,null,null,null,null,null,null,null,null,null,null,null,null,null,null,null,null,null,null,null,null,null,null,null,null,null,null,{"$f":"IF(入力用!O30=4,\"契約電流\",IF(入力用!O30=5,\"契約容量\",\"契約電流\n契約容量\"))","v":"契約電流\n契約容量"},null,null,null,null,null,null,null,null,{"$f":"IF(入力用!O30>3,IF(入力用!R14=0,\"\",入力用!R14),\"\")","v":""},null,null,null,null,null,null,{"$f":"IF(入力用!O30=4,\"Ａ\",IF(入力用!O30=5,\"ＶＡ\",\"Ａ\nｋＶＡ\"))","v":"Ａ\nｋＶＡ"}]
[null,null,null,null,null,null,null,null,null,null,null,null,null,null,null,null,null,null,null,null,null,null,null,null,null,null,null,null,null,null,null,null,null,null,null,null,null,null,null,null,null,null,null,null,null,null,null,null,null,null,null,null,null,null,{"$f":"入力用!P107","v":""},null,null,null,null,null,null,null,null,null,{"$f":"IF(入力用!E107=\"\",\"\",入力用!E107)","v":""},null,null,"回路"]
[null,null,null,null,null,null,null,null,null,null,null,null,null,null,null,null,null,null,null,null,null,null,null,null,null,null,null,null,null,null,null,null,null,null,null,null,null,null,null,null,null,null,null,null,null,null,null,null,null,null,null,null,null,null,null,null,null,null,null,null,null,null,null,null,null,null,null,null,null,null,null,null,null,null,null,null,null,null,null,null,null,null,null,null,null,null,null,null,null,null,null,null,null,null,null,null,null,null,null,null,null,"送電申込受付"]
[null,null,null,null,null,null,null,null,null,null,null,null,null,null,null,null,null,null,null,null,null,null,null,null,null,null,null,null,null,null,null,null,null,null,null,null,null,null,null,null,null,null,null,null,null,null,null,null,null,null,null,null,null,null,{"$f":"入力用!P109","v":""},null,null,null,null,null,null,null,null,null,{"$f":"IF(入力用!E109=\"\",\"\",入力用!E109)","v":""},null,null,"回路",null,null,null,null,null,null,null,null,null,"ＶＡ"]
[]
[null,null,null,null,"臨　時　電　力",null,null,"機　器　種　別",null,null,null,null,null,null,null,null,null,null,null,null,null,null,null,null,null,null,null,null,null,null,null,null,null,null,null,null,null,null,null,null,"出　力",null,null,null,null,null,null,null,null,null,null,null,"入　力（ａ）",null,null,null,null,null,null,null,null,null,null,null,"台数（ｂ）",null,null,null,null,null,null,"合計(ａ×ｂ)"]
[]
[null,null,null,null,null,null,null,{"$f":"IF(入力用!C110=\"\",\"\",入力用!C110)","v":""},null,null,null,null,null,null,null,null,null,null,null,null,null,null,null,null,null,null,null,null,null,null,null,null,null,null,null,null,null,null,null,null,{"$f":"IF(入力用!C111=\"\",\"\",入力用!C111)","v":""},null,null,null,null,null,null,null,null,{"$f":"IF(入力用!O111=2,入力用!W5,IF(入力用!O111=3,入力用!W6,\"㏋\nkW\"))","v":"㏋\nkW"},null,null,{"$f":"IF(入力用!C112=\"\",\"\",入力用!C112)","v":""},null,null,null,null,null,null,null,null,"ｋＷ",null,null,{"$f":"IF(入力用!C113=\"\",\"\",入力用!C113)","v":""},null,null,null,"台",null,null,{"$f":"入力用!P113","v":""},null,null,null,null,null,null,"kW",null,null,"契約使用期間"]
[]
[null,null,null,null,null,null,null,null,null,null,null,null,null,null,null,null,null,null,null,null,null,null,null,null,null,null,null,null,null,null,null,null,null,null,null,null,null,null,null,null,null,null,null,null,null,null,null,null,null,null,null,null,null,null,null,null,null,null,null,null,null,null,null,null,null,null,null,null,null,null,null,null,null,null,null,null,null,null,null,null,null,"②",null,null,null,"自"]
[null,null,null,null,null,null,null,{"$f":"IF(入力用!C114=\"\",\"\",入力用!C114)","v":""},null,null,null,null,null,null,null,null,null,null,null,null,null,null,null,null,null,null,null,null,null,null,null,null,null,null,null,null,null,null,null,null,{"$f":"IF(入力用!C115=\"\",\"\",入力用!C115)","v":""},null,null,null,null,null,null,null,null,{"$f":"IF(入力用!O115=2,入力用!W5,IF(入力用!O115=3,入力用!W6,\"㏋\nkW\"))","v":"㏋\nkW"},null,null,{"$f":"IF(入力用!C116=\"\",\"\",入力用!C116)","v":""},null,null,null,null,null,null,null,null,"ｋＷ",null,null,{"$f":"IF(入力用!C117=\"\",\"\",入力用!C117)","v":""},null,null,null,"台",null,null,{"$f":"入力用!P117","v":""},null,null,null,null,null,null,"kW",null,null,null,null,null,null,null,null,null,null,null,null,null,null,null,null,null,null,null,null,null,null,"契約確認"]
[null,null,null,null,null,null,null,null,null,null,null,null,null,null,null,null,null,null,null,null,null,null,null,null,null,null,null,null,null,null,null,null,null,null,null,null,null,null,null,null,null,null,null,null,null,null,null,null,null,null,null,null,null,null,null,null,null,null,null,null,null,null,null,null,null,null,null,null,null,null,null,null,null,null,null,null,null,null,null,null,null,null,null,null,null,"至"]
[]
[null,null,null,null,null,null,null,{"$f":"IF(入力用!C118=\"\",\"\",入力用!C118)","v":""},null,null,null,null,null,null,null,null,null,null,null,null,null,null,null,null,null,null,null,null,null,null,null,null,null,null,null,null,null,null,null,null,{"$f":"IF(入力用!C119=\"\",\"\",入力用!C119)","v":""},null,null,null,null,null,null,null,null,{"$f":"IF(入力用!O119=2,入力用!W5,IF(入力用!O119=3,入力用!W6,\"㏋\nkW\"))","v":"㏋\nkW"},null,null,{"$f":"IF(入力用!C120=\"\",\"\",入力用!C120)","v":""},null,null,null,null,null,null,null,null,"ｋＷ",null,null,{"$f":"IF(入力用!C121=\"\",\"\",入力用!C121)","v":""},null,null,null,"台",null,null,{"$f":"入力用!P121","v":""},null,null,null,null,null,null,"kW",null,null,"③",null,null,null,"自"]
[]
[null,null,null,null,null,null,null,null,null,null,null,null,null,null,null,null,null,null,null,null,null,null,null,null,null,null,null,null,null,null,null,null,null,null,null,null,null,null,null,null,null,null,null,null,null,null,null,null,null,null,null,null,null,null,null,null,null,null,null,null,null,null,null,null,null,null,null,null,null,null,null,null,null,null,null,null,null,null,null,null,null,null,null,null,null,"至"]
[null,null,null,null,null,null,null,{"$f":"IF(入力用!C122=\"\",\"\",入力用!C122)","v":""},null,null,null,null,null,null,null,null,null,null,null,null,null,null,null,null,null,null,null,null,null,null,null,null,null,null,null,null,null,null,null,null,{"$f":"IF(入力用!C123=\"\",\"\",入力用!C123)","v":""},null,null,null,null,null,null,null,null,{"$f":"IF(入力用!O123=2,入力用!W5,IF(入力用!O123=3,入力用!W6,\"㏋\nkW\"))","v":"㏋\nkW"},null,null,{"$f":"IF(入力用!C124=\"\",\"\",入力用!C124)","v":""},null,null,null,null,null,null,null,null,"ｋＷ",null,null,{"$f":"IF(入力用!C125=\"\",\"\",入力用!C125)","v":""},null,null,null,"台",null,null,{"$f":"入力用!P125","v":""},null,null,null,null,null,null,"kW"]
[]
[null,null,null,null,null,null,null,null,null,null,null,null,null,null,null,null,null,null,null,null,null,null,null,null,null,null,null,null,null,null,null,null,null,null,null,null,null,null,null,null,null,null,null,null,null,null,null,null,null,null,null,null,null,null,null,null,null,null,null,null,null,null,null,null,null,null,null,null,null,null,null,null,null,null,null,null,null,null,null,null,null,null,null,null,null,null,null,null,null,null,null,null,null,null,null,null,null,null,null,null,null,"上長確認"]
[null,null,null,null,null,null,null,{"$f":"IF(入力用!C126=\"\",\"\",入力用!C126)","v":""},null,null,null,null,null,null,null,null,null,null,null,null,null,null,null,null,null,null,null,null,null,null,null,null,null,null,null,null,null,null,null,null,{"$f":"IF(入力用!C127=\"\",\"\",入力用!C127)","v":""},null,null,null,null,null,null,null,null,{"$f":"IF(入力用!O127=2,入力用!W5,IF(入力用!O127=3,入力用!W6,\"㏋\nkW\"))","v":"㏋\nkW"},null,null,{"$f":"IF(入力用!C128=\"\",\"\",入力用!C128)","v":""},null,null,null,null,null,null,null,null,"ｋＷ",null,null,{"$f":"IF(入力用!C129=\"\",\"\",入力用!C129)","v":""},null,null,null,"台",null,null,{"$f":"入力用!P129","v":""},null,null,null,null,null,null,"kW"]
[]
[]
[null,null,null,null,null,null,null,{"$f":"IF(入力用!C130=\"\",\"\",入力用!C130)","v":""},null,null,null,null,null,null,null,null,null,null,null,null,null,null,null,null,null,null,null,null,null,null,null,null,null,null,null,null,null,null,null,null,{"$f":"IF(入力用!C131=\"\",\"\",入力用!C131)","v":""},null,null,null,null,null,null,null,null,{"$f":"IF(入力用!O131=2,入力用!W5,IF(入力用!O131=3,入力用!W6,\"㏋\nkW\"))","v":"㏋\nkW"},null,null,{"$f":"IF(入力用!C132=\"\",\"\",入力用!C132)","v":""},null,null,null,null,null,null,null,null,"ｋＷ",null,null,{"$f":"IF(入力用!C133=\"\",\"\",入力用!C133)","v":""},null,null,null,"台",null,null,{"$f":"入力用!P133","v":""},null,null,null,null,null,null,"kW"]
[null,null,null,null,null,null,null,null,null,null,null,null,null,null,null,null,null,null,null,null,null,null,null,null,null,null,null,null,null,null,null,null,null,null,null,null,null,null,null,null,null,null,null,null,null,null,null,null,null,null,null,null,null,null,null,null,null,null,null,null,null,null,null,null,null,null,null,null,null,null,null,null,null,null,null,null,null,null,null,null,"契約電力",null,null,null,null,null,null,null,null,{"$f":"IF(入力用!O30=3,IF(入力用!R31=0,\"\",入力用!R31),\"\")","v":""},null,null,null,null,null,null,"ｋＷ"]
[]
[null,null,null,null,null,null,null,{"$f":"IF(入力用!C134=\"\",\"\",入力用!C134)","v":""},null,null,null,null,null,null,null,null,null,null,null,null,null,null,null,null,null,null,null,null,null,null,null,null,null,null,null,null,null,null,null,null,{"$f":"IF(入力用!C135=\"\",\"\",入力用!C135)","v":""},null,null,null,null,null,null,null,null,{"$f":"IF(入力用!O135=2,入力用!W5,IF(入力用!O135=3,入力用!W6,\"㏋\nkW\"))","v":"㏋\nkW"},null,null,{"$f":"IF(入力用!C136=\"\",\"\",入力用!C136)","v":""},null,null,null,null,null,null,null,null,"ｋＷ",null,null,{"$f":"IF(入力用!C135=\"\",\"\",入力用!C135)","v":""},null,null,null,"台",null,null,{"$f":"入力用!P137","v":""},null,null,null,null,null,null,"kW"]
[null,null,null,null,null,null,null,null,null,null,null,null,null,null,null,null,null,null,null,null,null,null,null,null,null,null,null,null,null,null,null,null,null,null,null,null,null,null,null,null,null,null,null,null,null,null,null,null,null,null,null,null,null,null,null,null,null,null,null,null,null,null,null,null,null,null,null,null,null,null,null,null,null,null,null,null,null,null,null,null,null,null,null,null,null,null,null,null,null,null,null,null,null,null,null,null,null,null,null,null,null,"竣工調査"]
[]
[null,"異動種別",null,null,"・新設　　 　・減少",null,null,null,null,null,null,null,null,null,null,null,null,null,null,null,null,null,null,null,null,null,null,null,"供給地点特定番号",null,null,null,null,null,null,null,"発行\n回数",null,null,"支店",null,"ﾌﾞﾛｯｸ",null,null,"住所",null,null,null,null,"街区",null,null,"契約№",null,null,null,null,"枝番",null,null,"種別",null,null,null,null,null,"送電日\n（異動日）"]
[]
[null,null,null,null,"・種変(+)　　・設備変更"]
[]
[null,null,null,null,"・ｺｰﾄﾞ変(+)　・名義変更",null,null,null,null,null,null,null,null,null,null,null,null,null,null,null,null,null,null,null,null,null,null,null,null,null,null,"010",null,null,null,null,null,null,null,null,null,null,null,null,null,null,null,null,null,null,null,null,null,null,null,null,null,null,null,null,null,null,null,"00"]
[]
[null,null,null,null,"・増加　　 　・その他（　　　　　　　 ）",null,null,null,null,null,null,null,null,null,null,null,null,null,null,null,null,null,null,null,null,null,null,null,null,null,null,null,null,null,null,null,null,null,null,null,null,null,null,null,null,null,null,null,null,null,null,null,null,null,null,null,null,null,null,null,null,null,null,null,null,null,null,null,null,null,null,"年",null,null,null,"月",null,null,null,"日",null,null,null,null,null,null,null,null,null,null,null,null,null,null,null,null,null,null,null,null,null,"完了確認"]
[]
[null,"業種",null,null,"・建築工事　・脱穀調整用･水稲育苗用(反復使用)",null,null,null,null,null,null,null,null,null,null,null,null,null,null,null,null,null,null,null,null,null,null,null,null,null,null,"供給\n電気\n方式",null,null,{"$f":"IF(入力用!O31=2,\"単相2線100V\",IF(入力用!O31=3,\"単相2線200V\",IF(入力用!O31=4,\"単相3線100V\",IF(入力用!O31=5,\"3相3線200V\",\"\"))))","v":""},null,null,null,null,null,null,null,null,null,"契約使用期間自動延長",null,null,null,null,null,null,null,null,null,null,null,null,null,null,null,null,null,null,null,null,null,null,null,null,null,null,null,null,null,null,null,null,null,null,"引込\n柱№",null,null,"画",null,null,"区",null,null,"図",null,null,"番",null,null,"の",null,null,"号"]
[]
[null,null,null,null,"・土木工事　・その他",null,null,null,null,null,null,null,null,null,null,null,null,null,null,null,null,null,null,null,null,null,null,null,null,null,null,null,null,null,null,null,null,null,null,null,null,null,null,null,"・可（1か月ずつ延長)"]
[]
[null,null,null,null,"・祭典用",null,null,null,null,null,null,null,null,null,null,null,null,null,null,null,null,null,null,null,null,null,null,null,null,null,null,null,null,null,null,null,null,null,null,null,null,null,null,null,"・不可（延長有無を電話確認)"]
[]
[null,null,null,null,"・仮店舗",null,null,null,null,null,null,null,null,null,null,null,null,null,null,null,null,null,null,null,null,null,null,null,null,null,null,null,null,null,null,null,null,null,null,null,null,null,null,null,null,null,null,null,null,null,null,null,null,null,null,null,null,null,null,null,null,null,null,null,null,null,null,null,null,null,null,null,null,null,null,null,null,null,null,null,null,null,null,null,null,null,null,null,null,null,null,null,null,null,null,null,null,null,null,null,null,"完了連絡"]
[null,null,null,null,null,null,null,null,null,null,null,null,null,null,null,null,null,null,null,null,null,null,null,null,null,null,null,null,null,null,null,null,null,null,null,null,null,null,null,null,null,null,null,null,null,null,null,null,null,null,null,null,null,null,null,null,null,null,null,null,null,null,null,null,null,null,null,null,null,null,null,null,null,null,"臨　　時　　工　　事　　費"]
[null,"支払者\n番号",null,null,null,null,null,null,null,null,null,null,null,null,null,null,null,null,null,null,null,null,"まとめ\n請求",null,null,null,"・有　　　・無",null,null,null,null,null,null,null,null,null,null,null,null,null,"支払\n番号"]
[null,null,null,null,null,null,null,null,null,null,null,null,null,null,null,null,null,null,null,null,null,null,null,null,null,null,null,null,null,null,null,null,null,null,null,null,null,null,null,null,null,null,null,null,null,null,null,null,null,null,null,null,null,null,null,null,null,null,null,null,null,null,null,null,null,null,null,null,null,null,null,null,null,null,"入　　金　　額",null,null,null,null,null,null,null,null,null,null,null,null,null,null,null,null,null,null,null,null,null,null,"円"]
[]
[]
[null,"決済\nアクセスキー",null,null,null,null,null,null,null,null,null,null,null,null,null,null,null,null,null,null,null,null,null,null,"請求書\n要　否",null,null,null,"・否　　　・要",null,null,null,null,null,null,null,null,null,null,null,null,null,null,null,null,null,null,null,null,null,null,null,null,null,null,null,null,null,null,null,null,null,null,null,null,null,null,null,null,null,null,null,null,null,"消　費　税　等",null,null,null,null,null,null,null,null,null,null,null,null,null,null,null,null,null,null,null,null,null,null,"円"]
[]
[null,null,null,null,null,null,null,null,null,null,null,null,null,null,null,null,null,null,null,null,null,null,null,null,null,null,null,null,null,null,null,null,null,null,null,null,null,null,null,null,null,null,null,null,null,null,null,null,null,null,null,null,null,null,null,null,null,null,null,null,null,null,null,null,null,null,null,null,null,null,null,null,null,null,null,null,null,null,null,null,null,null,null,null,null,null,null,null,null,null,null,null,null,null,null,null,null,null,null,null,null,"照合"]
[null,null,null,null,null,null,null,null,null,null,null,null,null,null,null,null,null,null,null,null,null,null,null,null,null,null,null,null,null,null,null,null,null,null,null,null,null,null,null,null,null,null,null,null,null,null,null,null,null,null,null,null,null,null,null,null,null,null,null,null,null,null,null,null,null,null,null,null,null,null,null,null,null,null,"事　　業　　所"]
[]
[null,null,null,null,null,null,null,null,null,null,null,null,null,null,null,null,null,null,"撤去受付№"]
[null,null,null,null,null,null,null,null,null,null,null,null,null,null,null,null,null,null,null,null,null,null,null,null,null,null,null,null,null,null,null,null,null,null,null,null,null,null,null,null,null,null,null,null,null,null,null,null,null,null,null,null,null,null,null,null,null,null,null,null,null,null,null,null,null,null,null,null,null,null,null,null,null,null,"受付№",null,null,null,null,null,null,null,null,null,null,null,null,"設計№"]
[]
[null,"全撤異動\nコ ー ド",null,null,null,null,"・全撤発行要",null,null,null,null,null,null,null,null,null,null,null,"撤去受付",null,null,null,null,null,null,null,"調査",null,null,null,null,null,null,null,"未完登録",null,null,null,null,null,null,null,"上長確認",null,null,null,null,null,null,null,"照合"]
[null,null,null,null,null,null,null,null,null,null,null,null,null,null,null,null,null,null,null,null,null,null,null,null,null,null,null,null,null,null,null,null,null,null,null,null,null,null,null,null,null,null,null,null,null,null,null,null,null,null,null,null,null,null,null,null,null,null,null,null,null,null,null,null,null,null,null,null,null,null,null,null,null,null,"決済番号"]
[null,null,null,null,null,null,"・全撤発行不要"]
[]
[null,null,null,null,null,null,"・種別変更（－）",null,null,null,null,null,null,null,null,null,null,null,null,null,null,null,null,null,null,null,null,null,null,null,null,null,null,null,null,null,null,null,null,null,null,null,null,null,null,null,null,null,null,null,null,null,null,null,null,null,null,null,null,null,null,null,null,null,null,null,null,null,null,null,null,null,null,null,"領　収　月　日",null,null,null,null,null,null,null,null,null,null,null,null,null,"年",null,null,null,null,"月",null,null,null,null,"日"]
[]
[null,null,null,null,null,null,"・ｺｰﾄﾞ変更（－）"]
[null,null,null,null,null,null,null,null,null,null,null,null,null,null,null,null,null,null,null,null,null,null,null,null,null,null,null,null,null,null,null,null,null,null,null,null,null,null,null,null,null,null,null,null,null,null,null,null,null,null,null,null,null,null,null,null,null,null,null,null,null,null,null,null,null,null,null,null,null,null,null,null,null,null,"領収№",null,null,null,null,null,null,null,null,null,null,null,null,null,null,null,"振　替\n勘定月",null,null,null,null,null,null,"月"]
[null,"全撤異動日",null,null,null,null,null,null,"年",null,null,null,"月",null,null,null,"日"]
[]
[null,null,null,null,null,null,null,null,null,null,null,null,null,null,null,null,null,null,null,null,"他契約登録",null,"要 ・ 不要",null,null,null,null,null,null,null,"他契約登録番号",null,null,null,null,null,null,null,null,null,null,null,null,null,null,null,null,null,null,null,null,null,"　□供給地点他契約登録済"]
["北　海　道　電　力　ネ　ッ　ト　ワ　ー　ク　株　式　会　社"]
[]
[]
[]
[]
[]
[]
[]
[]
[]
["北　海　道　電　力　ネ　ッ　ト　ワ　ー　ク　株　式　会　社"]