{"text_format":"1","workbook":"xlsx","n_sheets":4,"sheets":["入力用","１枚目","２枚目","３枚目"],"not_rendered":{"charts":0,"images":0,"macros":1,"external_links":0,"defined_names":4,"comments":1,"pivot_tables":0},"unopened":[],"bounds":{"document_bytes":16777216,"sheet_cells":100000,"rows_first":2000,"rows_last":500,"rows_between":2000,"halvings":0,"cell_chars":16384,"cell_head_chars":4096},"cells_cut":0,"cells_raw":0,"read":"whole","date_system":"1900"}

{"sheet":"入力用","index":0,"n_rows":121,"n_cols":35,"rows_kept":121,"cut":false,"hidden":false,"merged":[[15,16,15,18],[16,2,16,10],[17,4,17,5],[17,7,17,8],[1,14,1,26],[6,0,7,0],[6,2,6,5],[7,2,7,10],[2,0,5,0],[10,0,14,0],[10,16,10,17],[11,2,11,10],[12,4,12,5],[2,2,2,10],[3,2,3,10],[4,2,4,10],[5,2,5,10],[8,0,9,0],[8,4,8,5],[8,7,8,8],[9,4,9,5],[9,7,9,8],[10,2,10,10],[18,0,18,1],[19,0,20,0],[19,2,19,10],[20,2,20,10],[23,7,23,8],[13,2,13,10],[14,4,14,5],[14,7,14,8],[15,0,17,0],[15,2,15,10],[20,17,20,18],[21,0,23,0],[21,2,21,5],[21,16,21,34],[22,2,22,10],[22,19,22,22],[22,23,22,26],[22,27,22,30],[22,31,22,34],[23,4,23,5],[30,0,30,1],[31,0,31,1],[32,0,32,1],[33,0,33,1],[28,0,28,1],[28,4,28,5],[28,8,28,9],[29,0,29,1],[25,16,25,17],[27,0,27,1],[27,4,27,5],[27,8,27,9],[24,0,25,0],[24,2,24,10],[25,4,25,5],[25,7,25,8],[34,0,34,1],[34,2,34,10],[35,0,35,1],[38,0,48,0],[38,1,39,1],[39,2,39,3],[39,4,39,5],[40,1,41,1],[41,2,41,3],[41,4,41,5],[47,1,48,1],[47,2,47,3],[48,2,48,3],[48,4,48,6],[45,1,46,1],[45,2,45,3],[46,2,46,3],[46,4,46,6],[36,0,36,1],[36,2,36,8],[37,2,37,6],[39,15,39,16],[42,2,42,3],[42,4,42,5],[43,1,44,1],[43,2,43,3],[44,2,44,3],[44,4,44,6],[54,0,58,0],[54,2,54,10],[55,2,55,3],[55,4,55,5],[56,2,56,3],[56,4,56,5],[49,0,53,0],[49,2,49,10],[50,2,50,3],[50,4,50,5],[51,2,51,3],[51,4,51,5],[64,0,68,0],[64,2,64,10],[65,2,65,3],[65,4,65,5],[66,2,66,3],[66,4,66,5],[59,0,63,0],[59,2,59,10],[60,2,60,3],[60,4,60,5],[61,2,61,3],[61,4,61,5],[74,0,78,0],[74,2,74,10],[75,2,75,3],[75,4,75,5],[76,2,76,3],[76,4,76,5],[69,0,73,0],[69,2,69,10],[70,2,70,3],[70,4,70,5],[71,2,71,3],[71,4,71,5],[84,0,88,0],[84,2,84,10],[85,2,85,3],[85,4,85,5],[86,2,86,3],[86,4,86,5],[79,0,83,0],[79,2,79,10],[80,2,80,3],[80,4,80,5],[81,2,81,3],[81,4,81,5],[106,2,106,3],[106,4,106,5],[94,0,98,0],[94,2,94,10],[95,2,95,3],[95,4,95,5],[96,2,96,3],[96,4,96,5],[89,0,93,0],[89,2,89,10],[90,2,90,3],[90,4,90,5],[91,2,91,3],[91,4,91,5],[115,0,120,0],[117,2,117,3],[117,4,117,5],[118,2,118,3],[118,4,118,5],[120,3,120,4],[26,0,26,1],[26,2,26,10],[109,0,114,0],[111,2,111,3],[111,4,111,5],[112,2,112,3],[112,4,112,5],[114,3,114,4],[99,0,103,0],[99,2,99,10],[100,2,100,3],[100,4,100,5],[101,2,101,3],[101,4,101,5],[104,0,108,0],[104,2,104,10],[105,2,105,3],[105,4,105,5]]}
[]
[{"$f":"IF(L2=\"\",\"印刷されましたら，「NW控」の裏面に施設組合印および御社の社印を押印してください。\",\"必要事項をすべて入力すると，右の表示が消えます。\")","v":"必要事項をすべて入力すると，右の表示が消えます。"},null,null,null,null,null,null,null,null,null,null,{"$f":"IF(M2=\"\",\"\",M2)","v":"入力に不備があります。"},{"$f":"IF(COUNTBLANK(M3:M4)+COUNTBLANK(M7:M30)+COUNTBLANK(M32:M121)=115,\"\",\"入力に不備があります。\")","v":"入力に不備があります。"},null,"ドロップダウンリスト"]
["ご契約名義","フリガナ",null,null,null,null,null,null,null,null,null,"←入力してください。",{"$f":"IF(C3=\"\",\"←入力してください。\",IF(LEN(ASC(C3))>40,\"←「゛」「゜」を含め，40文字以内としてください。\",\"\"))","v":"←入力してください。"},null,"支払方法","契約種別","供給電気方式・供給電圧","業種","契約決定方法","臨時供給設備から常時供給設備への移行","適用業種別回路数内訳","出力","力率","コンデンサ","JIS","コンデンサ","力率"]
[null,"漢字",null,null,null,null,null,null,null,null,null,"←入力してください。",{"$f":"IF(C4=\"\",\"←入力してください。\",\"\")","v":"←入力してください。"}]
[null,"代表者肩書",null,null,null,null,null,null,null,null,null,"ご契約者が個人名ではない場合は入力してください。",{"$f":"IF(C5=\"\",\"ご契約者が個人名ではない場合は入力してください。\",\"\")","v":"ご契約者が個人名ではない場合は入力してください。"},null,"振込用紙","臨時電灯Ｂ","単相2線式100Ｖ","建築工事","ブレーカー契約（ＳＢ）","する","住宅","㏋",1,"あり","適合","内蔵",0.9]
[null,"代表者名",null,null,null,null,null,null,null,null,null,"ご契約者が個人名ではない場合は入力してください。",{"$f":"IF(C6=\"\",\"ご契約者が個人名ではない場合は入力してください。\",\"\")","v":"ご契約者が個人名ではない場合は入力してください。"},null,"口座振替","臨時電灯Ｃ","単相2線式200Ｖ","土木工事","主開閉器契約","しない","アパート・寮","kW",0.9,"なし","不適合","外付",0.85]
["ご使用場所","郵便番号",null,null,null,null,null,null,null,null,null,"←入力してください。",{"$f":"IF(C7=\"\",\"←入力してください。\",IF(OR(AND(MID(C7,4,1)<>\"-\",LEN(C7)<>7),AND(MID(C7,4,1)=\"-\",LEN(C7)<>8)),\"←入力誤りです。\",\"\"))","v":"←入力してください。"},null,null,"臨時電力","単相3線式100V・200V","祭典用","回路契約","配電Net申込","商店",null,0.85,null,null,"なし",0.8]
[null,"住所",null,null,null,null,null,null,null,null,null,"←入力してください。",{"$f":"IF(C8=\"\",\"←入力してください。\",\"\")","v":"←入力してください。"},null,null,null,"3相3線式200V","仮店舗","負荷設備契約",null,"工場",null,0.8]
["電話番号","固定",null,"-",null,null,"-",null,null,null,null,"",{"$f":"IF(OR(C9=\"\",E9=\"\",H9=\"\"),\"\",IF(OR(LEN(H9)<>4,LEN(C9)+LEN(E9)+LEN(H9)<>10),\"←入力内容が不正です。\",\"\"))","v":""},null,null,null,null,"その他","ブレーカー契約（計器）","有","事務所"]
[null,"携帯",null,"-",null,null,"-",null,null,null,null,"",{"$f":"IF(OR(C10=\"\",E10=\"\",K10=\"\"),\"\",IF(OR(LEN(K10)<>4,LEN(C10)+LEN(E10)+LEN(K10)<>11),\"←入力内容が不正です。\",\"\"))","v":""},null,null,null,null,null,null,"無","旅館・飲食店"]
["電気工事会社","会社名",null,null,null,null,null,null,null,null,null,"←入力してください。",{"$f":"IF(C11=\"\",\"←入力してください。\",\"\")","v":"←入力してください。"},null,null,null,"契約容量等算定用",null,null,null,"学校・病院"]
[null,"担当者",null,null,null,null,null,null,null,null,null,"←入力してください。",{"$f":"IF(C12=\"\",\"←入力してください。\",\"\")","v":"←入力してください。"},null,null,null,"回路契約",{"$f":"Q43+Q45+Q47+C40+C42","v":0},null,null,"劇場・娯楽場"]
[null,"工事会社№",null,"-",null,null,null,null,null,null,null,"←入力してください。",{"$f":"IF(OR(C13=\"\",E13=\"\"),\"←入力してください。\",IF(OR(LEN(C13)<>2,LEN(E13)<>3),\"←入力内容が不正です。\",\"\"))","v":"←入力してください。"},null,null,null,"容量圧縮",{"$f":"IF(OR(O33<4,O33=6),R15,IF(R12<6000,R12*0.95,IF(R12<20000,6000*0.95+(R12-6000)*0.85,IF(R12<50000,6000*0.95+14000*0.85+(R12-20000)*0.75,6000*0.95+14000*0.85+30000*0.75+(R12-50000)*0.65))))","v":""},null,null,"その他"]
[null,"住所",null,null,null,null,null,null,null,null,null,"←入力してください。",{"$f":"IF(C14=\"\",\"←入力してください。\",\"\")","v":"←入力してください。"},null,null,null,"契約算定",{"$f":"IF(R13=\"\",\"\",IF(O30=2,IF(O33=5,\"\",IF(AND(R13>1000,R13<=1500),15,ROUNDUP(R13/1000,0)*10)),ROUND(R13/1000,0)))","v":""}]
[null,"電話",null,"-",null,null,"-",null,null,null,null,"←入力してください。",{"$f":"IF(AND(C15=\"\",E15=\"\",H15=\"\"),\"←入力してください。\",IF(OR(LEN(H15)<>4,LEN(C15)+LEN(E15)+LEN(H15)<10,LEN(C15)+LEN(E15)+LEN(H15)>11),\"←入力内容が不正です。\",\"\"))","v":"←入力してください。"},null,null,null,"合計容量",{"$f":"IF(OR(OR(O33=2,O33=6),AND(O33=3,O31=2)),C34*100,IF(AND(O33=3,O31>2,O31<5),C34*200,IF(AND(O33=3,O31=5),C34*200*1.732,IF(O33=4,R12,IF(O33=5,C40+C42,\"\")))))","v":""}]
["建築会社","会社名",null,null,null,null,null,null,null,null,null,"",{"$f":"IF(AND(C17=\"\",C18=\"\",E18=\"\",H18=\"\"),\"\",IF(C16=\"\",\"←入力してください。\",\"\"))","v":""},null,null,null,"加重平均力率の算定"]
[null,"担当者",null,null,null,null,null,null,null,null,null,"",{"$f":"IF(AND(C16=\"\",C18=\"\",E18=\"\",H18=\"\"),\"\",IF(C17=\"\",\"←入力してください。\",\"\"))","v":""},null,null,null,1,{"$f":"IF(O53=2,P51,0)+IF(O58=2,P56,0)+IF(O63=2,P61,0)+IF(O68=2,P66,0)+IF(O73=2,P71,0)+IF(O78=2,P76,0)+IF(O83=2,P81,0)+IF(O88=2,P86,0)+IF(O93=2,P91,0)+IF(O98=2,P96,0)+IF(O103=2,P101,0)+IF(O108=2,P106,0)","v":0},{"$f":"R17*1","v":0}]
[null,"電話",null,"-",null,null,"-",null,null,null,null,"",{"$f":"IF(LEN(C18)+LEN(E18)+LEN(H18)=0,\"\",IF(OR(LEN(H18)<>4,LEN(C18)+LEN(E18)+LEN(H18)<10,LEN(C18)+LEN(E18)+LEN(H18)>11),\"←入力内容が不正です。\",\"\"))","v":""},null,"ドロップダウンデータ反映列",null,0.9,{"$f":"IF(O53=3,P51,0)+IF(O58=3,P56,0)+IF(O63=3,P61,0)+IF(O68=3,P66,0)+IF(O73=3,P71,0)+IF(O78=3,P76,0)+IF(O83=3,P81,0)+IF(O88=3,P86,0)+IF(O93=3,P91,0)+IF(O98=3,P96,0)+IF(O103=3,P101,0)+IF(O108=3,P106,0)+IF(O114=2,P112,0)+IF(O120=2,P118,0)","v":0},{"$f":"ROUND(R18*0.9,3)","v":0}]
["お支払方法",null,null,null,null,null,null,null,null,null,null,"←選択してください。",{"$f":"IF(O19=1,\"←選択してください。\",\"\")","v":"←選択してください。"},null,1,null,0.85,{"$f":"IF(O53=4,P51,0)+IF(O58=4,P56,0)+IF(O63=4,P61,0)+IF(O68=4,P66,0)+IF(O73=4,P71,0)+IF(O78=4,P76,0)+IF(O83=4,P81,0)+IF(O88=4,P86,0)+IF(O93=4,P91,0)+IF(O98=4,P96,0)+IF(O103=4,P101,0)+IF(O108=4,P106,0)+IF(O114=3,P112,0)+IF(O120=3,P118,0)","v":0},{"$f":"ROUND(R19*0.85,3)","v":0}]
["支払者名","フリガナ",null,null,null,null,null,null,null,null,null,"",{"$f":"IF(AND(C20=\"\",C21=\"\"),\"\",IF(AND(C20=\"\",C21<>\"同上\"),\"←入力してください。\",IF(LEN(ASC(C20))>40,\"←「゛」「゜」を含め，40文字以内としてください。\",\"\")))","v":""},null,null,null,0.8,{"$f":"IF(O53=5,P51,0)+IF(O58=5,P56,0)+IF(O63=5,P61,0)+IF(O68=5,P66,0)+IF(O73=5,P71,0)+IF(O78=5,P76,0)+IF(O83=5,P81,0)+IF(O88=5,P86,0)+IF(O93=5,P91,0)+IF(O98=5,P96,0)+IF(O103=5,P101,0)+IF(O108=5,P106,0)+IF(O114=4,P112,0)+IF(O120=4,P118,0)","v":0},{"$f":"ROUND(R20*0.8,3)","v":0}]
[null,"漢字",null,null,null,null,null,null,null,null,null,"←入力してください。",{"$f":"IF(C21=\"\",\"←入力してください。\",\"\")","v":"←入力してください。"},null,null,null,"合計",{"$f":"IF(SUM(R17:R20)=0,\"\",ROUND(SUM(S17:S20)/SUM(R17:R20),2))","v":""}]
["請求書送付先","郵便番号",null,null,null,null,null,null,null,null,null,"",{"$f":"IF(AND(C22=\"\",C23=\"\"),\"\",IF(AND(C22=\"\",C23<>\"同上\"),\"←入力してください。\",IF(C22=\"\",\"\",IF(OR(AND(MID(C22,4,1)<>\"-\",LEN(C22)<>7),AND(MID(C22,4,1)=\"-\",LEN(C22)<>8)),\"←入力誤りです。\",\"\"))))","v":""},null,null,null,"台数圧縮"]
[null,"住所",null,null,null,null,null,null,null,null,null,"←入力してください。",{"$f":"IF(C23=\"\",\"←入力してください。\",\"\")","v":"←入力してください。"},null,null,null,"最初の2台",{"$f":"IF(U24>1,T24*2,T24+X24)","v":0},{"$f":"ROUND(R23*1,3)","v":0},"1番目",null,null,null,"2番目",null,null,null,"3番目",null,null,null,"4番目"]
[null,"電話",null,"-",null,null,"-",null,null,null,null,"",{"$f":"IF(AND(C23=\"\",C24=\"\",E24=\"\",H24=\"\"),\"\",IF(C23=\"同上\",\"\",IF(AND(C24=\"\",E24=\"\",H24=\"\"),\"←入力してください。\",IF(OR(LEN(H24)<>4,LEN(C24)+LEN(E24)+LEN(H24)<10,LEN(C24)+LEN(E24)+LEN(H24)>11),\"←入力内容が不正です。\",\"\"))))","v":""},null,null,null,"次の２台",{"$f":"IF(U24>3,T24*2,IF(U24=3,T24+X24,IF(U24=2,IF(Y24>1,X24*2,X24+AB24),IF(Y24>2,X24*2,IF(Y24=2,X24+AB24,IF(Y24=1,IF(AC24>1,AB24*2,AB24+AF24)))))))","v":0},{"$f":"ROUND(R24*0.95,3)","v":0},{"$f":"MAX(T25:W39)","v":0},{"$f":"COUNTIF(T25:W39,T24)","v":56},null,null,{"$f":"MAX(X25:AA39)+T24","v":-100},{"$f":"COUNTIF(X25:AA39,X24-T24)","v":56},null,null,{"$f":"MAX(AB25:AE39)+X24","v":-200},{"$f":"COUNTIF(AB25:AE39,AB24-X24)","v":56},null,null,{"$f":"MAX(AF25:AI39)+AB24","v":-300},{"$f":"COUNTIF(AF25:AI39,AF24-AB24)","v":56}]
["ご連絡先","住所",null,null,null,null,null,null,null,null,null,"←入力してください。",{"$f":"IF(C25=\"\",\"←入力してください。\",\"\")","v":"←入力してください。"},null,null,null,"残り",{"$f":"R38-R23-R24","v":0},{"$f":"ROUND(R25*0.9,3)","v":0},{"$f":"P50","v":0},{"$f":"IF(C54>1,P50,0)","v":0},{"$f":"IF(C54>2,P50,0)","v":0},{"$f":"IF(C54>3,P50,0)","v":0},{"$f":"IF(T25-$T$24=0,-100,T25-$T$24)","v":-100},-100,-100,-100,{"$f":"IF(X25-$X$24+$T$24=0,-100,X25-$X$24+$T$24)","v":-100},-100,-100,-100,{"$f":"IF(AB25-$AB$24+$X$24=0,-100,AB25-$AB$24+$X$24)","v":-100},-100,-100,-100]
[null,"電話",null,"-",null,null,"-",null,null,null,null,"",{"$f":"IF(AND(C25=\"\",C26=\"\",E26=\"\",H26=\"\"),\"\",IF(OR(C25=\"同上\",C25=\"同左\"),\"\",IF(AND(C26=\"\",E26=\"\",H26=\"\"),\"←入力してください。\",IF(OR(LEN(H26)<>4,LEN(C26)+LEN(E26)+LEN(H26)<10,LEN(C26)+LEN(E26)+LEN(H26)>11),\"←入力内容が不正です。\",\"\"))))","v":""},null,null,null,"合計",null,{"$f":"SUM(S23:S25)","v":0},{"$f":"P55","v":0},{"$f":"IF(C59>1,P55,0)","v":0},{"$f":"IF(C59>2,P55,0)","v":0},{"$f":"IF(C59>3,P55,0)","v":0},-100,-100,-100,-100,-100,-100,-100,-100,-100,-100,-100,-100]
["臨時工事費ご請求先のメールアドレス",null,null,null,null,null,null,null,null,null,null,"←メールアドレスまたは携帯電話番号を入力してください。",{"$f":"IF(C27=\"\",\"←メールアドレスまたは携帯電話番号を入力してください。\",\"\")","v":"←メールアドレスまたは携帯電話番号を入力してください。"},null,2]
["受電希望日",null,null,"年",null,null,"月",null,"日",null,null,"←入力してください。",{"$f":"IF(OR(C28=\"\",E28=\"\",H28=\"\"),\"←入力してください。\",IF(AND(ISNUMBER(C28),ISNUMBER(E28),ISNUMBER(H28)),IF(OR(C29=\"\",E29=\"\",H29=\"\"),\"\",IF(OR(C28<1,E28<1,E28>12,H28<1,H28>31,DATEVALUE(C29-12&\"/\"&E29&\"/\"&H29)<DATEVALUE(C28-12&\"/\"&E28&\"/\"&H28),DATEVALUE(C29-12&\"/\"&E29&\"/\"&H29)>=DATEVALUE(C28-12&\"/\"&E28&\"/\"&H28)+365),\"←入力内容が不正です。\",\"\")),\"←数字を入力してください。\"))","v":"←入力してください。"},null,"←平成から元号が変わったときに修正要",null,null,null,null,{"$f":"P60","v":0},{"$f":"IF(C64>1,P60,0)","v":0},{"$f":"IF(C64>2,P60,0)","v":0},{"$f":"IF(C64>3,P60,0)","v":0},-100,-100,-100,-100,-100,-100,-100,-100,-100,-100,-100,-100]
["使用終了予定日",null,null,"年",null,null,"月",null,"日",null,null,"←入力してください。",{"$f":"IF(OR(C29=\"\",E29=\"\",H29=\"\"),\"←入力してください。\",IF(AND(ISNUMBER(C29),ISNUMBER(E29),ISNUMBER(H29)),IF(OR(C29<1,E29<1,E29>12,H29<1,H29>31),\"←入力内容が不正です。\",\"\"),\"←数字を入力してください。\"))","v":"←入力してください。"},null,1,null,"容量圧縮",{"$f":"IF(S26<6,S26,IF(S26<20,(S26-6)*0.9+6,IF(S26<50,(S26-20)*0.8+6+14*0.9,(S26-50)*0.7+6+14*0.9+30*0.8)))","v":0},null,{"$f":"P65","v":0},{"$f":"IF(C69>1,P65,0)","v":0},{"$f":"IF(C69>2,P65,0)","v":0},{"$f":"IF(C69>3,P65,0)","v":0},-100,-100,-100,-100,-100,-100,-100,-100,-100,-100,-100,-100]
["契約種別",null,null,null,null,null,null,null,null,null,null,"←選択してください。",{"$f":"IF(O30=1,\"←選択してください。\",IF(AND(O30=2,R14<>\"\",R14<>0,R14<>40,R14<>50,R14<>60),\"←臨時電灯Ｂの範囲外の容量です。\",IF(AND(O30=3,OR(R14<6,R14>49),R14<>\"\"),\"←臨時電灯Ｃの範囲外の容量です。\",IF(AND(O30=4,R37>49,R37<>\"\"),\"←高圧供給となります。\",\"\"))))","v":"←選択してください。"},null,1,null,null,null,null,{"$f":"P70","v":0},{"$f":"IF(C74>1,P70,0)","v":0},{"$f":"IF(C74>2,P70,0)","v":0},{"$f":"IF(C74>3,P70,0)","v":0},-100,-100,-100,-100,-100,-100,-100,-100,-100,-100,-100,-100]
["供給電気方式・供給電圧",null,null,null,null,null,null,null,null,null,null,"←選択してください。",{"$f":"IF(O31=1,\"←選択してください。\",IF(OR(AND(O30=4,O31>1,O31<5),AND(OR(O30=2,O30=3),O31=5)),\"←間違いありませんか？\",\"\"))","v":"←選択してください。"},null,1,null,"主開閉器契約",{"$f":"IF(O31=2,C34*100/1000,IF(OR(O31=3,O31=4),C34*200/1000,IF(O31=5,C34*200*1.732/1000,0)))","v":0},null,{"$f":"P75","v":0},{"$f":"IF(C79>1,P75,0)","v":0},{"$f":"IF(C79>2,P75,0)","v":0},{"$f":"IF(C79>3,P75,0)","v":0},-100,-100,-100,-100,-100,-100,-100,-100,-100,-100,-100,-100]
["業種",null,null,null,null,null,null,null,null,null,null,"←選択してください。",{"$f":"IF(O32=1,\"←選択してください。\",IF(AND(O32=6,K32=\"\"),\"←具体的な業種を入力してください。\",\"\"))","v":"←選択してください。"},null,1,null,null,null,null,{"$f":"P80","v":0},{"$f":"IF(C84>1,P80,0)","v":0},{"$f":"IF(C84>2,P80,0)","v":0},{"$f":"IF(C84>3,P80,0)","v":0},-100,-100,-100,-100,-100,-100,-100,-100,-100,-100,-100,-100]
["契約決定方法",null,null,null,null,null,null,null,null,null,null,{"$f":"IF(M33=\"\",\"\",M33)","v":"←選択してください。"},{"$f":"IF(O33=1,\"←選択してください。\",IF(OR(AND(O30=2,O33=4),AND(O30=3,OR(O33=2,O33=6)),AND(O30=4,OR(OR(O33=2,O33=6),O33=4))),\"←選択できません。\",\"\"))","v":"←選択してください。"},null,1,null,"負荷設備契約自動計算可否確認",{"$f":"IF(OR(AND(P50=0,C54<>\"\"),AND(P55=0,C59<>\"\"),AND(P60=0,C64<>\"\"),AND(P65=0,C69<>\"\"),AND(P70=0,C74<>\"\"),AND(P75=0,C79<>\"\"),AND(P80=0,C84<>\"\"),AND(P85=0,C89<>\"\"),AND(P90=0,C94<>\"\"),AND(P95=0,C99<>\"\"),AND(P100=0,C104<>\"\"),AND(P105=0,C109<>\"\"),AND(P111=0,C115<>\"\"),AND(P117=0,C121<>\"\")),\"\",R29)","v":0},null,{"$f":"P85","v":0},{"$f":"IF(C89>1,P85,0)","v":0},{"$f":"IF(C89>2,P85,0)","v":0},{"$f":"IF(C89>3,P85,0)","v":0},-100,-100,-100,-100,-100,-100,-100,-100,-100,-100,-100,-100]
["主開閉器・電流制限器の定格電流",null,null,"Ａ",null,null,null,null,null,null,null,{"$f":"IF(M34=\"\",\"\",M34)","v":""},{"$f":"IF(AND(C34=\"\",OR(OR(O33=2,O33=6),O33=3)),\"←入力してください。\",IF(OR(C34=\"\",ISNUMBER(C34)),IF(AND(OR(O33=2,O33=6),C34<>40,C34<>50,C34<>60),\"←電流制限器の容量が不正です。\",\"\"),\"←数字を入力してください。\"))","v":""},null,null,null,"加重平均力率自動計算可否確認",{"$f":"IF(OR(AND(O53>1,P50=0),AND(O58>1,P55=0),AND(O63>1,P60=0),AND(O68>1,P65=0),AND(O73>1,P70=0),AND(O78>1,P75=0),AND(O83>1,P80=0),AND(O88>1,P85=0),AND(O93>1,P90=0),AND(O98>1,P95=0),AND(O103>1,P100=0),AND(O108>1,P105=0),AND(O114>1,P111=0),AND(O120>1,P117=0)),\"\",R21)","v":""},null,{"$f":"P90","v":0},{"$f":"IF(C94>1,P90,0)","v":0},{"$f":"IF(C94>2,P90,0)","v":0},{"$f":"IF(C94>3,P90,0)","v":0},-100,-100,-100,-100,-100,-100,-100,-100,-100,-100,-100,-100]
["フリーエリア計器払出事業所名",null,null,null,null,null,null,null,null,null,null,{"$f":"IF(M35=\"\",\"\",M35)","v":"←希望がなければ「なし」と入力してください。"},{"$f":"IF(C35=\"\",\"←希望がなければ「なし」と入力してください。\",\"\")","v":"←希望がなければ「なし」と入力してください。"},null,1,null,null,null,null,{"$f":"P95","v":0},{"$f":"IF(C99>1,P95,0)","v":0},{"$f":"IF(C99>2,P95,0)","v":0},{"$f":"IF(C99>3,P95,0)","v":0},-100,-100,-100,-100,-100,-100,-100,-100,-100,-100,-100,-100]
["臨時供給設備から常時供給設備への移行",null,null,null,null,null,null,null,null,null,null,{"$f":"IF(M36=\"\",\"\",M36)","v":"←選択してください。"},{"$f":"IF(O36=1,\"←選択してください。\",\"\")","v":"←選択してください。"},null,1,null,"契約電力確定",{"$f":"IF(O33=3,IF(AND(R31>0,R31<=0.5),0.5,ROUND(R31,0)),IF(O33=5,IF(AND(R33>0,R33<=0.5),0.5,ROUND(R31,0)),\"\"))","v":""},null,{"$f":"P100","v":0},{"$f":"IF(C104>1,P100,0)","v":0},{"$f":"IF(C104>2,P100,0)","v":0},{"$f":"IF(C104>3,P100,0)","v":0},-100,-100,-100,-100,-100,-100,-100,-100,-100,-100,-100,-100]
["電設Ｎｅｔ申込",null,null,null,null,null,null,null,null,null,null,{"$f":"IF(M37=\"\",\"\",M37)","v":"←選択してください。"},{"$f":"IF(O37=1,\"←選択してください。\",\"\")","v":"←選択してください。"},null,1,"業種表示用",null,null,null,{"$f":"P105","v":0},{"$f":"IF(C109>1,P105,0)","v":0},{"$f":"IF(C109>2,P105,0)","v":0},{"$f":"IF(C109>3,P105,0)","v":0},-100,-100,-100,-100,-100,-100,-100,-100,-100,-100,-100,-100]
["電設工事番号",null,null,null,null,null,null,null,null,null,null,{"$f":"IF(M38=\"\",\"\",M38)","v":""},{"$f":"IF(OR(O37=1,O37=3),\"\",IF(LEN(ASC(C38))>10,\"←10桁の番号を入力してください。\",\"\"))","v":""},null,null,{"$f":"IF(O32=2,R5,IF(O32=3,R6,IF(O32=4,R7,IF(O32=5,R8,IF(O32=6,R9,IF(O32=7,R10,IF(O32=8,K32,\"\")))))))","v":""},"入力合計",{"$f":"IF(OR(AND(P50=0,C54<>\"\"),AND(P55=0,C59<>\"\"),AND(P60=0,C64<>\"\"),AND(P65=0,C69<>\"\"),AND(P70=0,C74<>\"\"),AND(P75=0,C79<>\"\"),AND(P80=0,C84<>\"\"),AND(P85=0,C89<>\"\"),AND(P90=0,C94<>\"\"),AND(P95=0,C99<>\"\"),AND(P100=0,C104<>\"\"),AND(P105=0,C109<>\"\"),AND(P111=0,C115<>\"\"),AND(P117=0,C121<>\"\")),\"\",SUM(P51,P56,P61,P66,P71,P76,P81,P86,P91,P96,P101,P106,P112,P118))","v":0},null,{"$f":"P111","v":0},{"$f":"IF(C115>1,P111,0)","v":0},{"$f":"IF(C115>2,P111,0)","v":0},{"$f":"IF(C115>3,P111,0)","v":0},-100,-100,-100,-100,-100,-100,-100,-100,-100,-100,-100,-100]
["臨時電灯","電灯",null,"灯",1,null,null,null,null,null,null,"",{"$f":"IF(AND(O$30=4,C39<>\"\"),\"←臨時電力の場合，入力できません。\",IF(AND(O$30<4,O$33=5,C39=\"\",OR(C41=\"\",C40<>\"\")),\"←入力してください。\",IF(OR(C39=\"\",ISNUMBER(C39)),\"\",\"←数字を入力してください。\")))","v":""},null,null,null,null,null,null,{"$f":"P117","v":0},{"$f":"IF(C121>1,P117,0)","v":0},{"$f":"IF(C121>2,P117,0)","v":0},{"$f":"IF(C121>3,P117,0)","v":0},-100,-100,-100,-100,-100,-100,-100,-100,-100,-100,-100,-100]
[null,null,null,null,"ＶＡ",null,null,null,null,null,null,"",{"$f":"IF(AND(O$30=4,C40<>\"\"),\"←臨時電力の場合，入力できません。\",IF(AND(O$30<4,O$33=5,C40=\"\",OR(C42=\"\",C39<>\"\")),\"←入力してください。\",IF(OR(C40=\"\",ISNUMBER(C40)),\"\",\"←数字を入力してください。\")))","v":""},null,null,"回路契約"]
[null,"小型機器",null,"個",null,null,null,null,null,null,null,"",{"$f":"IF(AND(O$30=4,C41<>\"\"),\"←臨時電力の場合，入力できません。\",IF(AND(O$30<4,O$33=5,C41=\"\",OR(C39=\"\",C42<>\"\")),\"←入力してください。\",IF(OR(C41=\"\",ISNUMBER(C41)),\"\",\"←数字を入力してください。\")))","v":""},null,null,"業種表示用","容量計算用"]
[null,null,null,null,"ＶＡ",null,null,null,null,null,null,"",{"$f":"IF(AND(O$30=4,C42<>\"\"),\"←臨時電力の場合，入力できません。\",IF(AND(O$30<4,O$33=5,C42=\"\",OR(C40=\"\",C41<>\"\")),\"←入力してください。\",IF(OR(C42=\"\",ISNUMBER(C42)),\"\",\"←数字を入力してください。\")))","v":""},null,null,{"$f":"IF(O44=2,U$5,IF(O44=3,U$6,IF(O44=4,U$7,IF(O44=5,U$8,IF(O44=6,U$9,IF(O44=7,U$10,IF(O44=8,U$11,IF(O44=9,U$12,\"\"))))))))","v":""}]
[null,"回路数",null,null,"回路",null,null,null,null,null,null,"←入力してください。",{"$f":"IF(AND(O$30=4,C43<>\"\"),\"←臨時電力の場合，入力できません。\",IF(AND(O$32<4,C43=\"\"),\"←入力してください。\",IF(OR(C43=\"\",ISNUMBER(C43)),\"\",\"←数字を入力してください。\")))","v":"←入力してください。"},null,1,{"$f":"IF(O44=10,U$13,P42)","v":""}]
[null,"適用業種別\n回路数内訳１","業種",null,null,null,null,null,null,null,null,"",{"$f":"IF(AND(O$33<>4,O44>1),\"←回路契約以外の場合，選択できません。\",IF(AND(O$30=3,O$33=4,O44=1),\"←選択してください。\",\"\"))","v":""},null,1,{"$f":"IF(O46=2,U$5,IF(O46=3,U$6,IF(O46=4,U$7,IF(O46=5,U$8,IF(O46=6,U$9,IF(O46=7,U$10,IF(O46=8,U$11,IF(O46=9,U$12,\"\"))))))))","v":""}]
[null,null,"回路数",null,null,null,null,"回路",null,null,null,"",{"$f":"IF(AND(O$33<>4,E45<>\"\"),\"←回路契約以外の場合，入力できません。\",IF(AND(O$30=3,O$35=4,E45=\"\"),\"←入力してください。\",\"\"))","v":""},null,1,{"$f":"IF(O46=10,U$13,P44)","v":""}]
[null,"適用業種別\n回路数内訳２","業種",null,null,null,null,null,null,null,null,"",{"$f":"IF(AND(O$33<>4,O46>1),\"←回路契約以外の場合，選択できません。\",IF(AND(O$30=3,O$33=4,O46=1,E47<>\"\"),\"←選択してください。\",\"\"))","v":""},null,1,{"$f":"IF(O48=2,U$5,IF(O48=3,U$6,IF(O48=4,U$7,IF(O48=5,U$8,IF(O48=6,U$9,IF(O48=7,U$10,IF(O48=8,U$11,IF(O48=9,U$12,\"\"))))))))","v":""}]
[null,null,"回路数",null,null,null,null,"回路",null,null,null,"",{"$f":"IF(AND(O$33<>4,E47<>\"\"),\"←回路契約以外の場合，入力できません。\",IF(AND(O$30=3,O$33=4,E47=\"\",O46>1),\"←入力してください。\",\"\"))","v":""},null,1,{"$f":"IF(O48=10,U$13,P46)","v":""}]
[null,"適用業種別\n回路数内訳３","業種",null,null,null,null,null,null,null,null,"",{"$f":"IF(AND(O$33<>4,O48>1),\"←回路契約以外の場合，選択できません。\",IF(AND(O$30=3,O$33=4,O48=1,E49<>\"\"),\"←選択してください。\",\"\"))","v":""},null,1]
[null,null,"回路数",null,null,null,null,"回路",null,null,null,"",{"$f":"IF(AND(O$33<>4,E49<>\"\"),\"←回路契約以外の場合，入力できません。\",IF(AND(O$30=3,O$33=4,E49=\"\",O48>1),\"←入力してください。\",\"\"))","v":""},null,null,"入力値算定"]
["臨時電力１","機器種別",null,null,null,null,null,null,null,null,null,"",{"$f":"IF(AND(O$30<>4,C50<>\"\"),\"←臨時電力以外の場合，入力できません。\",IF(AND(O$30=4,C50=\"\",OR(C51<>\"\",O51>1,C52<>\"\",O53>1,C54<>\"\")),\"←入力してください。\",\"\"))","v":""},null,1,{"$f":"IF(C52<>\"\",C52,IF(O53=2,C51,IF(O51=2,ROUND(C51*0.933,3),0)))","v":0}]
[null,"出力",null,null,null,null,null,null,null,null,null,"",{"$f":"IF(AND(O$30<>4,C51<>\"\"),\"←臨時電力以外の場合，入力できません。\",IF(AND(C50<>\"\",C51=\"\",C52=\"\"),\"←入力してください。\",IF(AND(O$30<>4,O51>1),\"←臨時電力以外の場合，選択できません。\",IF(AND(C51<>\"\",O51=1),\"←選択してください。\",IF(OR(C51=\"\",ISNUMBER(C51)),\"\",\"←数字を入力してください。\")))))","v":""},null,1,{"$f":"IF(P50*C54=0,\"\",P50*C54)","v":""}]
[null,"入力",null,null,"kW",null,null,null,null,null,null,{"$f":"IF(M52=\"\",\"\",M52)","v":""},{"$f":"IF(AND(O$30<>4,C52<>\"\"),\"←臨時電力以外の場合，入力できません。\",IF(AND(C50<>\"\",C51=\"\",C52=\"\"),\"←入力してください。\",IF(OR(C52=\"\",ISNUMBER(C52)),\"\",\"←数字を入力してください。\")))","v":""},null,1]
[null,"力率",null,null,null,null,null,null,null,null,null,"",{"$f":"IF(AND(O$30<>4,O53>1),\"←臨時電力以外の場合，選択できません。\",IF(AND(C50<>\"\",O53=1),\"←選択してください。\",\"\"))","v":""},null,1]
[null,"台数",null,"台",null,null,null,null,null,null,null,"",{"$f":"IF(AND(O$30<>4,C54<>\"\"),\"←臨時電力以外の場合，入力できません。\",IF(AND(C50<>\"\",C54=\"\"),\"←入力してください。\",IF(OR(C54=\"\",ISNUMBER(C54)),\"\",\"←数字を入力してください。\")))","v":""},null,null,"入力値算定"]
["臨時電力２","機器種別",null,null,null,null,null,null,null,null,null,"",{"$f":"IF(AND(O$30<>4,C55<>\"\"),\"←臨時電力以外の場合，入力できません。\",IF(AND(O$30=4,C55=\"\",OR(C56<>\"\",O56>1,C57<>\"\",O58>1,C59<>\"\")),\"←入力してください。\",\"\"))","v":""},null,1,{"$f":"IF(C57<>\"\",C57,IF(O58=2,C56,IF(O56=2,ROUND(C56*0.933,3),0)))","v":0}]
[null,"出力",null,null,null,null,null,null,null,null,null,"",{"$f":"IF(AND(O$30<>4,C56<>\"\"),\"←臨時電力以外の場合，入力できません。\",IF(AND(C55<>\"\",C56=\"\",C57=\"\"),\"←入力してください。\",IF(AND(O$30<>4,O56>1),\"←臨時電力以外の場合，選択できません。\",IF(AND(C56<>\"\",O56=1),\"←選択してください。\",IF(OR(C56=\"\",ISNUMBER(C56)),\"\",\"←数字を入力してください。\")))))","v":""},null,1,{"$f":"IF(P55*C59=0,\"\",P55*C59)","v":""}]
[null,"入力",null,null,"kW",null,null,null,null,null,null,{"$f":"IF(M57=\"\",\"\",M57)","v":""},{"$f":"IF(AND(O$30<>4,C57<>\"\"),\"←臨時電力以外の場合，入力できません。\",IF(AND(C55<>\"\",C56=\"\",C57=\"\"),\"←入力してください。\",IF(OR(C57=\"\",ISNUMBER(C57)),\"\",\"←数字を入力してください。\")))","v":""},null,1]
[null,"力率",null,null,null,null,null,null,null,null,null,"",{"$f":"IF(AND(O$30<>4,O58>1),\"←臨時電力以外の場合，選択できません。\",IF(AND(C55<>\"\",O58=1),\"←選択してください。\",\"\"))","v":""},null,1]
[null,"台数",null,"台",null,null,null,null,null,null,null,"",{"$f":"IF(AND(O$30<>4,C59<>\"\"),\"←臨時電力以外の場合，入力できません。\",IF(AND(C55<>\"\",C59=\"\"),\"←入力してください。\",IF(OR(C59=\"\",ISNUMBER(C59)),\"\",\"←数字を入力してください。\")))","v":""},null,null,"入力値算定"]
["臨時電力３","機器種別",null,null,null,null,null,null,null,null,null,"",{"$f":"IF(AND(O$30<>4,C60<>\"\"),\"←臨時電力以外の場合，入力できません。\",IF(AND(O$30=4,C60=\"\",OR(C61<>\"\",O61>1,C62<>\"\",O63>1,C64<>\"\")),\"←入力してください。\",\"\"))","v":""},null,1,{"$f":"IF(C62<>\"\",C62,IF(O63=2,C61,IF(O61=2,ROUND(C61*0.933,3),0)))","v":0}]
[null,"出力",null,null,null,null,null,null,null,null,null,"",{"$f":"IF(AND(O$30<>4,C61<>\"\"),\"←臨時電力以外の場合，入力できません。\",IF(AND(C60<>\"\",C61=\"\",C62=\"\"),\"←入力してください。\",IF(AND(O$30<>4,O61>1),\"←臨時電力以外の場合，選択できません。\",IF(AND(C61<>\"\",O61=1),\"←選択してください。\",IF(OR(C61=\"\",ISNUMBER(C61)),\"\",\"←数字を入力してください。\")))))","v":""},null,1,{"$f":"IF(P60*C64=0,\"\",P60*C64)","v":""}]
[null,"入力",null,null,"kW",null,null,null,null,null,null,{"$f":"IF(M62=\"\",\"\",M62)","v":""},{"$f":"IF(AND(O$30<>4,C62<>\"\"),\"←臨時電力以外の場合，入力できません。\",IF(AND(C60<>\"\",C61=\"\",C62=\"\"),\"←入力してください。\",IF(OR(C62=\"\",ISNUMBER(C62)),\"\",\"←数字を入力してください。\")))","v":""},null,1]
[null,"力率",null,null,null,null,null,null,null,null,null,"",{"$f":"IF(AND(O$30<>4,O63>1),\"←臨時電力以外の場合，選択できません。\",IF(AND(C60<>\"\",O63=1),\"←選択してください。\",\"\"))","v":""},null,1]
[null,"台数",null,"台",null,null,null,null,null,null,null,"",{"$f":"IF(AND(O$30<>4,C64<>\"\"),\"←臨時電力以外の場合，入力できません。\",IF(AND(C60<>\"\",C64=\"\"),\"←入力してください。\",IF(OR(C64=\"\",ISNUMBER(C64)),\"\",\"←数字を入力してください。\")))","v":""},null,null,"入力値算定"]
["臨時電力４","機器種別",null,null,null,null,null,null,null,null,null,"",{"$f":"IF(AND(O$30<>4,C65<>\"\"),\"←臨時電力以外の場合，入力できません。\",IF(AND(O$30=4,C65=\"\",OR(C66<>\"\",O66>1,C67<>\"\",O68>1,C69<>\"\")),\"←入力してください。\",\"\"))","v":""},null,1,{"$f":"IF(C67<>\"\",C67,IF(O68=2,C66,IF(O66=2,ROUND(C66*0.933,3),0)))","v":0}]
[null,"出力",null,null,null,null,null,null,null,null,null,"",{"$f":"IF(AND(O$30<>4,C66<>\"\"),\"←臨時電力以外の場合，入力できません。\",IF(AND(C65<>\"\",C66=\"\",C67=\"\"),\"←入力してください。\",IF(AND(O$30<>4,O66>1),\"←臨時電力以外の場合，選択できません。\",IF(AND(C66<>\"\",O66=1),\"←選択してください。\",IF(OR(C66=\"\",ISNUMBER(C66)),\"\",\"←数字を入力してください。\")))))","v":""},null,1,{"$f":"IF(P65*C69=0,\"\",P65*C69)","v":""}]
[null,"入力",null,null,"kW",null,null,null,null,null,null,{"$f":"IF(M67=\"\",\"\",M67)","v":""},{"$f":"IF(AND(O$30<>4,C67<>\"\"),\"←臨時電力以外の場合，入力できません。\",IF(AND(C65<>\"\",C66=\"\",C67=\"\"),\"←入力してください。\",IF(OR(C67=\"\",ISNUMBER(C67)),\"\",\"←数字を入力してください。\")))","v":""},null,1]
[null,"力率",null,null,null,null,null,null,null,null,null,"",{"$f":"IF(AND(O$30<>4,O68>1),\"←臨時電力以外の場合，選択できません。\",IF(AND(C65<>\"\",O68=1),\"←選択してください。\",\"\"))","v":""},null,1]
[null,"台数",null,"台",null,null,null,null,null,null,null,"",{"$f":"IF(AND(O$30<>4,C69<>\"\"),\"←臨時電力以外の場合，入力できません。\",IF(AND(C65<>\"\",C69=\"\"),\"←入力してください。\",IF(OR(C69=\"\",ISNUMBER(C69)),\"\",\"←数字を入力してください。\")))","v":""},null,null,"入力値算定"]
["臨時電力５","機器種別",null,null,null,null,null,null,null,null,null,"",{"$f":"IF(AND(O$30<>4,C70<>\"\"),\"←臨時電力以外の場合，入力できません。\",IF(AND(O$30=4,C70=\"\",OR(C71<>\"\",O71>1,C72<>\"\",O73>1,C74<>\"\")),\"←入力してください。\",\"\"))","v":""},null,1,{"$f":"IF(C72<>\"\",C72,IF(O73=2,C71,IF(O71=2,ROUND(C71*0.933,3),0)))","v":0}]
[null,"出力",null,null,null,null,null,null,null,null,null,"",{"$f":"IF(AND(O$30<>4,C71<>\"\"),\"←臨時電力以外の場合，入力できません。\",IF(AND(C70<>\"\",C71=\"\",C72=\"\"),\"←入力してください。\",IF(AND(O$30<>4,O71>1),\"←臨時電力以外の場合，選択できません。\",IF(AND(C71<>\"\",O71=1),\"←選択してください。\",IF(OR(C71=\"\",ISNUMBER(C71)),\"\",\"←数字を入力してください。\")))))","v":""},null,1,{"$f":"IF(P70*C74=0,\"\",P70*C74)","v":""}]
[null,"入力",null,null,"kW",null,null,null,null,null,null,{"$f":"IF(M72=\"\",\"\",M72)","v":""},{"$f":"IF(AND(O$30<>4,C72<>\"\"),\"←臨時電力以外の場合，入力できません。\",IF(AND(C70<>\"\",C71=\"\",C72=\"\"),\"←入力してください。\",IF(OR(C72=\"\",ISNUMBER(C72)),\"\",\"←数字を入力してください。\")))","v":""},null,1]
[null,"力率",null,null,null,null,null,null,null,null,null,"",{"$f":"IF(AND(O$30<>4,O73>1),\"←臨時電力以外の場合，選択できません。\",IF(AND(C70<>\"\",O73=1),\"←選択してください。\",\"\"))","v":""},null,1]
[null,"台数",null,"台",null,null,null,null,null,null,null,"",{"$f":"IF(AND(O$30<>4,C74<>\"\"),\"←臨時電力以外の場合，入力できません。\",IF(AND(C70<>\"\",C74=\"\"),\"←入力してください。\",IF(OR(C74=\"\",ISNUMBER(C74)),\"\",\"←数字を入力してください。\")))","v":""},null,null,"入力値算定"]
["臨時電力６","機器種別",null,null,null,null,null,null,null,null,null,"",{"$f":"IF(AND(O$30<>4,C75<>\"\"),\"←臨時電力以外の場合，入力できません。\",IF(AND(O$30=4,C75=\"\",OR(C76<>\"\",O76>1,C77<>\"\",O78>1,C79<>\"\")),\"←入力してください。\",\"\"))","v":""},null,1,{"$f":"IF(C77<>\"\",C77,IF(O78=2,C76,IF(O76=2,ROUND(C76*0.933,3),0)))","v":0}]
[null,"出力",null,null,null,null,null,null,null,null,null,"",{"$f":"IF(AND(O$30<>4,C76<>\"\"),\"←臨時電力以外の場合，入力できません。\",IF(AND(C75<>\"\",C76=\"\",C77=\"\"),\"←入力してください。\",IF(AND(O$30<>4,O76>1),\"←臨時電力以外の場合，選択できません。\",IF(AND(C76<>\"\",O76=1),\"←選択してください。\",IF(OR(C76=\"\",ISNUMBER(C76)),\"\",\"←数字を入力してください。\")))))","v":""},null,1,{"$f":"IF(P75*C79=0,\"\",P75*C79)","v":""}]
[null,"入力",null,null,"kW",null,null,null,null,null,null,{"$f":"IF(M77=\"\",\"\",M77)","v":""},{"$f":"IF(AND(O$30<>4,C77<>\"\"),\"←臨時電力以外の場合，入力できません。\",IF(AND(C75<>\"\",C76=\"\",C77=\"\"),\"←入力してください。\",IF(OR(C77=\"\",ISNUMBER(C77)),\"\",\"←数字を入力してください。\")))","v":""},null,1]
[null,"力率",null,null,null,null,null,null,null,null,null,"",{"$f":"IF(AND(O$30<>4,O78>1),\"←臨時電力以外の場合，選択できません。\",IF(AND(C75<>\"\",O78=1),\"←選択してください。\",\"\"))","v":""},null,1]
[null,"台数",null,"台",null,null,null,null,null,null,null,"",{"$f":"IF(AND(O$30<>4,C79<>\"\"),\"←臨時電力以外の場合，入力できません。\",IF(AND(C75<>\"\",C79=\"\"),\"←入力してください。\",IF(OR(C79=\"\",ISNUMBER(C79)),\"\",\"←数字を入力してください。\")))","v":""},null,null,"入力値算定"]
["臨時電力７","機器種別",null,null,null,null,null,null,null,null,null,"",{"$f":"IF(AND(O$30<>4,C80<>\"\"),\"←臨時電力以外の場合，入力できません。\",IF(AND(O$30=4,C80=\"\",OR(C81<>\"\",O81>1,C82<>\"\",O83>1,C84<>\"\")),\"←入力してください。\",\"\"))","v":""},null,1,{"$f":"IF(C82<>\"\",C82,IF(O83=2,C81,IF(O81=2,ROUND(C81*0.933,3),0)))","v":0}]
[null,"出力",null,null,null,null,null,null,null,null,null,"",{"$f":"IF(AND(O$30<>4,C81<>\"\"),\"←臨時電力以外の場合，入力できません。\",IF(AND(C80<>\"\",C81=\"\",C82=\"\"),\"←入力してください。\",IF(AND(O$30<>4,O81>1),\"←臨時電力以外の場合，選択できません。\",IF(AND(C81<>\"\",O81=1),\"←選択してください。\",IF(OR(C81=\"\",ISNUMBER(C81)),\"\",\"←数字を入力してください。\")))))","v":""},null,1,{"$f":"IF(P80*C84=0,\"\",P80*C84)","v":""}]
[null,"入力",null,null,"kW",null,null,null,null,null,null,{"$f":"IF(M82=\"\",\"\",M82)","v":""},{"$f":"IF(AND(O$30<>4,C82<>\"\"),\"←臨時電力以外の場合，入力できません。\",IF(AND(C80<>\"\",C81=\"\",C82=\"\"),\"←入力してください。\",IF(OR(C82=\"\",ISNUMBER(C82)),\"\",\"←数字を入力してください。\")))","v":""},null,1]
[null,"力率",null,null,null,null,null,null,null,null,null,"",{"$f":"IF(AND(O$30<>4,O83>1),\"←臨時電力以外の場合，選択できません。\",IF(AND(C80<>\"\",O83=1),\"←選択してください。\",\"\"))","v":""},null,1]
[null,"台数",null,"台",null,null,null,null,null,null,null,"",{"$f":"IF(AND(O$30<>4,C84<>\"\"),\"←臨時電力以外の場合，入力できません。\",IF(AND(C80<>\"\",C84=\"\"),\"←入力してください。\",IF(OR(C84=\"\",ISNUMBER(C84)),\"\",\"←数字を入力してください。\")))","v":""},null,null,"入力値算定"]
["臨時電力８","機器種別",null,null,null,null,null,null,null,null,null,"",{"$f":"IF(AND(O$30<>4,C85<>\"\"),\"←臨時電力以外の場合，入力できません。\",IF(AND(O$30=4,C85=\"\",OR(C86<>\"\",O86>1,C87<>\"\",O88>1,C89<>\"\")),\"←入力してください。\",\"\"))","v":""},null,1,{"$f":"IF(C87<>\"\",C87,IF(O88=2,C86,IF(O86=2,ROUND(C86*0.933,3),0)))","v":0}]
[null,"出力",null,null,null,null,null,null,null,null,null,"",{"$f":"IF(AND(O$30<>4,C86<>\"\"),\"←臨時電力以外の場合，入力できません。\",IF(AND(C85<>\"\",C86=\"\",C87=\"\"),\"←入力してください。\",IF(AND(O$30<>4,O86>1),\"←臨時電力以外の場合，選択できません。\",IF(AND(C86<>\"\",O86=1),\"←選択してください。\",IF(OR(C86=\"\",ISNUMBER(C86)),\"\",\"←数字を入力してください。\")))))","v":""},null,1,{"$f":"IF(P85*C89=0,\"\",P85*C89)","v":""}]
[null,"入力",null,null,"kW",null,null,null,null,null,null,{"$f":"IF(M87=\"\",\"\",M87)","v":""},{"$f":"IF(AND(O$30<>4,C87<>\"\"),\"←臨時電力以外の場合，入力できません。\",IF(AND(C85<>\"\",C86=\"\",C87=\"\"),\"←入力してください。\",IF(OR(C87=\"\",ISNUMBER(C87)),\"\",\"←数字を入力してください。\")))","v":""},null,1]
[null,"力率",null,null,null,null,null,null,null,null,null,"",{"$f":"IF(AND(O$30<>4,O88>1),\"←臨時電力以外の場合，選択できません。\",IF(AND(C85<>\"\",O88=1),\"←選択してください。\",\"\"))","v":""},null,1]
[null,"台数",null,"台",null,null,null,null,null,null,null,"",{"$f":"IF(AND(O$30<>4,C89<>\"\"),\"←臨時電力以外の場合，入力できません。\",IF(AND(C85<>\"\",C89=\"\"),\"←入力してください。\",IF(OR(C89=\"\",ISNUMBER(C89)),\"\",\"←数字を入力してください。\")))","v":""},null,null,"入力値算定"]
["臨時電力９","機器種別",null,null,null,null,null,null,null,null,null,"",{"$f":"IF(AND(O$30<>4,C90<>\"\"),\"←臨時電力以外の場合，入力できません。\",IF(AND(O$30=4,C90=\"\",OR(C91<>\"\",O91>1,C92<>\"\",O93>1,C94<>\"\")),\"←入力してください。\",\"\"))","v":""},null,1,{"$f":"IF(C92<>\"\",C92,IF(O93=2,C91,IF(O91=2,ROUND(C91*0.933,3),0)))","v":0}]
[null,"出力",null,null,null,null,null,null,null,null,null,"",{"$f":"IF(AND(O$30<>4,C91<>\"\"),\"←臨時電力以外の場合，入力できません。\",IF(AND(C90<>\"\",C91=\"\",C92=\"\"),\"←入力してください。\",IF(AND(O$30<>4,O91>1),\"←臨時電力以外の場合，選択できません。\",IF(AND(C91<>\"\",O91=1),\"←選択してください。\",IF(OR(C91=\"\",ISNUMBER(C91)),\"\",\"←数字を入力してください。\")))))","v":""},null,1,{"$f":"IF(P90*C94=0,\"\",P90*C94)","v":""}]
[null,"入力",null,null,"kW",null,null,null,null,null,null,{"$f":"IF(M92=\"\",\"\",M92)","v":""},{"$f":"IF(AND(O$30<>4,C92<>\"\"),\"←臨時電力以外の場合，入力できません。\",IF(AND(C90<>\"\",C91=\"\",C92=\"\"),\"←入力してください。\",IF(OR(C92=\"\",ISNUMBER(C92)),\"\",\"←数字を入力してください。\")))","v":""},null,1]
[null,"力率",null,null,null,null,null,null,null,null,null,"",{"$f":"IF(AND(O$30<>4,O93>1),\"←臨時電力以外の場合，選択できません。\",IF(AND(C90<>\"\",O93=1),\"←選択してください。\",\"\"))","v":""},null,1]
[null,"台数",null,"台",null,null,null,null,null,null,null,"",{"$f":"IF(AND(O$30<>4,C94<>\"\"),\"←臨時電力以外の場合，入力できません。\",IF(AND(C90<>\"\",C94=\"\"),\"←入力してください。\",IF(OR(C94=\"\",ISNUMBER(C94)),\"\",\"←数字を入力してください。\")))","v":""},null,null,"入力値算定"]
["臨時電力１０","機器種別",null,null,null,null,null,null,null,null,null,"",{"$f":"IF(AND(O$30<>4,C95<>\"\"),\"←臨時電力以外の場合，入力できません。\",IF(AND(O$30=4,C95=\"\",OR(C96<>\"\",O96>1,C97<>\"\",O98>1,C99<>\"\")),\"←入力してください。\",\"\"))","v":""},null,1,{"$f":"IF(C97<>\"\",C97,IF(O98=2,C96,IF(O96=2,ROUND(C96*0.933,3),0)))","v":0}]
[null,"出力",null,null,null,null,null,null,null,null,null,"",{"$f":"IF(AND(O$30<>4,C96<>\"\"),\"←臨時電力以外の場合，入力できません。\",IF(AND(C95<>\"\",C96=\"\",C97=\"\"),\"←入力してください。\",IF(AND(O$30<>4,O96>1),\"←臨時電力以外の場合，選択できません。\",IF(AND(C96<>\"\",O96=1),\"←選択してください。\",IF(OR(C96=\"\",ISNUMBER(C96)),\"\",\"←数字を入力してください。\")))))","v":""},null,1,{"$f":"IF(P95*C99=0,\"\",P95*C99)","v":""}]
[null,"入力",null,null,"kW",null,null,null,null,null,null,{"$f":"IF(M97=\"\",\"\",M97)","v":""},{"$f":"IF(AND(O$30<>4,C97<>\"\"),\"←臨時電力以外の場合，入力できません。\",IF(AND(C95<>\"\",C96=\"\",C97=\"\"),\"←入力してください。\",IF(OR(C97=\"\",ISNUMBER(C97)),\"\",\"←数字を入力してください。\")))","v":""},null,1]
[null,"力率",null,null,null,null,null,null,null,null,null,"",{"$f":"IF(AND(O$30<>4,O98>1),\"←臨時電力以外の場合，選択できません。\",IF(AND(C95<>\"\",O98=1),\"←選択してください。\",\"\"))","v":""},null,1]
[null,"台数",null,"台",null,null,null,null,null,null,null,"",{"$f":"IF(AND(O$30<>4,C99<>\"\"),\"←臨時電力以外の場合，入力できません。\",IF(AND(C95<>\"\",C99=\"\"),\"←入力してください。\",IF(OR(C99=\"\",ISNUMBER(C99)),\"\",\"←数字を入力してください。\")))","v":""},null,null,"入力値算定"]
["臨時電力１１","機器種別",null,null,null,null,null,null,null,null,null,"",{"$f":"IF(AND(O$30<>4,C100<>\"\"),\"←臨時電力以外の場合，入力できません。\",IF(AND(O$30=4,C100=\"\",OR(C101<>\"\",O101>1,C102<>\"\",O103>1,C104<>\"\")),\"←入力してください。\",\"\"))","v":""},null,1,{"$f":"IF(C102<>\"\",C102,IF(O103=2,C101,IF(O101=2,ROUND(C101*0.933,3),0)))","v":0}]
[null,"出力",null,null,null,null,null,null,null,null,null,{"$f":"IF(M101=\"\",\"\",M101)","v":""},{"$f":"IF(AND(O$30<>4,C101<>\"\"),\"←臨時電力以外の場合，入力できません。\",IF(AND(C100<>\"\",C101=\"\",C102=\"\"),\"←入力してください。\",IF(AND(O$30<>4,O101>1),\"←臨時電力以外の場合，選択できません。\",IF(AND(C101<>\"\",O101=1),\"←選択してください。\",IF(OR(C101=\"\",ISNUMBER(C101)),\"\",\"←数字を入力してください。\")))))","v":""},null,1,{"$f":"IF(P100*C104=0,\"\",P100*C104)","v":""}]
[null,"入力",null,null,"kW",null,null,null,null,null,null,{"$f":"IF(M102=\"\",\"\",M102)","v":""},{"$f":"IF(AND(O$30<>4,C102<>\"\"),\"←臨時電力以外の場合，入力できません。\",IF(AND(C100<>\"\",C101=\"\",C102=\"\"),\"←入力してください。\",IF(OR(C102=\"\",ISNUMBER(C102)),\"\",\"←数字を入力してください。\")))","v":""},null,1]
[null,"力率",null,null,null,null,null,null,null,null,null,"",{"$f":"IF(AND(O$30<>4,O103>1),\"←臨時電力以外の場合，選択できません。\",IF(AND(C100<>\"\",O103=1),\"←選択してください。\",\"\"))","v":""},null,1]
[null,"台数",null,"台",null,null,null,null,null,null,null,"",{"$f":"IF(AND(O$30<>4,C104<>\"\"),\"←臨時電力以外の場合，入力できません。\",IF(AND(C100<>\"\",C104=\"\"),\"←入力してください。\",IF(OR(C104=\"\",ISNUMBER(C104)),\"\",\"←数字を入力してください。\")))","v":""},null,null,"入力値算定"]
["臨時電力１２","機器種別",null,null,null,null,null,null,null,null,null,"",{"$f":"IF(AND(O$30<>4,C105<>\"\"),\"←臨時電力以外の場合，入力できません。\",IF(AND(O$30=4,C105=\"\",OR(C106<>\"\",O106>1,C107<>\"\",O108>1,C109<>\"\")),\"←入力してください。\",\"\"))","v":""},null,1,{"$f":"IF(C107<>\"\",C107,IF(O108=2,C106,IF(O106=2,ROUND(C106*0.933,3),0)))","v":0}]
[null,"出力",null,null,null,null,null,null,null,null,null,"",{"$f":"IF(AND(O$30<>4,C106<>\"\"),\"←臨時電力以外の場合，入力できません。\",IF(AND(C105<>\"\",C106=\"\",C107=\"\"),\"←入力してください。\",IF(AND(O$30<>4,O106>1),\"←臨時電力以外の場合，選択できません。\",IF(AND(C106<>\"\",O106=1),\"←選択してください。\",IF(OR(C106=\"\",ISNUMBER(C106)),\"\",\"←数字を入力してください。\")))))","v":""},null,1,{"$f":"IF(P105*C109=0,\"\",P105*C109)","v":""}]
[null,"入力",null,null,"kW",null,null,null,null,null,null,{"$f":"IF(M107=\"\",\"\",M107)","v":""},{"$f":"IF(AND(O$30<>4,C107<>\"\"),\"←臨時電力以外の場合，入力できません。\",IF(AND(C105<>\"\",C106=\"\",C107=\"\"),\"←入力してください。\",IF(OR(C107=\"\",ISNUMBER(C107)),\"\",\"←数字を入力してください。\")))","v":""},null,1]
[null,"力率",null,null,null,null,null,null,null,null,null,"",{"$f":"IF(AND(O$30<>4,O108>1),\"←臨時電力以外の場合，選択できません。\",IF(AND(C105<>\"\",O108=1),\"←選択してください。\",\"\"))","v":""},null,1]
[null,"台数",null,"台",null,null,null,null,null,null,null,"",{"$f":"IF(AND(O$30<>4,C109<>\"\"),\"←臨時電力以外の場合，入力できません。\",IF(AND(C105<>\"\",C109=\"\"),\"←入力してください。\",IF(OR(C109=\"\",ISNUMBER(C109)),\"\",\"←数字を入力してください。\")))","v":""},null,1]
["電気溶接機１","日本工業規格",null,null,null,null,null,null,null,null,null,"",{"$f":"IF(AND(C112<>\"\",O110=1),\"←選択してください。\",\"\")","v":""},null,1,"入力値算定"]
[null,"コンデンサ",null,null,null,null,null,null,null,null,null,{"$f":"IF(M111=\"\",\"\",M111)","v":""},{"$f":"IF(AND(C112<>\"\",O111=1),\"←選択してください。\",\"\")","v":""},null,1,{"$f":"IF(C113<>\"\",C113,IF(O110=2,\"\",ROUND(C112*0.7,3)))","v":0}]
[null,"１次入力",null,null,"kVA",null,null,null,null,null,null,"",{"$f":"IF(OR(C112=\"\",ISNUMBER(C112)),\"\",\"←数字を入力してください。\")","v":""},null,null,{"$f":"IF(P111*C115=0,\"\",P111*C115)","v":""}]
[null,"入力",null,null,"KW",null,null,null,null,null,null,"",{"$f":"IF(OR(C113=\"\",ISNUMBER(C113)),\"\",\"←数字を入力してください。\")","v":""},null,1]
[null,"力率",null,null,null,null,null,null,null,null,null,"",{"$f":"IF(AND(C112<>\"\",O114=1),\"←選択してください。\",\"\")","v":""},null,1]
[null,"台数",null,"台",null,null,null,null,null,null,null,"",{"$f":"IF(OR(C115=\"\",ISNUMBER(C115)),\"\",\"←数字を入力してください。\")","v":""},null,1]
["電気溶接機２","日本工業規格",null,null,null,null,null,null,null,null,null,"",{"$f":"IF(AND(C118<>\"\",O116=1),\"←選択してください。\",\"\")","v":""},null,1,"入力値算定"]
[null,"コンデンサ",null,null,null,null,null,null,null,null,null,"",{"$f":"IF(AND(C118<>\"\",O117=1),\"←選択してください。\",\"\")","v":""},null,1,{"$f":"IF(C119<>\"\",C119,IF(O116=2,\"\",ROUND(C118*0.7,3)))","v":0}]
[null,"１次入力",null,null,"kVA",null,null,null,null,null,null,"",{"$f":"IF(OR(C118=\"\",ISNUMBER(C118)),\"\",\"←数字を入力してください。\")","v":""},null,null,{"$f":"IF(P117*C121=0,\"\",P117*C121)","v":""}]
[null,"入力",null,null,"KW",null,null,null,null,null,null,"",{"$f":"IF(OR(C119=\"\",ISNUMBER(C119)),\"\",\"←数字を入力してください。\")","v":""},null,1]
[null,"力率",null,null,null,null,null,null,null,null,null,"",{"$f":"IF(AND(C118<>\"\",O120=1),\"←選択してください。\",\"\")","v":""},null,1]
[null,"台数",null,"台",null,null,null,null,null,null,null,"",{"$f":"IF(OR(C121=\"\",ISNUMBER(C121)),\"\",\"←数字を入力してください。\")","v":""}]

{"sheet":"１枚目","index":1,"n_rows":163,"n_cols":111,"rows_kept":163,"cut":false,"hidden":false,"merged":[[113,56,116,58],[113,59,116,61],[113,62,116,64],[117,31,120,34],[117,35,120,37],[117,38,120,39],[117,40,120,42],[117,43,120,47],[117,48,120,50],[117,51,120,55],[117,56,120,58],[117,59,120,61],[117,62,120,64],[16,58,17,58],[33,45,34,45],[33,46,34,46],[16,46,17,46],[16,47,17,47],[16,48,17,48],[16,49,17,49],[16,50,17,50],[16,51,17,51],[16,52,17,52],[35,41,36,41],[35,42,36,42],[35,43,36,43],[35,44,36,44],[35,45,36,45],[35,46,36,46],[16,55,17,55],[16,56,17,56],[16,57,17,57],[33,41,34,41],[33,42,34,42],[33,43,34,43],[33,44,34,44],[35,32,36,32],[35,33,36,33],[35,34,36,34],[35,35,36,35],[35,36,36,36],[35,37,36,37],[35,38,36,38],[35,39,36,39],[35,40,36,40],[33,27,34,27],[33,28,34,28],[33,29,34,29],[33,30,34,30],[33,31,34,31],[33,32,34,32],[33,33,34,33],[33,34,34,34],[33,35,34,35],[16,53,17,53],[16,54,17,54],[16,37,17,37],[16,38,17,38],[16,39,17,39],[16,40,17,40],[16,41,17,41],[16,42,17,42],[16,43,17,43],[16,44,17,44],[16,45,17,45],[48,1,53,6],[50,7,53,20],[48,7,49,20],[44,1,47,6],[44,12,47,14],[44,41,47,43],[44,28,47,30],[44,7,47,11],[44,15,47,19],[44,20,47,22],[48,26,53,39],[48,40,53,45],[62,31,63,42],[97,52,99,54],[94,52,96,54],[100,15,101,22],[100,23,101,30],[105,31,107,39],[102,52,104,54],[102,43,104,51],[102,15,104,22],[102,23,104,30],[105,15,107,22],[105,23,107,30],[105,43,107,51],[105,52,107,54],[102,40,104,42],[105,40,107,42],[100,31,101,42],[100,43,101,54],[73,43,75,51],[73,40,75,42],[82,40,84,42],[79,52,81,54],[79,40,81,42],[64,40,66,42],[64,7,66,30],[105,64,107,67],[73,55,75,63],[100,7,101,14],[73,7,75,30],[105,7,107,14],[73,31,75,39],[97,43,99,51],[97,31,99,39],[79,31,81,39],[82,31,84,39],[79,43,81,51],[94,43,96,51],[91,40,93,42],[88,40,90,42],[82,52,84,54],[91,43,93,51],[94,40,96,42],[76,43,78,51],[85,52,87,54],[70,55,72,63],[73,52,75,54],[76,52,78,54],[70,52,72,54],[105,68,107,70],[105,55,107,63],[82,64,84,67],[82,55,84,63],[79,68,81,70],[85,68,87,70],[102,55,104,63],[91,55,93,63],[94,68,96,70],[94,64,96,67],[88,64,90,67],[91,68,93,70],[88,68,90,70],[82,68,84,70],[85,64,87,67],[79,55,81,63],[108,89,112,96],[70,71,72,77],[70,78,72,79],[76,71,78,77],[76,78,78,79],[79,71,81,77],[79,78,81,79],[85,78,87,79],[88,71,90,77],[94,71,96,77],[87,95,90,97],[110,78,112,79],[102,71,104,77],[102,78,104,79],[105,71,107,77],[105,78,107,79],[110,71,112,77],[108,97,112,99],[108,71,109,79],[97,71,99,77],[91,78,93,79],[73,78,75,79],[73,71,75,77],[75,85,78,99],[27,64,32,68],[27,69,30,74],[82,78,84,79],[75,81,78,84],[62,55,63,63],[67,78,69,79],[76,68,78,70],[79,81,82,84],[73,68,75,70],[82,71,84,77],[56,64,57,66],[58,64,59,66],[70,64,72,67],[64,64,66,67],[70,68,72,70],[67,64,69,67],[62,71,63,79],[64,78,66,79],[64,71,66,77],[62,64,63,70],[64,68,66,70],[67,71,69,77],[67,68,69,70],[58,67,59,70],[56,67,57,70],[60,67,61,70],[83,81,86,84],[79,85,82,99],[38,104,39,104],[38,80,39,80],[54,71,55,79],[54,54,55,70],[48,52,53,59],[48,82,53,86],[48,87,50,99],[51,87,53,99],[48,60,53,68],[48,69,53,77],[48,78,53,81],[33,81,39,85],[44,57,47,59],[40,65,41,76],[42,65,47,76],[35,52,37,80],[38,69,39,73],[38,74,39,74],[38,75,39,79],[38,52,39,58],[30,46,32,46],[30,47,32,54],[30,36,32,38],[25,110,26,110],[25,69,26,88],[25,89,26,92],[25,93,26,97],[25,98,26,98],[31,93,32,97],[31,98,32,98],[31,99,32,103],[25,105,26,109],[31,89,32,92],[25,104,26,104],[31,110,32,110],[30,55,32,55],[31,105,32,109],[30,56,32,63],[27,75,30,110],[31,69,32,74],[31,75,32,88],[31,104,32,104],[16,64,26,68],[18,12,21,63],[22,48,23,63],[24,22,26,23],[22,40,23,47],[19,75,20,89],[19,90,20,99],[19,100,20,102],[16,69,18,74],[16,75,18,110],[21,75,22,110],[23,69,24,110],[25,99,26,103],[19,104,20,108],[19,109,20,110],[21,69,22,74],[19,69,20,74],[19,103,20,103],[16,22,17,22],[16,23,17,23],[16,24,17,24],[16,25,17,25],[16,26,17,26],[16,27,17,27],[16,28,17,28],[16,29,17,29],[40,1,43,21],[40,22,43,59],[64,52,66,54],[67,43,69,51],[67,52,69,54],[54,4,61,6],[62,4,107,6],[54,7,55,26],[56,7,61,11],[56,12,61,14],[56,15,61,23],[76,7,78,30],[79,7,81,30],[82,7,84,30],[88,7,90,30],[85,7,87,30],[62,7,63,30],[102,7,104,14],[67,7,69,30],[70,7,72,30],[76,40,78,42],[54,27,55,46],[54,47,55,53],[60,54,61,63],[113,4,114,27],[113,28,120,30],[115,4,116,27],[117,4,118,27],[119,4,120,27],[97,7,99,30],[91,31,93,39],[94,31,96,39],[91,7,93,30],[94,7,96,30],[113,31,116,34],[113,35,116,37],[113,38,116,39],[58,54,59,63],[88,43,90,51],[85,40,87,42],[82,43,84,51],[88,31,90,39],[85,43,87,51],[85,31,87,39],[102,31,104,39],[113,40,116,42],[113,43,116,47],[113,48,116,50],[113,51,116,55],[108,55,109,63],[94,55,96,63],[85,55,87,63],[110,55,112,58],[110,59,112,63],[64,31,66,39],[64,43,66,51],[70,43,72,51],[67,40,69,42],[70,40,72,42],[67,31,69,39],[70,31,72,39],[76,55,78,63],[57,96,61,99],[57,89,61,95],[57,80,61,88],[60,77,61,79],[56,71,61,76],[73,81,74,99],[100,64,101,70],[91,71,93,77],[97,64,99,67],[97,68,99,70],[100,71,101,79],[94,78,96,79],[85,71,87,77],[97,78,99,79],[87,81,90,84],[83,85,86,99],[91,64,93,67],[87,85,90,87],[87,88,90,89],[87,90,90,92],[60,64,61,66],[79,64,81,67],[76,64,78,67],[73,64,75,67],[6,0,9,110],[13,64,15,68],[13,69,15,84],[13,85,15,89],[10,1,11,25],[12,1,13,38],[164,0,165,110],[122,1,123,97],[129,3,131,109],[102,68,104,70],[24,24,26,63],[30,39,32,45],[14,1,15,38],[16,1,39,6],[30,15,32,20],[30,21,32,21],[30,7,32,11],[41,101,48,102],[41,103,48,110],[40,82,41,99],[42,82,47,99],[40,77,47,81],[162,0,163,110],[87,98,90,99],[87,93,90,94],[100,55,101,63],[97,55,99,63],[124,1,125,97],[135,3,137,109],[132,3,134,109],[126,1,127,97],[113,1,120,3],[88,52,90,54],[88,78,90,79],[110,64,112,67],[110,68,112,70],[108,64,109,70],[108,80,112,88],[54,1,107,3],[91,52,93,54],[64,55,66,63],[56,54,57,63],[67,55,69,63],[62,43,63,54],[102,64,104,67],[88,55,90,63],[76,31,78,39],[97,40,99,42],[138,3,140,109],[142,1,144,16],[24,7,29,11],[24,17,26,17],[33,54,34,56],[33,57,34,57],[33,58,34,61],[27,12,29,63],[33,22,39,26],[33,7,39,11],[33,52,34,53],[38,59,39,62],[38,63,39,67],[37,27,39,46],[33,47,39,51],[40,60,47,64],[38,68,39,68],[33,62,34,63],[33,64,34,80],[33,36,34,36],[33,37,34,37],[33,38,34,38],[33,39,34,39],[22,12,23,20],[22,21,23,39],[16,7,23,11],[30,22,32,27],[30,28,32,28],[30,12,32,14],[16,12,17,18],[24,12,26,13],[24,14,26,16],[24,18,26,21],[16,19,17,19],[16,20,17,20],[16,21,17,21],[16,30,17,30],[16,31,17,31],[16,32,17,32],[16,33,17,33],[16,34,17,34],[16,35,17,35],[16,36,17,36],[16,59,17,63],[30,29,32,35],[56,27,61,31],[56,24,61,26],[56,32,61,34],[56,35,61,43],[56,44,61,46],[56,47,61,53],[44,23,47,27],[44,36,47,40],[44,44,47,48],[48,21,53,25],[44,31,47,35],[44,49,47,51],[50,46,53,49],[52,50,53,51],[33,40,34,40],[33,12,39,21],[35,27,36,27],[35,28,36,28],[35,29,36,29],[35,30,36,30],[35,31,36,31],[44,52,47,56],[1,93,5,109],[33,86,34,110],[35,86,37,110],[38,86,39,88],[38,89,39,92],[38,93,39,97],[38,105,39,109],[38,98,39,98],[38,99,39,103],[38,110,39,110],[13,90,15,110]]}
[]
[null,null,null,null,null,null,null,null,null,null,null,null,null,null,null,null,null,null,null,null,null,null,null,null,null,null,null,null,null,null,null,null,null,null,null,null,null,null,null,null,null,null,null,null,null,null,null,null,null,null,null,null,null,null,null,null,null,null,null,null,null,null,null,null,null,null,null,null,null,null,null,null,null,null,null,null,null,null,null,null,null,null,null,null,null,null,null,null,null,null,null,null,null,"離島等供給用"]
[]
[]
[]
[]
["臨時従量制電気使用申込書（工事会社様控）"]
[]
[]
[]
[null,"北海道電力ネットワーク株式会社　御中"]
[]
[]
[null,null,null,null,null,null,null,null,null,null,null,null,null,null,null,null,null,null,null,null,null,null,null,null,null,null,null,null,null,null,null,null,null,null,null,null,null,null,null,null,null,null,null,null,null,null,null,null,null,null,null,null,null,null,null,null,null,null,null,null,null,null,null,null,"受付扱所名",null,null,null,null,null,null,null,null,null,null,null,null,null,null,null,null,null,null,null,null,"受付№"]
[null,"電気の使用について貴社離島等供給約款[低圧用]に承認のうえ申し込みます。"]
[]
[null,"お 客 さ ま",null,null,null,null,null,"ご契約名義",null,null,null,null,"（フリガナ）",null,null,null,null,null,null,{"$f":"DBCS(MID(ASC(入力用!C3),1,1))","v":""},{"$f":"DBCS(MID(ASC(入力用!C3),2,1))","v":""},{"$f":"DBCS(MID(ASC(入力用!C3),3,1))","v":""},{"$f":"DBCS(MID(ASC(入力用!C3),4,1))","v":""},{"$f":"DBCS(MID(ASC(入力用!C3),5,1))","v":""},{"$f":"DBCS(MID(ASC(入力用!C3),6,1))","v":""},{"$f":"DBCS(MID(ASC(入力用!C3),7,1))","v":""},{"$f":"DBCS(MID(ASC(入力用!C3),8,1))","v":""},{"$f":"DBCS(MID(ASC(入力用!C3),9,1))","v":""},{"$f":"DBCS(MID(ASC(入力用!C3),10,1))","v":""},{"$f":"DBCS(MID(ASC(入力用!C3),11,1))","v":""},{"$f":"DBCS(MID(ASC(入力用!C3),12,1))","v":""},{"$f":"DBCS(MID(ASC(入力用!C3),13,1))","v":""},{"$f":"DBCS(MID(ASC(入力用!C3),14,1))","v":""},{"$f":"DBCS(MID(ASC(入力用!C3),15,1))","v":""},{"$f":"DBCS(MID(ASC(入力用!C3),16,1))","v":""},{"$f":"DBCS(MID(ASC(入力用!C3),17,1))","v":""},{"$f":"DBCS(MID(ASC(入力用!C3),18,1))","v":""},{"$f":"DBCS(MID(ASC(入力用!C3),19,1))","v":""},{"$f":"DBCS(MID(ASC(入力用!C3),20,1))","v":""},{"$f":"DBCS(MID(ASC(入力用!C3),21,1))","v":""},{"$f":"DBCS(MID(ASC(入力用!C3),22,1))","v":""},{"$f":"DBCS(MID(ASC(入力用!C3),23,1))","v":""},{"$f":"DBCS(MID(ASC(入力用!C3),24,1))","v":""},{"$f":"DBCS(MID(ASC(入力用!C3),25,1))","v":""},{"$f":"DBCS(MID(ASC(入力用!C3),26,1))","v":""},{"$f":"DBCS(MID(ASC(入力用!C3),27,1))","v":""},{"$f":"DBCS(MID(ASC(入力用!C3),28,1))","v":""},{"$f":"DBCS(MID(ASC(入力用!C3),29,1))","v":""},{"$f":"DBCS(MID(ASC(入力用!C3),30,1))","v":""},{"$f":"DBCS(MID(ASC(入力用!C3),31,1))","v":""},{"$f":"DBCS(MID(ASC(入力用!C3),32,1))","v":""},{"$f":"DBCS(MID(ASC(入力用!C3),33,1))","v":""},{"$f":"DBCS(MID(ASC(入力用!C3),34,1))","v":""},{"$f":"DBCS(MID(ASC(入力用!C3),35,1))","v":""},{"$f":"DBCS(MID(ASC(入力用!C3),36,1))","v":""},{"$f":"DBCS(MID(ASC(入力用!C3),37,1))","v":""},{"$f":"DBCS(MID(ASC(入力用!C3),38,1))","v":""},{"$f":"DBCS(MID(ASC(入力用!C3),39,1))","v":""},{"$f":"DBCS(MID(ASC(入力用!C3),40,1))","v":""},null,null,null,null,null,"電気工事会社",null,null,null,null," 会社名",null,null,null,null,null,{"$f":"IF(入力用!C11=\"\",\"\",入力用!C11)","v":""}]
[]
[null,null,null,null,null,null,null,null,null,null,null,null,{"$f":"IF(入力用!C4=\"\",\"\",入力用!C4)","v":""}]
[null,null,null,null,null,null,null,null,null,null,null,null,null,null,null,null,null,null,null,null,null,null,null,null,null,null,null,null,null,null,null,null,null,null,null,null,null,null,null,null,null,null,null,null,null,null,null,null,null,null,null,null,null,null,null,null,null,null,null,null,null,null,null,null,null,null,null,null,null,"(担当者)",null,null,null,null,null,{"$f":"IF(入力用!C12=\"\",\"\",入力用!C12)","v":""},null,null,null,null,null,null,null,null,null,null,null,null,null,null,"工事会社№（",null,null,null,null,null,null,null,null,null,{"$f":"IF(入力用!C13=\"\",\"\",入力用!C13)","v":""},null,null,"-",{"$f":"IF(入力用!E13=\"\",\"\",入力用!E13)","v":""},null,null,null,null,")"]
[]
[null,null,null,null,null,null,null,null,null,null,null,null,null,null,null,null,null,null,null,null,null,null,null,null,null,null,null,null,null,null,null,null,null,null,null,null,null,null,null,null,null,null,null,null,null,null,null,null,null,null,null,null,null,null,null,null,null,null,null,null,null,null,null,null,null,null,null,null,null," 住　所",null,null,null,null,null,{"$f":"LEFT(入力用!C14,24)","v":""}]
[null,null,null,null,null,null,null,null,null,null,null,null,"（代表者肩書）",null,null,null,null,null,null,null,null,{"$f":"IF(入力用!C5=\"\",\"\",入力用!C5)","v":""},null,null,null,null,null,null,null,null,null,null,null,null,null,null,null,null,null,null,"（代表者名）",null,null,null,null,null,null,null,{"$f":"IF(入力用!C6=\"\",\"\",入力用!C6)","v":""}]
[null,null,null,null,null,null,null,null,null,null,null,null,null,null,null,null,null,null,null,null,null,null,null,null,null,null,null,null,null,null,null,null,null,null,null,null,null,null,null,null,null,null,null,null,null,null,null,null,null,null,null,null,null,null,null,null,null,null,null,null,null,null,null,null,null,null,null,null,null,{"$f":"MID(入力用!C14,25,28)","v":""}]
[null,null,null,null,null,null,null,"ご使用\n場　所",null,null,null,null,"(〒",null,{"$f":"LEFT(入力用!C7,3)","v":""},null,null,"-",{"$f":"RIGHT(入力用!C7,4)","v":""},null,null,null,")",null,{"$f":"LEFT(入力用!C8,25)","v":""}]
[null,null,null,null,null,null,null,null,null,null,null,null,null,null,null,null,null,null,null,null,null,null,null,null,null,null,null,null,null,null,null,null,null,null,null,null,null,null,null,null,null,null,null,null,null,null,null,null,null,null,null,null,null,null,null,null,null,null,null,null,null,null,null,null,null,null,null,null,null,{"$f":"MID(入力用!C14,53,12)","v":""},null,null,null,null,null,null,null,null,null,null,null,null,null,null,null,null,null,null,null,"電話(",null,null,null,{"$f":"IF(入力用!C15=\"\",\"\",入力用!C15)","v":""},null,null,null,null,"-",{"$f":"IF(入力用!E15=\"\",\"\",入力用!E15)","v":""},null,null,null,null,"-",{"$f":"IF(入力用!H15=\"\",\"\",入力用!H15)","v":""},null,null,null,null,")"]
[]
[null,null,null,null,null,null,null,null,null,null,null,null,{"$f":"MID(入力用!C8,26,33)","v":""},null,null,null,null,null,null,null,null,null,null,null,null,null,null,null,null,null,null,null,null,null,null,null,null,null,null,null,null,null,null,null,null,null,null,null,null,null,null,null,null,null,null,null,null,null,null,null,null,null,null,null,"建築会社",null,null,null,null," 会社名",null,null,null,null,null,{"$f":"IF(入力用!C16=\"\",\"\",入力用!C16)","v":""}]
[]
[]
[null,null,null,null,null,null,null,"電話番号",null,null,null,null,"固定",null,null,{"$f":"IF(入力用!C9=\"\",\"\",入力用!C9)","v":""},null,null,null,null,null,"-",{"$f":"IF(入力用!E9=\"\",\"\",入力用!E9)","v":""},null,null,null,null,null,"-",{"$f":"IF(入力用!H9=\"\",\"\",入力用!H9)","v":""},null,null,null,null,null,null,"携帯",null,null,{"$f":"IF(入力用!C10=\"\",\"\",入力用!C10)","v":""},null,null,null,null,null,null,"-",{"$f":"IF(入力用!E10=\"\",\"\",入力用!E10)","v":""},null,null,null,null,null,null,null,"-",{"$f":"IF(入力用!H10=\"\",\"\",入力用!H10)","v":""}]
[null,null,null,null,null,null,null,null,null,null,null,null,null,null,null,null,null,null,null,null,null,null,null,null,null,null,null,null,null,null,null,null,null,null,null,null,null,null,null,null,null,null,null,null,null,null,null,null,null,null,null,null,null,null,null,null,null,null,null,null,null,null,null,null,null,null,null,null,null,"(担当者)",null,null,null,null,null,{"$f":"IF(入力用!C17=\"\",\"\",入力用!C17)","v":""},null,null,null,null,null,null,null,null,null,null,null,null,null,"電話(",null,null,null,{"$f":"IF(入力用!C18=\"\",\"\",入力用!C18)","v":""},null,null,null,null,"-",{"$f":"IF(入力用!E18=\"\",\"\",入力用!E18)","v":""},null,null,null,null,"-",{"$f":"IF(入力用!H18=\"\",\"\",入力用!H18)","v":""},null,null,null,null,")"]
[]
[null,null,null,null,null,null,null,"お支払\n方　法",null,null,null,null,{"$f":"IF(入力用!O19=2,\"口座振込\",IF(入力用!O19=3,\"口座振替\",\"\"))","v":""},null,null,null,null,null,null,null,null,null,"支　払\n者　名",null,null,null,null,{"$f":"DBCS(MID(ASC(入力用!$C$20),1,1))","v":""},{"$f":"DBCS(MID(ASC(入力用!$C$20),2,1))","v":""},{"$f":"DBCS(MID(ASC(入力用!$C$20),3,1))","v":""},{"$f":"DBCS(MID(ASC(入力用!$C$20),4,1))","v":""},{"$f":"DBCS(MID(ASC(入力用!$C$20),5,1))","v":""},{"$f":"DBCS(MID(ASC(入力用!$C$20),6,1))","v":""},{"$f":"DBCS(MID(ASC(入力用!$C$20),7,1))","v":""},{"$f":"DBCS(MID(ASC(入力用!$C$20),8,1))","v":""},{"$f":"DBCS(MID(ASC(入力用!$C$20),9,1))","v":""},{"$f":"DBCS(MID(ASC(入力用!$C$20),10,1))","v":""},{"$f":"DBCS(MID(ASC(入力用!$C$20),11,1))","v":""},{"$f":"DBCS(MID(ASC(入力用!$C$20),12,1))","v":""},{"$f":"DBCS(MID(ASC(入力用!$C$20),13,1))","v":""},{"$f":"DBCS(MID(ASC(入力用!$C$20),14,1))","v":""},{"$f":"DBCS(MID(ASC(入力用!$C$20),15,1))","v":""},{"$f":"DBCS(MID(ASC(入力用!$C$20),16,1))","v":""},{"$f":"DBCS(MID(ASC(入力用!$C$20),17,1))","v":""},{"$f":"DBCS(MID(ASC(入力用!$C$20),18,1))","v":""},{"$f":"DBCS(MID(ASC(入力用!$C$20),19,1))","v":""},{"$f":"DBCS(MID(ASC(入力用!$C$20),20,1))","v":""},"請求書\n送付先",null,null,null,null,"(〒",null,{"$f":"LEFT(入力用!C22,3)","v":""},null,null,"-",{"$f":"RIGHT(入力用!C22,4)","v":""},null,null,null,")",null,{"$f":"IF(入力用!C23=\"同上\",\"\",LEFT(入力用!C23,11))","v":""},null,null,null,null,null,null,null,null,null,null,null,null,null,null,null,null,"ご連絡先",null,null,null,null,{"$f":"IF(OR(入力用!C25=\"同上\",入力用!C25=\"同左\"),\"\",LEFT(入力用!C25,17))","v":""}]
[]
[null,null,null,null,null,null,null,null,null,null,null,null,null,null,null,null,null,null,null,null,null,null,null,null,null,null,null,{"$f":"DBCS(MID(ASC(入力用!$C$20),21,1))","v":""},{"$f":"DBCS(MID(ASC(入力用!$C$20),22,1))","v":""},{"$f":"DBCS(MID(ASC(入力用!$C$20),23,1))","v":""},{"$f":"DBCS(MID(ASC(入力用!$C$20),24,1))","v":""},{"$f":"DBCS(MID(ASC(入力用!$C$20),25,1))","v":""},{"$f":"DBCS(MID(ASC(入力用!$C$20),26,1))","v":""},{"$f":"DBCS(MID(ASC(入力用!$C$20),27,1))","v":""},{"$f":"DBCS(MID(ASC(入力用!$C$20),28,1))","v":""},{"$f":"DBCS(MID(ASC(入力用!$C$20),29,1))","v":""},{"$f":"DBCS(MID(ASC(入力用!$C$20),30,1))","v":""},{"$f":"DBCS(MID(ASC(入力用!$C$20),31,1))","v":""},{"$f":"DBCS(MID(ASC(入力用!$C$20),32,1))","v":""},{"$f":"DBCS(MID(ASC(入力用!$C$20),33,1))","v":""},{"$f":"DBCS(MID(ASC(入力用!$C$20),34,1))","v":""},{"$f":"DBCS(MID(ASC(入力用!$C$20),35,1))","v":""},{"$f":"DBCS(MID(ASC(入力用!$C$20),36,1))","v":""},{"$f":"DBCS(MID(ASC(入力用!$C$20),37,1))","v":""},{"$f":"DBCS(MID(ASC(入力用!$C$20),38,1))","v":""},{"$f":"DBCS(MID(ASC(入力用!$C$20),39,1))","v":""},{"$f":"DBCS(MID(ASC(入力用!$C$20),40,1))","v":""},null,null,null,null,null,{"$f":"IF(入力用!C23=\"同上\",入力用!C23,MID(入力用!C23,12,20))","v":""},null,null,null,null,null,null,null,null,null,null,null,null,null,null,null,null,null,null,null,null,null,null,null,null,null,null,null,null,null,null,null,null,null,{"$f":"IF(OR(入力用!C25=\"同上\",入力用!C25=\"同左\"),入力用!C25,MID(入力用!C25,18,17))","v":""}]
[]
[null,null,null,null,null,null,null,null,null,null,null,null,null,null,null,null,null,null,null,null,null,null,null,null,null,null,null,{"$f":"IF(入力用!C21=\"\",\"\",入力用!C21)","v":""}]
[null,null,null,null,null,null,null,null,null,null,null,null,null,null,null,null,null,null,null,null,null,null,null,null,null,null,null,null,null,null,null,null,null,null,null,null,null,null,null,null,null,null,null,null,null,null,null,null,null,null,null,null,{"$f":"MID(入力用!C23,32,5)","v":""},null,null,null,null,null,null,"電話(",null,null,null,{"$f":"IF(入力用!C24=\"\",\"\",入力用!C24)","v":""},null,null,null,null,"-",{"$f":"IF(入力用!E24=\"\",\"\",入力用!E24)","v":""},null,null,null,null,"-",{"$f":"IF(入力用!H24=\"\",\"\",入力用!H24)","v":""},null,null,null,null,")",null,null,null,null,null,{"$f":"IF(OR(入力用!C25=\"同上\",入力用!C25=\"同左\"),\"\",MID(入力用!C25,35,1))","v":""},null,null,"電話(",null,null,null,{"$f":"IF(入力用!C26=\"\",\"\",入力用!C26)","v":""},null,null,null,null,"-",{"$f":"IF(入力用!E26=\"\",\"\",入力用!E26)","v":""},null,null,null,null,"-",{"$f":"IF(入力用!H26=\"\",\"\",入力用!H26)","v":""},null,null,null,null,")"]
[]
[null,"臨時工事費ご請求情報送付先\nメールアドレスまたは携帯電話番号",null,null,null,null,null,null,null,null,null,null,null,null,null,null,null,null,null,null,null,null,{"$f":"IF(入力用!C27=\"\",\"\",入力用!C27)","v":""},null,null,null,null,null,null,null,null,null,null,null,null,null,null,null,null,null,null,null,null,null,null,null,null,null,null,null,null,null,null,null,null,null,null,null,null,null,"契約種別",null,null,null,null,null,null,null,null,null,null,null,null,null,null,null,null,"供給電気\n方 式 ・\n供給電圧"]
[null,null,null,null,null,null,null,null,null,null,null,null,null,null,null,null,null,null,null,null,null,null,null,null,null,null,null,null,null,null,null,null,null,null,null,null,null,null,null,null,null,null,null,null,null,null,null,null,null,null,null,null,null,null,null,null,null,null,null,null,null,null,null,null,null,null,null,null,null,null,null,null,null,null,null,null,null,null,null,null,null,null,null,null,null,null,null,null,null,null,null,null,null,null,null,null,null,null,null,null,null,"受付"]
[null,null,null,null,null,null,null,null,null,null,null,null,null,null,null,null,null,null,null,null,null,null,null,null,null,null,null,null,null,null,null,null,null,null,null,null,null,null,null,null,null,null,null,null,null,null,null,null,null,null,null,null,null,null,null,null,null,null,null,null,null,null,null,null,null,{"$f":"IF(入力用!O30=2,入力用!P5,IF(入力用!O30=3,入力用!P6,IF(入力用!O30=4,入力用!P7,\"\")))","v":""},null,null,null,null,null,null,null,null,null,null,null,null,null,null,null,null,{"$f":"IF(入力用!O31=2,入力用!Q5,IF(入力用!O31=3,入力用!Q6,IF(入力用!O31=4,入力用!Q7,IF(入力用!O31=5,入力用!Q8,\"\"))))","v":""}]
[]
[null,"受　 電\n希望日",null,null,null,null,null,{"$f":"IF(入力用!C28=\"\",\"\",入力用!C28)","v":""},null,null,null,null,"年",null,null,{"$f":"IF(入力用!E28=\"\",\"\",入力用!E28)","v":""},null,null,null,null,"月",null,null,{"$f":"IF(入力用!H28=\"\",\"\",入力用!H28)","v":""},null,null,null,null,"日",null,null,"使　用\n終　了\n予定日",null,null,null,null,{"$f":"IF(入力用!C29=\"\",\"\",入力用!C29)","v":""},null,null,null,null,"年",null,null,{"$f":"IF(入力用!E29=\"\",\"\",入力用!E29)","v":""},null,null,null,null,"月",null,null,{"$f":"IF(入力用!H29=\"\",\"\",入力用!H29)","v":""},null,null,null,null,"日"]
[]
[]
[]
[null,"業種",null,null,null,null,null,null,null,null,null,null,null,null,null,null,null,null,null,null,null,"契約\n決定\n方法",null,null,null,null,{"$f":"IF(入力用!O33=2,入力用!S5,IF(入力用!O33=3,入力用!S6,IF(入力用!O33=4,入力用!S7,IF(入力用!O33=5,入力用!S8,IF(入力用!O33=6,入力用!S9,\"\")))))","v":""},null,null,null,null,null,null,null,null,null,null,null,null,null,"主開閉器・\n電流制限器\nの定格電流",null,null,null,null,null,null,null,null,null,null,null,"フリーエリア\n計器払出希望\n事 業 所 名",null,null,null,null,null,null,null,{"$f":"IF(入力用!C35=\"\",\"\",入力用!C35)","v":""},null,null,null,null,null,null,null,null,"臨時供給設備\nから常時供給\n設備への移行",null,null,null,null,null,null,null,null,{"$f":"IF(入力用!O36=2,入力用!T5,IF(入力用!O36=3,入力用!T6,\"\"))","v":""},null,null,null,"電設\nＮｅｔ　\n申込",null,null,null,null,{"$f":"IF(入力用!O37=2,入力用!T9,IF(入力用!O37=3,入力用!T10,\"\"))","v":""}]
[]
[null,null,null,null,null,null,null,{"$f":"IF(入力用!O32=2,入力用!R5,IF(入力用!O32=3,入力用!R6,IF(入力用!O32=4,入力用!R7,IF(入力用!O32=5,入力用!R8,IF(入力用!O32=6,入力用!R9&\"(\"&入力用!K32&\")\",\"\")))))","v":""},null,null,null,null,null,null,null,null,null,null,null,null,null,null,null,null,null,null,null,null,null,null,null,null,null,null,null,null,null,null,null,null,null,null,null,null,null,null,{"$f":"IF(入力用!C34=\"\",\"\",入力用!C34)","v":""}]
[null,null,null,null,null,null,null,null,null,null,null,null,null,null,null,null,null,null,null,null,null,null,null,null,null,null,null,null,null,null,null,null,null,null,null,null,null,null,null,null,null,null,null,null,null,null,null,null,null,null,null,null,null,null,null,null,null,null,null,null,null,null,null,null,null,null,null,null,null,null,null,null,null,null,null,null,null,null,null,null,null,null,null,null,null,null,null,{"$f":"IF(入力用!C38=\"\",\"\",入力用!C38)","v":""}]
[null,null,null,null,null,null,null,null,null,null,null,null,null,null,null,null,null,null,null,null,null,null,null,null,null,null,null,null,null,null,null,null,null,null,null,null,null,null,null,null,null,null,null,null,null,null,null,null,null,null,"Ａ"]
[]
[null,"契 約 負 荷 設 備 内 訳",null,null,"臨時電灯",null,null,"電　　　　　灯",null,null,null,null,null,null,null,null,null,null,null,null,null,null,null,null,null,null,null,"小　型　機　器",null,null,null,null,null,null,null,null,null,null,null,null,null,null,null,null,null,null,null,"回路数",null,null,null,null,null,null,"適用業種別回路数内訳",null,null,null,null,null,null,null,null,null,null,null,null,null,null,null,null,"合 計 容 量"]
[]
[null,null,null,null,null,null,null,{"$f":"IF(入力用!C39=\"\",\"\",入力用!C39)","v":""},null,null,null,null,"灯",null,null,{"$f":"IF(入力用!C40=\"\",\"\",入力用!C40)","v":""},null,null,null,null,null,null,null,null,"ＶＡ",null,null,{"$f":"IF(入力用!C41=\"\",\"\",入力用!C41)","v":""},null,null,null,null,"個",null,null,{"$f":"IF(入力用!C42=\"\",\"\",入力用!C42)","v":""},null,null,null,null,null,null,null,null,"ＶＡ",null,null,{"$f":"IF(入力用!C43=\"\",\"\",入力用!C43)","v":""},null,null,null,null,null,null,{"$f":"入力用!P43","v":""},null,null,null,null,null,null,null,null,null,{"$f":"IF(入力用!E45=\"\",\"\",入力用!E45)","v":""},null,null,"回路",null,null,null,{"$f":"IF(OR(入力用!O33<4,入力用!O33=6,入力用!R15=0),\"\",入力用!R15)","v":""}]
[null,null,null,null,null,null,null,null,null,null,null,null,null,null,null,null,null,null,null,null,null,null,null,null,null,null,null,null,null,null,null,null,null,null,null,null,null,null,null,null,null,null,null,null,null,null,null,null,null,null,null,null,null,null,null,null,null,null,null,null,null,null,null,null,null,null,null,null,null,null,null,null,null,null,null,null,null,null,null,null,{"$f":"IF(入力用!O30=2,\"契約電流\",IF(入力用!O30=3,\"契約容量\",\"契約電流\n契約容量\"))","v":"契約電流\n契約容量"},null,null,null,null,null,null,null,null,{"$f":"IF(入力用!R14=0,\"\",入力用!R14)","v":""},null,null,null,null,null,null,{"$f":"IF(入力用!O30=2,\"Ａ\",IF(入力用!O30=3,\"kVA\",\"Ａ\nkVA\"))","v":"Ａ\nkVA"}]
[null,null,null,null,null,null,null,null,null,null,null,null,null,null,null,null,null,null,null,null,null,null,null,null,null,null,null,null,null,null,null,null,null,null,null,null,null,null,null,null,null,null,null,null,null,null,null,null,null,null,null,null,null,null,{"$f":"入力用!P45","v":""},null,null,null,null,null,null,null,null,null,{"$f":"IF(入力用!E47=\"\",\"\",入力用!E47)","v":""},null,null,"回路"]
[]
[null,null,null,null,null,null,null,null,null,null,null,null,null,null,null,null,null,null,null,null,null,null,null,null,null,null,null,null,null,null,null,null,null,null,null,null,null,null,null,null,null,null,null,null,null,null,null,null,null,null,null,null,null,null,{"$f":"入力用!P47","v":""},null,null,null,null,null,null,null,null,null,{"$f":"IF(入力用!E49=\"\",\"\",入力用!E49)","v":""},null,null,"回路",null,null,null,null,null,null,null,null,null,"ＶＡ"]
[]
[null,null,null,null,"臨  時  電  力",null,null,"機　器　種　別",null,null,null,null,null,null,null,null,null,null,null,null,null,null,null,null,null,null,null,null,null,null,null,"出　力",null,null,null,null,null,null,null,null,null,null,null,"入　力（ａ）",null,null,null,null,null,null,null,null,null,null,null,"力　率",null,null,null,null,null,null,null,null,"台数（ｂ）",null,null,null,null,null,null,"合計(ａ×ｂ)"]
[]
[null,null,null,null,null,null,null,{"$f":"IF(入力用!C50=\"\",\"\",入力用!C50)","v":""},null,null,null,null,null,null,null,null,null,null,null,null,null,null,null,null,null,null,null,null,null,null,null,{"$f":"IF(入力用!C51=\"\",\"\",入力用!C51)","v":""},null,null,null,null,null,null,null,null,{"$f":"IF(入力用!O51=2,入力用!V5,IF(入力用!O51=3,入力用!V6,\"㏋\nkW\"))","v":"㏋\nkW"},null,null,{"$f":"IF(入力用!C52=\"\",\"\",入力用!C52)","v":""},null,null,null,null,null,null,null,null,"ｋＷ",null,null,{"$f":"IF(入力用!O53=2,入力用!W5,IF(入力用!O53=3,入力用!W6,IF(入力用!O53=4,入力用!W7,IF(入力用!O53=5,入力用!W8,\"\"))))","v":""},null,null,null,null,null,null,null,null,{"$f":"IF(入力用!C54=\"\",\"\",入力用!C54)","v":""},null,null,null,"台",null,null,{"$f":"入力用!P51","v":""},null,null,null,null,null,null,"kW"]
[]
[]
[null,null,null,null,null,null,null,{"$f":"IF(入力用!C55=\"\",\"\",入力用!C55)","v":""},null,null,null,null,null,null,null,null,null,null,null,null,null,null,null,null,null,null,null,null,null,null,null,{"$f":"IF(入力用!C56=\"\",\"\",入力用!C56)","v":""},null,null,null,null,null,null,null,null,{"$f":"IF(入力用!O56=2,入力用!V5,IF(入力用!O56=3,入力用!V6,\"㏋\nkW\"))","v":"㏋\nkW"},null,null,{"$f":"IF(入力用!C57=\"\",\"\",入力用!C57)","v":""},null,null,null,null,null,null,null,null,"ｋＷ",null,null,{"$f":"IF(入力用!O58=2,入力用!W5,IF(入力用!O58=3,入力用!W6,IF(入力用!O58=4,入力用!W7,IF(入力用!O58=5,入力用!W8,\"\"))))","v":""},null,null,null,null,null,null,null,null,{"$f":"IF(入力用!C59=\"\",\"\",入力用!C59)","v":""},null,null,null,"台",null,null,{"$f":"入力用!P56","v":""},null,null,null,null,null,null,"kW"]
[]
[]
[null,null,null,null,null,null,null,{"$f":"IF(入力用!C60=\"\",\"\",入力用!C60)","v":""},null,null,null,null,null,null,null,null,null,null,null,null,null,null,null,null,null,null,null,null,null,null,null,{"$f":"IF(入力用!C61=\"\",\"\",入力用!C61)","v":""},null,null,null,null,null,null,null,null,{"$f":"IF(入力用!O61=2,入力用!V5,IF(入力用!O61=3,入力用!V6,\"㏋\nkW\"))","v":"㏋\nkW"},null,null,{"$f":"IF(入力用!C62=\"\",\"\",入力用!C62)","v":""},null,null,null,null,null,null,null,null,"ｋＷ",null,null,{"$f":"IF(入力用!O63=2,入力用!W5,IF(入力用!O63=3,入力用!W6,IF(入力用!O63=4,入力用!W7,IF(入力用!O63=5,入力用!W8,\"\"))))","v":""},null,null,null,null,null,null,null,null,{"$f":"IF(入力用!C64=\"\",\"\",入力用!C64)","v":""},null,null,null,"台",null,null,{"$f":"入力用!P61","v":""},null,null,null,null,null,null,"kW"]
[]
[]
[null,null,null,null,null,null,null,{"$f":"IF(入力用!C65=\"\",\"\",入力用!C65)","v":""},null,null,null,null,null,null,null,null,null,null,null,null,null,null,null,null,null,null,null,null,null,null,null,{"$f":"IF(入力用!C66=\"\",\"\",入力用!C66)","v":""},null,null,null,null,null,null,null,null,{"$f":"IF(入力用!O66=2,入力用!V5,IF(入力用!O66=3,入力用!V6,\"㏋\nkW\"))","v":"㏋\nkW"},null,null,{"$f":"IF(入力用!C67=\"\",\"\",入力用!C67)","v":""},null,null,null,null,null,null,null,null,"ｋＷ",null,null,{"$f":"IF(入力用!O68=2,入力用!W5,IF(入力用!O68=3,入力用!W6,IF(入力用!O68=4,入力用!W7,IF(入力用!O68=5,入力用!W8,\"\"))))","v":""},null,null,null,null,null,null,null,null,{"$f":"IF(入力用!C69=\"\",\"\",入力用!C69)","v":""},null,null,null,"台",null,null,{"$f":"入力用!P66","v":""},null,null,null,null,null,null,"kW",null,null,"臨時引込線工事の内容"]
[]
[null,null,null,null,null,null,null,null,null,null,null,null,null,null,null,null,null,null,null,null,null,null,null,null,null,null,null,null,null,null,null,null,null,null,null,null,null,null,null,null,null,null,null,null,null,null,null,null,null,null,null,null,null,null,null,null,null,null,null,null,null,null,null,null,null,null,null,null,null,null,null,null,null,null,null,null,null,null,null,null,null,"引込\n方法",null,null,null,"単独・連接・ﾒｯｾﾝｼﾞｬｰ"]
[null,null,null,null,null,null,null,{"$f":"IF(入力用!C70=\"\",\"\",入力用!C70)","v":""},null,null,null,null,null,null,null,null,null,null,null,null,null,null,null,null,null,null,null,null,null,null,null,{"$f":"IF(入力用!C71=\"\",\"\",入力用!C71)","v":""},null,null,null,null,null,null,null,null,{"$f":"IF(入力用!O71=2,入力用!V5,IF(入力用!O71=3,入力用!V6,\"㏋\nkW\"))","v":"㏋\nkW"},null,null,{"$f":"IF(入力用!C72=\"\",\"\",入力用!C72)","v":""},null,null,null,null,null,null,null,null,"ｋＷ",null,null,{"$f":"IF(入力用!O73=2,入力用!W5,IF(入力用!O73=3,入力用!W6,IF(入力用!O73=4,入力用!W7,IF(入力用!O73=5,入力用!W8,\"\"))))","v":""},null,null,null,null,null,null,null,null,{"$f":"IF(入力用!C74=\"\",\"\",入力用!C74)","v":""},null,null,null,"台",null,null,{"$f":"入力用!P71","v":""},null,null,null,null,null,null,"kW"]
[]
[]
[null,null,null,null,null,null,null,{"$f":"IF(入力用!C75=\"\",\"\",入力用!C75)","v":""},null,null,null,null,null,null,null,null,null,null,null,null,null,null,null,null,null,null,null,null,null,null,null,{"$f":"IF(入力用!C76=\"\",\"\",入力用!C76)","v":""},null,null,null,null,null,null,null,null,{"$f":"IF(入力用!O76=2,入力用!V5,IF(入力用!O76=3,入力用!V6,\"㏋\nkW\"))","v":"㏋\nkW"},null,null,{"$f":"IF(入力用!C77=\"\",\"\",入力用!C77)","v":""},null,null,null,null,null,null,null,null,"ｋＷ",null,null,{"$f":"IF(入力用!O78=2,入力用!W5,IF(入力用!O78=3,入力用!W6,IF(入力用!O78=4,入力用!W7,IF(入力用!O78=5,入力用!W8,\"\"))))","v":""},null,null,null,null,null,null,null,null,{"$f":"IF(入力用!C79=\"\",\"\",入力用!C79)","v":""},null,null,null,"台",null,null,{"$f":"入力用!P76","v":""},null,null,null,null,null,null,"kW",null,null,"電気\n方式",null,null,null,"２線式　　３線式"]
[]
[]
[null,null,null,null,null,null,null,{"$f":"IF(入力用!C80=\"\",\"\",入力用!C80)","v":""},null,null,null,null,null,null,null,null,null,null,null,null,null,null,null,null,null,null,null,null,null,null,null,{"$f":"IF(入力用!C81=\"\",\"\",入力用!C81)","v":""},null,null,null,null,null,null,null,null,{"$f":"IF(入力用!O81=2,入力用!V5,IF(入力用!O81=3,入力用!V6,\"㏋\nkW\"))","v":"㏋\nkW"},null,null,{"$f":"IF(入力用!C82=\"\",\"\",入力用!C82)","v":""},null,null,null,null,null,null,null,null,"ｋＷ",null,null,{"$f":"IF(入力用!O83=2,入力用!W5,IF(入力用!O83=3,入力用!W6,IF(入力用!O83=4,入力用!W7,IF(入力用!O83=5,入力用!W8,\"\"))))","v":""},null,null,null,null,null,null,null,null,{"$f":"IF(入力用!C84=\"\",\"\",入力用!C84)","v":""},null,null,null,"台",null,null,{"$f":"入力用!P81","v":""},null,null,null,null,null,null,"kW"]
[null,null,null,null,null,null,null,null,null,null,null,null,null,null,null,null,null,null,null,null,null,null,null,null,null,null,null,null,null,null,null,null,null,null,null,null,null,null,null,null,null,null,null,null,null,null,null,null,null,null,null,null,null,null,null,null,null,null,null,null,null,null,null,null,null,null,null,null,null,null,null,null,null,null,null,null,null,null,null,null,null,"太さ",null,null,null,"2.6　 3.2　 14　 22\n38　60　その他(　 )"]
[]
[null,null,null,null,null,null,null,{"$f":"IF(入力用!C85=\"\",\"\",入力用!C85)","v":""},null,null,null,null,null,null,null,null,null,null,null,null,null,null,null,null,null,null,null,null,null,null,null,{"$f":"IF(入力用!C86=\"\",\"\",入力用!C86)","v":""},null,null,null,null,null,null,null,null,{"$f":"IF(入力用!O86=2,入力用!V5,IF(入力用!O86=3,入力用!V6,\"㏋\nkW\"))","v":"㏋\nkW"},null,null,{"$f":"IF(入力用!C87=\"\",\"\",入力用!C87)","v":""},null,null,null,null,null,null,null,null,"ｋＷ",null,null,{"$f":"IF(入力用!O88=2,入力用!W5,IF(入力用!O88=3,入力用!W6,IF(入力用!O88=4,入力用!W7,IF(入力用!O88=5,入力用!W8,\"\"))))","v":""},null,null,null,null,null,null,null,null,{"$f":"IF(入力用!C89=\"\",\"\",入力用!C89)","v":""},null,null,null,"台",null,null,{"$f":"入力用!P86","v":""},null,null,null,null,null,null,"kW"]
[]
[null,null,null,null,null,null,null,null,null,null,null,null,null,null,null,null,null,null,null,null,null,null,null,null,null,null,null,null,null,null,null,null,null,null,null,null,null,null,null,null,null,null,null,null,null,null,null,null,null,null,null,null,null,null,null,null,null,null,null,null,null,null,null,null,null,null,null,null,null,null,null,null,null,null,null,null,null,null,null,null,null,"工事\n月日",null,null,null,null,null,null,"年",null,null,null,null,"月",null,null,null,null,"日"]
[null,null,null,null,null,null,null,{"$f":"IF(入力用!C90=\"\",\"\",入力用!C90)","v":""},null,null,null,null,null,null,null,null,null,null,null,null,null,null,null,null,null,null,null,null,null,null,null,{"$f":"IF(入力用!C91=\"\",\"\",入力用!C91)","v":""},null,null,null,null,null,null,null,null,{"$f":"IF(入力用!O91=2,入力用!V5,IF(入力用!O91=3,入力用!V6,\"㏋\nkW\"))","v":"㏋\nkW"},null,null,{"$f":"IF(入力用!C92=\"\",\"\",入力用!C92)","v":""},null,null,null,null,null,null,null,null,"ｋＷ",null,null,{"$f":"IF(入力用!O93=2,入力用!W5,IF(入力用!O93=3,入力用!W6,IF(入力用!O93=4,入力用!W7,IF(入力用!O93=5,入力用!W8,\"\"))))","v":""},null,null,null,null,null,null,null,null,{"$f":"IF(入力用!C94=\"\",\"\",入力用!C94)","v":""},null,null,null,"台",null,null,{"$f":"入力用!P91","v":""},null,null,null,null,null,null,"kW"]
[]
[]
[null,null,null,null,null,null,null,{"$f":"IF(入力用!C95=\"\",\"\",入力用!C95)","v":""},null,null,null,null,null,null,null,null,null,null,null,null,null,null,null,null,null,null,null,null,null,null,null,{"$f":"IF(入力用!C96=\"\",\"\",入力用!C96)","v":""},null,null,null,null,null,null,null,null,{"$f":"IF(入力用!O96=2,入力用!V5,IF(入力用!O96=3,入力用!V6,\"㏋\nkW\"))","v":"㏋\nkW"},null,null,{"$f":"IF(入力用!C97=\"\",\"\",入力用!C97)","v":""},null,null,null,null,null,null,null,null,"ｋＷ",null,null,{"$f":"IF(入力用!O98=2,入力用!W5,IF(入力用!O98=3,入力用!W6,IF(入力用!O98=4,入力用!W7,IF(入力用!O98=5,入力用!W8,\"\"))))","v":""},null,null,null,null,null,null,null,null,{"$f":"IF(入力用!C99=\"\",\"\",入力用!C99)","v":""},null,null,null,"台",null,null,{"$f":"入力用!P96","v":""},null,null,null,null,null,null,"kW"]
[]
[]
[null,null,null,null,null,null,null,{"$f":"IF(入力用!C100=\"\",\"\",入力用!C100)","v":""},null,null,null,null,null,null,null,null,null,null,null,null,null,null,null,null,null,null,null,null,null,null,null,{"$f":"IF(入力用!C101=\"\",\"\",入力用!C101)","v":""},null,null,null,null,null,null,null,null,{"$f":"IF(入力用!O101=2,入力用!V5,IF(入力用!O101=3,入力用!V6,\"㏋\nkW\"))","v":"㏋\nkW"},null,null,{"$f":"IF(入力用!C102=\"\",\"\",入力用!C102)","v":""},null,null,null,null,null,null,null,null,"ｋＷ",null,null,{"$f":"IF(入力用!O103=2,入力用!W5,IF(入力用!O103=3,入力用!W6,IF(入力用!O103=4,入力用!W7,IF(入力用!O103=5,入力用!W8,\"\"))))","v":""},null,null,null,null,null,null,null,null,{"$f":"IF(入力用!C104=\"\",\"\",入力用!C104)","v":""},null,null,null,"台",null,null,{"$f":"入力用!P101","v":""},null,null,null,null,null,null,"kW"]
[]
[]
[null,null,null,null,null,null,null,{"$f":"IF(入力用!C105=\"\",\"\",入力用!C105)","v":""},null,null,null,null,null,null,null,null,null,null,null,null,null,null,null,null,null,null,null,null,null,null,null,{"$f":"IF(入力用!C106=\"\",\"\",入力用!C106)","v":""},null,null,null,null,null,null,null,null,{"$f":"IF(入力用!O106=2,入力用!V5,IF(入力用!O106=3,入力用!V6,\"㏋\nkW\"))","v":"㏋\nkW"},null,null,{"$f":"IF(入力用!C107=\"\",\"\",入力用!C107)","v":""},null,null,null,null,null,null,null,null,"ｋＷ",null,null,{"$f":"IF(入力用!O108=2,入力用!W5,IF(入力用!O108=3,入力用!W6,IF(入力用!O108=4,入力用!W7,IF(入力用!O108=5,入力用!W8,\"\"))))","v":""},null,null,null,null,null,null,null,null,{"$f":"IF(入力用!C109=\"\",\"\",入力用!C109)","v":""},null,null,null,"台",null,null,{"$f":"入力用!P106","v":""},null,null,null,null,null,null,"kW"]
[]
[]
[null,null,null,null,null,null,null,"機器種別",null,null,null,null,null,null,null,"日本工業規格",null,null,null,null,null,null,null,"コンデンサ",null,null,null,null,null,null,null,"1次入力",null,null,null,null,null,null,null,null,null,null,null,"入　力（ａ）",null,null,null,null,null,null,null,null,null,null,null,"力　率",null,null,null,null,null,null,null,null,"台数（ｂ）",null,null,null,null,null,null,"合計(ａ×ｂ)"]
[]
[null,null,null,null,null,null,null,"電気溶接機",null,null,null,null,null,null,null,{"$f":"IF(入力用!O110=2,入力用!Y5,IF(入力用!O110=3,入力用!Y6,\"\"))","v":""},null,null,null,null,null,null,null,{"$f":"IF(入力用!O111=2,入力用!Z5,IF(入力用!O111=3,入力用!Z6,IF(入力用!O111=4,入力用!Z7,\"\")))","v":""},null,null,null,null,null,null,null,{"$f":"IF(入力用!C112=\"\",\"\",入力用!C112)","v":""},null,null,null,null,null,null,null,null,"kVA",null,null,{"$f":"IF(入力用!C113=\"\",\"\",入力用!C113)","v":""},null,null,null,null,null,null,null,null,"ｋＷ",null,null,{"$f":"IF(入力用!O114=2,入力用!AA5,IF(入力用!O114=3,入力用!AA6,IF(入力用!O114=4,入力用!AA7,\"\")))","v":""},null,null,null,null,null,null,null,null,{"$f":"IF(入力用!C115=\"\",\"\",入力用!C115)","v":""},null,null,null,"台",null,null,{"$f":"入力用!P112","v":""},null,null,null,null,null,null,"kW"]
[]
[]
[null,null,null,null,null,null,null,"電気溶接機",null,null,null,null,null,null,null,{"$f":"IF(入力用!O116=2,入力用!Y5,IF(入力用!O116=3,入力用!Y6,\"\"))","v":""},null,null,null,null,null,null,null,{"$f":"IF(入力用!O117=2,入力用!Z5,IF(入力用!O117=3,入力用!Z6,IF(入力用!O117=4,入力用!Z7,\"\")))","v":""},null,null,null,null,null,null,null,{"$f":"IF(入力用!C118=\"\",\"\",入力用!C118)","v":""},null,null,null,null,null,null,null,null,"kVA",null,null,{"$f":"IF(入力用!C119=\"\",\"\",入力用!C119)","v":""},null,null,null,null,null,null,null,null,"ｋＷ",null,null,{"$f":"IF(入力用!O120=2,入力用!AA5,IF(入力用!O120=3,入力用!AA6,IF(入力用!O120=4,入力用!AA7,\"\")))","v":""},null,null,null,null,null,null,null,null,{"$f":"IF(入力用!C121=\"\",\"\",入力用!C121)","v":""},null,null,null,"台",null,null,{"$f":"入力用!P118","v":""},null,null,null,null,null,null,"kW"]
[]
[]
[null,null,null,null,null,null,null,null,null,null,null,null,null,null,null,null,null,null,null,null,null,null,null,null,null,null,null,null,null,null,null,null,null,null,null,null,null,null,null,null,null,null,null,null,null,null,null,null,null,null,null,null,null,null,null,"力　率",null,null,null,null,null,null,null,null,"合計台数",null,null,null,null,null,null,"入力合計",null,null,null,null,null,null,null,null,"契約電力",null,null,null,null,null,null,null,null,{"$f":"IF(入力用!R36=0,\"\",入力用!R36)","v":""},null,null,null,null,null,null,null,"ｋＷ"]
[]
[null,null,null,null,null,null,null,null,null,null,null,null,null,null,null,null,null,null,null,null,null,null,null,null,null,null,null,null,null,null,null,null,null,null,null,null,null,null,null,null,null,null,null,null,null,null,null,null,null,null,null,null,null,null,null,"85％",null,null,null,{"$f":"IF(入力用!O33=3,\"超過\",IF(入力用!R34=\"\",\"超過\n未満\",IF(入力用!R34>0.85,\"超過\",IF(入力用!R34<0.85,\"未満\",\"\"))))","v":"超過\n未満"},null,null,null,null,{"$f":"IF(SUM(BM65:BP100,BM103:BP108)=0,\"\",SUM(BM65:BP100,BM103:BP108))","v":""},null,null,null,"台",null,null,{"$f":"IF(入力用!R38=0,\"\",入力用!R38)","v":""},null,null,null,null,null,null,"kW"]
[]
[]
[null,"異動種別",null,null,"・新設　　 　・減少",null,null,null,null,null,null,null,null,null,null,null,null,null,null,null,null,null,null,null,null,null,null,null,"供給地点特定番号",null,null,null,null,null,null,"発行\n回数",null,null,"支店",null,"ﾌﾞﾛｯｸ",null,null,"住所",null,null,null,null,"街区",null,null,"契約№",null,null,null,null,"枝番",null,null,"種別"]
[]
[null,null,null,null,"・種変(+)　　・設備変更"]
[]
[null,null,null,null,"・ｺｰﾄﾞ変(+)　・名義変更",null,null,null,null,null,null,null,null,null,null,null,null,null,null,null,null,null,null,null,null,null,null,null,null,null,null,"010",null,null,null,null,null,null,null,null,null,null,null,null,null,null,null,null,null,null,null,null,null,null,null,null,null,null,null,null,null,null,"00"]
[]
[null,null,null,null,"・増加　　 　・その他（　　　　　　　 ）"]
[]
[]
[null,"　※　太枠内をご記入願います。"]
[]
[null,"　※　ご契約者さまが法人の場合は，代表者肩書および代表者名をあわせてご記入願います。"]
[]
[null,"　※　ご提供いただいた個人情報は，電気事業の範囲内で利用いたします。"]
[]
[]
[null,null,null,"拝啓　平素は弊社事業に格別のお引き立てを賜り，厚くお礼申し上げます。５６７８９０"]
[]
[]
[null,null,null,"　さて，御社よりお申込みをいただきました上記お客さまの電気のご使用につきまして，"]
[]
[]
[null,null,null,"本内容にて受付させていただきましたことをお知らせいたします。１２３４５６７８９０"]
[]
[]
[null,null,null,"１２３４５６７８９０１２３４５６７８９０１２３４５６７８９０１２３４５６７敬具０"]
[]
[]
[]
[null,"＜連絡事項＞"]
[]
[]
[]
[]
[]
[]
[]
[]
[]
[]
[]
[]
[]
[]
[]
[]
[]
[]
[]
["北　海　道　電　力　ネ　ッ　ト　ワ　ー　ク　株　式　会　社"]

{"sheet":"２枚目","index":2,"n_rows":163,"n_cols":111,"rows_kept":163,"cut":false,"hidden":false,"merged":[[113,74,118,77],[113,78,118,81],[117,31,120,34],[117,35,120,37],[117,38,120,39],[117,40,120,42],[117,43,120,47],[117,48,120,50],[117,51,120,55],[117,56,120,58],[117,59,120,61],[117,62,120,64],[119,70,120,73],[119,74,120,77],[119,78,120,81],[113,40,116,42],[113,43,116,47],[113,48,116,50],[113,51,116,55],[113,56,116,58],[113,59,116,61],[113,62,116,64],[113,65,120,69],[113,70,118,73],[33,40,34,40],[33,41,34,41],[33,42,34,42],[33,43,34,43],[33,44,34,44],[33,45,34,45],[33,46,34,46],[16,47,17,47],[16,40,17,40],[16,41,17,41],[33,27,34,27],[33,28,34,28],[33,29,34,29],[33,30,34,30],[33,31,34,31],[33,32,34,32],[33,33,34,33],[33,34,34,34],[33,35,34,35],[16,56,17,56],[16,57,17,57],[97,52,99,54],[97,55,99,63],[16,48,17,48],[16,49,17,49],[16,50,17,50],[16,51,17,51],[67,55,69,63],[62,55,63,63],[64,52,66,54],[67,52,69,54],[64,55,66,63],[22,48,23,63],[73,43,75,51],[70,55,72,63],[44,44,47,48],[44,49,47,51],[16,58,17,58],[35,43,36,43],[35,44,36,44],[35,45,36,45],[35,46,36,46],[48,52,53,59],[16,21,17,21],[16,22,17,22],[16,23,17,23],[16,24,17,24],[16,25,17,25],[16,26,17,26],[16,27,17,27],[16,28,17,28],[16,42,17,42],[102,40,104,42],[91,40,93,42],[94,31,96,39],[82,31,84,39],[94,40,96,42],[97,43,99,51],[16,29,17,29],[16,30,17,30],[16,31,17,31],[16,32,17,32],[16,33,17,33],[16,34,17,34],[16,35,17,35],[16,36,17,36],[16,37,17,37],[16,43,17,43],[16,44,17,44],[16,45,17,45],[16,46,17,46],[76,40,78,42],[33,36,34,36],[33,37,34,37],[33,38,34,38],[33,39,34,39],[113,28,120,30],[113,4,114,27],[115,4,116,27],[105,7,107,14],[105,31,107,39],[113,31,116,34],[113,35,116,37],[113,38,116,39],[73,55,75,63],[108,55,109,63],[105,55,107,63],[110,59,112,63],[76,31,78,39],[73,52,75,54],[88,40,90,42],[82,40,84,42],[85,40,87,42],[79,40,81,42],[97,31,99,39],[102,52,104,54],[105,40,107,42],[94,55,96,63],[94,43,96,51],[94,52,96,54],[73,7,75,30],[76,7,78,30],[70,31,72,39],[73,31,75,39],[67,40,69,42],[64,40,66,42],[73,40,75,42],[70,40,72,42],[100,23,101,30],[79,7,81,30],[82,7,84,30],[85,7,87,30],[88,31,90,39],[79,31,81,39],[88,7,90,30],[97,7,99,30],[85,31,87,39],[91,31,93,39],[100,31,101,42],[97,40,99,42],[85,71,87,77],[76,43,78,51],[76,52,78,54],[94,71,96,77],[88,71,90,77],[91,71,93,77],[82,55,84,63],[82,64,84,67],[76,64,78,67],[88,64,90,67],[79,43,81,51],[82,43,84,51],[82,52,84,54],[79,55,81,63],[79,64,81,67],[85,55,87,63],[85,43,87,51],[85,52,87,54],[88,55,90,63],[76,55,78,63],[88,68,90,70],[79,52,81,54],[87,90,90,92],[102,15,104,22],[102,23,104,30],[100,7,101,14],[102,7,104,14],[100,15,101,22],[102,31,104,39],[108,89,112,96],[108,97,112,99],[108,80,112,88],[108,71,109,79],[110,71,112,77],[110,78,112,79],[102,43,104,51],[100,55,101,63],[102,78,104,79],[102,71,104,77],[100,71,101,79],[105,15,107,22],[105,23,107,30],[105,43,107,51],[110,68,112,70],[102,68,104,70],[100,43,101,54],[75,85,78,99],[87,93,90,94],[87,95,90,97],[105,78,107,79],[85,78,87,79],[76,68,78,70],[83,81,86,84],[83,85,86,99],[76,78,78,79],[75,81,78,84],[73,71,75,77],[73,81,74,99],[79,85,82,99],[97,71,99,77],[97,78,99,79],[94,78,96,79],[88,78,90,79],[91,78,93,79],[85,68,87,70],[82,68,84,70],[87,98,90,99],[87,81,90,84],[87,85,90,87],[87,88,90,89],[57,96,61,99],[57,80,61,88],[60,77,61,79],[70,64,72,67],[67,31,69,39],[62,7,63,30],[62,31,63,42],[44,7,47,11],[79,81,82,84],[82,71,84,77],[82,78,84,79],[70,68,72,70],[58,67,59,70],[64,64,66,67],[62,71,63,79],[73,78,75,79],[76,71,78,77],[79,71,81,77],[79,78,81,79],[73,68,75,70],[64,71,66,77],[73,64,75,67],[60,64,61,66],[79,68,81,70],[31,69,32,74],[31,75,32,88],[41,101,48,102],[41,103,48,110],[64,68,66,70],[54,54,55,70],[56,64,57,66],[58,64,59,66],[62,64,63,70],[62,43,63,54],[64,43,66,51],[56,67,57,70],[60,67,61,70],[30,55,32,55],[64,78,66,79],[27,64,32,68],[27,12,29,63],[50,7,53,20],[44,31,47,35],[44,36,47,40],[44,20,47,22],[44,28,47,30],[40,1,43,21],[33,52,34,53],[31,105,32,109],[31,89,32,92],[31,93,32,97],[31,104,32,104],[25,105,26,109],[31,99,32,103],[25,89,26,92],[25,93,26,97],[31,110,32,110],[25,98,26,98],[25,99,26,103],[25,104,26,104],[25,110,26,110],[27,69,30,74],[27,75,30,110],[30,56,32,63],[18,12,21,63],[16,64,26,68],[16,59,17,63],[16,12,17,18],[24,22,26,23],[24,18,26,21],[30,22,32,27],[30,29,32,35],[30,36,32,38],[30,28,32,28],[30,39,32,45],[30,46,32,46],[30,47,32,54],[21,75,22,110],[19,90,20,99],[19,100,20,102],[19,103,20,103],[30,21,32,21],[30,12,32,14],[19,75,20,89],[31,98,32,98],[44,15,47,19],[44,1,47,6],[44,12,47,14],[48,26,53,39],[48,40,53,45],[24,24,26,63],[16,1,39,6],[16,7,23,11],[24,12,26,13],[24,14,26,16],[24,7,29,11],[22,12,23,20],[38,63,39,67],[38,59,39,62],[37,27,39,46],[35,27,36,27],[35,28,36,28],[30,7,32,11],[33,22,39,26],[33,7,39,11],[30,15,32,20],[33,57,34,57],[16,19,17,19],[24,17,26,17],[22,21,23,39],[22,40,23,47],[6,0,9,110],[13,69,15,84],[13,85,15,89],[14,1,15,38],[13,64,15,68],[10,1,11,25],[12,1,13,38],[13,90,15,110],[21,69,22,74],[16,69,18,74],[16,75,18,110],[23,69,24,110],[19,69,20,74],[19,109,20,110],[19,104,20,108],[16,52,17,52],[16,53,17,53],[16,54,17,54],[16,55,17,55],[16,38,17,38],[16,39,17,39],[16,20,17,20],[25,69,26,88],[164,0,165,110],[132,3,134,109],[135,3,137,109],[129,3,131,109],[113,1,120,3],[105,52,107,54],[110,64,112,67],[138,3,140,109],[142,1,144,16],[119,4,120,27],[162,0,163,110],[122,1,123,97],[124,1,125,97],[126,1,127,97],[117,4,118,27],[54,1,107,3],[97,64,99,67],[91,68,93,70],[48,1,53,6],[105,71,107,77],[105,68,107,70],[110,55,112,58],[102,55,104,63],[108,64,109,70],[54,4,61,6],[62,4,107,6],[91,7,93,30],[94,7,96,30],[102,64,104,67],[105,64,107,67],[97,68,99,70],[100,64,101,70],[91,52,93,54],[94,68,96,70],[94,64,96,67],[91,55,93,63],[91,64,93,67],[67,7,69,30],[70,7,72,30],[85,64,87,67],[67,64,69,67],[88,43,90,51],[88,52,90,54],[91,43,93,51],[67,43,69,51],[70,43,72,51],[70,52,72,54],[56,35,61,43],[54,47,55,53],[70,71,72,77],[70,78,72,79],[67,71,69,77],[67,78,69,79],[57,89,61,95],[56,71,61,76],[38,74,39,74],[40,77,47,81],[40,22,43,59],[44,52,47,56],[44,23,47,27],[67,68,69,70],[64,31,66,39],[64,7,66,30],[48,60,53,68],[48,69,53,77],[48,78,53,81],[48,82,53,86],[48,87,50,99],[50,46,53,49],[51,87,53,99],[52,50,53,51],[33,58,34,61],[42,65,47,76],[40,65,41,76],[38,75,39,79],[33,86,34,110],[38,99,39,103],[35,86,37,110],[38,110,39,110],[38,98,39,98],[33,62,34,63],[38,86,39,88],[38,89,39,92],[38,93,39,97],[33,81,39,85],[48,21,53,25],[38,104,39,104],[38,105,39,109],[38,68,39,68],[40,60,47,64],[35,52,37,80],[38,69,39,73],[40,82,41,99],[42,82,47,99],[35,29,36,29],[35,30,36,30],[35,31,36,31],[35,32,36,32],[35,33,36,33],[35,34,36,34],[35,35,36,35],[35,36,36,36],[35,37,36,37],[35,38,36,38],[35,39,36,39],[35,40,36,40],[35,41,36,41],[35,42,36,42],[1,93,5,109],[33,12,39,21],[54,71,55,79],[33,64,34,80],[44,41,47,43],[38,52,39,58],[33,47,39,51],[38,80,39,80],[56,7,61,11],[56,12,61,14],[56,15,61,23],[56,27,61,31],[56,24,61,26],[60,54,61,63],[56,47,61,53],[56,44,61,46],[54,27,55,46],[56,32,61,34],[56,54,57,63],[58,54,59,63],[54,7,55,26],[44,57,47,59],[33,54,34,56],[48,7,49,20]]}
[]
[null,null,null,null,null,null,null,null,null,null,null,null,null,null,null,null,null,null,null,null,null,null,null,null,null,null,null,null,null,null,null,null,null,null,null,null,null,null,null,null,null,null,null,null,null,null,null,null,null,null,null,null,null,null,null,null,null,null,null,null,null,null,null,null,null,null,null,null,null,null,null,null,null,null,null,null,null,null,null,null,null,null,null,null,null,null,null,null,null,null,null,null,null,"離島等供給用"]
[]
[]
[]
[]
["臨時従量制電気使用申込書（お客さま控）"]
[]
[]
[]
[null,"北海道電力ネットワーク株式会社　御中"]
[]
[]
[null,null,null,null,null,null,null,null,null,null,null,null,null,null,null,null,null,null,null,null,null,null,null,null,null,null,null,null,null,null,null,null,null,null,null,null,null,null,null,null,null,null,null,null,null,null,null,null,null,null,null,null,null,null,null,null,null,null,null,null,null,null,null,null,"受付扱所名",null,null,null,null,null,null,null,null,null,null,null,null,null,null,null,null,null,null,null,null,"受付№"]
[null,"電気の使用について貴社離島等供給約款[低圧用]に承認のうえ申し込みます。"]
[]
[null,"お 客 さ ま",null,null,null,null,null,"ご契約名義",null,null,null,null,"（フリガナ）",null,null,null,null,null,null,{"$f":"DBCS(MID(ASC(入力用!C3),1,1))","v":""},{"$f":"DBCS(MID(ASC(入力用!C3),2,1))","v":""},{"$f":"DBCS(MID(ASC(入力用!C3),3,1))","v":""},{"$f":"DBCS(MID(ASC(入力用!C3),4,1))","v":""},{"$f":"DBCS(MID(ASC(入力用!C3),5,1))","v":""},{"$f":"DBCS(MID(ASC(入力用!C3),6,1))","v":""},{"$f":"DBCS(MID(ASC(入力用!C3),7,1))","v":""},{"$f":"DBCS(MID(ASC(入力用!C3),8,1))","v":""},{"$f":"DBCS(MID(ASC(入力用!C3),9,1))","v":""},{"$f":"DBCS(MID(ASC(入力用!C3),10,1))","v":""},{"$f":"DBCS(MID(ASC(入力用!C3),11,1))","v":""},{"$f":"DBCS(MID(ASC(入力用!C3),12,1))","v":""},{"$f":"DBCS(MID(ASC(入力用!C3),13,1))","v":""},{"$f":"DBCS(MID(ASC(入力用!C3),14,1))","v":""},{"$f":"DBCS(MID(ASC(入力用!C3),15,1))","v":""},{"$f":"DBCS(MID(ASC(入力用!C3),16,1))","v":""},{"$f":"DBCS(MID(ASC(入力用!C3),17,1))","v":""},{"$f":"DBCS(MID(ASC(入力用!C3),18,1))","v":""},{"$f":"DBCS(MID(ASC(入力用!C3),19,1))","v":""},{"$f":"DBCS(MID(ASC(入力用!C3),20,1))","v":""},{"$f":"DBCS(MID(ASC(入力用!C3),21,1))","v":""},{"$f":"DBCS(MID(ASC(入力用!C3),22,1))","v":""},{"$f":"DBCS(MID(ASC(入力用!C3),23,1))","v":""},{"$f":"DBCS(MID(ASC(入力用!C3),24,1))","v":""},{"$f":"DBCS(MID(ASC(入力用!C3),25,1))","v":""},{"$f":"DBCS(MID(ASC(入力用!C3),26,1))","v":""},{"$f":"DBCS(MID(ASC(入力用!C3),27,1))","v":""},{"$f":"DBCS(MID(ASC(入力用!C3),28,1))","v":""},{"$f":"DBCS(MID(ASC(入力用!C3),29,1))","v":""},{"$f":"DBCS(MID(ASC(入力用!C3),30,1))","v":""},{"$f":"DBCS(MID(ASC(入力用!C3),31,1))","v":""},{"$f":"DBCS(MID(ASC(入力用!C3),32,1))","v":""},{"$f":"DBCS(MID(ASC(入力用!C3),33,1))","v":""},{"$f":"DBCS(MID(ASC(入力用!C3),34,1))","v":""},{"$f":"DBCS(MID(ASC(入力用!C3),35,1))","v":""},{"$f":"DBCS(MID(ASC(入力用!C3),36,1))","v":""},{"$f":"DBCS(MID(ASC(入力用!C3),37,1))","v":""},{"$f":"DBCS(MID(ASC(入力用!C3),38,1))","v":""},{"$f":"DBCS(MID(ASC(入力用!C3),39,1))","v":""},{"$f":"DBCS(MID(ASC(入力用!C3),40,1))","v":""},null,null,null,null,null,"電気工事会社",null,null,null,null," 会社名",null,null,null,null,null,{"$f":"IF(入力用!C11=\"\",\"\",入力用!C11)","v":""}]
[]
[null,null,null,null,null,null,null,null,null,null,null,null,{"$f":"IF(入力用!C4=\"\",\"\",入力用!C4)","v":""}]
[null,null,null,null,null,null,null,null,null,null,null,null,null,null,null,null,null,null,null,null,null,null,null,null,null,null,null,null,null,null,null,null,null,null,null,null,null,null,null,null,null,null,null,null,null,null,null,null,null,null,null,null,null,null,null,null,null,null,null,null,null,null,null,null,null,null,null,null,null,"(担当者)",null,null,null,null,null,{"$f":"IF(入力用!C12=\"\",\"\",入力用!C12)","v":""},null,null,null,null,null,null,null,null,null,null,null,null,null,null,"工事会社№（",null,null,null,null,null,null,null,null,null,{"$f":"IF(入力用!C13=\"\",\"\",入力用!C13)","v":""},null,null,"-",{"$f":"IF(入力用!E13=\"\",\"\",入力用!E13)","v":""},null,null,null,null,")"]
[]
[null,null,null,null,null,null,null,null,null,null,null,null,null,null,null,null,null,null,null,null,null,null,null,null,null,null,null,null,null,null,null,null,null,null,null,null,null,null,null,null,null,null,null,null,null,null,null,null,null,null,null,null,null,null,null,null,null,null,null,null,null,null,null,null,null,null,null,null,null," 住　所",null,null,null,null,null,{"$f":"LEFT(入力用!C14,24)","v":""}]
[null,null,null,null,null,null,null,null,null,null,null,null,"（代表者肩書）",null,null,null,null,null,null,null,null,{"$f":"IF(入力用!C5=\"\",\"\",入力用!C5)","v":""},null,null,null,null,null,null,null,null,null,null,null,null,null,null,null,null,null,null,"（代表者名）",null,null,null,null,null,null,null,{"$f":"IF(入力用!C6=\"\",\"\",入力用!C6)","v":""}]
[null,null,null,null,null,null,null,null,null,null,null,null,null,null,null,null,null,null,null,null,null,null,null,null,null,null,null,null,null,null,null,null,null,null,null,null,null,null,null,null,null,null,null,null,null,null,null,null,null,null,null,null,null,null,null,null,null,null,null,null,null,null,null,null,null,null,null,null,null,{"$f":"MID(入力用!C14,25,28)","v":""}]
[null,null,null,null,null,null,null,"ご使用\n場　所",null,null,null,null,"(〒",null,{"$f":"LEFT(入力用!C7,3)","v":""},null,null,"-",{"$f":"RIGHT(入力用!C7,4)","v":""},null,null,null,")",null,{"$f":"LEFT(入力用!C8,25)","v":""}]
[null,null,null,null,null,null,null,null,null,null,null,null,null,null,null,null,null,null,null,null,null,null,null,null,null,null,null,null,null,null,null,null,null,null,null,null,null,null,null,null,null,null,null,null,null,null,null,null,null,null,null,null,null,null,null,null,null,null,null,null,null,null,null,null,null,null,null,null,null,{"$f":"MID(入力用!C14,53,12)","v":""},null,null,null,null,null,null,null,null,null,null,null,null,null,null,null,null,null,null,null,"電話(",null,null,null,{"$f":"IF(入力用!C15=\"\",\"\",入力用!C15)","v":""},null,null,null,null,"-",{"$f":"IF(入力用!E15=\"\",\"\",入力用!E15)","v":""},null,null,null,null,"-",{"$f":"IF(入力用!H15=\"\",\"\",入力用!H15)","v":""},null,null,null,null,")"]
[]
[null,null,null,null,null,null,null,null,null,null,null,null,{"$f":"MID(入力用!C8,26,33)","v":""},null,null,null,null,null,null,null,null,null,null,null,null,null,null,null,null,null,null,null,null,null,null,null,null,null,null,null,null,null,null,null,null,null,null,null,null,null,null,null,null,null,null,null,null,null,null,null,null,null,null,null,"建築会社",null,null,null,null," 会社名",null,null,null,null,null,{"$f":"IF(入力用!C16=\"\",\"\",入力用!C16)","v":""}]
[]
[]
[null,null,null,null,null,null,null,"電話番号",null,null,null,null,"固定",null,null,{"$f":"IF(入力用!C9=\"\",\"\",入力用!C9)","v":""},null,null,null,null,null,"-",{"$f":"IF(入力用!E9=\"\",\"\",入力用!E9)","v":""},null,null,null,null,null,"-",{"$f":"IF(入力用!H9=\"\",\"\",入力用!H9)","v":""},null,null,null,null,null,null,"携帯",null,null,{"$f":"IF(入力用!C10=\"\",\"\",入力用!C10)","v":""},null,null,null,null,null,null,"-",{"$f":"IF(入力用!E10=\"\",\"\",入力用!E10)","v":""},null,null,null,null,null,null,null,"-",{"$f":"IF(入力用!H10=\"\",\"\",入力用!H10)","v":""}]
[null,null,null,null,null,null,null,null,null,null,null,null,null,null,null,null,null,null,null,null,null,null,null,null,null,null,null,null,null,null,null,null,null,null,null,null,null,null,null,null,null,null,null,null,null,null,null,null,null,null,null,null,null,null,null,null,null,null,null,null,null,null,null,null,null,null,null,null,null,"(担当者)",null,null,null,null,null,{"$f":"IF(入力用!C17=\"\",\"\",入力用!C17)","v":""},null,null,null,null,null,null,null,null,null,null,null,null,null,"電話(",null,null,null,{"$f":"IF(入力用!C18=\"\",\"\",入力用!C18)","v":""},null,null,null,null,"-",{"$f":"IF(入力用!E18=\"\",\"\",入力用!E18)","v":""},null,null,null,null,"-",{"$f":"IF(入力用!H18=\"\",\"\",入力用!H18)","v":""},null,null,null,null,")"]
[]
[null,null,null,null,null,null,null,"お支払\n方　法",null,null,null,null,{"$f":"IF(入力用!O19=2,\"口座振込\",IF(入力用!O19=3,\"口座振替\",\"\"))","v":""},null,null,null,null,null,null,null,null,null,"支　払\n者　名",null,null,null,null,{"$f":"DBCS(MID(ASC(入力用!C20),1,1))","v":""},{"$f":"DBCS(MID(ASC(入力用!C20),2,1))","v":""},{"$f":"DBCS(MID(ASC(入力用!C20),3,1))","v":""},{"$f":"DBCS(MID(ASC(入力用!C20),4,1))","v":""},{"$f":"DBCS(MID(ASC(入力用!C20),5,1))","v":""},{"$f":"DBCS(MID(ASC(入力用!C20),6,1))","v":""},{"$f":"DBCS(MID(ASC(入力用!C20),7,1))","v":""},{"$f":"DBCS(MID(ASC(入力用!C20),8,1))","v":""},{"$f":"DBCS(MID(ASC(入力用!C20),9,1))","v":""},{"$f":"DBCS(MID(ASC(入力用!C20),10,1))","v":""},{"$f":"DBCS(MID(ASC(入力用!C20),11,1))","v":""},{"$f":"DBCS(MID(ASC(入力用!C20),12,1))","v":""},{"$f":"DBCS(MID(ASC(入力用!C20),13,1))","v":""},{"$f":"DBCS(MID(ASC(入力用!C20),14,1))","v":""},{"$f":"DBCS(MID(ASC(入力用!C20),15,1))","v":""},{"$f":"DBCS(MID(ASC(入力用!C20),16,1))","v":""},{"$f":"DBCS(MID(ASC(入力用!C20),17,1))","v":""},{"$f":"DBCS(MID(ASC(入力用!C20),18,1))","v":""},{"$f":"DBCS(MID(ASC(入力用!C20),19,1))","v":""},{"$f":"DBCS(MID(ASC(入力用!C20),20,1))","v":""},"請求書\n送付先",null,null,null,null,"(〒",null,{"$f":"LEFT(入力用!C22,3)","v":""},null,null,"-",{"$f":"RIGHT(入力用!C22,4)","v":""},null,null,null,")",null,{"$f":"IF(入力用!C23=\"同上\",\"\",LEFT(入力用!C23,11))","v":""},null,null,null,null,null,null,null,null,null,null,null,null,null,null,null,null,"ご連絡先",null,null,null,null,{"$f":"IF(OR(入力用!C25=\"同上\",入力用!C25=\"同左\"),\"\",LEFT(入力用!C25,17))","v":""}]
[]
[null,null,null,null,null,null,null,null,null,null,null,null,null,null,null,null,null,null,null,null,null,null,null,null,null,null,null,{"$f":"DBCS(MID(ASC(入力用!C20),21,1))","v":""},{"$f":"DBCS(MID(ASC(入力用!C20),22,1))","v":""},{"$f":"DBCS(MID(ASC(入力用!C20),23,1))","v":""},{"$f":"DBCS(MID(ASC(入力用!C20),24,1))","v":""},{"$f":"DBCS(MID(ASC(入力用!C20),25,1))","v":""},{"$f":"DBCS(MID(ASC(入力用!C20),26,1))","v":""},{"$f":"DBCS(MID(ASC(入力用!C20),27,1))","v":""},{"$f":"DBCS(MID(ASC(入力用!C20),28,1))","v":""},{"$f":"DBCS(MID(ASC(入力用!C20),29,1))","v":""},{"$f":"DBCS(MID(ASC(入力用!C20),30,1))","v":""},{"$f":"DBCS(MID(ASC(入力用!C20),31,1))","v":""},{"$f":"DBCS(MID(ASC(入力用!C20),32,1))","v":""},{"$f":"DBCS(MID(ASC(入力用!C20),33,1))","v":""},{"$f":"DBCS(MID(ASC(入力用!C20),34,1))","v":""},{"$f":"DBCS(MID(ASC(入力用!C20),35,1))","v":""},{"$f":"DBCS(MID(ASC(入力用!C20),36,1))","v":""},{"$f":"DBCS(MID(ASC(入力用!C20),37,1))","v":""},{"$f":"DBCS(MID(ASC(入力用!C20),38,1))","v":""},{"$f":"DBCS(MID(ASC(入力用!C20),39,1))","v":""},{"$f":"DBCS(MID(ASC(入力用!C20),40,1))","v":""},null,null,null,null,null,{"$f":"IF(入力用!C23=\"同上\",入力用!C23,MID(入力用!C23,12,20))","v":""},null,null,null,null,null,null,null,null,null,null,null,null,null,null,null,null,null,null,null,null,null,null,null,null,null,null,null,null,null,null,null,null,null,{"$f":"IF(OR(入力用!C25=\"同上\",入力用!C25=\"同左\"),入力用!C25,MID(入力用!C25,18,17))","v":""}]
[]
[null,null,null,null,null,null,null,null,null,null,null,null,null,null,null,null,null,null,null,null,null,null,null,null,null,null,null,{"$f":"IF(入力用!C21=\"\",\"\",入力用!C21)","v":""}]
[null,null,null,null,null,null,null,null,null,null,null,null,null,null,null,null,null,null,null,null,null,null,null,null,null,null,null,null,null,null,null,null,null,null,null,null,null,null,null,null,null,null,null,null,null,null,null,null,null,null,null,null,{"$f":"MID(入力用!C23,32,5)","v":""},null,null,null,null,null,null,"電話(",null,null,null,{"$f":"IF(入力用!C24=\"\",\"\",入力用!C24)","v":""},null,null,null,null,"-",{"$f":"IF(入力用!E24=\"\",\"\",入力用!E24)","v":""},null,null,null,null,"-",{"$f":"IF(入力用!H24=\"\",\"\",入力用!H24)","v":""},null,null,null,null,")",null,null,null,null,null,{"$f":"IF(OR(入力用!C25=\"同上\",入力用!C25=\"同左\"),\"\",MID(入力用!C25,35,1))","v":""},null,null,"電話(",null,null,null,{"$f":"IF(入力用!C26=\"\",\"\",入力用!C26)","v":""},null,null,null,null,"-",{"$f":"IF(入力用!E26=\"\",\"\",入力用!E26)","v":""},null,null,null,null,"-",{"$f":"IF(入力用!H26=\"\",\"\",入力用!H26)","v":""},null,null,null,null,")"]
[]
[null,"臨時工事費ご請求情報送付先\nメールアドレスまたは携帯電話番号",null,null,null,null,null,null,null,null,null,null,null,null,null,null,null,null,null,null,null,null,{"$f":"IF(入力用!C27=\"\",\"\",入力用!C27)","v":""},null,null,null,null,null,null,null,null,null,null,null,null,null,null,null,null,null,null,null,null,null,null,null,null,null,null,null,null,null,null,null,null,null,null,null,null,null,"契約種別",null,null,null,null,null,null,null,null,null,null,null,null,null,null,null,null,"供給電気\n方 式 ・\n供給電圧"]
[null,null,null,null,null,null,null,null,null,null,null,null,null,null,null,null,null,null,null,null,null,null,null,null,null,null,null,null,null,null,null,null,null,null,null,null,null,null,null,null,null,null,null,null,null,null,null,null,null,null,null,null,null,null,null,null,null,null,null,null,null,null,null,null,null,null,null,null,null,null,null,null,null,null,null,null,null,null,null,null,null,null,null,null,null,null,null,null,null,null,null,null,null,null,null,null,null,null,null,null,null,"受付"]
[null,null,null,null,null,null,null,null,null,null,null,null,null,null,null,null,null,null,null,null,null,null,null,null,null,null,null,null,null,null,null,null,null,null,null,null,null,null,null,null,null,null,null,null,null,null,null,null,null,null,null,null,null,null,null,null,null,null,null,null,null,null,null,null,null,{"$f":"IF(入力用!O30=2,入力用!P5,IF(入力用!O30=3,入力用!P6,IF(入力用!O30=4,入力用!P7,\"\")))","v":""},null,null,null,null,null,null,null,null,null,null,null,null,null,null,null,null,{"$f":"IF(入力用!O31=2,入力用!Q5,IF(入力用!O31=3,入力用!Q6,IF(入力用!O31=4,入力用!Q7,IF(入力用!O31=5,入力用!Q8,\"\"))))","v":""}]
[]
[null,"受　 電\n希望日",null,null,null,null,null,{"$f":"IF(入力用!C28=\"\",\"\",入力用!C28)","v":""},null,null,null,null,"年",null,null,{"$f":"IF(入力用!E28=\"\",\"\",入力用!E28)","v":""},null,null,null,null,"月",null,null,{"$f":"IF(入力用!H28=\"\",\"\",入力用!H28)","v":""},null,null,null,null,"日",null,null,"使　用\n終　了\n予定日",null,null,null,null,{"$f":"IF(入力用!C29=\"\",\"\",入力用!C29)","v":""},null,null,null,null,"年",null,null,{"$f":"IF(入力用!E29=\"\",\"\",入力用!E29)","v":""},null,null,null,null,"月",null,null,{"$f":"IF(入力用!H29=\"\",\"\",入力用!H29)","v":""},null,null,null,null,"日"]
[]
[]
[]
[null,"業種",null,null,null,null,null,null,null,null,null,null,null,null,null,null,null,null,null,null,null,"契約\n決定\n方法",null,null,null,null,{"$f":"IF(入力用!O33=2,入力用!S5,IF(入力用!O33=3,入力用!S6,IF(入力用!O33=4,入力用!S7,IF(入力用!O33=5,入力用!S8,IF(入力用!O33=6,入力用!S9,\"\")))))","v":""},null,null,null,null,null,null,null,null,null,null,null,null,null,"主開閉器・\n電流制限器\nの定格電流",null,null,null,null,null,null,null,null,null,null,null,"フリーエリア\n計器払出希望\n事 業 所 名",null,null,null,null,null,null,null,{"$f":"IF(入力用!C35=\"\",\"\",入力用!C35)","v":""},null,null,null,null,null,null,null,null,"臨時供給設備\nから常時供給\n設備への移行",null,null,null,null,null,null,null,null,{"$f":"IF(入力用!O36=2,入力用!T5,IF(入力用!O36=3,入力用!T6,\"\"))","v":""},null,null,null,"電設\nＮｅｔ　\n申込",null,null,null,null,{"$f":"IF(入力用!O37=2,入力用!T9,IF(入力用!O37=3,入力用!T10,\"\"))","v":""}]
[]
[null,null,null,null,null,null,null,{"$f":"IF(入力用!O32=2,入力用!R5,IF(入力用!O32=3,入力用!R6,IF(入力用!O32=4,入力用!R7,IF(入力用!O32=5,入力用!R8,IF(入力用!O32=6,入力用!R9&\"(\"&入力用!K32&\")\",\"\")))))","v":""},null,null,null,null,null,null,null,null,null,null,null,null,null,null,null,null,null,null,null,null,null,null,null,null,null,null,null,null,null,null,null,null,null,null,null,null,null,null,{"$f":"IF(入力用!C34=\"\",\"\",入力用!C34)","v":""}]
[null,null,null,null,null,null,null,null,null,null,null,null,null,null,null,null,null,null,null,null,null,null,null,null,null,null,null,null,null,null,null,null,null,null,null,null,null,null,null,null,null,null,null,null,null,null,null,null,null,null,null,null,null,null,null,null,null,null,null,null,null,null,null,null,null,null,null,null,null,null,null,null,null,null,null,null,null,null,null,null,null,null,null,null,null,null,null,{"$f":"IF(入力用!C38=\"\",\"\",入力用!C38)","v":""}]
[null,null,null,null,null,null,null,null,null,null,null,null,null,null,null,null,null,null,null,null,null,null,null,null,null,null,null,null,null,null,null,null,null,null,null,null,null,null,null,null,null,null,null,null,null,null,null,null,null,null,"Ａ"]
[]
[null,"契 約 負 荷 設 備 内 訳",null,null,"臨時電灯",null,null,"電　　　　　灯",null,null,null,null,null,null,null,null,null,null,null,null,null,null,null,null,null,null,null,"小　型　機　器",null,null,null,null,null,null,null,null,null,null,null,null,null,null,null,null,null,null,null,"回路数",null,null,null,null,null,null,"適用業種別回路数内訳",null,null,null,null,null,null,null,null,null,null,null,null,null,null,null,null,"合 計 容 量"]
[]
[null,null,null,null,null,null,null,{"$f":"IF(入力用!C39=\"\",\"\",入力用!C39)","v":""},null,null,null,null,"灯",null,null,{"$f":"IF(入力用!C40=\"\",\"\",入力用!C40)","v":""},null,null,null,null,null,null,null,null,"ＶＡ",null,null,{"$f":"IF(入力用!C41=\"\",\"\",入力用!C41)","v":""},null,null,null,null,"個",null,null,{"$f":"IF(入力用!C42=\"\",\"\",入力用!C42)","v":""},null,null,null,null,null,null,null,null,"ＶＡ",null,null,{"$f":"IF(入力用!C43=\"\",\"\",入力用!C43)","v":""},null,null,null,null,null,null,{"$f":"入力用!P43","v":""},null,null,null,null,null,null,null,null,null,{"$f":"IF(入力用!E45=\"\",\"\",入力用!E45)","v":""},null,null,"回路",null,null,null,{"$f":"IF(OR(入力用!O33<4,入力用!O33=6,入力用!R15=0),\"\",入力用!R15)","v":""}]
[null,null,null,null,null,null,null,null,null,null,null,null,null,null,null,null,null,null,null,null,null,null,null,null,null,null,null,null,null,null,null,null,null,null,null,null,null,null,null,null,null,null,null,null,null,null,null,null,null,null,null,null,null,null,null,null,null,null,null,null,null,null,null,null,null,null,null,null,null,null,null,null,null,null,null,null,null,null,null,null,{"$f":"IF(入力用!O30=2,\"契約電流\",IF(入力用!O30=3,\"契約容量\",\"契約電流\n契約容量\"))","v":"契約電流\n契約容量"},null,null,null,null,null,null,null,null,{"$f":"IF(入力用!R14=0,\"\",入力用!R14)","v":""},null,null,null,null,null,null,{"$f":"IF(入力用!O30=2,\"Ａ\",IF(入力用!O30=3,\"kVA\",\"Ａ\nkVA\"))","v":"Ａ\nkVA"}]
[null,null,null,null,null,null,null,null,null,null,null,null,null,null,null,null,null,null,null,null,null,null,null,null,null,null,null,null,null,null,null,null,null,null,null,null,null,null,null,null,null,null,null,null,null,null,null,null,null,null,null,null,null,null,{"$f":"入力用!P45","v":""},null,null,null,null,null,null,null,null,null,{"$f":"IF(入力用!E47=\"\",\"\",入力用!E47)","v":""},null,null,"回路"]
[]
[null,null,null,null,null,null,null,null,null,null,null,null,null,null,null,null,null,null,null,null,null,null,null,null,null,null,null,null,null,null,null,null,null,null,null,null,null,null,null,null,null,null,null,null,null,null,null,null,null,null,null,null,null,null,{"$f":"入力用!P47","v":""},null,null,null,null,null,null,null,null,null,{"$f":"IF(入力用!E49=\"\",\"\",入力用!E49)","v":""},null,null,"回路",null,null,null,null,null,null,null,null,null,"ＶＡ"]
[]
[null,null,null,null,"臨  時  電  力",null,null,"機　器　種　別",null,null,null,null,null,null,null,null,null,null,null,null,null,null,null,null,null,null,null,null,null,null,null,"出　力",null,null,null,null,null,null,null,null,null,null,null,"入　力（ａ）",null,null,null,null,null,null,null,null,null,null,null,"力　率",null,null,null,null,null,null,null,null,"台数（ｂ）",null,null,null,null,null,null,"合計(ａ×ｂ)"]
[]
[null,null,null,null,null,null,null,{"$f":"IF(入力用!C50=\"\",\"\",入力用!C50)","v":""},null,null,null,null,null,null,null,null,null,null,null,null,null,null,null,null,null,null,null,null,null,null,null,{"$f":"IF(入力用!C51=\"\",\"\",入力用!C51)","v":""},null,null,null,null,null,null,null,null,{"$f":"IF(入力用!O51=2,入力用!V5,IF(入力用!O51=3,入力用!V6,\"㏋\nkW\"))","v":"㏋\nkW"},null,null,{"$f":"IF(入力用!C52=\"\",\"\",入力用!C52)","v":""},null,null,null,null,null,null,null,null,"ｋＷ",null,null,{"$f":"IF(入力用!O53=2,入力用!W5,IF(入力用!O53=3,入力用!W6,IF(入力用!O53=4,入力用!W7,IF(入力用!O53=5,入力用!W8,\"\"))))","v":""},null,null,null,null,null,null,null,null,{"$f":"IF(入力用!C54=\"\",\"\",入力用!C54)","v":""},null,null,null,"台",null,null,{"$f":"入力用!P51","v":""},null,null,null,null,null,null,"kW"]
[]
[]
[null,null,null,null,null,null,null,{"$f":"IF(入力用!C55=\"\",\"\",入力用!C55)","v":""},null,null,null,null,null,null,null,null,null,null,null,null,null,null,null,null,null,null,null,null,null,null,null,{"$f":"IF(入力用!C56=\"\",\"\",入力用!C56)","v":""},null,null,null,null,null,null,null,null,{"$f":"IF(入力用!O56=2,入力用!V5,IF(入力用!O56=3,入力用!V6,\"㏋\nkW\"))","v":"㏋\nkW"},null,null,{"$f":"IF(入力用!C57=\"\",\"\",入力用!C57)","v":""},null,null,null,null,null,null,null,null,"ｋＷ",null,null,{"$f":"IF(入力用!O58=2,入力用!W5,IF(入力用!O58=3,入力用!W6,IF(入力用!O58=4,入力用!W7,IF(入力用!O58=5,入力用!W8,\"\"))))","v":""},null,null,null,null,null,null,null,null,{"$f":"IF(入力用!C59=\"\",\"\",入力用!C59)","v":""},null,null,null,"台",null,null,{"$f":"入力用!P56","v":""},null,null,null,null,null,null,"kW"]
[]
[]
[null,null,null,null,null,null,null,{"$f":"IF(入力用!C60=\"\",\"\",入力用!C60)","v":""},null,null,null,null,null,null,null,null,null,null,null,null,null,null,null,null,null,null,null,null,null,null,null,{"$f":"IF(入力用!C61=\"\",\"\",入力用!C61)","v":""},null,null,null,null,null,null,null,null,{"$f":"IF(入力用!O61=2,入力用!V5,IF(入力用!O61=3,入力用!V6,\"㏋\nkW\"))","v":"㏋\nkW"},null,null,{"$f":"IF(入力用!C62=\"\",\"\",入力用!C62)","v":""},null,null,null,null,null,null,null,null,"ｋＷ",null,null,{"$f":"IF(入力用!O63=2,入力用!W5,IF(入力用!O63=3,入力用!W6,IF(入力用!O63=4,入力用!W7,IF(入力用!O63=5,入力用!W8,\"\"))))","v":""},null,null,null,null,null,null,null,null,{"$f":"IF(入力用!C64=\"\",\"\",入力用!C64)","v":""},null,null,null,"台",null,null,{"$f":"入力用!P61","v":""},null,null,null,null,null,null,"kW"]
[]
[]
[null,null,null,null,null,null,null,{"$f":"IF(入力用!C65=\"\",\"\",入力用!C65)","v":""},null,null,null,null,null,null,null,null,null,null,null,null,null,null,null,null,null,null,null,null,null,null,null,{"$f":"IF(入力用!C66=\"\",\"\",入力用!C66)","v":""},null,null,null,null,null,null,null,null,{"$f":"IF(入力用!O66=2,入力用!V5,IF(入力用!O66=3,入力用!V6,\"㏋\nkW\"))","v":"㏋\nkW"},null,null,{"$f":"IF(入力用!C67=\"\",\"\",入力用!C67)","v":""},null,null,null,null,null,null,null,null,"ｋＷ",null,null,{"$f":"IF(入力用!O68=2,入力用!W5,IF(入力用!O68=3,入力用!W6,IF(入力用!O68=4,入力用!W7,IF(入力用!O68=5,入力用!W8,\"\"))))","v":""},null,null,null,null,null,null,null,null,{"$f":"IF(入力用!C69=\"\",\"\",入力用!C69)","v":""},null,null,null,"台",null,null,{"$f":"入力用!P66","v":""},null,null,null,null,null,null,"kW",null,null,"臨時引込線工事の内容"]
[]
[null,null,null,null,null,null,null,null,null,null,null,null,null,null,null,null,null,null,null,null,null,null,null,null,null,null,null,null,null,null,null,null,null,null,null,null,null,null,null,null,null,null,null,null,null,null,null,null,null,null,null,null,null,null,null,null,null,null,null,null,null,null,null,null,null,null,null,null,null,null,null,null,null,null,null,null,null,null,null,null,null,"引込\n方法",null,null,null,"単独・連接・ﾒｯｾﾝｼﾞｬｰ"]
[null,null,null,null,null,null,null,{"$f":"IF(入力用!C70=\"\",\"\",入力用!C70)","v":""},null,null,null,null,null,null,null,null,null,null,null,null,null,null,null,null,null,null,null,null,null,null,null,{"$f":"IF(入力用!C71=\"\",\"\",入力用!C71)","v":""},null,null,null,null,null,null,null,null,{"$f":"IF(入力用!O71=2,入力用!V5,IF(入力用!O71=3,入力用!V6,\"㏋\nkW\"))","v":"㏋\nkW"},null,null,{"$f":"IF(入力用!C72=\"\",\"\",入力用!C72)","v":""},null,null,null,null,null,null,null,null,"ｋＷ",null,null,{"$f":"IF(入力用!O73=2,入力用!W5,IF(入力用!O73=3,入力用!W6,IF(入力用!O73=4,入力用!W7,IF(入力用!O73=5,入力用!W8,\"\"))))","v":""},null,null,null,null,null,null,null,null,{"$f":"IF(入力用!C74=\"\",\"\",入力用!C74)","v":""},null,null,null,"台",null,null,{"$f":"入力用!P71","v":""},null,null,null,null,null,null,"kW"]
[]
[]
[null,null,null,null,null,null,null,{"$f":"IF(入力用!C75=\"\",\"\",入力用!C75)","v":""},null,null,null,null,null,null,null,null,null,null,null,null,null,null,null,null,null,null,null,null,null,null,null,{"$f":"IF(入力用!C76=\"\",\"\",入力用!C76)","v":""},null,null,null,null,null,null,null,null,{"$f":"IF(入力用!O76=2,入力用!V5,IF(入力用!O76=3,入力用!V6,\"㏋\nkW\"))","v":"㏋\nkW"},null,null,{"$f":"IF(入力用!C77=\"\",\"\",入力用!C77)","v":""},null,null,null,null,null,null,null,null,"ｋＷ",null,null,{"$f":"IF(入力用!O78=2,入力用!W5,IF(入力用!O78=3,入力用!W6,IF(入力用!O78=4,入力用!W7,IF(入力用!O78=5,入力用!W8,\"\"))))","v":""},null,null,null,null,null,null,null,null,{"$f":"IF(入力用!C79=\"\",\"\",入力用!C79)","v":""},null,null,null,"台",null,null,{"$f":"入力用!P76","v":""},null,null,null,null,null,null,"kW",null,null,"電気\n方式",null,null,null,"２線式　　３線式"]
[]
[]
[null,null,null,null,null,null,null,{"$f":"IF(入力用!C80=\"\",\"\",入力用!C80)","v":""},null,null,null,null,null,null,null,null,null,null,null,null,null,null,null,null,null,null,null,null,null,null,null,{"$f":"IF(入力用!C81=\"\",\"\",入力用!C81)","v":""},null,null,null,null,null,null,null,null,{"$f":"IF(入力用!O81=2,入力用!V5,IF(入力用!O81=3,入力用!V6,\"㏋\nkW\"))","v":"㏋\nkW"},null,null,{"$f":"IF(入力用!C82=\"\",\"\",入力用!C82)","v":""},null,null,null,null,null,null,null,null,"ｋＷ",null,null,{"$f":"IF(入力用!O83=2,入力用!W5,IF(入力用!O83=3,入力用!W6,IF(入力用!O83=4,入力用!W7,IF(入力用!O83=5,入力用!W8,\"\"))))","v":""},null,null,null,null,null,null,null,null,{"$f":"IF(入力用!C84=\"\",\"\",入力用!C84)","v":""},null,null,null,"台",null,null,{"$f":"入力用!P81","v":""},null,null,null,null,null,null,"kW"]
[null,null,null,null,null,null,null,null,null,null,null,null,null,null,null,null,null,null,null,null,null,null,null,null,null,null,null,null,null,null,null,null,null,null,null,null,null,null,null,null,null,null,null,null,null,null,null,null,null,null,null,null,null,null,null,null,null,null,null,null,null,null,null,null,null,null,null,null,null,null,null,null,null,null,null,null,null,null,null,null,null,"太さ",null,null,null,"2.6　 3.2　 14　 22\n38　60　その他(　 )"]
[]
[null,null,null,null,null,null,null,{"$f":"IF(入力用!C85=\"\",\"\",入力用!C85)","v":""},null,null,null,null,null,null,null,null,null,null,null,null,null,null,null,null,null,null,null,null,null,null,null,{"$f":"IF(入力用!C86=\"\",\"\",入力用!C86)","v":""},null,null,null,null,null,null,null,null,{"$f":"IF(入力用!O86=2,入力用!V5,IF(入力用!O86=3,入力用!V6,\"㏋\nkW\"))","v":"㏋\nkW"},null,null,{"$f":"IF(入力用!C87=\"\",\"\",入力用!C87)","v":""},null,null,null,null,null,null,null,null,"ｋＷ",null,null,{"$f":"IF(入力用!O88=2,入力用!W5,IF(入力用!O88=3,入力用!W6,IF(入力用!O88=4,入力用!W7,IF(入力用!O88=5,入力用!W8,\"\"))))","v":""},null,null,null,null,null,null,null,null,{"$f":"IF(入力用!C89=\"\",\"\",入力用!C89)","v":""},null,null,null,"台",null,null,{"$f":"入力用!P86","v":""},null,null,null,null,null,null,"kW"]
[]
[null,null,null,null,null,null,null,null,null,null,null,null,null,null,null,null,null,null,null,null,null,null,null,null,null,null,null,null,null,null,null,null,null,null,null,null,null,null,null,null,null,null,null,null,null,null,null,null,null,null,null,null,null,null,null,null,null,null,null,null,null,null,null,null,null,null,null,null,null,null,null,null,null,null,null,null,null,null,null,null,null,"工事\n月日",null,null,null,null,null,null,"年",null,null,null,null,"月",null,null,null,null,"日"]
[null,null,null,null,null,null,null,{"$f":"IF(入力用!C90=\"\",\"\",入力用!C90)","v":""},null,null,null,null,null,null,null,null,null,null,null,null,null,null,null,null,null,null,null,null,null,null,null,{"$f":"IF(入力用!C91=\"\",\"\",入力用!C91)","v":""},null,null,null,null,null,null,null,null,{"$f":"IF(入力用!O91=2,入力用!V5,IF(入力用!O91=3,入力用!V6,\"㏋\nkW\"))","v":"㏋\nkW"},null,null,{"$f":"IF(入力用!C92=\"\",\"\",入力用!C92)","v":""},null,null,null,null,null,null,null,null,"ｋＷ",null,null,{"$f":"IF(入力用!O93=2,入力用!W5,IF(入力用!O93=3,入力用!W6,IF(入力用!O93=4,入力用!W7,IF(入力用!O93=5,入力用!W8,\"\"))))","v":""},null,null,null,null,null,null,null,null,{"$f":"IF(入力用!C94=\"\",\"\",入力用!C94)","v":""},null,null,null,"台",null,null,{"$f":"入力用!P91","v":""},null,null,null,null,null,null,"kW"]
[]
[]
[null,null,null,null,null,null,null,{"$f":"IF(入力用!C95=\"\",\"\",入力用!C95)","v":""},null,null,null,null,null,null,null,null,null,null,null,null,null,null,null,null,null,null,null,null,null,null,null,{"$f":"IF(入力用!C96=\"\",\"\",入力用!C96)","v":""},null,null,null,null,null,null,null,null,{"$f":"IF(入力用!O96=2,入力用!V5,IF(入力用!O96=3,入力用!V6,\"㏋\nkW\"))","v":"㏋\nkW"},null,null,{"$f":"IF(入力用!C97=\"\",\"\",入力用!C97)","v":""},null,null,null,null,null,null,null,null,"ｋＷ",null,null,{"$f":"IF(入力用!O98=2,入力用!W5,IF(入力用!O98=3,入力用!W6,IF(入力用!O98=4,入力用!W7,IF(入力用!O98=5,入力用!W8,\"\"))))","v":""},null,null,null,null,null,null,null,null,{"$f":"IF(入力用!C99=\"\",\"\",入力用!C99)","v":""},null,null,null,"台",null,null,{"$f":"入力用!P96","v":""},null,null,null,null,null,null,"kW"]
[]
[]
[null,null,null,null,null,null,null,{"$f":"IF(入力用!C100=\"\",\"\",入力用!C100)","v":""},null,null,null,null,null,null,null,null,null,null,null,null,null,null,null,null,null,null,null,null,null,null,null,{"$f":"IF(入力用!C101=\"\",\"\",入力用!C101)","v":""},null,null,null,null,null,null,null,null,{"$f":"IF(入力用!O101=2,入力用!V5,IF(入力用!O101=3,入力用!V6,\"㏋\nkW\"))","v":"㏋\nkW"},null,null,{"$f":"IF(入力用!C102=\"\",\"\",入力用!C102)","v":""},null,null,null,null,null,null,null,null,"ｋＷ",null,null,{"$f":"IF(入力用!O103=2,入力用!W5,IF(入力用!O103=3,入力用!W6,IF(入力用!O103=4,入力用!W7,IF(入力用!O103=5,入力用!W8,\"\"))))","v":""},null,null,null,null,null,null,null,null,{"$f":"IF(入力用!C104=\"\",\"\",入力用!C104)","v":""},null,null,null,"台",null,null,{"$f":"入力用!P101","v":""},null,null,null,null,null,null,"kW"]
[]
[]
[null,null,null,null,null,null,null,{"$f":"IF(入力用!C105=\"\",\"\",入力用!C105)","v":""},null,null,null,null,null,null,null,null,null,null,null,null,null,null,null,null,null,null,null,null,null,null,null,{"$f":"IF(入力用!C106=\"\",\"\",入力用!C106)","v":""},null,null,null,null,null,null,null,null,{"$f":"IF(入力用!O106=2,入力用!V5,IF(入力用!O106=3,入力用!V6,\"㏋\nkW\"))","v":"㏋\nkW"},null,null,{"$f":"IF(入力用!C107=\"\",\"\",入力用!C107)","v":""},null,null,null,null,null,null,null,null,"ｋＷ",null,null,{"$f":"IF(入力用!O108=2,入力用!W5,IF(入力用!O108=3,入力用!W6,IF(入力用!O108=4,入力用!W7,IF(入力用!O108=5,入力用!W8,\"\"))))","v":""},null,null,null,null,null,null,null,null,{"$f":"IF(入力用!C109=\"\",\"\",入力用!C109)","v":""},null,null,null,"台",null,null,{"$f":"入力用!P106","v":""},null,null,null,null,null,null,"kW"]
[]
[]
[null,null,null,null,null,null,null,"機器種別",null,null,null,null,null,null,null,"日本工業規格",null,null,null,null,null,null,null,"コンデンサ",null,null,null,null,null,null,null,"1次入力",null,null,null,null,null,null,null,null,null,null,null,"入　力（ａ）",null,null,null,null,null,null,null,null,null,null,null,"力　率",null,null,null,null,null,null,null,null,"台数（ｂ）",null,null,null,null,null,null,"合計(ａ×ｂ)"]
[]
[null,null,null,null,null,null,null,"電気溶接機",null,null,null,null,null,null,null,{"$f":"IF(入力用!O110=2,入力用!Y5,IF(入力用!O110=3,入力用!Y6,\"\"))","v":""},null,null,null,null,null,null,null,{"$f":"IF(入力用!O111=2,入力用!Z5,IF(入力用!O111=3,入力用!Z6,IF(入力用!O111=4,入力用!Z7,\"\")))","v":""},null,null,null,null,null,null,null,{"$f":"IF(入力用!C112=\"\",\"\",入力用!C112)","v":""},null,null,null,null,null,null,null,null,"kVA",null,null,{"$f":"IF(入力用!C113=\"\",\"\",入力用!C113)","v":""},null,null,null,null,null,null,null,null,"ｋＷ",null,null,{"$f":"IF(入力用!O114=2,入力用!AA5,IF(入力用!O114=3,入力用!AA6,IF(入力用!O114=4,入力用!AA7,\"\")))","v":""},null,null,null,null,null,null,null,null,{"$f":"IF(入力用!C115=\"\",\"\",入力用!C115)","v":""},null,null,null,"台",null,null,{"$f":"入力用!P112","v":""},null,null,null,null,null,null,"kW"]
[]
[]
[null,null,null,null,null,null,null,"電気溶接機",null,null,null,null,null,null,null,{"$f":"IF(入力用!O116=2,入力用!Y5,IF(入力用!O116=3,入力用!Y6,\"\"))","v":""},null,null,null,null,null,null,null,{"$f":"IF(入力用!O117=2,入力用!Z5,IF(入力用!O117=3,入力用!Z6,IF(入力用!O117=4,入力用!Z7,\"\")))","v":""},null,null,null,null,null,null,null,{"$f":"IF(入力用!C118=\"\",\"\",入力用!C118)","v":""},null,null,null,null,null,null,null,null,"kVA",null,null,{"$f":"IF(入力用!C119=\"\",\"\",入力用!C119)","v":""},null,null,null,null,null,null,null,null,"ｋＷ",null,null,{"$f":"IF(入力用!O120=2,入力用!AA5,IF(入力用!O120=3,入力用!AA6,IF(入力用!O120=4,入力用!AA7,\"\")))","v":""},null,null,null,null,null,null,null,null,{"$f":"IF(入力用!C121=\"\",\"\",入力用!C121)","v":""},null,null,null,"台",null,null,{"$f":"入力用!P118","v":""},null,null,null,null,null,null,"kW"]
[]
[]
[null,null,null,null,null,null,null,null,null,null,null,null,null,null,null,null,null,null,null,null,null,null,null,null,null,null,null,null,null,null,null,null,null,null,null,null,null,null,null,null,null,null,null,null,null,null,null,null,null,null,null,null,null,null,null,"力　率",null,null,null,null,null,null,null,null,"合計台数",null,null,null,null,null,null,"入力合計",null,null,null,null,null,null,null,null,"契約電力",null,null,null,null,null,null,null,null,{"$f":"IF(入力用!R36=0,\"\",入力用!R36)","v":""},null,null,null,null,null,null,null,"ｋＷ"]
[]
[null,null,null,null,null,null,null,null,null,null,null,null,null,null,null,null,null,null,null,null,null,null,null,null,null,null,null,null,null,null,null,null,null,null,null,null,null,null,null,null,null,null,null,null,null,null,null,null,null,null,null,null,null,null,null,"85％",null,null,null,{"$f":"IF(入力用!O33=3,\"超過\",IF(入力用!R34=\"\",\"超過\n未満\",IF(入力用!R34>0.85,\"超過\",IF(入力用!R34<0.85,\"未満\",\"\"))))","v":"超過\n未満"},null,null,null,null,{"$f":"IF(SUM(BM65:BP100,BM103:BP108)=0,\"\",SUM(BM65:BP100,BM103:BP108))","v":""},null,null,null,"台",null,null,{"$f":"IF(入力用!R38=0,\"\",入力用!R38)","v":""},null,null,null,null,null,null,"kW"]
[]
[]
[null,"異動種別",null,null,"・新設　　 　・減少",null,null,null,null,null,null,null,null,null,null,null,null,null,null,null,null,null,null,null,null,null,null,null,"供給地点特定番号",null,null,null,null,null,null,"発行\n回数",null,null,"支店",null,"ﾌﾞﾛｯｸ",null,null,"住所",null,null,null,null,"街区",null,null,"契約№",null,null,null,null,"枝番",null,null,"種別",null,null,null,null,null,"送電日\n（異動日）"]
[]
[null,null,null,null,"・種変(+)　　・設備変更"]
[]
[null,null,null,null,"・ｺｰﾄﾞ変(+)　・名義変更",null,null,null,null,null,null,null,null,null,null,null,null,null,null,null,null,null,null,null,null,null,null,null,null,null,null,"010",null,null,null,null,null,null,null,null,null,null,null,null,null,null,null,null,null,null,null,null,null,null,null,null,null,null,null,null,null,null,"00"]
[]
[null,null,null,null,"・増加　　 　・その他（　　　　　　　 ）",null,null,null,null,null,null,null,null,null,null,null,null,null,null,null,null,null,null,null,null,null,null,null,null,null,null,null,null,null,null,null,null,null,null,null,null,null,null,null,null,null,null,null,null,null,null,null,null,null,null,null,null,null,null,null,null,null,null,null,null,null,null,null,null,null,"年",null,null,null,"月",null,null,null,"日"]
[]
[]
[null,"　※　太枠内をご記入願います。"]
[]
[null,"　※　ご契約名義またはお支払方法の変更をご希望の場合は，受付扱所名に記載の弊社事業所までご連絡ください。"]
[]
[null,"　※　ご提供いただいた個人情報は，電気事業の範囲内で利用いたします。"]
[]
[]
[null,null,null,"拝啓　平素は弊社事業に格別のお引き立てを賜り，厚くお礼申し上げます。５６７８９０"]
[]
[]
[null,null,null,"　さて，この度お客さまの電気ご使用につきまして，本申込書記載の内容にてご契約させ"]
[]
[]
[null,null,null,"ていただきましたことをお知らせいたします。２３４５６７８９０１２３４５６７８９０"]
[]
[]
[null,null,null,"１２３４５６７８９０１２３４５６７８９０１２３４５６７８９０１２３４５６７敬具０"]
[]
[]
[]
[null,"＜連絡事項＞"]
[]
[]
[]
[]
[]
[]
[]
[]
[]
[]
[]
[]
[]
[]
[]
[]
[]
[]
[]
["北　海　道　電　力　ネ　ッ　ト　ワ　ー　ク　株　式　会　社"]

{"sheet":"３枚目","index":3,"n_rows":173,"n_cols":111,"rows_kept":173,"cut":false,"hidden":false,"merged":[[169,30,171,51],[35,39,36,39],[35,40,36,40],[35,41,36,41],[35,42,36,42],[35,43,36,43],[35,44,36,44],[35,45,36,45],[35,46,36,46],[48,26,53,39],[50,46,53,49],[52,50,53,51],[105,23,107,30],[105,31,107,39],[117,4,118,27],[113,48,116,50],[62,4,107,6],[67,7,69,30],[67,31,69,39],[102,15,104,22],[102,40,104,42],[100,15,101,22],[70,7,72,30],[88,7,90,30],[33,41,34,41],[33,42,34,42],[113,62,116,64],[117,62,120,64],[140,7,144,23],[140,24,144,27],[140,28,144,37],[163,30,165,51],[166,30,168,51],[105,15,107,22],[102,23,104,30],[91,40,93,42],[102,31,104,39],[100,31,101,42],[102,7,104,14],[105,7,107,14],[62,7,63,30],[62,31,63,42],[64,7,66,30],[64,31,66,39],[73,7,75,30],[73,40,75,42],[64,40,66,42],[67,40,69,42],[105,43,107,51],[48,52,53,59],[44,57,47,59],[48,40,53,45],[110,55,112,58],[67,43,69,51],[64,52,66,54],[67,52,69,54],[64,55,66,63],[64,43,66,51],[56,47,61,53],[56,54,57,63],[16,53,17,53],[16,54,17,54],[16,48,17,48],[16,49,17,49],[16,50,17,50],[16,51,17,51],[16,52,17,52],[102,52,104,54],[94,55,96,63],[79,55,81,63],[16,57,17,57],[16,58,17,58],[166,55,168,56],[169,52,171,54],[129,103,136,110],[16,19,17,19],[16,20,17,20],[16,21,17,21],[16,22,17,22],[16,23,17,23],[16,24,17,24],[16,25,17,25],[16,26,17,26],[16,27,17,27],[16,28,17,28],[16,29,17,29],[16,30,17,30],[16,31,17,31],[16,32,17,32],[16,33,17,33],[16,34,17,34],[16,35,17,35],[121,32,128,34],[121,35,128,44],[113,31,116,34],[117,31,120,34],[135,1,139,4],[135,5,139,21],[169,60,171,64],[169,65,171,67],[169,68,171,72],[169,73,171,75],[169,76,171,78],[163,73,165,75],[161,52,162,78],[163,57,165,59],[163,60,165,64],[166,68,168,72],[163,65,165,67],[163,68,165,72],[166,73,168,75],[166,76,168,78],[163,76,165,78],[169,57,171,59],[166,57,168,59],[166,60,168,64],[166,65,168,67],[163,52,165,54],[163,55,165,56],[166,52,168,54],[85,55,87,63],[100,55,101,63],[88,40,90,42],[169,55,171,56],[113,28,120,30],[153,26,160,33],[151,26,152,33],[159,12,160,13],[163,22,171,29],[117,38,120,39],[113,38,116,39],[153,42,160,49],[151,42,152,49],[161,20,171,21],[113,51,116,55],[119,4,120,27],[129,14,134,16],[117,40,120,42],[161,22,162,29],[161,30,162,51],[115,4,116,27],[113,40,116,42],[113,4,114,27],[151,18,152,25],[97,68,99,70],[91,31,93,39],[94,7,96,30],[88,31,90,39],[94,31,96,39],[100,7,101,14],[94,40,96,42],[91,7,93,30],[94,64,96,67],[100,23,101,30],[100,43,101,54],[97,7,99,30],[91,43,93,51],[97,52,99,54],[94,43,96,51],[94,52,96,54],[97,31,99,39],[105,40,107,42],[102,43,104,51],[91,52,93,54],[91,64,93,67],[97,55,99,63],[105,52,107,54],[87,88,90,89],[76,78,78,79],[83,81,86,84],[94,71,96,77],[97,71,99,77],[97,78,99,79],[94,78,96,79],[94,85,95,87],[94,81,97,84],[91,78,93,79],[91,68,93,70],[85,68,87,70],[85,64,87,67],[82,68,84,70],[79,52,81,54],[97,40,99,42],[97,43,99,51],[91,55,93,63],[87,95,90,97],[76,71,78,77],[88,52,90,54],[79,81,82,84],[73,78,75,79],[82,71,84,77],[82,78,84,79],[76,55,78,63],[82,55,84,63],[79,85,82,99],[88,55,90,63],[82,52,84,54],[87,90,90,92],[87,98,90,99],[87,93,90,94],[88,64,90,67],[85,78,87,79],[79,71,81,77],[85,71,87,77],[73,71,75,77],[88,71,90,77],[88,78,90,79],[82,64,84,67],[88,68,90,70],[79,78,81,79],[73,81,74,99],[75,85,78,99],[75,81,78,84],[76,64,78,67],[79,64,81,67],[76,68,78,70],[79,68,81,70],[66,88,68,89],[66,90,68,99],[35,86,37,110],[38,75,39,79],[38,93,39,97],[38,98,39,98],[57,80,61,88],[56,67,57,70],[48,78,53,81],[48,82,53,86],[48,87,50,99],[51,87,53,99],[41,103,48,110],[38,105,39,109],[38,89,39,92],[60,67,61,70],[67,71,69,77],[70,78,72,79],[70,71,72,77],[67,68,69,70],[56,71,61,76],[64,78,66,79],[70,68,72,70],[62,64,63,70],[49,101,56,102],[67,64,69,67],[64,64,66,67],[67,78,69,79],[69,88,71,89],[41,101,48,102],[66,81,68,87],[69,81,71,87],[40,77,47,81],[40,82,41,99],[16,64,26,68],[19,69,20,74],[25,69,26,88],[31,98,32,98],[25,98,26,98],[25,99,26,103],[48,60,53,68],[40,60,47,64],[40,65,41,76],[42,65,47,76],[48,69,53,77],[57,103,64,110],[57,101,64,102],[63,88,65,93],[60,77,61,79],[63,81,65,87],[63,94,65,99],[57,96,61,99],[67,55,69,63],[25,105,26,109],[19,103,20,103],[19,109,20,110],[19,104,20,108],[25,104,26,104],[31,104,32,104],[23,69,24,110],[25,110,26,110],[21,75,22,110],[31,89,32,92],[31,93,32,97],[25,89,26,92],[25,93,26,97],[27,69,30,74],[21,69,22,74],[31,110,32,110],[31,99,32,103],[138,74,139,99],[131,82,132,86],[131,90,132,93],[119,78,120,81],[16,75,18,110],[19,100,20,102],[27,64,32,68],[31,69,32,74],[31,75,32,88],[27,75,30,110],[102,71,104,77],[108,89,112,96],[97,64,99,67],[91,71,93,77],[102,68,104,70],[105,68,107,70],[105,64,107,67],[108,64,109,70],[110,64,112,67],[110,68,112,70],[105,71,107,77],[100,71,101,79],[100,64,101,70],[31,105,32,109],[14,1,15,38],[22,12,23,20],[22,21,23,39],[24,14,26,16],[24,18,26,21],[24,22,26,23],[13,90,15,110],[16,36,17,36],[16,37,17,37],[16,38,17,38],[16,69,18,74],[19,75,20,89],[19,90,20,99],[16,55,17,55],[16,56,17,56],[16,39,17,39],[16,40,17,40],[16,41,17,41],[16,42,17,42],[16,43,17,43],[16,44,17,44],[16,45,17,45],[16,46,17,46],[16,47,17,47],[102,64,104,67],[102,78,104,79],[105,55,107,63],[108,55,109,63],[129,101,136,102],[121,101,128,102],[125,82,128,84],[131,74,132,76],[131,94,132,96],[121,88,124,90],[125,88,128,90],[121,82,124,84],[113,101,120,102],[119,74,120,77],[117,51,120,55],[121,91,124,93],[121,79,128,81],[121,85,124,87],[108,97,112,99],[108,71,109,79],[113,74,118,77],[113,70,118,73],[113,59,116,61],[108,80,112,88],[113,103,120,110],[155,88,157,89],[121,103,128,110],[125,97,128,99],[97,101,104,102],[105,101,112,102],[97,103,104,110],[105,103,112,110],[137,103,144,110],[140,97,142,99],[137,101,144,102],[140,84,142,96],[153,101,160,102],[146,84,148,92],[145,101,152,102],[149,87,151,92],[158,98,160,99],[158,90,160,93],[158,80,160,89],[149,93,151,99],[155,93,157,94],[98,81,101,84],[146,93,148,99],[149,80,151,86],[54,4,61,6],[172,0,173,110],[153,103,160,110],[145,103,152,110],[143,97,145,99],[89,103,96,110],[81,103,88,110],[65,103,72,110],[69,90,71,99],[73,103,80,110],[65,101,72,102],[83,85,86,99],[73,101,80,102],[81,101,88,102],[89,101,96,102],[100,85,101,87],[92,81,93,99],[87,81,90,84],[87,85,90,87],[158,94,160,97],[105,78,107,79],[102,55,104,63],[96,85,97,87],[98,85,99,87],[6,0,9,110],[13,85,15,89],[13,64,15,68],[13,69,15,84],[10,1,11,25],[12,1,13,38],[49,103,56,110],[54,71,55,79],[30,56,32,63],[48,1,53,6],[48,21,53,25],[42,82,47,99],[38,86,39,88],[54,47,55,53],[16,59,17,63],[18,12,21,63],[24,7,29,11],[16,12,17,18],[27,12,29,63],[24,12,26,13],[24,24,26,63],[16,7,23,11],[30,29,32,35],[30,28,32,28],[58,67,59,70],[58,64,59,66],[60,64,61,66],[62,71,63,79],[64,71,66,77],[58,54,59,63],[62,43,63,54],[133,4,134,13],[113,1,120,3],[129,4,130,13],[131,4,132,13],[129,17,130,30],[131,17,132,30],[129,31,134,33],[121,1,128,3],[121,48,122,57],[125,48,126,57],[129,1,134,3],[123,48,124,57],[113,35,116,37],[117,35,120,37],[117,56,120,58],[117,43,120,47],[113,43,116,47],[110,78,112,79],[129,60,130,73],[129,74,130,99],[133,79,136,81],[133,82,136,86],[131,97,132,99],[133,97,136,99],[133,74,136,76],[133,94,136,96],[133,77,136,78],[133,90,136,93],[133,87,136,89],[131,60,132,73],[131,77,132,78],[133,60,134,73],[125,91,128,93],[121,94,124,96],[131,87,132,89],[131,79,132,81],[121,97,124,99],[110,71,112,77],[113,78,118,81],[117,59,120,61],[110,59,112,63],[119,70,120,73],[148,26,150,46],[129,51,134,56],[129,48,134,50],[131,34,132,47],[133,17,134,30],[129,34,130,47],[151,58,152,65],[145,62,147,73],[151,34,152,41],[143,55,146,58],[147,55,150,58],[135,22,139,25],[135,26,139,39],[135,40,139,42],[135,43,139,56],[133,34,134,47],[121,45,128,47],[127,48,128,57],[148,18,150,25],[117,48,120,50],[158,74,160,79],[155,84,157,87],[143,84,145,96],[148,67,150,69],[151,66,152,73],[140,74,142,83],[143,74,145,83],[152,74,154,79],[152,80,154,99],[146,74,148,83],[153,58,160,65],[159,1,160,5],[151,1,158,5],[151,6,152,17],[159,6,160,7],[159,14,160,15],[159,16,160,17],[153,6,154,17],[33,22,39,26],[35,27,36,27],[50,7,53,20],[56,12,61,14],[44,1,47,6],[48,7,49,20],[54,1,107,3],[121,4,122,31],[123,4,124,31],[125,4,126,31],[127,4,128,31],[159,10,160,11],[155,6,156,17],[157,6,158,17],[159,8,160,9],[140,1,144,6],[35,28,36,28],[35,29,36,29],[35,30,36,30],[35,31,36,31],[35,32,36,32],[35,33,36,33],[33,12,39,21],[35,35,36,35],[35,36,36,36],[33,27,34,27],[33,28,34,28],[33,29,34,29],[33,30,34,30],[33,31,34,31],[33,32,34,32],[33,33,34,33],[33,34,34,34],[33,35,34,35],[33,36,34,36],[35,37,36,37],[35,38,36,38],[38,110,39,110],[38,59,39,62],[38,63,39,67],[38,68,39,68],[38,80,39,80],[38,99,39,103],[33,81,39,85],[38,104,39,104],[33,86,34,110],[33,43,34,43],[33,44,34,44],[33,45,34,45],[33,46,34,46],[33,54,34,56],[33,57,34,57],[33,62,34,63],[38,74,39,74],[38,69,39,73],[33,37,34,37],[33,38,34,38],[33,39,34,39],[33,40,34,40],[30,7,32,11],[30,12,32,14],[30,39,32,45],[35,52,37,80],[33,64,34,80],[30,46,32,46],[30,47,32,54],[30,55,32,55],[40,1,43,21],[40,22,43,59],[38,52,39,58],[33,7,39,11],[33,58,34,61],[33,47,39,51],[37,27,39,46],[33,52,34,53],[16,1,39,6],[22,40,23,47],[22,48,23,63],[30,21,32,21],[30,22,32,27],[30,15,32,20],[24,17,26,17],[35,34,36,34],[30,36,32,38],[174,0,175,110],[57,89,61,95],[155,98,157,99],[155,95,157,97],[155,90,157,92],[125,94,128,96],[125,85,128,87],[153,50,160,57],[148,59,150,61],[155,74,157,83],[94,68,96,70],[113,65,120,69],[113,56,116,58],[145,59,147,61],[148,70,150,73],[153,18,160,25],[153,34,160,41],[151,50,152,57],[153,66,160,73],[149,74,151,79],[143,59,144,73],[148,62,150,66],[133,57,134,59],[44,23,47,27],[44,36,47,40],[44,44,47,48],[44,52,47,56],[44,49,47,51],[44,7,47,11],[44,15,47,19],[44,12,47,14],[44,20,47,22],[44,28,47,30],[44,31,47,35],[44,41,47,43],[54,7,55,26],[54,27,55,46],[56,15,61,23],[56,24,61,26],[56,7,61,11],[56,27,61,31],[56,32,61,34],[56,35,61,43],[56,44,61,46],[76,43,78,51],[82,40,84,42],[70,43,72,51],[73,43,75,51],[76,40,78,42],[79,43,81,51],[88,43,90,51],[82,43,84,51],[82,31,84,39],[79,40,81,42],[85,43,87,51],[85,40,87,42],[85,31,87,39],[1,93,5,109],[76,7,78,30],[79,7,81,30],[85,7,87,30],[70,31,72,39],[73,31,75,39],[76,31,78,39],[79,31,81,39],[54,54,55,70],[73,68,75,70],[73,64,75,67],[85,52,87,54],[76,52,78,54],[73,55,75,63],[73,52,75,54],[70,52,72,54],[70,55,72,63],[62,55,63,63],[64,68,66,70],[60,54,61,63],[70,64,72,67],[56,64,57,66],[82,7,84,30],[70,40,72,42]]}
[]
[null,null,null,null,null,null,null,null,null,null,null,null,null,null,null,null,null,null,null,null,null,null,null,null,null,null,null,null,null,null,null,null,null,null,null,null,null,null,null,null,null,null,null,null,null,null,null,null,null,null,null,null,null,null,null,null,null,null,null,null,null,null,null,null,null,null,null,null,null,null,null,null,null,null,null,null,null,null,null,null,null,null,null,null,null,null,null,null,null,null,null,null,null,"離島等供給用"]
[]
[]
[]
[]
["臨時従量制電気使用申込書（ほくでんNW控）"]
[]
[]
[]
[null,"北海道電力ネットワーク株式会社　御中"]
[]
[]
[null,null,null,null,null,null,null,null,null,null,null,null,null,null,null,null,null,null,null,null,null,null,null,null,null,null,null,null,null,null,null,null,null,null,null,null,null,null,null,null,null,null,null,null,null,null,null,null,null,null,null,null,null,null,null,null,null,null,null,null,null,null,null,null,"受付扱所名",null,null,null,null,null,null,null,null,null,null,null,null,null,null,null,null,null,null,null,null,"受付№"]
[null,"電気の使用について貴社離島等供給約款[低圧用]に承認のうえ申し込みます。"]
[]
[null,"お 客 さ ま",null,null,null,null,null,"ご契約名義",null,null,null,null,"（フリガナ）",null,null,null,null,null,null,{"$f":"DBCS(MID(ASC(入力用!C3),1,1))","v":""},{"$f":"DBCS(MID(ASC(入力用!C3),2,1))","v":""},{"$f":"DBCS(MID(ASC(入力用!C3),3,1))","v":""},{"$f":"DBCS(MID(ASC(入力用!C3),4,1))","v":""},{"$f":"DBCS(MID(ASC(入力用!C3),5,1))","v":""},{"$f":"DBCS(MID(ASC(入力用!C3),6,1))","v":""},{"$f":"DBCS(MID(ASC(入力用!C3),7,1))","v":""},{"$f":"DBCS(MID(ASC(入力用!C3),8,1))","v":""},{"$f":"DBCS(MID(ASC(入力用!C3),9,1))","v":""},{"$f":"DBCS(MID(ASC(入力用!C3),10,1))","v":""},{"$f":"DBCS(MID(ASC(入力用!C3),11,1))","v":""},{"$f":"DBCS(MID(ASC(入力用!C3),12,1))","v":""},{"$f":"DBCS(MID(ASC(入力用!C3),13,1))","v":""},{"$f":"DBCS(MID(ASC(入力用!C3),14,1))","v":""},{"$f":"DBCS(MID(ASC(入力用!C3),15,1))","v":""},{"$f":"DBCS(MID(ASC(入力用!C3),16,1))","v":""},{"$f":"DBCS(MID(ASC(入力用!C3),17,1))","v":""},{"$f":"DBCS(MID(ASC(入力用!C3),18,1))","v":""},{"$f":"DBCS(MID(ASC(入力用!C3),19,1))","v":""},{"$f":"DBCS(MID(ASC(入力用!C3),20,1))","v":""},{"$f":"DBCS(MID(ASC(入力用!C3),21,1))","v":""},{"$f":"DBCS(MID(ASC(入力用!C3),22,1))","v":""},{"$f":"DBCS(MID(ASC(入力用!C3),23,1))","v":""},{"$f":"DBCS(MID(ASC(入力用!C3),24,1))","v":""},{"$f":"DBCS(MID(ASC(入力用!C3),25,1))","v":""},{"$f":"DBCS(MID(ASC(入力用!C3),26,1))","v":""},{"$f":"DBCS(MID(ASC(入力用!C3),27,1))","v":""},{"$f":"DBCS(MID(ASC(入力用!C3),28,1))","v":""},{"$f":"DBCS(MID(ASC(入力用!C3),29,1))","v":""},{"$f":"DBCS(MID(ASC(入力用!C3),30,1))","v":""},{"$f":"DBCS(MID(ASC(入力用!C3),31,1))","v":""},{"$f":"DBCS(MID(ASC(入力用!C3),32,1))","v":""},{"$f":"DBCS(MID(ASC(入力用!C3),33,1))","v":""},{"$f":"DBCS(MID(ASC(入力用!C3),34,1))","v":""},{"$f":"DBCS(MID(ASC(入力用!C3),35,1))","v":""},{"$f":"DBCS(MID(ASC(入力用!C3),36,1))","v":""},{"$f":"DBCS(MID(ASC(入力用!C3),37,1))","v":""},{"$f":"DBCS(MID(ASC(入力用!C3),38,1))","v":""},{"$f":"DBCS(MID(ASC(入力用!C3),39,1))","v":""},{"$f":"DBCS(MID(ASC(入力用!C3),40,1))","v":""},null,null,null,null,null,"電気工事会社",null,null,null,null," 会社名",null,null,null,null,null,{"$f":"IF(入力用!C11=\"\",\"\",入力用!C11)","v":""}]
[]
[null,null,null,null,null,null,null,null,null,null,null,null,{"$f":"IF(入力用!C4=\"\",\"\",入力用!C4)","v":""}]
[null,null,null,null,null,null,null,null,null,null,null,null,null,null,null,null,null,null,null,null,null,null,null,null,null,null,null,null,null,null,null,null,null,null,null,null,null,null,null,null,null,null,null,null,null,null,null,null,null,null,null,null,null,null,null,null,null,null,null,null,null,null,null,null,null,null,null,null,null,"(担当者)",null,null,null,null,null,{"$f":"IF(入力用!C12=\"\",\"\",入力用!C12)","v":""},null,null,null,null,null,null,null,null,null,null,null,null,null,null,"工事会社№（",null,null,null,null,null,null,null,null,null,{"$f":"IF(入力用!C13=\"\",\"\",入力用!C13)","v":""},null,null,"-",{"$f":"IF(入力用!E13=\"\",\"\",入力用!E13)","v":""},null,null,null,null,")"]
[]
[null,null,null,null,null,null,null,null,null,null,null,null,null,null,null,null,null,null,null,null,null,null,null,null,null,null,null,null,null,null,null,null,null,null,null,null,null,null,null,null,null,null,null,null,null,null,null,null,null,null,null,null,null,null,null,null,null,null,null,null,null,null,null,null,null,null,null,null,null," 住　所",null,null,null,null,null,{"$f":"LEFT(入力用!C14,24)","v":""}]
[null,null,null,null,null,null,null,null,null,null,null,null,"（代表者肩書）",null,null,null,null,null,null,null,null,{"$f":"IF(入力用!C5=\"\",\"\",入力用!C5)","v":""},null,null,null,null,null,null,null,null,null,null,null,null,null,null,null,null,null,null,"（代表者名）",null,null,null,null,null,null,null,{"$f":"IF(入力用!C6=\"\",\"\",入力用!C6)","v":""}]
[null,null,null,null,null,null,null,null,null,null,null,null,null,null,null,null,null,null,null,null,null,null,null,null,null,null,null,null,null,null,null,null,null,null,null,null,null,null,null,null,null,null,null,null,null,null,null,null,null,null,null,null,null,null,null,null,null,null,null,null,null,null,null,null,null,null,null,null,null,{"$f":"MID(入力用!C14,25,28)","v":""}]
[null,null,null,null,null,null,null,"ご使用\n場　所",null,null,null,null,"(〒",null,{"$f":"LEFT(入力用!C7,3)","v":""},null,null,"-",{"$f":"RIGHT(入力用!C7,4)","v":""},null,null,null,")",null,{"$f":"LEFT(入力用!C8,25)","v":""}]
[null,null,null,null,null,null,null,null,null,null,null,null,null,null,null,null,null,null,null,null,null,null,null,null,null,null,null,null,null,null,null,null,null,null,null,null,null,null,null,null,null,null,null,null,null,null,null,null,null,null,null,null,null,null,null,null,null,null,null,null,null,null,null,null,null,null,null,null,null,{"$f":"MID(入力用!C14,53,12)","v":""},null,null,null,null,null,null,null,null,null,null,null,null,null,null,null,null,null,null,null,"電話(",null,null,null,{"$f":"IF(入力用!C15=\"\",\"\",入力用!C15)","v":""},null,null,null,null,"-",{"$f":"IF(入力用!E15=\"\",\"\",入力用!E15)","v":""},null,null,null,null,"-",{"$f":"IF(入力用!H15=\"\",\"\",入力用!H15)","v":""},null,null,null,null,")"]
[]
[null,null,null,null,null,null,null,null,null,null,null,null,{"$f":"MID(入力用!C8,26,33)","v":""},null,null,null,null,null,null,null,null,null,null,null,null,null,null,null,null,null,null,null,null,null,null,null,null,null,null,null,null,null,null,null,null,null,null,null,null,null,null,null,null,null,null,null,null,null,null,null,null,null,null,null,"建築会社",null,null,null,null," 会社名",null,null,null,null,null,{"$f":"IF(入力用!C16=\"\",\"\",入力用!C16)","v":""}]
[]
[]
[null,null,null,null,null,null,null,"電話番号",null,null,null,null,"固定",null,null,{"$f":"IF(入力用!C9=\"\",\"\",入力用!C9)","v":""},null,null,null,null,null,"-",{"$f":"IF(入力用!E9=\"\",\"\",入力用!E9)","v":""},null,null,null,null,null,"-",{"$f":"IF(入力用!H9=\"\",\"\",入力用!H9)","v":""},null,null,null,null,null,null,"携帯",null,null,{"$f":"IF(入力用!C10=\"\",\"\",入力用!C10)","v":""},null,null,null,null,null,null,"-",{"$f":"IF(入力用!E10=\"\",\"\",入力用!E10)","v":""},null,null,null,null,null,null,null,"-",{"$f":"IF(入力用!H10=\"\",\"\",入力用!H10)","v":""}]
[null,null,null,null,null,null,null,null,null,null,null,null,null,null,null,null,null,null,null,null,null,null,null,null,null,null,null,null,null,null,null,null,null,null,null,null,null,null,null,null,null,null,null,null,null,null,null,null,null,null,null,null,null,null,null,null,null,null,null,null,null,null,null,null,null,null,null,null,null,"(担当者)",null,null,null,null,null,{"$f":"IF(入力用!C17=\"\",\"\",入力用!C17)","v":""},null,null,null,null,null,null,null,null,null,null,null,null,null,"電話(",null,null,null,{"$f":"IF(入力用!C18=\"\",\"\",入力用!C18)","v":""},null,null,null,null,"-",{"$f":"IF(入力用!E18=\"\",\"\",入力用!E18)","v":""},null,null,null,null,"-",{"$f":"IF(入力用!H18=\"\",\"\",入力用!H18)","v":""},null,null,null,null,")"]
[]
[null,null,null,null,null,null,null,"お支払\n方　法",null,null,null,null,{"$f":"IF(入力用!O19=2,\"口座振込\",IF(入力用!O19=3,\"口座振替\",\"\"))","v":""},null,null,null,null,null,null,null,null,null,"支　払\n者　名",null,null,null,null,{"$f":"DBCS(MID(ASC(入力用!C20),1,1))","v":""},{"$f":"DBCS(MID(ASC(入力用!C20),2,1))","v":""},{"$f":"DBCS(MID(ASC(入力用!C20),3,1))","v":""},{"$f":"DBCS(MID(ASC(入力用!C20),4,1))","v":""},{"$f":"DBCS(MID(ASC(入力用!C20),5,1))","v":""},{"$f":"DBCS(MID(ASC(入力用!C20),6,1))","v":""},{"$f":"DBCS(MID(ASC(入力用!C20),7,1))","v":""},{"$f":"DBCS(MID(ASC(入力用!C20),8,1))","v":""},{"$f":"DBCS(MID(ASC(入力用!C20),9,1))","v":""},{"$f":"DBCS(MID(ASC(入力用!C20),10,1))","v":""},{"$f":"DBCS(MID(ASC(入力用!C20),11,1))","v":""},{"$f":"DBCS(MID(ASC(入力用!C20),12,1))","v":""},{"$f":"DBCS(MID(ASC(入力用!C20),13,1))","v":""},{"$f":"DBCS(MID(ASC(入力用!C20),14,1))","v":""},{"$f":"DBCS(MID(ASC(入力用!C20),15,1))","v":""},{"$f":"DBCS(MID(ASC(入力用!C20),16,1))","v":""},{"$f":"DBCS(MID(ASC(入力用!C20),17,1))","v":""},{"$f":"DBCS(MID(ASC(入力用!C20),18,1))","v":""},{"$f":"DBCS(MID(ASC(入力用!C20),19,1))","v":""},{"$f":"DBCS(MID(ASC(入力用!C20),20,1))","v":""},"請求書\n送付先",null,null,null,null,"(〒",null,{"$f":"LEFT(入力用!C22,3)","v":""},null,null,"-",{"$f":"RIGHT(入力用!C22,4)","v":""},null,null,null,")",null,{"$f":"IF(入力用!C23=\"同上\",\"\",LEFT(入力用!C23,11))","v":""},null,null,null,null,null,null,null,null,null,null,null,null,null,null,null,null,"ご連絡先",null,null,null,null,{"$f":"IF(OR(入力用!C25=\"同上\",入力用!C25=\"同左\"),\"\",LEFT(入力用!C25,17))","v":""}]
[]
[null,null,null,null,null,null,null,null,null,null,null,null,null,null,null,null,null,null,null,null,null,null,null,null,null,null,null,{"$f":"DBCS(MID(ASC(入力用!C20),21,1))","v":""},{"$f":"DBCS(MID(ASC(入力用!C20),22,1))","v":""},{"$f":"DBCS(MID(ASC(入力用!C20),23,1))","v":""},{"$f":"DBCS(MID(ASC(入力用!C20),24,1))","v":""},{"$f":"DBCS(MID(ASC(入力用!C20),25,1))","v":""},{"$f":"DBCS(MID(ASC(入力用!C20),26,1))","v":""},{"$f":"DBCS(MID(ASC(入力用!C20),27,1))","v":""},{"$f":"DBCS(MID(ASC(入力用!C20),28,1))","v":""},{"$f":"DBCS(MID(ASC(入力用!C20),29,1))","v":""},{"$f":"DBCS(MID(ASC(入力用!C20),30,1))","v":""},{"$f":"DBCS(MID(ASC(入力用!C20),31,1))","v":""},{"$f":"DBCS(MID(ASC(入力用!C20),32,1))","v":""},{"$f":"DBCS(MID(ASC(入力用!C20),33,1))","v":""},{"$f":"DBCS(MID(ASC(入力用!C20),34,1))","v":""},{"$f":"DBCS(MID(ASC(入力用!C20),35,1))","v":""},{"$f":"DBCS(MID(ASC(入力用!C20),36,1))","v":""},{"$f":"DBCS(MID(ASC(入力用!C20),37,1))","v":""},{"$f":"DBCS(MID(ASC(入力用!C20),38,1))","v":""},{"$f":"DBCS(MID(ASC(入力用!C20),39,1))","v":""},{"$f":"DBCS(MID(ASC(入力用!C20),40,1))","v":""},null,null,null,null,null,{"$f":"IF(入力用!C23=\"同上\",入力用!C23,MID(入力用!C23,12,20))","v":""},null,null,null,null,null,null,null,null,null,null,null,null,null,null,null,null,null,null,null,null,null,null,null,null,null,null,null,null,null,null,null,null,null,{"$f":"IF(OR(入力用!C25=\"同上\",入力用!C25=\"同左\"),入力用!C25,MID(入力用!C25,18,17))","v":""}]
[]
[null,null,null,null,null,null,null,null,null,null,null,null,null,null,null,null,null,null,null,null,null,null,null,null,null,null,null,{"$f":"IF(入力用!C21=\"\",\"\",入力用!C21)","v":""}]
[null,null,null,null,null,null,null,null,null,null,null,null,null,null,null,null,null,null,null,null,null,null,null,null,null,null,null,null,null,null,null,null,null,null,null,null,null,null,null,null,null,null,null,null,null,null,null,null,null,null,null,null,{"$f":"MID(入力用!C23,32,5)","v":""},null,null,null,null,null,null,"電話(",null,null,null,{"$f":"IF(入力用!C24=\"\",\"\",入力用!C24)","v":""},null,null,null,null,"-",{"$f":"IF(入力用!E24=\"\",\"\",入力用!E24)","v":""},null,null,null,null,"-",{"$f":"IF(入力用!H24=\"\",\"\",入力用!H24)","v":""},null,null,null,null,")",null,null,null,null,null,{"$f":"IF(OR(入力用!C25=\"同上\",入力用!C25=\"同左\"),\"\",MID(入力用!C25,35,1))","v":""},null,null,"電話(",null,null,null,{"$f":"IF(入力用!C26=\"\",\"\",入力用!C26)","v":""},null,null,null,null,"-",{"$f":"IF(入力用!E26=\"\",\"\",入力用!E26)","v":""},null,null,null,null,"-",{"$f":"IF(入力用!H26=\"\",\"\",入力用!H26)","v":""},null,null,null,null,")"]
[]
[null,"臨時工事費ご請求情報送付先\nメールアドレスまたは携帯電話番号",null,null,null,null,null,null,null,null,null,null,null,null,null,null,null,null,null,null,null,null,{"$f":"IF(入力用!C27=\"\",\"\",入力用!C27)","v":""},null,null,null,null,null,null,null,null,null,null,null,null,null,null,null,null,null,null,null,null,null,null,null,null,null,null,null,null,null,null,null,null,null,null,null,null,null,"契約種別",null,null,null,null,null,null,null,null,null,null,null,null,null,null,null,null,"供給電気\n方 式 ・\n供給電圧"]
[null,null,null,null,null,null,null,null,null,null,null,null,null,null,null,null,null,null,null,null,null,null,null,null,null,null,null,null,null,null,null,null,null,null,null,null,null,null,null,null,null,null,null,null,null,null,null,null,null,null,null,null,null,null,null,null,null,null,null,null,null,null,null,null,null,null,null,null,null,null,null,null,null,null,null,null,null,null,null,null,null,null,null,null,null,null,null,null,null,null,null,null,null,null,null,null,null,null,null,null,null,"受付①"]
[null,null,null,null,null,null,null,null,null,null,null,null,null,null,null,null,null,null,null,null,null,null,null,null,null,null,null,null,null,null,null,null,null,null,null,null,null,null,null,null,null,null,null,null,null,null,null,null,null,null,null,null,null,null,null,null,null,null,null,null,null,null,null,null,null,{"$f":"IF(入力用!O30=2,入力用!P5,IF(入力用!O30=3,入力用!P6,IF(入力用!O30=4,入力用!P7,\"\")))","v":""},null,null,null,null,null,null,null,null,null,null,null,null,null,null,null,null,{"$f":"IF(入力用!O31=2,入力用!Q5,IF(入力用!O31=3,入力用!Q6,IF(入力用!O31=4,入力用!Q7,IF(入力用!O31=5,入力用!Q8,\"\"))))","v":""}]
[]
[null,"受　 電\n希望日",null,null,null,null,null,{"$f":"IF(入力用!C28=\"\",\"\",入力用!C28)","v":""},null,null,null,null,"年",null,null,{"$f":"IF(入力用!E28=\"\",\"\",入力用!E28)","v":""},null,null,null,null,"月",null,null,{"$f":"IF(入力用!H28=\"\",\"\",入力用!H28)","v":""},null,null,null,null,"日",null,null,"使　用\n終　了\n予定日",null,null,null,null,{"$f":"IF(入力用!C29=\"\",\"\",入力用!C29)","v":""},null,null,null,null,"年",null,null,{"$f":"IF(入力用!E29=\"\",\"\",入力用!E29)","v":""},null,null,null,null,"月",null,null,{"$f":"IF(入力用!H29=\"\",\"\",入力用!H29)","v":""},null,null,null,null,"日"]
[]
[]
[]
[null,"業種",null,null,null,null,null,null,null,null,null,null,null,null,null,null,null,null,null,null,null,"契約\n決定\n方法",null,null,null,null,{"$f":"IF(入力用!O33=2,入力用!S5,IF(入力用!O33=3,入力用!S6,IF(入力用!O33=4,入力用!S7,IF(入力用!O33=5,入力用!S8,IF(入力用!O33=6,入力用!S9,\"\")))))","v":""},null,null,null,null,null,null,null,null,null,null,null,null,null,"主開閉器・\n電流制限器\nの定格電流",null,null,null,null,null,null,null,null,null,null,null,"フリーエリア\n計器払出希望\n事 業 所 名",null,null,null,null,null,null,null,{"$f":"IF(入力用!C35=\"\",\"\",入力用!C35)","v":""},null,null,null,null,null,null,null,null,"臨時供給設備\nから常時供給\n設備への移行",null,null,null,null,null,null,null,null,{"$f":"IF(入力用!O36=2,入力用!T5,IF(入力用!O36=3,入力用!T6,\"\"))","v":""},null,null,null,"電設\nＮｅｔ　\n申込",null,null,null,null,{"$f":"IF(入力用!O37=2,入力用!T9,IF(入力用!O37=3,入力用!T10,\"\"))","v":""}]
[null,null,null,null,null,null,null,null,null,null,null,null,null,null,null,null,null,null,null,null,null,null,null,null,null,null,null,null,null,null,null,null,null,null,null,null,null,null,null,null,null,null,null,null,null,null,null,null,null,null,null,null,null,null,null,null,null,null,null,null,null,null,null,null,null,null,null,null,null,null,null,null,null,null,null,null,null,null,null,null,null,null,null,null,null,null,null,null,null,null,null,null,null,null,null,null,null,null,null,null,null,"受付②"]
[null,null,null,null,null,null,null,{"$f":"IF(入力用!O32=2,入力用!R5,IF(入力用!O32=3,入力用!R6,IF(入力用!O32=4,入力用!R7,IF(入力用!O32=5,入力用!R8,IF(入力用!O32=6,入力用!R9&\"(\"&入力用!K32&\")\",\"\")))))","v":""},null,null,null,null,null,null,null,null,null,null,null,null,null,null,null,null,null,null,null,null,null,null,null,null,null,null,null,null,null,null,null,null,null,null,null,null,null,null,{"$f":"IF(入力用!C34=\"\",\"\",入力用!C34)","v":""}]
[null,null,null,null,null,null,null,null,null,null,null,null,null,null,null,null,null,null,null,null,null,null,null,null,null,null,null,null,null,null,null,null,null,null,null,null,null,null,null,null,null,null,null,null,null,null,null,null,null,null,null,null,null,null,null,null,null,null,null,null,null,null,null,null,null,null,null,null,null,null,null,null,null,null,null,null,null,null,null,null,null,null,null,null,null,null,null,{"$f":"IF(入力用!C38=\"\",\"\",入力用!C38)","v":""}]
[null,null,null,null,null,null,null,null,null,null,null,null,null,null,null,null,null,null,null,null,null,null,null,null,null,null,null,null,null,null,null,null,null,null,null,null,null,null,null,null,null,null,null,null,null,null,null,null,null,null,"Ａ"]
[]
[null,"契 約 負 荷 設 備 内 訳",null,null,"臨時電灯",null,null,"電　　　　　灯",null,null,null,null,null,null,null,null,null,null,null,null,null,null,null,null,null,null,null,"小　型　機　器",null,null,null,null,null,null,null,null,null,null,null,null,null,null,null,null,null,null,null,"回路数",null,null,null,null,null,null,"適用業種別回路数内訳",null,null,null,null,null,null,null,null,null,null,null,null,null,null,null,null,"合 計 容 量"]
[]
[null,null,null,null,null,null,null,{"$f":"IF(入力用!C39=\"\",\"\",入力用!C39)","v":""},null,null,null,null,"灯",null,null,{"$f":"IF(入力用!C40=\"\",\"\",入力用!C40)","v":""},null,null,null,null,null,null,null,null,"ＶＡ",null,null,{"$f":"IF(入力用!C41=\"\",\"\",入力用!C41)","v":""},null,null,null,null,"個",null,null,{"$f":"IF(入力用!C42=\"\",\"\",入力用!C42)","v":""},null,null,null,null,null,null,null,null,"ＶＡ",null,null,{"$f":"IF(入力用!C43=\"\",\"\",入力用!C43)","v":""},null,null,null,null,null,null,{"$f":"入力用!P43","v":""},null,null,null,null,null,null,null,null,null,{"$f":"IF(入力用!E45=\"\",\"\",入力用!E45)","v":""},null,null,"回路",null,null,null,{"$f":"IF(OR(入力用!O33<4,入力用!O33=6,入力用!R15=0),\"\",入力用!R15)","v":""}]
[null,null,null,null,null,null,null,null,null,null,null,null,null,null,null,null,null,null,null,null,null,null,null,null,null,null,null,null,null,null,null,null,null,null,null,null,null,null,null,null,null,null,null,null,null,null,null,null,null,null,null,null,null,null,null,null,null,null,null,null,null,null,null,null,null,null,null,null,null,null,null,null,null,null,null,null,null,null,null,null,{"$f":"IF(入力用!O30=2,\"契約電流\",IF(入力用!O30=3,\"契約容量\",\"契約電流\n契約容量\"))","v":"契約電流\n契約容量"},null,null,null,null,null,null,null,null,{"$f":"IF(入力用!R14=0,\"\",入力用!R14)","v":""},null,null,null,null,null,null,{"$f":"IF(入力用!O30=2,\"Ａ\",IF(入力用!O30=3,\"kVA\",\"Ａ\nkVA\"))","v":"Ａ\nkVA"},null,null,null,null,"受付③"]
[null,null,null,null,null,null,null,null,null,null,null,null,null,null,null,null,null,null,null,null,null,null,null,null,null,null,null,null,null,null,null,null,null,null,null,null,null,null,null,null,null,null,null,null,null,null,null,null,null,null,null,null,null,null,{"$f":"入力用!P45","v":""},null,null,null,null,null,null,null,null,null,{"$f":"IF(入力用!E47=\"\",\"\",入力用!E47)","v":""},null,null,"回路"]
[]
[null,null,null,null,null,null,null,null,null,null,null,null,null,null,null,null,null,null,null,null,null,null,null,null,null,null,null,null,null,null,null,null,null,null,null,null,null,null,null,null,null,null,null,null,null,null,null,null,null,null,null,null,null,null,{"$f":"入力用!P47","v":""},null,null,null,null,null,null,null,null,null,{"$f":"IF(入力用!E49=\"\",\"\",入力用!E49)","v":""},null,null,"回路",null,null,null,null,null,null,null,null,null,"ＶＡ"]
[]
[null,null,null,null,"臨  時  電  力",null,null,"機　器　種　別",null,null,null,null,null,null,null,null,null,null,null,null,null,null,null,null,null,null,null,null,null,null,null,"出　力",null,null,null,null,null,null,null,null,null,null,null,"入　力（ａ）",null,null,null,null,null,null,null,null,null,null,null,"力　率",null,null,null,null,null,null,null,null,"台数（ｂ）",null,null,null,null,null,null,"合計(ａ×ｂ)"]
[null,null,null,null,null,null,null,null,null,null,null,null,null,null,null,null,null,null,null,null,null,null,null,null,null,null,null,null,null,null,null,null,null,null,null,null,null,null,null,null,null,null,null,null,null,null,null,null,null,null,null,null,null,null,null,null,null,null,null,null,null,null,null,null,null,null,null,null,null,null,null,null,null,null,null,null,null,null,null,null,null,"引込以下工事",null,null,null,null,null,null,"要",null,null,null,null,null,"不要"]
[null,null,null,null,null,null,null,{"$f":"IF(入力用!C50=\"\",\"\",入力用!C50)","v":""},null,null,null,null,null,null,null,null,null,null,null,null,null,null,null,null,null,null,null,null,null,null,null,{"$f":"IF(入力用!C51=\"\",\"\",入力用!C51)","v":""},null,null,null,null,null,null,null,null,{"$f":"IF(入力用!O51=2,入力用!V5,IF(入力用!O51=3,入力用!V6,\"㏋\nkW\"))","v":"㏋\nkW"},null,null,{"$f":"IF(入力用!C52=\"\",\"\",入力用!C52)","v":""},null,null,null,null,null,null,null,null,"ｋＷ",null,null,{"$f":"IF(入力用!O53=2,入力用!W5,IF(入力用!O53=3,入力用!W6,IF(入力用!O53=4,入力用!W7,IF(入力用!O53=5,入力用!W8,\"\"))))","v":""},null,null,null,null,null,null,null,null,{"$f":"IF(入力用!C54=\"\",\"\",入力用!C54)","v":""},null,null,null,"台",null,null,{"$f":"入力用!P51","v":""},null,null,null,null,null,null,"kW"]
[null,null,null,null,null,null,null,null,null,null,null,null,null,null,null,null,null,null,null,null,null,null,null,null,null,null,null,null,null,null,null,null,null,null,null,null,null,null,null,null,null,null,null,null,null,null,null,null,null,null,null,null,null,null,null,null,null,null,null,null,null,null,null,null,null,null,null,null,null,null,null,null,null,null,null,null,null,null,null,null,null,null,null,null,null,null,null,null,null,null,null,null,null,null,null,null,null,null,null,null,null,"図面照査"]
[null,null,null,null,null,null,null,null,null,null,null,null,null,null,null,null,null,null,null,null,null,null,null,null,null,null,null,null,null,null,null,null,null,null,null,null,null,null,null,null,null,null,null,null,null,null,null,null,null,null,null,null,null,null,null,null,null,null,null,null,null,null,null,null,null,null,null,null,null,null,null,null,null,null,null,null,null,null,null,null,null,"メッセンジャー",null,null,null,null,null,null," №"]
[null,null,null,null,null,null,null,{"$f":"IF(入力用!C55=\"\",\"\",入力用!C55)","v":""},null,null,null,null,null,null,null,null,null,null,null,null,null,null,null,null,null,null,null,null,null,null,null,{"$f":"IF(入力用!C56=\"\",\"\",入力用!C56)","v":""},null,null,null,null,null,null,null,null,{"$f":"IF(入力用!O56=2,入力用!V5,IF(入力用!O56=3,入力用!V6,\"㏋\nkW\"))","v":"㏋\nkW"},null,null,{"$f":"IF(入力用!C57=\"\",\"\",入力用!C57)","v":""},null,null,null,null,null,null,null,null,"ｋＷ",null,null,{"$f":"IF(入力用!O58=2,入力用!W5,IF(入力用!O58=3,入力用!W6,IF(入力用!O58=4,入力用!W7,IF(入力用!O58=5,入力用!W8,\"\"))))","v":""},null,null,null,null,null,null,null,null,{"$f":"IF(入力用!C59=\"\",\"\",入力用!C59)","v":""},null,null,null,"台",null,null,{"$f":"入力用!P56","v":""},null,null,null,null,null,null,"kW"]
[]
[null,null,null,null,null,null,null,null,null,null,null,null,null,null,null,null,null,null,null,null,null,null,null,null,null,null,null,null,null,null,null,null,null,null,null,null,null,null,null,null,null,null,null,null,null,null,null,null,null,null,null,null,null,null,null,null,null,null,null,null,null,null,null,null,null,null,null,null,null,null,null,null,null,null,null,null,null,null,null,null,null,"外 線 工 事",null,null,null,null,null,null," №"]
[null,null,null,null,null,null,null,{"$f":"IF(入力用!C60=\"\",\"\",入力用!C60)","v":""},null,null,null,null,null,null,null,null,null,null,null,null,null,null,null,null,null,null,null,null,null,null,null,{"$f":"IF(入力用!C61=\"\",\"\",入力用!C61)","v":""},null,null,null,null,null,null,null,null,{"$f":"IF(入力用!O61=2,入力用!V5,IF(入力用!O61=3,入力用!V6,\"㏋\nkW\"))","v":"㏋\nkW"},null,null,{"$f":"IF(入力用!C62=\"\",\"\",入力用!C62)","v":""},null,null,null,null,null,null,null,null,"ｋＷ",null,null,{"$f":"IF(入力用!O63=2,入力用!W5,IF(入力用!O63=3,入力用!W6,IF(入力用!O63=4,入力用!W7,IF(入力用!O63=5,入力用!W8,\"\"))))","v":""},null,null,null,null,null,null,null,null,{"$f":"IF(入力用!C64=\"\",\"\",入力用!C64)","v":""},null,null,null,"台",null,null,{"$f":"入力用!P61","v":""},null,null,null,null,null,null,"kW"]
[]
[]
[null,null,null,null,null,null,null,{"$f":"IF(入力用!C65=\"\",\"\",入力用!C65)","v":""},null,null,null,null,null,null,null,null,null,null,null,null,null,null,null,null,null,null,null,null,null,null,null,{"$f":"IF(入力用!C66=\"\",\"\",入力用!C66)","v":""},null,null,null,null,null,null,null,null,{"$f":"IF(入力用!O66=2,入力用!V5,IF(入力用!O66=3,入力用!V6,\"㏋\nkW\"))","v":"㏋\nkW"},null,null,{"$f":"IF(入力用!C67=\"\",\"\",入力用!C67)","v":""},null,null,null,null,null,null,null,null,"ｋＷ",null,null,{"$f":"IF(入力用!O68=2,入力用!W5,IF(入力用!O68=3,入力用!W6,IF(入力用!O68=4,入力用!W7,IF(入力用!O68=5,入力用!W8,\"\"))))","v":""},null,null,null,null,null,null,null,null,{"$f":"IF(入力用!C69=\"\",\"\",入力用!C69)","v":""},null,null,null,"台",null,null,{"$f":"入力用!P66","v":""},null,null,null,null,null,null,"kW",null,null,"臨時引込線工事の内容",null,null,null,null,null,null,null,null,null,null,null,null,null,null,null,null,null,null,null,"外線設計"]
[]
[null,null,null,null,null,null,null,null,null,null,null,null,null,null,null,null,null,null,null,null,null,null,null,null,null,null,null,null,null,null,null,null,null,null,null,null,null,null,null,null,null,null,null,null,null,null,null,null,null,null,null,null,null,null,null,null,null,null,null,null,null,null,null,null,null,null,null,null,null,null,null,null,null,null,null,null,null,null,null,null,null,"引込\n方法",null,null,null,"単独・連接・ﾒｯｾﾝｼﾞｬｰ"]
[null,null,null,null,null,null,null,{"$f":"IF(入力用!C70=\"\",\"\",入力用!C70)","v":""},null,null,null,null,null,null,null,null,null,null,null,null,null,null,null,null,null,null,null,null,null,null,null,{"$f":"IF(入力用!C71=\"\",\"\",入力用!C71)","v":""},null,null,null,null,null,null,null,null,{"$f":"IF(入力用!O71=2,入力用!V5,IF(入力用!O71=3,入力用!V6,\"㏋\nkW\"))","v":"㏋\nkW"},null,null,{"$f":"IF(入力用!C72=\"\",\"\",入力用!C72)","v":""},null,null,null,null,null,null,null,null,"ｋＷ",null,null,{"$f":"IF(入力用!O73=2,入力用!W5,IF(入力用!O73=3,入力用!W6,IF(入力用!O73=4,入力用!W7,IF(入力用!O73=5,入力用!W8,\"\"))))","v":""},null,null,null,null,null,null,null,null,{"$f":"IF(入力用!C74=\"\",\"\",入力用!C74)","v":""},null,null,null,"台",null,null,{"$f":"入力用!P71","v":""},null,null,null,null,null,null,"kW"]
[]
[]
[null,null,null,null,null,null,null,{"$f":"IF(入力用!C75=\"\",\"\",入力用!C75)","v":""},null,null,null,null,null,null,null,null,null,null,null,null,null,null,null,null,null,null,null,null,null,null,null,{"$f":"IF(入力用!C76=\"\",\"\",入力用!C76)","v":""},null,null,null,null,null,null,null,null,{"$f":"IF(入力用!O76=2,入力用!V5,IF(入力用!O76=3,入力用!V6,\"㏋\nkW\"))","v":"㏋\nkW"},null,null,{"$f":"IF(入力用!C77=\"\",\"\",入力用!C77)","v":""},null,null,null,null,null,null,null,null,"ｋＷ",null,null,{"$f":"IF(入力用!O78=2,入力用!W5,IF(入力用!O78=3,入力用!W6,IF(入力用!O78=4,入力用!W7,IF(入力用!O78=5,入力用!W8,\"\"))))","v":""},null,null,null,null,null,null,null,null,{"$f":"IF(入力用!C79=\"\",\"\",入力用!C79)","v":""},null,null,null,"台",null,null,{"$f":"入力用!P76","v":""},null,null,null,null,null,null,"kW",null,null,"電気\n方式",null,null,null,"２線式　　３線式"]
[]
[null,null,null,null,null,null,null,null,null,null,null,null,null,null,null,null,null,null,null,null,null,null,null,null,null,null,null,null,null,null,null,null,null,null,null,null,null,null,null,null,null,null,null,null,null,null,null,null,null,null,null,null,null,null,null,null,null,null,null,null,null,null,null,null,null,null,null,null,null,null,null,null,null,null,null,null,null,null,null,null,null,null,null,null,null,null,null,null,null,null,null,null,null,null,null,null,null,null,null,null,null,"臨\n時\n工\n事\n費\n計\n算"]
[null,null,null,null,null,null,null,{"$f":"IF(入力用!C80=\"\",\"\",入力用!C80)","v":""},null,null,null,null,null,null,null,null,null,null,null,null,null,null,null,null,null,null,null,null,null,null,null,{"$f":"IF(入力用!C81=\"\",\"\",入力用!C81)","v":""},null,null,null,null,null,null,null,null,{"$f":"IF(入力用!O81=2,入力用!V5,IF(入力用!O81=3,入力用!V6,\"㏋\nkW\"))","v":"㏋\nkW"},null,null,{"$f":"IF(入力用!C82=\"\",\"\",入力用!C82)","v":""},null,null,null,null,null,null,null,null,"ｋＷ",null,null,{"$f":"IF(入力用!O83=2,入力用!W5,IF(入力用!O83=3,入力用!W6,IF(入力用!O83=4,入力用!W7,IF(入力用!O83=5,入力用!W8,\"\"))))","v":""},null,null,null,null,null,null,null,null,{"$f":"IF(入力用!C84=\"\",\"\",入力用!C84)","v":""},null,null,null,"台",null,null,{"$f":"入力用!P81","v":""},null,null,null,null,null,null,"kW"]
[null,null,null,null,null,null,null,null,null,null,null,null,null,null,null,null,null,null,null,null,null,null,null,null,null,null,null,null,null,null,null,null,null,null,null,null,null,null,null,null,null,null,null,null,null,null,null,null,null,null,null,null,null,null,null,null,null,null,null,null,null,null,null,null,null,null,null,null,null,null,null,null,null,null,null,null,null,null,null,null,null,"太さ",null,null,null,"2.6　 3.2　 14　 22\n38　60　その他(　 )"]
[]
[null,null,null,null,null,null,null,{"$f":"IF(入力用!C85=\"\",\"\",入力用!C85)","v":""},null,null,null,null,null,null,null,null,null,null,null,null,null,null,null,null,null,null,null,null,null,null,null,{"$f":"IF(入力用!C86=\"\",\"\",入力用!C86)","v":""},null,null,null,null,null,null,null,null,{"$f":"IF(入力用!O86=2,入力用!V5,IF(入力用!O86=3,入力用!V6,\"㏋\nkW\"))","v":"㏋\nkW"},null,null,{"$f":"IF(入力用!C87=\"\",\"\",入力用!C87)","v":""},null,null,null,null,null,null,null,null,"ｋＷ",null,null,{"$f":"IF(入力用!O88=2,入力用!W5,IF(入力用!O88=3,入力用!W6,IF(入力用!O88=4,入力用!W7,IF(入力用!O88=5,入力用!W8,\"\"))))","v":""},null,null,null,null,null,null,null,null,{"$f":"IF(入力用!C89=\"\",\"\",入力用!C89)","v":""},null,null,null,"台",null,null,{"$f":"入力用!P86","v":""},null,null,null,null,null,null,"kW"]
[]
[null,null,null,null,null,null,null,null,null,null,null,null,null,null,null,null,null,null,null,null,null,null,null,null,null,null,null,null,null,null,null,null,null,null,null,null,null,null,null,null,null,null,null,null,null,null,null,null,null,null,null,null,null,null,null,null,null,null,null,null,null,null,null,null,null,null,null,null,null,null,null,null,null,null,null,null,null,null,null,null,null,"工事\n月日",null,null,null,null,null,null,"年",null,null,null,null,"月",null,null,null,null,"日"]
[null,null,null,null,null,null,null,{"$f":"IF(入力用!C90=\"\",\"\",入力用!C90)","v":""},null,null,null,null,null,null,null,null,null,null,null,null,null,null,null,null,null,null,null,null,null,null,null,{"$f":"IF(入力用!C91=\"\",\"\",入力用!C91)","v":""},null,null,null,null,null,null,null,null,{"$f":"IF(入力用!O91=2,入力用!V5,IF(入力用!O91=3,入力用!V6,\"㏋\nkW\"))","v":"㏋\nkW"},null,null,{"$f":"IF(入力用!C92=\"\",\"\",入力用!C92)","v":""},null,null,null,null,null,null,null,null,"ｋＷ",null,null,{"$f":"IF(入力用!O93=2,入力用!W5,IF(入力用!O93=3,入力用!W6,IF(入力用!O93=4,入力用!W7,IF(入力用!O93=5,入力用!W8,\"\"))))","v":""},null,null,null,null,null,null,null,null,{"$f":"IF(入力用!C94=\"\",\"\",入力用!C94)","v":""},null,null,null,"台",null,null,{"$f":"入力用!P91","v":""},null,null,null,null,null,null,"kW"]
[null,null,null,null,null,null,null,null,null,null,null,null,null,null,null,null,null,null,null,null,null,null,null,null,null,null,null,null,null,null,null,null,null,null,null,null,null,null,null,null,null,null,null,null,null,null,null,null,null,null,null,null,null,null,null,null,null,null,null,null,null,null,null,null,null,null,null,null,null,null,null,null,null,null,null,null,null,null,null,null,null,null,null,null,null,null,null,null,null,null,null,null,null,null,null,null,null,null,null,null,null,"臨\n時\n工\n事\n費\n入\n金"]
[]
[null,null,null,null,null,null,null,{"$f":"IF(入力用!C95=\"\",\"\",入力用!C95)","v":""},null,null,null,null,null,null,null,null,null,null,null,null,null,null,null,null,null,null,null,null,null,null,null,{"$f":"IF(入力用!C96=\"\",\"\",入力用!C96)","v":""},null,null,null,null,null,null,null,null,{"$f":"IF(入力用!O96=2,入力用!V5,IF(入力用!O96=3,入力用!V6,\"㏋\nkW\"))","v":"㏋\nkW"},null,null,{"$f":"IF(入力用!C97=\"\",\"\",入力用!C97)","v":""},null,null,null,null,null,null,null,null,"ｋＷ",null,null,{"$f":"IF(入力用!O98=2,入力用!W5,IF(入力用!O98=3,入力用!W6,IF(入力用!O98=4,入力用!W7,IF(入力用!O98=5,入力用!W8,\"\"))))","v":""},null,null,null,null,null,null,null,null,{"$f":"IF(入力用!C99=\"\",\"\",入力用!C99)","v":""},null,null,null,"台",null,null,{"$f":"入力用!P96","v":""},null,null,null,null,null,null,"kW"]
[null,null,null,null,null,null,null,null,null,null,null,null,null,null,null,null,null,null,null,null,null,null,null,null,null,null,null,null,null,null,null,null,null,null,null,null,null,null,null,null,null,null,null,null,null,null,null,null,null,null,null,null,null,null,null,null,null,null,null,null,null,null,null,null,null,null,null,null,null,null,null,null,null,null,null,null,null,null,null,null,null,"契約使用期間"]
[]
[null,null,null,null,null,null,null,{"$f":"IF(入力用!C100=\"\",\"\",入力用!C100)","v":""},null,null,null,null,null,null,null,null,null,null,null,null,null,null,null,null,null,null,null,null,null,null,null,{"$f":"IF(入力用!C101=\"\",\"\",入力用!C101)","v":""},null,null,null,null,null,null,null,null,{"$f":"IF(入力用!O101=2,入力用!V5,IF(入力用!O101=3,入力用!V6,\"㏋\nkW\"))","v":"㏋\nkW"},null,null,{"$f":"IF(入力用!C102=\"\",\"\",入力用!C102)","v":""},null,null,null,null,null,null,null,null,"ｋＷ",null,null,{"$f":"IF(入力用!O103=2,入力用!W5,IF(入力用!O103=3,入力用!W6,IF(入力用!O103=4,入力用!W7,IF(入力用!O103=5,入力用!W8,\"\"))))","v":""},null,null,null,null,null,null,null,null,{"$f":"IF(入力用!C104=\"\",\"\",入力用!C104)","v":""},null,null,null,"台",null,null,{"$f":"入力用!P101","v":""},null,null,null,null,null,null,"kW",null,null,"②",null,null,null,"自"]
[]
[null,null,null,null,null,null,null,null,null,null,null,null,null,null,null,null,null,null,null,null,null,null,null,null,null,null,null,null,null,null,null,null,null,null,null,null,null,null,null,null,null,null,null,null,null,null,null,null,null,null,null,null,null,null,null,null,null,null,null,null,null,null,null,null,null,null,null,null,null,null,null,null,null,null,null,null,null,null,null,null,null,null,null,null,null,"至"]
[null,null,null,null,null,null,null,{"$f":"IF(入力用!C105=\"\",\"\",入力用!C105)","v":""},null,null,null,null,null,null,null,null,null,null,null,null,null,null,null,null,null,null,null,null,null,null,null,{"$f":"IF(入力用!C106=\"\",\"\",入力用!C106)","v":""},null,null,null,null,null,null,null,null,{"$f":"IF(入力用!O106=2,入力用!V5,IF(入力用!O106=3,入力用!V6,\"㏋\nkW\"))","v":"㏋\nkW"},null,null,{"$f":"IF(入力用!C107=\"\",\"\",入力用!C107)","v":""},null,null,null,null,null,null,null,null,"ｋＷ",null,null,{"$f":"IF(入力用!O108=2,入力用!W5,IF(入力用!O108=3,入力用!W6,IF(入力用!O108=4,入力用!W7,IF(入力用!O108=5,入力用!W8,\"\"))))","v":""},null,null,null,null,null,null,null,null,{"$f":"IF(入力用!C109=\"\",\"\",入力用!C109)","v":""},null,null,null,"台",null,null,{"$f":"入力用!P106","v":""},null,null,null,null,null,null,"kW",null,null,null,null,null,null,null,null,null,null,null,null,null,null,null,null,null,null,null,null,null,null,"計器払出"]
[null,null,null,null,null,null,null,null,null,null,null,null,null,null,null,null,null,null,null,null,null,null,null,null,null,null,null,null,null,null,null,null,null,null,null,null,null,null,null,null,null,null,null,null,null,null,null,null,null,null,null,null,null,null,null,null,null,null,null,null,null,null,null,null,null,null,null,null,null,null,null,null,null,null,null,null,null,null,null,null,null,"③",null,null,null,"自"]
[]
[null,null,null,null,null,null,null,"機器種別",null,null,null,null,null,null,null,"日本工業規格",null,null,null,null,null,null,null,"コンデンサ",null,null,null,null,null,null,null,"1次入力",null,null,null,null,null,null,null,null,null,null,null,"入　力（ａ）",null,null,null,null,null,null,null,null,null,null,null,"力　率",null,null,null,null,null,null,null,null,"台数（ｂ）",null,null,null,null,null,null,"合計(ａ×ｂ)",null,null,null,null,null,null,null,null,null,null,null,null,null,"至"]
[]
[null,null,null,null,null,null,null,"電気溶接機",null,null,null,null,null,null,null,{"$f":"IF(入力用!O110=2,入力用!Y5,IF(入力用!O110=3,入力用!Y6,\"\"))","v":""},null,null,null,null,null,null,null,{"$f":"IF(入力用!O111=2,入力用!Z5,IF(入力用!O111=3,入力用!Z6,IF(入力用!O111=4,入力用!Z7,\"\")))","v":""},null,null,null,null,null,null,null,{"$f":"IF(入力用!C112=\"\",\"\",入力用!C112)","v":""},null,null,null,null,null,null,null,null,"kVA",null,null,{"$f":"IF(入力用!C113=\"\",\"\",入力用!C113)","v":""},null,null,null,null,null,null,null,null,"ｋＷ",null,null,{"$f":"IF(入力用!O114=2,入力用!AA5,IF(入力用!O114=3,入力用!AA6,IF(入力用!O114=4,入力用!AA7,\"\")))","v":""},null,null,null,null,null,null,null,null,{"$f":"IF(入力用!C115=\"\",\"\",入力用!C115)","v":""},null,null,null,"台",null,null,{"$f":"入力用!P112","v":""},null,null,null,null,null,null,"kW"]
[]
[]
[null,null,null,null,null,null,null,"電気溶接機",null,null,null,null,null,null,null,{"$f":"IF(入力用!O116=2,入力用!Y5,IF(入力用!O116=3,入力用!Y6,\"\"))","v":""},null,null,null,null,null,null,null,{"$f":"IF(入力用!O117=2,入力用!Z5,IF(入力用!O117=3,入力用!Z6,IF(入力用!O117=4,入力用!Z7,\"\")))","v":""},null,null,null,null,null,null,null,{"$f":"IF(入力用!C118=\"\",\"\",入力用!C118)","v":""},null,null,null,null,null,null,null,null,"kVA",null,null,{"$f":"IF(入力用!C119=\"\",\"\",入力用!C119)","v":""},null,null,null,null,null,null,null,null,"ｋＷ",null,null,{"$f":"IF(入力用!O120=2,入力用!AA5,IF(入力用!O120=3,入力用!AA6,IF(入力用!O120=4,入力用!AA7,\"\")))","v":""},null,null,null,null,null,null,null,null,{"$f":"IF(入力用!C121=\"\",\"\",入力用!C121)","v":""},null,null,null,"台",null,null,{"$f":"入力用!P118","v":""},null,null,null,null,null,null,"kW",null,null,null,null,null,null,null,null,null,null,null,null,null,null,null,null,null,null,null,null,null,null,"送電申込受付"]
[]
[]
[null,null,null,null,null,null,null,null,null,null,null,null,null,null,null,null,null,null,null,null,null,null,null,null,null,null,null,null,null,null,null,null,null,null,null,null,null,null,null,null,null,null,null,null,null,null,null,null,null,null,null,null,null,null,null,"力　率",null,null,null,null,null,null,null,null,"合計台数",null,null,null,null,null,null,"入力合計",null,null,null,null,null,null,null,null,"契約電力",null,null,null,null,null,null,null,null,{"$f":"IF(入力用!R36=0,\"\",入力用!R36)","v":""},null,null,null,null,null,null,null,"ｋＷ"]
[]
[null,null,null,null,null,null,null,null,null,null,null,null,null,null,null,null,null,null,null,null,null,null,null,null,null,null,null,null,null,null,null,null,null,null,null,null,null,null,null,null,null,null,null,null,null,null,null,null,null,null,null,null,null,null,null,"85％",null,null,null,{"$f":"IF(入力用!O33=3,\"超過\",IF(入力用!R34=\"\",\"超過未満\",IF(入力用!R34>0.85,\"超過\",IF(入力用!R34<0.85,\"未満\",\"\"))))","v":"超過未満"},null,null,null,null,{"$f":"IF(SUM(BM65:BP100,BM103:BP108)=0,\"\",SUM(BM65:BP100,BM103:BP108))","v":""},null,null,null,"台",null,null,{"$f":"IF(入力用!R38=0,\"\",入力用!R38)","v":""},null,null,null,null,null,null,"kW"]
[]
[]
[null,"異動種別",null,null,"・新設　　 　・減少",null,null,null,null,null,null,null,null,null,null,null,null,null,null,null,null,null,null,null,null,null,null,null,"供給地点特定番号",null,null,null,null,null,null,"発行\n回数",null,null,"支店",null,"ﾌﾞﾛｯｸ",null,null,"住所",null,null,null,null,"街区",null,null,"契約№",null,null,null,null,"枝番",null,null,"種別",null,null,null,null,null,"送電日\n（異動日）",null,null,null,null,null,null,null,null,null,null,null,null,null,null,null,null,null,null,null,null,null,null,null,null,null,null,null,null,null,null,null,null,null,null,null,"契約確認"]
[]
[null,null,null,null,"・種変(+)　　・設備変更"]
[]
[null,null,null,null,"・ｺｰﾄﾞ変(+)　・名義変更",null,null,null,null,null,null,null,null,null,null,null,null,null,null,null,null,null,null,null,null,null,null,null,null,null,null,"010",null,null,null,null,null,null,null,null,null,null,null,null,null,null,null,null,null,null,null,null,null,null,null,null,null,null,null,null,null,null,"00"]
[]
[null,null,null,null,"・増加　　 　・その他（　　　　　　　 ）",null,null,null,null,null,null,null,null,null,null,null,null,null,null,null,null,null,null,null,null,null,null,null,null,null,null,null,null,null,null,null,null,null,null,null,null,null,null,null,null,null,null,null,null,null,null,null,null,null,null,null,null,null,null,null,null,null,null,null,null,null,null,null,null,null,"年",null,null,null,"月",null,null,null,"日"]
[]
[null,"業種",null,null,"・建築工事　・脱穀調整用・水稲育苗用(反復使用)",null,null,null,null,null,null,null,null,null,null,null,null,null,null,null,null,null,null,null,null,null,null,null,null,null,null,null,"供給\n電気\n方式",null,null,{"$f":"IF(入力用!O31=2,\"単相2線100V\",IF(入力用!O31=3,\"単相2線200V\",IF(入力用!O31=4,\"単相3線100V\",IF(入力用!O31=5,\"3相3線200V\",\"\"))))","v":""},null,null,null,null,null,null,null,null,null,"計量\n電気\n方式",null,null,"・単相2線100Ｖ",null,null,null,null,null,null,null,null,null,null,null,null,null,null,null,null,null,null,null,null,null,null,null,null,null,null,null,null,null,null,"引込柱№",null,null,"画",null,null,"区",null,null,"図",null,null,"番",null,null,"の",null,null,"号",null,null,null,"上長確認"]
[]
[null,null,null,null,"・土木工事　",null,null,null,null,null,null,null,null,null,null,null,null,null,null,null,null,null,null,null,null,null,null,null,null,null,null,null,null,null,null,null,null,null,null,null,null,null,null,null,null,null,null,null,"・単相2線200Ｖ"]
[]
[null,null,null,null,"・祭典用　　・その他",null,null,null,null,null,null,null,null,null,null,null,null,null,null,null,null,null,null,null,null,null,null,null,null,null,null,null,null,null,null,null,null,null,null,null,null,null,null,null,null,null,null,null,"・単相3線100Ｖ"]
[]
[null,null,null,null,"・仮店舗",null,null,null,null,null,null,null,null,null,null,null,null,null,null,null,null,null,null,null,null,null,null,null,null,null,null,null,null,null,null,null,null,null,null,null,null,null,null,null,null,null,null,null,"・3相3線200Ｖ "]
[]
[null,"計量\n区分",null,null,"　通常計量",null,null,null,null,null,null,null,null,null,"計器取付位置",null,null,"・屋外　　　・屋内",null,null,null,null,null,null,null,null,null,null,null,null,null,"ＣＴ取付位置",null,null,"・屋外　　　・屋内",null,null,null,null,null,null,null,null,null,null,null,null,null,"ＣＴ\n２次\n亘長",null,null,null,null,null,null,null,null,null,null,null,"契約使用期間自動延長",null,null,null,null,null,null,null,null,null,null,null,null,null,"支払継続元お客さま番号",null,null,null,null,null,null,null,null,null,null,null,null,null,null,null,null,null,null,null,null,null,null,null,null,null,null,"竣工調査"]
[]
[null,null,null,null,"・1次側計量",null,null,null,null,null,null,null,null,null,null,null,null,"・屋外柱　　・集合盤",null,null,null,null,null,null,null,null,null,null,null,null,null,null,null,null,"・屋外柱　　・集合盤",null,null,null,null,null,null,null,null,null,null,null,null,null,null,null,null,null,null,null,null,null,null,null,null,null,"・可（1か月ずつ延長)",null,null,null,null,null,null,null,null,null,null,null,null,null,"発行\n回数",null,null,"支店",null,"ﾌﾞﾛｯｸ",null,null,"住所",null,null,null,null,"街区",null,null,"契約№",null,null,null,"枝番",null,null,"種別"]
[]
[null,null,null,null,"・1契約多計量",null,null,null,null,null,null,null,null,null,null,null,null,"・ｷｭｰﾋﾞｸﾙ　 ・受電室",null,null,null,null,null,null,null,null,null,null,null,null,null,null,null,null,"・ｷｭｰﾋﾞｸﾙ　 ・受電室",null,null,null,null,null,null,null,null,null,null,null,null,null,null,null,null,null,null,null,null,null,null,"ｍ",null,null,"・不可（延長有無を電話確認)"]
[]
[null,"支払者\n番号",null,null,null,null,null,null,null,null,null,null,null,null,null,null,null,null,null,null,null,null,"まとめ\n請求",null,null,null,"・有　　・無",null,null,null,null,null,null,null,null,null,null,null,null,null,"支払\n番号"]
[]
[null,null,null,null,null,null,null,null,null,null,null,null,null,null,null,null,null,null,null,null,null,null,null,null,null,null,null,null,null,null,null,null,null,null,null,null,null,null,null,null,null,null,null,null,null,null,null,null,null,null,null,null,null,null,null,null,null,null,null,null,null,null,null,null,null,null,null,null,null,null,null,null,null,null,null,null,null,null,null,null,null,null,null,null,null,null,null,null,null,null,null,null,null,null,null,null,null,null,null,null,null,"完了確認"]
[null,null,null,null,null,null,null,null,null,null,null,null,null,null,null,null,null,null,null,null,null,null,null,null,null,null,null,null,null,null,null,null,null,null,null,null,null,null,null,null,null,null,null,null,null,null,null,null,null,null,null,null,null,null,null,null,null,null,null,null,null,null,null,null,null,null,null,null,null,null,null,null,null,null,"臨　　時　　工　　事　　費"]
[]
[null,"決済\nアクセスキー",null,null,null,null,null,null,null,null,null,null,null,null,null,null,null,null,null,null,null,null,null,null,"請求書\n要　否",null,null,null,"・否　　　・要",null,null,null,null,null,null,null,null,null,null,null,null,null,null,null,null,null,null,null,null,null,null,null,null,null,null,null,null,null,null,null,null,null,null,null,null,null,null,null,null,null,null,null,null,null,"入　　金　　額",null,null,null,null,null,null,null,null,null,null,null,null,null,null,null,null,null,null,null,null,null,null,"円"]
[]
[]
[null,null,null,null,null,null,null,null,null,null,null,null,null,null,null,null,null,null,null,null,null,null,null,null,null,null,null,null,null,null,null,null,null,null,null,null,null,null,null,null,null,null,null,null,null,null,null,null,null,null,null,null,null,null,null,"計器\n増設",null,null,null,"取　　　外　　　計　　　器",null,null,null,null,null,null,null,null,null,null,null,null,null,null,"消　費　税　等",null,null,null,null,null,null,null,null,null,null,null,null,null,null,null,null,null,null,null,null,null,null,"円"]
[]
[null,null,null,null,null,null,null,null,null,null,null,null,null,null,null,null,null,null,null,null,null,null,null,null,null,null,null,null,null,null,null,null,null,null,null,null,null,null,null,null,null,null,null,null,null,null,null,null,null,null,null,null,null,null,null,null,null,null,null,"指示数",null,null,null,null,null,null,null,null,null,null,null,null,null,null,null,null,null,null,null,null,null,null,null,null,null,null,null,null,null,null,null,null,null,null,null,null,null,null,null,null,null,"完了連絡"]
[null,null,null,null,null,null,null,null,null,null,null,null,null,null,null,null,null,null,null,null,null,null,null,null,null,null,null,null,null,null,null,null,null,null,null,null,null,null,null,null,null,null,null,null,null,null,null,null,null,null,null,null,null,null,null,null,null,null,null,null,null,null,null,null,null,null,null,null,null,null,null,null,null,null,"事　　業　　所"]
[]
[null,null,null,null,null,null,null,null,null,null,null,null,null,null,null,null,null,null,"撤去受付№",null,null,null,null,null,null,null,null,null,null,null,null,null,null,null,null,null,null,null,null,null,null,null,null,null,null,null,null,null,null,null,null,null,null,null,null,null,null,null,null,"計器№",null,null,null,null,null,null,null,"乗率"]
[null,null,null,null,null,null,null,null,null,null,null,null,null,null,null,null,null,null,null,null,null,null,null,null,null,null,null,null,null,null,null,null,null,null,null,null,null,null,null,null,null,null,null,null,null,null,null,null,null,null,null,null,null,null,null,null,null,null,null,null,null,null,null,null,null,null,null,null,null,null,null,null,null,null,"受付№",null,null,null,null,null,null,null,null,null,null,null,null,"設計№"]
[]
[null,"全撤異動\nコ ー ド",null,null,null,null,"・全撤発行要",null,null,null,null,null,null,null,null,null,null,null,"撤去受付",null,null,null,null,null,null,null,"調査",null,null,null,null,null,null,null,"未完登録",null,null,null,null,null,null,null,"上長確認",null,null,null,null,null,null,null,"照合"]
[null,null,null,null,null,null,null,null,null,null,null,null,null,null,null,null,null,null,null,null,null,null,null,null,null,null,null,null,null,null,null,null,null,null,null,null,null,null,null,null,null,null,null,null,null,null,null,null,null,null,null,null,null,null,null,null,null,null,null,null,null,null,null,null,null,null,null,null,null,null,null,null,null,null,"決済番号"]
[null,null,null,null,null,null,"・全撤発行不要",null,null,null,null,null,null,null,null,null,null,null,null,null,null,null,null,null,null,null,null,null,null,null,null,null,null,null,null,null,null,null,null,null,null,null,null,null,null,null,null,null,null,null,null,null,null,null,null,null,null,null,null,null,null,null,null,null,null,null,null,null,null,null,null,null,null,null,null,null,null,null,null,null,null,null,null,null,null,null,null,null,null,null,null,null,null,null,null,null,null,null,null,null,null,"照合"]
[]
[null,null,null,null,null,null,"・種別変更（－）",null,null,null,null,null,null,null,null,null,null,null,null,null,null,null,null,null,null,null,null,null,null,null,null,null,null,null,null,null,null,null,null,null,null,null,null,null,null,null,null,null,null,null,null,null,null,null,null,null,null,null,null,null,null,null,null,null,null,null,null,null,null,null,null,null,null,null,"領　収　月　日",null,null,null,null,null,null,null,null,null,null,null,null,null,"年",null,null,null,null,"月",null,null,null,null,"日"]
[]
[null,null,null,null,null,null,"・ｺｰﾄﾞ変更（－）"]
[null,null,null,null,null,null,null,null,null,null,null,null,null,null,null,null,null,null,null,null,null,null,null,null,null,null,null,null,null,null,null,null,null,null,null,null,null,null,null,null,null,null,null,null,null,null,null,null,null,null,null,null,null,null,null,null,null,null,null,null,null,null,null,null,null,null,null,null,null,null,null,null,null,null,"領収№",null,null,null,null,null,null,null,null,null,null,null,null,null,null,null,"振　替\n勘定月",null,null,null,null,null,null,null,"月"]
[null,"全撤異動日",null,null,null,null,null,null,"年",null,null,null,"月",null,null,null,"日"]
[]
[null,null,null,null,null,null,null,null,null,null,null,null,null,null,null,null,null,null,null,null,"他契約登録",null,"要 ・ 不要",null,null,null,null,null,null,null,"他契約登録番号",null,null,null,null,null,null,null,null,null,null,null,null,null,null,null,null,null,null,null,null,null,"　□供給地点他契約登録済"]
["北　海　道　電　力　ネ　ッ　ト　ワ　ー　ク　株　式　会　社"]
[]
[]
[]
[]
[]
[]
[]
[]
[]
["北　海　道　電　力　ネ　ッ　ト　ワ　ー　ク　株　式　会　社"]