{"text_format":"1","workbook":"xlsx","n_sheets":4,"sheets":["入力用","１枚目","２枚目","３枚目"],"not_rendered":{"charts":0,"images":0,"macros":1,"external_links":0,"defined_names":4,"comments":1,"pivot_tables":0},"unopened":[],"bounds":{"document_bytes":16777216,"sheet_cells":100000,"rows_first":2000,"rows_last":500,"rows_between":2000,"halvings":0,"cell_chars":16384,"cell_head_chars":4096},"cells_cut":0,"cells_raw":0,"read":"whole","date_system":"1900"}

{"sheet":"入力用","index":0,"n_rows":128,"n_cols":36,"rows_kept":128,"cut":false,"hidden":false,"merged":[[1,14,1,24],[2,0,5,0],[2,2,2,10],[3,2,3,10],[4,2,4,10],[5,2,5,10],[6,0,7,0],[6,2,6,5],[7,2,7,10],[8,0,9,0],[8,4,8,5],[8,7,8,8],[9,4,9,5],[9,7,9,8],[10,0,14,0],[10,2,10,10],[11,2,11,10],[11,17,11,19],[12,4,12,5],[13,2,13,10],[14,4,14,5],[14,7,14,8],[15,0,17,0],[15,2,15,10],[16,2,16,10],[16,18,16,19],[17,4,17,5],[17,7,17,8],[17,17,17,35],[18,32,18,35],[19,0,20,0],[19,2,19,10],[20,2,20,10],[18,0,18,1],[18,20,18,23],[18,24,18,27],[18,28,18,31],[21,0,23,0],[21,2,21,5],[21,17,21,18],[22,2,22,10],[23,4,23,5],[23,7,23,8],[24,0,25,0],[24,2,24,10],[25,4,25,5],[25,7,25,8],[28,4,28,5],[28,0,28,1],[26,0,26,1],[26,2,26,8],[30,0,30,1],[31,0,31,1],[32,0,32,1],[33,0,33,1],[33,3,33,4],[28,8,28,9],[29,0,29,1],[27,2,27,5],[34,0,34,1],[34,2,34,10],[35,0,36,0],[35,4,35,5],[36,4,36,5],[37,0,37,1],[38,0,42,0],[38,2,38,10],[39,2,39,3],[39,4,39,5],[40,2,40,3],[40,4,40,5],[42,3,42,4],[43,0,47,0],[43,2,43,10],[44,2,44,3],[44,4,44,5],[45,2,45,3],[45,4,45,5],[47,3,47,4],[48,0,52,0],[48,2,48,10],[49,2,49,3],[49,4,49,5],[50,2,50,3],[50,4,50,5],[52,3,52,4],[53,0,57,0],[53,2,53,10],[54,2,54,3],[54,4,54,5],[55,2,55,3],[55,4,55,5],[57,3,57,4],[58,0,62,0],[58,2,58,10],[59,2,59,3],[59,4,59,5],[60,2,60,3],[60,4,60,5],[62,3,62,4],[63,0,67,0],[63,2,63,10],[64,2,64,3],[64,4,64,5],[65,2,65,3],[65,4,65,5],[67,3,67,4],[68,0,72,0],[68,2,68,10],[69,2,69,3],[69,4,69,5],[70,2,70,3],[70,4,70,5],[72,3,72,4],[73,0,77,0],[73,2,73,10],[74,2,74,3],[74,4,74,5],[75,2,75,3],[75,4,75,5],[77,3,77,4],[78,0,82,0],[78,2,78,10],[79,2,79,3],[79,4,79,5],[80,2,80,3],[80,4,80,5],[82,3,82,4],[83,0,87,0],[83,2,83,10],[84,2,84,3],[84,4,84,5],[85,2,85,3],[85,4,85,5],[87,3,87,4],[88,0,92,0],[88,2,88,10],[89,2,89,3],[89,4,89,5],[90,2,90,3],[90,4,90,5],[92,3,92,4],[93,0,97,0],[93,2,93,10],[94,2,94,3],[94,4,94,5],[95,2,95,3],[95,4,95,5],[97,3,97,4],[98,0,102,0],[98,2,98,10],[99,2,99,3],[99,4,99,5],[100,2,100,3],[100,4,100,5],[102,3,102,4],[103,0,107,0],[103,2,103,10],[104,2,104,3],[104,4,104,5],[105,2,105,3],[105,4,105,5],[107,3,107,4],[108,0,112,0],[108,2,108,10],[109,2,109,3],[109,4,109,5],[110,2,110,3],[110,4,110,5],[112,3,112,4],[113,0,118,0],[115,2,115,3],[115,4,115,5],[116,2,116,3],[116,4,116,5],[118,3,118,4],[119,0,124,0],[121,2,121,3],[121,4,121,5],[122,2,122,3],[122,4,122,5],[124,3,124,4]]}
[]
[{"$f":"IF(L2=\"\",\"印刷されましたら，「NW控」の裏面に施設組合印および御社の社印を押印してください。\",\"必要事項をすべて入力すると，右の表示が消えます。\")","v":"必要事項をすべて入力すると，右の表示が消えます。"},null,null,null,null,null,null,null,null,null,null,{"$f":"IF(M2=\"\",\"\",M2)","v":"入力に不備があります。"},{"$f":"IF(COUNTBLANK(M3:M4)+COUNTBLANK(M7:M31)+COUNTBLANK(M33:M125)=120,\"\",\"入力に不備があります。\")","v":"入力に不備があります。"},null,"ドロップダウンリスト"]
["ご契約名義","フリガナ",null,null,null,null,null,null,null,null,null,"←入力してください。",{"$f":"IF(C3=\"\",\"←入力してください。\",IF(LEN(ASC(C3))>40,\"←「゛」「゜」を含め，40文字以内としてください。\",\"\"))","v":"←入力してください。"},null,"支払方法","契約種別","業種","供給電気方式・供給電圧","契約決定方法","本契約前の臨時契約の有無","出力","力率","JIS","コンデンサ","力率"]
[null,"漢字",null,null,null,null,null,null,null,null,null,"←入力してください。",{"$f":"IF(C4=\"\",\"←入力してください。\",\"\")","v":"←入力してください。"}]
[null,"代表者肩書",null,null,null,null,null,null,null,null,null,"ご契約者が個人名ではない場合は入力してください。",{"$f":"IF(C5=\"\",\"ご契約者が個人名ではない場合は入力してください。\",\"\")","v":"ご契約者が個人名ではない場合は入力してください。"},null,"振込用紙","低圧電力","農林水産業","単相2線式100Ｖ","主開閉器契約","有","㏋",1,"適合","内蔵",0.9]
[null,"代表者名",null,null,null,null,null,null,null,null,null,"ご契約者が個人名ではない場合は入力してください。",{"$f":"IF(C6=\"\",\"ご契約者が個人名ではない場合は入力してください。\",\"\")","v":"ご契約者が個人名ではない場合は入力してください。"},null,"口座振替","農事用電力","製造業","単相2線式200Ｖ","負荷設備契約","無","kW",0.9,"不適合","外付",0.85]
["ご使用場所","郵便番号",null,null,null,null,null,null,null,null,null,"←入力してください。",{"$f":"IF(C7=\"\",\"←入力してください。\",IF(OR(AND(MID(C7,4,1)<>\"-\",LEN(C7)<>7),AND(MID(C7,4,1)=\"-\",LEN(C7)<>8)),\"←入力誤りです。\",\"\"))","v":"←入力してください。"},null,"クレジット",null,"卸・小売業","単相3線式100V・200V",null,null,null,0.85,null,"なし",0.8]
[null,"住所",null,null,null,null,null,null,null,null,null,"←入力してください。",{"$f":"IF(C8=\"\",\"←入力してください。\",\"\")","v":"←入力してください。"},null,null,null,"融雪用","3相3線式200V",null,null,null,0.8]
["電話番号","固定",null,"-",null,null,"-",null,null,null,null,"",{"$f":"IF(OR(C9=\"\",E9=\"\",H9=\"\"),\"\",IF(OR(LEN(H9)<>4,LEN(C9)+LEN(E9)+LEN(H9)<>10),\"←入力内容が不正です。\",\"\"))","v":""},null,null,null,"冷暖房用"]
[null,"携帯",null,"-",null,null,"-",null,null,null,null,"",{"$f":"IF(OR(C10=\"\",E10=\"\",K10=\"\"),\"\",IF(OR(LEN(K10)<>4,LEN(C10)+LEN(E10)+LEN(K10)<>11),\"←入力内容が不正です。\",\"\"))","v":""},null,null,null,"時報用・警報用"]
["電気工事会社","会社名",null,null,null,null,null,null,null,null,null,"←入力してください。",{"$f":"IF(C11=\"\",\"←入力してください。\",\"\")","v":"←入力してください。"},null,null,null,"その他"]
[null,"担当者",null,null,null,null,null,null,null,null,null,"←入力してください。",{"$f":"IF(C12=\"\",\"←入力してください。\",\"\")","v":"←入力してください。"},null,null,null,null,"加重平均力率の算定"]
[null,"工事会社№",null,"-",null,null,null,null,null,null,null,"←入力してください。",{"$f":"IF(OR(C13=\"\",E13=\"\"),\"←入力してください。\",IF(OR(LEN(C13)<>2,LEN(E13)<>3),\"←入力内容が不正です。\",\"\"))","v":"←入力してください。"},null,null,null,null,1,{"$f":"IF(O42=2,P41,0)+IF(O47=2,P46,0)+IF(O52=2,P51,0)+IF(O57=2,P56,0)+IF(O62=2,P61,0)+IF(O67=2,P66,0)+IF(O72=2,P71,0)+IF(O77=2,P76,0)+IF(O82=2,P81,0)+IF(O87=2,P86,0)+IF(O92=2,P91,0)+IF(O97=2,P96,0)+IF(O102=2,P101,0)+IF(O107=2,P106,0)+IF(O112=2,P111,0)","v":0},{"$f":"S13*1","v":0}]
[null,"住所",null,null,null,null,null,null,null,null,null,"←入力してください。",{"$f":"IF(C14=\"\",\"←入力してください。\",\"\")","v":"←入力してください。"},null,null,null,null,0.9,{"$f":"IF(O42=3,P41,0)+IF(O47=3,P46,0)+IF(O52=3,P51,0)+IF(O57=3,P56,0)+IF(O62=3,P61,0)+IF(O67=3,P66,0)+IF(O72=3,P71,0)+IF(O77=3,P76,0)+IF(O82=3,P81,0)+IF(O87=3,P86,0)+IF(O92=3,P91,0)+IF(O97=3,P96,0)+IF(O102=3,P101,0)+IF(O107=3,P106,0)+IF(O112=3,P111,0)+IF(O118=2,P117,0)+IF(O124=2,P123,0)","v":0},{"$f":"ROUND(S14*0.9,3)","v":0}]
[null,"電話",null,"-",null,null,"-",null,null,null,null,"←入力してください。",{"$f":"IF(AND(C15=\"\",E15=\"\",H15=\"\"),\"←入力してください。\",IF(OR(LEN(H15)<>4,LEN(C15)+LEN(E15)+LEN(H15)<10,LEN(C15)+LEN(E15)+LEN(H15)>11),\"←入力内容が不正です。\",\"\"))","v":"←入力してください。"},null,null,null,null,0.85,{"$f":"IF(O42=4,P41,0)+IF(O47=4,P46,0)+IF(O52=4,P51,0)+IF(O57=4,P56,0)+IF(O62=4,P61,0)+IF(O67=4,P66,0)+IF(O72=4,P71,0)+IF(O77=4,P76,0)+IF(O82=4,P81,0)+IF(O87=4,P86,0)+IF(O92=4,P91,0)+IF(O97=4,P96,0)+IF(O102=4,P101,0)+IF(O107=4,P106,0)+IF(O112=4,P111,0)+IF(O118=3,P117,0)+IF(O124=3,P123,0)","v":0},{"$f":"ROUND(S15*0.85,3)","v":0}]
["建築会社","会社名",null,null,null,null,null,null,null,null,null,"",{"$f":"IF(AND(C17=\"\",C18=\"\",E18=\"\",H18=\"\"),\"\",IF(C16=\"\",\"←入力してください。\",\"\"))","v":""},null,null,null,null,0.8,{"$f":"IF(O42=5,P41,0)+IF(O47=5,P46,0)+IF(O52=5,P51,0)+IF(O57=5,P56,0)+IF(O62=5,P61,0)+IF(O67=5,P66,0)+IF(O72=5,P71,0)+IF(O77=5,P76,0)+IF(O82=5,P81,0)+IF(O87=5,P86,0)+IF(O92=5,P91,0)+IF(O97=5,P96,0)+IF(O102=5,P101,0)+IF(O107=5,P106,0)+IF(O112=5,P111,0)+IF(O118=4,P117,0)+IF(O124=4,P123,0)","v":0},{"$f":"ROUND(S16*0.8,3)","v":0}]
[null,"担当者",null,null,null,null,null,null,null,null,null,"",{"$f":"IF(AND(C16=\"\",C18=\"\",E18=\"\",H18=\"\"),\"\",IF(C17=\"\",\"←入力してください。\",\"\"))","v":""},null,null,null,null,"合計",{"$f":"IF(SUM(S13:S16)=0,\"\",ROUND(SUM(T13:T16)/SUM(S13:S16),2))","v":""}]
[null,"電話",null,"-",null,null,"-",null,null,null,null,"",{"$f":"IF(LEN(C18)+LEN(E18)+LEN(H18)=0,\"\",IF(OR(LEN(H18)<>4,LEN(C18)+LEN(E18)+LEN(H18)<10,LEN(C18)+LEN(E18)+LEN(H18)>11),\"←入力内容が不正です。\",\"\"))","v":""},null,"ドロップダウンデータ反映列",null,null,"台数圧縮"]
["お支払方法",null,null,null,null,null,null,null,null,null,null,"←選択してください。",{"$f":"IF(O19=1,\"←選択してください。\",IF(AND(O19=4,O30=3),\"←農事用電力の場合，選択できません。\",\"\"))","v":"←選択してください。"},null,1,null,null,"最初の2台",{"$f":"IF(V20>1,U20*2,U20+Y20)","v":0},{"$f":"ROUND(S19*1,3)","v":0},"1番目",null,null,null,"2番目",null,null,null,"3番目",null,null,null,"4番目"]
["支払者名","フリガナ",null,null,null,null,null,null,null,null,null,"",{"$f":"IF(AND(C20=\"\",C21=\"\"),\"\",IF(AND(C20=\"\",C21<>\"同上\"),\"←入力してください。\",IF(LEN(ASC(C20))>40,\"←「゛」「゜」を含め，40文字以内としてください。\",\"\")))","v":""},null,null,null,null,"次の２台",{"$f":"IF(V20>3,U20*2,IF(V20=3,U20+Y20,IF(V20=2,IF(Z20>1,Y20*2,Y20+AC20),IF(Z20>2,Y20*2,IF(Z20=2,Y20+AC20,IF(Z20=1,IF(AD20>1,AC20*2,AC20+AG20)))))))","v":0},{"$f":"ROUND(S20*0.95,3)","v":0},{"$f":"MAX(U21:X38)","v":0},{"$f":"COUNTIF(U21:X38,U20)","v":68},null,null,{"$f":"MAX(Y21:Y38)+U20","v":-100},{"$f":"COUNTIF(Y21:AB39,Y20-U20)","v":68},null,null,{"$f":"MAX(AC21:AF38)+Y20","v":-200},{"$f":"COUNTIF(AC21:AF38,AC20-Y20)","v":68},null,null,{"$f":"MAX(AG21:AJ38)+AC20","v":-300},{"$f":"COUNTIF(AG21:AJ38,AG20-AC20)","v":68}]
[null,"漢字",null,null,null,null,null,null,null,null,null,"←入力してください。",{"$f":"IF(C21=\"\",\"←入力してください。\",\"\")","v":"←入力してください。"},null,null,null,null,"残り",{"$f":"S35-S19-S20","v":0},{"$f":"ROUND(S21*0.9,3)","v":0},{"$f":"P40","v":0},{"$f":"IF(C43>1,P40,0)","v":0},{"$f":"IF(C43>2,P40,0)","v":0},{"$f":"IF(C43>3,P40,0)","v":0},{"$f":"IF(U21-$U$20=0,-100,U21-$U$20)","v":-100},{"$f":"IF(V21-$U$20=0,-100,V21-$U$20)","v":-100},-100,-100,{"$f":"IF(Y21-$Y$20+$U$20=0,-100,Y21-$Y$20+$U$20)","v":-100},{"$f":"IF(Z21-$Y$20+$U$20=0,-100,Z21-$Y$20+$U$20)","v":-100},-100,-100,{"$f":"IF(AC21-$AC$20+$Y$20=0,-100,AC21-$AC$20+$Y$20)","v":-100},{"$f":"IF(AD21-$AC$20+$Y$20=0,-100,AD21-$AC$20+$Y$20)","v":-100},-100,-100]
["請求書送付先","郵便番号",null,null,null,null,null,null,null,null,null,"",{"$f":"IF(AND(C22=\"\",C23=\"\"),\"\",IF(AND(C22=\"\",C23<>\"同上\"),\"←入力してください。\",IF(C22=\"\",\"\",IF(OR(AND(MID(C22,4,1)<>\"-\",LEN(C22)<>7),AND(MID(C22,4,1)=\"-\",LEN(C22)<>8)),\"←入力誤りです。\",\"\"))))","v":""},null,null,null,null,"合計",null,{"$f":"SUM(T19:T21)","v":0},{"$f":"P45","v":0},{"$f":"IF(C48>1,P45,0)","v":0},{"$f":"IF(C48>2,P45,0)","v":0},{"$f":"IF(C48>3,P45,0)","v":0},-100,-100,-100,-100,-100,-100,-100,-100,-100,-100,-100,-100]
[null,"住所",null,null,null,null,null,null,null,null,null,"←入力してください。",{"$f":"IF(C23=\"\",\"←入力してください。\",\"\")","v":"←入力してください。"},null,null,null,null,null,null,null,{"$f":"P50","v":0},{"$f":"IF(C53>1,P50,0)","v":0},{"$f":"IF(C53>2,P50,0)","v":0},{"$f":"IF(C53>3,P50,0)","v":0},-100,-100,-100,-100,-100,-100,-100,-100,-100,-100,-100,-100]
[null,"電話",null,"-",null,null,"-",null,null,null,null,"",{"$f":"IF(AND(C23=\"\",C24=\"\",E24=\"\",H24=\"\"),\"\",IF(C23=\"同上\",\"\",IF(AND(C24=\"\",E24=\"\",H24=\"\"),\"←入力してください。\",IF(OR(LEN(H24)<>4,LEN(C24)+LEN(E24)+LEN(H24)<10,LEN(C24)+LEN(E24)+LEN(H24)>11),\"←入力内容が不正です。\",\"\"))))","v":""},null,null,null,null,"容量圧縮",{"$f":"IF(T22<6,T22,IF(T22<20,(T22-6)*0.9+6,IF(T22<50,(T22-20)*0.8+6+14*0.9,(T22-50)*0.7+6+14*0.9+30*0.8)))","v":0},null,{"$f":"P55","v":0},{"$f":"IF(C58>1,P55,0)","v":0},{"$f":"IF(C58>2,P55,0)","v":0},{"$f":"IF(C58>3,P55,0)","v":0},-100,-100,-100,-100,-100,-100,-100,-100,-100,-100,-100,-100]
["ご連絡先","住所",null,null,null,null,null,null,null,null,null,"←入力してください。",{"$f":"IF(C25=\"\",\"←入力してください。\",\"\")","v":"←入力してください。"},null,null,null,null,null,null,null,{"$f":"P60","v":0},{"$f":"IF(C63>1,P60,0)","v":0},{"$f":"IF(C63>2,P60,0)","v":0},{"$f":"IF(C63>3,P60,0)","v":0},-100,-100,-100,-100,-100,-100,-100,-100,-100,-100,-100,-100]
[null,"電話",null,"-",null,null,"-",null,null,null,null,"",{"$f":"IF(AND(C25=\"\",C26=\"\",E26=\"\",H26=\"\"),\"\",IF(OR(C25=\"同上\",C25=\"同左\"),\"\",IF(AND(C26=\"\",E26=\"\",H26=\"\"),\"←入力してください。\",IF(OR(LEN(H26)<>4,LEN(C26)+LEN(E26)+LEN(H26)<10,LEN(C26)+LEN(E26)+LEN(H26)>11),\"←入力内容が不正です。\",\"\"))))","v":""},null,null,null,null,"主開閉器契約",{"$f":"IF(O32=2,C34*100/1000,IF(OR(O32=3,O32=4),C34*200/1000,IF(O32=5,C34*200*1.732/1000,0)))","v":0},null,{"$f":"P65","v":0},{"$f":"IF(C68>1,P65,0)","v":0},{"$f":"IF(C68>2,P65,0)","v":0},{"$f":"IF(C68>3,P65,0)","v":0},-100,-100,-100,-100,-100,-100,-100,-100,-100,-100,-100,-100]
["電設Ｎｅｔ申込",null,null,null,null,null,null,null,null,null,null,{"$f":"IF(M27=\"\",\"\",M27)","v":"←選択してください。"},{"$f":"IF(O27=1,\"←選択してください。\",\"\")","v":"←選択してください。"},null,1]
["電設工事番号",null,null,null,null,null,null,null,null,null,null,{"$f":"IF(M28=\"\",\"\",M28)","v":""},{"$f":"IF(OR(O27=1,O27=3),\"\",IF(LEN(ASC(C28))>10,\"←10桁の番号を入力してください。\",\"\"))","v":""},null,null,null,null,null,null,null,{"$f":"P70","v":0},{"$f":"IF(C73>1,P70,0)","v":0},{"$f":"IF(C73>2,P70,0)","v":0},{"$f":"IF(C73>3,P70,0)","v":0},-100,-100,-100,-100,-100,-100,-100,-100,-100,-100,-100,-100]
["受電希望日",null,null,"年",null,null,"月",null,"日",null,null,"←入力してください。",{"$f":"IF(OR(C29=\"\",E29=\"\",H29=\"\"),\"←入力してください。\",IF(AND(ISNUMBER(C29),ISNUMBER(E29),ISNUMBER(H29)),IF(OR(C29<1,E29<1,E29>12,H29<1,H29>31),\"←入力内容が不正です。\",\"\"),\"←数字を入力してください。\"))","v":"←入力してください。"},null,1,"業種表示用",null,"負荷設備契約自動計算可否確認",{"$f":"IF(OR(AND(P40=0,C43<>\"\"),AND(P45=0,C48<>\"\"),AND(P50=0,C53<>\"\"),AND(P55=0,C58<>\"\"),AND(P60=0,C63<>\"\"),AND(P65=0,C68<>\"\"),AND(P70=0,C73<>\"\"),AND(P75=0,C78<>\"\"),AND(P80=0,C83<>\"\"),AND(P85=0,C88<>\"\"),AND(P90=0,C93<>\"\"),AND(P95=0,C98<>\"\"),AND(P100=0,C103<>\"\"),AND(P105=0,C108<>\"\"),AND(P110=0,C113<>\"\"),AND(P116=0,C119<>\"\"),AND(P122=0,C125<>\"\")),\"\",S24)","v":0},null,{"$f":"P75","v":0},{"$f":"IF(C78>1,P75,0)","v":0},{"$f":"IF(C78>2,P75,0)","v":0},{"$f":"IF(C78>3,P75,0)","v":0},-100,-100,-100,-100,-100,-100,-100,-100,-100,-100,-100,-100]
["契約種別",null,null,null,null,null,null,null,null,null,null,"←選択してください。",{"$f":"IF(O30=1,\"←選択してください。\",\"\")","v":"←選択してください。"},null,1,{"$f":"IF(O31=2,Q5,IF(O31=3,Q6,IF(O31=4,Q7,IF(O31=5,Q8,IF(O31=6,Q9,IF(O31=7,Q10,IF(O31=8,K31,\"\")))))))","v":""},null,"加重平均力率自動計算可否確認",{"$f":"IF(OR(AND(O42>1,P40=0),AND(O47>1,P45=0),AND(O52>1,P50=0),AND(O57>1,P55=0),AND(O62>1,P60=0),AND(O67>1,P65=0),AND(O72>1,P70=0),AND(O77>1,P75=0),AND(O82>1,P80=0),AND(O87>1,P85=0),AND(O92>1,P90=0),AND(O97>1,P95=0),AND(O102>1,P100=0),AND(O107>1,P105=0),AND(O112>1,P110=0),AND(O118>1,P116=0),AND(O124>1,P122=0)),\"\",S17)","v":""},null,{"$f":"P80","v":0},{"$f":"IF(C83>1,P80,0)","v":0},{"$f":"IF(C83>2,P80,0)","v":0},{"$f":"IF(C83>3,P80,0)","v":0},-100,-100,-100,-100,-100,-100,-100,-100,-100,-100,-100,-100]
["業種",null,null,null,null,null,null,null,null,null,null,{"$f":"IF(M31=\"\",\"\",M31)","v":"←選択してください。"},{"$f":"IF(O31=1,\"←選択してください。\",IF(AND(O31=8,K31=\"\"),\"←具体的な業種を入力してください。\",\"\"))","v":"←選択してください。"},null,1,null,null,null,null,null,{"$f":"P85","v":0},{"$f":"IF(C88>1,P85,0)","v":0},{"$f":"IF(C88>2,P85,0)","v":0},{"$f":"IF(C88>3,P85,0)","v":0},-100,-100,-100,-100,-100,-100,-100,-100,-100,-100,-100,-100]
["供給電気方式・供給電圧",null,null,null,null,null,null,null,null,null,null,"←選択してください。",{"$f":"IF(O32=1,\"←選択してください。\",IF(O32<>5,\"←間違いありませんか？\",\"\"))","v":"←選択してください。"},null,1,null,null,"契約電力確定",{"$f":"IF(O33=2,IF(AND(S26>0,S26<=0.5),0.5,ROUND(S26,0)),IF(O33=3,IF(AND(S29>0,S29<=0.5),0.5,ROUND(S29,0)),\"\"))","v":""},null,{"$f":"P90","v":0},{"$f":"IF(C93>1,P90,0)","v":0},{"$f":"IF(C93>2,P90,0)","v":0},{"$f":"IF(C93>3,P90,0)","v":0},-100,-100,-100,-100,-100,-100,-100,-100,-100,-100,-100,-100]
["契約決定方法",null,null,null,null,null,null,null,null,null,null,{"$f":"IF(M33=\"\",\"\",M33)","v":"←選択してください。"},{"$f":"IF(O33=1,\"←選択してください。\",\"\")","v":"←選択してください。"},null,1,null,null,null,null,null,{"$f":"P95","v":0},{"$f":"IF(C98>1,P95,0)","v":0},{"$f":"IF(C98>2,P95,0)","v":0},{"$f":"IF(C98>3,P95,0)","v":0},-100,-100,-100,-100,-100,-100,-100,-100,-100,-100,-100,-100]
["主開閉器の定格電流",null,null,"Ａ",null,null,null,null,null,null,null,{"$f":"IF(M34=\"\",\"\",M34)","v":""},{"$f":"IF(AND(C34=\"\",O33=2),\"←入力してください。\",IF(OR(C34=\"\",ISNUMBER(C34)),\"\",\"←数字を入力してください。\"))","v":""},null,null,null,null,null,null,null,{"$f":"P100","v":0},{"$f":"IF(C103>1,P100,0)","v":0},{"$f":"IF(C103>2,P100,0)","v":0},{"$f":"IF(C103>3,P100,0)","v":0},-100,-100,-100,-100,-100,-100,-100,-100,-100,-100,-100,-100]
["フリーエリア計器払出事業所名",null,null,null,null,null,null,null,null,null,null,"←希望がなければ「なし」と入力してください。",{"$f":"IF(C35=\"\",\"←希望がなければ「なし」と入力してください。\",\"\")","v":"←希望がなければ「なし」と入力してください。"},null,null,null,null,"入力合計",{"$f":"ROUND(IF(OR(AND(P40=0,C43<>\"\"),AND(P45=0,C48<>\"\"),AND(P50=0,C53<>\"\"),AND(P55=0,C58<>\"\"),AND(P60=0,C63<>\"\"),AND(P65=0,C68<>\"\"),AND(P70=0,C73<>\"\"),AND(P75=0,C78<>\"\"),AND(P80=0,C83<>\"\"),AND(P85=0,C88<>\"\"),AND(P90=0,C93<>\"\"),AND(P95=0,C98<>\"\"),AND(P100=0,C103<>\"\"),AND(P105=0,C108<>\"\"),AND(P110=0,C113<>\"\"),,AND(P116=0,C119<>\"\"),AND(P122=0,C125<>\"\")),\"\",SUM(P41,P46,P51,P56,P61,P66,P71,P76,P81,P86,P91,P96,P101,P106,P111,P117,P123)),3)","v":0},null,{"$f":"P105","v":0},{"$f":"IF(C108>1,P105,0)","v":0},{"$f":"IF(C108>2,P105,0)","v":0},{"$f":"IF(C108>3,P105,0)","v":0},-100,-100,-100,-100,-100,-100,-100,-100,-100,-100,-100,-100]
["農事用電力の\n契約使用期間","開始日",null,"月",null,null,"日",null,null,null,null,{"$f":"IF(M36=\"\",\"\",M36)","v":""},{"$f":"IF(O30<>3,\"\",IF(OR(C36=\"\",E36=\"\"),\"←入力してください。\",IF(OR(C36=\"\",E36=\"\",AND(ISNUMBER(C36),ISNUMBER(E36))),IF(OR(C36<1,C36>12,E36<1,E36>31),\"←入力内容が不正です。\",\"\"),\"←数字を入力してください。\")))","v":""},null,null,null,null,null,null,null,{"$f":"P110","v":0},{"$f":"IF(C113>1,P110,0)","v":0},{"$f":"IF(C113>2,P110,0)","v":0},{"$f":"IF(C113>3,P110,0)","v":0},-100,-100,-100,-100,-100,-100,-100,-100,-100,-100,-100,-100]
[null,"終了日",null,"月",null,null,"日",null,null,null,null,{"$f":"IF(M37=\"\",\"\",M37)","v":""},{"$f":"IF(O30<>3,\"\",IF(OR(C37=\"\",E37=\"\"),\"←入力してください。\",IF(OR(C37=\"\",E37=\"\",AND(ISNUMBER(C37),ISNUMBER(E37))),IF(OR(C37<1,C37>12,E37<1,E37>31),\"←入力内容が不正です。\",\"\"),\"←数字を入力してください。\")))","v":""},null,1,null,null,"配電Ｎｅｔ申込",null,null,{"$f":"P116","v":0},{"$f":"IF(C119>1,P116,0)","v":0},{"$f":"IF(C119>2,P116,0)","v":0},{"$f":"IF(C119>3,P116,0)","v":0},-100,{"$f":"IF(V37-$U$20=0,-100,V37-$U$20)","v":-100},-100,-100,{"$f":"IF(Y37-$Y$20+$U$20=0,-100,Y37-$Y$20+$U$20)","v":-100},{"$f":"IF(Z37-$Y$20+$U$20=0,-100,Z37-$Y$20+$U$20)","v":-100},-100,-100,-100,{"$f":"IF(AD37-$AC$20+$Y$20=0,-100,AD37-$AC$20+$Y$20)","v":-100},-100,-100]
["本契約前の臨時契約の有無",null,null,null,null,null,null,null,null,null,null,"←選択してください。",{"$f":"IF(O38=1,\"←選択してください。\",\"\")","v":"←選択してください。"},null,1,null,null,null,null,null,{"$f":"P122","v":0},{"$f":"IF(C125>1,P122,0)","v":0},{"$f":"IF(C125>2,P122,0)","v":0},{"$f":"IF(C125>3,P122,0)","v":0},-100,-100,-100,-100,{"$f":"IF(Y38-$Y$20+$U$20=0,-100,Y38-$Y$20+$U$20)","v":-100},-100,-100,-100,-100,-100,-100,-100]
["契約負荷設備\n１","機器種別",null,null,null,null,null,null,null,null,null,{"$f":"IF(M39=\"\",\"\",M39)","v":"契約負荷設備の内訳を入力してください。"},{"$f":"IF(AND(C43=\"\",C48=\"\",C53=\"\",C58=\"\",C63=\"\",C68=\"\",C73=\"\",C78=\"\",C83=\"\",C88=\"\",C93=\"\",C98=\"\",C103=\"\",C108=\"\",C113=\"\",C119=\"\",C125=\"\"),\"契約負荷設備の内訳を入力してください。\",\"\")","v":"契約負荷設備の内訳を入力してください。"},null,1,"入力値算定",null,"有"]
[null,"出力",null,null,null,null,null,null,null,null,null,{"$f":"IF(M40=\"\",\"\",M40)","v":""},{"$f":"IF(C40=\"\",\"\",IF(ISNUMBER(C40),IF(O40=1,\"←単位を選択してください。\",IF(AND(O40=2,O42=2),\"←単位または力率が間違っています。\",\"\")),\"←数字を入力してください。\"))","v":""},null,1,{"$f":"IF(C41<>\"\",C41,IF(O42=2,C40,IF(O40=2,ROUND(C40*0.933,3),0)))","v":0},null,"無"]
[null,"入力",null,null,"kW",null,null,null,null,null,null,{"$f":"IF(M41=\"\",\"\",M41)","v":""},{"$f":"IF(OR(C41=\"\",ISNUMBER(C41)),\"\",\"←数字を入力してください。\")","v":""},null,1,{"$f":"IF(P40*C43=0,\"\",P40*C43)","v":""}]
[null,"力率",null,null,null,null,null,null,null,null,null,{"$f":"IF(M42=\"\",\"\",M42)","v":""},{"$f":"IF(AND(C39<>\"\",O42=1),\"←選択してください。\",\"\")","v":""},null,1]
[null,"台数",null,"台",null,null,null,null,null,null,null,{"$f":"IF(M43=\"\",\"\",M43)","v":""},{"$f":"IF(AND(C39<>\"\",C43=\"\"),\"←入力してください。\",IF(OR(C43=\"\",ISNUMBER(C43)),\"\",\"←数字を入力してください。\"))","v":""}]
["契約負荷設備\n２","機器種別",null,null,null,null,null,null,null,null,null,{"$f":"IF(M44=\"\",\"\",M44)","v":""},null,null,1,"入力値算定"]
[null,"出力",null,null,null,null,null,null,null,null,null,"",{"$f":"IF(C45=\"\",\"\",IF(ISNUMBER(C45),IF(O45=1,\"←単位を選択してください。\",IF(AND(O45=2,O47=2),\"←単位または力率が間違っています。\",\"\")),\"←数字を入力してください。\"))","v":""},null,1,{"$f":"IF(C46<>\"\",C46,IF(O47=2,C45,IF(O45=2,ROUND(C45*0.933,3),0)))","v":0}]
[null,"入力",null,null,"kW",null,null,null,null,null,null,"",{"$f":"IF(OR(C46=\"\",ISNUMBER(C46)),\"\",\"←数字を入力してください。\")","v":""},null,1,{"$f":"IF(P45*C48=0,\"\",P45*C48)","v":""}]
[null,"力率",null,null,null,null,null,null,null,null,null,"",{"$f":"IF(AND(C44<>\"\",O47=1),\"←選択してください。\",\"\")","v":""},null,1]
[null,"台数",null,"台",null,null,null,null,null,null,null,"",{"$f":"IF(AND(C44<>\"\",C48=\"\"),\"←入力してください。\",IF(OR(C48=\"\",ISNUMBER(C48)),\"\",\"←数字を入力してください。\"))","v":""}]
["契約負荷設備\n３","機器種別",null,null,null,null,null,null,null,null,null,"",null,null,1,"入力値算定"]
[null,"出力",null,null,null,null,null,null,null,null,null,"",{"$f":"IF(C50=\"\",\"\",IF(ISNUMBER(C50),IF(O50=1,\"←単位を選択してください。\",IF(AND(O50=2,O52=2),\"←単位または力率が間違っています。\",\"\")),\"←数字を入力してください。\"))","v":""},null,1,{"$f":"IF(C51<>\"\",C51,IF(O52=2,C50,IF(O50=2,ROUND(C50*0.933,3),0)))","v":0}]
[null,"入力",null,null,"kW",null,null,null,null,null,null,"",{"$f":"IF(OR(C51=\"\",ISNUMBER(C51)),\"\",\"←数字を入力してください。\")","v":""},null,1,{"$f":"IF(P50*C53=0,\"\",P50*C53)","v":""}]
[null,"力率",null,null,null,null,null,null,null,null,null,"",{"$f":"IF(AND(C49<>\"\",O52=1),\"←選択してください。\",\"\")","v":""},null,1]
[null,"台数",null,"台",null,null,null,null,null,null,null,"",{"$f":"IF(AND(C49<>\"\",C53=\"\"),\"←入力してください。\",IF(OR(C53=\"\",ISNUMBER(C53)),\"\",\"←数字を入力してください。\"))","v":""}]
["契約負荷設備\n４","機器種別",null,null,null,null,null,null,null,null,null,"",null,null,1,"入力値算定"]
[null,"出力",null,null,null,null,null,null,null,null,null,"",{"$f":"IF(C55=\"\",\"\",IF(ISNUMBER(C55),IF(O55=1,\"←単位を選択してください。\",IF(AND(O55=2,O57=2),\"←単位または力率が間違っています。\",\"\")),\"←数字を入力してください。\"))","v":""},null,1,{"$f":"IF(C56<>\"\",C56,IF(O57=2,C55,IF(O55=2,ROUND(C55*0.933,3),0)))","v":0}]
[null,"入力",null,null,"kW",null,null,null,null,null,null,"",{"$f":"IF(OR(C56=\"\",ISNUMBER(C56)),\"\",\"←数字を入力してください。\")","v":""},null,1,{"$f":"IF(P55*C58=0,\"\",P55*C58)","v":""}]
[null,"力率",null,null,null,null,null,null,null,null,null,"",{"$f":"IF(AND(C54<>\"\",O57=1),\"←選択してください。\",\"\")","v":""},null,1]
[null,"台数",null,"台",null,null,null,null,null,null,null,"",{"$f":"IF(AND(C54<>\"\",C58=\"\"),\"←入力してください。\",IF(OR(C58=\"\",ISNUMBER(C58)),\"\",\"←数字を入力してください。\"))","v":""}]
["契約負荷設備\n５","機器種別",null,null,null,null,null,null,null,null,null,"",null,null,1,"入力値算定"]
[null,"出力",null,null,null,null,null,null,null,null,null,"",{"$f":"IF(C60=\"\",\"\",IF(ISNUMBER(C60),IF(O60=1,\"←単位を選択してください。\",IF(AND(O60=2,O62=2),\"←単位または力率が間違っています。\",\"\")),\"←数字を入力してください。\"))","v":""},null,1,{"$f":"IF(C61<>\"\",C61,IF(O62=2,C60,IF(O60=2,ROUND(C60*0.933,3),0)))","v":0}]
[null,"入力",null,null,"kW",null,null,null,null,null,null,"",{"$f":"IF(OR(C61=\"\",ISNUMBER(C61)),\"\",\"←数字を入力してください。\")","v":""},null,1,{"$f":"IF(P60*C63=0,\"\",P60*C63)","v":""}]
[null,"力率",null,null,null,null,null,null,null,null,null,"",{"$f":"IF(AND(C59<>\"\",O62=1),\"←選択してください。\",\"\")","v":""},null,1]
[null,"台数",null,"台",null,null,null,null,null,null,null,"",{"$f":"IF(AND(C59<>\"\",C63=\"\"),\"←入力してください。\",IF(OR(C63=\"\",ISNUMBER(C63)),\"\",\"←数字を入力してください。\"))","v":""}]
["契約負荷設備\n６","機器種別",null,null,null,null,null,null,null,null,null,"",null,null,1,"入力値算定"]
[null,"出力",null,null,null,null,null,null,null,null,null,"",{"$f":"IF(C65=\"\",\"\",IF(ISNUMBER(C65),IF(O65=1,\"←単位を選択してください。\",IF(AND(O65=2,O67=2),\"←単位または力率が間違っています。\",\"\")),\"←数字を入力してください。\"))","v":""},null,1,{"$f":"IF(C66<>\"\",C66,IF(O67=2,C65,IF(O65=2,ROUND(C65*0.933,3),0)))","v":0}]
[null,"入力",null,null,"kW",null,null,null,null,null,null,"",{"$f":"IF(OR(C66=\"\",ISNUMBER(C66)),\"\",\"←数字を入力してください。\")","v":""},null,1,{"$f":"IF(P65*C68=0,\"\",P65*C68)","v":""}]
[null,"力率",null,null,null,null,null,null,null,null,null,"",{"$f":"IF(AND(C64<>\"\",O67=1),\"←選択してください。\",\"\")","v":""},null,1]
[null,"台数",null,"台",null,null,null,null,null,null,null,"",{"$f":"IF(AND(C64<>\"\",C68=\"\"),\"←入力してください。\",IF(OR(C68=\"\",ISNUMBER(C68)),\"\",\"←数字を入力してください。\"))","v":""}]
["契約負荷設備\n７","機器種別",null,null,null,null,null,null,null,null,null,"",null,null,1,"入力値算定"]
[null,"出力",null,null,null,null,null,null,null,null,null,"",{"$f":"IF(C70=\"\",\"\",IF(ISNUMBER(C70),IF(O70=1,\"←単位を選択してください。\",IF(AND(O70=2,O72=2),\"←単位または力率が間違っています。\",\"\")),\"←数字を入力してください。\"))","v":""},null,1,{"$f":"IF(C71<>\"\",C71,IF(O72=2,C70,IF(O70=2,ROUND(C70*0.933,3),0)))","v":0}]
[null,"入力",null,null,"kW",null,null,null,null,null,null,"",{"$f":"IF(OR(C71=\"\",ISNUMBER(C71)),\"\",\"←数字を入力してください。\")","v":""},null,1,{"$f":"IF(P70*C73=0,\"\",P70*C73)","v":""}]
[null,"力率",null,null,null,null,null,null,null,null,null,"",{"$f":"IF(AND(C69<>\"\",O72=1),\"←選択してください。\",\"\")","v":""},null,1]
[null,"台数",null,"台",null,null,null,null,null,null,null,"",{"$f":"IF(AND(C69<>\"\",C73=\"\"),\"←入力してください。\",IF(OR(C73=\"\",ISNUMBER(C73)),\"\",\"←数字を入力してください。\"))","v":""}]
["契約負荷設備\n８","機器種別",null,null,null,null,null,null,null,null,null,"",null,null,1,"入力値算定"]
[null,"出力",null,null,null,null,null,null,null,null,null,"",{"$f":"IF(C75=\"\",\"\",IF(ISNUMBER(C75),IF(O75=1,\"←単位を選択してください。\",IF(AND(O75=2,O77=2),\"←単位または力率が間違っています。\",\"\")),\"←数字を入力してください。\"))","v":""},null,1,{"$f":"IF(C76<>\"\",C76,IF(O77=2,C75,IF(O75=2,ROUND(C75*0.933,3),0)))","v":0}]
[null,"入力",null,null,"kW",null,null,null,null,null,null,"",{"$f":"IF(OR(C76=\"\",ISNUMBER(C76)),\"\",\"←数字を入力してください。\")","v":""},null,1,{"$f":"IF(P75*C78=0,\"\",P75*C78)","v":""}]
[null,"力率",null,null,null,null,null,null,null,null,null,"",{"$f":"IF(AND(C74<>\"\",O77=1),\"←選択してください。\",\"\")","v":""},null,1]
[null,"台数",null,"台",null,null,null,null,null,null,null,"",{"$f":"IF(AND(C74<>\"\",C78=\"\"),\"←入力してください。\",IF(OR(C78=\"\",ISNUMBER(C78)),\"\",\"←数字を入力してください。\"))","v":""}]
["契約負荷設備\n９","機器種別",null,null,null,null,null,null,null,null,null,"",null,null,1,"入力値算定"]
[null,"出力",null,null,null,null,null,null,null,null,null,"",{"$f":"IF(C80=\"\",\"\",IF(ISNUMBER(C80),IF(O80=1,\"←単位を選択してください。\",IF(AND(O80=2,O82=2),\"←単位または力率が間違っています。\",\"\")),\"←数字を入力してください。\"))","v":""},null,1,{"$f":"IF(C81<>\"\",C81,IF(O82=2,C80,IF(O80=2,ROUND(C80*0.933,3),0)))","v":0}]
[null,"入力",null,null,"kW",null,null,null,null,null,null,"",{"$f":"IF(OR(C81=\"\",ISNUMBER(C81)),\"\",\"←数字を入力してください。\")","v":""},null,1,{"$f":"IF(P80*C83=0,\"\",P80*C83)","v":""}]
[null,"力率",null,null,null,null,null,null,null,null,null,"",{"$f":"IF(AND(C79<>\"\",O82=1),\"←選択してください。\",\"\")","v":""},null,1]
[null,"台数",null,"台",null,null,null,null,null,null,null,"",{"$f":"IF(AND(C79<>\"\",C83=\"\"),\"←入力してください。\",IF(OR(C83=\"\",ISNUMBER(C83)),\"\",\"←数字を入力してください。\"))","v":""}]
["契約負荷設備\n１０","機器種別",null,null,null,null,null,null,null,null,null,"",null,null,1,"入力値算定"]
[null,"出力",null,null,null,null,null,null,null,null,null,"",{"$f":"IF(C85=\"\",\"\",IF(ISNUMBER(C85),IF(O85=1,\"←単位を選択してください。\",IF(AND(O85=2,O87=2),\"←単位または力率が間違っています。\",\"\")),\"←数字を入力してください。\"))","v":""},null,1,{"$f":"IF(C86<>\"\",C86,IF(O87=2,C85,IF(O85=2,ROUND(C85*0.933,3),0)))","v":0}]
[null,"入力",null,null,"kW",null,null,null,null,null,null,"",{"$f":"IF(OR(C86=\"\",ISNUMBER(C86)),\"\",\"←数字を入力してください。\")","v":""},null,1,{"$f":"IF(P85*C88=0,\"\",P85*C88)","v":""}]
[null,"力率",null,null,null,null,null,null,null,null,null,"",{"$f":"IF(AND(C84<>\"\",O87=1),\"←選択してください。\",\"\")","v":""},null,1]
[null,"台数",null,"台",null,null,null,null,null,null,null,"",{"$f":"IF(AND(C84<>\"\",C88=\"\"),\"←入力してください。\",IF(OR(C88=\"\",ISNUMBER(C88)),\"\",\"←数字を入力してください。\"))","v":""}]
["契約負荷設備\n１１","機器種別",null,null,null,null,null,null,null,null,null,"",null,null,1,"入力値算定"]
[null,"出力",null,null,null,null,null,null,null,null,null,"",{"$f":"IF(C90=\"\",\"\",IF(ISNUMBER(C90),IF(O90=1,\"←単位を選択してください。\",IF(AND(O90=2,O92=2),\"←単位または力率が間違っています。\",\"\")),\"←数字を入力してください。\"))","v":""},null,1,{"$f":"IF(C91<>\"\",C91,IF(O92=2,C90,IF(O90=2,ROUND(C90*0.933,3),0)))","v":0}]
[null,"入力",null,null,"kW",null,null,null,null,null,null,"",{"$f":"IF(OR(C91=\"\",ISNUMBER(C91)),\"\",\"←数字を入力してください。\")","v":""},null,1,{"$f":"IF(P90*C93=0,\"\",P90*C93)","v":""}]
[null,"力率",null,null,null,null,null,null,null,null,null,"",{"$f":"IF(AND(C89<>\"\",O92=1),\"←選択してください。\",\"\")","v":""},null,1]
[null,"台数",null,"台",null,null,null,null,null,null,null,"",{"$f":"IF(AND(C89<>\"\",C93=\"\"),\"←入力してください。\",IF(OR(C93=\"\",ISNUMBER(C93)),\"\",\"←数字を入力してください。\"))","v":""}]
["契約負荷設備\n１２","機器種別",null,null,null,null,null,null,null,null,null,"",null,null,1,"入力値算定"]
[null,"出力",null,null,null,null,null,null,null,null,null,"",{"$f":"IF(C95=\"\",\"\",IF(ISNUMBER(C95),IF(O95=1,\"←単位を選択してください。\",IF(AND(O95=2,O97=2),\"←単位または力率が間違っています。\",\"\")),\"←数字を入力してください。\"))","v":""},null,1,{"$f":"IF(C96<>\"\",C96,IF(O97=2,C95,IF(O95=2,ROUND(C95*0.933,3),0)))","v":0}]
[null,"入力",null,null,"kW",null,null,null,null,null,null,"",{"$f":"IF(OR(C96=\"\",ISNUMBER(C96)),\"\",\"←数字を入力してください。\")","v":""},null,1,{"$f":"IF(P95*C98=0,\"\",P95*C98)","v":""}]
[null,"力率",null,null,null,null,null,null,null,null,null,"",{"$f":"IF(AND(C94<>\"\",O97=1),\"←選択してください。\",\"\")","v":""},null,1]
[null,"台数",null,"台",null,null,null,null,null,null,null,"",{"$f":"IF(AND(C94<>\"\",C98=\"\"),\"←入力してください。\",IF(OR(C98=\"\",ISNUMBER(C98)),\"\",\"←数字を入力してください。\"))","v":""}]
["契約負荷設備\n１３","機器種別",null,null,null,null,null,null,null,null,null,"",null,null,1,"入力値算定"]
[null,"出力",null,null,null,null,null,null,null,null,null,"",{"$f":"IF(C100=\"\",\"\",IF(ISNUMBER(C100),IF(O100=1,\"←単位を選択してください。\",IF(AND(O100=2,O102=2),\"←単位または力率が間違っています。\",\"\")),\"←数字を入力してください。\"))","v":""},null,1,{"$f":"IF(C101<>\"\",C101,IF(O102=2,C100,IF(O100=2,ROUND(C100*0.933,3),0)))","v":0}]
[null,"入力",null,null,"kW",null,null,null,null,null,null,"",{"$f":"IF(OR(C101=\"\",ISNUMBER(C101)),\"\",\"←数字を入力してください。\")","v":""},null,1,{"$f":"IF(P100*C103=0,\"\",P100*C103)","v":""}]
[null,"力率",null,null,null,null,null,null,null,null,null,"",{"$f":"IF(AND(C99<>\"\",O102=1),\"←選択してください。\",\"\")","v":""},null,1]
[null,"台数",null,"台",null,null,null,null,null,null,null,"",{"$f":"IF(AND(C99<>\"\",C103=\"\"),\"←入力してください。\",IF(OR(C103=\"\",ISNUMBER(C103)),\"\",\"←数字を入力してください。\"))","v":""}]
["契約負荷設備\n１４","機器種別",null,null,null,null,null,null,null,null,null,"",null,null,1,"入力値算定"]
[null,"出力",null,null,null,null,null,null,null,null,null,"",{"$f":"IF(C105=\"\",\"\",IF(ISNUMBER(C105),IF(O105=1,\"←単位を選択してください。\",IF(AND(O105=2,O107=2),\"←単位または力率が間違っています。\",\"\")),\"←数字を入力してください。\"))","v":""},null,1,{"$f":"IF(C106<>\"\",C106,IF(O107=2,C105,IF(O105=2,ROUND(C105*0.933,3),0)))","v":0}]
[null,"入力",null,null,"kW",null,null,null,null,null,null,"",{"$f":"IF(OR(C106=\"\",ISNUMBER(C106)),\"\",\"←数字を入力してください。\")","v":""},null,1,{"$f":"IF(P105*C108=0,\"\",P105*C108)","v":""}]
[null,"力率",null,null,null,null,null,null,null,null,null,"",{"$f":"IF(AND(C104<>\"\",O107=1),\"←選択してください。\",\"\")","v":""},null,1]
[null,"台数",null,"台",null,null,null,null,null,null,null,{"$f":"IF(M108=\"\",\"\",M108)","v":""},{"$f":"IF(AND(C104<>\"\",C108=\"\"),\"←入力してください。\",IF(OR(C108=\"\",ISNUMBER(C108)),\"\",\"←数字を入力してください。\"))","v":""}]
["契約負荷設備\n１５","機器種別",null,null,null,null,null,null,null,null,null,"",null,null,1,"入力値算定"]
[null,"出力",null,null,null,null,null,null,null,null,null,"",{"$f":"IF(C110=\"\",\"\",IF(ISNUMBER(C110),IF(O110=1,\"←単位を選択してください。\",IF(AND(O110=2,O112=2),\"←単位または力率が間違っています。\",\"\")),\"←数字を入力してください。\"))","v":""},null,1,{"$f":"IF(C111<>\"\",C111,IF(O112=2,C110,IF(O110=2,ROUND(C110*0.933,3),0)))","v":0}]
[null,"入力",null,null,"kW",null,null,null,null,null,null,"",{"$f":"IF(OR(C111=\"\",ISNUMBER(C111)),\"\",\"←数字を入力してください。\")","v":""},null,1,{"$f":"IF(P110*C113=0,\"\",P110*C113)","v":""}]
[null,"力率",null,null,null,null,null,null,null,null,null,"",{"$f":"IF(AND(C109<>\"\",O112=1),\"←選択してください。\",\"\")","v":""},null,1]
[null,"台数",null,"台",null,null,null,null,null,null,null,"",{"$f":"IF(AND(C109<>\"\",C113=\"\"),\"←入力してください。\",IF(OR(C113=\"\",ISNUMBER(C113)),\"\",\"←数字を入力してください。\"))","v":""}]
["電気溶接機１","日本工業規格",null,null,null,null,null,null,null,null,null,{"$f":"IF(M114=\"\",\"\",M114)","v":""},{"$f":"IF(AND(C116<>\"\",O114=1),\"←選択してください。\",\"\")","v":""},null,1]
[null,"コンデンサ",null,null,null,null,null,null,null,null,null,{"$f":"IF(M115=\"\",\"\",M115)","v":""},{"$f":"IF(AND(C116<>\"\",O115=1),\"←選択してください。\",\"\")","v":""},null,1,"入力値算定"]
[null,"１次入力",null,null,"kVA",null,null,null,null,null,null,"",{"$f":"IF(OR(C116=\"\",ISNUMBER(C116)),\"\",\"←数字を入力してください。\")","v":""},null,1,{"$f":"IF(C117<>\"\",C117,IF(O115=2,\"\",ROUND(C116*0.7,3)))","v":0}]
[null,"入力",null,null,"KW",null,null,null,null,null,null,"",{"$f":"IF(OR(C117=\"\",ISNUMBER(C117)),\"\",\"←数字を入力してください。\")","v":""},null,1,{"$f":"IF(P116*C119=0,\"\",P116*C119)","v":""}]
[null,"力率",null,null,null,null,null,null,null,null,null,"",{"$f":"IF(AND(C116<>\"\",O118=1),\"←選択してください。\",\"\")","v":""},null,1]
[null,"台数",null,"台",null,null,null,null,null,null,null,"",{"$f":"IF(OR(C119=\"\",ISNUMBER(C119)),\"\",\"←数字を入力してください。\")","v":""},null,1]
["電気溶接機２","日本工業規格",null,null,null,null,null,null,null,null,null,"",{"$f":"IF(AND(C122<>\"\",O120=1),\"←選択してください。\",\"\")","v":""},null,1]
[null,"コンデンサ",null,null,null,null,null,null,null,null,null,"",{"$f":"IF(AND(C122<>\"\",O121=1),\"←選択してください。\",\"\")","v":""},null,1,"入力値算定"]
[null,"１次入力",null,null,"kVA",null,null,null,null,null,null,"",{"$f":"IF(OR(C122=\"\",ISNUMBER(C122)),\"\",\"←数字を入力してください。\")","v":""},null,1,{"$f":"IF(C123<>\"\",C123,IF(O121=2,\"\",ROUND(C122*0.7,3)))","v":0}]
[null,"入力",null,null,"KW",null,null,null,null,null,null,"",{"$f":"IF(OR(C123=\"\",ISNUMBER(C123)),\"\",\"←数字を入力してください。\")","v":""},null,1,{"$f":"IF(P122*C125=0,\"\",P122*C125)","v":""}]
[null,"力率",null,null,null,null,null,null,null,null,null,"",{"$f":"IF(AND(C122<>\"\",O124=1),\"←選択してください。\",\"\")","v":""},null,1]
[null,"台数",null,"台",null,null,null,null,null,null,null,"",{"$f":"IF(OR(C125=\"\",ISNUMBER(C125)),\"\",\"←数字を入力してください。\")","v":""},null,1]
[]
[null,null,null,null,null,null,null,null,null,null,null,null,null,null,1]
[null,null,null,null,null,null,null,null,null,null,null,null,null,null,1]

{"sheet":"１枚目","index":1,"n_rows":163,"n_cols":111,"rows_kept":163,"cut":false,"hidden":false,"merged":[[1,93,5,109],[25,104,26,104],[25,105,26,109],[31,110,32,110],[25,99,26,103],[25,110,26,110],[27,75,30,110],[25,98,26,98],[19,100,20,102],[19,103,20,103],[19,104,20,108],[25,89,26,92],[19,90,20,99],[21,75,22,110],[23,69,24,110],[31,93,32,97],[31,98,32,98],[31,89,32,92],[27,69,30,74],[25,93,26,97],[31,69,32,74],[31,75,32,88],[19,69,20,74],[25,69,26,88],[30,39,32,45],[30,55,32,55],[24,11,26,12],[24,21,26,22],[30,47,32,54],[22,11,23,19],[22,20,23,38],[22,39,23,46],[27,11,29,63],[30,46,32,46],[27,64,32,68],[30,56,32,63],[30,29,32,35],[16,64,26,68],[16,58,17,63],[22,47,23,63],[19,75,20,89],[21,69,22,74],[16,75,18,110],[31,99,32,103],[31,104,32,104],[19,109,20,110],[33,6,39,10],[38,59,39,62],[33,53,34,55],[33,56,34,56],[33,51,34,52],[33,57,34,60],[33,61,34,62],[30,6,32,10],[30,14,32,19],[30,20,32,20],[30,28,32,28],[33,35,34,35],[33,36,34,36],[33,37,34,37],[33,38,34,38],[33,39,34,39],[33,40,34,40],[33,41,34,41],[30,21,32,27],[33,45,34,45],[35,26,36,26],[35,27,36,27],[35,28,36,28],[35,29,36,29],[59,31,61,39],[109,6,111,14],[62,31,64,39],[41,101,48,102],[44,1,47,5],[40,1,43,30],[40,31,47,35],[46,28,47,30],[65,6,67,30],[40,51,47,55],[62,6,64,30],[45,6,47,11],[45,15,47,19],[45,23,47,27],[46,12,47,14],[46,20,47,22],[104,15,105,22],[86,6,88,30],[98,6,100,30],[101,6,103,30],[109,31,111,39],[104,23,105,30],[89,31,91,39],[142,4,144,110],[56,6,58,30],[119,4,120,27],[126,1,127,97],[117,1,124,3],[117,4,118,27],[123,4,124,27],[68,78,70,79],[62,71,64,77],[62,64,64,67],[62,78,64,79],[68,71,70,77],[65,71,67,77],[65,78,67,79],[62,55,64,63],[68,64,70,67],[68,68,70,70],[62,68,64,70],[109,15,111,22],[89,6,91,30],[104,6,105,14],[109,40,111,42],[106,40,108,42],[106,31,108,39],[164,0,165,110],[59,64,61,67],[56,64,58,70],[56,71,58,79],[59,78,61,79],[92,55,94,63],[56,55,58,63],[59,68,61,70],[65,64,67,67],[109,64,111,67],[162,0,163,110],[152,1,154,16],[65,68,67,70],[71,64,73,67],[65,55,67,63],[71,68,73,70],[71,55,73,63],[56,1,111,5],[130,1,131,97],[128,1,129,97],[121,4,122,27],[145,4,147,110],[136,4,138,110],[139,4,141,110],[6,0,9,110],[13,64,15,68],[13,69,15,84],[13,85,15,89],[10,1,11,25],[12,1,13,38],[16,1,39,5],[16,27,17,27],[16,28,17,28],[16,29,17,29],[16,30,17,30],[16,31,17,31],[16,32,17,32],[16,33,17,33],[24,23,26,63],[24,6,29,10],[16,38,17,38],[16,39,17,39],[16,40,17,40],[16,41,17,41],[16,42,17,42],[16,43,17,43],[38,51,39,58],[16,6,23,10],[95,31,97,39],[89,40,91,42],[95,40,97,42],[106,6,108,14],[106,15,108,22],[86,40,88,42],[80,40,82,42],[77,31,79,39],[71,43,73,51],[104,43,105,54],[83,31,85,39],[86,43,88,51],[92,40,94,42],[86,31,88,39],[68,31,70,39],[83,40,85,42],[74,43,76,51],[80,43,82,51],[83,43,85,51],[74,40,76,42],[86,55,88,63],[77,55,79,63],[98,40,100,42],[98,43,100,51],[101,43,103,51],[101,40,103,42],[98,52,100,54],[101,52,103,54],[104,55,105,63],[95,43,97,51],[77,43,79,51],[86,52,88,54],[77,52,79,54],[77,40,79,42],[89,43,91,51],[92,43,94,51],[89,52,91,54],[92,52,94,54],[92,71,94,77],[98,71,100,77],[106,55,108,63],[117,28,124,30],[121,36,124,38],[98,68,100,70],[109,55,111,63],[106,52,108,54],[98,31,100,39],[101,31,103,39],[109,23,111,30],[109,43,111,51],[109,52,111,54],[106,23,108,30],[92,31,94,39],[106,43,108,51],[104,31,105,42],[117,31,120,35],[101,55,103,63],[104,64,105,70],[95,52,97,54],[121,31,124,35],[121,39,124,40],[121,41,124,43],[115,97,116,99],[117,36,120,38],[112,80,116,89],[114,55,116,58],[114,59,116,63],[112,64,113,70],[112,90,116,96],[112,55,113,63],[112,71,113,79],[114,71,116,77],[114,78,116,79],[114,64,116,67],[114,68,116,70],[117,39,120,40],[117,41,120,43],[117,44,120,48],[117,49,120,51],[117,52,120,56],[117,57,120,59],[117,60,120,62],[117,63,120,65],[80,78,82,79],[83,71,85,77],[38,99,39,103],[38,104,39,104],[38,110,39,110],[38,93,39,97],[38,86,39,88],[38,89,39,92],[41,103,48,110],[38,75,39,79],[38,69,39,73],[38,74,39,74],[33,81,39,85],[33,86,34,110],[35,86,37,110],[38,105,39,109],[38,98,39,98],[33,63,34,80],[35,51,37,80],[38,80,39,80],[40,86,43,97],[44,86,47,97],[59,52,61,54],[62,52,64,54],[106,78,108,79],[109,71,111,77],[106,71,108,77],[109,78,111,79],[106,64,108,67],[106,68,108,70],[104,71,105,79],[101,64,103,67],[109,68,111,70],[101,78,103,79],[101,68,103,70],[101,71,103,77],[71,71,73,77],[74,64,76,67],[74,68,76,70],[74,71,76,77],[74,55,76,63],[77,64,79,67],[77,68,79,70],[83,6,85,30],[95,6,97,30],[92,6,94,30],[89,68,91,70],[95,55,97,63],[83,52,85,54],[86,64,88,67],[86,68,88,70],[80,52,82,54],[71,31,73,39],[74,31,76,39],[83,64,85,67],[86,71,88,77],[89,71,91,77],[77,71,79,77],[83,55,85,63],[80,68,82,70],[98,78,100,79],[95,71,97,77],[98,64,100,67],[48,80,51,88],[48,89,51,97],[52,60,55,79],[52,89,55,97],[77,78,79,79],[95,64,97,67],[95,68,97,70],[92,68,94,70],[89,55,91,63],[89,64,91,67],[98,55,100,63],[92,64,94,67],[71,78,73,79],[74,78,76,79],[83,68,85,70],[80,71,82,77],[89,78,91,79],[92,78,94,79],[95,78,97,79],[83,78,85,79],[86,78,88,79],[52,80,55,88],[48,60,51,79],[52,50,55,52],[52,55,55,57],[52,40,55,42],[50,40,51,49],[50,50,51,59],[52,53,55,54],[68,55,70,63],[56,43,58,54],[59,43,61,51],[62,43,64,51],[59,40,61,42],[62,40,64,42],[59,71,61,77],[52,43,55,44],[52,48,55,49],[52,58,55,59],[52,45,55,47],[56,31,58,42],[65,43,67,51],[68,43,70,51],[65,52,67,54],[68,40,70,42],[48,1,55,5],[48,21,51,32],[48,33,51,39],[48,40,49,59],[52,33,55,37],[54,38,55,39],[48,6,55,20],[52,21,55,32],[80,64,82,67],[80,55,82,63],[59,6,61,30],[77,6,79,30],[80,6,82,30],[71,6,73,30],[74,6,76,30],[74,52,76,54],[71,52,73,54],[65,40,67,42],[68,6,70,30],[65,31,67,39],[59,55,61,63],[80,31,82,39],[71,40,73,42],[68,52,70,54],[16,44,17,44],[16,45,17,45],[16,18,17,18],[16,19,17,19],[16,20,17,20],[16,21,17,21],[16,22,17,22],[16,23,17,23],[16,24,17,24],[16,25,17,25],[16,26,17,26],[35,43,36,43],[35,44,36,44],[35,45,36,45],[40,80,47,85],[40,56,47,79],[33,46,39,50],[38,68,39,68],[38,63,39,67],[40,36,41,50],[42,36,47,50],[35,38,36,38],[35,39,36,39],[35,40,36,40],[35,41,36,41],[35,42,36,42],[35,36,36,36],[35,37,36,37],[37,26,39,45],[33,42,34,42],[33,43,34,43],[33,26,34,26],[33,27,34,27],[33,28,34,28],[33,29,34,29],[24,16,26,16],[16,11,17,17],[16,34,17,34],[16,35,17,35],[16,36,17,36],[16,37,17,37],[33,31,34,31],[33,32,34,32],[33,33,34,33],[33,34,34,34],[33,11,39,20],[30,11,32,13],[35,30,36,30],[35,31,36,31],[35,32,36,32],[35,33,36,33],[35,34,36,34],[35,35,36,35],[30,36,32,38],[33,21,39,25],[33,30,34,30],[24,17,26,20],[121,44,124,48],[121,49,124,51],[121,52,124,56],[121,57,124,59],[121,60,124,62],[121,63,124,65],[13,90,15,110],[16,55,17,55],[16,56,17,56],[16,57,17,57],[33,44,34,44],[16,46,17,46],[16,47,17,47],[16,48,17,48],[16,49,17,49],[16,50,17,50],[16,51,17,51],[16,52,17,52],[16,53,17,53],[16,54,17,54],[16,69,18,74],[31,105,32,109],[18,11,21,63],[24,13,26,15]]}
[]
[null,null,null,null,null,null,null,null,null,null,null,null,null,null,null,null,null,null,null,null,null,null,null,null,null,null,null,null,null,null,null,null,null,null,null,null,null,null,null,null,null,null,null,null,null,null,null,null,null,null,null,null,null,null,null,null,null,null,null,null,null,null,null,null,null,null,null,null,null,null,null,null,null,null,null,null,null,null,null,null,null,null,null,null,null,null,null,null,null,null,null,null,null,"離島等供給用"]
[]
[]
[]
[]
["電力需要用電気使用申込書（工事会社様控）"]
[]
[]
[]
[null,"北海道電力ネットワーク株式会社　御中"]
[]
[null,"電気の使用について貴社離島等供給約款[低圧用]を承認のうえ申し込みます。"]
[null,null,null,null,null,null,null,null,null,null,null,null,null,null,null,null,null,null,null,null,null,null,null,null,null,null,null,null,null,null,null,null,null,null,null,null,null,null,null,null,null,null,null,null,null,null,null,null,null,null,null,null,null,null,null,null,null,null,null,null,null,null,null,null,"受付扱所名",null,null,null,null,null,null,null,null,null,null,null,null,null,null,null,null,null,null,null,null,"受付№"]
[]
[]
[null,"お 客 さ ま",null,null,null,null,"ご契約名義",null,null,null,null,"（フリガナ）",null,null,null,null,null,null,{"$f":"DBCS(MID(ASC(入力用!C3),1,1))","v":""},{"$f":"DBCS(MID(ASC(入力用!C3),2,1))","v":""},{"$f":"DBCS(MID(ASC(入力用!C3),3,1))","v":""},{"$f":"DBCS(MID(ASC(入力用!C3),4,1))","v":""},{"$f":"DBCS(MID(ASC(入力用!C3),5,1))","v":""},{"$f":"DBCS(MID(ASC(入力用!C3),6,1))","v":""},{"$f":"DBCS(MID(ASC(入力用!C3),7,1))","v":""},{"$f":"DBCS(MID(ASC(入力用!C3),8,1))","v":""},{"$f":"DBCS(MID(ASC(入力用!C3),9,1))","v":""},{"$f":"DBCS(MID(ASC(入力用!C3),10,1))","v":""},{"$f":"DBCS(MID(ASC(入力用!C3),11,1))","v":""},{"$f":"DBCS(MID(ASC(入力用!C3),12,1))","v":""},{"$f":"DBCS(MID(ASC(入力用!C3),13,1))","v":""},{"$f":"DBCS(MID(ASC(入力用!C3),14,1))","v":""},{"$f":"DBCS(MID(ASC(入力用!C3),15,1))","v":""},{"$f":"DBCS(MID(ASC(入力用!C3),16,1))","v":""},{"$f":"DBCS(MID(ASC(入力用!C3),17,1))","v":""},{"$f":"DBCS(MID(ASC(入力用!C3),18,1))","v":""},{"$f":"DBCS(MID(ASC(入力用!C3),19,1))","v":""},{"$f":"DBCS(MID(ASC(入力用!C3),20,1))","v":""},{"$f":"DBCS(MID(ASC(入力用!C3),21,1))","v":""},{"$f":"DBCS(MID(ASC(入力用!C3),22,1))","v":""},{"$f":"DBCS(MID(ASC(入力用!C3),23,1))","v":""},{"$f":"DBCS(MID(ASC(入力用!C3),24,1))","v":""},{"$f":"DBCS(MID(ASC(入力用!C3),25,1))","v":""},{"$f":"DBCS(MID(ASC(入力用!C3),26,1))","v":""},{"$f":"DBCS(MID(ASC(入力用!C3),27,1))","v":""},{"$f":"DBCS(MID(ASC(入力用!C3),28,1))","v":""},{"$f":"DBCS(MID(ASC(入力用!C3),29,1))","v":""},{"$f":"DBCS(MID(ASC(入力用!C3),30,1))","v":""},{"$f":"DBCS(MID(ASC(入力用!C3),31,1))","v":""},{"$f":"DBCS(MID(ASC(入力用!C3),32,1))","v":""},{"$f":"DBCS(MID(ASC(入力用!C3),33,1))","v":""},{"$f":"DBCS(MID(ASC(入力用!C3),34,1))","v":""},{"$f":"DBCS(MID(ASC(入力用!C3),35,1))","v":""},{"$f":"DBCS(MID(ASC(入力用!C3),36,1))","v":""},{"$f":"DBCS(MID(ASC(入力用!C3),37,1))","v":""},{"$f":"DBCS(MID(ASC(入力用!C3),38,1))","v":""},{"$f":"DBCS(MID(ASC(入力用!C3),39,1))","v":""},{"$f":"DBCS(MID(ASC(入力用!C3),40,1))","v":""},null,null,null,null,null,null,"電気工事会社",null,null,null,null," 会社名",null,null,null,null,null,{"$f":"IF(入力用!C11=\"\",\"\",入力用!C11)","v":""}]
[]
[null,null,null,null,null,null,null,null,null,null,null,{"$f":"IF(入力用!C4=\"\",\"\",入力用!C4)","v":""}]
[null,null,null,null,null,null,null,null,null,null,null,null,null,null,null,null,null,null,null,null,null,null,null,null,null,null,null,null,null,null,null,null,null,null,null,null,null,null,null,null,null,null,null,null,null,null,null,null,null,null,null,null,null,null,null,null,null,null,null,null,null,null,null,null,null,null,null,null,null,"(担当者)",null,null,null,null,null,{"$f":"IF(入力用!C12=\"\",\"\",入力用!C12)","v":""},null,null,null,null,null,null,null,null,null,null,null,null,null,null,"工事会社№（",null,null,null,null,null,null,null,null,null,{"$f":"IF(入力用!C13=\"\",\"\",入力用!C13)","v":""},null,null,"-",{"$f":"IF(入力用!E13=\"\",\"\",入力用!E13)","v":""},null,null,null,null,")"]
[]
[null,null,null,null,null,null,null,null,null,null,null,null,null,null,null,null,null,null,null,null,null,null,null,null,null,null,null,null,null,null,null,null,null,null,null,null,null,null,null,null,null,null,null,null,null,null,null,null,null,null,null,null,null,null,null,null,null,null,null,null,null,null,null,null,null,null,null,null,null," 住　所",null,null,null,null,null,{"$f":"LEFT(入力用!C14,24)","v":""}]
[null,null,null,null,null,null,null,null,null,null,null,"（代表者肩書）",null,null,null,null,null,null,null,null,{"$f":"IF(入力用!C5=\"\",\"\",入力用!C5)","v":""},null,null,null,null,null,null,null,null,null,null,null,null,null,null,null,null,null,null,"（代表者名）",null,null,null,null,null,null,null,{"$f":"IF(入力用!C6=\"\",\"\",入力用!C6)","v":""}]
[null,null,null,null,null,null,null,null,null,null,null,null,null,null,null,null,null,null,null,null,null,null,null,null,null,null,null,null,null,null,null,null,null,null,null,null,null,null,null,null,null,null,null,null,null,null,null,null,null,null,null,null,null,null,null,null,null,null,null,null,null,null,null,null,null,null,null,null,null,{"$f":"MID(入力用!C14,25,28)","v":""}]
[null,null,null,null,null,null,"ご使用\n場　所",null,null,null,null,"(〒",null,{"$f":"LEFT(入力用!C7,3)","v":""},null,null,"-",{"$f":"RIGHT(入力用!C7,4)","v":""},null,null,null,")",null,{"$f":"LEFT(入力用!C8,25)","v":""}]
[null,null,null,null,null,null,null,null,null,null,null,null,null,null,null,null,null,null,null,null,null,null,null,null,null,null,null,null,null,null,null,null,null,null,null,null,null,null,null,null,null,null,null,null,null,null,null,null,null,null,null,null,null,null,null,null,null,null,null,null,null,null,null,null,null,null,null,null,null,{"$f":"MID(入力用!C14,53,12)","v":""},null,null,null,null,null,null,null,null,null,null,null,null,null,null,null,null,null,null,null,"電話(",null,null,null,{"$f":"IF(入力用!C15=\"\",\"\",入力用!C15)","v":""},null,null,null,null,"-",{"$f":"IF(入力用!E15=\"\",\"\",入力用!E15)","v":""},null,null,null,null,"-",{"$f":"IF(入力用!H15=\"\",\"\",入力用!H15)","v":""},null,null,null,null,")"]
[]
[null,null,null,null,null,null,null,null,null,null,null,{"$f":"MID(入力用!C8,26,33)","v":""},null,null,null,null,null,null,null,null,null,null,null,null,null,null,null,null,null,null,null,null,null,null,null,null,null,null,null,null,null,null,null,null,null,null,null,null,null,null,null,null,null,null,null,null,null,null,null,null,null,null,null,null,"建築会社",null,null,null,null," 会社名",null,null,null,null,null,{"$f":"IF(入力用!C16=\"\",\"\",入力用!C16)","v":""}]
[]
[]
[null,null,null,null,null,null,"電話番号",null,null,null,null,"固定",null,null,{"$f":"IF(入力用!C9=\"\",\"\",入力用!C9)","v":""},null,null,null,null,null,"-",{"$f":"IF(入力用!E9=\"\",\"\",入力用!E9)","v":""},null,null,null,null,null,null,"-",{"$f":"IF(入力用!H9=\"\",\"\",入力用!H9)","v":""},null,null,null,null,null,null,"携帯",null,null,{"$f":"IF(入力用!C10=\"\",\"\",入力用!C10)","v":""},null,null,null,null,null,null,"-",{"$f":"IF(入力用!E10=\"\",\"\",入力用!E10)","v":""},null,null,null,null,null,null,null,"-",{"$f":"IF(入力用!H10=\"\",\"\",入力用!H10)","v":""}]
[null,null,null,null,null,null,null,null,null,null,null,null,null,null,null,null,null,null,null,null,null,null,null,null,null,null,null,null,null,null,null,null,null,null,null,null,null,null,null,null,null,null,null,null,null,null,null,null,null,null,null,null,null,null,null,null,null,null,null,null,null,null,null,null,null,null,null,null,null,"(担当者)",null,null,null,null,null,{"$f":"IF(入力用!C17=\"\",\"\",入力用!C17)","v":""},null,null,null,null,null,null,null,null,null,null,null,null,null,"電話(",null,null,null,{"$f":"IF(入力用!C18=\"\",\"\",入力用!C18)","v":""},null,null,null,null,"-",{"$f":"IF(入力用!E18=\"\",\"\",入力用!E18)","v":""},null,null,null,null,"-",{"$f":"IF(入力用!H18=\"\",\"\",入力用!H18)","v":""},null,null,null,null,")"]
[]
[null,null,null,null,null,null,"お支払\n方　法",null,null,null,null,{"$f":"IF(入力用!O19=2,入力用!O5,IF(入力用!O19=3,入力用!O6,IF(入力用!O19=4,入力用!O7,\"\")))","v":""},null,null,null,null,null,null,null,null,null,"支　払\n者　名",null,null,null,null,{"$f":"DBCS(MID(ASC(入力用!C20),1,1))","v":""},{"$f":"DBCS(MID(ASC(入力用!C20),2,1))","v":""},{"$f":"DBCS(MID(ASC(入力用!C20),3,1))","v":""},{"$f":"DBCS(MID(ASC(入力用!C20),4,1))","v":""},{"$f":"DBCS(MID(ASC(入力用!C20),5,1))","v":""},{"$f":"DBCS(MID(ASC(入力用!C20),6,1))","v":""},{"$f":"DBCS(MID(ASC(入力用!C20),7,1))","v":""},{"$f":"DBCS(MID(ASC(入力用!C20),8,1))","v":""},{"$f":"DBCS(MID(ASC(入力用!C20),9,1))","v":""},{"$f":"DBCS(MID(ASC(入力用!C20),10,1))","v":""},{"$f":"DBCS(MID(ASC(入力用!C20),11,1))","v":""},{"$f":"DBCS(MID(ASC(入力用!C20),12,1))","v":""},{"$f":"DBCS(MID(ASC(入力用!C20),13,1))","v":""},{"$f":"DBCS(MID(ASC(入力用!C20),14,1))","v":""},{"$f":"DBCS(MID(ASC(入力用!C20),15,1))","v":""},{"$f":"DBCS(MID(ASC(入力用!C20),16,1))","v":""},{"$f":"DBCS(MID(ASC(入力用!C20),17,1))","v":""},{"$f":"DBCS(MID(ASC(入力用!C20),18,1))","v":""},{"$f":"DBCS(MID(ASC(入力用!C20),19,1))","v":""},{"$f":"DBCS(MID(ASC(入力用!C20),20,1))","v":""},"請求書\n送付先",null,null,null,null,"(〒",null,{"$f":"LEFT(入力用!C22,3)","v":""},null,null,"-",{"$f":"RIGHT(入力用!C22,4)","v":""},null,null,null,")",null,{"$f":"IF(入力用!C23=\"同上\",\"\",LEFT(入力用!C23,12))","v":""},null,null,null,null,null,null,null,null,null,null,null,null,null,null,null,null,null,"ご連絡先",null,null,null,null,{"$f":"IF(OR(入力用!C25=\"同上\",入力用!C25=\"同左\"),\"\",LEFT(入力用!C25,17))","v":""}]
[]
[null,null,null,null,null,null,null,null,null,null,null,null,null,null,null,null,null,null,null,null,null,null,null,null,null,null,{"$f":"DBCS(MID(ASC(入力用!C20),21,1))","v":""},{"$f":"DBCS(MID(ASC(入力用!C20),22,1))","v":""},{"$f":"DBCS(MID(ASC(入力用!C20),23,1))","v":""},{"$f":"DBCS(MID(ASC(入力用!C20),24,1))","v":""},{"$f":"DBCS(MID(ASC(入力用!C20),25,1))","v":""},{"$f":"DBCS(MID(ASC(入力用!C20),26,1))","v":""},{"$f":"DBCS(MID(ASC(入力用!C20),27,1))","v":""},{"$f":"DBCS(MID(ASC(入力用!C20),28,1))","v":""},{"$f":"DBCS(MID(ASC(入力用!C20),29,1))","v":""},{"$f":"DBCS(MID(ASC(入力用!C20),30,1))","v":""},{"$f":"DBCS(MID(ASC(入力用!C20),31,1))","v":""},{"$f":"DBCS(MID(ASC(入力用!C20),32,1))","v":""},{"$f":"DBCS(MID(ASC(入力用!C20),33,1))","v":""},{"$f":"DBCS(MID(ASC(入力用!C20),34,1))","v":""},{"$f":"DBCS(MID(ASC(入力用!C20),35,1))","v":""},{"$f":"DBCS(MID(ASC(入力用!C20),36,1))","v":""},{"$f":"DBCS(MID(ASC(入力用!C20),37,1))","v":""},{"$f":"DBCS(MID(ASC(入力用!C20),38,1))","v":""},{"$f":"DBCS(MID(ASC(入力用!C20),39,1))","v":""},{"$f":"DBCS(MID(ASC(入力用!C20),40,1))","v":""},null,null,null,null,null,{"$f":"IF(入力用!C23=\"同上\",入力用!C23,MID(入力用!C23,13,20))","v":""},null,null,null,null,null,null,null,null,null,null,null,null,null,null,null,null,null,null,null,null,null,null,null,null,null,null,null,null,null,null,null,null,null,null,{"$f":"IF(OR(入力用!C25=\"同上\",入力用!C25=\"同左\"),入力用!C25,MID(入力用!C25,18,17))","v":""}]
[]
[null,null,null,null,null,null,null,null,null,null,null,null,null,null,null,null,null,null,null,null,null,null,null,null,null,null,{"$f":"IF(入力用!C21=\"\",\"\",入力用!C21)","v":""}]
[null,null,null,null,null,null,null,null,null,null,null,null,null,null,null,null,null,null,null,null,null,null,null,null,null,null,null,null,null,null,null,null,null,null,null,null,null,null,null,null,null,null,null,null,null,null,null,null,null,null,null,{"$f":"MID(入力用!C23,33,5)","v":""},null,null,null,null,null,null,null,"電話(",null,null,null,{"$f":"IF(入力用!C24=\"\",\"\",入力用!C24)","v":""},null,null,null,null,"-",{"$f":"IF(入力用!E24=\"\",\"\",入力用!E24)","v":""},null,null,null,null,"-",{"$f":"IF(入力用!H24=\"\",\"\",入力用!H24)","v":""},null,null,null,null,")",null,null,null,null,null,{"$f":"IF(OR(入力用!C25=\"同上\",入力用!C25=\"同左\"),\"\",MID(入力用!C25,35,1))","v":""},null,null,"電話(",null,null,null,{"$f":"IF(入力用!C26=\"\",\"\",入力用!C26)","v":""},null,null,null,null,"-",{"$f":"IF(入力用!E26=\"\",\"\",入力用!E26)","v":""},null,null,null,null,"-",{"$f":"IF(入力用!H26=\"\",\"\",入力用!H26)","v":""},null,null,null,null,")"]
[]
[null,null,null,null,null,null,null,null,null,null,null,null,null,null,null,null,null,null,null,null,null,null,null,null,null,null,null,null,null,null,null,"契約種別",null,null,null,null,null,null,null,null,null,null,null,null,null,null,null,null,null,null,null,"業種",null,null,null,null,{"$f":"IF(入力用!P30=\"\",\"\",入力用!P30)","v":""},null,null,null,null,null,null,null,null,null,null,null,null,null,null,null,null,null,null,null,null,null,null,null,"電設Ｎｅｔ\n申込",null,null,null,null,null,{"$f":"IF(入力用!O27=2,入力用!R39,IF(入力用!O27=3,入力用!R40,\"\"))","v":""}]
[null,null,null,null,null,null,null,null,null,null,null,null,null,null,null,null,null,null,null,null,null,null,null,null,null,null,null,null,null,null,null,null,null,null,null,null,null,null,null,null,null,null,null,null,null,null,null,null,null,null,null,null,null,null,null,null,null,null,null,null,null,null,null,null,null,null,null,null,null,null,null,null,null,null,null,null,null,null,null,null,null,null,null,null,null,null,null,null,null,null,null,null,null,null,null,null,null,null,null,null,null,"受付"]
[null,null,null,null,null,null,null,null,null,null,null,null,null,null,null,null,null,null,null,null,null,null,null,null,null,null,null,null,null,null,null,null,null,null,null,null,{"$f":"IF(入力用!O30=2,入力用!P5,IF(入力用!O30=3,入力用!P6,\"\"))","v":""}]
[]
[null,"受　電\n希望日",null,null,null,null,null,null,null,null,null,null,null,null,null,null,null,null,null,null,null,null,null,null,null,null,null,null,null,null,null,null,null,null,null,null,null,null,null,null,null,null,null,null,null,null,null,null,null,null,null,null,null,null,null,null,null,null,null,null,null,null,null,null,null,null,null,null,null,null,null,null,null,null,null,null,null,null,null,null,null,null,null,null,null,null,{"$f":"IF(入力用!C28=\"\",\"\",入力用!C28)","v":""}]
[null,null,null,null,null,null,{"$f":"IF(入力用!C29=\"\",\"\",入力用!C29)","v":""},null,null,null,null,null,null,null,null,{"$f":"IF(入力用!E29=\"\",\"\",入力用!E29)","v":""},null,null,null,null,null,null,null,{"$f":"IF(入力用!H29=\"\",\"\",入力用!H29)","v":""}]
[null,null,null,null,null,null,null,null,null,null,null,null,"年",null,null,null,null,null,null,null,"月",null,null,null,null,null,null,null,"日"]
[]
[null,"供給電気\n方 式 ・\n供給電圧",null,null,null,null,{"$f":"IF(入力用!O32=2,入力用!R5,IF(入力用!O32=3,入力用!R6,IF(入力用!O32=4,入力用!R7,IF(入力用!O32=5,入力用!R8,\"\"))))","v":""},null,null,null,null,null,null,null,null,null,null,null,null,null,null,"契約決定方法",null,null,null,null,null,null,null,null,null,null,null,"主開閉器の\n定　格　電　流",null,null,null,null,null,null,"農事用電力の契約使用期間",null,null,null,null,null,null,null,null,null,null,null,null,null,null,null,null,null,null,null,"フリーエリア計器払出\n希 望 事 業 所 名",null,null,null,null,null,null,null,null,null,null,null,null,null,null,null,null,null,null,null,"本契約前の臨時契約の有無",null,null,null,null,null,null,null,null,"臨時受付№"]
[]
[null,null,null,null,null,null,null,null,null,null,null,null,null,null,null,null,null,null,null,null,null,null,null,null,null,null,null,null,null,null,null,null,null,null,null,null,null,null,null,null,"開始日",null,null,null,null,null,null,null,null,null,"終了日"]
[]
[null,null,null,null,null,null,null,null,null,null,null,null,null,null,null,null,null,null,null,null,null,{"$f":"IF(入力用!O33=2,入力用!S5,IF(入力用!O33=3,入力用!S6,\"\"))","v":""},null,null,null,null,null,null,null,null,null,null,null,{"$f":"IF(入力用!C34=\"\",\"\",入力用!C34)","v":""},null,null,null,null,null,null,{"$f":"IF(入力用!C36=\"\",\"\",入力用!C36)","v":""},null,null,"月",null,{"$f":"IF(入力用!E36=\"\",\"\",入力用!E36)","v":""},null,null,"日",null,{"$f":"IF(入力用!C37=\"\",\"\",入力用!C37)","v":""},null,null,"月",null,{"$f":"IF(入力用!E37=\"\",\"\",入力用!E37)","v":""},null,null,"日",null,{"$f":"IF(入力用!C35=\"\",\"\",入力用!C35)","v":""},null,null,null,null,null,null,null,null,null,null,null,null,null,null,null,null,null,null,null,{"$f":"IF(入力用!O38=2,入力用!T5,IF(入力用!O38=3,入力用!T6,\"\"))","v":""},null,null,null,null,null,null,null,null,"(　　　　　　)"]
[]
[null,null,null,null,null,null,null,null,null,null,null,null,null,null,null,null,null,null,null,null,null,null,null,null,null,null,null,null,null,null,null,null,null,null,null,null,null,null,"Ａ"]
[]
[null,"契約負荷設備内訳",null,null,null,null,"機　器　種　別",null,null,null,null,null,null,null,null,null,null,null,null,null,null,null,null,null,null,null,null,null,null,null,null,"出　力",null,null,null,null,null,null,null,null,null,null,null,"入　力（ａ）",null,null,null,null,null,null,null,null,null,null,null,"力　率",null,null,null,null,null,null,null,null,"台数（ｂ）",null,null,null,null,null,null,"合計(ａ×ｂ)"]
[]
[]
[null,null,null,null,null,null,{"$f":"IF(入力用!C39=\"\",\"\",入力用!C39)","v":""},null,null,null,null,null,null,null,null,null,null,null,null,null,null,null,null,null,null,null,null,null,null,null,null,{"$f":"IF(入力用!C40=\"\",\"\",入力用!C40)","v":""},null,null,null,null,null,null,null,null,{"$f":"IF(入力用!O40=2,入力用!U5,IF(入力用!O40=3,入力用!U6,\"㏋\nkW\"))","v":"㏋\nkW"},null,null,{"$f":"IF(入力用!P40=0,\"\",入力用!P40)","v":""},null,null,null,null,null,null,null,null,"ｋＷ",null,null,{"$f":"IF(入力用!O42=2,入力用!V5,IF(入力用!O42=3,入力用!V6,IF(入力用!O42=4,入力用!V7,IF(入力用!O42=5,入力用!V8,\"\"))))","v":""},null,null,null,null,null,null,null,null,{"$f":"IF(入力用!C43=\"\",\"\",入力用!C43)","v":""},null,null,null,"台",null,null,{"$f":"入力用!P41","v":""},null,null,null,null,null,null,"㎾"]
[]
[]
[null,null,null,null,null,null,{"$f":"IF(入力用!C44=\"\",\"\",入力用!C44)","v":""},null,null,null,null,null,null,null,null,null,null,null,null,null,null,null,null,null,null,null,null,null,null,null,null,{"$f":"IF(入力用!C45=\"\",\"\",入力用!C45)","v":""},null,null,null,null,null,null,null,null,{"$f":"IF(入力用!O45=2,入力用!U5,IF(入力用!O45=3,入力用!U6,\"㏋\nkW\"))","v":"㏋\nkW"},null,null,{"$f":"IF(入力用!P45=0,\"\",入力用!P45)","v":""},null,null,null,null,null,null,null,null,"ｋＷ",null,null,{"$f":"IF(入力用!O47=2,入力用!V5,IF(入力用!O47=3,入力用!V6,IF(入力用!O47=4,入力用!V7,IF(入力用!O47=5,入力用!V8,\"\"))))","v":""},null,null,null,null,null,null,null,null,{"$f":"IF(入力用!C48=\"\",\"\",入力用!C48)","v":""},null,null,null,"台",null,null,{"$f":"入力用!P46","v":""},null,null,null,null,null,null,"㎾"]
[]
[]
[null,null,null,null,null,null,{"$f":"IF(入力用!C49=\"\",\"\",入力用!C49)","v":""},null,null,null,null,null,null,null,null,null,null,null,null,null,null,null,null,null,null,null,null,null,null,null,null,{"$f":"IF(入力用!C50=\"\",\"\",入力用!C50)","v":""},null,null,null,null,null,null,null,null,{"$f":"IF(入力用!O50=2,入力用!U5,IF(入力用!O50=3,入力用!U6,\"㏋\nkW\"))","v":"㏋\nkW"},null,null,{"$f":"IF(入力用!P50=0,\"\",入力用!P50)","v":""},null,null,null,null,null,null,null,null,"ｋＷ",null,null,{"$f":"IF(入力用!O52=2,入力用!V5,IF(入力用!O52=3,入力用!V6,IF(入力用!O52=4,入力用!V7,IF(入力用!O52=5,入力用!V8,\"\"))))","v":""},null,null,null,null,null,null,null,null,{"$f":"IF(入力用!C53=\"\",\"\",入力用!C53)","v":""},null,null,null,"台",null,null,{"$f":"入力用!P51","v":""},null,null,null,null,null,null,"㎾"]
[]
[]
[null,null,null,null,null,null,{"$f":"IF(入力用!C54=\"\",\"\",入力用!C54)","v":""},null,null,null,null,null,null,null,null,null,null,null,null,null,null,null,null,null,null,null,null,null,null,null,null,{"$f":"IF(入力用!C55=\"\",\"\",入力用!C55)","v":""},null,null,null,null,null,null,null,null,{"$f":"IF(入力用!O55=2,入力用!U5,IF(入力用!O55=3,入力用!U6,\"㏋\nkW\"))","v":"㏋\nkW"},null,null,{"$f":"IF(入力用!P55=0,\"\",入力用!P55)","v":""},null,null,null,null,null,null,null,null,"ｋＷ",null,null,{"$f":"IF(入力用!O57=2,入力用!V5,IF(入力用!O57=3,入力用!V6,IF(入力用!O57=4,入力用!V7,IF(入力用!O57=5,入力用!V8,\"\"))))","v":""},null,null,null,null,null,null,null,null,{"$f":"IF(入力用!C58=\"\",\"\",入力用!C58)","v":""},null,null,null,"台",null,null,{"$f":"入力用!P56","v":""},null,null,null,null,null,null,"㎾"]
[]
[]
[null,null,null,null,null,null,{"$f":"IF(入力用!C59=\"\",\"\",入力用!C59)","v":""},null,null,null,null,null,null,null,null,null,null,null,null,null,null,null,null,null,null,null,null,null,null,null,null,{"$f":"IF(入力用!C60=\"\",\"\",入力用!C60)","v":""},null,null,null,null,null,null,null,null,{"$f":"IF(入力用!O60=2,入力用!U5,IF(入力用!O60=3,入力用!U6,\"㏋\nkW\"))","v":"㏋\nkW"},null,null,{"$f":"IF(入力用!P60=0,\"\",入力用!P60)","v":""},null,null,null,null,null,null,null,null,"ｋＷ",null,null,{"$f":"IF(入力用!O62=2,入力用!V5,IF(入力用!O62=3,入力用!V6,IF(入力用!O62=4,入力用!V7,IF(入力用!O62=5,入力用!V8,\"\"))))","v":""},null,null,null,null,null,null,null,null,{"$f":"IF(入力用!C63=\"\",\"\",入力用!C63)","v":""},null,null,null,"台",null,null,{"$f":"入力用!P61","v":""},null,null,null,null,null,null,"㎾"]
[]
[]
[null,null,null,null,null,null,{"$f":"IF(入力用!C64=\"\",\"\",入力用!C64)","v":""},null,null,null,null,null,null,null,null,null,null,null,null,null,null,null,null,null,null,null,null,null,null,null,null,{"$f":"IF(入力用!C65=\"\",\"\",入力用!C65)","v":""},null,null,null,null,null,null,null,null,{"$f":"IF(入力用!O65=2,入力用!U5,IF(入力用!O65=3,入力用!U6,\"㏋\nkW\"))","v":"㏋\nkW"},null,null,{"$f":"IF(入力用!P65=0,\"\",入力用!P65)","v":""},null,null,null,null,null,null,null,null,"ｋＷ",null,null,{"$f":"IF(入力用!O67=2,入力用!V5,IF(入力用!O67=3,入力用!V6,IF(入力用!O67=4,入力用!V7,IF(入力用!O67=5,入力用!V8,\"\"))))","v":""},null,null,null,null,null,null,null,null,{"$f":"IF(入力用!C68=\"\",\"\",入力用!C68)","v":""},null,null,null,"台",null,null,{"$f":"入力用!P66","v":""},null,null,null,null,null,null,"㎾"]
[]
[]
[null,null,null,null,null,null,{"$f":"IF(入力用!C69=\"\",\"\",入力用!C69)","v":""},null,null,null,null,null,null,null,null,null,null,null,null,null,null,null,null,null,null,null,null,null,null,null,null,{"$f":"IF(入力用!C70=\"\",\"\",入力用!C70)","v":""},null,null,null,null,null,null,null,null,{"$f":"IF(入力用!O70=2,入力用!U5,IF(入力用!O70=3,入力用!U6,\"㏋\nkW\"))","v":"㏋\nkW"},null,null,{"$f":"IF(入力用!P70=0,\"\",入力用!P70)","v":""},null,null,null,null,null,null,null,null,"ｋＷ",null,null,{"$f":"IF(入力用!O72=2,入力用!V5,IF(入力用!O72=3,入力用!V6,IF(入力用!O72=4,入力用!V7,IF(入力用!O72=5,入力用!V8,\"\"))))","v":""},null,null,null,null,null,null,null,null,{"$f":"IF(入力用!C73=\"\",\"\",入力用!C73)","v":""},null,null,null,"台",null,null,{"$f":"入力用!P71","v":""},null,null,null,null,null,null,"㎾"]
[]
[]
[null,null,null,null,null,null,{"$f":"IF(入力用!C74=\"\",\"\",入力用!C74)","v":""},null,null,null,null,null,null,null,null,null,null,null,null,null,null,null,null,null,null,null,null,null,null,null,null,{"$f":"IF(入力用!C75=\"\",\"\",入力用!C75)","v":""},null,null,null,null,null,null,null,null,{"$f":"IF(入力用!O75=2,入力用!U5,IF(入力用!O75=3,入力用!U6,\"㏋\nkW\"))","v":"㏋\nkW"},null,null,{"$f":"IF(入力用!P75=0,\"\",入力用!P75)","v":""},null,null,null,null,null,null,null,null,"ｋＷ",null,null,{"$f":"IF(入力用!O77=2,入力用!V5,IF(入力用!O77=3,入力用!V6,IF(入力用!O77=4,入力用!V7,IF(入力用!O77=5,入力用!V8,\"\"))))","v":""},null,null,null,null,null,null,null,null,{"$f":"IF(入力用!C78=\"\",\"\",入力用!C78)","v":""},null,null,null,"台",null,null,{"$f":"入力用!P76","v":""},null,null,null,null,null,null,"㎾"]
[]
[]
[null,null,null,null,null,null,{"$f":"IF(入力用!C79=\"\",\"\",入力用!C79)","v":""},null,null,null,null,null,null,null,null,null,null,null,null,null,null,null,null,null,null,null,null,null,null,null,null,{"$f":"IF(入力用!C80=\"\",\"\",入力用!C80)","v":""},null,null,null,null,null,null,null,null,{"$f":"IF(入力用!O80=2,入力用!U5,IF(入力用!O80=3,入力用!U6,\"㏋\nkW\"))","v":"㏋\nkW"},null,null,{"$f":"IF(入力用!P80=0,\"\",入力用!P80)","v":""},null,null,null,null,null,null,null,null,"ｋＷ",null,null,{"$f":"IF(入力用!O82=2,入力用!V5,IF(入力用!O82=3,入力用!V6,IF(入力用!O82=4,入力用!V7,IF(入力用!O82=5,入力用!V8,\"\"))))","v":""},null,null,null,null,null,null,null,null,{"$f":"IF(入力用!C83=\"\",\"\",入力用!C83)","v":""},null,null,null,"台",null,null,{"$f":"入力用!P81","v":""},null,null,null,null,null,null,"㎾"]
[]
[]
[null,null,null,null,null,null,{"$f":"IF(入力用!C84=\"\",\"\",入力用!C84)","v":""},null,null,null,null,null,null,null,null,null,null,null,null,null,null,null,null,null,null,null,null,null,null,null,null,{"$f":"IF(入力用!C85=\"\",\"\",入力用!C85)","v":""},null,null,null,null,null,null,null,null,{"$f":"IF(入力用!O85=2,入力用!U5,IF(入力用!O85=3,入力用!U6,\"㏋\nkW\"))","v":"㏋\nkW"},null,null,{"$f":"IF(入力用!P85=0,\"\",入力用!P85)","v":""},null,null,null,null,null,null,null,null,"ｋＷ",null,null,{"$f":"IF(入力用!O87=2,入力用!V5,IF(入力用!O87=3,入力用!V6,IF(入力用!O87=4,入力用!V7,IF(入力用!O87=5,入力用!V8,\"\"))))","v":""},null,null,null,null,null,null,null,null,{"$f":"IF(入力用!C88=\"\",\"\",入力用!C88)","v":""},null,null,null,"台",null,null,{"$f":"入力用!P86","v":""},null,null,null,null,null,null,"㎾"]
[]
[]
[null,null,null,null,null,null,{"$f":"IF(入力用!C89=\"\",\"\",入力用!C89)","v":""},null,null,null,null,null,null,null,null,null,null,null,null,null,null,null,null,null,null,null,null,null,null,null,null,{"$f":"IF(入力用!C90=\"\",\"\",入力用!C90)","v":""},null,null,null,null,null,null,null,null,{"$f":"IF(入力用!O90=2,入力用!U5,IF(入力用!O90=3,入力用!U6,\"㏋\nkW\"))","v":"㏋\nkW"},null,null,{"$f":"IF(入力用!P90=0,\"\",入力用!P90)","v":""},null,null,null,null,null,null,null,null,"ｋＷ",null,null,{"$f":"IF(入力用!O92=2,入力用!V5,IF(入力用!O92=3,入力用!V6,IF(入力用!O92=4,入力用!V7,IF(入力用!O92=5,入力用!V8,\"\"))))","v":""},null,null,null,null,null,null,null,null,{"$f":"IF(入力用!C93=\"\",\"\",入力用!C93)","v":""},null,null,null,"台",null,null,{"$f":"入力用!P91","v":""},null,null,null,null,null,null,"㎾"]
[]
[]
[null,null,null,null,null,null,{"$f":"IF(入力用!C94=\"\",\"\",入力用!C94)","v":""},null,null,null,null,null,null,null,null,null,null,null,null,null,null,null,null,null,null,null,null,null,null,null,null,{"$f":"IF(入力用!C95=\"\",\"\",入力用!C95)","v":""},null,null,null,null,null,null,null,null,{"$f":"IF(入力用!O95=2,入力用!U5,IF(入力用!O95=3,入力用!U6,\"㏋\nkW\"))","v":"㏋\nkW"},null,null,{"$f":"IF(入力用!P95=0,\"\",入力用!P95)","v":""},null,null,null,null,null,null,null,null,"ｋＷ",null,null,{"$f":"IF(入力用!O97=2,入力用!V5,IF(入力用!O97=3,入力用!V6,IF(入力用!O97=4,入力用!V7,IF(入力用!O97=5,入力用!V8,\"\"))))","v":""},null,null,null,null,null,null,null,null,{"$f":"IF(入力用!C98=\"\",\"\",入力用!C98)","v":""},null,null,null,"台",null,null,{"$f":"入力用!P96","v":""},null,null,null,null,null,null,"㎾"]
[]
[]
[null,null,null,null,null,null,{"$f":"IF(入力用!C99=\"\",\"\",入力用!C99)","v":""},null,null,null,null,null,null,null,null,null,null,null,null,null,null,null,null,null,null,null,null,null,null,null,null,{"$f":"IF(入力用!C100=\"\",\"\",入力用!C100)","v":""},null,null,null,null,null,null,null,null,{"$f":"IF(入力用!O100=2,入力用!U5,IF(入力用!O100=3,入力用!U6,\"㏋\nkW\"))","v":"㏋\nkW"},null,null,{"$f":"IF(入力用!P100=0,\"\",入力用!P100)","v":""},null,null,null,null,null,null,null,null,"ｋＷ",null,null,{"$f":"IF(入力用!O102=2,入力用!V5,IF(入力用!O102=3,入力用!V6,IF(入力用!O102=4,入力用!V7,IF(入力用!O102=5,入力用!V8,\"\"))))","v":""},null,null,null,null,null,null,null,null,{"$f":"IF(入力用!C103=\"\",\"\",入力用!C103)","v":""},null,null,null,"台",null,null,{"$f":"入力用!P101","v":""},null,null,null,null,null,null,"㎾"]
[]
[]
[null,null,null,null,null,null,{"$f":"IF(入力用!C104=\"\",\"\",入力用!C104)","v":""},null,null,null,null,null,null,null,null,null,null,null,null,null,null,null,null,null,null,null,null,null,null,null,null,{"$f":"IF(入力用!C105=\"\",\"\",入力用!C105)","v":""},null,null,null,null,null,null,null,null,{"$f":"IF(入力用!O105=2,入力用!U5,IF(入力用!O105=3,入力用!U6,\"㏋\nkW\"))","v":"㏋\nkW"},null,null,{"$f":"IF(入力用!P105=0,\"\",入力用!P105)","v":""},null,null,null,null,null,null,null,null,"ｋＷ",null,null,{"$f":"IF(入力用!O107=2,入力用!V5,IF(入力用!O107=3,入力用!V6,IF(入力用!O107=4,入力用!V7,IF(入力用!O107=5,入力用!V8,\"\"))))","v":""},null,null,null,null,null,null,null,null,{"$f":"IF(入力用!C108=\"\",\"\",入力用!C108)","v":""},null,null,null,"台",null,null,{"$f":"入力用!P106","v":""},null,null,null,null,null,null,"㎾"]
[]
[]
[null,null,null,null,null,null,{"$f":"IF(入力用!C109=\"\",\"\",入力用!C109)","v":""},null,null,null,null,null,null,null,null,null,null,null,null,null,null,null,null,null,null,null,null,null,null,null,null,{"$f":"IF(入力用!C110=\"\",\"\",入力用!C110)","v":""},null,null,null,null,null,null,null,null,{"$f":"IF(入力用!O110=2,入力用!U5,IF(入力用!O110=3,入力用!U6,\"㏋\nkW\"))","v":"㏋\nkW"},null,null,{"$f":"IF(入力用!P110=0,\"\",入力用!P110)","v":""},null,null,null,null,null,null,null,null,"ｋＷ",null,null,{"$f":"IF(入力用!O112=2,入力用!V5,IF(入力用!O112=3,入力用!V6,IF(入力用!O112=4,入力用!V7,IF(入力用!O112=5,入力用!V8,\"\"))))","v":""},null,null,null,null,null,null,null,null,{"$f":"IF(入力用!C113=\"\",\"\",入力用!C113)","v":""},null,null,null,"台",null,null,{"$f":"入力用!P111","v":""},null,null,null,null,null,null,"㎾"]
[]
[]
[null,null,null,null,null,null,"機 器 種 別",null,null,null,null,null,null,null,null,"日本工業規格",null,null,null,null,null,null,null,"コンデンサ",null,null,null,null,null,null,null,"1次入力",null,null,null,null,null,null,null,null,null,null,null,"入　力（ａ）",null,null,null,null,null,null,null,null,null,null,null,"力　率",null,null,null,null,null,null,null,null,"台数（ｂ）",null,null,null,null,null,null,"合計(ａ×ｂ)"]
[]
[null,null,null,null,null,null,"電気溶接機",null,null,null,null,null,null,null,null,{"$f":"IF(入力用!O114=2,入力用!W5,IF(入力用!O114=3,入力用!W6,\"\"))","v":""},null,null,null,null,null,null,null,{"$f":"IF(入力用!O115=2,入力用!X5,IF(入力用!O115=3,入力用!X6,IF(入力用!O115=4,入力用!X7,\"\")))","v":""},null,null,null,null,null,null,null,{"$f":"IF(入力用!C116=\"\",\"\",入力用!C116)","v":""},null,null,null,null,null,null,null,null,"kVA",null,null,{"$f":"IF(入力用!P116=0,\"\",入力用!P116)","v":""},null,null,null,null,null,null,null,null,"ｋＷ",null,null,{"$f":"IF(入力用!O118=2,入力用!Y5,IF(入力用!O118=3,入力用!Y6,IF(入力用!O118=4,入力用!Y7,\"\")))","v":""},null,null,null,null,null,null,null,null,{"$f":"IF(入力用!C119=\"\",\"\",入力用!C119)","v":""},null,null,null,"台",null,null,{"$f":"入力用!P117","v":""},null,null,null,null,null,null,"㎾"]
[]
[]
[null,null,null,null,null,null,"電気溶接機",null,null,null,null,null,null,null,null,{"$f":"IF(入力用!O120=2,入力用!W5,IF(入力用!O120=3,入力用!W6,\"\"))","v":""},null,null,null,null,null,null,null,{"$f":"IF(入力用!O121=2,入力用!X5,IF(入力用!O121=3,入力用!X6,IF(入力用!O121=4,入力用!X7,\"\")))","v":""},null,null,null,null,null,null,null,{"$f":"IF(入力用!C122=\"\",\"\",入力用!C122)","v":""},null,null,null,null,null,null,null,null,"kVA",null,null,{"$f":"IF(入力用!P122=0,\"\",入力用!P122)","v":""},null,null,null,null,null,null,null,null,"ｋＷ",null,null,{"$f":"IF(入力用!O124=2,入力用!Y5,IF(入力用!O124=3,入力用!Y6,IF(入力用!O124=4,入力用!Y7,\"\")))","v":""},null,null,null,null,null,null,null,null,{"$f":"IF(入力用!C125=\"\",\"\",入力用!C125)","v":""},null,null,null,"台",null,null,{"$f":"入力用!P123","v":""},null,null,null,null,null,null,"㎾"]
[]
[]
[null,null,null,null,null,null,null,null,null,null,null,null,null,null,null,null,null,null,null,null,null,null,null,null,null,null,null,null,null,null,null,null,null,null,null,null,null,null,null,null,null,null,null,null,null,null,null,null,null,null,null,null,null,null,null,"力　率",null,null,null,null,null,null,null,null,"合計台数",null,null,null,null,null,null,"入力合計",null,null,null,null,null,null,null,null,"契約電力",null,null,null,null,null,null,null,null,null,{"$f":"IF(入力用!S32=0,\"\",入力用!S32)","v":""}]
[]
[null,null,null,null,null,null,null,null,null,null,null,null,null,null,null,null,null,null,null,null,null,null,null,null,null,null,null,null,null,null,null,null,null,null,null,null,null,null,null,null,null,null,null,null,null,null,null,null,null,null,null,null,null,null,null,"85％",null,null,null,{"$f":"IF(入力用!O33=2,\"超過\",IF(入力用!S30=\"\",\"超過\n未満\",IF(入力用!S30>0.85,\"超過\",IF(入力用!S30<0.85,\"未満\",\"\"))))","v":"超過\n未満"},null,null,null,null,{"$f":"IF(SUM(BM60:BP104,BM107:BP112)=0,\"\",SUM(BM60:BP104,BM107:BP112))","v":""},null,null,null,"台",null,null,{"$f":"IF(入力用!S35=0,\"\",入力用!S35)","v":""},null,null,null,null,null,null,"㎾"]
[null,null,null,null,null,null,null,null,null,null,null,null,null,null,null,null,null,null,null,null,null,null,null,null,null,null,null,null,null,null,null,null,null,null,null,null,null,null,null,null,null,null,null,null,null,null,null,null,null,null,null,null,null,null,null,null,null,null,null,null,null,null,null,null,null,null,null,null,null,null,null,null,null,null,null,null,null,null,null,null,null,null,null,null,null,null,null,null,null,null,null,null,null,null,null,null,null,"ｋＷ"]
[]
[null,"異動種別",null,null,"・新設　　 　・減少　 　　　・転出",null,null,null,null,null,null,null,null,null,null,null,null,null,null,null,null,null,null,null,null,null,null,null,"供給地点特定番号",null,null,null,null,null,null,null,"発行\n回数",null,null,"支店",null,"ﾌﾞﾛｯｸ",null,null,"住所",null,null,null,null,"街区",null,null,"契約№",null,null,null,null,"枝番",null,null,"種別"]
[]
[null,null,null,null,"・種変(+)　　・設備撤去　　・名義変更"]
[]
[null,null,null,null,"・ｺｰﾄﾞ変(+)　・設備変更　　 ・その他",null,null,null,null,null,null,null,null,null,null,null,null,null,null,null,null,null,null,null,null,null,null,null,null,null,null,"010",null,null,null,null,null,null,null,null,null,null,null,null,null,null,null,null,null,null,null,null,null,null,null,null,null,null,null,null,{"$f":"'３枚目'!AK41","v":""},null,null,"00"]
[]
[null,null,null,null,"・増加　　 　・転入　　　　（　　　　）"]
[]
[]
[null,"　※　太枠内をご記入願います。"]
[]
[null,"　※　ご契約者さまが法人の場合は，代表者肩書および代表者名をあわせてご記入願います。"]
[]
[null,"　※　ご提供いただいた個人情報は，電気事業の範囲内で利用いたします。"]
[]
[]
[]
[]
[]
[null,null,null,null,"拝啓　平素は弊社事業に格別のお引き立てを賜り，厚くお礼申し上げます。５６７８９０"]
[]
[]
[null,null,null,null,"　さて，御社よりお申込みをいただきました上記お客さまの電気のご使用につきまして，"]
[]
[]
[null,null,null,null,"本内容にて受付させていただきましたことをお知らせいたします。１２３４５６７８９０"]
[]
[]
[null,null,null,null,"１２３４５６７８９０１２３４５６７８９０１２３４５６７８９０１２３４５６７敬具０"]
[]
[]
[]
[]
[]
[]
[null,"＜連絡事項＞"]
[]
[]
[]
[]
[]
[]
[]
[]
[]
["北　海　道　電　力　ネ　ッ　ト　ワ　ー　ク　株　式　会　社"]

{"sheet":"２枚目","index":2,"n_rows":163,"n_cols":111,"rows_kept":163,"cut":false,"hidden":false,"merged":[[1,93,5,109],[162,0,163,110],[31,104,32,104],[31,69,32,74],[31,75,32,88],[31,89,32,92],[31,93,32,97],[31,98,32,98],[89,68,91,70],[95,55,97,63],[77,64,79,67],[83,64,85,67],[130,1,131,97],[128,1,129,97],[133,2,135,110],[121,4,122,27],[119,4,120,27],[117,28,124,30],[30,29,32,35],[30,39,32,45],[30,46,32,46],[30,47,32,54],[30,55,32,55],[33,11,39,20],[56,1,111,5],[13,85,15,89],[16,75,18,110],[19,75,20,89],[25,104,26,104],[25,105,26,109],[19,90,20,99],[16,64,26,68],[164,0,165,110],[112,71,113,79],[109,43,111,51],[109,52,111,54],[117,36,120,38],[114,59,116,63],[136,2,138,110],[139,2,141,110],[142,2,144,110],[145,2,147,110],[148,2,150,110],[126,1,127,97],[123,4,124,27],[117,1,124,3],[123,71,124,74],[117,71,122,74],[152,1,154,16],[106,6,108,14],[106,15,108,22],[86,40,88,42],[77,43,79,51],[62,6,64,30],[65,6,67,30],[83,6,85,30],[92,40,94,42],[95,40,97,42],[92,43,94,51],[95,43,97,51],[101,40,103,42],[68,6,70,30],[71,6,73,30],[74,6,76,30],[77,6,79,30],[98,40,100,42],[77,40,79,42],[71,40,73,42],[74,40,76,42],[92,6,94,30],[95,6,97,30],[71,31,73,39],[98,6,100,30],[109,6,111,14],[80,6,82,30],[121,36,124,38],[98,31,100,39],[68,64,70,67],[6,0,9,110],[16,1,39,5],[13,64,15,68],[31,105,32,109],[13,69,15,84],[40,1,47,5],[19,100,20,102],[19,103,20,103],[31,99,32,103],[25,110,26,110],[25,69,26,88],[25,89,26,92],[25,93,26,97],[24,23,26,63],[27,64,32,68],[30,36,32,38],[30,56,32,63],[35,35,36,35],[35,36,36,36],[65,64,67,67],[98,64,100,67],[83,55,85,63],[86,52,88,54],[83,52,85,54],[89,52,91,54],[80,64,82,67],[95,68,97,70],[80,68,82,70],[117,4,118,27],[74,68,76,70],[71,64,73,67],[71,68,73,70],[74,64,76,67],[106,23,108,30],[109,23,111,30],[89,6,91,30],[80,31,82,39],[86,64,88,67],[86,68,88,70],[83,68,85,70],[92,64,94,67],[95,64,97,67],[89,64,91,67],[89,55,91,63],[92,55,94,63],[98,55,100,63],[92,52,94,54],[112,55,113,63],[98,52,100,54],[114,55,116,58],[77,55,79,63],[80,55,82,63],[104,55,105,63],[95,52,97,54],[106,55,108,63],[101,55,103,63],[77,52,79,54],[86,55,88,63],[48,1,55,5],[56,6,58,30],[59,6,61,30],[80,52,82,54],[71,52,73,54],[74,52,76,54],[71,55,73,63],[68,52,70,54],[74,55,76,63],[68,55,70,63],[65,55,67,63],[74,43,76,51],[65,31,67,39],[65,40,67,42],[89,40,91,42],[80,40,82,42],[83,40,85,42],[86,6,88,30],[46,28,47,30],[40,31,47,35],[62,55,64,63],[33,63,34,80],[38,75,39,79],[38,80,39,80],[38,63,39,67],[38,68,39,68],[38,69,39,73],[38,74,39,74],[33,51,34,52],[33,53,34,55],[33,56,34,56],[62,64,64,67],[62,31,64,39],[62,40,64,42],[40,56,47,79],[40,80,47,85],[62,68,64,70],[59,55,61,63],[45,6,47,11],[45,15,47,19],[45,23,47,27],[46,12,47,14],[46,20,47,22],[35,32,36,32],[35,33,36,33],[16,11,17,17],[16,6,23,10],[18,11,21,63],[24,21,26,22],[22,20,23,38],[24,6,29,10],[27,11,29,63],[24,11,26,12],[24,13,26,15],[24,16,26,16],[24,17,26,20],[22,11,23,19],[22,39,23,46],[16,58,17,63],[16,18,17,18],[16,19,17,19],[16,20,17,20],[35,34,36,34],[16,21,17,21],[16,22,17,22],[16,23,17,23],[16,24,17,24],[16,25,17,25],[16,26,17,26],[22,47,23,63],[16,27,17,27],[35,37,36,37],[35,38,36,38],[35,39,36,39],[16,28,17,28],[16,29,17,29],[16,30,17,30],[16,31,17,31],[16,32,17,32],[16,33,17,33],[16,34,17,34],[16,35,17,35],[16,49,17,49],[16,36,17,36],[16,37,17,37],[16,38,17,38],[59,40,61,42],[59,64,61,67],[59,68,61,70],[56,55,58,63],[56,64,58,70],[33,46,39,50],[41,103,48,110],[38,89,39,92],[56,31,58,42],[59,31,61,39],[52,89,55,97],[48,80,51,88],[48,21,51,32],[33,86,34,110],[35,26,36,26],[35,27,36,27],[35,28,36,28],[35,29,36,29],[35,30,36,30],[35,31,36,31],[56,71,58,79],[59,78,61,79],[59,71,61,77],[33,21,39,25],[115,97,116,99],[106,64,108,67],[106,68,108,70],[112,80,116,89],[112,90,116,96],[109,64,111,67],[109,68,111,70],[109,71,111,77],[114,78,116,79],[109,78,111,79],[112,64,113,70],[114,64,116,67],[114,68,116,70],[114,71,116,77],[101,68,103,70],[101,52,103,54],[104,71,105,79],[106,71,108,77],[106,78,108,79],[101,71,103,77],[109,55,111,63],[109,15,111,22],[104,43,105,54],[106,40,108,42],[109,40,111,42],[106,43,108,51],[106,52,108,54],[101,6,103,30],[104,31,105,42],[104,6,105,14],[104,15,105,22],[104,23,105,30],[101,43,103,51],[101,78,103,79],[104,64,105,70],[109,31,111,39],[106,31,108,39],[101,64,103,67],[77,31,79,39],[68,31,70,39],[74,31,76,39],[68,40,70,42],[83,31,85,39],[86,31,88,39],[101,31,103,39],[89,31,91,39],[92,31,94,39],[95,31,97,39],[98,43,100,51],[56,43,58,54],[59,43,61,51],[62,43,64,51],[65,43,67,51],[59,52,61,54],[68,43,70,51],[86,43,88,51],[89,43,91,51],[80,43,82,51],[71,43,73,51],[83,43,85,51],[62,52,64,54],[65,52,67,54],[62,71,64,77],[62,78,64,79],[65,71,67,77],[65,78,67,79],[92,68,94,70],[68,78,70,79],[71,71,73,77],[71,78,73,79],[74,71,76,77],[74,78,76,79],[68,71,70,77],[77,71,79,77],[68,68,70,70],[89,71,91,77],[89,78,91,79],[77,78,79,79],[80,71,82,77],[80,78,82,79],[83,71,85,77],[83,78,85,79],[77,68,79,70],[86,71,88,77],[65,68,67,70],[33,57,34,60],[41,101,48,102],[48,89,51,97],[98,71,100,77],[98,78,100,79],[40,36,41,50],[42,36,47,50],[54,38,55,39],[95,71,97,77],[95,78,97,79],[52,33,55,37],[50,40,51,49],[50,50,51,59],[48,60,51,79],[92,71,94,77],[92,78,94,79],[52,40,55,42],[86,78,88,79],[48,33,51,39],[48,40,49,59],[52,43,55,44],[52,45,55,47],[52,48,55,49],[98,68,100,70],[48,6,55,20],[52,21,55,32],[52,80,55,88],[52,50,55,52],[52,53,55,54],[52,55,55,57],[52,58,55,59],[52,60,55,79],[35,51,37,80],[35,86,37,110],[38,110,39,110],[38,105,39,109],[38,93,39,97],[37,26,39,45],[38,98,39,98],[38,99,39,103],[38,51,39,58],[38,59,39,62],[38,104,39,104],[33,6,39,10],[33,35,34,35],[33,26,34,26],[33,27,34,27],[33,28,34,28],[16,43,17,43],[16,44,17,44],[16,45,17,45],[16,46,17,46],[33,32,34,32],[33,33,34,33],[33,34,34,34],[10,1,11,25],[12,1,13,38],[30,6,32,10],[30,11,32,13],[30,14,32,19],[30,20,32,20],[30,21,32,27],[30,28,32,28],[33,29,34,29],[33,30,34,30],[33,31,34,31],[16,39,17,39],[13,90,15,110],[35,40,36,40],[35,41,36,41],[35,42,36,42],[35,43,36,43],[35,44,36,44],[35,45,36,45],[33,36,34,36],[33,37,34,37],[33,38,34,38],[33,39,34,39],[33,40,34,40],[33,41,34,41],[33,42,34,42],[33,43,34,43],[25,98,26,98],[27,75,30,110],[16,69,18,74],[19,69,20,74],[27,69,30,74],[21,69,22,74],[16,40,17,40],[16,41,17,41],[16,42,17,42],[40,86,43,97],[44,86,47,97],[38,86,39,88],[33,81,39,85],[16,56,17,56],[16,57,17,57],[33,44,34,44],[33,45,34,45],[16,47,17,47],[16,48,17,48],[16,50,17,50],[16,51,17,51],[16,52,17,52],[16,53,17,53],[16,54,17,54],[16,55,17,55],[40,51,47,55],[21,75,22,110],[23,69,24,110],[31,110,32,110],[25,99,26,103],[19,109,20,110],[19,104,20,108],[33,61,34,62],[117,66,124,70],[117,75,122,78],[117,79,122,82],[121,31,124,35],[121,39,124,40],[121,41,124,43],[121,44,124,48],[121,49,124,51],[121,52,124,56],[121,57,124,59],[121,60,124,62],[121,63,124,65],[123,75,124,78],[123,79,124,82],[117,31,120,35],[117,39,120,40],[117,41,120,43],[117,44,120,48],[117,49,120,51],[117,52,120,56],[117,57,120,59],[117,60,120,62],[117,63,120,65]]}
[]
[null,null,null,null,null,null,null,null,null,null,null,null,null,null,null,null,null,null,null,null,null,null,null,null,null,null,null,null,null,null,null,null,null,null,null,null,null,null,null,null,null,null,null,null,null,null,null,null,null,null,null,null,null,null,null,null,null,null,null,null,null,null,null,null,null,null,null,null,null,null,null,null,null,null,null,null,null,null,null,null,null,null,null,null,null,null,null,null,null,null,null,null,null,"離島等供給用"]
[]
[]
[]
[]
["電力需要用電気使用申込書（お客さま控）"]
[]
[]
[]
[null,"北海道電力ネットワーク株式会社　御中"]
[]
[null,"電気の使用について貴社離島等供給約款[低圧用]を承認のうえ申し込みます。"]
[null,null,null,null,null,null,null,null,null,null,null,null,null,null,null,null,null,null,null,null,null,null,null,null,null,null,null,null,null,null,null,null,null,null,null,null,null,null,null,null,null,null,null,null,null,null,null,null,null,null,null,null,null,null,null,null,null,null,null,null,null,null,null,null,"受付扱所名",null,null,null,null,null,null,null,null,null,null,null,null,null,null,null,null,null,null,null,null,"受付№"]
[]
[]
[null,"お 客 さ ま",null,null,null,null,"ご契約名義",null,null,null,null,"（フリガナ）",null,null,null,null,null,null,{"$f":"DBCS(MID(ASC(入力用!C3),1,1))","v":""},{"$f":"DBCS(MID(ASC(入力用!C3),2,1))","v":""},{"$f":"DBCS(MID(ASC(入力用!C3),3,1))","v":""},{"$f":"DBCS(MID(ASC(入力用!C3),4,1))","v":""},{"$f":"DBCS(MID(ASC(入力用!C3),5,1))","v":""},{"$f":"DBCS(MID(ASC(入力用!C3),6,1))","v":""},{"$f":"DBCS(MID(ASC(入力用!C3),7,1))","v":""},{"$f":"DBCS(MID(ASC(入力用!C3),8,1))","v":""},{"$f":"DBCS(MID(ASC(入力用!C3),9,1))","v":""},{"$f":"DBCS(MID(ASC(入力用!C3),10,1))","v":""},{"$f":"DBCS(MID(ASC(入力用!C3),11,1))","v":""},{"$f":"DBCS(MID(ASC(入力用!C3),12,1))","v":""},{"$f":"DBCS(MID(ASC(入力用!C3),13,1))","v":""},{"$f":"DBCS(MID(ASC(入力用!C3),14,1))","v":""},{"$f":"DBCS(MID(ASC(入力用!C3),15,1))","v":""},{"$f":"DBCS(MID(ASC(入力用!C3),16,1))","v":""},{"$f":"DBCS(MID(ASC(入力用!C3),17,1))","v":""},{"$f":"DBCS(MID(ASC(入力用!C3),18,1))","v":""},{"$f":"DBCS(MID(ASC(入力用!C3),19,1))","v":""},{"$f":"DBCS(MID(ASC(入力用!C3),20,1))","v":""},{"$f":"DBCS(MID(ASC(入力用!C3),21,1))","v":""},{"$f":"DBCS(MID(ASC(入力用!C3),22,1))","v":""},{"$f":"DBCS(MID(ASC(入力用!C3),23,1))","v":""},{"$f":"DBCS(MID(ASC(入力用!C3),24,1))","v":""},{"$f":"DBCS(MID(ASC(入力用!C3),25,1))","v":""},{"$f":"DBCS(MID(ASC(入力用!C3),26,1))","v":""},{"$f":"DBCS(MID(ASC(入力用!C3),27,1))","v":""},{"$f":"DBCS(MID(ASC(入力用!C3),28,1))","v":""},{"$f":"DBCS(MID(ASC(入力用!C3),29,1))","v":""},{"$f":"DBCS(MID(ASC(入力用!C3),30,1))","v":""},{"$f":"DBCS(MID(ASC(入力用!C3),31,1))","v":""},{"$f":"DBCS(MID(ASC(入力用!C3),32,1))","v":""},{"$f":"DBCS(MID(ASC(入力用!C3),33,1))","v":""},{"$f":"DBCS(MID(ASC(入力用!C3),34,1))","v":""},{"$f":"DBCS(MID(ASC(入力用!C3),35,1))","v":""},{"$f":"DBCS(MID(ASC(入力用!C3),36,1))","v":""},{"$f":"DBCS(MID(ASC(入力用!C3),37,1))","v":""},{"$f":"DBCS(MID(ASC(入力用!C3),38,1))","v":""},{"$f":"DBCS(MID(ASC(入力用!C3),39,1))","v":""},{"$f":"DBCS(MID(ASC(入力用!C3),40,1))","v":""},null,null,null,null,null,null,"電気工事会社",null,null,null,null," 会社名",null,null,null,null,null,{"$f":"IF(入力用!C11=\"\",\"\",入力用!C11)","v":""}]
[]
[null,null,null,null,null,null,null,null,null,null,null,{"$f":"IF(入力用!C4=\"\",\"\",入力用!C4)","v":""}]
[null,null,null,null,null,null,null,null,null,null,null,null,null,null,null,null,null,null,null,null,null,null,null,null,null,null,null,null,null,null,null,null,null,null,null,null,null,null,null,null,null,null,null,null,null,null,null,null,null,null,null,null,null,null,null,null,null,null,null,null,null,null,null,null,null,null,null,null,null,"(担当者)",null,null,null,null,null,{"$f":"IF(入力用!C12=\"\",\"\",入力用!C12)","v":""},null,null,null,null,null,null,null,null,null,null,null,null,null,null,"工事会社№（",null,null,null,null,null,null,null,null,null,{"$f":"IF(入力用!C13=\"\",\"\",入力用!C13)","v":""},null,null,"-",{"$f":"IF(入力用!E13=\"\",\"\",入力用!E13)","v":""},null,null,null,null,")"]
[]
[null,null,null,null,null,null,null,null,null,null,null,null,null,null,null,null,null,null,null,null,null,null,null,null,null,null,null,null,null,null,null,null,null,null,null,null,null,null,null,null,null,null,null,null,null,null,null,null,null,null,null,null,null,null,null,null,null,null,null,null,null,null,null,null,null,null,null,null,null," 住　所",null,null,null,null,null,{"$f":"LEFT(入力用!C14,24)","v":""}]
[null,null,null,null,null,null,null,null,null,null,null,"（代表者肩書）",null,null,null,null,null,null,null,null,{"$f":"IF(入力用!C5=\"\",\"\",入力用!C5)","v":""},null,null,null,null,null,null,null,null,null,null,null,null,null,null,null,null,null,null,"（代表者名）",null,null,null,null,null,null,null,{"$f":"IF(入力用!C6=\"\",\"\",入力用!C6)","v":""}]
[null,null,null,null,null,null,null,null,null,null,null,null,null,null,null,null,null,null,null,null,null,null,null,null,null,null,null,null,null,null,null,null,null,null,null,null,null,null,null,null,null,null,null,null,null,null,null,null,null,null,null,null,null,null,null,null,null,null,null,null,null,null,null,null,null,null,null,null,null,{"$f":"MID(入力用!C14,25,28)","v":""}]
[null,null,null,null,null,null,"ご使用\n場　所",null,null,null,null,"(〒",null,{"$f":"LEFT(入力用!C7,3)","v":""},null,null,"-",{"$f":"RIGHT(入力用!C7,4)","v":""},null,null,null,")",null,{"$f":"LEFT(入力用!C8,25)","v":""}]
[null,null,null,null,null,null,null,null,null,null,null,null,null,null,null,null,null,null,null,null,null,null,null,null,null,null,null,null,null,null,null,null,null,null,null,null,null,null,null,null,null,null,null,null,null,null,null,null,null,null,null,null,null,null,null,null,null,null,null,null,null,null,null,null,null,null,null,null,null,{"$f":"MID(入力用!C14,53,12)","v":""},null,null,null,null,null,null,null,null,null,null,null,null,null,null,null,null,null,null,null,"電話(",null,null,null,{"$f":"IF(入力用!C15=\"\",\"\",入力用!C15)","v":""},null,null,null,null,"-",{"$f":"IF(入力用!E15=\"\",\"\",入力用!E15)","v":""},null,null,null,null,"-",{"$f":"IF(入力用!H15=\"\",\"\",入力用!H15)","v":""},null,null,null,null,")"]
[]
[null,null,null,null,null,null,null,null,null,null,null,{"$f":"MID(入力用!C8,26,33)","v":""},null,null,null,null,null,null,null,null,null,null,null,null,null,null,null,null,null,null,null,null,null,null,null,null,null,null,null,null,null,null,null,null,null,null,null,null,null,null,null,null,null,null,null,null,null,null,null,null,null,null,null,null,"建築会社",null,null,null,null," 会社名",null,null,null,null,null,{"$f":"IF(入力用!C16=\"\",\"\",入力用!C16)","v":""}]
[]
[]
[null,null,null,null,null,null,"電話番号",null,null,null,null,"固定",null,null,{"$f":"IF(入力用!C9=\"\",\"\",入力用!C9)","v":""},null,null,null,null,null,"-",{"$f":"IF(入力用!E9=\"\",\"\",入力用!E9)","v":""},null,null,null,null,null,null,"-",{"$f":"IF(入力用!H9=\"\",\"\",入力用!H9)","v":""},null,null,null,null,null,null,"携帯",null,null,{"$f":"IF(入力用!C10=\"\",\"\",入力用!C10)","v":""},null,null,null,null,null,null,"-",{"$f":"IF(入力用!E10=\"\",\"\",入力用!E10)","v":""},null,null,null,null,null,null,null,"-",{"$f":"IF(入力用!H10=\"\",\"\",入力用!H10)","v":""}]
[null,null,null,null,null,null,null,null,null,null,null,null,null,null,null,null,null,null,null,null,null,null,null,null,null,null,null,null,null,null,null,null,null,null,null,null,null,null,null,null,null,null,null,null,null,null,null,null,null,null,null,null,null,null,null,null,null,null,null,null,null,null,null,null,null,null,null,null,null,"(担当者)",null,null,null,null,null,{"$f":"IF(入力用!C17=\"\",\"\",入力用!C17)","v":""},null,null,null,null,null,null,null,null,null,null,null,null,null,"電話(",null,null,null,{"$f":"IF(入力用!C18=\"\",\"\",入力用!C18)","v":""},null,null,null,null,"-",{"$f":"IF(入力用!E18=\"\",\"\",入力用!E18)","v":""},null,null,null,null,"-",{"$f":"IF(入力用!H18=\"\",\"\",入力用!H18)","v":""},null,null,null,null,")"]
[]
[null,null,null,null,null,null,"お支払\n方　法",null,null,null,null,{"$f":"IF(入力用!O19=2,入力用!O5,IF(入力用!O19=3,入力用!O6,IF(入力用!O19=4,入力用!O7,\"\")))","v":""},null,null,null,null,null,null,null,null,null,"支　払\n者　名",null,null,null,null,{"$f":"DBCS(MID(ASC(入力用!C20),1,1))","v":""},{"$f":"DBCS(MID(ASC(入力用!C20),2,1))","v":""},{"$f":"DBCS(MID(ASC(入力用!C20),3,1))","v":""},{"$f":"DBCS(MID(ASC(入力用!C20),4,1))","v":""},{"$f":"DBCS(MID(ASC(入力用!C20),5,1))","v":""},{"$f":"DBCS(MID(ASC(入力用!C20),6,1))","v":""},{"$f":"DBCS(MID(ASC(入力用!C20),7,1))","v":""},{"$f":"DBCS(MID(ASC(入力用!C20),8,1))","v":""},{"$f":"DBCS(MID(ASC(入力用!C20),9,1))","v":""},{"$f":"DBCS(MID(ASC(入力用!C20),10,1))","v":""},{"$f":"DBCS(MID(ASC(入力用!C20),11,1))","v":""},{"$f":"DBCS(MID(ASC(入力用!C20),12,1))","v":""},{"$f":"DBCS(MID(ASC(入力用!C20),13,1))","v":""},{"$f":"DBCS(MID(ASC(入力用!C20),14,1))","v":""},{"$f":"DBCS(MID(ASC(入力用!C20),15,1))","v":""},{"$f":"DBCS(MID(ASC(入力用!C20),16,1))","v":""},{"$f":"DBCS(MID(ASC(入力用!C20),17,1))","v":""},{"$f":"DBCS(MID(ASC(入力用!C20),18,1))","v":""},{"$f":"DBCS(MID(ASC(入力用!C20),19,1))","v":""},{"$f":"DBCS(MID(ASC(入力用!C20),20,1))","v":""},"請求書\n送付先",null,null,null,null,"(〒",null,{"$f":"LEFT(入力用!C22,3)","v":""},null,null,"-",{"$f":"RIGHT(入力用!C22,4)","v":""},null,null,null,")",null,{"$f":"IF(入力用!C23=\"同上\",\"\",LEFT(入力用!C23,12))","v":""},null,null,null,null,null,null,null,null,null,null,null,null,null,null,null,null,null,"ご連絡先",null,null,null,null,{"$f":"IF(OR(入力用!C25=\"同上\",入力用!C25=\"同左\"),\"\",LEFT(入力用!C25,17))","v":""}]
[]
[null,null,null,null,null,null,null,null,null,null,null,null,null,null,null,null,null,null,null,null,null,null,null,null,null,null,{"$f":"DBCS(MID(ASC(入力用!C20),21,1))","v":""},{"$f":"DBCS(MID(ASC(入力用!C20),22,1))","v":""},{"$f":"DBCS(MID(ASC(入力用!C20),23,1))","v":""},{"$f":"DBCS(MID(ASC(入力用!C20),24,1))","v":""},{"$f":"DBCS(MID(ASC(入力用!C20),25,1))","v":""},{"$f":"DBCS(MID(ASC(入力用!C20),26,1))","v":""},{"$f":"DBCS(MID(ASC(入力用!C20),27,1))","v":""},{"$f":"DBCS(MID(ASC(入力用!C20),28,1))","v":""},{"$f":"DBCS(MID(ASC(入力用!C20),29,1))","v":""},{"$f":"DBCS(MID(ASC(入力用!C20),30,1))","v":""},{"$f":"DBCS(MID(ASC(入力用!C20),31,1))","v":""},{"$f":"DBCS(MID(ASC(入力用!C20),32,1))","v":""},{"$f":"DBCS(MID(ASC(入力用!C20),33,1))","v":""},{"$f":"DBCS(MID(ASC(入力用!C20),34,1))","v":""},{"$f":"DBCS(MID(ASC(入力用!C20),35,1))","v":""},{"$f":"DBCS(MID(ASC(入力用!C20),36,1))","v":""},{"$f":"DBCS(MID(ASC(入力用!C20),37,1))","v":""},{"$f":"DBCS(MID(ASC(入力用!C20),38,1))","v":""},{"$f":"DBCS(MID(ASC(入力用!C20),39,1))","v":""},{"$f":"DBCS(MID(ASC(入力用!C20),40,1))","v":""},null,null,null,null,null,{"$f":"IF(入力用!C23=\"同上\",入力用!C23,MID(入力用!C23,13,20))","v":""},null,null,null,null,null,null,null,null,null,null,null,null,null,null,null,null,null,null,null,null,null,null,null,null,null,null,null,null,null,null,null,null,null,null,{"$f":"IF(OR(入力用!C25=\"同上\",入力用!C25=\"同左\"),入力用!C25,MID(入力用!C25,18,17))","v":""}]
[]
[null,null,null,null,null,null,null,null,null,null,null,null,null,null,null,null,null,null,null,null,null,null,null,null,null,null,{"$f":"IF(入力用!C21=\"\",\"\",入力用!C21)","v":""}]
[null,null,null,null,null,null,null,null,null,null,null,null,null,null,null,null,null,null,null,null,null,null,null,null,null,null,null,null,null,null,null,null,null,null,null,null,null,null,null,null,null,null,null,null,null,null,null,null,null,null,null,{"$f":"MID(入力用!C23,33,5)","v":""},null,null,null,null,null,null,null,"電話(",null,null,null,{"$f":"IF(入力用!C24=\"\",\"\",入力用!C24)","v":""},null,null,null,null,"-",{"$f":"IF(入力用!E24=\"\",\"\",入力用!E24)","v":""},null,null,null,null,"-",{"$f":"IF(入力用!H24=\"\",\"\",入力用!H24)","v":""},null,null,null,null,")",null,null,null,null,null,{"$f":"IF(OR(入力用!C25=\"同上\",入力用!C25=\"同左\"),\"\",MID(入力用!C25,35,1))","v":""},null,null,"電話(",null,null,null,{"$f":"IF(入力用!C26=\"\",\"\",入力用!C26)","v":""},null,null,null,null,"-",{"$f":"IF(入力用!E26=\"\",\"\",入力用!E26)","v":""},null,null,null,null,"-",{"$f":"IF(入力用!H26=\"\",\"\",入力用!H26)","v":""},null,null,null,null,")"]
[]
[null,"受　電\n希望日",null,null,null,null,null,null,null,null,null,null,null,null,null,null,null,null,null,null,null,null,null,null,null,null,null,null,null,null,null,"契約種別",null,null,null,null,null,null,null,null,null,null,null,null,null,null,null,null,null,null,null,"業種",null,null,null,null,{"$f":"IF(入力用!P30=\"\",\"\",入力用!P30)","v":""},null,null,null,null,null,null,null,null,null,null,null,null,null,null,null,null,null,null,null,null,null,null,null,"電設Ｎｅｔ\n申込",null,null,null,null,null,{"$f":"IF(入力用!O27=2,入力用!R39,IF(入力用!O27=3,入力用!R40,\"\"))","v":""}]
[null,null,null,null,null,null,null,null,null,null,null,null,null,null,null,null,null,null,null,null,null,null,null,null,null,null,null,null,null,null,null,null,null,null,null,null,null,null,null,null,null,null,null,null,null,null,null,null,null,null,null,null,null,null,null,null,null,null,null,null,null,null,null,null,null,null,null,null,null,null,null,null,null,null,null,null,null,null,null,null,null,null,null,null,null,null,null,null,null,null,null,null,null,null,null,null,null,null,null,null,null,"受付"]
[null,null,null,null,null,null,null,null,null,null,null,null,null,null,null,null,null,null,null,null,null,null,null,null,null,null,null,null,null,null,null,null,null,null,null,null,{"$f":"IF(入力用!O30=2,入力用!P5,IF(入力用!O30=3,入力用!P6,\"\"))","v":""}]
[]
[null,null,null,null,null,null,null,null,null,null,null,null,null,null,null,null,null,null,null,null,null,null,null,null,null,null,null,null,null,null,null,null,null,null,null,null,null,null,null,null,null,null,null,null,null,null,null,null,null,null,null,null,null,null,null,null,null,null,null,null,null,null,null,null,null,null,null,null,null,null,null,null,null,null,null,null,null,null,null,null,null,null,null,null,null,null,{"$f":"IF(入力用!C28=\"\",\"\",入力用!C28)","v":""}]
[null,null,null,null,null,null,{"$f":"IF(入力用!C29=\"\",\"\",入力用!C29)","v":""},null,null,null,null,null,null,null,null,{"$f":"IF(入力用!E29=\"\",\"\",入力用!E29)","v":""},null,null,null,null,null,null,null,{"$f":"IF(入力用!H29=\"\",\"\",入力用!H29)","v":""}]
[null,null,null,null,null,null,null,null,null,null,null,null,"年",null,null,null,null,null,null,null,"月",null,null,null,null,null,null,null,"日"]
[]
[null,"供給電気\n方 式 ・\n供給電圧",null,null,null,null,{"$f":"IF(入力用!O32=2,入力用!R5,IF(入力用!O32=3,入力用!R6,IF(入力用!O32=4,入力用!R7,IF(入力用!O32=5,入力用!R8,\"\"))))","v":""},null,null,null,null,null,null,null,null,null,null,null,null,null,null,"契約決定方法",null,null,null,null,null,null,null,null,null,null,null,"主開閉器の\n定　格　電　流",null,null,null,null,null,null,"農事用電力の契約使用期間",null,null,null,null,null,null,null,null,null,null,null,null,null,null,null,null,null,null,null,"フリーエリア計器払出\n希 望 事 業 所 名",null,null,null,null,null,null,null,null,null,null,null,null,null,null,null,null,null,null,null,"本契約前の臨時契約の有無",null,null,null,null,null,null,null,null,"臨時受付№"]
[]
[null,null,null,null,null,null,null,null,null,null,null,null,null,null,null,null,null,null,null,null,null,null,null,null,null,null,null,null,null,null,null,null,null,null,null,null,null,null,null,null,"開始日",null,null,null,null,null,null,null,null,null,"終了日"]
[]
[null,null,null,null,null,null,null,null,null,null,null,null,null,null,null,null,null,null,null,null,null,{"$f":"IF(入力用!O33=2,入力用!S5,IF(入力用!O33=3,入力用!S6,\"\"))","v":""},null,null,null,null,null,null,null,null,null,null,null,{"$f":"IF(入力用!C34=\"\",\"\",入力用!C34)","v":""},null,null,null,null,null,null,{"$f":"IF(入力用!C36=\"\",\"\",入力用!C36)","v":""},null,null,"月",null,{"$f":"IF(入力用!E36=\"\",\"\",入力用!E36)","v":""},null,null,"日",null,{"$f":"IF(入力用!C37=\"\",\"\",入力用!C37)","v":""},null,null,"月",null,{"$f":"IF(入力用!E37=\"\",\"\",入力用!E37)","v":""},null,null,"日",null,{"$f":"IF(入力用!C35=\"\",\"\",入力用!C35)","v":""},null,null,null,null,null,null,null,null,null,null,null,null,null,null,null,null,null,null,null,{"$f":"IF(入力用!O38=2,入力用!T5,IF(入力用!O38=3,入力用!T6,\"\"))","v":""},null,null,null,null,null,null,null,null,"(　　　　　　)"]
[]
[null,null,null,null,null,null,null,null,null,null,null,null,null,null,null,null,null,null,null,null,null,null,null,null,null,null,null,null,null,null,null,null,null,null,null,null,null,null,"Ａ"]
[]
[null,"契約負荷設備内訳",null,null,null,null,"機　器　種　別",null,null,null,null,null,null,null,null,null,null,null,null,null,null,null,null,null,null,null,null,null,null,null,null,"出　力",null,null,null,null,null,null,null,null,null,null,null,"入　力（ａ）",null,null,null,null,null,null,null,null,null,null,null,"力　率",null,null,null,null,null,null,null,null,"台数（ｂ）",null,null,null,null,null,null,"合計(ａ×ｂ)"]
[]
[]
[null,null,null,null,null,null,{"$f":"IF(入力用!C39=\"\",\"\",入力用!C39)","v":""},null,null,null,null,null,null,null,null,null,null,null,null,null,null,null,null,null,null,null,null,null,null,null,null,{"$f":"IF(入力用!C40=\"\",\"\",入力用!C40)","v":""},null,null,null,null,null,null,null,null,{"$f":"IF(入力用!O40=2,入力用!U5,IF(入力用!O40=3,入力用!U6,\"㏋\nkW\"))","v":"㏋\nkW"},null,null,{"$f":"IF(入力用!P40=0,\"\",入力用!P40)","v":""},null,null,null,null,null,null,null,null,"ｋＷ",null,null,{"$f":"IF(入力用!O42=2,入力用!V5,IF(入力用!O42=3,入力用!V6,IF(入力用!O42=4,入力用!V7,IF(入力用!O42=5,入力用!V8,\"\"))))","v":""},null,null,null,null,null,null,null,null,{"$f":"IF(入力用!C43=\"\",\"\",入力用!C43)","v":""},null,null,null,"台",null,null,{"$f":"入力用!P41","v":""},null,null,null,null,null,null,"㎾"]
[]
[]
[null,null,null,null,null,null,{"$f":"IF(入力用!C44=\"\",\"\",入力用!C44)","v":""},null,null,null,null,null,null,null,null,null,null,null,null,null,null,null,null,null,null,null,null,null,null,null,null,{"$f":"IF(入力用!C45=\"\",\"\",入力用!C45)","v":""},null,null,null,null,null,null,null,null,{"$f":"IF(入力用!O45=2,入力用!U5,IF(入力用!O45=3,入力用!U6,\"㏋\nkW\"))","v":"㏋\nkW"},null,null,{"$f":"IF(入力用!P45=0,\"\",入力用!P45)","v":""},null,null,null,null,null,null,null,null,"ｋＷ",null,null,{"$f":"IF(入力用!O47=2,入力用!V5,IF(入力用!O47=3,入力用!V6,IF(入力用!O47=4,入力用!V7,IF(入力用!O47=5,入力用!V8,\"\"))))","v":""},null,null,null,null,null,null,null,null,{"$f":"IF(入力用!C48=\"\",\"\",入力用!C48)","v":""},null,null,null,"台",null,null,{"$f":"入力用!P46","v":""},null,null,null,null,null,null,"㎾"]
[]
[]
[null,null,null,null,null,null,{"$f":"IF(入力用!C49=\"\",\"\",入力用!C49)","v":""},null,null,null,null,null,null,null,null,null,null,null,null,null,null,null,null,null,null,null,null,null,null,null,null,{"$f":"IF(入力用!C50=\"\",\"\",入力用!C50)","v":""},null,null,null,null,null,null,null,null,{"$f":"IF(入力用!O50=2,入力用!U5,IF(入力用!O50=3,入力用!U6,\"㏋\nkW\"))","v":"㏋\nkW"},null,null,{"$f":"IF(入力用!P50=0,\"\",入力用!P50)","v":""},null,null,null,null,null,null,null,null,"ｋＷ",null,null,{"$f":"IF(入力用!O52=2,入力用!V5,IF(入力用!O52=3,入力用!V6,IF(入力用!O52=4,入力用!V7,IF(入力用!O52=5,入力用!V8,\"\"))))","v":""},null,null,null,null,null,null,null,null,{"$f":"IF(入力用!C53=\"\",\"\",入力用!C53)","v":""},null,null,null,"台",null,null,{"$f":"入力用!P51","v":""},null,null,null,null,null,null,"㎾"]
[]
[]
[null,null,null,null,null,null,{"$f":"IF(入力用!C54=\"\",\"\",入力用!C54)","v":""},null,null,null,null,null,null,null,null,null,null,null,null,null,null,null,null,null,null,null,null,null,null,null,null,{"$f":"IF(入力用!C55=\"\",\"\",入力用!C55)","v":""},null,null,null,null,null,null,null,null,{"$f":"IF(入力用!O55=2,入力用!U5,IF(入力用!O55=3,入力用!U6,\"㏋\nkW\"))","v":"㏋\nkW"},null,null,{"$f":"IF(入力用!P55=0,\"\",入力用!P55)","v":""},null,null,null,null,null,null,null,null,"ｋＷ",null,null,{"$f":"IF(入力用!O57=2,入力用!V5,IF(入力用!O57=3,入力用!V6,IF(入力用!O57=4,入力用!V7,IF(入力用!O57=5,入力用!V8,\"\"))))","v":""},null,null,null,null,null,null,null,null,{"$f":"IF(入力用!C58=\"\",\"\",入力用!C58)","v":""},null,null,null,"台",null,null,{"$f":"入力用!P56","v":""},null,null,null,null,null,null,"㎾"]
[]
[]
[null,null,null,null,null,null,{"$f":"IF(入力用!C59=\"\",\"\",入力用!C59)","v":""},null,null,null,null,null,null,null,null,null,null,null,null,null,null,null,null,null,null,null,null,null,null,null,null,{"$f":"IF(入力用!C60=\"\",\"\",入力用!C60)","v":""},null,null,null,null,null,null,null,null,{"$f":"IF(入力用!O60=2,入力用!U5,IF(入力用!O60=3,入力用!U6,\"㏋\nkW\"))","v":"㏋\nkW"},null,null,{"$f":"IF(入力用!P60=0,\"\",入力用!P60)","v":""},null,null,null,null,null,null,null,null,"ｋＷ",null,null,{"$f":"IF(入力用!O62=2,入力用!V5,IF(入力用!O62=3,入力用!V6,IF(入力用!O62=4,入力用!V7,IF(入力用!O62=5,入力用!V8,\"\"))))","v":""},null,null,null,null,null,null,null,null,{"$f":"IF(入力用!C63=\"\",\"\",入力用!C63)","v":""},null,null,null,"台",null,null,{"$f":"入力用!P61","v":""},null,null,null,null,null,null,"㎾"]
[]
[]
[null,null,null,null,null,null,{"$f":"IF(入力用!C64=\"\",\"\",入力用!C64)","v":""},null,null,null,null,null,null,null,null,null,null,null,null,null,null,null,null,null,null,null,null,null,null,null,null,{"$f":"IF(入力用!C65=\"\",\"\",入力用!C65)","v":""},null,null,null,null,null,null,null,null,{"$f":"IF(入力用!O65=2,入力用!U5,IF(入力用!O65=3,入力用!U6,\"㏋\nkW\"))","v":"㏋\nkW"},null,null,{"$f":"IF(入力用!P65=0,\"\",入力用!P65)","v":""},null,null,null,null,null,null,null,null,"ｋＷ",null,null,{"$f":"IF(入力用!O67=2,入力用!V5,IF(入力用!O67=3,入力用!V6,IF(入力用!O67=4,入力用!V7,IF(入力用!O67=5,入力用!V8,\"\"))))","v":""},null,null,null,null,null,null,null,null,{"$f":"IF(入力用!C68=\"\",\"\",入力用!C68)","v":""},null,null,null,"台",null,null,{"$f":"入力用!P66","v":""},null,null,null,null,null,null,"㎾"]
[]
[]
[null,null,null,null,null,null,{"$f":"IF(入力用!C69=\"\",\"\",入力用!C69)","v":""},null,null,null,null,null,null,null,null,null,null,null,null,null,null,null,null,null,null,null,null,null,null,null,null,{"$f":"IF(入力用!C70=\"\",\"\",入力用!C70)","v":""},null,null,null,null,null,null,null,null,{"$f":"IF(入力用!O70=2,入力用!U5,IF(入力用!O70=3,入力用!U6,\"㏋\nkW\"))","v":"㏋\nkW"},null,null,{"$f":"IF(入力用!P70=0,\"\",入力用!P70)","v":""},null,null,null,null,null,null,null,null,"ｋＷ",null,null,{"$f":"IF(入力用!O72=2,入力用!V5,IF(入力用!O72=3,入力用!V6,IF(入力用!O72=4,入力用!V7,IF(入力用!O72=5,入力用!V8,\"\"))))","v":""},null,null,null,null,null,null,null,null,{"$f":"IF(入力用!C73=\"\",\"\",入力用!C73)","v":""},null,null,null,"台",null,null,{"$f":"入力用!P71","v":""},null,null,null,null,null,null,"㎾"]
[]
[]
[null,null,null,null,null,null,{"$f":"IF(入力用!C74=\"\",\"\",入力用!C74)","v":""},null,null,null,null,null,null,null,null,null,null,null,null,null,null,null,null,null,null,null,null,null,null,null,null,{"$f":"IF(入力用!C75=\"\",\"\",入力用!C75)","v":""},null,null,null,null,null,null,null,null,{"$f":"IF(入力用!O75=2,入力用!U5,IF(入力用!O75=3,入力用!U6,\"㏋\nkW\"))","v":"㏋\nkW"},null,null,{"$f":"IF(入力用!P75=0,\"\",入力用!P75)","v":""},null,null,null,null,null,null,null,null,"ｋＷ",null,null,{"$f":"IF(入力用!O77=2,入力用!V5,IF(入力用!O77=3,入力用!V6,IF(入力用!O77=4,入力用!V7,IF(入力用!O77=5,入力用!V8,\"\"))))","v":""},null,null,null,null,null,null,null,null,{"$f":"IF(入力用!C78=\"\",\"\",入力用!C78)","v":""},null,null,null,"台",null,null,{"$f":"入力用!P76","v":""},null,null,null,null,null,null,"㎾"]
[]
[]
[null,null,null,null,null,null,{"$f":"IF(入力用!C79=\"\",\"\",入力用!C79)","v":""},null,null,null,null,null,null,null,null,null,null,null,null,null,null,null,null,null,null,null,null,null,null,null,null,{"$f":"IF(入力用!C80=\"\",\"\",入力用!C80)","v":""},null,null,null,null,null,null,null,null,{"$f":"IF(入力用!O80=2,入力用!U5,IF(入力用!O80=3,入力用!U6,\"㏋\nkW\"))","v":"㏋\nkW"},null,null,{"$f":"IF(入力用!P80=0,\"\",入力用!P80)","v":""},null,null,null,null,null,null,null,null,"ｋＷ",null,null,{"$f":"IF(入力用!O82=2,入力用!V5,IF(入力用!O82=3,入力用!V6,IF(入力用!O82=4,入力用!V7,IF(入力用!O82=5,入力用!V8,\"\"))))","v":""},null,null,null,null,null,null,null,null,{"$f":"IF(入力用!C83=\"\",\"\",入力用!C83)","v":""},null,null,null,"台",null,null,{"$f":"入力用!P81","v":""},null,null,null,null,null,null,"㎾"]
[]
[]
[null,null,null,null,null,null,{"$f":"IF(入力用!C84=\"\",\"\",入力用!C84)","v":""},null,null,null,null,null,null,null,null,null,null,null,null,null,null,null,null,null,null,null,null,null,null,null,null,{"$f":"IF(入力用!C85=\"\",\"\",入力用!C85)","v":""},null,null,null,null,null,null,null,null,{"$f":"IF(入力用!O85=2,入力用!U5,IF(入力用!O85=3,入力用!U6,\"㏋\nkW\"))","v":"㏋\nkW"},null,null,{"$f":"IF(入力用!P85=0,\"\",入力用!P85)","v":""},null,null,null,null,null,null,null,null,"ｋＷ",null,null,{"$f":"IF(入力用!O87=2,入力用!V5,IF(入力用!O87=3,入力用!V6,IF(入力用!O87=4,入力用!V7,IF(入力用!O87=5,入力用!V8,\"\"))))","v":""},null,null,null,null,null,null,null,null,{"$f":"IF(入力用!C88=\"\",\"\",入力用!C88)","v":""},null,null,null,"台",null,null,{"$f":"入力用!P86","v":""},null,null,null,null,null,null,"㎾"]
[]
[]
[null,null,null,null,null,null,{"$f":"IF(入力用!C89=\"\",\"\",入力用!C89)","v":""},null,null,null,null,null,null,null,null,null,null,null,null,null,null,null,null,null,null,null,null,null,null,null,null,{"$f":"IF(入力用!C90=\"\",\"\",入力用!C90)","v":""},null,null,null,null,null,null,null,null,{"$f":"IF(入力用!O90=2,入力用!U5,IF(入力用!O90=3,入力用!U6,\"㏋\nkW\"))","v":"㏋\nkW"},null,null,{"$f":"IF(入力用!P90=0,\"\",入力用!P90)","v":""},null,null,null,null,null,null,null,null,"ｋＷ",null,null,{"$f":"IF(入力用!O92=2,入力用!V5,IF(入力用!O92=3,入力用!V6,IF(入力用!O92=4,入力用!V7,IF(入力用!O92=5,入力用!V8,\"\"))))","v":""},null,null,null,null,null,null,null,null,{"$f":"IF(入力用!C93=\"\",\"\",入力用!C93)","v":""},null,null,null,"台",null,null,{"$f":"入力用!P91","v":""},null,null,null,null,null,null,"㎾"]
[]
[]
[null,null,null,null,null,null,{"$f":"IF(入力用!C94=\"\",\"\",入力用!C94)","v":""},null,null,null,null,null,null,null,null,null,null,null,null,null,null,null,null,null,null,null,null,null,null,null,null,{"$f":"IF(入力用!C95=\"\",\"\",入力用!C95)","v":""},null,null,null,null,null,null,null,null,{"$f":"IF(入力用!O95=2,入力用!U5,IF(入力用!O95=3,入力用!U6,\"㏋\nkW\"))","v":"㏋\nkW"},null,null,{"$f":"IF(入力用!P95=0,\"\",入力用!P95)","v":""},null,null,null,null,null,null,null,null,"ｋＷ",null,null,{"$f":"IF(入力用!O97=2,入力用!V5,IF(入力用!O97=3,入力用!V6,IF(入力用!O97=4,入力用!V7,IF(入力用!O97=5,入力用!V8,\"\"))))","v":""},null,null,null,null,null,null,null,null,{"$f":"IF(入力用!C98=\"\",\"\",入力用!C98)","v":""},null,null,null,"台",null,null,{"$f":"入力用!P96","v":""},null,null,null,null,null,null,"㎾"]
[]
[]
[null,null,null,null,null,null,{"$f":"IF(入力用!C99=\"\",\"\",入力用!C99)","v":""},null,null,null,null,null,null,null,null,null,null,null,null,null,null,null,null,null,null,null,null,null,null,null,null,{"$f":"IF(入力用!C100=\"\",\"\",入力用!C100)","v":""},null,null,null,null,null,null,null,null,{"$f":"IF(入力用!O100=2,入力用!U5,IF(入力用!O100=3,入力用!U6,\"㏋\nkW\"))","v":"㏋\nkW"},null,null,{"$f":"IF(入力用!P100=0,\"\",入力用!P100)","v":""},null,null,null,null,null,null,null,null,"ｋＷ",null,null,{"$f":"IF(入力用!O102=2,入力用!V5,IF(入力用!O102=3,入力用!V6,IF(入力用!O102=4,入力用!V7,IF(入力用!O102=5,入力用!V8,\"\"))))","v":""},null,null,null,null,null,null,null,null,{"$f":"IF(入力用!C103=\"\",\"\",入力用!C103)","v":""},null,null,null,"台",null,null,{"$f":"入力用!P101","v":""},null,null,null,null,null,null,"㎾"]
[]
[]
[null,null,null,null,null,null,{"$f":"IF(入力用!C104=\"\",\"\",入力用!C104)","v":""},null,null,null,null,null,null,null,null,null,null,null,null,null,null,null,null,null,null,null,null,null,null,null,null,{"$f":"IF(入力用!C105=\"\",\"\",入力用!C105)","v":""},null,null,null,null,null,null,null,null,{"$f":"IF(入力用!O105=2,入力用!U5,IF(入力用!O105=3,入力用!U6,\"㏋\nkW\"))","v":"㏋\nkW"},null,null,{"$f":"IF(入力用!P105=0,\"\",入力用!P105)","v":""},null,null,null,null,null,null,null,null,"ｋＷ",null,null,{"$f":"IF(入力用!O107=2,入力用!V5,IF(入力用!O107=3,入力用!V6,IF(入力用!O107=4,入力用!V7,IF(入力用!O107=5,入力用!V8,\"\"))))","v":""},null,null,null,null,null,null,null,null,{"$f":"IF(入力用!C108=\"\",\"\",入力用!C108)","v":""},null,null,null,"台",null,null,{"$f":"入力用!P106","v":""},null,null,null,null,null,null,"㎾"]
[]
[]
[null,null,null,null,null,null,{"$f":"IF(入力用!C109=\"\",\"\",入力用!C109)","v":""},null,null,null,null,null,null,null,null,null,null,null,null,null,null,null,null,null,null,null,null,null,null,null,null,{"$f":"IF(入力用!C110=\"\",\"\",入力用!C110)","v":""},null,null,null,null,null,null,null,null,{"$f":"IF(入力用!O110=2,入力用!U5,IF(入力用!O110=3,入力用!U6,\"㏋\nkW\"))","v":"㏋\nkW"},null,null,{"$f":"IF(入力用!P110=0,\"\",入力用!P110)","v":""},null,null,null,null,null,null,null,null,"ｋＷ",null,null,{"$f":"IF(入力用!O112=2,入力用!V5,IF(入力用!O112=3,入力用!V6,IF(入力用!O112=4,入力用!V7,IF(入力用!O112=5,入力用!V8,\"\"))))","v":""},null,null,null,null,null,null,null,null,{"$f":"IF(入力用!C113=\"\",\"\",入力用!C113)","v":""},null,null,null,"台",null,null,{"$f":"入力用!P111","v":""},null,null,null,null,null,null,"㎾"]
[]
[]
[null,null,null,null,null,null,"機 器 種 別",null,null,null,null,null,null,null,null,"日本工業規格",null,null,null,null,null,null,null,"コンデンサ",null,null,null,null,null,null,null,"1次入力",null,null,null,null,null,null,null,null,null,null,null,"入　力（ａ）",null,null,null,null,null,null,null,null,null,null,null,"力　率",null,null,null,null,null,null,null,null,"台数（ｂ）",null,null,null,null,null,null,"合計(ａ×ｂ)"]
[]
[null,null,null,null,null,null,"電気溶接機",null,null,null,null,null,null,null,null,{"$f":"IF(入力用!O114=2,入力用!W5,IF(入力用!O114=3,入力用!W6,\"\"))","v":""},null,null,null,null,null,null,null,{"$f":"IF(入力用!O115=2,入力用!X5,IF(入力用!O115=3,入力用!X6,IF(入力用!O115=4,入力用!X7,\"\")))","v":""},null,null,null,null,null,null,null,{"$f":"IF(入力用!C116=\"\",\"\",入力用!C116)","v":""},null,null,null,null,null,null,null,null,"kVA",null,null,{"$f":"IF(入力用!P116=0,\"\",入力用!P116)","v":""},null,null,null,null,null,null,null,null,"ｋＷ",null,null,{"$f":"IF(入力用!O118=2,入力用!Y5,IF(入力用!O118=3,入力用!Y6,IF(入力用!O118=4,入力用!Y7,\"\")))","v":""},null,null,null,null,null,null,null,null,{"$f":"IF(入力用!C119=\"\",\"\",入力用!C119)","v":""},null,null,null,"台",null,null,{"$f":"入力用!P117","v":""},null,null,null,null,null,null,"㎾"]
[]
[]
[null,null,null,null,null,null,"電気溶接機",null,null,null,null,null,null,null,null,{"$f":"IF(入力用!O120=2,入力用!W5,IF(入力用!O120=3,入力用!W6,\"\"))","v":""},null,null,null,null,null,null,null,{"$f":"IF(入力用!O121=2,入力用!X5,IF(入力用!O121=3,入力用!X6,IF(入力用!O121=4,入力用!X7,\"\")))","v":""},null,null,null,null,null,null,null,{"$f":"IF(入力用!C122=\"\",\"\",入力用!C122)","v":""},null,null,null,null,null,null,null,null,"kVA",null,null,{"$f":"IF(入力用!P122=0,\"\",入力用!P122)","v":""},null,null,null,null,null,null,null,null,"ｋＷ",null,null,{"$f":"IF(入力用!O124=2,入力用!Y5,IF(入力用!O124=3,入力用!Y6,IF(入力用!O124=4,入力用!Y7,\"\")))","v":""},null,null,null,null,null,null,null,null,{"$f":"IF(入力用!C125=\"\",\"\",入力用!C125)","v":""},null,null,null,"台",null,null,{"$f":"入力用!P123","v":""},null,null,null,null,null,null,"㎾"]
[]
[]
[null,null,null,null,null,null,null,null,null,null,null,null,null,null,null,null,null,null,null,null,null,null,null,null,null,null,null,null,null,null,null,null,null,null,null,null,null,null,null,null,null,null,null,null,null,null,null,null,null,null,null,null,null,null,null,"力　率",null,null,null,null,null,null,null,null,"合計台数",null,null,null,null,null,null,"入力合計",null,null,null,null,null,null,null,null,"契約電力",null,null,null,null,null,null,null,null,null,{"$f":"IF(入力用!S32=0,\"\",入力用!S32)","v":""}]
[]
[null,null,null,null,null,null,null,null,null,null,null,null,null,null,null,null,null,null,null,null,null,null,null,null,null,null,null,null,null,null,null,null,null,null,null,null,null,null,null,null,null,null,null,null,null,null,null,null,null,null,null,null,null,null,null,"85％",null,null,null,{"$f":"IF(入力用!O33=2,\"超過\",IF(入力用!S30=\"\",\"超過\n未満\",IF(入力用!S30>0.85,\"超過\",IF(入力用!S30<0.85,\"未満\",\"\"))))","v":"超過\n未満"},null,null,null,null,{"$f":"IF(SUM(BM60:BP104,BM107:BP112)=0,\"\",SUM(BM60:BP104,BM107:BP112))","v":""},null,null,null,"台",null,null,{"$f":"IF(入力用!S35=0,\"\",入力用!S35)","v":""},null,null,null,null,null,null,"㎾"]
[null,null,null,null,null,null,null,null,null,null,null,null,null,null,null,null,null,null,null,null,null,null,null,null,null,null,null,null,null,null,null,null,null,null,null,null,null,null,null,null,null,null,null,null,null,null,null,null,null,null,null,null,null,null,null,null,null,null,null,null,null,null,null,null,null,null,null,null,null,null,null,null,null,null,null,null,null,null,null,null,null,null,null,null,null,null,null,null,null,null,null,null,null,null,null,null,null,"ｋＷ"]
[]
[null,"異動種別",null,null,"・新設　　 　・減少　 　　　・転出",null,null,null,null,null,null,null,null,null,null,null,null,null,null,null,null,null,null,null,null,null,null,null,"供給地点特定番号",null,null,null,null,null,null,null,"発行\n回数",null,null,"支店",null,"ﾌﾞﾛｯｸ",null,null,"住所",null,null,null,null,"街区",null,null,"契約№",null,null,null,null,"枝番",null,null,"種別",null,null,null,null,null,"送電日\n（異動日）"]
[]
[null,null,null,null,"・種変(+)　　・設備撤去　　・名義変更"]
[]
[null,null,null,null,"・ｺｰﾄﾞ変(+)　・設備変更　　 ・その他",null,null,null,null,null,null,null,null,null,null,null,null,null,null,null,null,null,null,null,null,null,null,null,null,null,null,"010",null,null,null,null,null,null,null,null,null,null,null,null,null,null,null,null,null,null,null,null,null,null,null,null,null,null,null,null,{"$f":"'３枚目'!AK41","v":""},null,null,"00"]
[]
[null,null,null,null,"・増加　　 　・転入　　　　（　　　　）",null,null,null,null,null,null,null,null,null,null,null,null,null,null,null,null,null,null,null,null,null,null,null,null,null,null,null,null,null,null,null,null,null,null,null,null,null,null,null,null,null,null,null,null,null,null,null,null,null,null,null,null,null,null,null,null,null,null,null,null,null,null,null,null,null,null,"年",null,null,null,"月",null,null,null,"日"]
[]
[]
[null,"　※　太枠内をご記入願います。"]
[]
[null,"　※　ご契約名義またはお支払方法変更をご希望の場合は，カスタマーサービスセンター（0120-680-340）までご連絡ください。"]
[]
[null,"　※　ご提供いただいた個人情報は，電気事業の範囲内で利用いたします。"]
[]
[]
[null,null,"拝啓　平素は弊社事業に格別のお引き立てを賜り，厚くお礼申し上げます。０１２３４５６７８９０１２３４５６７８９０１２３４５６"]
[]
[]
[null,null,"　さて，この度お客さまの電気ご使用につきまして，本申込書記載の内容にてご契約させていただきましたことをお知らせいたします。"]
[]
[]
[null,null,"　なお，上記契約負荷設備は，申込書記載の電気工事会社様によって最終確認いただいておりますが，機器種別および容量等の相違によ"]
[]
[]
[null,null,"り，お客さまおよび弊社の各設備に悪影響を及ぼす恐れがあり，また電気料金が変更となる場合がございますので，大変お手数ではござ"]
[]
[]
[null,null,"いますが，別途送付いたします「ご契約内容のお知らせについて」とともに，内容をご確認いただきますようお願いいたします。０１２"]
[]
[]
[null,null,"０１２３４５６７８９０１２３４５６７８９０１２３４５６７８９０１２３４５６７８９０１２３４５６７８９０１２３４５６７敬具８　"]
[]
[]
[]
[null,"＜連絡事項＞"]
[]
[]
[]
[]
[]
[]
[]
[]
[]
["北　海　道　電　力　ネ　ッ　ト　ワ　ー　ク　株　式　会　社"]

{"sheet":"３枚目","index":3,"n_rows":173,"n_cols":111,"rows_kept":173,"cut":false,"hidden":false,"merged":[[1,93,5,109],[104,6,105,14],[104,15,105,22],[104,23,105,30],[104,31,105,42],[104,43,105,54],[104,55,105,63],[104,64,105,70],[109,6,111,14],[109,15,111,22],[109,23,111,30],[109,31,111,39],[109,40,111,42],[109,43,111,51],[109,52,111,54],[106,6,108,14],[106,15,108,22],[106,23,108,30],[106,31,108,39],[106,40,108,42],[106,43,108,51],[106,52,108,54],[106,55,108,63],[109,55,111,63],[101,6,103,30],[101,31,103,39],[101,40,103,42],[101,43,103,51],[101,52,103,54],[101,55,103,63],[101,64,103,67],[101,68,103,70],[33,11,39,20],[98,6,100,30],[98,31,100,39],[98,40,100,42],[98,43,100,51],[98,52,100,54],[98,55,100,63],[98,64,100,67],[98,68,100,70],[92,6,94,30],[92,31,94,39],[92,40,94,42],[92,43,94,51],[92,52,94,54],[92,55,94,63],[92,64,94,67],[95,6,97,30],[95,31,97,39],[95,40,97,42],[95,43,97,51],[95,52,97,54],[95,55,97,63],[95,64,97,67],[95,68,97,70],[95,71,97,77],[89,6,91,30],[89,31,91,39],[89,40,91,42],[89,43,91,51],[89,52,91,54],[89,55,91,63],[89,64,91,67],[89,68,91,70],[89,71,91,77],[86,6,88,30],[86,31,88,39],[86,40,88,42],[86,43,88,51],[86,52,88,54],[86,55,88,63],[86,64,88,67],[86,68,88,70],[86,71,88,77],[83,6,85,30],[83,31,85,39],[83,40,85,42],[83,43,85,51],[83,52,85,54],[83,55,85,63],[83,64,85,67],[83,68,85,70],[83,71,85,77],[80,6,82,30],[80,31,82,39],[80,40,82,42],[80,43,82,51],[80,52,82,54],[80,55,82,63],[80,64,82,67],[80,68,82,70],[80,71,82,77],[77,6,79,30],[77,31,79,39],[77,40,79,42],[77,43,79,51],[77,52,79,54],[77,55,79,63],[77,64,79,67],[77,68,79,70],[77,71,79,77],[74,6,76,30],[74,31,76,39],[74,40,76,42],[74,43,76,51],[74,52,76,54],[74,55,76,63],[74,64,76,67],[74,68,76,70],[71,6,73,30],[71,31,73,39],[71,40,73,42],[71,43,73,51],[71,52,73,54],[71,55,73,63],[68,6,70,30],[68,31,70,39],[68,40,70,42],[68,43,70,51],[68,52,70,54],[68,55,70,63],[68,64,70,67],[71,71,73,77],[71,78,73,79],[68,68,70,70],[68,71,70,77],[71,64,73,67],[71,68,73,70],[62,6,64,30],[62,31,64,39],[62,40,64,42],[62,43,64,51],[62,52,64,54],[62,55,64,63],[65,68,67,70],[65,71,67,77],[65,78,67,79],[62,64,64,67],[48,33,51,39],[48,40,49,59],[48,60,51,79],[52,50,55,52],[59,31,61,39],[59,40,61,42],[59,43,61,51],[59,52,61,54],[59,55,61,63],[59,64,61,67],[54,38,55,39],[56,31,58,42],[56,43,58,54],[56,55,58,63],[56,64,58,70],[56,71,58,79],[52,21,55,32],[52,33,55,37],[52,40,55,42],[52,43,55,44],[52,45,55,47],[52,48,55,49],[52,53,55,54],[52,55,55,57],[33,63,34,80],[33,86,34,110],[52,58,55,59],[52,60,55,79],[50,40,51,49],[50,50,51,59],[57,88,59,93],[112,90,116,96],[60,90,62,99],[63,88,65,89],[52,89,55,97],[62,68,64,70],[62,71,64,77],[62,78,64,79],[65,40,67,42],[65,43,67,51],[65,52,67,54],[65,55,67,63],[65,64,67,67],[74,71,76,77],[74,78,76,79],[77,78,79,79],[80,78,82,79],[83,78,85,79],[35,86,37,110],[38,104,39,104],[38,93,39,97],[38,86,39,88],[38,89,39,92],[38,105,39,109],[38,98,39,98],[38,99,39,103],[33,81,39,85],[115,97,116,99],[112,80,116,89],[57,81,59,87],[63,90,65,99],[60,81,62,87],[63,81,65,87],[38,63,39,67],[38,110,39,110],[38,68,39,68],[38,80,39,80],[38,75,39,79],[101,71,103,77],[109,64,111,67],[92,68,94,70],[92,71,94,77],[98,71,100,77],[86,78,88,79],[96,81,103,87],[57,103,64,110],[41,101,48,102],[49,101,56,102],[57,101,64,102],[41,103,48,110],[49,103,56,110],[60,88,62,89],[97,103,104,110],[73,103,80,110],[81,101,88,102],[81,103,88,110],[89,103,96,110],[89,101,96,102],[73,101,80,102],[65,101,72,102],[48,80,51,88],[48,89,51,97],[52,80,55,88],[59,68,61,70],[59,71,61,77],[59,78,61,79],[123,79,124,82],[112,55,113,63],[89,78,91,79],[92,78,94,79],[95,78,97,79],[98,78,100,79],[101,78,103,79],[104,71,105,79],[109,68,111,70],[109,71,111,77],[109,78,111,79],[106,68,108,70],[106,71,108,77],[106,78,108,79],[106,64,108,67],[123,71,124,74],[114,78,116,79],[117,57,120,59],[121,57,124,59],[112,71,113,79],[117,79,122,82],[40,1,47,5],[45,15,47,19],[45,6,47,11],[46,12,47,14],[127,20,128,24],[48,1,55,5],[117,1,124,3],[121,4,122,27],[48,6,55,20],[48,21,51,32],[56,1,111,5],[56,6,58,30],[59,6,61,30],[65,6,67,30],[65,31,67,39],[123,4,124,27],[125,1,128,3],[125,20,126,24],[125,15,126,19],[127,15,128,19],[125,37,126,45],[127,25,128,36],[125,25,126,36],[127,37,128,45],[30,11,32,13],[30,14,32,19],[16,6,23,10],[114,68,116,70],[127,80,128,89],[112,64,113,70],[117,60,120,62],[125,74,126,79],[117,71,122,74],[117,41,120,43],[117,49,120,51],[114,64,116,67],[114,55,116,58],[114,59,116,63],[68,78,70,79],[16,58,17,63],[121,41,124,43],[121,44,124,48],[127,46,128,51],[127,52,128,63],[125,46,126,51],[125,52,126,63],[127,64,128,73],[125,64,126,73],[6,0,9,110],[40,51,47,55],[13,64,15,68],[37,26,39,45],[46,20,47,22],[45,23,47,27],[46,28,47,30],[40,36,41,50],[40,31,47,35],[40,56,47,79],[16,11,17,17],[16,1,39,5],[30,6,32,10],[38,74,39,74],[25,99,26,103],[31,69,32,74],[31,98,32,98],[31,105,32,109],[25,105,26,109],[19,109,20,110],[16,75,18,110],[30,39,32,45],[22,47,23,63],[42,36,47,50],[125,97,126,99],[125,90,126,96],[121,101,128,102],[114,71,116,77],[24,6,29,10],[27,11,29,63],[38,51,39,58],[33,6,39,10],[38,59,39,62],[35,51,37,80],[38,69,39,73],[33,46,39,50],[33,51,34,52],[24,23,26,63],[57,94,59,99],[117,36,120,38],[117,52,120,56],[117,39,120,40],[121,36,124,38],[117,28,124,30],[119,4,120,27],[121,49,124,51],[30,20,32,20],[27,75,30,110],[137,94,138,96],[137,101,144,102],[139,86,142,88],[129,95,132,97],[129,101,136,102],[133,86,136,88],[133,89,136,91],[129,92,132,94],[133,92,136,94],[133,95,136,97],[129,86,132,88],[121,103,128,110],[105,101,112,102],[13,69,15,84],[23,69,24,110],[25,69,26,88],[25,89,26,92],[25,93,26,97],[25,98,26,98],[19,104,20,108],[13,85,15,89],[16,69,18,74],[19,103,20,103],[21,75,22,110],[25,104,26,104],[21,69,22,74],[31,93,32,97],[19,69,20,74],[19,75,20,89],[19,90,20,99],[19,100,20,102],[117,75,122,78],[127,90,128,99],[97,101,104,102],[113,101,120,102],[172,0,173,110],[168,80,171,83],[170,84,171,87],[170,88,171,93],[170,94,171,96],[145,101,152,102],[145,103,152,110],[153,103,160,110],[149,1,151,16],[166,84,169,85],[166,86,167,89],[166,90,167,99],[168,86,169,89],[168,90,169,99],[164,84,165,99],[164,80,167,83],[143,1,147,4],[143,5,147,21],[143,22,147,25],[143,26,147,39],[143,40,147,42],[143,43,147,56],[153,101,160,102],[170,97,171,99],[140,4,142,22],[129,1,136,3],[137,44,138,58],[137,41,142,43],[139,26,140,40],[137,26,138,40],[139,44,140,58],[141,26,142,40],[141,44,142,58],[129,4,132,9],[133,4,136,9],[129,10,136,12],[137,1,142,3],[137,4,139,22],[135,25,136,33],[129,25,130,33],[131,25,132,33],[129,22,136,24],[129,13,136,21],[133,25,134,33],[137,23,142,25],[16,18,17,18],[16,19,17,19],[16,20,17,20],[30,55,32,55],[16,21,17,21],[16,22,17,22],[16,23,17,23],[16,24,17,24],[16,25,17,25],[16,26,17,26],[16,36,17,36],[16,37,17,37],[16,38,17,38],[16,51,17,51],[16,52,17,52],[16,53,17,53],[16,54,17,54],[16,55,17,55],[25,110,26,110],[27,64,32,68],[33,56,34,56],[33,57,34,60],[16,64,26,68],[30,29,32,35],[105,103,112,110],[129,103,136,110],[137,103,144,110],[33,53,34,55],[30,36,32,38],[30,46,32,46],[30,47,32,54],[31,110,32,110],[30,56,32,63],[31,99,32,103],[31,104,32,104],[31,75,32,88],[31,89,32,92],[27,69,30,74],[127,74,128,79],[129,77,136,79],[133,80,136,82],[129,80,132,82],[174,0,175,110],[33,21,39,25],[96,88,99,97],[100,88,103,97],[125,4,128,14],[163,68,165,72],[163,73,165,75],[163,76,165,78],[166,52,168,54],[169,52,171,54],[65,103,72,110],[161,30,162,51],[161,52,162,78],[163,52,165,54],[129,83,132,85],[133,83,136,85],[129,89,132,91],[125,80,126,89],[123,75,124,78],[163,65,165,67],[137,81,138,85],[137,86,138,88],[137,89,138,93],[139,81,142,85],[10,1,11,25],[12,1,13,38],[117,44,120,48],[161,20,171,21],[161,22,162,29],[163,22,171,29],[24,21,26,22],[24,16,26,16],[24,17,26,20],[30,21,32,27],[30,28,32,28],[18,11,21,63],[22,11,23,19],[22,20,23,38],[24,11,26,12],[24,13,26,15],[22,39,23,46],[33,61,34,62],[121,39,124,40],[117,4,118,27],[121,52,124,56],[163,55,165,56],[163,57,165,59],[163,60,165,64],[121,60,124,62],[137,59,142,61],[141,66,142,67],[139,62,142,65],[117,66,124,70],[169,65,171,67],[169,68,171,72],[169,73,171,75],[166,65,168,67],[166,68,168,72],[166,73,168,75],[166,76,168,78],[166,55,168,56],[166,57,168,59],[166,60,168,64],[16,27,17,27],[16,28,17,28],[16,29,17,29],[16,30,17,30],[16,31,17,31],[16,32,17,32],[16,33,17,33],[16,34,17,34],[16,35,17,35],[16,56,17,56],[16,39,17,39],[16,40,17,40],[16,41,17,41],[16,42,17,42],[16,43,17,43],[16,44,17,44],[16,45,17,45],[16,46,17,46],[16,47,17,47],[16,50,17,50],[33,26,34,26],[33,27,34,27],[33,28,34,28],[33,29,34,29],[33,30,34,30],[33,31,34,31],[33,32,34,32],[33,33,34,33],[33,34,34,34],[35,26,36,26],[35,27,36,27],[35,28,36,28],[35,29,36,29],[35,30,36,30],[35,31,36,31],[35,32,36,32],[35,33,36,33],[35,34,36,34],[163,30,165,51],[166,30,168,51],[169,30,171,51],[35,44,36,44],[35,45,36,45],[40,80,47,85],[40,86,43,97],[44,86,47,97],[129,34,136,38],[129,39,132,55],[133,39,136,55],[35,35,36,35],[35,36,36,36],[35,37,36,37],[35,38,36,38],[35,39,36,39],[35,40,36,40],[35,41,36,41],[35,42,36,42],[35,43,36,43],[169,76,171,78],[169,55,171,56],[169,57,171,59],[169,60,171,64],[117,31,120,35],[121,31,124,35],[117,63,120,65],[121,63,124,65],[13,90,15,110],[113,103,120,110],[143,57,147,62],[143,63,147,79],[143,80,147,83],[143,84,147,93],[16,57,17,57],[33,35,34,35],[33,36,34,36],[33,37,34,37],[33,38,34,38],[33,39,34,39],[33,40,34,40],[33,41,34,41],[33,42,34,42],[33,43,34,43],[33,44,34,44],[33,45,34,45],[16,48,17,48],[16,49,17,49]]}
[]
[null,null,null,null,null,null,null,null,null,null,null,null,null,null,null,null,null,null,null,null,null,null,null,null,null,null,null,null,null,null,null,null,null,null,null,null,null,null,null,null,null,null,null,null,null,null,null,null,null,null,null,null,null,null,null,null,null,null,null,null,null,null,null,null,null,null,null,null,null,null,null,null,null,null,null,null,null,null,null,null,null,null,null,null,null,null,null,null,null,null,null,null,null,"離島等供給用"]
[]
[]
[]
[]
["電力需要用電気使用申込書（ほくでんNW控）"]
[]
[]
[]
[null,"北海道電力ネットワーク株式会社　御中"]
[]
[null,"電気の使用について貴社離島等供給約款[低圧用]を承認のうえ申し込みます。"]
[null,null,null,null,null,null,null,null,null,null,null,null,null,null,null,null,null,null,null,null,null,null,null,null,null,null,null,null,null,null,null,null,null,null,null,null,null,null,null,null,null,null,null,null,null,null,null,null,null,null,null,null,null,null,null,null,null,null,null,null,null,null,null,null,"受付扱所名",null,null,null,null,null,null,null,null,null,null,null,null,null,null,null,null,null,null,null,null,"受付№"]
[]
[]
[null,"お 客 さ ま",null,null,null,null,"ご契約名義",null,null,null,null,"（フリガナ）",null,null,null,null,null,null,{"$f":"DBCS(MID(ASC(入力用!C3),1,1))","v":""},{"$f":"DBCS(MID(ASC(入力用!C3),2,1))","v":""},{"$f":"DBCS(MID(ASC(入力用!C3),3,1))","v":""},{"$f":"DBCS(MID(ASC(入力用!C3),4,1))","v":""},{"$f":"DBCS(MID(ASC(入力用!C3),5,1))","v":""},{"$f":"DBCS(MID(ASC(入力用!C3),6,1))","v":""},{"$f":"DBCS(MID(ASC(入力用!C3),7,1))","v":""},{"$f":"DBCS(MID(ASC(入力用!C3),8,1))","v":""},{"$f":"DBCS(MID(ASC(入力用!C3),9,1))","v":""},{"$f":"DBCS(MID(ASC(入力用!C3),10,1))","v":""},{"$f":"DBCS(MID(ASC(入力用!C3),11,1))","v":""},{"$f":"DBCS(MID(ASC(入力用!C3),12,1))","v":""},{"$f":"DBCS(MID(ASC(入力用!C3),13,1))","v":""},{"$f":"DBCS(MID(ASC(入力用!C3),14,1))","v":""},{"$f":"DBCS(MID(ASC(入力用!C3),15,1))","v":""},{"$f":"DBCS(MID(ASC(入力用!C3),16,1))","v":""},{"$f":"DBCS(MID(ASC(入力用!C3),17,1))","v":""},{"$f":"DBCS(MID(ASC(入力用!C3),18,1))","v":""},{"$f":"DBCS(MID(ASC(入力用!C3),19,1))","v":""},{"$f":"DBCS(MID(ASC(入力用!C3),20,1))","v":""},{"$f":"DBCS(MID(ASC(入力用!C3),21,1))","v":""},{"$f":"DBCS(MID(ASC(入力用!C3),22,1))","v":""},{"$f":"DBCS(MID(ASC(入力用!C3),23,1))","v":""},{"$f":"DBCS(MID(ASC(入力用!C3),24,1))","v":""},{"$f":"DBCS(MID(ASC(入力用!C3),25,1))","v":""},{"$f":"DBCS(MID(ASC(入力用!C3),26,1))","v":""},{"$f":"DBCS(MID(ASC(入力用!C3),27,1))","v":""},{"$f":"DBCS(MID(ASC(入力用!C3),28,1))","v":""},{"$f":"DBCS(MID(ASC(入力用!C3),29,1))","v":""},{"$f":"DBCS(MID(ASC(入力用!C3),30,1))","v":""},{"$f":"DBCS(MID(ASC(入力用!C3),31,1))","v":""},{"$f":"DBCS(MID(ASC(入力用!C3),32,1))","v":""},{"$f":"DBCS(MID(ASC(入力用!C3),33,1))","v":""},{"$f":"DBCS(MID(ASC(入力用!C3),34,1))","v":""},{"$f":"DBCS(MID(ASC(入力用!C3),35,1))","v":""},{"$f":"DBCS(MID(ASC(入力用!C3),36,1))","v":""},{"$f":"DBCS(MID(ASC(入力用!C3),37,1))","v":""},{"$f":"DBCS(MID(ASC(入力用!C3),38,1))","v":""},{"$f":"DBCS(MID(ASC(入力用!C3),39,1))","v":""},{"$f":"DBCS(MID(ASC(入力用!C3),40,1))","v":""},null,null,null,null,null,null,"電気工事会社",null,null,null,null," 会社名",null,null,null,null,null,{"$f":"IF(入力用!C11=\"\",\"\",入力用!C11)","v":""}]
[]
[null,null,null,null,null,null,null,null,null,null,null,{"$f":"IF(入力用!C4=\"\",\"\",入力用!C4)","v":""}]
[null,null,null,null,null,null,null,null,null,null,null,null,null,null,null,null,null,null,null,null,null,null,null,null,null,null,null,null,null,null,null,null,null,null,null,null,null,null,null,null,null,null,null,null,null,null,null,null,null,null,null,null,null,null,null,null,null,null,null,null,null,null,null,null,null,null,null,null,null,"(担当者)",null,null,null,null,null,{"$f":"IF(入力用!C12=\"\",\"\",入力用!C12)","v":""},null,null,null,null,null,null,null,null,null,null,null,null,null,null,"工事会社№（",null,null,null,null,null,null,null,null,null,{"$f":"IF(入力用!C13=\"\",\"\",入力用!C13)","v":""},null,null,"-",{"$f":"IF(入力用!E13=\"\",\"\",入力用!E13)","v":""},null,null,null,null,")"]
[]
[null,null,null,null,null,null,null,null,null,null,null,null,null,null,null,null,null,null,null,null,null,null,null,null,null,null,null,null,null,null,null,null,null,null,null,null,null,null,null,null,null,null,null,null,null,null,null,null,null,null,null,null,null,null,null,null,null,null,null,null,null,null,null,null,null,null,null,null,null," 住　所",null,null,null,null,null,{"$f":"LEFT(入力用!C14,24)","v":""}]
[null,null,null,null,null,null,null,null,null,null,null,"（代表者肩書）",null,null,null,null,null,null,null,null,{"$f":"IF(入力用!C5=\"\",\"\",入力用!C5)","v":""},null,null,null,null,null,null,null,null,null,null,null,null,null,null,null,null,null,null,"（代表者名）",null,null,null,null,null,null,null,{"$f":"IF(入力用!C6=\"\",\"\",入力用!C6)","v":""}]
[null,null,null,null,null,null,null,null,null,null,null,null,null,null,null,null,null,null,null,null,null,null,null,null,null,null,null,null,null,null,null,null,null,null,null,null,null,null,null,null,null,null,null,null,null,null,null,null,null,null,null,null,null,null,null,null,null,null,null,null,null,null,null,null,null,null,null,null,null,{"$f":"MID(入力用!C14,25,28)","v":""}]
[null,null,null,null,null,null,"ご使用\n場　所",null,null,null,null,"(〒",null,{"$f":"LEFT(入力用!C7,3)","v":""},null,null,"-",{"$f":"RIGHT(入力用!C7,4)","v":""},null,null,null,")",null,{"$f":"LEFT(入力用!C8,25)","v":""}]
[null,null,null,null,null,null,null,null,null,null,null,null,null,null,null,null,null,null,null,null,null,null,null,null,null,null,null,null,null,null,null,null,null,null,null,null,null,null,null,null,null,null,null,null,null,null,null,null,null,null,null,null,null,null,null,null,null,null,null,null,null,null,null,null,null,null,null,null,null,{"$f":"MID(入力用!C14,53,12)","v":""},null,null,null,null,null,null,null,null,null,null,null,null,null,null,null,null,null,null,null,"電話(",null,null,null,{"$f":"IF(入力用!C15=\"\",\"\",入力用!C15)","v":""},null,null,null,null,"-",{"$f":"IF(入力用!E15=\"\",\"\",入力用!E15)","v":""},null,null,null,null,"-",{"$f":"IF(入力用!H15=\"\",\"\",入力用!H15)","v":""},null,null,null,null,")"]
[]
[null,null,null,null,null,null,null,null,null,null,null,{"$f":"MID(入力用!C8,26,33)","v":""},null,null,null,null,null,null,null,null,null,null,null,null,null,null,null,null,null,null,null,null,null,null,null,null,null,null,null,null,null,null,null,null,null,null,null,null,null,null,null,null,null,null,null,null,null,null,null,null,null,null,null,null,"建築会社",null,null,null,null," 会社名",null,null,null,null,null,{"$f":"IF(入力用!C16=\"\",\"\",入力用!C16)","v":""}]
[]
[]
[null,null,null,null,null,null,"電話番号",null,null,null,null,"固定",null,null,{"$f":"IF(入力用!C9=\"\",\"\",入力用!C9)","v":""},null,null,null,null,null,"-",{"$f":"IF(入力用!E9=\"\",\"\",入力用!E9)","v":""},null,null,null,null,null,null,"-",{"$f":"IF(入力用!H9=\"\",\"\",入力用!H9)","v":""},null,null,null,null,null,null,"携帯",null,null,{"$f":"IF(入力用!C10=\"\",\"\",入力用!C10)","v":""},null,null,null,null,null,null,"-",{"$f":"IF(入力用!E10=\"\",\"\",入力用!E10)","v":""},null,null,null,null,null,null,null,"-",{"$f":"IF(入力用!H10=\"\",\"\",入力用!H10)","v":""}]
[null,null,null,null,null,null,null,null,null,null,null,null,null,null,null,null,null,null,null,null,null,null,null,null,null,null,null,null,null,null,null,null,null,null,null,null,null,null,null,null,null,null,null,null,null,null,null,null,null,null,null,null,null,null,null,null,null,null,null,null,null,null,null,null,null,null,null,null,null,"(担当者)",null,null,null,null,null,{"$f":"IF(入力用!C17=\"\",\"\",入力用!C17)","v":""},null,null,null,null,null,null,null,null,null,null,null,null,null,"電話(",null,null,null,{"$f":"IF(入力用!C18=\"\",\"\",入力用!C18)","v":""},null,null,null,null,"-",{"$f":"IF(入力用!E18=\"\",\"\",入力用!E18)","v":""},null,null,null,null,"-",{"$f":"IF(入力用!H18=\"\",\"\",入力用!H18)","v":""},null,null,null,null,")"]
[]
[null,null,null,null,null,null,"お支払\n方　法",null,null,null,null,{"$f":"IF(OR(入力用!O19=2,入力用!O19=4),\"口座振込\",IF(入力用!O19=3,\"口座振替\",\"\"))","v":""},null,null,null,null,null,null,null,null,null,"支　払\n者　名",null,null,null,null,{"$f":"DBCS(MID(ASC(入力用!C20),1,1))","v":""},{"$f":"DBCS(MID(ASC(入力用!C20),2,1))","v":""},{"$f":"DBCS(MID(ASC(入力用!C20),3,1))","v":""},{"$f":"DBCS(MID(ASC(入力用!C20),4,1))","v":""},{"$f":"DBCS(MID(ASC(入力用!C20),5,1))","v":""},{"$f":"DBCS(MID(ASC(入力用!C20),6,1))","v":""},{"$f":"DBCS(MID(ASC(入力用!C20),7,1))","v":""},{"$f":"DBCS(MID(ASC(入力用!C20),8,1))","v":""},{"$f":"DBCS(MID(ASC(入力用!C20),9,1))","v":""},{"$f":"DBCS(MID(ASC(入力用!C20),10,1))","v":""},{"$f":"DBCS(MID(ASC(入力用!C20),11,1))","v":""},{"$f":"DBCS(MID(ASC(入力用!C20),12,1))","v":""},{"$f":"DBCS(MID(ASC(入力用!C20),13,1))","v":""},{"$f":"DBCS(MID(ASC(入力用!C20),14,1))","v":""},{"$f":"DBCS(MID(ASC(入力用!C20),15,1))","v":""},{"$f":"DBCS(MID(ASC(入力用!C20),16,1))","v":""},{"$f":"DBCS(MID(ASC(入力用!C20),17,1))","v":""},{"$f":"DBCS(MID(ASC(入力用!C20),18,1))","v":""},{"$f":"DBCS(MID(ASC(入力用!C20),19,1))","v":""},{"$f":"DBCS(MID(ASC(入力用!C20),20,1))","v":""},"請求書\n送付先",null,null,null,null,"(〒",null,{"$f":"LEFT(入力用!C22,3)","v":""},null,null,"-",{"$f":"RIGHT(入力用!C22,4)","v":""},null,null,null,")",null,{"$f":"IF(入力用!C23=\"同上\",\"\",LEFT(入力用!C23,12))","v":""},null,null,null,null,null,null,null,null,null,null,null,null,null,null,null,null,null,"ご連絡先",null,null,null,null,{"$f":"IF(OR(入力用!C25=\"同上\",入力用!C25=\"同左\"),\"\",LEFT(入力用!C25,17))","v":""}]
[]
[null,null,null,null,null,null,null,null,null,null,null,null,null,null,null,null,null,null,null,null,null,null,null,null,null,null,{"$f":"DBCS(MID(ASC(入力用!C20),21,1))","v":""},{"$f":"DBCS(MID(ASC(入力用!C20),22,1))","v":""},{"$f":"DBCS(MID(ASC(入力用!C20),23,1))","v":""},{"$f":"DBCS(MID(ASC(入力用!C20),24,1))","v":""},{"$f":"DBCS(MID(ASC(入力用!C20),25,1))","v":""},{"$f":"DBCS(MID(ASC(入力用!C20),26,1))","v":""},{"$f":"DBCS(MID(ASC(入力用!C20),27,1))","v":""},{"$f":"DBCS(MID(ASC(入力用!C20),28,1))","v":""},{"$f":"DBCS(MID(ASC(入力用!C20),29,1))","v":""},{"$f":"DBCS(MID(ASC(入力用!C20),30,1))","v":""},{"$f":"DBCS(MID(ASC(入力用!C20),31,1))","v":""},{"$f":"DBCS(MID(ASC(入力用!C20),32,1))","v":""},{"$f":"DBCS(MID(ASC(入力用!C20),33,1))","v":""},{"$f":"DBCS(MID(ASC(入力用!C20),34,1))","v":""},{"$f":"DBCS(MID(ASC(入力用!C20),35,1))","v":""},{"$f":"DBCS(MID(ASC(入力用!C20),36,1))","v":""},{"$f":"DBCS(MID(ASC(入力用!C20),37,1))","v":""},{"$f":"DBCS(MID(ASC(入力用!C20),38,1))","v":""},{"$f":"DBCS(MID(ASC(入力用!C20),39,1))","v":""},{"$f":"DBCS(MID(ASC(入力用!C20),40,1))","v":""},null,null,null,null,null,{"$f":"IF(入力用!C23=\"同上\",入力用!C23,MID(入力用!C23,13,20))","v":""},null,null,null,null,null,null,null,null,null,null,null,null,null,null,null,null,null,null,null,null,null,null,null,null,null,null,null,null,null,null,null,null,null,null,{"$f":"IF(OR(入力用!C25=\"同上\",入力用!C25=\"同左\"),入力用!C25,MID(入力用!C25,18,17))","v":""}]
[]
[null,null,null,null,null,null,null,null,null,null,null,null,null,null,null,null,null,null,null,null,null,null,null,null,null,null,{"$f":"IF(入力用!C21=\"\",\"\",入力用!C21)","v":""}]
[null,null,null,null,null,null,null,null,null,null,null,null,null,null,null,null,null,null,null,null,null,null,null,null,null,null,null,null,null,null,null,null,null,null,null,null,null,null,null,null,null,null,null,null,null,null,null,null,null,null,null,{"$f":"MID(入力用!C23,33,5)","v":""},null,null,null,null,null,null,null,"電話(",null,null,null,{"$f":"IF(入力用!C24=\"\",\"\",入力用!C24)","v":""},null,null,null,null,"-",{"$f":"IF(入力用!E24=\"\",\"\",入力用!E24)","v":""},null,null,null,null,"-",{"$f":"IF(入力用!H24=\"\",\"\",入力用!H24)","v":""},null,null,null,null,")",null,null,null,null,null,{"$f":"IF(OR(入力用!C25=\"同上\",入力用!C25=\"同左\"),\"\",MID(入力用!C25,35,1))","v":""},null,null,"電話(",null,null,null,{"$f":"IF(入力用!C26=\"\",\"\",入力用!C26)","v":""},null,null,null,null,"-",{"$f":"IF(入力用!E26=\"\",\"\",入力用!E26)","v":""},null,null,null,null,"-",{"$f":"IF(入力用!H26=\"\",\"\",入力用!H26)","v":""},null,null,null,null,")"]
[]
[null,"受　電\n希望日",null,null,null,null,null,null,null,null,null,null,null,null,null,null,null,null,null,null,null,null,null,null,null,null,null,null,null,null,null,"契約種別",null,null,null,null,{"$f":"IF(入力用!O30=2,\"51\",IF(入力用!O30=3,\"86\",\"\"))","v":""},null,null,null,null,null,null,null,null,null,null,null,null,null,null,"業種",null,null,null,null,{"$f":"IF(入力用!P30=\"\",\"\",入力用!P30)","v":""},null,null,null,null,null,null,null,null,null,null,null,null,null,null,null,null,null,null,null,null,null,null,null,"電設Ｎｅｔ\n申込",null,null,null,null,null,{"$f":"IF(入力用!O27=2,入力用!R39,IF(入力用!O27=3,入力用!R40,\"\"))","v":""}]
[null,null,null,null,null,null,null,null,null,null,null,null,null,null,null,null,null,null,null,null,null,null,null,null,null,null,null,null,null,null,null,null,null,null,null,null,null,null,null,null,null,null,null,null,null,null,null,null,null,null,null,null,null,null,null,null,null,null,null,null,null,null,null,null,null,null,null,null,null,null,null,null,null,null,null,null,null,null,null,null,null,null,null,null,null,null,null,null,null,null,null,null,null,null,null,null,null,null,null,null,null,"受付"]
[null,null,null,null,null,null,null,null,null,null,null,null,null,null,null,null,null,null,null,null,null,null,null,null,null,null,null,null,null,null,null,null,null,null,null,null,{"$f":"IF(入力用!O30=2,入力用!P5,IF(入力用!O30=3,入力用!P6,\"\"))","v":""}]
[]
[null,null,null,null,null,null,null,null,null,null,null,null,null,null,null,null,null,null,null,null,null,null,null,null,null,null,null,null,null,null,null,null,null,null,null,null,null,null,null,null,null,null,null,null,null,null,null,null,null,null,null,null,null,null,null,null,null,null,null,null,null,null,null,null,null,null,null,null,null,null,null,null,null,null,null,null,null,null,null,null,null,null,null,null,null,null,{"$f":"IF(入力用!C28=\"\",\"\",入力用!C28)","v":""}]
[null,null,null,null,null,null,{"$f":"IF(入力用!C29=\"\",\"\",入力用!C29)","v":""},null,null,null,null,null,null,null,null,{"$f":"IF(入力用!E29=\"\",\"\",入力用!E29)","v":""},null,null,null,null,null,null,null,{"$f":"IF(入力用!H29=\"\",\"\",入力用!H29)","v":""}]
[null,null,null,null,null,null,null,null,null,null,null,null,"年",null,null,null,null,null,null,null,"月",null,null,null,null,null,null,null,"日"]
[]
[null,"供給電気\n方 式 ・\n供給電圧",null,null,null,null,{"$f":"IF(入力用!O32=2,入力用!R5,IF(入力用!O32=3,入力用!R6,IF(入力用!O32=4,入力用!R7,IF(入力用!O32=5,入力用!R8,\"\"))))","v":""},null,null,null,null,null,null,null,null,null,null,null,null,null,null,"契約決定方法",null,null,null,null,null,null,null,null,null,null,null,"主開閉器の\n定　格　電　流",null,null,null,null,null,null,"農事用電力の契約使用期間",null,null,null,null,null,null,null,null,null,null,null,null,null,null,null,null,null,null,null,"フリーエリア計器払出\n希 望 事 業 所 名",null,null,null,null,null,null,null,null,null,null,null,null,null,null,null,null,null,null,null,"本契約前の臨時契約の有無",null,null,null,null,null,null,null,null,"臨時受付№"]
[null,null,null,null,null,null,null,null,null,null,null,null,null,null,null,null,null,null,null,null,null,null,null,null,null,null,null,null,null,null,null,null,null,null,null,null,null,null,null,null,null,null,null,null,null,null,null,null,null,null,null,null,null,null,null,null,null,null,null,null,null,null,null,null,null,null,null,null,null,null,null,null,null,null,null,null,null,null,null,null,null,null,null,null,null,null,null,null,null,null,null,null,null,null,null,null,null,null,null,null,null,"図面照査"]
[null,null,null,null,null,null,null,null,null,null,null,null,null,null,null,null,null,null,null,null,null,null,null,null,null,null,null,null,null,null,null,null,null,null,null,null,null,null,null,null,"開始日",null,null,null,null,null,null,null,null,null,"終了日"]
[]
[null,null,null,null,null,null,null,null,null,null,null,null,null,null,null,null,null,null,null,null,null,{"$f":"IF(入力用!O33=2,入力用!S5,IF(入力用!O33=3,入力用!S6,\"\"))","v":""},null,null,null,null,null,null,null,null,null,null,null,{"$f":"IF(入力用!C34=\"\",\"\",入力用!C34)","v":""},null,null,null,null,null,null,{"$f":"IF(入力用!C36=\"\",\"\",入力用!C36)","v":""},null,null,"月",null,{"$f":"IF(入力用!E36=\"\",\"\",入力用!E36)","v":""},null,null,"日",null,{"$f":"IF(入力用!C37=\"\",\"\",入力用!C37)","v":""},null,null,"月",null,{"$f":"IF(入力用!E37=\"\",\"\",入力用!E37)","v":""},null,null,"日",null,{"$f":"IF(入力用!C35=\"\",\"\",入力用!C35)","v":""},null,null,null,null,null,null,null,null,null,null,null,null,null,null,null,null,null,null,null,{"$f":"IF(入力用!O38=2,入力用!T5,IF(入力用!O38=3,入力用!T6,\"\"))","v":""},null,null,null,null,null,null,null,null,"(　　　　　　)"]
[]
[null,null,null,null,null,null,null,null,null,null,null,null,null,null,null,null,null,null,null,null,null,null,null,null,null,null,null,null,null,null,null,null,null,null,null,null,null,null,"Ａ"]
[]
[null,"契約負荷設備内訳",null,null,null,null,"機　器　種　別",null,null,null,null,null,null,null,null,null,null,null,null,null,null,null,null,null,null,null,null,null,null,null,null,"出　力",null,null,null,null,null,null,null,null,null,null,null,"入　力（ａ）",null,null,null,null,null,null,null,null,null,null,null,"力　率",null,null,null,null,null,null,null,null,"台数（ｂ）",null,null,null,null,null,null,"合計(ａ×ｂ)"]
[null,null,null,null,null,null,null,null,null,null,null,null,null,null,null,null,null,null,null,null,null,null,null,null,null,null,null,null,null,null,null,null,null,null,null,null,null,null,null,null,null,null,null,null,null,null,null,null,null,null,null,null,null,null,null,null,null,null,null,null,null,null,null,null,null,null,null,null,null,null,null,null,null,null,null,null,null,null,null,null,null,"引込以下工事",null,null,null,null,null,null,"要",null,null,null,null,null,"不要",null,null,null,null,null,null,"外線設計"]
[]
[null,null,null,null,null,null,{"$f":"IF(入力用!C39=\"\",\"\",入力用!C39)","v":""},null,null,null,null,null,null,null,null,null,null,null,null,null,null,null,null,null,null,null,null,null,null,null,null,{"$f":"IF(入力用!C40=\"\",\"\",入力用!C40)","v":""},null,null,null,null,null,null,null,null,{"$f":"IF(入力用!O40=2,入力用!U5,IF(入力用!O40=3,入力用!U6,\"㏋\nkW\"))","v":"㏋\nkW"},null,null,{"$f":"IF(入力用!P40=0,\"\",入力用!P40)","v":""},null,null,null,null,null,null,null,null,"ｋＷ",null,null,{"$f":"IF(入力用!O42=2,入力用!V5,IF(入力用!O42=3,入力用!V6,IF(入力用!O42=4,入力用!V7,IF(入力用!O42=5,入力用!V8,\"\"))))","v":""},null,null,null,null,null,null,null,null,{"$f":"IF(入力用!C43=\"\",\"\",入力用!C43)","v":""},null,null,null,"台",null,null,{"$f":"入力用!P41","v":""},null,null,null,null,null,null,"㎾"]
[null,null,null,null,null,null,null,null,null,null,null,null,null,null,null,null,null,null,null,null,null,null,null,null,null,null,null,null,null,null,null,null,null,null,null,null,null,null,null,null,null,null,null,null,null,null,null,null,null,null,null,null,null,null,null,null,null,null,null,null,null,null,null,null,null,null,null,null,null,null,null,null,null,null,null,null,null,null,null,null,null,"メッセンジャー",null,null,null,null,null,null," №"]
[]
[null,null,null,null,null,null,{"$f":"IF(入力用!C44=\"\",\"\",入力用!C44)","v":""},null,null,null,null,null,null,null,null,null,null,null,null,null,null,null,null,null,null,null,null,null,null,null,null,{"$f":"IF(入力用!C45=\"\",\"\",入力用!C45)","v":""},null,null,null,null,null,null,null,null,{"$f":"IF(入力用!O45=2,入力用!U5,IF(入力用!O45=3,入力用!U6,\"㏋\nkW\"))","v":"㏋\nkW"},null,null,{"$f":"IF(入力用!P45=0,\"\",入力用!P45)","v":""},null,null,null,null,null,null,null,null,"ｋＷ",null,null,{"$f":"IF(入力用!O47=2,入力用!V5,IF(入力用!O47=3,入力用!V6,IF(入力用!O47=4,入力用!V7,IF(入力用!O47=5,入力用!V8,\"\"))))","v":""},null,null,null,null,null,null,null,null,{"$f":"IF(入力用!C48=\"\",\"\",入力用!C48)","v":""},null,null,null,"台",null,null,{"$f":"入力用!P46","v":""},null,null,null,null,null,null,"㎾"]
[null,null,null,null,null,null,null,null,null,null,null,null,null,null,null,null,null,null,null,null,null,null,null,null,null,null,null,null,null,null,null,null,null,null,null,null,null,null,null,null,null,null,null,null,null,null,null,null,null,null,null,null,null,null,null,null,null,null,null,null,null,null,null,null,null,null,null,null,null,null,null,null,null,null,null,null,null,null,null,null,null,"外 線 工 事",null,null,null,null,null,null," №"]
[]
[null,null,null,null,null,null,{"$f":"IF(入力用!C49=\"\",\"\",入力用!C49)","v":""},null,null,null,null,null,null,null,null,null,null,null,null,null,null,null,null,null,null,null,null,null,null,null,null,{"$f":"IF(入力用!C50=\"\",\"\",入力用!C50)","v":""},null,null,null,null,null,null,null,null,{"$f":"IF(入力用!O50=2,入力用!U5,IF(入力用!O50=3,入力用!U6,\"㏋\nkW\"))","v":"㏋\nkW"},null,null,{"$f":"IF(入力用!P50=0,\"\",入力用!P50)","v":""},null,null,null,null,null,null,null,null,"ｋＷ",null,null,{"$f":"IF(入力用!O52=2,入力用!V5,IF(入力用!O52=3,入力用!V6,IF(入力用!O52=4,入力用!V7,IF(入力用!O52=5,入力用!V8,\"\"))))","v":""},null,null,null,null,null,null,null,null,{"$f":"IF(入力用!C53=\"\",\"\",入力用!C53)","v":""},null,null,null,"台",null,null,{"$f":"入力用!P51","v":""},null,null,null,null,null,null,"㎾",null,null,null,null,null,null,null,null,null,null,null,null,null,null,null,null,null,null,null,null,null,null,"負担金計算"]
[]
[]
[null,null,null,null,null,null,{"$f":"IF(入力用!C54=\"\",\"\",入力用!C54)","v":""},null,null,null,null,null,null,null,null,null,null,null,null,null,null,null,null,null,null,null,null,null,null,null,null,{"$f":"IF(入力用!C55=\"\",\"\",入力用!C55)","v":""},null,null,null,null,null,null,null,null,{"$f":"IF(入力用!O55=2,入力用!U5,IF(入力用!O55=3,入力用!U6,\"㏋\nkW\"))","v":"㏋\nkW"},null,null,{"$f":"IF(入力用!P55=0,\"\",入力用!P55)","v":""},null,null,null,null,null,null,null,null,"ｋＷ",null,null,{"$f":"IF(入力用!O57=2,入力用!V5,IF(入力用!O57=3,入力用!V6,IF(入力用!O57=4,入力用!V7,IF(入力用!O57=5,入力用!V8,\"\"))))","v":""},null,null,null,null,null,null,null,null,{"$f":"IF(入力用!C58=\"\",\"\",入力用!C58)","v":""},null,null,null,"台",null,null,{"$f":"入力用!P56","v":""},null,null,null,null,null,null,"㎾"]
[]
[]
[null,null,null,null,null,null,{"$f":"IF(入力用!C59=\"\",\"\",入力用!C59)","v":""},null,null,null,null,null,null,null,null,null,null,null,null,null,null,null,null,null,null,null,null,null,null,null,null,{"$f":"IF(入力用!C60=\"\",\"\",入力用!C60)","v":""},null,null,null,null,null,null,null,null,{"$f":"IF(入力用!O60=2,入力用!U5,IF(入力用!O60=3,入力用!U6,\"㏋\nkW\"))","v":"㏋\nkW"},null,null,{"$f":"IF(入力用!P60=0,\"\",入力用!P60)","v":""},null,null,null,null,null,null,null,null,"ｋＷ",null,null,{"$f":"IF(入力用!O62=2,入力用!V5,IF(入力用!O62=3,入力用!V6,IF(入力用!O62=4,入力用!V7,IF(入力用!O62=5,入力用!V8,\"\"))))","v":""},null,null,null,null,null,null,null,null,{"$f":"IF(入力用!C63=\"\",\"\",入力用!C63)","v":""},null,null,null,"台",null,null,{"$f":"入力用!P61","v":""},null,null,null,null,null,null,"㎾"]
[]
[null,null,null,null,null,null,null,null,null,null,null,null,null,null,null,null,null,null,null,null,null,null,null,null,null,null,null,null,null,null,null,null,null,null,null,null,null,null,null,null,null,null,null,null,null,null,null,null,null,null,null,null,null,null,null,null,null,null,null,null,null,null,null,null,null,null,null,null,null,null,null,null,null,null,null,null,null,null,null,null,null,null,null,null,null,null,null,null,null,null,null,null,null,null,null,null,null,null,null,null,null,"負担金入金"]
[null,null,null,null,null,null,{"$f":"IF(入力用!C64=\"\",\"\",入力用!C64)","v":""},null,null,null,null,null,null,null,null,null,null,null,null,null,null,null,null,null,null,null,null,null,null,null,null,{"$f":"IF(入力用!C65=\"\",\"\",入力用!C65)","v":""},null,null,null,null,null,null,null,null,{"$f":"IF(入力用!O65=2,入力用!U5,IF(入力用!O65=3,入力用!U6,\"㏋\nkW\"))","v":"㏋\nkW"},null,null,{"$f":"IF(入力用!P65=0,\"\",入力用!P65)","v":""},null,null,null,null,null,null,null,null,"ｋＷ",null,null,{"$f":"IF(入力用!O67=2,入力用!V5,IF(入力用!O67=3,入力用!V6,IF(入力用!O67=4,入力用!V7,IF(入力用!O67=5,入力用!V8,\"\"))))","v":""},null,null,null,null,null,null,null,null,{"$f":"IF(入力用!C68=\"\",\"\",入力用!C68)","v":""},null,null,null,"台",null,null,{"$f":"入力用!P66","v":""},null,null,null,null,null,null,"㎾"]
[]
[]
[null,null,null,null,null,null,{"$f":"IF(入力用!C69=\"\",\"\",入力用!C69)","v":""},null,null,null,null,null,null,null,null,null,null,null,null,null,null,null,null,null,null,null,null,null,null,null,null,{"$f":"IF(入力用!C70=\"\",\"\",入力用!C70)","v":""},null,null,null,null,null,null,null,null,{"$f":"IF(入力用!O70=2,入力用!U5,IF(入力用!O70=3,入力用!U6,\"㏋\nkW\"))","v":"㏋\nkW"},null,null,{"$f":"IF(入力用!P70=0,\"\",入力用!P70)","v":""},null,null,null,null,null,null,null,null,"ｋＷ",null,null,{"$f":"IF(入力用!O72=2,入力用!V5,IF(入力用!O72=3,入力用!V6,IF(入力用!O72=4,入力用!V7,IF(入力用!O72=5,入力用!V8,\"\"))))","v":""},null,null,null,null,null,null,null,null,{"$f":"IF(入力用!C73=\"\",\"\",入力用!C73)","v":""},null,null,null,"台",null,null,{"$f":"入力用!P71","v":""},null,null,null,null,null,null,"㎾"]
[]
[]
[null,null,null,null,null,null,{"$f":"IF(入力用!C74=\"\",\"\",入力用!C74)","v":""},null,null,null,null,null,null,null,null,null,null,null,null,null,null,null,null,null,null,null,null,null,null,null,null,{"$f":"IF(入力用!C75=\"\",\"\",入力用!C75)","v":""},null,null,null,null,null,null,null,null,{"$f":"IF(入力用!O75=2,入力用!U5,IF(入力用!O75=3,入力用!U6,\"㏋\nkW\"))","v":"㏋\nkW"},null,null,{"$f":"IF(入力用!P75=0,\"\",入力用!P75)","v":""},null,null,null,null,null,null,null,null,"ｋＷ",null,null,{"$f":"IF(入力用!O77=2,入力用!V5,IF(入力用!O77=3,入力用!V6,IF(入力用!O77=4,入力用!V7,IF(入力用!O77=5,入力用!V8,\"\"))))","v":""},null,null,null,null,null,null,null,null,{"$f":"IF(入力用!C78=\"\",\"\",入力用!C78)","v":""},null,null,null,"台",null,null,{"$f":"入力用!P76","v":""},null,null,null,null,null,null,"㎾"]
[null,null,null,null,null,null,null,null,null,null,null,null,null,null,null,null,null,null,null,null,null,null,null,null,null,null,null,null,null,null,null,null,null,null,null,null,null,null,null,null,null,null,null,null,null,null,null,null,null,null,null,null,null,null,null,null,null,null,null,null,null,null,null,null,null,null,null,null,null,null,null,null,null,null,null,null,null,null,null,null,null,null,null,null,null,null,null,null,null,null,null,null,null,null,null,null,null,null,null,null,null,"計器払出"]
[]
[null,null,null,null,null,null,{"$f":"IF(入力用!C79=\"\",\"\",入力用!C79)","v":""},null,null,null,null,null,null,null,null,null,null,null,null,null,null,null,null,null,null,null,null,null,null,null,null,{"$f":"IF(入力用!C80=\"\",\"\",入力用!C80)","v":""},null,null,null,null,null,null,null,null,{"$f":"IF(入力用!O80=2,入力用!U5,IF(入力用!O80=3,入力用!U6,\"㏋\nkW\"))","v":"㏋\nkW"},null,null,{"$f":"IF(入力用!P80=0,\"\",入力用!P80)","v":""},null,null,null,null,null,null,null,null,"ｋＷ",null,null,{"$f":"IF(入力用!O82=2,入力用!V5,IF(入力用!O82=3,入力用!V6,IF(入力用!O82=4,入力用!V7,IF(入力用!O82=5,入力用!V8,\"\"))))","v":""},null,null,null,null,null,null,null,null,{"$f":"IF(入力用!C83=\"\",\"\",入力用!C83)","v":""},null,null,null,"台",null,null,{"$f":"入力用!P81","v":""},null,null,null,null,null,null,"㎾"]
[]
[]
[null,null,null,null,null,null,{"$f":"IF(入力用!C84=\"\",\"\",入力用!C84)","v":""},null,null,null,null,null,null,null,null,null,null,null,null,null,null,null,null,null,null,null,null,null,null,null,null,{"$f":"IF(入力用!C85=\"\",\"\",入力用!C85)","v":""},null,null,null,null,null,null,null,null,{"$f":"IF(入力用!O85=2,入力用!U5,IF(入力用!O85=3,入力用!U6,\"㏋\nkW\"))","v":"㏋\nkW"},null,null,{"$f":"IF(入力用!P85=0,\"\",入力用!P85)","v":""},null,null,null,null,null,null,null,null,"ｋＷ",null,null,{"$f":"IF(入力用!O87=2,入力用!V5,IF(入力用!O87=3,入力用!V6,IF(入力用!O87=4,入力用!V7,IF(入力用!O87=5,入力用!V8,\"\"))))","v":""},null,null,null,null,null,null,null,null,{"$f":"IF(入力用!C88=\"\",\"\",入力用!C88)","v":""},null,null,null,"台",null,null,{"$f":"入力用!P86","v":""},null,null,null,null,null,null,"㎾"]
[]
[]
[null,null,null,null,null,null,{"$f":"IF(入力用!C89=\"\",\"\",入力用!C89)","v":""},null,null,null,null,null,null,null,null,null,null,null,null,null,null,null,null,null,null,null,null,null,null,null,null,{"$f":"IF(入力用!C90=\"\",\"\",入力用!C90)","v":""},null,null,null,null,null,null,null,null,{"$f":"IF(入力用!O90=2,入力用!U5,IF(入力用!O90=3,入力用!U6,\"㏋\nkW\"))","v":"㏋\nkW"},null,null,{"$f":"IF(入力用!P90=0,\"\",入力用!P90)","v":""},null,null,null,null,null,null,null,null,"ｋＷ",null,null,{"$f":"IF(入力用!O92=2,入力用!V5,IF(入力用!O92=3,入力用!V6,IF(入力用!O92=4,入力用!V7,IF(入力用!O92=5,入力用!V8,\"\"))))","v":""},null,null,null,null,null,null,null,null,{"$f":"IF(入力用!C93=\"\",\"\",入力用!C93)","v":""},null,null,null,"台",null,null,{"$f":"入力用!P91","v":""},null,null,null,null,null,null,"㎾",null,null,null,null,null,null,null,null,null,null,null,null,null,null,null,null,null,null,null,null,null,null,"送電申込受付"]
[]
[]
[null,null,null,null,null,null,{"$f":"IF(入力用!C94=\"\",\"\",入力用!C94)","v":""},null,null,null,null,null,null,null,null,null,null,null,null,null,null,null,null,null,null,null,null,null,null,null,null,{"$f":"IF(入力用!C95=\"\",\"\",入力用!C95)","v":""},null,null,null,null,null,null,null,null,{"$f":"IF(入力用!O95=2,入力用!U5,IF(入力用!O95=3,入力用!U6,\"㏋\nkW\"))","v":"㏋\nkW"},null,null,{"$f":"IF(入力用!P95=0,\"\",入力用!P95)","v":""},null,null,null,null,null,null,null,null,"ｋＷ",null,null,{"$f":"IF(入力用!O97=2,入力用!V5,IF(入力用!O97=3,入力用!V6,IF(入力用!O97=4,入力用!V7,IF(入力用!O97=5,入力用!V8,\"\"))))","v":""},null,null,null,null,null,null,null,null,{"$f":"IF(入力用!C98=\"\",\"\",入力用!C98)","v":""},null,null,null,"台",null,null,{"$f":"入力用!P96","v":""},null,null,null,null,null,null,"㎾"]
[]
[]
[null,null,null,null,null,null,{"$f":"IF(入力用!C99=\"\",\"\",入力用!C99)","v":""},null,null,null,null,null,null,null,null,null,null,null,null,null,null,null,null,null,null,null,null,null,null,null,null,{"$f":"IF(入力用!C100=\"\",\"\",入力用!C100)","v":""},null,null,null,null,null,null,null,null,{"$f":"IF(入力用!O100=2,入力用!U5,IF(入力用!O100=3,入力用!U6,\"㏋\nkW\"))","v":"㏋\nkW"},null,null,{"$f":"IF(入力用!P100=0,\"\",入力用!P100)","v":""},null,null,null,null,null,null,null,null,"ｋＷ",null,null,{"$f":"IF(入力用!O102=2,入力用!V5,IF(入力用!O102=3,入力用!V6,IF(入力用!O102=4,入力用!V7,IF(入力用!O102=5,入力用!V8,\"\"))))","v":""},null,null,null,null,null,null,null,null,{"$f":"IF(入力用!C103=\"\",\"\",入力用!C103)","v":""},null,null,null,"台",null,null,{"$f":"入力用!P101","v":""},null,null,null,null,null,null,"㎾"]
[null,null,null,null,null,null,null,null,null,null,null,null,null,null,null,null,null,null,null,null,null,null,null,null,null,null,null,null,null,null,null,null,null,null,null,null,null,null,null,null,null,null,null,null,null,null,null,null,null,null,null,null,null,null,null,null,null,null,null,null,null,null,null,null,null,null,null,null,null,null,null,null,null,null,null,null,null,null,null,null,null,"既設他契約の\n非 蓄 割 引\n継続可否",null,null,null,null,null,null,"・継 続 可"]
[null,null,null,null,null,null,null,null,null,null,null,null,null,null,null,null,null,null,null,null,null,null,null,null,null,null,null,null,null,null,null,null,null,null,null,null,null,null,null,null,null,null,null,null,null,null,null,null,null,null,null,null,null,null,null,null,null,null,null,null,null,null,null,null,null,null,null,null,null,null,null,null,null,null,null,null,null,null,null,null,null,null,null,null,null,null,null,null,null,null,null,null,null,null,null,null,null,null,null,null,null,"契約確認"]
[null,null,null,null,null,null,{"$f":"IF(入力用!C104=\"\",\"\",入力用!C104)","v":""},null,null,null,null,null,null,null,null,null,null,null,null,null,null,null,null,null,null,null,null,null,null,null,null,{"$f":"IF(入力用!C105=\"\",\"\",入力用!C105)","v":""},null,null,null,null,null,null,null,null,{"$f":"IF(入力用!O105=2,入力用!U5,IF(入力用!O105=3,入力用!U6,\"㏋\nkW\"))","v":"㏋\nkW"},null,null,{"$f":"IF(入力用!P105=0,\"\",入力用!P105)","v":""},null,null,null,null,null,null,null,null,"ｋＷ",null,null,{"$f":"IF(入力用!O107=2,入力用!V5,IF(入力用!O107=3,入力用!V6,IF(入力用!O107=4,入力用!V7,IF(入力用!O107=5,入力用!V8,\"\"))))","v":""},null,null,null,null,null,null,null,null,{"$f":"IF(入力用!C108=\"\",\"\",入力用!C108)","v":""},null,null,null,"台",null,null,{"$f":"入力用!P106","v":""},null,null,null,null,null,null,"㎾"]
[]
[null,null,null,null,null,null,null,null,null,null,null,null,null,null,null,null,null,null,null,null,null,null,null,null,null,null,null,null,null,null,null,null,null,null,null,null,null,null,null,null,null,null,null,null,null,null,null,null,null,null,null,null,null,null,null,null,null,null,null,null,null,null,null,null,null,null,null,null,null,null,null,null,null,null,null,null,null,null,null,null,null,null,null,null,null,null,null,null,"・継続不可"]
[null,null,null,null,null,null,{"$f":"IF(入力用!C109=\"\",\"\",入力用!C109)","v":""},null,null,null,null,null,null,null,null,null,null,null,null,null,null,null,null,null,null,null,null,null,null,null,null,{"$f":"IF(入力用!C110=\"\",\"\",入力用!C110)","v":""},null,null,null,null,null,null,null,null,{"$f":"IF(入力用!O110=2,入力用!U5,IF(入力用!O110=3,入力用!U6,\"㏋\nkW\"))","v":"㏋\nkW"},null,null,{"$f":"IF(入力用!P110=0,\"\",入力用!P110)","v":""},null,null,null,null,null,null,null,null,"ｋＷ",null,null,{"$f":"IF(入力用!O112=2,入力用!V5,IF(入力用!O112=3,入力用!V6,IF(入力用!O112=4,入力用!V7,IF(入力用!O112=5,入力用!V8,\"\"))))","v":""},null,null,null,null,null,null,null,null,{"$f":"IF(入力用!C113=\"\",\"\",入力用!C113)","v":""},null,null,null,"台",null,null,{"$f":"入力用!P111","v":""},null,null,null,null,null,null,"㎾"]
[]
[]
[null,null,null,null,null,null,"機 器 種 別",null,null,null,null,null,null,null,null,"日本工業規格",null,null,null,null,null,null,null,"コンデンサ",null,null,null,null,null,null,null,"1次入力",null,null,null,null,null,null,null,null,null,null,null,"入　力（ａ）",null,null,null,null,null,null,null,null,null,null,null,"力　率",null,null,null,null,null,null,null,null,"台数（ｂ）",null,null,null,null,null,null,"合計(ａ×ｂ)"]
[null,null,null,null,null,null,null,null,null,null,null,null,null,null,null,null,null,null,null,null,null,null,null,null,null,null,null,null,null,null,null,null,null,null,null,null,null,null,null,null,null,null,null,null,null,null,null,null,null,null,null,null,null,null,null,null,null,null,null,null,null,null,null,null,null,null,null,null,null,null,null,null,null,null,null,null,null,null,null,null,null,null,null,null,null,null,null,null,null,null,null,null,null,null,null,null,null,null,null,null,null,"上長確認"]
[null,null,null,null,null,null,"電気溶接機",null,null,null,null,null,null,null,null,{"$f":"IF(入力用!O114=2,入力用!W5,IF(入力用!O114=3,入力用!W6,\"\"))","v":""},null,null,null,null,null,null,null,{"$f":"IF(入力用!O115=2,入力用!X5,IF(入力用!O115=3,入力用!X6,IF(入力用!O115=4,入力用!X7,\"\")))","v":""},null,null,null,null,null,null,null,{"$f":"IF(入力用!C116=\"\",\"\",入力用!C116)","v":""},null,null,null,null,null,null,null,null,"kVA",null,null,{"$f":"IF(入力用!P116=0,\"\",入力用!P116)","v":""},null,null,null,null,null,null,null,null,"ｋＷ",null,null,{"$f":"IF(入力用!O118=2,入力用!Y5,IF(入力用!O118=3,入力用!Y6,IF(入力用!O118=4,入力用!Y7,\"\")))","v":""},null,null,null,null,null,null,null,null,{"$f":"IF(入力用!C119=\"\",\"\",入力用!C119)","v":""},null,null,null,"台",null,null,{"$f":"入力用!P117","v":""},null,null,null,null,null,null,"㎾"]
[]
[]
[null,null,null,null,null,null,"電気溶接機",null,null,null,null,null,null,null,null,{"$f":"IF(入力用!O120=2,入力用!W5,IF(入力用!O120=3,入力用!W6,\"\"))","v":""},null,null,null,null,null,null,null,{"$f":"IF(入力用!O121=2,入力用!X5,IF(入力用!O121=3,入力用!X6,IF(入力用!O121=4,入力用!X7,\"\")))","v":""},null,null,null,null,null,null,null,{"$f":"IF(入力用!C122=\"\",\"\",入力用!C122)","v":""},null,null,null,null,null,null,null,null,"kVA",null,null,{"$f":"IF(入力用!P122=0,\"\",入力用!P122)","v":""},null,null,null,null,null,null,null,null,"ｋＷ",null,null,{"$f":"IF(入力用!O124=2,入力用!Y5,IF(入力用!O124=3,入力用!Y6,IF(入力用!O124=4,入力用!Y7,\"\")))","v":""},null,null,null,null,null,null,null,null,{"$f":"IF(入力用!C125=\"\",\"\",入力用!C125)","v":""},null,null,null,"台",null,null,{"$f":"入力用!P123","v":""},null,null,null,null,null,null,"㎾"]
[]
[]
[null,null,null,null,null,null,null,null,null,null,null,null,null,null,null,null,null,null,null,null,null,null,null,null,null,null,null,null,null,null,null,null,null,null,null,null,null,null,null,null,null,null,null,null,null,null,null,null,null,null,null,null,null,null,null,"力　率",null,null,null,null,null,null,null,null,"合計台数",null,null,null,null,null,null,"入力合計",null,null,null,null,null,null,null,null,"契約電力",null,null,null,null,null,null,null,null,null,{"$f":"IF(入力用!S32=0,\"\",入力用!S32)","v":""}]
[null,null,null,null,null,null,null,null,null,null,null,null,null,null,null,null,null,null,null,null,null,null,null,null,null,null,null,null,null,null,null,null,null,null,null,null,null,null,null,null,null,null,null,null,null,null,null,null,null,null,null,null,null,null,null,null,null,null,null,null,null,null,null,null,null,null,null,null,null,null,null,null,null,null,null,null,null,null,null,null,null,null,null,null,null,null,null,null,null,null,null,null,null,null,null,null,null,null,null,null,null,"竣工調査"]
[null,null,null,null,null,null,null,null,null,null,null,null,null,null,null,null,null,null,null,null,null,null,null,null,null,null,null,null,null,null,null,null,null,null,null,null,null,null,null,null,null,null,null,null,null,null,null,null,null,null,null,null,null,null,null,"85％",null,null,null,{"$f":"IF(入力用!O33=2,\"超過\",IF(入力用!S30=\"\",\"超過\n未満\",IF(入力用!S30>0.85,\"超過\",IF(入力用!S30<0.85,\"未満\",\"\"))))","v":"超過\n未満"},null,null,null,null,{"$f":"IF(SUM(BM57:BP104,BM107:BP112)=0,\"\",SUM(BM57:BP104,BM107:BP112))","v":""},null,null,null,"台",null,null,{"$f":"IF(入力用!S35=0,\"\",入力用!S35)","v":""},null,null,null,null,null,null,"㎾"]
[null,null,null,null,null,null,null,null,null,null,null,null,null,null,null,null,null,null,null,null,null,null,null,null,null,null,null,null,null,null,null,null,null,null,null,null,null,null,null,null,null,null,null,null,null,null,null,null,null,null,null,null,null,null,null,null,null,null,null,null,null,null,null,null,null,null,null,null,null,null,null,null,null,null,null,null,null,null,null,null,null,null,null,null,null,null,null,null,null,null,null,null,null,null,null,null,null,"ｋＷ"]
[]
[null,"異動種別",null,null,"・新設　　 　・減少　 　　　・転出",null,null,null,null,null,null,null,null,null,null,null,null,null,null,null,null,null,null,null,null,null,null,null,"供給地点特定番号",null,null,null,null,null,null,null,"発行\n回数",null,null,"支店",null,"ﾌﾞﾛｯｸ",null,null,"住所",null,null,null,null,"街区",null,null,"契約№",null,null,null,null,"枝番",null,null,"種別",null,null,null,null,null,"送電日\n（異動日）"]
[]
[null,null,null,null,"・種変(+)　　・設備撤去　　・名義変更"]
[]
[null,null,null,null,"・ｺｰﾄﾞ変(+)　・設備変更　　 ・その他",null,null,null,null,null,null,null,null,null,null,null,null,null,null,null,null,null,null,null,null,null,null,null,null,null,null,"010",null,null,null,null,null,null,null,null,null,null,null,null,null,null,null,null,null,null,null,null,null,null,null,null,null,null,null,null,{"$f":"AK41","v":""},null,null,"00",null,null,null,null,null,null,null,null,null,null,null,null,null,null,null,null,null,null,null,null,null,null,null,null,null,null,null,null,null,null,null,null,null,null,null,null,null,"完了確認"]
[]
[null,null,null,null,"・増加　　 　・転入　　　　（　　　　）",null,null,null,null,null,null,null,null,null,null,null,null,null,null,null,null,null,null,null,null,null,null,null,null,null,null,null,null,null,null,null,null,null,null,null,null,null,null,null,null,null,null,null,null,null,null,null,null,null,null,null,null,null,null,null,null,null,null,null,null,null,null,null,null,null,null,"年",null,null,null,"月",null,null,null,"日"]
[]
[null,"業種",null,null,"低圧電力",null,null,null,null,null,null,null,null,null,null,"・農業",null,null,null,null,"・林業",null,null,null,null,"・食料品製造業",null,null,null,null,null,null,null,null,null,null,null,"・その他製造業",null,null,null,null,null,null,null,null,"・公共用",null,null,null,null,null,"・ﾛｰﾄﾞﾋｰﾃｨﾝｸﾞ(一般)",null,null,null,null,null,null,null,null,null,null,null,"・電熱温床(水稲)",null,null,null,null,null,null,null,null,null,"・冷房用",null,null,null,null,null,"・時報用･警報用",null,null,null,null,null,null,null,null,null,"農事用電力"]
[]
[null,null,null,null,null,null,null,null,null,null,null,null,null,null,null,"・酪農",null,null,null,null,"・漁業",null,null,null,null,"・木材･木製品製造業",null,null,null,null,null,null,null,null,null,null,null,"・卸売･小売業",null,null,null,null,null,null,null,null,"・その他",null,null,null,null,null,"・ﾛｰﾄﾞﾋｰﾃｨﾝｸﾞ(公共)",null,null,null,null,null,null,null,null,null,null,null,"・電熱温床(そ菜)",null,null,null,null,null,null,null,null,null,"・暖房用",null,null,null,null,null,null,null,null,null,null,null,null,null,null,null,"・かんがい･排水用"]
[]
[null,"入居区分",null,null,"・入居",null,null,null,null,null,"供給\n電気\n方式",null,null,{"$f":"IF(入力用!O32=2,\"単相2線100V\",IF(入力用!O32=3,\"単相2線200V\",IF(入力用!O32=4,\"単相3線100V\",IF(入力用!O32=5,\"3相3線200V\",\"\"))))","v":""},null,null,null,null,null,null,null,null,"計量\n電気\n方式",null,null,"・単相2線100Ｖ",null,null,null,null,null,null,null,null,"系統連系情報",null,null,null,null,"・系統連系有　　・系統連系無",null,null,null,null,null,null,null,null,null,null,null,null,null,null,null,null,null,null,null,null,null,null,null,null,null,null,null,null,null,null,null,null,null,null,null,null,null,"引込柱№",null,null,"画",null,null,"区",null,null,"図",null,null,"番",null,null,"の",null,null,"号",null,null,null,null,null,"完了連絡"]
[]
[null,null,null,null,null,null,null,null,null,null,null,null,null,null,null,null,null,null,null,null,null,null,null,null,null,"・単相2線200Ｖ"]
[]
[null,null,null,null,"・未入居",null,null,null,null,null,null,null,null,null,null,null,null,null,null,null,null,null,null,null,null,"・単相3線100Ｖ",null,null,null,null,null,null,null,null,null,null,null,null,null,"・逆潮流有　　・逆潮流無"]
[]
[null,null,null,null,null,null,null,null,null,null,null,null,null,null,null,null,null,null,null,null,null,null,null,null,null,"・3相3線200Ｖ "]
[]
[null,"計量\n区分",null,null,"・通常計量　 ・1契約多計量",null,null,null,null,null,null,null,null,null,null,null,null,null,null,null,null,null,null,"計器取付位置",null,null,"・屋外　　　・屋内",null,null,null,null,null,null,null,null,null,null,null,null,null,null,"ＣＴ取付位置",null,null,"・屋外　　　・屋内",null,null,null,null,null,null,null,null,null,null,null,null,null,null,"ＣＴ\n２次\n亘長",null,null,null,null,null,null,null,null,null,null,null,null,null,null,null,null,null,null,null,null,null,null,null,null,null,null,null,null,null,null,null,null,null,null,null,null,null,null,null,null,null,"ＤＭ送付"]
[]
[null,null,null,null,null,null,null,null,null,null,null,null,null,null,null,null,null,null,null,null,null,null,null,null,null,null,"・屋外柱　　・集合盤",null,null,null,null,null,null,null,null,null,null,null,null,null,null,null,null,null,"・屋外柱　　・集合盤"]
[null,null,null,null,"・1次側計量　・未計器扱い"]
[null,null,null,null,null,null,null,null,null,null,null,null,null,null,null,null,null,null,null,null,null,null,null,null,null,null,"・ｷｭｰﾋﾞｸﾙ　 ・受電室",null,null,null,null,null,null,null,null,null,null,null,null,null,null,null,null,null,"・ｷｭｰﾋﾞｸﾙ　 ・受電室",null,null,null,null,null,null,null,null,null,null,null,null,null,null,null,null,null,null,null,null,null,"ｍ"]
[]
[null,"支払者\n番号",null,null,null,null,null,null,null,null,null,null,null,null,null,null,null,null,null,null,null,null,"まとめ\n請求",null,null,null,"・有　　　・無",null,null,null,null,null,null,null,null,null,null,null,null,null,"支払\n番号",null,null,null,null,null,null,null,null,null,null,null,null,null,null,null,null,"決済\nアクセスキー",null,null,null,null,null,null,null,null,null,null,null,null,null,null,null,null,null,null,null,null,null,null,"請求書\n要　否",null,null,null,"・否　　　・要"]
[]
[null,null,null,null,null,null,null,null,null,null,null,null,null,null,null,null,null,null,null,null,null,null,null,null,null,null,null,null,null,null,null,null,null,null,null,null,null,null,null,null,null,null,null,null,null,null,null,null,null,null,null,null,null,null,null,null,null,null,null,null,null,null,null,null,null,null,null,null,null,null,null,null,null,null,null,null,null,null,null,null,null,null,null,null,null,null,null,null,null,null,null,null,null,null,null,null,null,null,null,null,null,"照合"]
[]
[]
[]
[null,"＜備考＞"]
[]
[]
[]
[]
[]
[]
[]
[]
[]
[]
[]
[null,null,null,null,null,null,null,null,null,null,null,null,null,null,null,null,null,null,null,null,"他契約登録",null,"要 ・ 不要",null,null,null,null,null,null,null,"他契約登録番号",null,null,null,null,null,null,null,null,null,null,null,null,null,null,null,null,null,null,null,null,null,"　□供給地点他契約登録済"]
[]
[]
[null,null,null,null,null,null,null,null,null,null,null,null,null,null,null,null,null,null,null,null,null,null,null,null,null,null,null,null,null,null,null,null,null,null,null,null,null,null,null,null,null,null,null,null,null,null,null,null,null,null,null,null,null,null,null,null,null,null,null,null,null,null,null,null,null,null,null,null,null,null,null,null,null,null,null,null,null,null,null,null,"計器\n増設",null,null,null,"取　外　計　器"]
[]
[null,null,null,null,null,null,null,null,null,null,null,null,null,null,null,null,null,null,null,null,null,null,null,null,null,null,null,null,null,null,null,null,null,null,null,null,null,null,null,null,null,null,null,null,null,null,null,null,null,null,null,null,null,null,null,null,null,null,null,null,null,null,null,null,null,null,null,null,null,null,null,null,null,null,null,null,null,null,null,null,null,null,null,null,"指示数"]
[]
[null,null,null,null,null,null,null,null,null,null,null,null,null,null,null,null,null,null,null,null,null,null,null,null,null,null,null,null,null,null,null,null,null,null,null,null,null,null,null,null,null,null,null,null,null,null,null,null,null,null,null,null,null,null,null,null,null,null,null,null,null,null,null,null,null,null,null,null,null,null,null,null,null,null,null,null,null,null,null,null,null,null,null,null,null,null,"夜　間"]
[]
[null,null,null,null,null,null,null,null,null,null,null,null,null,null,null,null,null,null,null,null,null,null,null,null,null,null,null,null,null,null,null,null,null,null,null,null,null,null,null,null,null,null,null,null,null,null,null,null,null,null,null,null,null,null,null,null,null,null,null,null,null,null,null,null,null,null,null,null,null,null,null,null,null,null,null,null,null,null,null,null,null,null,null,null,"計器№",null,null,null,null,null,null,null,null,null,"乗率"]
[]
["北　海　道　電　力　ネ　ッ　ト　ワ　ー　ク　株　式　会　社"]