{"text_format":"1","workbook":"xlsx","n_sheets":4,"sheets":["入力用","１枚目","２枚目","３枚目"],"not_rendered":{"charts":0,"images":0,"macros":1,"external_links":0,"defined_names":4,"comments":1,"pivot_tables":0},"unopened":[],"bounds":{"document_bytes":16777216,"sheet_cells":100000,"rows_first":2000,"rows_last":500,"rows_between":2000,"halvings":0,"cell_chars":16384,"cell_head_chars":4096},"cells_cut":0,"cells_raw":0,"read":"whole","date_system":"1900"}

{"sheet":"入力用","index":0,"n_rows":154,"n_cols":35,"rows_kept":154,"cut":false,"hidden":false,"merged":[[146,0,153,0],[146,2,146,10],[147,2,147,10],[148,2,148,10],[150,2,150,3],[150,4,150,5],[151,2,151,3],[151,4,151,5],[153,3,153,4],[138,0,145,0],[138,2,138,10],[139,2,139,10],[140,2,140,10],[142,2,142,3],[142,4,142,5],[143,2,143,3],[143,4,143,5],[145,3,145,4],[130,0,137,0],[130,2,130,10],[131,2,131,10],[132,2,132,10],[134,2,134,3],[134,4,134,5],[135,2,135,3],[135,4,135,5],[137,3,137,4],[122,0,129,0],[122,2,122,10],[123,2,123,10],[124,2,124,10],[126,2,126,3],[126,4,126,5],[127,2,127,3],[127,4,127,5],[129,3,129,4],[114,0,121,0],[114,2,114,10],[115,2,115,10],[116,2,116,10],[118,2,118,3],[118,4,118,5],[119,2,119,3],[119,4,119,5],[121,3,121,4],[106,0,113,0],[106,2,106,10],[107,2,107,10],[108,2,108,10],[110,2,110,3],[110,4,110,5],[111,2,111,3],[111,4,111,5],[113,3,113,4],[98,0,105,0],[98,2,98,10],[99,2,99,10],[100,2,100,10],[102,2,102,3],[102,4,102,5],[103,2,103,3],[103,4,103,5],[105,3,105,4],[90,0,97,0],[90,2,90,10],[91,2,91,10],[92,2,92,10],[94,2,94,3],[94,4,94,5],[95,2,95,3],[95,4,95,5],[97,3,97,4],[82,0,89,0],[82,2,82,10],[83,2,83,10],[84,2,84,10],[86,2,86,3],[86,4,86,5],[87,2,87,3],[87,4,87,5],[89,3,89,4],[74,0,81,0],[74,2,74,10],[75,2,75,10],[76,2,76,10],[78,2,78,3],[78,4,78,5],[79,2,79,3],[79,4,79,5],[81,3,81,4],[66,0,73,0],[66,2,66,10],[67,2,67,10],[68,2,68,10],[70,2,70,3],[70,4,70,5],[71,2,71,3],[71,4,71,5],[73,3,73,4],[58,0,65,0],[58,2,58,10],[59,2,59,10],[60,2,60,10],[62,2,62,3],[62,4,62,5],[63,2,63,3],[63,4,63,5],[65,3,65,4],[50,0,57,0],[50,2,50,10],[51,2,51,10],[52,2,52,10],[54,2,54,3],[54,4,54,5],[55,2,55,3],[55,4,55,5],[57,3,57,4],[42,0,49,0],[42,2,42,10],[43,2,43,10],[44,2,44,10],[46,2,46,3],[46,4,46,5],[47,2,47,3],[47,4,47,5],[49,3,49,4],[39,0,40,1],[39,4,39,5],[41,0,41,1],[41,3,41,5],[34,0,34,1],[34,2,34,10],[35,0,35,1],[36,0,38,0],[36,2,36,10],[37,2,37,10],[31,0,31,1],[32,0,32,1],[33,0,33,1],[33,3,33,4],[29,0,29,1],[29,4,29,5],[29,8,29,9],[30,0,30,1],[25,0,26,0],[25,2,25,10],[26,4,26,5],[26,7,26,8],[27,0,27,1],[27,2,27,8],[28,2,28,6],[22,0,24,0],[22,2,22,5],[23,2,23,10],[23,16,23,17],[24,4,24,5],[24,7,24,8],[18,17,18,18],[19,0,19,1],[19,16,19,34],[20,0,21,0],[20,2,20,10],[20,19,20,22],[20,23,20,26],[20,27,20,30],[20,31,20,34],[21,2,21,10],[16,0,18,0],[16,2,16,10],[17,2,17,10],[18,4,18,5],[18,7,18,8],[15,4,15,5],[15,7,15,8],[11,0,15,0],[11,2,11,10],[12,2,12,10],[13,4,13,5],[7,0,8,0],[7,2,7,5],[8,2,8,10],[9,0,10,0],[9,4,9,5],[9,7,9,8],[10,4,10,5],[10,7,10,8],[2,14,2,24],[3,0,6,0],[3,2,3,10],[3,20,3,21],[4,2,4,10],[5,2,5,10],[6,2,6,10],[13,16,13,18],[14,2,14,10]]}
[]
[null,null,null,null,null,null,null,null,null,null,null,null,null,false,{"$f":"IF(N2=TRUE,1,0)","v":0}]
[{"$f":"IF(L3=\"\",\"印刷されましたら，「ＮW控」の裏面に施設組合印および御社の社印を押印してください。\",\"必要事項をすべて入力すると，右の表示が消えます。\")","v":"必要事項をすべて入力すると，右の表示が消えます。"},null,null,null,null,null,null,null,null,null,null,{"$f":"IF(M3=\"\",\"\",M3)","v":"入力に不備があります。"},{"$f":"IF(COUNTBLANK(M4:M5)+COUNTBLANK(M8:M31)+COUNTBLANK(M33:M154)=148,\"\",\"入力に不備があります。\")","v":"入力に不備があります。"},null,"ドロップダウンリスト"]
["ご契約名義","フリガナ",null,null,null,null,null,null,null,null,null,"←入力してください。",{"$f":"IF(C4=\"\",\"←入力してください。\",IF(LEN(ASC(C4))>40,\"←「゛」「゜」を含め，40文字以内としてください。\",\"\"))","v":"←入力してください。"},null,"支払方法","契約種別","供給電気方式・供給電圧","契約決定方法","本契約前の臨時契約の有無","検知制御装置","通電遮断パターン",null,"通電制御・検知制御","出力","力率"]
[null,"漢字",null,null,null,null,null,null,null,null,null,"←入力してください。",{"$f":"IF(C5=\"\",\"←入力してください。\",\"\")","v":"←入力してください。"}]
[null,"代表者肩書",null,null,null,null,null,null,null,null,null,"ご契約者が個人名ではない場合は入力してください。",{"$f":"IF(C6=\"\",\"ご契約者が個人名ではない場合は入力してください。\",\"\")","v":"ご契約者が個人名ではない場合は入力してください。"},null,"振込用紙","深夜電力Ｂ","単相2線式100Ｖ","主開閉器契約","有","降雪","時間","連続","あり","㏋",1]
[null,"代表者名",null,null,null,null,null,null,null,null,null,"ご契約者が個人名ではない場合は入力してください。",{"$f":"IF(C7=\"\",\"ご契約者が個人名ではない場合は入力してください。\",\"\")","v":"ご契約者が個人名ではない場合は入力してください。"},null,"口座振替","深夜電力Ｃ","単相2線式200Ｖ","負荷設備契約","無","屋根","分","断続","なし","kW",0.9]
["ご使用場所","郵便番号",null,null,null,null,null,null,null,null,null,"←入力してください。",{"$f":"IF(C8=\"\",\"←入力してください。\",IF(OR(AND(MID(C8,4,1)<>\"-\",LEN(C8)<>7),AND(MID(C8,4,1)=\"-\",LEN(C8)<>8)),\"←入力誤りです。\",\"\"))","v":"←入力してください。"},null,"クレジット","深夜電力Ｄ","単相3線式100V・200V",null,null,"路面",null,null,null,null,0.85]
[null,"住所",null,null,null,null,null,null,null,null,null,"←入力してください。",{"$f":"IF(C9=\"\",\"←入力してください。\",\"\")","v":"←入力してください。"},null,null,"ホットタイム19","3相3線式200V",null,"配電Ｎｅｔ申込",null,null,null,null,null,0.8]
["電話番号","固定",null,"-",null,null,"-",null,null,null,null,"",{"$f":"IF(OR(C10=\"\",E10=\"\",H10=\"\"),\"\",IF(OR(LEN(H10)<>4,LEN(C10)+LEN(E10)+LEN(H10)<>10),\"←入力内容が不正です。\",\"\"))","v":""},null,null,"ホットタイム22"]
[null,"携帯",null,"-",null,null,"-",null,null,null,null,"",{"$f":"IF(OR(C11=\"\",E11=\"\",K11=\"\"),\"\",IF(OR(LEN(K11)<>4,LEN(C11)+LEN(E11)+LEN(K11)<>11),\"←入力内容が不正です。\",\"\"))","v":""},null,null,"ホットタイム19エコ",null,null,"有"]
["電気工事会社","会社名",null,null,null,null,null,null,null,null,null,"←入力してください。",{"$f":"IF(C12=\"\",\"←入力してください。\",\"\")","v":"←入力してください。"},null,null,"ホットタイム22エコ",null,null,"無"]
[null,"担当者",null,null,null,null,null,null,null,null,null,"←入力してください。",{"$f":"IF(C13=\"\",\"←入力してください。\",\"\")","v":"←入力してください。"},null,null,"ホットタイム22ロング"]
[null,"工事会社№",null,"-",null,null,null,null,null,null,null,"←入力してください。",{"$f":"IF(OR(C14=\"\",E14=\"\"),\"←入力してください。\",IF(OR(LEN(C14)<>2,LEN(E14)<>3),\"←入力内容が不正です。\",\"\"))","v":"←入力してください。"},null,null,null,"加重平均力率の算定"]
[null,"住所",null,null,null,null,null,null,null,null,null,"←入力してください。",{"$f":"IF(C15=\"\",\"←入力してください。\",\"\")","v":"←入力してください。"},null,null,null,1,{"$f":"IF(O49=2,P47,0)+IF(O57=2,P55,0)+IF(O65=2,P63,0)+IF(O73=2,P71,0)+IF(O81=2,P79,0)+IF(O89=2,P87,0)+IF(O97=2,P95,0)+IF(O105=2,P103,0)+IF(O113=2,P111,0)+IF(O121=2,P119,0)+IF(O129=2,P127,0)+IF(O137=2,P135,0)+IF(O145=2,P143,0)+IF(O153=2,P151,0)","v":0},{"$f":"R15*1","v":0}]
[null,"電話",null,"-",null,null,"-",null,null,null,null,"←入力してください。",{"$f":"IF(AND(C16=\"\",E16=\"\",H16=\"\"),\"←入力してください。\",IF(OR(LEN(H16)<>4,LEN(C16)+LEN(E16)+LEN(H16)<10,LEN(C16)+LEN(E16)+LEN(H16)>11),\"←入力内容が不正です。\",\"\"))","v":"←入力してください。"},null,null,null,0.9,{"$f":"IF(O49=3,P47,0)+IF(O57=3,P55,0)+IF(O65=3,P63,0)+IF(O73=3,P71,0)+IF(O81=3,P79,0)+IF(O89=3,P87,0)+IF(O97=3,P95,0)+IF(O105=3,P103,0)+IF(O113=3,P111,0)+IF(O121=3,P119,0)+IF(O129=3,P127,0)+IF(O137=3,P135,0)+IF(O145=3,P143,0)+IF(O153=3,P151,0)","v":0},{"$f":"ROUND(R16*0.9,3)","v":0}]
["建築会社","会社名",null,null,null,null,null,null,null,null,null,"",{"$f":"IF(AND(C18=\"\",C19=\"\",E19=\"\",H19=\"\"),\"\",IF(C17=\"\",\"←入力してください。\",\"\"))","v":""},null,null,null,0.85,{"$f":"IF(O49=4,P47,0)+IF(O57=4,P55,0)+IF(O65=4,P63,0)+IF(O73=4,P71,0)+IF(O81=4,P79,0)+IF(O89=4,P87,0)+IF(O97=4,P95,0)+IF(O105=4,P103,0)+IF(O113=4,P111,0)+IF(O121=4,P119,0)+IF(O129=4,P127,0)+IF(O137=4,P135,0)+IF(O145=4,P143,0)+IF(O153=4,P151,0)","v":0},{"$f":"ROUND(R17*0.85,3)","v":0}]
[null,"担当者",null,null,null,null,null,null,null,null,null,"",{"$f":"IF(AND(C17=\"\",C19=\"\",E19=\"\",H19=\"\"),\"\",IF(C18=\"\",\"←入力してください。\",\"\"))","v":""},null,null,null,0.8,{"$f":"IF(O49=5,P47,0)+IF(O57=5,P55,0)+IF(O65=5,P63,0)+IF(O73=5,P71,0)+IF(O81=5,P79,0)+IF(O89=5,P87,0)+IF(O97=5,P95,0)+IF(O105=5,P103,0)+IF(O113=5,P111,0)+IF(O121=5,P119,0)+IF(O129=5,P127,0)+IF(O137=5,P135,0)+IF(O145=5,P143,0)+IF(O153=5,P151,0)","v":0},{"$f":"ROUND(R18*0.8,3)","v":0}]
[null,"電話",null,"-",null,null,"-",null,null,null,null,"",{"$f":"IF(LEN(C19)+LEN(E19)+LEN(H19)=0,\"\",IF(OR(LEN(H19)<>4,LEN(C19)+LEN(E19)+LEN(H19)<10,LEN(C19)+LEN(E19)+LEN(H19)>11),\"←入力内容が不正です。\",\"\"))","v":""},null,1,null,"合計",{"$f":"IF(SUM(R15:R18)=0,\"\",ROUND(SUM(S15:S18)/SUM(R15:R18),2))","v":""}]
["お支払方法",null,null,null,null,null,null,null,null,null,null,"←選択してください。",{"$f":"IF(O20=1,\"←選択してください。\",\"\")","v":"←選択してください。"},null,1,null,"台数圧縮"]
["支払者名","フリガナ",null,null,null,null,null,null,null,null,null,"",{"$f":"IF(AND(C21=\"\",C22=\"\"),\"\",IF(AND(C21=\"\",C22<>\"同上\"),\"←入力してください。\",IF(LEN(ASC(C21))>40,\"←「゛」「゜」を含め，40文字以内としてください。\",\"\")))","v":""},null,null,null,"最初の2台",{"$f":"IF(U22>1,T22*2,T22+X22)","v":0},{"$f":"ROUND(R21*1,3)","v":0},"1番目",null,null,null,"2番目",null,null,null,"3番目",null,null,null,"4番目"]
[null,"漢字",null,null,null,null,null,null,null,null,null,"←入力してください。",{"$f":"IF(C22=\"\",\"←入力してください。\",\"\")","v":"←入力してください。"},null,null,null,"次の２台",{"$f":"IF(U22>3,T22*2,IF(U22=3,T22+X22,IF(U22=2,IF(Y22>1,X22*2,X22+AB22),IF(Y22>2,X22*2,IF(Y22=2,X22+AB22,IF(Y22=1,IF(AC22>1,AB22*2,AB22+AF22)))))))","v":0},{"$f":"ROUND(R22*0.95,3)","v":0},{"$f":"MAX(T23:W36)","v":0},{"$f":"COUNTIF(T23:W36,T22)","v":56},null,null,{"$f":"MAX(X23:AA36)+T22","v":-100},{"$f":"COUNTIF(X23:AA36,X22-T22)","v":56},null,null,{"$f":"MAX(AB23:AE36)+X22","v":-200},{"$f":"COUNTIF(AB23:AE36,AB22-X22)","v":56},null,null,{"$f":"MAX(AF23:AI36)+AB22","v":-300},{"$f":"COUNTIF(AF23:AI36,AF22-AB22)","v":56}]
["請求書送付先","郵便番号",null,null,null,null,null,null,null,null,null,"",{"$f":"IF(AND(C23=\"\",C24=\"\"),\"\",IF(AND(C23=\"\",C24<>\"同上\"),\"←入力してください。\",IF(C23=\"\",\"\",IF(OR(AND(MID(C23,4,1)<>\"-\",LEN(C23)<>7),AND(MID(C23,4,1)=\"-\",LEN(C23)<>8)),\"←入力誤りです。\",\"\"))))","v":""},null,null,null,"残り",{"$f":"R39-R21-R22","v":0},{"$f":"ROUND(R23*0.9,3)","v":0},{"$f":"IF(O49>2,P46,0)","v":0},{"$f":"IF(C50>1,T23,0)","v":0},{"$f":"IF(C50>2,T23,0)","v":0},{"$f":"IF(C50>3,T23,0)","v":0},{"$f":"IF(T23-$T$22=0,-100,T23-$T$22)","v":-100},-100,-100,-100,{"$f":"IF(X23-$X$22+$T$22=0,-100,X23-$X$22+$T$22)","v":-100},-100,-100,-100,{"$f":"IF(AB23-$AB$22+$X$22=0,-100,AB23-$AB$22+$X$22)","v":-100},-100,-100,-100]
[null,"住所",null,null,null,null,null,null,null,null,null,"←入力してください。",{"$f":"IF(C24=\"\",\"←入力してください。\",\"\")","v":"←入力してください。"},null,null,null,"合計",null,{"$f":"SUM(S21:S23)","v":0},{"$f":"IF(O57>2,P54,0)","v":0},{"$f":"IF(C58>1,T24,0)","v":0},{"$f":"IF(C58>2,T24,0)","v":0},{"$f":"IF(C58>3,T24,0)","v":0},-100,-100,-100,-100,-100,-100,-100,-100,-100,-100,-100,-100]
[null,"電話",null,"-",null,null,"-",null,null,null,null,"",{"$f":"IF(AND(C24=\"\",C25=\"\",E25=\"\",H25=\"\"),\"\",IF(C24=\"同上\",\"\",IF(AND(C25=\"\",E25=\"\",H25=\"\"),\"←入力してください。\",IF(OR(LEN(H25)<>4,LEN(C25)+LEN(E25)+LEN(H25)<10,LEN(C25)+LEN(E25)+LEN(H25)>11),\"←入力内容が不正です。\",\"\"))))","v":""},null,null,null,null,null,null,{"$f":"IF(O65>2,P62,0)","v":0},{"$f":"IF(C66>1,T25,0)","v":0},{"$f":"IF(C66>2,T25,0)","v":0},{"$f":"IF(C66>3,T25,0)","v":0},-100,-100,-100,-100,-100,-100,-100,-100,-100,-100,-100,-100]
["ご連絡先","住所",null,null,null,null,null,null,null,null,null,"←入力してください。",{"$f":"IF(C26=\"\",\"←入力してください。\",\"\")","v":"←入力してください。"},null,null,null,"容量圧縮",{"$f":"ROUND(IF(S24<6,S24,IF(S24<20,(S24-6)*0.9+6,IF(S24<50,(S24-20)*0.8+6+14*0.9,(S24-50)*0.7+6+14*0.9+30*0.8))),3)+R38","v":0},null,{"$f":"IF(O73>2,P70,0)","v":0},{"$f":"IF(C74>1,T26,0)","v":0},{"$f":"IF(C74>2,T26,0)","v":0},{"$f":"IF(C74>3,T26,0)","v":0},-100,-100,-100,-100,-100,-100,-100,-100,-100,-100,-100,-100]
[null,"電話",null,"-",null,null,"-",null,null,null,null,"",{"$f":"IF(AND(C26=\"\",C27=\"\",E27=\"\",H27=\"\"),\"\",IF(OR(C26=\"同上\",C26=\"同左\"),\"\",IF(AND(C27=\"\",E27=\"\",H27=\"\"),\"←入力してください。\",IF(OR(LEN(H27)<>4,LEN(C27)+LEN(E27)+LEN(H27)<10,LEN(C27)+LEN(E27)+LEN(H27)>11),\"←入力内容が不正です。\",\"\"))))","v":""},null,1,null,null,null,null,{"$f":"IF(O81>2,P78,0)","v":0},{"$f":"IF(C82>1,T27,0)","v":0},{"$f":"IF(C82>2,T27,0)","v":0},{"$f":"IF(C82>3,T27,0)","v":0},-100,-100,-100,-100,-100,-100,-100,-100,-100,-100,-100,-100]
["電設Ｎｅｔ申込",null,null,null,null,null,null,null,null,null,null,{"$f":"IF(M28=\"\",\"\",M28)","v":"←選択してください。"},{"$f":"IF(O28=1,\"←選択してください。\",\"\")","v":"←選択してください。"},null,1,"契約種別表示用","主開閉器契約",{"$f":"IF(O32=2,C34*100/1000,IF(OR(O32=3,O32=4),C34*200/1000,IF(O32=5,C34*200*1.732/1000,0)))","v":0},null,{"$f":"IF(O89>2,P86,0)","v":0},{"$f":"IF(C90>1,T28,0)","v":0},{"$f":"IF(C90>2,T28,0)","v":0},{"$f":"IF(C90>3,T28,0)","v":0},-100,-100,-100,-100,-100,-100,-100,-100,-100,-100,-100,-100]
["電設工事番号",null,null,null,null,null,null,null,null,null,null,{"$f":"IF(M29=\"\",\"\",M29)","v":""},{"$f":"IF(OR(O28=1,O28=3),\"\",IF(LEN(ASC(C29))>10,\"←10桁の番号を入力してください。\",\"\"))","v":""},null,null,{"$f":"IF(O31=2,P6,IF(O31=3,P7,IF(O31=4,P8,IF(O31=5,P9,IF(O31=6,P10,IF(O31=7,P11,IF(O31=8,P12,IF(O31=9,P13,\"\"))))))))","v":""},null,null,null,{"$f":"IF(O97>2,P94,0)","v":0},{"$f":"IF(C98>1,T29,0)","v":0},{"$f":"IF(C98>2,T29,0)","v":0},{"$f":"IF(C98>3,T29,0)","v":0},-100,-100,-100,-100,-100,-100,-100,-100,-100,-100,-100,-100]
["受電希望日",null,null,"年",null,null,"月",null,"日",null,null,"←入力してください。",{"$f":"IF(OR(C30=\"\",E30=\"\",H30=\"\"),\"←入力してください。\",IF(AND(ISNUMBER(C30),ISNUMBER(E30),ISNUMBER(H30)),IF(OR(C30<1,E30<1,E30>12,H30<1,H30>31),\"←入力内容が不正です。\",\"\"),\"←数字を入力してください。\"))","v":"←入力してください。"},null,1,null,"負荷設備契約自動計算可否確認",{"$f":"IF(R37=1,\"\",R26)","v":0},null,{"$f":"IF(O105>2,P102,0)","v":0},{"$f":"IF(C106>1,T30,0)","v":0},{"$f":"IF(C106>2,T30,0)","v":0},{"$f":"IF(C106>3,T30,0)","v":0},-100,-100,-100,-100,-100,-100,-100,-100,-100,-100,-100,-100]
["契約種別",null,null,null,null,null,null,null,null,null,null,"←選択してください。",{"$f":"IF(O31=1,\"←選択してください。\",\"\")","v":"←選択してください。"},null,1,null,"加重平均力率自動計算可否確認",{"$f":"IF(OR(AND(O49>1,P46=0),AND(O57>1,P54=0),AND(O65>1,P62=0),AND(O73>1,P70=0),AND(O81>1,P78=0),AND(O89>1,P86=0),AND(O97>1,P94=0),AND(O105>1,P102=0),AND(O113>1,P110=0),AND(O121>1,P118=0),AND(O129>1,P126=0),AND(O137>1,P134=0),AND(O145>1,P142=0),AND(O153>1,P150=0)),\"\",R19)","v":""},null,{"$f":"IF(O113>2,P110,0)","v":0},{"$f":"IF(C114>1,T31,0)","v":0},{"$f":"IF(C114>2,T31,0)","v":0},{"$f":"IF(C114>3,T31,0)","v":0},-100,-100,-100,-100,-100,-100,-100,-100,-100,-100,-100,-100]
["供給電気方式・供給電圧",null,null,null,null,null,null,null,null,null,null,"←選択してください。",{"$f":"IF(O32=1,\"←選択してください。\",\"\")","v":"←選択してください。"},null,1,null,null,null,null,{"$f":"IF(O121>2,P118,0)","v":0},{"$f":"IF(C122>1,T32,0)","v":0},{"$f":"IF(C122>2,T32,0)","v":0},{"$f":"IF(C122>3,T32,0)","v":0},-100,-100,-100,-100,-100,-100,-100,-100,-100,-100,-100,-100]
["契約決定方法",null,null,null,null,null,null,null,null,null,null,"←選択してください。",{"$f":"IF(O33=1,\"←選択してください。\",IF(AND(O31>2,O31<5,O33=2),\"←深夜電力では負荷設備契約を選択してください。\",\"\"))","v":"←選択してください。"},null,1,null,"契約電力確定",{"$f":"IF(O33=2,IF(AND(O31>4,R28>0,R28<=0.5),0.5,ROUND(R28,0)),IF(O33=3,IF(AND(O31>4,R26>0,R26<=0.5),0.5,ROUND(R26,0)),\"\"))","v":""},null,{"$f":"IF(O129>2,P126,0)","v":0},{"$f":"IF(C130>1,T33,0)","v":0},{"$f":"IF(C130>2,T33,0)","v":0},{"$f":"IF(C130>3,T33,0)","v":0},-100,-100,-100,-100,-100,-100,-100,-100,-100,-100,-100,-100]
["主開閉器の定格電流",null,null,"Ａ",null,null,null,null,null,null,null,"",{"$f":"IF(AND(C34=\"\",O33=2),\"←入力してください。\",IF(OR(C34=\"\",ISNUMBER(C34)),\"\",\"←数字を入力してください。\"))","v":""},null,1,null,null,null,null,{"$f":"IF(O137>2,P134,0)","v":0},{"$f":"IF(C138>1,T34,0)","v":0},{"$f":"IF(C138>2,T34,0)","v":0},{"$f":"IF(C138>3,T34,0)","v":0},-100,-100,-100,-100,-100,-100,-100,-100,-100,-100,-100,-100]
["フリーエリア計器払出事業所名",null,null,null,null,null,null,null,null,null,null,"←希望がなければ「なし」と入力してください。",{"$f":"IF(C35=\"\",\"←希望がなければ「なし」と入力してください。\",\"\")","v":"←希望がなければ「なし」と入力してください。"},null,1,null,"通電制御・検知制御対象率（分子）",{"$f":"ROUND(IF(O46=2,P47,0)+IF(O54=2,P55,0)+IF(O62=2,P63,0)+IF(O70=2,P71,0)+IF(O78=2,P79,0)+IF(O86=2,P87,0)+IF(O94=2,P95,0)+IF(O102=2,P103,0)+IF(O110=2,P111,0)+IF(O118=2,P119,0)+IF(O126=2,P127,0)+IF(O134=2,P135,0)+IF(O142=2,P143,0)+IF(O150=2,P151,0),3)","v":0},null,{"$f":"IF(O145>2,P142,0)","v":0},{"$f":"IF(C146>1,T35,0)","v":0},{"$f":"IF(C146>2,T35,0)","v":0},{"$f":"IF(C146>3,T35,0)","v":0},-100,-100,-100,-100,-100,-100,-100,-100,-100,-100,-100,-100]
["本契約前の臨時契約の有無",null,null,null,null,null,null,null,null,null,null,{"$f":"IF(M36=\"\",\"\",M36)","v":"←選択してください。"},{"$f":"IF(O36=1,\"←選択してください。\",\"\")","v":"←選択してください。"},null,1,null,null,null,null,{"$f":"IF(O153>2,P150,0)","v":0},{"$f":"IF(C154>1,T36,0)","v":0},{"$f":"IF(C154>2,T36,0)","v":0},{"$f":"IF(C154>3,T36,0)","v":0},{"$f":"IF(T36-$T$22=0,-100,T36-$T$22)","v":-100},{"$f":"IF(U36-$T$22=0,-100,U36-$T$22)","v":-100},{"$f":"IF(V36-$T$22=0,-100,V36-$T$22)","v":-100},{"$f":"IF(W36-$T$22=0,-100,W36-$T$22)","v":-100},{"$f":"IF(X36-$X$22+$T$22=0,-100,X36-$X$22+$T$22)","v":-100},{"$f":"IF(Y36-$X$22+$T$22=0,-100,Y36-$X$22+$T$22)","v":-100},{"$f":"IF(Z36-$X$22+$T$22=0,-100,Z36-$X$22+$T$22)","v":-100},{"$f":"IF(AA36-$X$22+$T$22=0,-100,AA36-$X$22+$T$22)","v":-100},{"$f":"IF(AB36-$AB$22+$X$22=0,-100,AB36-$AB$22+$X$22)","v":-100},{"$f":"IF(AC36-$AB$22+$X$22=0,-100,AC36-$AB$22+$X$22)","v":-100},{"$f":"IF(AD36-$AB$22+$X$22=0,-100,AD36-$AB$22+$X$22)","v":-100},{"$f":"IF(AE36-$AB$22+$X$22=0,-100,AE36-$AB$22+$X$22)","v":-100}]
["検知制御装置","メーカー",null,null,null,null,null,null,null,null,null,"",{"$f":"IF(OR(O31=2,O31=3,O31=4,O31=9),IF(C37<>\"\",\"←入力できません。\",\"\"),IF(AND(C38<>\"\",C37=\"\"),\"←入力してください。\",\"\"))","v":""},null,1,null,"出力・入力データチェック",{"$f":"IF(OR(AND(P46=0,C50<>\"\"),AND(P54=0,C58<>\"\"),AND(P62=0,C66<>\"\"),AND(P70=0,C74<>\"\"),AND(P78=0,C82<>\"\"),AND(P86=0,C90<>\"\"),AND(P94=0,C98<>\"\"),AND(P102=0,C106<>\"\"),AND(P110=0,C114<>\"\"),AND(P118=0,C122<>\"\"),AND(P126=0,C130<>\"\"),AND(P134=0,C138<>\"\"),AND(P142=0,C146<>\"\"),AND(P150=0,C154<>\"\")),1,\"\")","v":""}]
[null,"型式",null,null,null,null,null,null,null,null,null,"",{"$f":"IF(OR(O31=2,O31=3,O31=4,O31=9),IF(C38<>\"\",\"←入力できません。\",\"\"),IF(AND(C37<>\"\",C38=\"\"),\"←入力してください。\",\"\"))","v":""},null,1,null,"電熱器総容量",{"$f":"ROUND(IF(R37=1,0,IF(O49=2,P47,0)+IF(O57=2,P55,0)+IF(O65=2,P63,0)+IF(O73=2,P71,0)+IF(O81=2,P79,0)+IF(O89=2,P87,0)+IF(O97=2,P95,0)+IF(O105=2,P103,0)+IF(O113=2,P111,0)+IF(O121=2,P119,0)+IF(O129=2,P127,0)+IF(O137=2,P135,0)+IF(O145=2,P143,0)+IF(O153=2,P151,0)),3)","v":0}]
[null,"種類",null,null,null,null,null,null,null,null,null,"",{"$f":"IF(AND(OR(O31=2,O31=3,O31=4,O31=9),O39>1),\"←選択できません。\",IF(AND(C37<>\"\",O39=1),\"←選択してください。\",\"\"))","v":""},null,1,null,"電熱器以外総容量",{"$f":"ROUND(IF(R37=1,0,IF(O49>2,P47,0)+IF(O57>2,P55,0)+IF(O65>2,P63,0)+IF(O73>2,P71,0)+IF(O81>2,P79,0)+IF(O89>2,P87,0)+IF(O97>2,P95,0)+IF(O105>2,P103,0)+IF(O113>2,P111,0)+IF(O121>2,P119,0)+IF(O129>2,P127,0)+IF(O137>2,P135,0)+IF(O145>2,P143,0)+IF(O153>2,P151,0)),3)","v":0}]
["通電遮断パターン",null,null,"時",null,null,"分から",null,null,null,null,"",{"$f":"IF(AND(OR(O31=6,O31>7),OR(C40=\"\",E40=\"\")),\"←入力してください。\",IF(OR(C40=\"\",E40=\"\"),\"\",IF(AND(ISNUMBER(C40),ISNUMBER(E40)),IF(OR(C40<4,AND(C40>7,C40<15),C40>19,MOD(E40,15)<>0,E40<0,E40>59),\"←入力内容が不正です。\",\"\"),\"←数字を入力してください。\")))","v":""},null,1]
[null,null,null,null,null,null,null,null,null,null,null,"",{"$f":"IF(AND(OR(O31=6,O31>7),C41=\"\"),\"←入力してください。\",IF(C41=\"\",\"\",IF(ISNUMBER(C41),IF(OR(C41=15,C41=30,C41=1,C41=2),IF(OR(AND(C41=2,O41=3),AND(C41<>2,O41=2),AND(C41>2,O40=2),AND(C41<3,O40=3)),\"←入力・選択内容が不正です。\",\"\"),\"←入力内容が不正です。\"),\"←数字を入力してください。\")))","v":""},null,1]
["最低使用期間開始月",null,null,"月分",null,null,null,null,null,null,null,"",{"$f":"IF(AND(O31>4,C42=\"\"),\"←入力してください。\",IF(C42=\"\",\"\",IF(ISNUMBER(C42),IF(OR(C42<1,C42>12),\"←入力内容が不正です。\",\"\"),\"←数字を入力してください。\")))","v":""}]
["契約負荷\n設備内訳１","機器種別",null,null,null,null,null,null,null,null,null,"←契約負荷設備の内訳を入力してください。",{"$f":"IF(AND(C50=\"\",C58=\"\",C66=\"\",C74=\"\",C82=\"\",C90=\"\",C98=\"\",C106=\"\",C114=\"\",C122=\"\",C130=\"\",C138=\"\",C146=\"\",C154=\"\"),\"←契約負荷設備の内訳を入力してください。\",\"\")","v":"←契約負荷設備の内訳を入力してください。"}]
[null,"メーカー",null,null,null,null,null,null,null,null,null,"",{"$f":"IF(AND(C43<>\"\",C44=\"\"),\"←入力してください。\",\"\")","v":""},null,1]
[null,"型式",null,null,null,null,null,null,null,null,null,"",{"$f":"IF(AND(C43<>\"\",C45=\"\"),\"←入力してください。\",\"\")","v":""},null,1,"入力値算定"]
[null,"通電制御・検知制御",null,null,null,null,null,null,null,null,null,null,{"$f":"IF(AND(C43<>\"\",O46=1),\"←選択してください。\",\"\")","v":""},null,1,{"$f":"IF(C48<>\"\",C48,IF(O49=2,C47,IF(O47=2,ROUND(C47*0.933,3),0)))","v":0}]
[null,"出力",null,null,null,null,null,null,null,null,null,"",{"$f":"IF(C47=\"\",\"\",IF(ISNUMBER(C47),IF(O47=1,\"←単位を選択してください。\",IF(AND(O47=2,O49=2),\"←単位または力率が間違っています。\",\"\")),\"←数字を入力してください。\"))","v":""},null,1,{"$f":"IF(P46*C50=0,\"\",P46*C50)","v":""}]
[null,"入力",null,null,"kW",null,null,null,null,null,null,"",{"$f":"IF(OR(C48=\"\",ISNUMBER(C48)),\"\",\"←数字を入力してください。\")","v":""},null,1]
[null,"力率",null,null,null,null,null,null,null,null,null,"",{"$f":"IF(AND(C43<>\"\",O49=1,O31>4),\"←選択してください。\",\"\")","v":""},null,1]
[null,"台数",null,"台",null,null,null,null,null,null,null,"",{"$f":"IF(AND(C43<>\"\",C50=\"\"),\"←入力してください。\",IF(OR(C50=\"\",ISNUMBER(C50)),\"\",\"←数字を入力してください。\"))","v":""}]
["契約負荷\n設備内訳２","機器種別",null,null,null,null,null,null,null,null,null,""]
[null,"メーカー",null,null,null,null,null,null,null,null,null,"",{"$f":"IF(AND(C51<>\"\",C52=\"\"),\"←入力してください。\",\"\")","v":""},null,1]
[null,"型式",null,null,null,null,null,null,null,null,null,"",{"$f":"IF(AND(C51<>\"\",C53=\"\"),\"←入力してください。\",\"\")","v":""},null,1,"入力値算定"]
[null,"通電制御・検知制御",null,null,null,null,null,null,null,null,null,null,{"$f":"IF(AND(C51<>\"\",O54=1),\"←選択してください。\",\"\")","v":""},null,1,{"$f":"IF(C56<>\"\",C56,IF(O57=2,C55,IF(O55=2,ROUND(C55*0.933,3),0)))","v":0}]
[null,"出力",null,null,null,null,null,null,null,null,null,"",{"$f":"IF(C55=\"\",\"\",IF(ISNUMBER(C55),IF(O55=1,\"←単位を選択してください。\",IF(AND(O55=2,O57=2),\"←単位または力率が間違っています。\",\"\")),\"←数字を入力してください。\"))","v":""},null,1,{"$f":"IF(P54*C58=0,\"\",P54*C58)","v":""}]
[null,"入力",null,null,"kW",null,null,null,null,null,null,"",{"$f":"IF(OR(C56=\"\",ISNUMBER(C56)),\"\",\"←数字を入力してください。\")","v":""},null,1]
[null,"力率",null,null,null,null,null,null,null,null,null,"",{"$f":"IF(AND(C51<>\"\",O57=1,O31>4),\"←選択してください。\",\"\")","v":""},null,1]
[null,"台数",null,"台",null,null,null,null,null,null,null,"",{"$f":"IF(AND(C51<>\"\",C58=\"\"),\"←入力してください。\",IF(OR(C58=\"\",ISNUMBER(C58)),\"\",\"←数字を入力してください。\"))","v":""}]
["契約負荷\n設備内訳３","機器種別",null,null,null,null,null,null,null,null,null,""]
[null,"メーカー",null,null,null,null,null,null,null,null,null,"",{"$f":"IF(AND(C59<>\"\",C60=\"\"),\"←入力してください。\",\"\")","v":""},null,1]
[null,"型式",null,null,null,null,null,null,null,null,null,"",{"$f":"IF(AND(C59<>\"\",C61=\"\"),\"←入力してください。\",\"\")","v":""},null,1,"入力値算定"]
[null,"通電制御・検知制御",null,null,null,null,null,null,null,null,null,null,{"$f":"IF(AND(C59<>\"\",O62=1),\"←選択してください。\",\"\")","v":""},null,1,{"$f":"IF(C64<>\"\",C64,IF(O65=2,C63,IF(O63=2,ROUND(C63*0.933,3),0)))","v":0}]
[null,"出力",null,null,null,null,null,null,null,null,null,"",{"$f":"IF(C63=\"\",\"\",IF(ISNUMBER(C63),IF(O63=1,\"←単位を選択してください。\",IF(AND(O63=2,O65=2),\"←単位または力率が間違っています。\",\"\")),\"←数字を入力してください。\"))","v":""},null,1,{"$f":"IF(P62*C66=0,\"\",P62*C66)","v":""}]
[null,"入力",null,null,"kW",null,null,null,null,null,null,"",{"$f":"IF(OR(C64=\"\",ISNUMBER(C64)),\"\",\"←数字を入力してください。\")","v":""},null,1]
[null,"力率",null,null,null,null,null,null,null,null,null,"",{"$f":"IF(AND(C59<>\"\",O65=1,O31>4),\"←選択してください。\",\"\")","v":""},null,1]
[null,"台数",null,"台",null,null,null,null,null,null,null,"",{"$f":"IF(AND(C59<>\"\",C66=\"\"),\"←入力してください。\",IF(OR(C66=\"\",ISNUMBER(C66)),\"\",\"←数字を入力してください。\"))","v":""}]
["契約負荷\n設備内訳４","機器種別",null,null,null,null,null,null,null,null,null,""]
[null,"メーカー",null,null,null,null,null,null,null,null,null,"",{"$f":"IF(AND(C67<>\"\",C68=\"\"),\"←入力してください。\",\"\")","v":""},null,1]
[null,"型式",null,null,null,null,null,null,null,null,null,{"$f":"IF(M69=\"\",\"\",M69)","v":""},{"$f":"IF(AND(C67<>\"\",C69=\"\"),\"←入力してください。\",\"\")","v":""},null,1,"入力値算定"]
[null,"通電制御・検知制御",null,null,null,null,null,null,null,null,null,null,{"$f":"IF(AND(C67<>\"\",O70=1),\"←選択してください。\",\"\")","v":""},null,1,{"$f":"IF(C72<>\"\",C72,IF(O73=2,C71,IF(O71=2,ROUND(C71*0.933,3),0)))","v":0}]
[null,"出力",null,null,null,null,null,null,null,null,null,"",{"$f":"IF(C71=\"\",\"\",IF(ISNUMBER(C71),IF(O71=1,\"←単位を選択してください。\",IF(AND(O71=2,O73=2),\"←単位または力率が間違っています。\",\"\")),\"←数字を入力してください。\"))","v":""},null,1,{"$f":"IF(P70*C74=0,\"\",P70*C74)","v":""}]
[null,"入力",null,null,"kW",null,null,null,null,null,null,"",{"$f":"IF(OR(C72=\"\",ISNUMBER(C72)),\"\",\"←数字を入力してください。\")","v":""},null,1]
[null,"力率",null,null,null,null,null,null,null,null,null,"",{"$f":"IF(AND(C67<>\"\",O73=1,O31>4),\"←選択してください。\",\"\")","v":""},null,1]
[null,"台数",null,"台",null,null,null,null,null,null,null,"",{"$f":"IF(AND(C67<>\"\",C74=\"\"),\"←入力してください。\",IF(OR(C74=\"\",ISNUMBER(C74)),\"\",\"←数字を入力してください。\"))","v":""}]
["契約負荷\n設備内訳５","機器種別",null,null,null,null,null,null,null,null,null,""]
[null,"メーカー",null,null,null,null,null,null,null,null,null,"",{"$f":"IF(AND(C75<>\"\",C76=\"\"),\"←入力してください。\",\"\")","v":""},null,1]
[null,"型式",null,null,null,null,null,null,null,null,null,"",{"$f":"IF(AND(C75<>\"\",C77=\"\"),\"←入力してください。\",\"\")","v":""},null,1,"入力値算定"]
[null,"通電制御・検知制御",null,null,null,null,null,null,null,null,null,null,{"$f":"IF(AND(C75<>\"\",O78=1),\"←選択してください。\",\"\")","v":""},null,1,{"$f":"IF(C80<>\"\",C80,IF(O81=2,C79,IF(O79=2,ROUND(C79*0.933,3),0)))","v":0}]
[null,"出力",null,null,null,null,null,null,null,null,null,"",{"$f":"IF(C79=\"\",\"\",IF(ISNUMBER(C79),IF(O79=1,\"←単位を選択してください。\",IF(AND(O79=2,O81=2),\"←単位または力率が間違っています。\",\"\")),\"←数字を入力してください。\"))","v":""},null,1,{"$f":"IF(P78*C82=0,\"\",P78*C82)","v":""}]
[null,"入力",null,null,"kW",null,null,null,null,null,null,"",{"$f":"IF(OR(C80=\"\",ISNUMBER(C80)),\"\",\"←数字を入力してください。\")","v":""},null,1]
[null,"力率",null,null,null,null,null,null,null,null,null,"",{"$f":"IF(AND(C75<>\"\",O81=1,O31>4),\"←選択してください。\",\"\")","v":""},null,1]
[null,"台数",null,"台",null,null,null,null,null,null,null,"",{"$f":"IF(AND(C75<>\"\",C82=\"\"),\"←入力してください。\",IF(OR(C82=\"\",ISNUMBER(C82)),\"\",\"←数字を入力してください。\"))","v":""}]
["契約負荷\n設備内訳６","機器種別",null,null,null,null,null,null,null,null,null,""]
[null,"メーカー",null,null,null,null,null,null,null,null,null,"",{"$f":"IF(AND(C83<>\"\",C84=\"\"),\"←入力してください。\",\"\")","v":""},null,1]
[null,"型式",null,null,null,null,null,null,null,null,null,"",{"$f":"IF(AND(C83<>\"\",C85=\"\"),\"←入力してください。\",\"\")","v":""},null,1,"入力値算定"]
[null,"通電制御・検知制御",null,null,null,null,null,null,null,null,null,null,{"$f":"IF(AND(C83<>\"\",O86=1),\"←選択してください。\",\"\")","v":""},null,1,{"$f":"IF(C88<>\"\",C88,IF(O89=2,C87,IF(O87=2,ROUND(C87*0.933,3),0)))","v":0}]
[null,"出力",null,null,null,null,null,null,null,null,null,"",{"$f":"IF(C87=\"\",\"\",IF(ISNUMBER(C87),IF(O87=1,\"←単位を選択してください。\",IF(AND(O87=2,O89=2),\"←単位または力率が間違っています。\",\"\")),\"←数字を入力してください。\"))","v":""},null,1,{"$f":"IF(P86*C90=0,\"\",P86*C90)","v":""}]
[null,"入力",null,null,"kW",null,null,null,null,null,null,"",{"$f":"IF(OR(C88=\"\",ISNUMBER(C88)),\"\",\"←数字を入力してください。\")","v":""},null,1]
[null,"力率",null,null,null,null,null,null,null,null,null,"",{"$f":"IF(AND(C83<>\"\",O89=1,O31>4),\"←選択してください。\",\"\")","v":""},null,1]
[null,"台数",null,"台",null,null,null,null,null,null,null,"",{"$f":"IF(AND(C83<>\"\",C90=\"\"),\"←入力してください。\",IF(OR(C90=\"\",ISNUMBER(C90)),\"\",\"←数字を入力してください。\"))","v":""}]
["契約負荷\n設備内訳７","機器種別",null,null,null,null,null,null,null,null,null,""]
[null,"メーカー",null,null,null,null,null,null,null,null,null,"",{"$f":"IF(AND(C91<>\"\",C92=\"\"),\"←入力してください。\",\"\")","v":""},null,1]
[null,"型式",null,null,null,null,null,null,null,null,null,"",{"$f":"IF(AND(C91<>\"\",C93=\"\"),\"←入力してください。\",\"\")","v":""},null,1,"入力値算定"]
[null,"通電制御・検知制御",null,null,null,null,null,null,null,null,null,null,{"$f":"IF(AND(C91<>\"\",O94=1),\"←選択してください。\",\"\")","v":""},null,1,{"$f":"IF(C96<>\"\",C96,IF(O97=2,C95,IF(O95=2,ROUND(C95*0.933,3),0)))","v":0}]
[null,"出力",null,null,null,null,null,null,null,null,null,"",{"$f":"IF(C95=\"\",\"\",IF(ISNUMBER(C95),IF(O95=1,\"←単位を選択してください。\",IF(AND(O95=2,O97=2),\"←単位または力率が間違っています。\",\"\")),\"←数字を入力してください。\"))","v":""},null,1,{"$f":"IF(P94*C98=0,\"\",P94*C98)","v":""}]
[null,"入力",null,null,"kW",null,null,null,null,null,null,"",{"$f":"IF(OR(C96=\"\",ISNUMBER(C96)),\"\",\"←数字を入力してください。\")","v":""},null,1]
[null,"力率",null,null,null,null,null,null,null,null,null,"",{"$f":"IF(AND(C91<>\"\",O97=1,O31>4),\"←選択してください。\",\"\")","v":""},null,1]
[null,"台数",null,"台",null,null,null,null,null,null,null,"",{"$f":"IF(AND(C91<>\"\",C98=\"\"),\"←入力してください。\",IF(OR(C98=\"\",ISNUMBER(C98)),\"\",\"←数字を入力してください。\"))","v":""}]
["契約負荷\n設備内訳８","機器種別",null,null,null,null,null,null,null,null,null,""]
[null,"メーカー",null,null,null,null,null,null,null,null,null,"",{"$f":"IF(AND(C99<>\"\",C100=\"\"),\"←入力してください。\",\"\")","v":""},null,1]
[null,"型式",null,null,null,null,null,null,null,null,null,"",{"$f":"IF(AND(C99<>\"\",C101=\"\"),\"←入力してください。\",\"\")","v":""},null,1,"入力値算定"]
[null,"通電制御・検知制御",null,null,null,null,null,null,null,null,null,null,{"$f":"IF(AND(C99<>\"\",O102=1),\"←選択してください。\",\"\")","v":""},null,1,{"$f":"IF(C104<>\"\",C104,IF(O105=2,C103,IF(O103=2,ROUND(C103*0.933,3),0)))","v":0}]
[null,"出力",null,null,null,null,null,null,null,null,null,"",{"$f":"IF(C103=\"\",\"\",IF(ISNUMBER(C103),IF(O103=1,\"←単位を選択してください。\",IF(AND(O103=2,O105=2),\"←単位または力率が間違っています。\",\"\")),\"←数字を入力してください。\"))","v":""},null,1,{"$f":"IF(P102*C106=0,\"\",P102*C106)","v":""}]
[null,"入力",null,null,"kW",null,null,null,null,null,null,"",{"$f":"IF(OR(C104=\"\",ISNUMBER(C104)),\"\",\"←数字を入力してください。\")","v":""},null,1]
[null,"力率",null,null,null,null,null,null,null,null,null,"",{"$f":"IF(AND(C99<>\"\",O105=1,O31>4),\"←選択してください。\",\"\")","v":""},null,1]
[null,"台数",null,"台",null,null,null,null,null,null,null,"",{"$f":"IF(AND(C99<>\"\",C106=\"\"),\"←入力してください。\",IF(OR(C106=\"\",ISNUMBER(C106)),\"\",\"←数字を入力してください。\"))","v":""}]
["契約負荷\n設備内訳９","機器種別",null,null,null,null,null,null,null,null,null,""]
[null,"メーカー",null,null,null,null,null,null,null,null,null,"",{"$f":"IF(AND(C107<>\"\",C108=\"\"),\"←入力してください。\",\"\")","v":""},null,1]
[null,"型式",null,null,null,null,null,null,null,null,null,"",{"$f":"IF(AND(C107<>\"\",C109=\"\"),\"←入力してください。\",\"\")","v":""},null,1,"入力値算定"]
[null,"通電制御・検知制御",null,null,null,null,null,null,null,null,null,null,{"$f":"IF(AND(C107<>\"\",O110=1),\"←選択してください。\",\"\")","v":""},null,1,{"$f":"IF(C112<>\"\",C112,IF(O113=2,C111,IF(O111=2,ROUND(C111*0.933,3),0)))","v":0}]
[null,"出力",null,null,null,null,null,null,null,null,null,"",{"$f":"IF(C111=\"\",\"\",IF(ISNUMBER(C111),IF(O111=1,\"←単位を選択してください。\",IF(AND(O111=2,O113=2),\"←単位または力率が間違っています。\",\"\")),\"←数字を入力してください。\"))","v":""},null,1,{"$f":"IF(P110*C114=0,\"\",P110*C114)","v":""}]
[null,"入力",null,null,"kW",null,null,null,null,null,null,"",{"$f":"IF(OR(C112=\"\",ISNUMBER(C112)),\"\",\"←数字を入力してください。\")","v":""},null,1]
[null,"力率",null,null,null,null,null,null,null,null,null,"",{"$f":"IF(AND(C107<>\"\",O113=1,O31>4),\"←選択してください。\",\"\")","v":""},null,1]
[null,"台数",null,"台",null,null,null,null,null,null,null,"",{"$f":"IF(AND(C107<>\"\",C114=\"\"),\"←入力してください。\",IF(OR(C114=\"\",ISNUMBER(C114)),\"\",\"←数字を入力してください。\"))","v":""}]
["契約負荷\n設備内訳１０","機器種別",null,null,null,null,null,null,null,null,null,""]
[null,"メーカー",null,null,null,null,null,null,null,null,null,"",{"$f":"IF(AND(C115<>\"\",C116=\"\"),\"←入力してください。\",\"\")","v":""},null,1]
[null,"型式",null,null,null,null,null,null,null,null,null,"",{"$f":"IF(AND(C115<>\"\",C117=\"\"),\"←入力してください。\",\"\")","v":""},null,1,"入力値算定"]
[null,"通電制御・検知制御",null,null,null,null,null,null,null,null,null,null,{"$f":"IF(AND(C115<>\"\",O118=1),\"←選択してください。\",\"\")","v":""},null,1,{"$f":"IF(C120<>\"\",C120,IF(O121=2,C119,IF(O119=2,ROUND(C119*0.933,3),0)))","v":0}]
[null,"出力",null,null,null,null,null,null,null,null,null,"",{"$f":"IF(C119=\"\",\"\",IF(ISNUMBER(C119),IF(O119=1,\"←単位を選択してください。\",IF(AND(O119=2,O121=2),\"←単位または力率が間違っています。\",\"\")),\"←数字を入力してください。\"))","v":""},null,1,{"$f":"IF(P118*C122=0,\"\",P118*C122)","v":""}]
[null,"入力",null,null,"kW",null,null,null,null,null,null,"",{"$f":"IF(OR(C120=\"\",ISNUMBER(C120)),\"\",\"←数字を入力してください。\")","v":""},null,1]
[null,"力率",null,null,null,null,null,null,null,null,null,"",{"$f":"IF(AND(C115<>\"\",O121=1,O31>4),\"←選択してください。\",\"\")","v":""},null,1]
[null,"台数",null,"台",null,null,null,null,null,null,null,"",{"$f":"IF(AND(C115<>\"\",C122=\"\"),\"←入力してください。\",IF(OR(C122=\"\",ISNUMBER(C122)),\"\",\"←数字を入力してください。\"))","v":""}]
["契約負荷\n設備内訳１１","機器種別",null,null,null,null,null,null,null,null,null,""]
[null,"メーカー",null,null,null,null,null,null,null,null,null,"",{"$f":"IF(AND(C123<>\"\",C124=\"\"),\"←入力してください。\",\"\")","v":""},null,1]
[null,"型式",null,null,null,null,null,null,null,null,null,"",{"$f":"IF(AND(C123<>\"\",C125=\"\"),\"←入力してください。\",\"\")","v":""},null,1,"入力値算定"]
[null,"通電制御・検知制御",null,null,null,null,null,null,null,null,null,null,{"$f":"IF(AND(C123<>\"\",O126=1),\"←選択してください。\",\"\")","v":""},null,1,{"$f":"IF(C128<>\"\",C128,IF(O129=2,C127,IF(O127=2,ROUND(C127*0.933,3),0)))","v":0}]
[null,"出力",null,null,null,null,null,null,null,null,null,"",{"$f":"IF(C127=\"\",\"\",IF(ISNUMBER(C127),IF(O127=1,\"←単位を選択してください。\",IF(AND(O127=2,O129=2),\"←単位または力率が間違っています。\",\"\")),\"←数字を入力してください。\"))","v":""},null,1,{"$f":"IF(P126*C130=0,\"\",P126*C130)","v":""}]
[null,"入力",null,null,"kW",null,null,null,null,null,null,"",{"$f":"IF(OR(C128=\"\",ISNUMBER(C128)),\"\",\"←数字を入力してください。\")","v":""},null,1]
[null,"力率",null,null,null,null,null,null,null,null,null,"",{"$f":"IF(AND(C123<>\"\",O129=1,O31>4),\"←選択してください。\",\"\")","v":""},null,1]
[null,"台数",null,"台",null,null,null,null,null,null,null,"",{"$f":"IF(AND(C123<>\"\",C130=\"\"),\"←入力してください。\",IF(OR(C130=\"\",ISNUMBER(C130)),\"\",\"←数字を入力してください。\"))","v":""}]
["契約負荷\n設備内訳１２","機器種別",null,null,null,null,null,null,null,null,null,""]
[null,"メーカー",null,null,null,null,null,null,null,null,null,"",{"$f":"IF(AND(C131<>\"\",C132=\"\"),\"←入力してください。\",\"\")","v":""},null,1]
[null,"型式",null,null,null,null,null,null,null,null,null,"",{"$f":"IF(AND(C131<>\"\",C133=\"\"),\"←入力してください。\",\"\")","v":""},null,1,"入力値算定"]
[null,"通電制御・検知制御",null,null,null,null,null,null,null,null,null,null,{"$f":"IF(AND(C131<>\"\",O134=1),\"←選択してください。\",\"\")","v":""},null,1,{"$f":"IF(C136<>\"\",C136,IF(O137=2,C135,IF(O135=2,ROUND(C135*0.933,3),0)))","v":0}]
[null,"出力",null,null,null,null,null,null,null,null,null,"",{"$f":"IF(C135=\"\",\"\",IF(ISNUMBER(C135),IF(O135=1,\"←単位を選択してください。\",IF(AND(O135=2,O137=2),\"←単位または力率が間違っています。\",\"\")),\"←数字を入力してください。\"))","v":""},null,1,{"$f":"IF(P134*C138=0,\"\",P134*C138)","v":""}]
[null,"入力",null,null,"kW",null,null,null,null,null,null,"",{"$f":"IF(OR(C136=\"\",ISNUMBER(C136)),\"\",\"←数字を入力してください。\")","v":""},null,1]
[null,"力率",null,null,null,null,null,null,null,null,null,"",{"$f":"IF(AND(C131<>\"\",O137=1,O31>4),\"←選択してください。\",\"\")","v":""},null,1]
[null,"台数",null,"台",null,null,null,null,null,null,null,"",{"$f":"IF(AND(C131<>\"\",C138=\"\"),\"←入力してください。\",IF(OR(C138=\"\",ISNUMBER(C138)),\"\",\"←数字を入力してください。\"))","v":""}]
["契約負荷\n設備内訳１３","機器種別",null,null,null,null,null,null,null,null,null,""]
[null,"メーカー",null,null,null,null,null,null,null,null,null,{"$f":"IF(M140=\"\",\"\",M140)","v":""},{"$f":"IF(AND(C139<>\"\",C140=\"\"),\"←入力してください。\",\"\")","v":""},null,1]
[null,"型式",null,null,null,null,null,null,null,null,null,"",{"$f":"IF(AND(C139<>\"\",C141=\"\"),\"←入力してください。\",\"\")","v":""},null,1,"入力値算定"]
[null,"通電制御・検知制御",null,null,null,null,null,null,null,null,null,null,{"$f":"IF(AND(C139<>\"\",O142=1),\"←選択してください。\",\"\")","v":""},null,1,{"$f":"IF(C144<>\"\",C144,IF(O145=2,C143,IF(O143=2,ROUND(C143*0.933,3),0)))","v":0}]
[null,"出力",null,null,null,null,null,null,null,null,null,"",{"$f":"IF(C143=\"\",\"\",IF(ISNUMBER(C143),IF(O143=1,\"←単位を選択してください。\",IF(AND(O143=2,O145=2),\"←単位または力率が間違っています。\",\"\")),\"←数字を入力してください。\"))","v":""},null,1,{"$f":"IF(P142*C146=0,\"\",P142*C146)","v":""}]
[null,"入力",null,null,"kW",null,null,null,null,null,null,"",{"$f":"IF(OR(C144=\"\",ISNUMBER(C144)),\"\",\"←数字を入力してください。\")","v":""},null,1]
[null,"力率",null,null,null,null,null,null,null,null,null,"",{"$f":"IF(AND(C139<>\"\",O145=1,O31>4),\"←選択してください。\",\"\")","v":""},null,1]
[null,"台数",null,"台",null,null,null,null,null,null,null,"",{"$f":"IF(AND(C139<>\"\",C146=\"\"),\"←入力してください。\",IF(OR(C146=\"\",ISNUMBER(C146)),\"\",\"←数字を入力してください。\"))","v":""}]
["契約負荷\n設備内訳１４","機器種別",null,null,null,null,null,null,null,null,null,""]
[null,"メーカー",null,null,null,null,null,null,null,null,null,"",{"$f":"IF(AND(C147<>\"\",C148=\"\"),\"←入力してください。\",\"\")","v":""},null,1]
[null,"型式",null,null,null,null,null,null,null,null,null,"",{"$f":"IF(AND(C147<>\"\",C149=\"\"),\"←入力してください。\",\"\")","v":""},null,1,"入力値算定"]
[null,"通電制御・検知制御",null,null,null,null,null,null,null,null,null,null,{"$f":"IF(AND(C147<>\"\",O150=1),\"←選択してください。\",\"\")","v":""},null,1,{"$f":"IF(C152<>\"\",C152,IF(O153=2,C151,IF(O151=2,ROUND(C151*0.933,3),0)))","v":0}]
[null,"出力",null,null,null,null,null,null,null,null,null,"",{"$f":"IF(C151=\"\",\"\",IF(ISNUMBER(C151),IF(O151=1,\"←単位を選択してください。\",IF(AND(O151=2,O153=2),\"←単位または力率が間違っています。\",\"\")),\"←数字を入力してください。\"))","v":""},null,1,{"$f":"IF(P150*C154=0,\"\",P150*C154)","v":""}]
[null,"入力",null,null,"kW",null,null,null,null,null,null,"",{"$f":"IF(OR(C152=\"\",ISNUMBER(C152)),\"\",\"←数字を入力してください。\")","v":""},null,1]
[null,"力率",null,null,null,null,null,null,null,null,null,"",{"$f":"IF(AND(C147<>\"\",O153=1,O31>4),\"←選択してください。\",\"\")","v":""},null,1]
[null,"台数",null,"台",null,null,null,null,null,null,null,"",{"$f":"IF(AND(C147<>\"\",C154=\"\"),\"←入力してください。\",IF(OR(C154=\"\",ISNUMBER(C154)),\"\",\"←数字を入力してください。\"))","v":""}]

{"sheet":"１枚目","index":1,"n_rows":163,"n_cols":111,"rows_kept":163,"cut":false,"hidden":false,"merged":[[113,31,116,35],[113,39,116,40],[113,41,116,43],[113,44,116,48],[113,49,116,51],[113,52,116,56],[113,57,116,59],[113,60,116,62],[113,63,116,65],[109,31,112,35],[109,39,112,40],[109,41,112,43],[109,44,112,48],[109,49,112,51],[109,52,112,56],[109,57,112,59],[109,60,112,62],[109,63,112,65],[109,36,112,38],[98,61,100,68],[106,45,108,50],[77,81,79,83],[86,44,88,49],[33,11,39,20],[95,73,97,74],[86,81,88,83],[86,53,88,58],[71,81,73,83],[71,73,73,74],[71,69,73,72],[60,53,61,60],[65,75,67,80],[60,44,61,52],[51,75,53,87],[77,75,79,80],[74,69,76,72],[77,69,79,72],[74,75,76,80],[74,81,76,83],[77,73,79,74],[74,73,76,74],[77,61,79,68],[83,44,85,49],[89,69,91,72],[92,69,94,72],[71,59,73,60],[164,0,165,110],[106,69,108,72],[106,73,108,74],[98,73,100,74],[104,34,105,60],[68,53,70,58],[101,59,103,60],[86,59,88,60],[89,59,91,60],[92,59,94,60],[74,59,76,60],[77,59,79,60],[92,73,94,74],[92,81,94,83],[80,75,82,80],[98,59,100,60],[83,34,85,43],[86,50,88,52],[86,73,88,74],[86,34,88,43],[95,53,97,58],[89,15,91,20],[83,21,85,33],[86,21,88,33],[95,21,97,33],[68,21,70,33],[74,21,76,33],[77,21,79,33],[80,21,82,33],[106,51,108,53],[101,53,103,58],[106,43,108,44],[101,34,103,43],[83,53,85,58],[80,53,82,58],[83,50,85,52],[68,15,70,20],[71,21,73,33],[71,6,73,14],[74,6,76,14],[71,15,73,20],[74,15,76,20],[77,15,79,20],[80,15,82,20],[98,21,100,33],[101,15,103,20],[80,6,82,14],[83,6,85,14],[86,6,88,14],[101,6,103,14],[89,6,91,14],[92,6,94,14],[95,6,97,14],[98,6,100,14],[83,15,85,20],[89,21,91,33],[92,21,94,33],[101,21,103,33],[98,15,100,20],[95,15,97,20],[86,15,88,20],[92,15,94,20],[107,97,108,99],[104,75,105,83],[106,81,108,83],[106,75,108,80],[104,84,108,91],[104,92,108,96],[89,50,91,52],[89,73,91,74],[92,53,94,58],[89,75,91,80],[92,75,94,80],[106,61,108,64],[106,65,108,68],[106,59,108,60],[104,61,105,68],[101,61,103,68],[106,54,108,58],[101,69,103,72],[104,69,105,74],[98,53,100,58],[95,69,97,72],[98,69,100,72],[95,61,97,68],[95,59,97,60],[13,64,15,68],[40,63,47,67],[40,68,47,84],[33,86,34,110],[27,64,32,68],[27,75,30,110],[31,69,32,74],[31,75,32,88],[31,89,32,92],[31,93,32,97],[31,98,32,98],[27,69,30,74],[31,99,32,103],[19,90,20,99],[19,100,20,102],[31,105,32,109],[31,104,32,104],[19,104,20,108],[19,109,20,110],[31,110,32,110],[25,110,26,110],[30,56,32,63],[25,105,26,109],[25,89,26,92],[86,75,88,80],[83,81,85,83],[83,61,85,68],[83,75,85,80],[83,59,85,60],[80,81,82,83],[80,61,82,68],[80,69,82,72],[80,59,82,60],[83,73,85,74],[86,61,88,68],[83,69,85,72],[86,69,88,72],[80,73,82,74],[68,81,70,83],[68,75,70,80],[65,73,67,74],[68,61,70,68],[68,73,70,74],[48,43,53,65],[42,34,47,62],[40,34,41,62],[37,26,39,45],[62,73,64,74],[68,34,70,43],[68,59,70,60],[48,71,53,74],[60,21,61,33],[54,39,55,62],[68,69,70,72],[62,61,64,68],[65,59,67,60],[56,69,57,74],[58,69,59,71],[60,61,61,68],[65,61,67,68],[62,59,64,60],[48,66,53,70],[89,81,91,83],[95,34,97,43],[98,34,100,43],[92,34,94,43],[95,75,97,80],[101,73,103,74],[101,75,103,80],[95,81,97,83],[98,81,100,83],[98,75,100,80],[101,81,103,83],[95,50,97,52],[98,44,100,49],[98,50,100,52],[101,44,103,49],[101,50,103,52],[95,44,97,49],[89,34,91,43],[89,53,91,58],[89,61,91,68],[89,44,91,49],[92,44,94,49],[92,50,94,52],[92,61,94,68],[48,75,50,81],[48,6,53,21],[48,22,53,27],[33,63,34,80],[16,11,17,17],[22,20,23,38],[33,6,39,10],[27,11,29,63],[24,6,29,10],[30,29,32,35],[30,47,32,54],[45,23,47,27],[35,40,36,40],[35,41,36,41],[35,42,36,42],[35,43,36,43],[35,44,36,44],[35,45,36,45],[40,31,47,33],[33,43,34,43],[33,44,34,44],[33,45,34,45],[30,21,32,27],[24,11,26,12],[16,1,39,5],[40,1,43,30],[16,6,23,10],[22,11,23,19],[30,20,32,20],[30,39,32,45],[33,46,39,50],[33,51,34,52],[35,51,37,80],[35,38,36,38],[35,39,36,39],[33,42,34,42],[30,46,32,46],[33,21,39,25],[30,6,32,10],[24,21,26,22],[24,23,26,63],[24,13,26,15],[24,17,26,20],[24,16,26,16],[30,11,32,13],[30,55,32,55],[30,28,32,28],[30,36,32,38],[54,63,55,74],[56,63,57,68],[58,63,59,65],[60,15,61,20],[62,15,64,20],[65,15,67,20],[80,44,82,49],[80,50,82,52],[77,44,79,49],[71,50,73,52],[71,53,73,58],[71,44,73,49],[62,34,64,43],[62,50,64,52],[65,69,67,72],[65,50,67,52],[65,21,67,33],[74,44,76,49],[74,50,76,52],[62,21,64,33],[68,50,70,52],[65,34,67,43],[162,0,163,110],[144,1,146,16],[118,1,119,97],[122,1,123,97],[120,1,121,97],[137,3,139,109],[128,3,130,109],[131,3,133,109],[56,53,59,56],[62,6,64,14],[109,1,116,3],[109,4,110,27],[60,75,61,83],[62,44,64,49],[62,53,64,58],[74,53,76,58],[77,53,79,58],[77,50,79,52],[65,44,67,49],[65,53,67,58],[65,81,67,83],[62,75,64,80],[62,81,64,83],[62,69,64,72],[6,0,9,110],[13,85,15,89],[71,75,73,80],[71,34,73,43],[71,61,73,68],[48,1,53,5],[46,28,47,30],[56,12,57,26],[58,6,59,11],[60,1,103,5],[46,20,47,22],[54,1,59,5],[56,6,57,11],[45,6,47,11],[45,15,47,19],[48,35,53,42],[30,14,32,19],[52,33,53,34],[58,12,59,26],[60,6,61,14],[46,12,47,14],[44,1,47,5],[65,6,67,14],[68,6,70,14],[134,3,136,109],[74,61,76,68],[60,69,61,74],[58,72,59,74],[58,66,59,68],[48,87,50,87],[48,82,50,86],[113,36,116,38],[106,34,108,39],[106,40,108,42],[111,4,112,27],[115,4,116,27],[113,4,114,27],[109,28,116,30],[77,6,79,14],[49,28,53,32],[60,34,61,43],[74,34,76,43],[77,34,79,43],[68,44,70,49],[80,34,82,43],[58,27,59,38],[56,27,57,38],[54,6,55,38],[13,69,15,84],[18,11,21,63],[22,39,23,46],[22,47,23,63],[38,89,39,92],[38,105,39,109],[38,63,39,67],[38,68,39,68],[38,69,39,73],[38,74,39,74],[38,75,39,79],[38,80,39,80],[35,26,36,26],[35,27,36,27],[35,28,36,28],[35,29,36,29],[35,30,36,30],[35,31,36,31],[35,32,36,32],[35,33,36,33],[35,34,36,34],[35,35,36,35],[35,36,36,36],[35,37,36,37],[10,1,11,25],[12,1,13,38],[11,69,12,110],[44,101,51,102],[44,103,51,110],[56,43,59,44],[56,49,59,52],[56,57,59,62],[56,39,59,42],[56,45,59,48],[35,86,37,110],[33,53,34,55],[33,56,34,56],[33,57,34,60],[33,61,34,62],[33,81,39,85],[38,51,39,58],[38,59,39,62],[38,110,39,110],[38,93,39,97],[38,98,39,98],[38,99,39,103],[38,104,39,104],[38,86,39,88],[16,18,17,18],[16,19,17,19],[16,20,17,20],[16,21,17,21],[16,22,17,22],[16,23,17,23],[16,24,17,24],[16,25,17,25],[16,26,17,26],[16,27,17,27],[16,28,17,28],[16,29,17,29],[16,30,17,30],[16,31,17,31],[16,32,17,32],[16,33,17,33],[16,34,17,34],[16,35,17,35],[16,53,17,53],[16,36,17,36],[16,37,17,37],[16,38,17,38],[16,39,17,39],[16,40,17,40],[16,41,17,41],[16,42,17,42],[16,43,17,43],[16,44,17,44],[16,45,17,45],[16,46,17,46],[16,47,17,47],[16,48,17,48],[16,49,17,49],[16,50,17,50],[33,35,34,35],[33,36,34,36],[33,37,34,37],[33,38,34,38],[33,39,34,39],[33,40,34,40],[33,41,34,41],[16,51,17,51],[16,52,17,52],[33,26,34,26],[33,27,34,27],[33,28,34,28],[33,29,34,29],[33,30,34,30],[33,31,34,31],[33,32,34,32],[33,33,34,33],[33,34,34,34],[1,93,5,109],[13,90,15,110],[40,85,47,89],[40,90,43,99],[44,90,47,99],[16,54,17,54],[16,55,17,55],[16,56,17,56],[16,57,17,57],[16,58,17,63],[16,64,26,68],[25,69,26,88],[21,69,22,74],[21,75,22,110],[23,69,24,110],[25,93,26,97],[25,98,26,98],[25,99,26,103],[16,69,18,74],[16,75,18,110],[19,69,20,74],[19,75,20,89],[25,104,26,104],[19,103,20,103]]}
[]
[null,null,null,null,null,null,null,null,null,null,null,null,null,null,null,null,null,null,null,null,null,null,null,null,null,null,null,null,null,null,null,null,null,null,null,null,null,null,null,null,null,null,null,null,null,null,null,null,null,null,null,null,null,null,null,null,null,null,null,null,null,null,null,null,null,null,null,null,null,null,null,null,null,null,null,null,null,null,null,null,null,null,null,null,null,null,null,null,null,null,null,null,null,"離島等供給用"]
[]
[]
[]
[]
["深夜電力・ホットタイム電気使用申込書（工事会社様控）"]
[]
[]
[]
[null,"北海道電力ネットワーク株式会社　御中"]
[]
[null,"電気の使用について貴社離島等供給約款[低圧用]を承認のうえ申し込みます。"]
[null,null,null,null,null,null,null,null,null,null,null,null,null,null,null,null,null,null,null,null,null,null,null,null,null,null,null,null,null,null,null,null,null,null,null,null,null,null,null,null,null,null,null,null,null,null,null,null,null,null,null,null,null,null,null,null,null,null,null,null,null,null,null,null,"受付扱所名",null,null,null,null,null,null,null,null,null,null,null,null,null,null,null,null,null,null,null,null,"受付№"]
[]
[]
[null,"お 客 さ ま",null,null,null,null,"ご契約名義",null,null,null,null,"（フリガナ）",null,null,null,null,null,null,{"$f":"DBCS(MID(ASC(入力用!C4),1,1))","v":""},{"$f":"DBCS(MID(ASC(入力用!C4),2,1))","v":""},{"$f":"DBCS(MID(ASC(入力用!C4),3,1))","v":""},{"$f":"DBCS(MID(ASC(入力用!C4),4,1))","v":""},{"$f":"DBCS(MID(ASC(入力用!C4),5,1))","v":""},{"$f":"DBCS(MID(ASC(入力用!C4),6,1))","v":""},{"$f":"DBCS(MID(ASC(入力用!C4),7,1))","v":""},{"$f":"DBCS(MID(ASC(入力用!C4),8,1))","v":""},{"$f":"DBCS(MID(ASC(入力用!C4),9,1))","v":""},{"$f":"DBCS(MID(ASC(入力用!C4),10,1))","v":""},{"$f":"DBCS(MID(ASC(入力用!C4),11,1))","v":""},{"$f":"DBCS(MID(ASC(入力用!C4),12,1))","v":""},{"$f":"DBCS(MID(ASC(入力用!C4),13,1))","v":""},{"$f":"DBCS(MID(ASC(入力用!C4),14,1))","v":""},{"$f":"DBCS(MID(ASC(入力用!C4),15,1))","v":""},{"$f":"DBCS(MID(ASC(入力用!C4),16,1))","v":""},{"$f":"DBCS(MID(ASC(入力用!C4),17,1))","v":""},{"$f":"DBCS(MID(ASC(入力用!C4),18,1))","v":""},{"$f":"DBCS(MID(ASC(入力用!C4),19,1))","v":""},{"$f":"DBCS(MID(ASC(入力用!C4),20,1))","v":""},{"$f":"DBCS(MID(ASC(入力用!C4),21,1))","v":""},{"$f":"DBCS(MID(ASC(入力用!C4),22,1))","v":""},{"$f":"DBCS(MID(ASC(入力用!C4),23,1))","v":""},{"$f":"DBCS(MID(ASC(入力用!C4),24,1))","v":""},{"$f":"DBCS(MID(ASC(入力用!C4),25,1))","v":""},{"$f":"DBCS(MID(ASC(入力用!C4),26,1))","v":""},{"$f":"DBCS(MID(ASC(入力用!C4),27,1))","v":""},{"$f":"DBCS(MID(ASC(入力用!C4),28,1))","v":""},{"$f":"DBCS(MID(ASC(入力用!C4),29,1))","v":""},{"$f":"DBCS(MID(ASC(入力用!C4),30,1))","v":""},{"$f":"DBCS(MID(ASC(入力用!C4),31,1))","v":""},{"$f":"DBCS(MID(ASC(入力用!C4),32,1))","v":""},{"$f":"DBCS(MID(ASC(入力用!C4),33,1))","v":""},{"$f":"DBCS(MID(ASC(入力用!C4),34,1))","v":""},{"$f":"DBCS(MID(ASC(入力用!C4),35,1))","v":""},{"$f":"DBCS(MID(ASC(入力用!C4),36,1))","v":""},{"$f":"DBCS(MID(ASC(入力用!C4),37,1))","v":""},{"$f":"DBCS(MID(ASC(入力用!C4),38,1))","v":""},{"$f":"DBCS(MID(ASC(入力用!C4),39,1))","v":""},{"$f":"DBCS(MID(ASC(入力用!C4),40,1))","v":""},null,null,null,null,null,null,"電気工事会社",null,null,null,null," 会社名",null,null,null,null,null,{"$f":"IF(入力用!C12=\"\",\"\",入力用!C12)","v":""}]
[]
[null,null,null,null,null,null,null,null,null,null,null,{"$f":"IF(入力用!C5=\"\",\"\",入力用!C5)","v":""}]
[null,null,null,null,null,null,null,null,null,null,null,null,null,null,null,null,null,null,null,null,null,null,null,null,null,null,null,null,null,null,null,null,null,null,null,null,null,null,null,null,null,null,null,null,null,null,null,null,null,null,null,null,null,null,null,null,null,null,null,null,null,null,null,null,null,null,null,null,null,"(担当者)",null,null,null,null,null,{"$f":"IF(入力用!C13=\"\",\"\",入力用!C13)","v":""},null,null,null,null,null,null,null,null,null,null,null,null,null,null,"工事会社№（",null,null,null,null,null,null,null,null,null,{"$f":"IF(入力用!C14=\"\",\"\",入力用!C14)","v":""},null,null,"-",{"$f":"IF(入力用!E14=\"\",\"\",入力用!E14)","v":""},null,null,null,null,")"]
[]
[null,null,null,null,null,null,null,null,null,null,null,null,null,null,null,null,null,null,null,null,null,null,null,null,null,null,null,null,null,null,null,null,null,null,null,null,null,null,null,null,null,null,null,null,null,null,null,null,null,null,null,null,null,null,null,null,null,null,null,null,null,null,null,null,null,null,null,null,null," 住　所",null,null,null,null,null,{"$f":"LEFT(入力用!C15,24)","v":""}]
[null,null,null,null,null,null,null,null,null,null,null,"（代表者肩書）",null,null,null,null,null,null,null,null,{"$f":"IF(入力用!C6=\"\",\"\",入力用!C6)","v":""},null,null,null,null,null,null,null,null,null,null,null,null,null,null,null,null,null,null,"（代表者名）",null,null,null,null,null,null,null,{"$f":"IF(入力用!C7=\"\",\"\",入力用!C7)","v":""}]
[null,null,null,null,null,null,null,null,null,null,null,null,null,null,null,null,null,null,null,null,null,null,null,null,null,null,null,null,null,null,null,null,null,null,null,null,null,null,null,null,null,null,null,null,null,null,null,null,null,null,null,null,null,null,null,null,null,null,null,null,null,null,null,null,null,null,null,null,null,{"$f":"MID(入力用!C15,25,28)","v":""}]
[null,null,null,null,null,null,"ご使用\n場　所",null,null,null,null,"(〒",null,{"$f":"LEFT(入力用!C8,3)","v":""},null,null,"-",{"$f":"RIGHT(入力用!C8,4)","v":""},null,null,null,")",null,{"$f":"LEFT(入力用!C9,25)","v":""}]
[null,null,null,null,null,null,null,null,null,null,null,null,null,null,null,null,null,null,null,null,null,null,null,null,null,null,null,null,null,null,null,null,null,null,null,null,null,null,null,null,null,null,null,null,null,null,null,null,null,null,null,null,null,null,null,null,null,null,null,null,null,null,null,null,null,null,null,null,null,{"$f":"MID(入力用!C15,53,12)","v":""},null,null,null,null,null,null,null,null,null,null,null,null,null,null,null,null,null,null,null,"電話(",null,null,null,{"$f":"IF(入力用!C16=\"\",\"\",入力用!C16)","v":""},null,null,null,null,"-",{"$f":"IF(入力用!E16=\"\",\"\",入力用!E16)","v":""},null,null,null,null,"-",{"$f":"IF(入力用!H16=\"\",\"\",入力用!H16)","v":""},null,null,null,null,")"]
[]
[null,null,null,null,null,null,null,null,null,null,null,{"$f":"MID(入力用!C9,26,33)","v":""},null,null,null,null,null,null,null,null,null,null,null,null,null,null,null,null,null,null,null,null,null,null,null,null,null,null,null,null,null,null,null,null,null,null,null,null,null,null,null,null,null,null,null,null,null,null,null,null,null,null,null,null,"建築会社",null,null,null,null," 会社名",null,null,null,null,null,{"$f":"IF(入力用!C17=\"\",\"\",入力用!C17)","v":""}]
[]
[]
[null,null,null,null,null,null,"電話番号",null,null,null,null,"固定",null,null,{"$f":"IF(入力用!C10=\"\",\"\",入力用!C10)","v":""},null,null,null,null,null,"-",{"$f":"IF(入力用!E10=\"\",\"\",入力用!E10)","v":""},null,null,null,null,null,null,"-",{"$f":"IF(入力用!H10=\"\",\"\",入力用!H10)","v":""},null,null,null,null,null,null,"携帯",null,null,{"$f":"IF(入力用!C11=\"\",\"\",入力用!C11)","v":""},null,null,null,null,null,null,"-",{"$f":"IF(入力用!E11=\"\",\"\",入力用!E11)","v":""},null,null,null,null,null,null,null,"-",{"$f":"IF(入力用!H11=\"\",\"\",入力用!H11)","v":""}]
[null,null,null,null,null,null,null,null,null,null,null,null,null,null,null,null,null,null,null,null,null,null,null,null,null,null,null,null,null,null,null,null,null,null,null,null,null,null,null,null,null,null,null,null,null,null,null,null,null,null,null,null,null,null,null,null,null,null,null,null,null,null,null,null,null,null,null,null,null,"(担当者)",null,null,null,null,null,{"$f":"IF(入力用!C18=\"\",\"\",入力用!C18)","v":""},null,null,null,null,null,null,null,null,null,null,null,null,null,"電話(",null,null,null,{"$f":"IF(入力用!C19=\"\",\"\",入力用!C19)","v":""},null,null,null,null,"-",{"$f":"IF(入力用!E19=\"\",\"\",入力用!E19)","v":""},null,null,null,null,"-",{"$f":"IF(入力用!H19=\"\",\"\",入力用!H19)","v":""},null,null,null,null,")"]
[]
[null,null,null,null,null,null,"お支払\n方　法",null,null,null,null,{"$f":"IF(入力用!O20=2,入力用!O6,IF(入力用!O20=3,入力用!O7,IF(入力用!O20=4,入力用!O8,\"\")))","v":""},null,null,null,null,null,null,null,null,null,"支　払\n者　名",null,null,null,null,{"$f":"DBCS(MID(ASC(入力用!C21),1,1))","v":""},{"$f":"DBCS(MID(ASC(入力用!C21),2,1))","v":""},{"$f":"DBCS(MID(ASC(入力用!C21),3,1))","v":""},{"$f":"DBCS(MID(ASC(入力用!C21),4,1))","v":""},{"$f":"DBCS(MID(ASC(入力用!C21),5,1))","v":""},{"$f":"DBCS(MID(ASC(入力用!C21),6,1))","v":""},{"$f":"DBCS(MID(ASC(入力用!C21),7,1))","v":""},{"$f":"DBCS(MID(ASC(入力用!C21),8,1))","v":""},{"$f":"DBCS(MID(ASC(入力用!C21),9,1))","v":""},{"$f":"DBCS(MID(ASC(入力用!C21),10,1))","v":""},{"$f":"DBCS(MID(ASC(入力用!C21),11,1))","v":""},{"$f":"DBCS(MID(ASC(入力用!C21),12,1))","v":""},{"$f":"DBCS(MID(ASC(入力用!C21),13,1))","v":""},{"$f":"DBCS(MID(ASC(入力用!C21),14,1))","v":""},{"$f":"DBCS(MID(ASC(入力用!C21),15,1))","v":""},{"$f":"DBCS(MID(ASC(入力用!C21),16,1))","v":""},{"$f":"DBCS(MID(ASC(入力用!C21),17,1))","v":""},{"$f":"DBCS(MID(ASC(入力用!C21),18,1))","v":""},{"$f":"DBCS(MID(ASC(入力用!C21),19,1))","v":""},{"$f":"DBCS(MID(ASC(入力用!C21),20,1))","v":""},"請求書\n送付先",null,null,null,null,"(〒",null,{"$f":"LEFT(入力用!C23,3)","v":""},null,null,"-",{"$f":"RIGHT(入力用!C23,4)","v":""},null,null,null,")",null,{"$f":"IF(入力用!C24=\"同上\",\"\",LEFT(入力用!C24,12))","v":""},null,null,null,null,null,null,null,null,null,null,null,null,null,null,null,null,null,"ご連絡先",null,null,null,null,{"$f":"IF(OR(入力用!C26=\"同上\",入力用!C26=\"同左\"),\"\",LEFT(入力用!C26,17))","v":""}]
[]
[null,null,null,null,null,null,null,null,null,null,null,null,null,null,null,null,null,null,null,null,null,null,null,null,null,null,{"$f":"DBCS(MID(ASC(入力用!C21),21,1))","v":""},{"$f":"DBCS(MID(ASC(入力用!C21),22,1))","v":""},{"$f":"DBCS(MID(ASC(入力用!C21),23,1))","v":""},{"$f":"DBCS(MID(ASC(入力用!C21),24,1))","v":""},{"$f":"DBCS(MID(ASC(入力用!C21),25,1))","v":""},{"$f":"DBCS(MID(ASC(入力用!C21),26,1))","v":""},{"$f":"DBCS(MID(ASC(入力用!C21),27,1))","v":""},{"$f":"DBCS(MID(ASC(入力用!C21),28,1))","v":""},{"$f":"DBCS(MID(ASC(入力用!C21),29,1))","v":""},{"$f":"DBCS(MID(ASC(入力用!C21),30,1))","v":""},{"$f":"DBCS(MID(ASC(入力用!C21),31,1))","v":""},{"$f":"DBCS(MID(ASC(入力用!C21),32,1))","v":""},{"$f":"DBCS(MID(ASC(入力用!C21),33,1))","v":""},{"$f":"DBCS(MID(ASC(入力用!C21),34,1))","v":""},{"$f":"DBCS(MID(ASC(入力用!C21),35,1))","v":""},{"$f":"DBCS(MID(ASC(入力用!C21),36,1))","v":""},{"$f":"DBCS(MID(ASC(入力用!C21),37,1))","v":""},{"$f":"DBCS(MID(ASC(入力用!C21),38,1))","v":""},{"$f":"DBCS(MID(ASC(入力用!C21),39,1))","v":""},{"$f":"DBCS(MID(ASC(入力用!C21),40,1))","v":""},null,null,null,null,null,{"$f":"IF(入力用!C24=\"同上\",入力用!C24,MID(入力用!C24,13,20))","v":""},null,null,null,null,null,null,null,null,null,null,null,null,null,null,null,null,null,null,null,null,null,null,null,null,null,null,null,null,null,null,null,null,null,null,{"$f":"IF(OR(入力用!C26=\"同上\",入力用!C26=\"同左\"),入力用!C26,MID(入力用!C26,18,17))","v":""}]
[]
[null,null,null,null,null,null,null,null,null,null,null,null,null,null,null,null,null,null,null,null,null,null,null,null,null,null,{"$f":"IF(入力用!C22=\"\",\"\",入力用!C22)","v":""}]
[null,null,null,null,null,null,null,null,null,null,null,null,null,null,null,null,null,null,null,null,null,null,null,null,null,null,null,null,null,null,null,null,null,null,null,null,null,null,null,null,null,null,null,null,null,null,null,null,null,null,null,{"$f":"MID(入力用!C24,33,5)","v":""},null,null,null,null,null,null,null,"電話(",null,null,null,{"$f":"IF(入力用!C25=\"\",\"\",入力用!C25)","v":""},null,null,null,null,"-",{"$f":"IF(入力用!E25=\"\",\"\",入力用!E25)","v":""},null,null,null,null,"-",{"$f":"IF(入力用!H25=\"\",\"\",入力用!H25)","v":""},null,null,null,null,")",null,null,null,null,null,{"$f":"IF(OR(入力用!C26=\"同上\",入力用!C26=\"同左\"),\"\",MID(入力用!C26,35,1))","v":""},null,null,"電話(",null,null,null,{"$f":"IF(入力用!C27=\"\",\"\",入力用!C27)","v":""},null,null,null,null,"-",{"$f":"IF(入力用!E27=\"\",\"\",入力用!E27)","v":""},null,null,null,null,"-",{"$f":"IF(入力用!H27=\"\",\"\",入力用!H27)","v":""},null,null,null,null,")"]
[]
[null,null,null,null,null,null,null,null,null,null,null,null,null,null,null,null,null,null,null,null,null,null,null,null,null,null,null,null,null,null,null,"契約種別",null,null,null,null,null,null,null,null,null,null,null,null,null,null,null,null,null,null,null,null,null,null,null,null,null,null,null,null,null,null,null,"供給電気\n方 式 ・\n供給電圧",null,null,null,null,{"$f":"IF(入力用!O32=2,入力用!Q6,IF(入力用!O32=3,入力用!Q7,IF(入力用!O32=4,入力用!Q8,IF(入力用!O32=5,入力用!Q9,\"\"))))","v":""},null,null,null,null,null,null,null,null,null,null,null,null,null,null,null,null,"電設Ｎｅｔ\n申込",null,null,null,null,{"$f":"IF(入力用!O28=2,入力用!S11,IF(入力用!O28=3,入力用!S12,\"\"))","v":""}]
[]
[null,null,null,null,null,null,null,null,null,null,null,null,null,null,null,null,null,null,null,null,null,null,null,null,null,null,null,null,null,null,null,null,null,null,{"$f":"入力用!P29","v":""}]
[]
[null,"受　電\n希望日",null,null,null,null,null,null,null,null,null,null,null,null,null,null,null,null,null,null,null,null,null,null,null,null,null,null,null,null,null,null,null,null,null,null,null,null,null,null,null,null,null,null,null,null,null,null,null,null,null,null,null,null,null,null,null,null,null,null,null,null,null,null,null,null,null,null,null,null,null,null,null,null,null,null,null,null,null,null,null,null,null,null,null,null,null,null,null,null,{"$f":"IF(入力用!C29=\"\",\"\",入力用!C29)","v":""},null,null,null,null,null,null,null,null,null,null,"受付"]
[null,null,null,null,null,null,{"$f":"IF(入力用!C30=\"\",\"\",入力用!C30)","v":""},null,null,null,null,null,null,null,null,{"$f":"IF(入力用!E30=\"\",\"\",入力用!E30)","v":""},null,null,null,null,null,null,null,{"$f":"IF(入力用!H30=\"\",\"\",入力用!H30)","v":""}]
[null,null,null,null,null,null,null,null,null,null,null,null,"年",null,null,null,null,null,null,null,"月",null,null,null,null,null,null,null,"日"]
[]
[null,"契約\n決定\n方法",null,null,null,null,{"$f":"IF(入力用!O33=2,入力用!R6,IF(入力用!O33=3,入力用!R7,\"\"))","v":""},null,null,null,null,null,null,null,null,null,null,null,null,null,null,null,"主開閉器の\n定　格　電　流",null,null,null,null,null,null,null,null,null,null,null,null,"フリーエリア\n計器払出希望\n事 業 所 名",null,null,null,null,null,null,null,{"$f":"IF(入力用!C35=\"\",\"\",入力用!C35)","v":""},null,null,null,null,null,null,null,null,null,null,null,null,null,null,null,null,null,null,null,null,null,null,"本契約前\nの臨時契\n約の有無",null,null,null,null,{"$f":"IF(入力用!O36=2,入力用!S6,IF(入力用!O36=3,入力用!S7,\"\"))","v":""},null,null,null,"臨時受付№(",null,null,null,null,null,null,null,null,null,null,null,")"]
[null,null,null,null,null,null,null,null,null,null,null,null,null,null,null,null,null,null,null,null,null,null,null,null,null,null,null,null,{"$f":"IF(入力用!C34=\"\",\"\",入力用!C34)","v":""}]
[]
[]
[null,null,null,null,null,null,null,null,null,null,null,null,null,null,null,null,null,null,null,null,null,null,null,null,null,null,null,null,null,null,null,null,null,"Ａ"]
[]
[null,"ホット\nタイム",null,null,null,null,"検　知　制　御　装　置",null,null,null,null,null,null,null,null,null,null,null,null,null,null,null,null,null,null,null,null,null,null,null,null,null,null,null,null,null,null,null,null,"通　電　遮　断　パ　タ　ー　ン",null,null,null,null,null,null,null,null,null,null,null,null,null,null,null,null,null,null,null,null,null,null,null,"最低使用期間"]
[]
[null,null,null,null,null,null,"メーカー",null,null,null,null,null,"型　　式",null,null,null,null,null,null,null,null,null,null,null,null,null,null,"種　類",null,null,null,null,null,null,null,null,null,null,null,{"$f":"IF(入力用!C40=\"\",\"\",入力用!C40)","v":""},null,null,null,"時",null,{"$f":"IF(入力用!E40=\"\",\"\",IF(入力用!E40=\"0\",\"00\",入力用!E40))","v":""},null,null,null,"分から",null,null,null,{"$f":"IF(入力用!C41=\"\",\"\",入力用!C41)","v":""},null,null,null,{"$f":"IF(入力用!O40=2,入力用!U6,IF(入力用!O40=3,入力用!U7,\"\"))&\" \"&IF(入力用!O40=2,入力用!V6,IF(入力用!O40=3,入力用!V7,\"\"))","v":" "},null,null,null,null,null,"開始月",null,null,null,null,null,"終了月"]
[]
[null,null,null,null,null,null,{"$f":"IF(入力用!C37=\"\",\"\",入力用!C37)","v":""},null,null,null,null,null,{"$f":"IF(入力用!C38=\"\",\"\",入力用!C38)","v":""},null,null,null,null,null,null,null,null,null,null,null,null,null,null,{"$f":"IF(入力用!O39=2,入力用!T6,IF(入力用!O39=3,入力用!T7,IF(入力用!O39=4,入力用!T8,\"\")))","v":""},null,null,null,null,null,null,null,null,null,null,null,null,null,null,null,null,null,null,null,null,null,null,null,null,null,null,null,null,null,null,null,null,null,null,null,{"$f":"IF(入力用!C42=\"\",\"\",入力用!C42)","v":""},null,null,"月分",null,null,{"$f":"IF(AND(入力用!O31>4,入力用!O31<9),IF(BL59>10,BL59-10,BL59+2),IF(入力用!O31=9,IF(BL59>7,BL59-7,BL59+5),\"\"))","v":""},null,null,"月分"]
[]
[null,"契約負荷設備内訳",null,null,null,null,"機 器 種 別",null,null,null,null,null,null,null,null,"メーカー",null,null,null,null,null,"型　　式",null,null,null,null,null,null,null,null,null,null,null,null,"通電制御・検知制御",null,null,null,null,null,null,null,null,null,"出　力",null,null,null,null,null,null,null,null,"入　力（ａ）",null,null,null,null,null,null,null,"力　率",null,null,null,null,null,null,null,"台数(ｂ)",null,null,null,null,null,"合計（ａ×ｂ）"]
[]
[null,null,null,null,null,null,{"$f":"IF(入力用!C43=\"\",\"\",入力用!C43)","v":""},null,null,null,null,null,null,null,null,{"$f":"IF(入力用!C44=\"\",\"\",入力用!C44)","v":""},null,null,null,null,null,{"$f":"IF(入力用!C45=\"\",\"\",入力用!C45)","v":""},null,null,null,null,null,null,null,null,null,null,null,null,{"$f":"IF(入力用!O46=2,入力用!W6,IF(入力用!O46=3,入力用!W7,\"\"))","v":""},null,null,null,null,null,null,null,null,null,{"$f":"IF(入力用!C47=\"\",\"\",入力用!C47)","v":""},null,null,null,null,null,{"$f":"IF(入力用!O47=2,入力用!X6,IF(入力用!O47=3,入力用!X7,\"㏋\nkW\"))","v":"㏋\nkW"},null,null,{"$f":"IF(入力用!P46=0,\"\",入力用!P46)","v":""},null,null,null,null,null,"kW",null,{"$f":"IF(入力用!O49=2,入力用!Y6,IF(入力用!O49=3,入力用!Y7,IF(入力用!O49=4,入力用!Y8,IF(入力用!O49=5,入力用!Y9,\"\"))))","v":""},null,null,null,null,null,null,null,{"$f":"IF(入力用!C50=\"\",\"\",入力用!C50)","v":""},null,null,null,"台",null,{"$f":"入力用!P47","v":""},null,null,null,null,null,"kW"]
[]
[]
[null,null,null,null,null,null,{"$f":"IF(入力用!C51=\"\",\"\",入力用!C51)","v":""},null,null,null,null,null,null,null,null,{"$f":"IF(入力用!C52=\"\",\"\",入力用!C52)","v":""},null,null,null,null,null,{"$f":"IF(入力用!C53=\"\",\"\",入力用!C53)","v":""},null,null,null,null,null,null,null,null,null,null,null,null,{"$f":"IF(入力用!O54=2,入力用!W6,IF(入力用!O54=3,入力用!W7,\"\"))","v":""},null,null,null,null,null,null,null,null,null,{"$f":"IF(入力用!C55=\"\",\"\",入力用!C55)","v":""},null,null,null,null,null,{"$f":"IF(入力用!O55=2,入力用!X6,IF(入力用!O55=3,入力用!X7,\"㏋\nkW\"))","v":"㏋\nkW"},null,null,{"$f":"IF(入力用!P54=0,\"\",入力用!P54)","v":""},null,null,null,null,null,"kW",null,{"$f":"IF(入力用!O57=2,入力用!Y6,IF(入力用!O57=3,入力用!Y7,IF(入力用!O57=4,入力用!Y8,IF(入力用!O57=5,入力用!Y9,\"\"))))","v":""},null,null,null,null,null,null,null,{"$f":"IF(入力用!C58=\"\",\"\",入力用!C58)","v":""},null,null,null,"台",null,{"$f":"入力用!P55","v":""},null,null,null,null,null,"kW"]
[]
[]
[null,null,null,null,null,null,{"$f":"IF(入力用!C59=\"\",\"\",入力用!C59)","v":""},null,null,null,null,null,null,null,null,{"$f":"IF(入力用!C60=\"\",\"\",入力用!C60)","v":""},null,null,null,null,null,{"$f":"IF(入力用!C61=\"\",\"\",入力用!C61)","v":""},null,null,null,null,null,null,null,null,null,null,null,null,{"$f":"IF(入力用!O62=2,入力用!W6,IF(入力用!O62=3,入力用!W7,\"\"))","v":""},null,null,null,null,null,null,null,null,null,{"$f":"IF(入力用!C63=\"\",\"\",入力用!C63)","v":""},null,null,null,null,null,{"$f":"IF(入力用!O63=2,入力用!X6,IF(入力用!O63=3,入力用!X7,\"㏋\nkW\"))","v":"㏋\nkW"},null,null,{"$f":"IF(入力用!P62=0,\"\",入力用!P62)","v":""},null,null,null,null,null,"kW",null,{"$f":"IF(入力用!O65=2,入力用!Y6,IF(入力用!O65=3,入力用!Y7,IF(入力用!O65=4,入力用!Y8,IF(入力用!O65=5,入力用!Y9,\"\"))))","v":""},null,null,null,null,null,null,null,{"$f":"IF(入力用!C66=\"\",\"\",入力用!C66)","v":""},null,null,null,"台",null,{"$f":"入力用!P63","v":""},null,null,null,null,null,"kW"]
[]
[]
[null,null,null,null,null,null,{"$f":"IF(入力用!C67=\"\",\"\",入力用!C67)","v":""},null,null,null,null,null,null,null,null,{"$f":"IF(入力用!C68=\"\",\"\",入力用!C68)","v":""},null,null,null,null,null,{"$f":"IF(入力用!C69=\"\",\"\",入力用!C69)","v":""},null,null,null,null,null,null,null,null,null,null,null,null,{"$f":"IF(入力用!O70=2,入力用!W6,IF(入力用!O70=3,入力用!W7,\"\"))","v":""},null,null,null,null,null,null,null,null,null,{"$f":"IF(入力用!C71=\"\",\"\",入力用!C71)","v":""},null,null,null,null,null,{"$f":"IF(入力用!O71=2,入力用!X6,IF(入力用!O71=3,入力用!X7,\"㏋\nkW\"))","v":"㏋\nkW"},null,null,{"$f":"IF(入力用!P70=0,\"\",入力用!P70)","v":""},null,null,null,null,null,"kW",null,{"$f":"IF(入力用!O73=2,入力用!Y6,IF(入力用!O73=3,入力用!Y7,IF(入力用!O73=4,入力用!Y8,IF(入力用!O73=5,入力用!Y9,\"\"))))","v":""},null,null,null,null,null,null,null,{"$f":"IF(入力用!C74=\"\",\"\",入力用!C74)","v":""},null,null,null,"台",null,{"$f":"入力用!P71","v":""},null,null,null,null,null,"kW"]
[]
[]
[null,null,null,null,null,null,{"$f":"IF(入力用!C75=\"\",\"\",入力用!C75)","v":""},null,null,null,null,null,null,null,null,{"$f":"IF(入力用!C76=\"\",\"\",入力用!C76)","v":""},null,null,null,null,null,{"$f":"IF(入力用!C77=\"\",\"\",入力用!C77)","v":""},null,null,null,null,null,null,null,null,null,null,null,null,{"$f":"IF(入力用!O78=2,入力用!W6,IF(入力用!O78=3,入力用!W7,\"\"))","v":""},null,null,null,null,null,null,null,null,null,{"$f":"IF(入力用!C79=\"\",\"\",入力用!C79)","v":""},null,null,null,null,null,{"$f":"IF(入力用!O79=2,入力用!X6,IF(入力用!O79=3,入力用!X7,\"㏋\nkW\"))","v":"㏋\nkW"},null,null,{"$f":"IF(入力用!P78=0,\"\",入力用!P78)","v":""},null,null,null,null,null,"kW",null,{"$f":"IF(入力用!O81=2,入力用!Y6,IF(入力用!O81=3,入力用!Y7,IF(入力用!O81=4,入力用!Y8,IF(入力用!O81=5,入力用!Y9,\"\"))))","v":""},null,null,null,null,null,null,null,{"$f":"IF(入力用!C82=\"\",\"\",入力用!C82)","v":""},null,null,null,"台",null,{"$f":"入力用!P79","v":""},null,null,null,null,null,"kW"]
[]
[]
[null,null,null,null,null,null,{"$f":"IF(入力用!C83=\"\",\"\",入力用!C83)","v":""},null,null,null,null,null,null,null,null,{"$f":"IF(入力用!C84=\"\",\"\",入力用!C84)","v":""},null,null,null,null,null,{"$f":"IF(入力用!C85=\"\",\"\",入力用!C85)","v":""},null,null,null,null,null,null,null,null,null,null,null,null,{"$f":"IF(入力用!O86=2,入力用!W6,IF(入力用!O86=3,入力用!W7,\"\"))","v":""},null,null,null,null,null,null,null,null,null,{"$f":"IF(入力用!C87=\"\",\"\",入力用!C87)","v":""},null,null,null,null,null,{"$f":"IF(入力用!O87=2,入力用!X6,IF(入力用!O87=3,入力用!X7,\"㏋\nkW\"))","v":"㏋\nkW"},null,null,{"$f":"IF(入力用!P86=0,\"\",入力用!P86)","v":""},null,null,null,null,null,"kW",null,{"$f":"IF(入力用!O89=2,入力用!Y6,IF(入力用!O89=3,入力用!Y7,IF(入力用!O89=4,入力用!Y8,IF(入力用!O89=5,入力用!Y9,\"\"))))","v":""},null,null,null,null,null,null,null,{"$f":"IF(入力用!C90=\"\",\"\",入力用!C90)","v":""},null,null,null,"台",null,{"$f":"入力用!P87","v":""},null,null,null,null,null,"kW"]
[]
[]
[null,null,null,null,null,null,{"$f":"IF(入力用!C91=\"\",\"\",入力用!C91)","v":""},null,null,null,null,null,null,null,null,{"$f":"IF(入力用!C92=\"\",\"\",入力用!C92)","v":""},null,null,null,null,null,{"$f":"IF(入力用!C93=\"\",\"\",入力用!C93)","v":""},null,null,null,null,null,null,null,null,null,null,null,null,{"$f":"IF(入力用!O94=2,入力用!W6,IF(入力用!O94=3,入力用!W7,\"\"))","v":""},null,null,null,null,null,null,null,null,null,{"$f":"IF(入力用!C95=\"\",\"\",入力用!C95)","v":""},null,null,null,null,null,{"$f":"IF(入力用!O95=2,入力用!X6,IF(入力用!O95=3,入力用!X7,\"㏋\nkW\"))","v":"㏋\nkW"},null,null,{"$f":"IF(入力用!P94=0,\"\",入力用!P94)","v":""},null,null,null,null,null,"kW",null,{"$f":"IF(入力用!O97=2,入力用!Y6,IF(入力用!O97=3,入力用!Y7,IF(入力用!O97=4,入力用!Y8,IF(入力用!O97=5,入力用!Y9,\"\"))))","v":""},null,null,null,null,null,null,null,{"$f":"IF(入力用!C98=\"\",\"\",入力用!C98)","v":""},null,null,null,"台",null,{"$f":"入力用!P95","v":""},null,null,null,null,null,"kW"]
[]
[]
[null,null,null,null,null,null,{"$f":"IF(入力用!C99=\"\",\"\",入力用!C99)","v":""},null,null,null,null,null,null,null,null,{"$f":"IF(入力用!C100=\"\",\"\",入力用!C100)","v":""},null,null,null,null,null,{"$f":"IF(入力用!C101=\"\",\"\",入力用!C101)","v":""},null,null,null,null,null,null,null,null,null,null,null,null,{"$f":"IF(入力用!O102=2,入力用!W6,IF(入力用!O102=3,入力用!W7,\"\"))","v":""},null,null,null,null,null,null,null,null,null,{"$f":"IF(入力用!C103=\"\",\"\",入力用!C103)","v":""},null,null,null,null,null,{"$f":"IF(入力用!O103=2,入力用!X6,IF(入力用!O103=3,入力用!X7,\"㏋\nkW\"))","v":"㏋\nkW"},null,null,{"$f":"IF(入力用!P102=0,\"\",入力用!P102)","v":""},null,null,null,null,null,"kW",null,{"$f":"IF(入力用!O105=2,入力用!Y6,IF(入力用!O105=3,入力用!Y7,IF(入力用!O105=4,入力用!Y8,IF(入力用!O105=5,入力用!Y9,\"\"))))","v":""},null,null,null,null,null,null,null,{"$f":"IF(入力用!C106=\"\",\"\",入力用!C106)","v":""},null,null,null,"台",null,{"$f":"入力用!P103","v":""},null,null,null,null,null,"kW"]
[]
[]
[null,null,null,null,null,null,{"$f":"IF(入力用!C107=\"\",\"\",入力用!C107)","v":""},null,null,null,null,null,null,null,null,{"$f":"IF(入力用!C108=\"\",\"\",入力用!C108)","v":""},null,null,null,null,null,{"$f":"IF(入力用!C109=\"\",\"\",入力用!C109)","v":""},null,null,null,null,null,null,null,null,null,null,null,null,{"$f":"IF(入力用!O110=2,入力用!W6,IF(入力用!O110=3,入力用!W7,\"\"))","v":""},null,null,null,null,null,null,null,null,null,{"$f":"IF(入力用!C111=\"\",\"\",入力用!C111)","v":""},null,null,null,null,null,{"$f":"IF(入力用!O111=2,入力用!X6,IF(入力用!O111=3,入力用!X7,\"㏋\nkW\"))","v":"㏋\nkW"},null,null,{"$f":"IF(入力用!P110=0,\"\",入力用!P110)","v":""},null,null,null,null,null,"kW",null,{"$f":"IF(入力用!O113=2,入力用!Y6,IF(入力用!O113=3,入力用!Y7,IF(入力用!O113=4,入力用!Y8,IF(入力用!O113=5,入力用!Y9,\"\"))))","v":""},null,null,null,null,null,null,null,{"$f":"IF(入力用!C114=\"\",\"\",入力用!C114)","v":""},null,null,null,"台",null,{"$f":"入力用!P111","v":""},null,null,null,null,null,"kW"]
[]
[]
[null,null,null,null,null,null,{"$f":"IF(入力用!C115=\"\",\"\",入力用!C115)","v":""},null,null,null,null,null,null,null,null,{"$f":"IF(入力用!C116=\"\",\"\",入力用!C116)","v":""},null,null,null,null,null,{"$f":"IF(入力用!C117=\"\",\"\",入力用!C117)","v":""},null,null,null,null,null,null,null,null,null,null,null,null,{"$f":"IF(入力用!O118=2,入力用!W6,IF(入力用!O118=3,入力用!W7,\"\"))","v":""},null,null,null,null,null,null,null,null,null,{"$f":"IF(入力用!C119=\"\",\"\",入力用!C119)","v":""},null,null,null,null,null,{"$f":"IF(入力用!O119=2,入力用!X6,IF(入力用!O119=3,入力用!X7,\"㏋\nkW\"))","v":"㏋\nkW"},null,null,{"$f":"IF(入力用!P118=0,\"\",入力用!P118)","v":""},null,null,null,null,null,"kW",null,{"$f":"IF(入力用!O121=2,入力用!Y6,IF(入力用!O121=3,入力用!Y7,IF(入力用!O121=4,入力用!Y8,IF(入力用!O121=5,入力用!Y9,\"\"))))","v":""},null,null,null,null,null,null,null,{"$f":"IF(入力用!C122=\"\",\"\",入力用!C122)","v":""},null,null,null,"台",null,{"$f":"入力用!P119","v":""},null,null,null,null,null,"kW"]
[]
[]
[null,null,null,null,null,null,{"$f":"IF(入力用!C123=\"\",\"\",入力用!C123)","v":""},null,null,null,null,null,null,null,null,{"$f":"IF(入力用!C124=\"\",\"\",入力用!C124)","v":""},null,null,null,null,null,{"$f":"IF(入力用!C125=\"\",\"\",入力用!C125)","v":""},null,null,null,null,null,null,null,null,null,null,null,null,{"$f":"IF(入力用!O126=2,入力用!W6,IF(入力用!O126=3,入力用!W7,\"\"))","v":""},null,null,null,null,null,null,null,null,null,{"$f":"IF(入力用!C127=\"\",\"\",入力用!C127)","v":""},null,null,null,null,null,{"$f":"IF(入力用!O127=2,入力用!X6,IF(入力用!O127=3,入力用!X7,\"㏋\nkW\"))","v":"㏋\nkW"},null,null,{"$f":"IF(入力用!P126=0,\"\",入力用!P126)","v":""},null,null,null,null,null,"kW",null,{"$f":"IF(入力用!O129=2,入力用!Y6,IF(入力用!O129=3,入力用!Y7,IF(入力用!O129=4,入力用!Y8,IF(入力用!O129=5,入力用!Y9,\"\"))))","v":""},null,null,null,null,null,null,null,{"$f":"IF(入力用!C130=\"\",\"\",入力用!C130)","v":""},null,null,null,"台",null,{"$f":"入力用!P127","v":""},null,null,null,null,null,"kW"]
[]
[]
[null,null,null,null,null,null,{"$f":"IF(入力用!C131=\"\",\"\",入力用!C131)","v":""},null,null,null,null,null,null,null,null,{"$f":"IF(入力用!C132=\"\",\"\",入力用!C132)","v":""},null,null,null,null,null,{"$f":"IF(入力用!C133=\"\",\"\",入力用!C133)","v":""},null,null,null,null,null,null,null,null,null,null,null,null,{"$f":"IF(入力用!O134=2,入力用!W6,IF(入力用!O134=3,入力用!W7,\"\"))","v":""},null,null,null,null,null,null,null,null,null,{"$f":"IF(入力用!C135=\"\",\"\",入力用!C135)","v":""},null,null,null,null,null,{"$f":"IF(入力用!O135=2,入力用!X6,IF(入力用!O135=3,入力用!X7,\"㏋\nkW\"))","v":"㏋\nkW"},null,null,{"$f":"IF(入力用!P134=0,\"\",入力用!P134)","v":""},null,null,null,null,null,"kW",null,{"$f":"IF(入力用!O137=2,入力用!Y6,IF(入力用!O137=3,入力用!Y7,IF(入力用!O137=4,入力用!Y8,IF(入力用!O137=5,入力用!Y9,\"\"))))","v":""},null,null,null,null,null,null,null,{"$f":"IF(入力用!C138=\"\",\"\",入力用!C138)","v":""},null,null,null,"台",null,{"$f":"入力用!P135","v":""},null,null,null,null,null,"kW"]
[]
[]
[null,null,null,null,null,null,{"$f":"IF(入力用!C139=\"\",\"\",入力用!C139)","v":""},null,null,null,null,null,null,null,null,{"$f":"IF(入力用!C140=\"\",\"\",入力用!C140)","v":""},null,null,null,null,null,{"$f":"IF(入力用!C141=\"\",\"\",入力用!C141)","v":""},null,null,null,null,null,null,null,null,null,null,null,null,{"$f":"IF(入力用!O142=2,入力用!W6,IF(入力用!O142=3,入力用!W7,\"\"))","v":""},null,null,null,null,null,null,null,null,null,{"$f":"IF(入力用!C143=\"\",\"\",入力用!C143)","v":""},null,null,null,null,null,{"$f":"IF(入力用!O143=2,入力用!X6,IF(入力用!O143=3,入力用!X7,\"㏋\nkW\"))","v":"㏋\nkW"},null,null,{"$f":"IF(入力用!P142=0,\"\",入力用!P142)","v":""},null,null,null,null,null,"kW",null,{"$f":"IF(入力用!O145=2,入力用!Y6,IF(入力用!O145=3,入力用!Y7,IF(入力用!O145=4,入力用!Y8,IF(入力用!O145=5,入力用!Y9,\"\"))))","v":""},null,null,null,null,null,null,null,{"$f":"IF(入力用!C146=\"\",\"\",入力用!C146)","v":""},null,null,null,"台",null,{"$f":"入力用!P143","v":""},null,null,null,null,null,"kW"]
[]
[]
[null,null,null,null,null,null,{"$f":"IF(入力用!C147=\"\",\"\",入力用!C147)","v":""},null,null,null,null,null,null,null,null,{"$f":"IF(入力用!C148=\"\",\"\",入力用!C148)","v":""},null,null,null,null,null,{"$f":"IF(入力用!C149=\"\",\"\",入力用!C149)","v":""},null,null,null,null,null,null,null,null,null,null,null,null,{"$f":"IF(入力用!O150=2,入力用!W6,IF(入力用!O150=3,入力用!W7,\"\"))","v":""},null,null,null,null,null,null,null,null,null,{"$f":"IF(入力用!C151=\"\",\"\",入力用!C151)","v":""},null,null,null,null,null,{"$f":"IF(入力用!O151=2,入力用!X6,IF(入力用!O151=3,入力用!X7,\"㏋\nkW\"))","v":"㏋\nkW"},null,null,{"$f":"IF(入力用!P150=0,\"\",入力用!P150)","v":""},null,null,null,null,null,"kW",null,{"$f":"IF(入力用!O153=2,入力用!Y6,IF(入力用!O153=3,入力用!Y7,IF(入力用!O153=4,入力用!Y8,IF(入力用!O153=5,入力用!Y9,\"\"))))","v":""},null,null,null,null,null,null,null,{"$f":"IF(入力用!C154=\"\",\"\",入力用!C154)","v":""},null,null,null,"台",null,{"$f":"入力用!P151","v":""},null,null,null,null,null,"kW"]
[]
[]
[null,null,null,null,null,null,null,null,null,null,null,null,null,null,null,null,null,null,null,null,null,null,null,null,null,null,null,null,null,null,null,null,null,null,"通電制御･検知制御割引対象率",null,null,null,null,null,null,null,null,null,null,null,null,null,null,null,null,null,null,null,null,null,null,null,null,null,null,"力　率",null,null,null,null,null,null,null,"合計台数",null,null,null,null,null,"入力合計",null,null,null,null,null,null,null,null,"契約電力",null,null,null,null,null,null,null,{"$f":"IF(入力用!R33=0,\"\",入力用!R33)","v":""}]
[]
[null,null,null,null,null,null,null,null,null,null,null,null,null,null,null,null,null,null,null,null,null,null,null,null,null,null,null,null,null,null,null,null,null,null,{"$f":"IF(OR(ISERR(入力用!R35),入力用!R35=0),\"\",入力用!R35)","v":""},null,null,null,null,null,"kW",null,null,"/",null,{"$f":"IF(BX107=\"\",\"\",BX107)","v":""},null,null,null,null,null,"kW",null,null,{"$f":"IF(ISERR(AI107/AT107),\"\",ROUND(AI107/AT107,2)*100)","v":""},null,null,null,null,"%",null,"85％",null,null,null,{"$f":"IF(入力用!O33=2,\"超過\",IF(入力用!R31=\"\",\"超過\n未満\",IF(入力用!R31>0.85,\"超過\",IF(入力用!R31<0.85,\"未満\",\"\"))))","v":"超過\n未満"},null,null,null,{"$f":"IF(SUM(BR63:BU104)=0,\"\",SUM(BR63:BU104))","v":""},null,null,null,"台",null,{"$f":"IF(入力用!R38+入力用!R39=0,\"\",入力用!R38+入力用!R39)","v":""},null,null,null,null,null,"ｋＷ"]
[null,null,null,null,null,null,null,null,null,null,null,null,null,null,null,null,null,null,null,null,null,null,null,null,null,null,null,null,null,null,null,null,null,null,null,null,null,null,null,null,null,null,null,null,null,null,null,null,null,null,null,null,null,null,null,null,null,null,null,null,null,null,null,null,null,null,null,null,null,null,null,null,null,null,null,null,null,null,null,null,null,null,null,null,null,null,null,null,null,null,null,null,null,null,null,null,null,"ｋＷ"]
[]
[null,"異動種別",null,null,"・新設　　 　・減少　 　　　・転出",null,null,null,null,null,null,null,null,null,null,null,null,null,null,null,null,null,null,null,null,null,null,null,"供給地点特定番号",null,null,null,null,null,null,null,"発行\n回数",null,null,"支店",null,"ﾌﾞﾛｯｸ",null,null,"住所",null,null,null,null,"街区",null,null,"契約№",null,null,null,null,"枝番",null,null,"種別"]
[]
[null,null,null,null,"・種変(+)　　・設備撤去　　・名義変更"]
[]
[null,null,null,null,"・ｺｰﾄﾞ変(+)　・設備変更　　 ・その他",null,null,null,null,null,null,null,null,null,null,null,null,null,null,null,null,null,null,null,null,null,null,null,null,null,null,"010",null,null,null,null,null,null,null,null,null,null,null,null,null,null,null,null,null,null,null,null,null,null,null,null,null,null,null,null,{"$f":"'３枚目'!AI41","v":""},null,null,"00"]
[]
[null,null,null,null,"・増加　　 　・転入　　　　（　　　　）"]
[]
[]
[null,"　※　太枠内をご記入願います。"]
[]
[null,"　※　ご契約者さまが法人の場合は，代表者肩書および代表者名をあわせてご記入願います。"]
[]
[null,"　※　ご提供いただいた個人情報は，電気事業の範囲内で利用いたします。"]
[]
[]
[]
[]
[]
[null,null,null,"拝啓　平素は弊社事業に格別のお引き立てを賜り，厚くお礼申し上げます。５６７８９０"]
[]
[]
[null,null,null,"　さて，御社よりお申込みをいただきました上記お客さまの電気のご使用につきまして，"]
[]
[]
[null,null,null,"本内容にて受付させていただきましたことをお知らせいたします。１２３４５６７８９０"]
[]
[]
[null,null,null,"１２３４５６７８９０１２３４５６７８９０１２３４５６７８９０１２３４５６７敬具０"]
[]
[]
[]
[]
[]
[]
[null,"＜連絡事項＞"]
[]
[]
[]
[]
[]
[]
[]
[]
[]
[]
[]
[]
[]
[]
[]
[]
[]
["北　海　道　電　力　ネ　ッ　ト　ワ　ー　ク　株　式　会　社"]

{"sheet":"２枚目","index":2,"n_rows":163,"n_cols":111,"rows_kept":163,"cut":false,"hidden":false,"merged":[[109,75,114,78],[109,79,114,82],[113,31,116,35],[113,39,116,40],[113,41,116,43],[113,44,116,48],[113,49,116,51],[113,52,116,56],[113,57,116,59],[113,60,116,62],[113,63,116,65],[115,75,116,78],[115,79,116,82],[109,31,112,35],[109,39,112,40],[109,41,112,43],[109,44,112,48],[109,49,112,51],[109,52,112,56],[109,57,112,59],[109,60,112,62],[109,63,112,65],[115,71,116,74],[77,73,79,74],[77,59,79,60],[74,50,76,52],[77,34,79,43],[71,81,73,83],[74,73,76,74],[74,81,76,83],[74,69,76,72],[71,50,73,52],[74,75,76,80],[71,75,73,80],[65,81,67,83],[62,73,64,74],[62,81,64,83],[68,75,70,80],[65,75,67,80],[65,50,67,52],[68,81,70,83],[62,53,64,58],[65,73,67,74],[62,61,64,68],[65,61,67,68],[68,59,70,60],[71,59,73,60],[68,61,70,68],[86,73,88,74],[89,61,91,68],[101,53,103,58],[98,53,100,58],[98,59,100,60],[95,59,97,60],[98,50,100,52],[106,59,108,60],[101,44,103,49],[101,50,103,52],[89,59,91,60],[101,21,103,33],[98,34,100,43],[104,34,105,60],[98,69,100,72],[101,69,103,72],[104,69,105,74],[106,69,108,72],[89,44,91,49],[92,34,94,43],[92,59,94,60],[98,61,100,68],[101,34,103,43],[95,53,97,58],[95,50,97,52],[89,34,91,43],[92,53,94,58],[86,34,88,43],[164,0,165,110],[62,69,64,72],[65,69,67,72],[68,69,70,72],[71,69,73,72],[92,21,94,33],[95,21,97,33],[62,21,64,33],[98,21,100,33],[68,21,70,33],[71,21,73,33],[74,21,76,33],[71,15,73,20],[74,15,76,20],[77,15,79,20],[86,15,88,20],[89,15,91,20],[101,15,103,20],[86,21,88,33],[83,15,85,20],[83,53,85,58],[80,15,82,20],[86,6,88,14],[89,6,91,14],[92,6,94,14],[92,15,94,20],[86,53,88,58],[80,34,82,43],[83,21,85,33],[89,21,91,33],[113,4,114,27],[106,43,108,44],[106,61,108,64],[106,65,108,68],[109,36,112,38],[109,71,114,74],[106,54,108,58],[106,45,108,50],[106,34,108,39],[109,66,116,70],[115,4,116,27],[109,4,110,27],[111,4,112,27],[98,6,100,14],[98,15,100,20],[101,6,103,14],[101,73,103,74],[101,61,103,68],[68,6,70,14],[71,6,73,14],[74,6,76,14],[80,6,82,14],[80,50,82,52],[95,15,97,20],[83,6,85,14],[95,6,97,14],[89,53,91,58],[74,53,76,58],[74,61,76,68],[74,59,76,60],[71,44,73,49],[68,53,70,58],[71,53,73,58],[68,73,70,74],[83,69,85,72],[80,21,82,33],[95,44,97,49],[106,81,108,83],[106,75,108,80],[106,73,108,74],[98,73,100,74],[89,81,91,83],[89,75,91,80],[95,81,97,83],[92,73,94,74],[104,75,105,83],[98,81,100,83],[98,75,100,80],[101,81,103,83],[101,75,103,80],[31,105,32,109],[107,97,108,99],[104,92,108,96],[104,84,108,91],[101,59,103,60],[92,61,94,68],[98,44,100,49],[92,81,94,83],[77,81,79,83],[80,81,82,83],[83,44,85,49],[83,50,85,52],[83,73,85,74],[83,81,85,83],[83,75,85,80],[80,75,82,80],[80,44,82,49],[80,73,82,74],[80,69,82,72],[80,59,82,60],[80,53,82,58],[86,69,88,72],[77,69,79,72],[77,75,79,80],[25,104,26,104],[25,105,26,109],[30,46,32,46],[30,47,32,54],[31,104,32,104],[25,89,26,92],[25,93,26,97],[25,98,26,98],[16,64,26,68],[21,75,22,110],[23,69,24,110],[19,104,20,108],[19,100,20,102],[19,109,20,110],[19,103,20,103],[16,69,18,74],[16,75,18,110],[19,69,20,74],[19,75,20,89],[27,64,32,68],[31,110,32,110],[27,69,30,74],[27,75,30,110],[31,69,32,74],[19,90,20,99],[21,69,22,74],[33,46,39,50],[33,51,34,52],[37,26,39,45],[16,58,17,63],[18,11,21,63],[33,57,34,60],[35,11,39,20],[25,99,26,103],[31,75,32,88],[31,89,32,92],[31,93,32,97],[31,98,32,98],[31,99,32,103],[30,11,32,13],[30,14,32,19],[30,28,32,28],[30,29,32,35],[30,39,32,45],[30,36,32,38],[30,55,32,55],[33,53,34,55],[33,26,34,26],[35,27,36,27],[35,28,36,28],[60,69,61,74],[60,75,61,83],[38,59,39,62],[48,35,53,42],[35,35,36,35],[35,36,36,36],[33,27,34,27],[33,28,34,28],[33,29,34,29],[33,30,34,30],[33,31,34,31],[33,32,34,32],[33,33,34,33],[33,34,34,34],[33,36,34,36],[56,69,57,74],[58,66,59,68],[58,69,59,71],[56,57,59,62],[58,72,59,74],[56,63,57,68],[56,27,57,38],[86,59,88,60],[77,44,79,49],[80,61,82,68],[49,28,53,32],[46,28,47,30],[40,31,47,33],[56,45,59,48],[58,27,59,38],[58,63,59,65],[56,39,59,42],[56,43,59,44],[65,21,67,33],[113,36,116,38],[30,21,32,27],[83,61,85,68],[104,61,105,68],[106,40,108,42],[106,51,108,53],[83,34,85,43],[86,44,88,49],[33,37,34,37],[33,38,34,38],[33,39,34,39],[33,40,34,40],[77,61,79,68],[74,34,76,43],[77,53,79,58],[54,39,55,62],[56,49,59,52],[56,53,59,56],[42,34,47,62],[54,63,55,74],[35,37,36,37],[35,38,36,38],[77,21,79,33],[77,50,79,52],[68,15,70,20],[68,44,70,49],[62,44,64,49],[58,12,59,26],[65,34,67,43],[65,44,67,49],[60,61,61,68],[60,34,61,43],[60,44,61,52],[65,53,67,58],[62,50,64,52],[60,21,61,33],[60,53,61,60],[62,59,64,60],[65,15,67,20],[60,6,61,14],[62,6,64,14],[65,6,67,14],[128,2,130,110],[131,2,133,110],[162,0,163,110],[144,1,146,16],[134,2,136,110],[137,2,139,110],[140,2,142,110],[118,1,119,97],[120,1,121,97],[122,1,123,97],[125,2,127,110],[25,110,26,110],[109,28,116,30],[54,6,55,38],[109,1,116,3],[54,1,59,5],[24,16,26,16],[24,11,26,12],[16,1,39,5],[40,1,47,5],[77,6,79,14],[60,1,103,5],[56,6,57,11],[33,11,34,20],[58,6,59,11],[33,21,39,25],[45,6,47,11],[45,15,47,19],[48,1,53,5],[22,11,23,19],[56,12,57,26],[71,34,73,43],[68,34,70,43],[60,15,61,20],[62,15,64,20],[16,11,17,17],[33,6,39,10],[24,13,26,15],[48,6,53,21],[45,23,47,27],[46,12,47,14],[46,20,47,22],[48,22,53,27],[24,6,29,10],[24,21,26,22],[22,20,23,38],[24,23,26,63],[33,56,34,56],[33,63,34,80],[33,61,34,62],[51,75,53,87],[48,43,53,65],[48,66,53,70],[48,75,50,81],[33,86,34,110],[30,6,32,10],[16,6,23,10],[30,20,32,20],[16,53,17,53],[86,81,88,83],[62,75,64,80],[62,34,64,43],[95,73,97,74],[92,69,94,72],[92,75,94,80],[92,50,94,52],[86,50,88,52],[86,75,88,80],[95,75,97,80],[95,69,97,72],[95,34,97,43],[95,61,97,68],[92,44,94,49],[86,61,88,68],[89,50,91,52],[89,73,91,74],[89,69,91,72],[74,44,76,49],[68,50,70,52],[65,59,67,60],[71,73,73,74],[71,61,73,68],[83,59,85,60],[33,35,34,35],[25,69,26,88],[22,47,23,63],[16,36,17,36],[16,37,17,37],[16,38,17,38],[16,39,17,39],[16,40,17,40],[16,41,17,41],[16,42,17,42],[16,43,17,43],[16,44,17,44],[16,45,17,45],[16,46,17,46],[16,47,17,47],[16,48,17,48],[16,49,17,49],[16,50,17,50],[16,51,17,51],[16,52,17,52],[22,39,23,46],[30,56,32,63],[27,11,29,63],[38,110,39,110],[38,98,39,98],[38,99,39,103],[38,104,39,104],[38,105,39,109],[48,71,53,74],[48,82,50,86],[48,87,50,87],[44,101,51,102],[44,103,51,110],[38,93,39,97],[33,81,39,85],[38,86,39,88],[35,86,37,110],[38,69,39,73],[38,74,39,74],[38,75,39,79],[40,68,47,84],[38,89,39,92],[35,51,37,80],[38,51,39,58],[40,34,41,62],[40,63,47,67],[52,33,53,34],[16,18,17,18],[16,19,17,19],[16,20,17,20],[16,21,17,21],[16,22,17,22],[16,23,17,23],[16,24,17,24],[16,25,17,25],[16,26,17,26],[16,27,17,27],[16,28,17,28],[16,29,17,29],[16,30,17,30],[16,31,17,31],[16,32,17,32],[16,33,17,33],[16,34,17,34],[16,35,17,35],[35,29,36,29],[35,30,36,30],[35,31,36,31],[35,32,36,32],[35,33,36,33],[35,34,36,34],[35,45,36,45],[40,85,47,89],[40,90,43,99],[44,90,47,99],[35,39,36,39],[35,40,36,40],[35,41,36,41],[35,42,36,42],[35,43,36,43],[1,93,5,109],[33,41,34,41],[33,42,34,42],[33,43,34,43],[33,44,34,44],[33,45,34,45],[35,44,36,44],[38,80,39,80],[38,63,39,67],[38,68,39,68],[16,54,17,54],[16,55,17,55],[16,56,17,56],[16,57,17,57],[6,0,9,110],[13,64,15,68],[13,85,15,89],[13,69,15,84],[10,1,11,25],[12,1,13,38],[11,69,12,110],[13,90,15,110],[24,17,26,20],[35,26,36,26]]}
[]
[null,null,null,null,null,null,null,null,null,null,null,null,null,null,null,null,null,null,null,null,null,null,null,null,null,null,null,null,null,null,null,null,null,null,null,null,null,null,null,null,null,null,null,null,null,null,null,null,null,null,null,null,null,null,null,null,null,null,null,null,null,null,null,null,null,null,null,null,null,null,null,null,null,null,null,null,null,null,null,null,null,null,null,null,null,null,null,null,null,null,null,null,null,"離島等供給用"]
[]
[]
[]
[]
["深夜電力・ホットタイム電気使用申込書（お客さま控）"]
[]
[]
[]
[null,"北海道電力ネットワーク株式会社　御中"]
[]
[null,"電気の使用について貴社離島等供給約款[低圧用]を承認のうえ申し込みます。"]
[null,null,null,null,null,null,null,null,null,null,null,null,null,null,null,null,null,null,null,null,null,null,null,null,null,null,null,null,null,null,null,null,null,null,null,null,null,null,null,null,null,null,null,null,null,null,null,null,null,null,null,null,null,null,null,null,null,null,null,null,null,null,null,null,"受付扱所名",null,null,null,null,null,null,null,null,null,null,null,null,null,null,null,null,null,null,null,null,"受付№"]
[]
[]
[null,"お 客 さ ま",null,null,null,null,"ご契約名義",null,null,null,null,"（フリガナ）",null,null,null,null,null,null,{"$f":"DBCS(MID(ASC(入力用!C4),1,1))","v":""},{"$f":"DBCS(MID(ASC(入力用!C4),2,1))","v":""},{"$f":"DBCS(MID(ASC(入力用!C4),3,1))","v":""},{"$f":"DBCS(MID(ASC(入力用!C4),4,1))","v":""},{"$f":"DBCS(MID(ASC(入力用!C4),5,1))","v":""},{"$f":"DBCS(MID(ASC(入力用!C4),6,1))","v":""},{"$f":"DBCS(MID(ASC(入力用!C4),7,1))","v":""},{"$f":"DBCS(MID(ASC(入力用!C4),8,1))","v":""},{"$f":"DBCS(MID(ASC(入力用!C4),9,1))","v":""},{"$f":"DBCS(MID(ASC(入力用!C4),10,1))","v":""},{"$f":"DBCS(MID(ASC(入力用!C4),11,1))","v":""},{"$f":"DBCS(MID(ASC(入力用!C4),12,1))","v":""},{"$f":"DBCS(MID(ASC(入力用!C4),13,1))","v":""},{"$f":"DBCS(MID(ASC(入力用!C4),14,1))","v":""},{"$f":"DBCS(MID(ASC(入力用!C4),15,1))","v":""},{"$f":"DBCS(MID(ASC(入力用!C4),16,1))","v":""},{"$f":"DBCS(MID(ASC(入力用!C4),17,1))","v":""},{"$f":"DBCS(MID(ASC(入力用!C4),18,1))","v":""},{"$f":"DBCS(MID(ASC(入力用!C4),19,1))","v":""},{"$f":"DBCS(MID(ASC(入力用!C4),20,1))","v":""},{"$f":"DBCS(MID(ASC(入力用!C4),21,1))","v":""},{"$f":"DBCS(MID(ASC(入力用!C4),22,1))","v":""},{"$f":"DBCS(MID(ASC(入力用!C4),23,1))","v":""},{"$f":"DBCS(MID(ASC(入力用!C4),24,1))","v":""},{"$f":"DBCS(MID(ASC(入力用!C4),25,1))","v":""},{"$f":"DBCS(MID(ASC(入力用!C4),26,1))","v":""},{"$f":"DBCS(MID(ASC(入力用!C4),27,1))","v":""},{"$f":"DBCS(MID(ASC(入力用!C4),28,1))","v":""},{"$f":"DBCS(MID(ASC(入力用!C4),29,1))","v":""},{"$f":"DBCS(MID(ASC(入力用!C4),30,1))","v":""},{"$f":"DBCS(MID(ASC(入力用!C4),31,1))","v":""},{"$f":"DBCS(MID(ASC(入力用!C4),32,1))","v":""},{"$f":"DBCS(MID(ASC(入力用!C4),33,1))","v":""},{"$f":"DBCS(MID(ASC(入力用!C4),34,1))","v":""},{"$f":"DBCS(MID(ASC(入力用!C4),35,1))","v":""},{"$f":"DBCS(MID(ASC(入力用!C4),36,1))","v":""},{"$f":"DBCS(MID(ASC(入力用!C4),37,1))","v":""},{"$f":"DBCS(MID(ASC(入力用!C4),38,1))","v":""},{"$f":"DBCS(MID(ASC(入力用!C4),39,1))","v":""},{"$f":"DBCS(MID(ASC(入力用!C4),40,1))","v":""},null,null,null,null,null,null,"電気工事会社",null,null,null,null," 会社名",null,null,null,null,null,{"$f":"IF(入力用!C12=\"\",\"\",入力用!C12)","v":""}]
[]
[null,null,null,null,null,null,null,null,null,null,null,{"$f":"IF(入力用!C5=\"\",\"\",入力用!C5)","v":""}]
[null,null,null,null,null,null,null,null,null,null,null,null,null,null,null,null,null,null,null,null,null,null,null,null,null,null,null,null,null,null,null,null,null,null,null,null,null,null,null,null,null,null,null,null,null,null,null,null,null,null,null,null,null,null,null,null,null,null,null,null,null,null,null,null,null,null,null,null,null,"(担当者)",null,null,null,null,null,{"$f":"IF(入力用!C13=\"\",\"\",入力用!C13)","v":""},null,null,null,null,null,null,null,null,null,null,null,null,null,null,"工事会社№（",null,null,null,null,null,null,null,null,null,{"$f":"IF(入力用!C14=\"\",\"\",入力用!C14)","v":""},null,null,"-",{"$f":"IF(入力用!E14=\"\",\"\",入力用!E14)","v":""},null,null,null,null,")"]
[]
[null,null,null,null,null,null,null,null,null,null,null,null,null,null,null,null,null,null,null,null,null,null,null,null,null,null,null,null,null,null,null,null,null,null,null,null,null,null,null,null,null,null,null,null,null,null,null,null,null,null,null,null,null,null,null,null,null,null,null,null,null,null,null,null,null,null,null,null,null," 住　所",null,null,null,null,null,{"$f":"LEFT(入力用!C15,24)","v":""}]
[null,null,null,null,null,null,null,null,null,null,null,"（代表者肩書）",null,null,null,null,null,null,null,null,{"$f":"IF(入力用!C6=\"\",\"\",入力用!C6)","v":""},null,null,null,null,null,null,null,null,null,null,null,null,null,null,null,null,null,null,"（代表者名）",null,null,null,null,null,null,null,{"$f":"IF(入力用!C7=\"\",\"\",入力用!C7)","v":""}]
[null,null,null,null,null,null,null,null,null,null,null,null,null,null,null,null,null,null,null,null,null,null,null,null,null,null,null,null,null,null,null,null,null,null,null,null,null,null,null,null,null,null,null,null,null,null,null,null,null,null,null,null,null,null,null,null,null,null,null,null,null,null,null,null,null,null,null,null,null,{"$f":"MID(入力用!C15,25,28)","v":""}]
[null,null,null,null,null,null,"ご使用\n場　所",null,null,null,null,"(〒",null,{"$f":"LEFT(入力用!C8,3)","v":""},null,null,"-",{"$f":"RIGHT(入力用!C8,4)","v":""},null,null,null,")",null,{"$f":"LEFT(入力用!C9,25)","v":""}]
[null,null,null,null,null,null,null,null,null,null,null,null,null,null,null,null,null,null,null,null,null,null,null,null,null,null,null,null,null,null,null,null,null,null,null,null,null,null,null,null,null,null,null,null,null,null,null,null,null,null,null,null,null,null,null,null,null,null,null,null,null,null,null,null,null,null,null,null,null,{"$f":"MID(入力用!C15,53,12)","v":""},null,null,null,null,null,null,null,null,null,null,null,null,null,null,null,null,null,null,null,"電話(",null,null,null,{"$f":"IF(入力用!C16=\"\",\"\",入力用!C16)","v":""},null,null,null,null,"-",{"$f":"IF(入力用!E16=\"\",\"\",入力用!E16)","v":""},null,null,null,null,"-",{"$f":"IF(入力用!H16=\"\",\"\",入力用!H16)","v":""},null,null,null,null,")"]
[]
[null,null,null,null,null,null,null,null,null,null,null,{"$f":"MID(入力用!C9,26,33)","v":""},null,null,null,null,null,null,null,null,null,null,null,null,null,null,null,null,null,null,null,null,null,null,null,null,null,null,null,null,null,null,null,null,null,null,null,null,null,null,null,null,null,null,null,null,null,null,null,null,null,null,null,null,"建築会社",null,null,null,null," 会社名",null,null,null,null,null,{"$f":"IF(入力用!C17=\"\",\"\",入力用!C17)","v":""}]
[]
[]
[null,null,null,null,null,null,"電話番号",null,null,null,null,"固定",null,null,{"$f":"IF(入力用!C10=\"\",\"\",入力用!C10)","v":""},null,null,null,null,null,"-",{"$f":"IF(入力用!E10=\"\",\"\",入力用!E10)","v":""},null,null,null,null,null,null,"-",{"$f":"IF(入力用!H10=\"\",\"\",入力用!H10)","v":""},null,null,null,null,null,null,"携帯",null,null,{"$f":"IF(入力用!C11=\"\",\"\",入力用!C11)","v":""},null,null,null,null,null,null,"-",{"$f":"IF(入力用!E11=\"\",\"\",入力用!E11)","v":""},null,null,null,null,null,null,null,"-",{"$f":"IF(入力用!H11=\"\",\"\",入力用!H11)","v":""}]
[null,null,null,null,null,null,null,null,null,null,null,null,null,null,null,null,null,null,null,null,null,null,null,null,null,null,null,null,null,null,null,null,null,null,null,null,null,null,null,null,null,null,null,null,null,null,null,null,null,null,null,null,null,null,null,null,null,null,null,null,null,null,null,null,null,null,null,null,null,"(担当者)",null,null,null,null,null,{"$f":"IF(入力用!C18=\"\",\"\",入力用!C18)","v":""},null,null,null,null,null,null,null,null,null,null,null,null,null,"電話(",null,null,null,{"$f":"IF(入力用!C19=\"\",\"\",入力用!C19)","v":""},null,null,null,null,"-",{"$f":"IF(入力用!E19=\"\",\"\",入力用!E19)","v":""},null,null,null,null,"-",{"$f":"IF(入力用!H19=\"\",\"\",入力用!H19)","v":""},null,null,null,null,")"]
[]
[null,null,null,null,null,null,"お支払\n方　法",null,null,null,null,null,null,null,null,null,null,null,null,null,null,"支　払\n者　名",null,null,null,null,{"$f":"DBCS(MID(ASC(入力用!C21),1,1))","v":""},{"$f":"DBCS(MID(ASC(入力用!C21),2,1))","v":""},{"$f":"DBCS(MID(ASC(入力用!C21),3,1))","v":""},{"$f":"DBCS(MID(ASC(入力用!C21),4,1))","v":""},{"$f":"DBCS(MID(ASC(入力用!C21),5,1))","v":""},{"$f":"DBCS(MID(ASC(入力用!C21),6,1))","v":""},{"$f":"DBCS(MID(ASC(入力用!C21),7,1))","v":""},{"$f":"DBCS(MID(ASC(入力用!C21),8,1))","v":""},{"$f":"DBCS(MID(ASC(入力用!C21),9,1))","v":""},{"$f":"DBCS(MID(ASC(入力用!C21),10,1))","v":""},{"$f":"DBCS(MID(ASC(入力用!C21),11,1))","v":""},{"$f":"DBCS(MID(ASC(入力用!C21),12,1))","v":""},{"$f":"DBCS(MID(ASC(入力用!C21),13,1))","v":""},{"$f":"DBCS(MID(ASC(入力用!C21),14,1))","v":""},{"$f":"DBCS(MID(ASC(入力用!C21),15,1))","v":""},{"$f":"DBCS(MID(ASC(入力用!C21),16,1))","v":""},{"$f":"DBCS(MID(ASC(入力用!C21),17,1))","v":""},{"$f":"DBCS(MID(ASC(入力用!C21),18,1))","v":""},{"$f":"DBCS(MID(ASC(入力用!C21),19,1))","v":""},{"$f":"DBCS(MID(ASC(入力用!C21),20,1))","v":""},"請求書\n送付先",null,null,null,null,"(〒",null,{"$f":"LEFT(入力用!C23,3)","v":""},null,null,"-",{"$f":"RIGHT(入力用!C23,4)","v":""},null,null,null,")",null,{"$f":"IF(入力用!C24=\"同上\",\"\",LEFT(入力用!C24,12))","v":""},null,null,null,null,null,null,null,null,null,null,null,null,null,null,null,null,null,"ご連絡先",null,null,null,null,{"$f":"IF(OR(入力用!C26=\"同上\",入力用!C26=\"同左\"),\"\",LEFT(入力用!C26,17))","v":""}]
[]
[null,null,null,null,null,null,null,null,null,null,null,{"$f":"IF(入力用!O20=2,入力用!O6,IF(入力用!O20=3,入力用!O7,IF(入力用!O20=4,入力用!O8,\"\")))","v":""},null,null,null,null,null,null,null,null,null,null,null,null,null,null,{"$f":"DBCS(MID(ASC(入力用!C21),21,1))","v":""},{"$f":"DBCS(MID(ASC(入力用!C21),22,1))","v":""},{"$f":"DBCS(MID(ASC(入力用!C21),23,1))","v":""},{"$f":"DBCS(MID(ASC(入力用!C21),24,1))","v":""},{"$f":"DBCS(MID(ASC(入力用!C21),25,1))","v":""},{"$f":"DBCS(MID(ASC(入力用!C21),26,1))","v":""},{"$f":"DBCS(MID(ASC(入力用!C21),27,1))","v":""},{"$f":"DBCS(MID(ASC(入力用!C21),28,1))","v":""},{"$f":"DBCS(MID(ASC(入力用!C21),29,1))","v":""},{"$f":"DBCS(MID(ASC(入力用!C21),30,1))","v":""},{"$f":"DBCS(MID(ASC(入力用!C21),31,1))","v":""},{"$f":"DBCS(MID(ASC(入力用!C21),32,1))","v":""},{"$f":"DBCS(MID(ASC(入力用!C21),33,1))","v":""},{"$f":"DBCS(MID(ASC(入力用!C21),34,1))","v":""},{"$f":"DBCS(MID(ASC(入力用!C21),35,1))","v":""},{"$f":"DBCS(MID(ASC(入力用!C21),36,1))","v":""},{"$f":"DBCS(MID(ASC(入力用!C21),37,1))","v":""},{"$f":"DBCS(MID(ASC(入力用!C21),38,1))","v":""},{"$f":"DBCS(MID(ASC(入力用!C21),39,1))","v":""},{"$f":"DBCS(MID(ASC(入力用!C21),40,1))","v":""},null,null,null,null,null,{"$f":"IF(入力用!C24=\"同上\",入力用!C24,MID(入力用!C24,13,20))","v":""},null,null,null,null,null,null,null,null,null,null,null,null,null,null,null,null,null,null,null,null,null,null,null,null,null,null,null,null,null,null,null,null,null,null,{"$f":"IF(OR(入力用!C26=\"同上\",入力用!C26=\"同左\"),入力用!C26,MID(入力用!C26,18,17))","v":""}]
[]
[null,null,null,null,null,null,null,null,null,null,null,null,null,null,null,null,null,null,null,null,null,null,null,null,null,null,{"$f":"IF(入力用!C22=\"\",\"\",入力用!C22)","v":""}]
[null,null,null,null,null,null,null,null,null,null,null,null,null,null,null,null,null,null,null,null,null,null,null,null,null,null,null,null,null,null,null,null,null,null,null,null,null,null,null,null,null,null,null,null,null,null,null,null,null,null,null,{"$f":"MID(入力用!C24,33,5)","v":""},null,null,null,null,null,null,null,"電話(",null,null,null,{"$f":"IF(入力用!C25=\"\",\"\",入力用!C25)","v":""},null,null,null,null,"-",{"$f":"IF(入力用!E25=\"\",\"\",入力用!E25)","v":""},null,null,null,null,"-",{"$f":"IF(入力用!H25=\"\",\"\",入力用!H25)","v":""},null,null,null,null,")",null,null,null,null,null,{"$f":"IF(OR(入力用!C26=\"同上\",入力用!C26=\"同左\"),\"\",MID(入力用!C26,35,1))","v":""},null,null,"電話(",null,null,null,{"$f":"IF(入力用!C27=\"\",\"\",入力用!C27)","v":""},null,null,null,null,"-",{"$f":"IF(入力用!E27=\"\",\"\",入力用!E27)","v":""},null,null,null,null,"-",{"$f":"IF(入力用!H27=\"\",\"\",入力用!H27)","v":""},null,null,null,null,")"]
[]
[null,"受　電\n希望日",null,null,null,null,null,null,null,null,null,null,null,null,null,null,null,null,null,null,null,null,null,null,null,null,null,null,null,null,null,"契約種別",null,null,null,null,null,null,null,null,null,null,null,null,null,null,null,null,null,null,null,null,null,null,null,null,null,null,null,null,null,null,null,"供給電気\n方 式 ・\n供給電圧",null,null,null,null,{"$f":"IF(入力用!O32=2,入力用!Q6,IF(入力用!O32=3,入力用!Q7,IF(入力用!O32=4,入力用!Q8,IF(入力用!O32=5,入力用!Q9,\"\"))))","v":""},null,null,null,null,null,null,null,null,null,null,null,null,null,null,null,null,"電設Ｎｅｔ\n申込",null,null,null,null,{"$f":"IF(入力用!O28=2,入力用!S11,IF(入力用!O28=3,入力用!S12,\"\"))","v":""}]
[]
[null,null,null,null,null,null,null,null,null,null,null,null,null,null,null,null,null,null,null,null,null,null,null,null,null,null,null,null,null,null,null,null,null,null,{"$f":"入力用!P29","v":""}]
[]
[null,null,null,null,null,null,null,null,null,null,null,null,null,null,null,null,null,null,null,null,null,null,null,null,null,null,null,null,null,null,null,null,null,null,null,null,null,null,null,null,null,null,null,null,null,null,null,null,null,null,null,null,null,null,null,null,null,null,null,null,null,null,null,null,null,null,null,null,null,null,null,null,null,null,null,null,null,null,null,null,null,null,null,null,null,null,null,null,null,null,{"$f":"IF(入力用!C29=\"\",\"\",入力用!C29)","v":""},null,null,null,null,null,null,null,null,null,null,"受付"]
[null,null,null,null,null,null,{"$f":"IF(入力用!C30=\"\",\"\",入力用!C30)","v":""},null,null,null,null,null,null,null,null,{"$f":"IF(入力用!E30=\"\",\"\",入力用!E30)","v":""},null,null,null,null,null,null,null,{"$f":"IF(入力用!H30=\"\",\"\",入力用!H30)","v":""}]
[null,null,null,null,null,null,null,null,null,null,null,null,"年",null,null,null,null,null,null,null,"月",null,null,null,null,null,null,null,"日"]
[]
[null,"契約\n決定\n方法",null,null,null,null,{"$f":"IF(入力用!O33=2,入力用!R6,IF(入力用!O33=3,入力用!R7,\"\"))","v":""},null,null,null,null,null,null,null,null,null,null,null,null,null,null,null,"主開閉器の\n定　格　電　流",null,null,null,null,null,null,null,null,null,null,null,null,"フリーエリア\n計器払出希望\n事 業 所 名",null,null,null,null,null,null,null,{"$f":"IF(入力用!C35=\"\",\"\",入力用!C35)","v":""},null,null,null,null,null,null,null,null,null,null,null,null,null,null,null,null,null,null,null,null,null,null,"本契約前\nの臨時契\n約の有無",null,null,null,null,{"$f":"IF(入力用!O36=2,入力用!S6,IF(入力用!O36=3,入力用!S7,\"\"))","v":""},null,null,null,"臨時受付№(",null,null,null,null,null,null,null,null,null,null,null,")"]
[null,null,null,null,null,null,null,null,null,null,null,null,null,null,null,null,null,null,null,null,null,null,null,null,null,null,null,null,{"$f":"IF(入力用!C34=\"\",\"\",入力用!C34)","v":""}]
[]
[]
[null,null,null,null,null,null,null,null,null,null,null,null,null,null,null,null,null,null,null,null,null,null,null,null,null,null,null,null,null,null,null,null,null,"Ａ"]
[]
[null,"ホット\nタイム",null,null,null,null,"検　知　制　御　装　置",null,null,null,null,null,null,null,null,null,null,null,null,null,null,null,null,null,null,null,null,null,null,null,null,null,null,null,null,null,null,null,null,"通　電　遮　断　パ　タ　ー　ン",null,null,null,null,null,null,null,null,null,null,null,null,null,null,null,null,null,null,null,null,null,null,null,"最低使用期間"]
[]
[null,null,null,null,null,null,"メーカー",null,null,null,null,null,"型　　式",null,null,null,null,null,null,null,null,null,null,null,null,null,null,"種　類",null,null,null,null,null,null,null,null,null,null,null,{"$f":"IF(入力用!C40=\"\",\"\",入力用!C40)","v":""},null,null,null,"時",null,{"$f":"IF(入力用!E40=\"\",\"\",IF(入力用!E40=\"0\",\"00\",入力用!E40))","v":""},null,null,null,"分から",null,null,null,{"$f":"IF(入力用!C41=\"\",\"\",入力用!C41)","v":""},null,null,null,{"$f":"IF(入力用!O40=2,入力用!U6,IF(入力用!O40=3,入力用!U7,\"\"))&\" \"&IF(入力用!O40=2,入力用!V6,IF(入力用!O40=3,入力用!V7,\"\"))","v":" "},null,null,null,null,null,"開始月",null,null,null,null,null,"終了月"]
[]
[null,null,null,null,null,null,{"$f":"IF(入力用!C37=\"\",\"\",入力用!C37)","v":""},null,null,null,null,null,{"$f":"IF(入力用!C38=\"\",\"\",入力用!C38)","v":""},null,null,null,null,null,null,null,null,null,null,null,null,null,null,{"$f":"IF(入力用!O39=2,入力用!T6,IF(入力用!O39=3,入力用!T7,IF(入力用!O39=4,入力用!T8,\"\")))","v":""},null,null,null,null,null,null,null,null,null,null,null,null,null,null,null,null,null,null,null,null,null,null,null,null,null,null,null,null,null,null,null,null,null,null,null,{"$f":"IF(入力用!C42=\"\",\"\",入力用!C42)","v":""},null,null,"月分",null,null,{"$f":"IF(AND(入力用!O31>4,入力用!O31<9),IF(BL59>10,BL59-10,BL59+2),IF(入力用!O31=9,IF(BL59>7,BL59-7,BL59+5),\"\"))","v":""},null,null,"月分"]
[]
[null,"契約負荷設備内訳",null,null,null,null,"機 器 種 別",null,null,null,null,null,null,null,null,"メーカー",null,null,null,null,null,"型　　式",null,null,null,null,null,null,null,null,null,null,null,null,"通電制御・検知制御",null,null,null,null,null,null,null,null,null,"出　力",null,null,null,null,null,null,null,null,"入　力（ａ）",null,null,null,null,null,null,null,"力　率",null,null,null,null,null,null,null,"台数(ｂ)",null,null,null,null,null,"合計（ａ×ｂ）"]
[]
[null,null,null,null,null,null,{"$f":"IF(入力用!C43=\"\",\"\",入力用!C43)","v":""},null,null,null,null,null,null,null,null,{"$f":"IF(入力用!C44=\"\",\"\",入力用!C44)","v":""},null,null,null,null,null,{"$f":"IF(入力用!C45=\"\",\"\",入力用!C45)","v":""},null,null,null,null,null,null,null,null,null,null,null,null,{"$f":"IF(入力用!O46=2,入力用!W6,IF(入力用!O46=3,入力用!W7,\"\"))","v":""},null,null,null,null,null,null,null,null,null,{"$f":"IF(入力用!C47=\"\",\"\",入力用!C47)","v":""},null,null,null,null,null,{"$f":"IF(入力用!O47=2,入力用!X6,IF(入力用!O47=3,入力用!X7,\"㏋\nkW\"))","v":"㏋\nkW"},null,null,{"$f":"IF(入力用!P46=0,\"\",入力用!P46)","v":""},null,null,null,null,null,"kW",null,{"$f":"IF(入力用!O49=2,入力用!Y6,IF(入力用!O49=3,入力用!Y7,IF(入力用!O49=4,入力用!Y8,IF(入力用!O49=5,入力用!Y9,\"\"))))","v":""},null,null,null,null,null,null,null,{"$f":"IF(入力用!C50=\"\",\"\",入力用!C50)","v":""},null,null,null,"台",null,{"$f":"入力用!P47","v":""},null,null,null,null,null,"kW"]
[]
[]
[null,null,null,null,null,null,{"$f":"IF(入力用!C51=\"\",\"\",入力用!C51)","v":""},null,null,null,null,null,null,null,null,{"$f":"IF(入力用!C52=\"\",\"\",入力用!C52)","v":""},null,null,null,null,null,{"$f":"IF(入力用!C53=\"\",\"\",入力用!C53)","v":""},null,null,null,null,null,null,null,null,null,null,null,null,{"$f":"IF(入力用!O54=2,入力用!W6,IF(入力用!O54=3,入力用!W7,\"\"))","v":""},null,null,null,null,null,null,null,null,null,{"$f":"IF(入力用!C55=\"\",\"\",入力用!C55)","v":""},null,null,null,null,null,{"$f":"IF(入力用!O55=2,入力用!X6,IF(入力用!O55=3,入力用!X7,\"㏋\nkW\"))","v":"㏋\nkW"},null,null,{"$f":"IF(入力用!P54=0,\"\",入力用!P54)","v":""},null,null,null,null,null,"kW",null,{"$f":"IF(入力用!O57=2,入力用!Y6,IF(入力用!O57=3,入力用!Y7,IF(入力用!O57=4,入力用!Y8,IF(入力用!O57=5,入力用!Y9,\"\"))))","v":""},null,null,null,null,null,null,null,{"$f":"IF(入力用!C58=\"\",\"\",入力用!C58)","v":""},null,null,null,"台",null,{"$f":"入力用!P55","v":""},null,null,null,null,null,"kW"]
[]
[]
[null,null,null,null,null,null,{"$f":"IF(入力用!C59=\"\",\"\",入力用!C59)","v":""},null,null,null,null,null,null,null,null,{"$f":"IF(入力用!C60=\"\",\"\",入力用!C60)","v":""},null,null,null,null,null,{"$f":"IF(入力用!C61=\"\",\"\",入力用!C61)","v":""},null,null,null,null,null,null,null,null,null,null,null,null,{"$f":"IF(入力用!O62=2,入力用!W6,IF(入力用!O62=3,入力用!W7,\"\"))","v":""},null,null,null,null,null,null,null,null,null,{"$f":"IF(入力用!C63=\"\",\"\",入力用!C63)","v":""},null,null,null,null,null,{"$f":"IF(入力用!O63=2,入力用!X6,IF(入力用!O63=3,入力用!X7,\"㏋\nkW\"))","v":"㏋\nkW"},null,null,{"$f":"IF(入力用!P62=0,\"\",入力用!P62)","v":""},null,null,null,null,null,"kW",null,{"$f":"IF(入力用!O65=2,入力用!Y6,IF(入力用!O65=3,入力用!Y7,IF(入力用!O65=4,入力用!Y8,IF(入力用!O65=5,入力用!Y9,\"\"))))","v":""},null,null,null,null,null,null,null,{"$f":"IF(入力用!C66=\"\",\"\",入力用!C66)","v":""},null,null,null,"台",null,{"$f":"入力用!P63","v":""},null,null,null,null,null,"kW"]
[]
[]
[null,null,null,null,null,null,{"$f":"IF(入力用!C67=\"\",\"\",入力用!C67)","v":""},null,null,null,null,null,null,null,null,{"$f":"IF(入力用!C68=\"\",\"\",入力用!C68)","v":""},null,null,null,null,null,{"$f":"IF(入力用!C69=\"\",\"\",入力用!C69)","v":""},null,null,null,null,null,null,null,null,null,null,null,null,{"$f":"IF(入力用!O70=2,入力用!W6,IF(入力用!O70=3,入力用!W7,\"\"))","v":""},null,null,null,null,null,null,null,null,null,{"$f":"IF(入力用!C71=\"\",\"\",入力用!C71)","v":""},null,null,null,null,null,{"$f":"IF(入力用!O71=2,入力用!X6,IF(入力用!O71=3,入力用!X7,\"㏋\nkW\"))","v":"㏋\nkW"},null,null,{"$f":"IF(入力用!P70=0,\"\",入力用!P70)","v":""},null,null,null,null,null,"kW",null,{"$f":"IF(入力用!O73=2,入力用!Y6,IF(入力用!O73=3,入力用!Y7,IF(入力用!O73=4,入力用!Y8,IF(入力用!O73=5,入力用!Y9,\"\"))))","v":""},null,null,null,null,null,null,null,{"$f":"IF(入力用!C74=\"\",\"\",入力用!C74)","v":""},null,null,null,"台",null,{"$f":"入力用!P71","v":""},null,null,null,null,null,"kW"]
[]
[]
[null,null,null,null,null,null,{"$f":"IF(入力用!C75=\"\",\"\",入力用!C75)","v":""},null,null,null,null,null,null,null,null,{"$f":"IF(入力用!C76=\"\",\"\",入力用!C76)","v":""},null,null,null,null,null,{"$f":"IF(入力用!C77=\"\",\"\",入力用!C77)","v":""},null,null,null,null,null,null,null,null,null,null,null,null,{"$f":"IF(入力用!O78=2,入力用!W6,IF(入力用!O78=3,入力用!W7,\"\"))","v":""},null,null,null,null,null,null,null,null,null,{"$f":"IF(入力用!C79=\"\",\"\",入力用!C79)","v":""},null,null,null,null,null,{"$f":"IF(入力用!O79=2,入力用!X6,IF(入力用!O79=3,入力用!X7,\"㏋\nkW\"))","v":"㏋\nkW"},null,null,{"$f":"IF(入力用!P78=0,\"\",入力用!P78)","v":""},null,null,null,null,null,"kW",null,{"$f":"IF(入力用!O81=2,入力用!Y6,IF(入力用!O81=3,入力用!Y7,IF(入力用!O81=4,入力用!Y8,IF(入力用!O81=5,入力用!Y9,\"\"))))","v":""},null,null,null,null,null,null,null,{"$f":"IF(入力用!C82=\"\",\"\",入力用!C82)","v":""},null,null,null,"台",null,{"$f":"入力用!P79","v":""},null,null,null,null,null,"kW"]
[]
[]
[null,null,null,null,null,null,{"$f":"IF(入力用!C83=\"\",\"\",入力用!C83)","v":""},null,null,null,null,null,null,null,null,{"$f":"IF(入力用!C84=\"\",\"\",入力用!C84)","v":""},null,null,null,null,null,{"$f":"IF(入力用!C85=\"\",\"\",入力用!C85)","v":""},null,null,null,null,null,null,null,null,null,null,null,null,{"$f":"IF(入力用!O86=2,入力用!W6,IF(入力用!O86=3,入力用!W7,\"\"))","v":""},null,null,null,null,null,null,null,null,null,{"$f":"IF(入力用!C87=\"\",\"\",入力用!C87)","v":""},null,null,null,null,null,{"$f":"IF(入力用!O87=2,入力用!X6,IF(入力用!O87=3,入力用!X7,\"㏋\nkW\"))","v":"㏋\nkW"},null,null,{"$f":"IF(入力用!P86=0,\"\",入力用!P86)","v":""},null,null,null,null,null,"kW",null,{"$f":"IF(入力用!O89=2,入力用!Y6,IF(入力用!O89=3,入力用!Y7,IF(入力用!O89=4,入力用!Y8,IF(入力用!O89=5,入力用!Y9,\"\"))))","v":""},null,null,null,null,null,null,null,{"$f":"IF(入力用!C90=\"\",\"\",入力用!C90)","v":""},null,null,null,"台",null,{"$f":"入力用!P87","v":""},null,null,null,null,null,"kW"]
[]
[]
[null,null,null,null,null,null,{"$f":"IF(入力用!C91=\"\",\"\",入力用!C91)","v":""},null,null,null,null,null,null,null,null,{"$f":"IF(入力用!C92=\"\",\"\",入力用!C92)","v":""},null,null,null,null,null,{"$f":"IF(入力用!C93=\"\",\"\",入力用!C93)","v":""},null,null,null,null,null,null,null,null,null,null,null,null,{"$f":"IF(入力用!O94=2,入力用!W6,IF(入力用!O94=3,入力用!W7,\"\"))","v":""},null,null,null,null,null,null,null,null,null,{"$f":"IF(入力用!C95=\"\",\"\",入力用!C95)","v":""},null,null,null,null,null,{"$f":"IF(入力用!O95=2,入力用!X6,IF(入力用!O95=3,入力用!X7,\"㏋\nkW\"))","v":"㏋\nkW"},null,null,{"$f":"IF(入力用!P94=0,\"\",入力用!P94)","v":""},null,null,null,null,null,"kW",null,{"$f":"IF(入力用!O97=2,入力用!Y6,IF(入力用!O97=3,入力用!Y7,IF(入力用!O97=4,入力用!Y8,IF(入力用!O97=5,入力用!Y9,\"\"))))","v":""},null,null,null,null,null,null,null,{"$f":"IF(入力用!C98=\"\",\"\",入力用!C98)","v":""},null,null,null,"台",null,{"$f":"入力用!P95","v":""},null,null,null,null,null,"kW"]
[]
[]
[null,null,null,null,null,null,{"$f":"IF(入力用!C99=\"\",\"\",入力用!C99)","v":""},null,null,null,null,null,null,null,null,{"$f":"IF(入力用!C100=\"\",\"\",入力用!C100)","v":""},null,null,null,null,null,{"$f":"IF(入力用!C101=\"\",\"\",入力用!C101)","v":""},null,null,null,null,null,null,null,null,null,null,null,null,{"$f":"IF(入力用!O102=2,入力用!W6,IF(入力用!O102=3,入力用!W7,\"\"))","v":""},null,null,null,null,null,null,null,null,null,{"$f":"IF(入力用!C103=\"\",\"\",入力用!C103)","v":""},null,null,null,null,null,{"$f":"IF(入力用!O103=2,入力用!X6,IF(入力用!O103=3,入力用!X7,\"㏋\nkW\"))","v":"㏋\nkW"},null,null,{"$f":"IF(入力用!P102=0,\"\",入力用!P102)","v":""},null,null,null,null,null,"kW",null,{"$f":"IF(入力用!O105=2,入力用!Y6,IF(入力用!O105=3,入力用!Y7,IF(入力用!O105=4,入力用!Y8,IF(入力用!O105=5,入力用!Y9,\"\"))))","v":""},null,null,null,null,null,null,null,{"$f":"IF(入力用!C106=\"\",\"\",入力用!C106)","v":""},null,null,null,"台",null,{"$f":"入力用!P103","v":""},null,null,null,null,null,"kW"]
[]
[]
[null,null,null,null,null,null,{"$f":"IF(入力用!C107=\"\",\"\",入力用!C107)","v":""},null,null,null,null,null,null,null,null,{"$f":"IF(入力用!C108=\"\",\"\",入力用!C108)","v":""},null,null,null,null,null,{"$f":"IF(入力用!C109=\"\",\"\",入力用!C109)","v":""},null,null,null,null,null,null,null,null,null,null,null,null,{"$f":"IF(入力用!O110=2,入力用!W6,IF(入力用!O110=3,入力用!W7,\"\"))","v":""},null,null,null,null,null,null,null,null,null,{"$f":"IF(入力用!C111=\"\",\"\",入力用!C111)","v":""},null,null,null,null,null,{"$f":"IF(入力用!O111=2,入力用!X6,IF(入力用!O111=3,入力用!X7,\"㏋\nkW\"))","v":"㏋\nkW"},null,null,{"$f":"IF(入力用!P110=0,\"\",入力用!P110)","v":""},null,null,null,null,null,"kW",null,{"$f":"IF(入力用!O113=2,入力用!Y6,IF(入力用!O113=3,入力用!Y7,IF(入力用!O113=4,入力用!Y8,IF(入力用!O113=5,入力用!Y9,\"\"))))","v":""},null,null,null,null,null,null,null,{"$f":"IF(入力用!C114=\"\",\"\",入力用!C114)","v":""},null,null,null,"台",null,{"$f":"入力用!P111","v":""},null,null,null,null,null,"kW"]
[]
[]
[null,null,null,null,null,null,{"$f":"IF(入力用!C115=\"\",\"\",入力用!C115)","v":""},null,null,null,null,null,null,null,null,{"$f":"IF(入力用!C116=\"\",\"\",入力用!C116)","v":""},null,null,null,null,null,{"$f":"IF(入力用!C117=\"\",\"\",入力用!C117)","v":""},null,null,null,null,null,null,null,null,null,null,null,null,{"$f":"IF(入力用!O118=2,入力用!W6,IF(入力用!O118=3,入力用!W7,\"\"))","v":""},null,null,null,null,null,null,null,null,null,{"$f":"IF(入力用!C119=\"\",\"\",入力用!C119)","v":""},null,null,null,null,null,{"$f":"IF(入力用!O119=2,入力用!X6,IF(入力用!O119=3,入力用!X7,\"㏋\nkW\"))","v":"㏋\nkW"},null,null,{"$f":"IF(入力用!P118=0,\"\",入力用!P118)","v":""},null,null,null,null,null,"kW",null,{"$f":"IF(入力用!O121=2,入力用!Y6,IF(入力用!O121=3,入力用!Y7,IF(入力用!O121=4,入力用!Y8,IF(入力用!O121=5,入力用!Y9,\"\"))))","v":""},null,null,null,null,null,null,null,{"$f":"IF(入力用!C122=\"\",\"\",入力用!C122)","v":""},null,null,null,"台",null,{"$f":"入力用!P119","v":""},null,null,null,null,null,"kW"]
[]
[]
[null,null,null,null,null,null,{"$f":"IF(入力用!C123=\"\",\"\",入力用!C123)","v":""},null,null,null,null,null,null,null,null,{"$f":"IF(入力用!C124=\"\",\"\",入力用!C124)","v":""},null,null,null,null,null,{"$f":"IF(入力用!C125=\"\",\"\",入力用!C125)","v":""},null,null,null,null,null,null,null,null,null,null,null,null,{"$f":"IF(入力用!O126=2,入力用!W6,IF(入力用!O126=3,入力用!W7,\"\"))","v":""},null,null,null,null,null,null,null,null,null,{"$f":"IF(入力用!C127=\"\",\"\",入力用!C127)","v":""},null,null,null,null,null,{"$f":"IF(入力用!O127=2,入力用!X6,IF(入力用!O127=3,入力用!X7,\"㏋\nkW\"))","v":"㏋\nkW"},null,null,{"$f":"IF(入力用!P126=0,\"\",入力用!P126)","v":""},null,null,null,null,null,"kW",null,{"$f":"IF(入力用!O129=2,入力用!Y6,IF(入力用!O129=3,入力用!Y7,IF(入力用!O129=4,入力用!Y8,IF(入力用!O129=5,入力用!Y9,\"\"))))","v":""},null,null,null,null,null,null,null,{"$f":"IF(入力用!C130=\"\",\"\",入力用!C130)","v":""},null,null,null,"台",null,{"$f":"入力用!P127","v":""},null,null,null,null,null,"kW"]
[]
[]
[null,null,null,null,null,null,{"$f":"IF(入力用!C131=\"\",\"\",入力用!C131)","v":""},null,null,null,null,null,null,null,null,{"$f":"IF(入力用!C132=\"\",\"\",入力用!C132)","v":""},null,null,null,null,null,{"$f":"IF(入力用!C133=\"\",\"\",入力用!C133)","v":""},null,null,null,null,null,null,null,null,null,null,null,null,{"$f":"IF(入力用!O134=2,入力用!W6,IF(入力用!O134=3,入力用!W7,\"\"))","v":""},null,null,null,null,null,null,null,null,null,{"$f":"IF(入力用!C135=\"\",\"\",入力用!C135)","v":""},null,null,null,null,null,{"$f":"IF(入力用!O135=2,入力用!X6,IF(入力用!O135=3,入力用!X7,\"㏋\nkW\"))","v":"㏋\nkW"},null,null,{"$f":"IF(入力用!P134=0,\"\",入力用!P134)","v":""},null,null,null,null,null,"kW",null,{"$f":"IF(入力用!O137=2,入力用!Y6,IF(入力用!O137=3,入力用!Y7,IF(入力用!O137=4,入力用!Y8,IF(入力用!O137=5,入力用!Y9,\"\"))))","v":""},null,null,null,null,null,null,null,{"$f":"IF(入力用!C138=\"\",\"\",入力用!C138)","v":""},null,null,null,"台",null,{"$f":"入力用!P135","v":""},null,null,null,null,null,"kW"]
[]
[]
[null,null,null,null,null,null,{"$f":"IF(入力用!C139=\"\",\"\",入力用!C139)","v":""},null,null,null,null,null,null,null,null,{"$f":"IF(入力用!C140=\"\",\"\",入力用!C140)","v":""},null,null,null,null,null,{"$f":"IF(入力用!C141=\"\",\"\",入力用!C141)","v":""},null,null,null,null,null,null,null,null,null,null,null,null,{"$f":"IF(入力用!O142=2,入力用!W6,IF(入力用!O142=3,入力用!W7,\"\"))","v":""},null,null,null,null,null,null,null,null,null,{"$f":"IF(入力用!C143=\"\",\"\",入力用!C143)","v":""},null,null,null,null,null,{"$f":"IF(入力用!O143=2,入力用!X6,IF(入力用!O143=3,入力用!X7,\"㏋\nkW\"))","v":"㏋\nkW"},null,null,{"$f":"IF(入力用!P142=0,\"\",入力用!P142)","v":""},null,null,null,null,null,"kW",null,{"$f":"IF(入力用!O145=2,入力用!Y6,IF(入力用!O145=3,入力用!Y7,IF(入力用!O145=4,入力用!Y8,IF(入力用!O145=5,入力用!Y9,\"\"))))","v":""},null,null,null,null,null,null,null,{"$f":"IF(入力用!C146=\"\",\"\",入力用!C146)","v":""},null,null,null,"台",null,{"$f":"入力用!P143","v":""},null,null,null,null,null,"kW"]
[]
[]
[null,null,null,null,null,null,{"$f":"IF(入力用!C147=\"\",\"\",入力用!C147)","v":""},null,null,null,null,null,null,null,null,{"$f":"IF(入力用!C148=\"\",\"\",入力用!C148)","v":""},null,null,null,null,null,{"$f":"IF(入力用!C149=\"\",\"\",入力用!C149)","v":""},null,null,null,null,null,null,null,null,null,null,null,null,{"$f":"IF(入力用!O150=2,入力用!W6,IF(入力用!O150=3,入力用!W7,\"\"))","v":""},null,null,null,null,null,null,null,null,null,{"$f":"IF(入力用!C151=\"\",\"\",入力用!C151)","v":""},null,null,null,null,null,{"$f":"IF(入力用!O151=2,入力用!X6,IF(入力用!O151=3,入力用!X7,\"㏋\nkW\"))","v":"㏋\nkW"},null,null,{"$f":"IF(入力用!P150=0,\"\",入力用!P150)","v":""},null,null,null,null,null,"kW",null,{"$f":"IF(入力用!O153=2,入力用!Y6,IF(入力用!O153=3,入力用!Y7,IF(入力用!O153=4,入力用!Y8,IF(入力用!O153=5,入力用!Y9,\"\"))))","v":""},null,null,null,null,null,null,null,{"$f":"IF(入力用!C154=\"\",\"\",入力用!C154)","v":""},null,null,null,"台",null,{"$f":"入力用!P151","v":""},null,null,null,null,null,"kW"]
[]
[]
[null,null,null,null,null,null,null,null,null,null,null,null,null,null,null,null,null,null,null,null,null,null,null,null,null,null,null,null,null,null,null,null,null,null,"通電制御･検知制御割引対象率",null,null,null,null,null,null,null,null,null,null,null,null,null,null,null,null,null,null,null,null,null,null,null,null,null,null,"力　率",null,null,null,null,null,null,null,"合計台数",null,null,null,null,null,"入力合計",null,null,null,null,null,null,null,null,"契約電力",null,null,null,null,null,null,null,{"$f":"IF(入力用!R33=0,\"\",入力用!R33)","v":""}]
[]
[null,null,null,null,null,null,null,null,null,null,null,null,null,null,null,null,null,null,null,null,null,null,null,null,null,null,null,null,null,null,null,null,null,null,{"$f":"IF(OR(ISERR(入力用!R35),入力用!R35=0),\"\",入力用!R35)","v":""},null,null,null,null,null,"kW",null,null,"/",null,{"$f":"IF(BX107=\"\",\"\",BX107)","v":""},null,null,null,null,null,"kW",null,null,{"$f":"IF(ISERR(AI107/AT107),\"\",ROUND(AI107/AT107,2)*100)","v":""},null,null,null,null,"%",null,"85％",null,null,null,{"$f":"IF(入力用!O33=2,\"超過\",IF(入力用!R31=\"\",\"超過\n未満\",IF(入力用!R31>0.85,\"超過\",IF(入力用!R31<0.85,\"未満\",\"\"))))","v":"超過\n未満"},null,null,null,{"$f":"IF(SUM(BR63:BU104)=0,\"\",SUM(BR63:BU104))","v":""},null,null,null,"台",null,{"$f":"IF(入力用!R38+入力用!R39=0,\"\",入力用!R38+入力用!R39)","v":""},null,null,null,null,null,"ｋＷ"]
[null,null,null,null,null,null,null,null,null,null,null,null,null,null,null,null,null,null,null,null,null,null,null,null,null,null,null,null,null,null,null,null,null,null,null,null,null,null,null,null,null,null,null,null,null,null,null,null,null,null,null,null,null,null,null,null,null,null,null,null,null,null,null,null,null,null,null,null,null,null,null,null,null,null,null,null,null,null,null,null,null,null,null,null,null,null,null,null,null,null,null,null,null,null,null,null,null,"ｋＷ"]
[]
[null,"異動種別",null,null,"・新設　　 　・減少　 　　　・転出",null,null,null,null,null,null,null,null,null,null,null,null,null,null,null,null,null,null,null,null,null,null,null,"供給地点特定番号",null,null,null,null,null,null,null,"発行\n回数",null,null,"支店",null,"ﾌﾞﾛｯｸ",null,null,"住所",null,null,null,null,"街区",null,null,"契約№",null,null,null,null,"枝番",null,null,"種別",null,null,null,null,null,"送電日\n（異動日）"]
[]
[null,null,null,null,"・種変(+)　　・設備撤去　　・名義変更"]
[]
[null,null,null,null,"・ｺｰﾄﾞ変(+)　・設備変更　　 ・その他",null,null,null,null,null,null,null,null,null,null,null,null,null,null,null,null,null,null,null,null,null,null,null,null,null,null,"010",null,null,null,null,null,null,null,null,null,null,null,null,null,null,null,null,null,null,null,null,null,null,null,null,null,null,null,null,{"$f":"'３枚目'!AI41","v":""},null,null,"00"]
[]
[null,null,null,null,"・増加　　 　・転入　　　　（　　　　）",null,null,null,null,null,null,null,null,null,null,null,null,null,null,null,null,null,null,null,null,null,null,null,null,null,null,null,null,null,null,null,null,null,null,null,null,null,null,null,null,null,null,null,null,null,null,null,null,null,null,null,null,null,null,null,null,null,null,null,null,null,null,null,null,null,null,"年",null,null,null,"月",null,null,null,"日"]
[]
[]
[null,"　※　太枠内をご記入願います。"]
[]
[null,"　※　ご契約名義またはお支払方法変更をご希望の場合は，カスタマーサービスセンター（0120-680-340）までご連絡ください。"]
[]
[null,"　※　ご提供いただいた個人情報は，電気事業の範囲内で利用いたします。"]
[]
[]
[null,null,"拝啓　平素は弊社事業に格別のお引き立てを賜り，厚くお礼申し上げます。０１２３４５６７８９０１２３４５６７８９０１２３４５６"]
[]
[]
[null,null,"　さて，この度お客さまの電気ご使用につきまして，本申込書記載の内容にてご契約させていただきましたことをお知らせいたします。"]
[]
[]
[null,null,"　なお，上記契約負荷設備は，申込書記載の電気工事会社様によって最終確認いただいておりますが，機器型式および容量等の相違によ"]
[]
[]
[null,null,"り，お客さまおよび弊社の各設備に悪影響を及ぼす恐れがあり，また電気料金が変更となる場合がございますので，大変お手数ではござ"]
[]
[]
[null,null,"いますが，別途送付いたします「ご契約内容のお知らせについて」とともに，内容をご確認いただきますようお願いいたします。０１２"]
[]
[]
[null,null,"０１２３４５６７８９０１２３４５６７８９０１２３４５６７８９０１２３４５６７８９０１２３４５６７８９０１２３４５６７敬具８"]
[]
[]
[]
[null,"＜連絡事項＞"]
[]
[]
[]
[]
[]
[]
[]
[]
[]
[]
[]
[]
[]
[]
[]
[]
[]
["北　海　道　電　力　ネ　ッ　ト　ワ　ー　ク　株　式　会　社"]

{"sheet":"３枚目","index":3,"n_rows":173,"n_cols":111,"rows_kept":173,"cut":false,"hidden":false,"merged":[[1,93,5,109],[151,101,158,102],[151,103,158,110],[33,11,39,20],[125,15,132,23],[92,34,94,43],[86,34,88,43],[92,59,94,60],[80,75,82,80],[89,75,91,80],[83,73,85,74],[86,75,88,80],[86,73,88,74],[46,28,47,30],[40,31,47,33],[40,34,41,62],[80,44,82,49],[77,44,79,49],[74,53,76,58],[89,61,91,68],[68,69,70,72],[109,31,112,35],[40,63,47,67],[40,68,47,84],[42,34,47,62],[33,61,34,62],[74,50,76,52],[71,53,73,58],[95,75,97,80],[83,81,85,83],[86,81,88,83],[92,81,94,83],[74,81,76,83],[80,73,82,74],[65,73,67,74],[68,73,70,74],[74,73,76,74],[92,50,94,52],[71,69,73,72],[71,81,73,83],[109,75,114,78],[109,60,112,62],[109,57,112,59],[89,73,91,74],[86,53,88,58],[89,50,91,52],[98,6,100,14],[65,69,67,72],[65,59,67,60],[86,59,88,60],[89,59,91,60],[83,69,85,72],[83,61,85,68],[89,69,91,72],[86,69,88,72],[80,69,82,72],[65,44,67,49],[83,59,85,60],[77,59,79,60],[80,59,82,60],[71,59,73,60],[86,50,88,52],[80,50,82,52],[83,44,85,49],[89,53,91,58],[92,53,94,58],[80,53,82,58],[83,53,85,58],[77,34,79,43],[92,21,94,33],[80,21,82,33],[83,21,85,33],[83,34,85,43],[86,21,88,33],[89,21,91,33],[89,34,91,43],[77,21,79,33],[83,50,85,52],[80,34,82,43],[92,44,94,49],[89,44,91,49],[65,61,67,68],[101,61,103,68],[95,21,97,33],[106,45,108,50],[106,34,108,39],[98,44,100,49],[98,50,100,52],[101,53,103,58],[106,43,108,44],[104,34,105,60],[71,34,73,43],[74,34,76,43],[71,21,73,33],[74,21,76,33],[65,50,67,52],[68,34,70,43],[68,44,70,49],[74,44,76,49],[77,50,79,52],[86,44,88,49],[98,59,100,60],[98,21,100,33],[95,59,97,60],[71,44,73,49],[101,44,103,49],[101,50,103,52],[95,53,97,58],[95,61,97,68],[98,61,100,68],[104,61,105,68],[106,65,108,68],[101,59,103,60],[106,61,108,64],[106,54,108,58],[98,53,100,58],[95,44,97,49],[95,50,97,52],[106,51,108,53],[113,39,116,40],[117,45,118,50],[121,19,122,37],[109,44,112,48],[117,51,118,69],[117,4,118,10],[113,41,116,43],[111,4,112,27],[113,31,116,35],[119,51,120,69],[117,19,118,30],[106,59,108,60],[113,52,116,56],[117,38,118,44],[113,57,116,59],[109,52,112,56],[109,49,112,51],[109,39,112,40],[109,63,112,65],[113,63,116,65],[109,66,116,70],[113,36,116,38],[31,89,32,92],[31,93,32,97],[31,105,32,109],[31,110,32,110],[56,69,57,74],[38,110,39,110],[38,86,39,88],[38,89,39,92],[38,93,39,97],[38,98,39,98],[38,99,39,103],[38,104,39,104],[55,101,62,102],[55,103,62,110],[47,101,54,102],[38,105,39,109],[61,92,63,95],[61,96,63,99],[33,63,34,80],[27,64,32,68],[38,80,39,80],[47,103,54,110],[48,75,50,81],[58,72,59,74],[31,98,32,98],[31,99,32,103],[24,23,26,63],[27,69,30,74],[27,75,30,110],[98,73,100,74],[71,75,73,80],[71,73,73,74],[68,59,70,60],[68,61,70,68],[74,69,76,72],[77,73,79,74],[77,69,79,72],[86,61,88,68],[74,61,76,68],[80,61,82,68],[74,75,76,80],[83,75,85,80],[77,75,79,80],[77,61,79,68],[71,61,73,68],[92,75,94,80],[92,61,94,68],[95,73,97,74],[16,19,17,19],[16,20,17,20],[30,55,32,55],[30,47,32,54],[33,46,39,50],[38,75,39,79],[38,74,39,74],[30,39,32,45],[31,69,32,74],[31,75,32,88],[38,59,39,62],[33,81,39,85],[35,35,36,35],[35,36,36,36],[35,37,36,37],[35,38,36,38],[35,39,36,39],[35,40,36,40],[35,41,36,41],[35,42,36,42],[35,43,36,43],[22,47,23,63],[30,56,32,63],[21,69,22,74],[60,53,61,60],[68,53,70,58],[33,6,39,10],[33,21,39,25],[37,26,39,45],[30,29,32,35],[24,11,26,12],[22,11,23,19],[22,20,23,38],[22,39,23,46],[24,13,26,15],[24,16,26,16],[24,17,26,20],[30,46,32,46],[30,21,32,27],[30,28,32,28],[35,33,36,33],[35,34,36,34],[35,44,36,44],[35,45,36,45],[35,26,36,26],[35,27,36,27],[35,28,36,28],[117,11,118,18],[113,4,114,27],[71,103,78,110],[71,101,78,102],[87,103,94,110],[79,103,86,110],[103,103,110,110],[95,103,102,110],[103,101,110,102],[79,101,86,102],[95,101,102,102],[87,101,94,102],[104,75,105,83],[98,81,100,83],[101,81,103,83],[101,73,103,74],[101,69,103,72],[106,75,108,80],[106,69,108,72],[95,81,97,83],[89,81,91,83],[109,71,114,74],[115,71,116,74],[113,60,116,62],[115,4,116,27],[60,1,103,5],[98,15,100,20],[101,15,103,20],[71,6,73,14],[74,6,76,14],[60,6,61,14],[109,36,112,38],[101,6,103,14],[109,4,110,27],[62,6,64,14],[65,6,67,14],[68,6,70,14],[109,28,116,30],[60,34,61,43],[106,40,108,42],[98,34,100,43],[86,6,88,14],[77,15,79,20],[80,15,82,20],[170,94,171,96],[170,97,171,99],[170,84,171,87],[168,80,171,83],[164,80,167,83],[129,97,132,99],[129,94,132,96],[98,69,100,72],[106,73,108,74],[104,69,105,74],[170,88,171,93],[164,84,165,99],[166,84,169,85],[166,86,167,89],[166,90,167,99],[168,86,169,89],[168,90,169,99],[104,84,108,91],[98,75,100,80],[107,97,108,99],[101,75,103,80],[115,75,116,78],[106,81,108,83],[129,91,132,93],[95,15,97,20],[92,15,94,20],[89,15,91,20],[95,6,97,14],[89,6,91,14],[101,21,103,33],[60,15,61,20],[62,15,64,20],[65,15,67,20],[68,15,70,20],[71,15,73,20],[62,21,64,33],[65,21,67,33],[68,21,70,33],[60,21,61,33],[74,15,76,20],[83,15,85,20],[86,15,88,20],[92,6,94,14],[83,6,85,14],[77,6,79,14],[80,6,82,14],[6,0,9,110],[109,1,116,3],[65,34,67,43],[60,61,61,68],[62,34,64,43],[101,34,103,43],[64,85,66,91],[67,92,69,99],[62,81,64,83],[62,75,64,80],[65,81,67,83],[67,85,69,91],[61,85,63,91],[60,75,61,83],[65,75,67,80],[95,34,97,43],[104,92,108,96],[89,85,96,91],[77,81,79,83],[80,81,82,83],[16,11,17,17],[56,43,59,44],[48,6,53,21],[56,6,57,11],[135,101,142,102],[111,101,118,102],[111,103,118,110],[127,101,134,102],[127,103,134,110],[119,101,126,102],[143,103,150,110],[135,103,142,110],[143,101,150,102],[119,103,126,110],[129,85,132,87],[129,88,132,90],[125,91,128,93],[125,88,128,90],[125,85,128,87],[117,70,118,87],[119,88,124,99],[117,88,118,99],[121,70,122,87],[123,70,124,87],[125,97,128,99],[125,94,128,96],[145,1,147,16],[115,79,116,82],[109,79,114,82],[119,70,120,87],[125,79,132,81],[128,39,129,56],[125,24,132,26],[125,82,128,84],[129,82,132,84],[135,44,136,58],[133,59,138,61],[125,36,132,38],[133,26,134,40],[121,4,122,18],[117,1,124,3],[113,44,116,48],[123,38,124,50],[121,38,122,50],[125,12,132,14],[117,31,118,37],[113,49,116,51],[109,41,112,43],[125,39,127,56],[121,51,122,69],[131,27,132,35],[119,38,120,50],[125,27,126,35],[125,1,132,3],[133,1,138,3],[125,57,132,61],[125,62,128,78],[129,62,132,78],[135,26,136,40],[133,4,138,22],[133,41,138,43],[133,23,138,25],[137,26,138,40],[135,62,138,65],[137,44,138,58],[133,44,134,58],[129,4,132,11],[123,19,124,37],[119,19,120,37],[123,4,124,18],[125,4,128,11],[56,12,57,26],[56,63,57,68],[38,51,39,58],[38,68,39,68],[56,53,59,56],[58,63,59,65],[58,66,59,68],[56,57,59,62],[18,11,21,63],[52,33,53,34],[56,27,57,38],[35,51,37,80],[33,51,34,52],[33,53,34,55],[33,56,34,56],[33,57,34,60],[51,75,53,87],[56,45,59,48],[56,49,59,52],[58,12,59,26],[58,27,59,38],[33,86,34,110],[35,86,37,110],[38,69,39,73],[16,18,17,18],[54,6,55,38],[16,6,23,10],[24,6,29,10],[24,21,26,22],[30,6,32,10],[30,11,32,13],[30,14,32,19],[45,6,47,11],[27,11,29,63],[45,15,47,19],[46,12,47,14],[46,20,47,22],[30,36,32,38],[45,23,47,27],[30,20,32,20],[33,43,34,43],[33,44,34,44],[33,45,34,45],[35,29,36,29],[35,30,36,30],[35,31,36,31],[35,32,36,32],[16,55,17,55],[25,105,26,109],[13,69,15,84],[19,103,20,103],[19,104,20,108],[13,85,15,89],[19,90,20,99],[16,69,18,74],[16,75,18,110],[19,69,20,74],[19,75,20,89],[19,109,20,110],[19,100,20,102],[21,75,22,110],[25,104,26,104],[13,90,15,110],[23,69,24,110],[25,69,26,88],[25,89,26,92],[25,93,26,97],[25,98,26,98],[25,99,26,103],[25,110,26,110],[11,69,12,110],[89,92,92,99],[93,92,96,99],[62,44,64,49],[77,53,79,58],[161,20,171,21],[161,22,162,29],[161,30,162,51],[161,52,162,78],[163,22,171,29],[163,52,165,54],[63,103,70,110],[48,87,50,87],[48,22,53,27],[48,35,53,42],[31,104,32,104],[68,81,70,83],[48,82,50,86],[48,66,53,70],[62,61,64,68],[63,101,70,102],[64,92,66,99],[62,53,64,58],[62,59,64,60],[10,1,11,25],[12,1,13,38],[48,43,53,65],[49,28,53,32],[129,27,130,35],[130,39,132,56],[13,64,15,68],[71,50,73,52],[14,1,15,38],[16,1,39,5],[58,6,59,11],[38,63,39,67],[16,58,17,63],[40,1,47,5],[54,1,59,5],[48,1,53,5],[54,63,55,74],[58,69,59,71],[54,39,55,62],[62,50,64,52],[60,69,61,74],[62,73,64,74],[62,69,64,72],[48,71,53,74],[163,55,165,56],[166,55,168,56],[163,65,165,67],[169,55,171,56],[169,57,171,59],[169,60,171,64],[74,59,76,60],[68,75,70,80],[65,53,67,58],[169,68,171,72],[169,73,171,75],[169,76,171,78],[163,57,165,59],[166,65,168,67],[163,76,165,78],[166,57,168,59],[166,60,168,64],[166,73,168,75],[166,76,168,78],[163,60,165,64],[123,51,124,69],[92,73,94,74],[95,69,97,72],[92,69,94,72],[16,64,26,68],[16,53,17,53],[169,65,171,67],[166,68,168,72],[163,68,165,72],[163,73,165,75],[16,21,17,21],[16,22,17,22],[16,23,17,23],[16,24,17,24],[16,25,17,25],[16,26,17,26],[16,27,17,27],[16,28,17,28],[16,29,17,29],[16,30,17,30],[16,31,17,31],[16,32,17,32],[16,33,17,33],[16,34,17,34],[16,35,17,35],[16,36,17,36],[16,37,17,37],[16,38,17,38],[16,43,17,43],[16,54,17,54],[16,44,17,44],[16,45,17,45],[16,46,17,46],[16,47,17,47],[16,48,17,48],[16,49,17,49],[16,50,17,50],[16,51,17,51],[16,52,17,52],[127,27,128,35],[16,57,17,57],[33,26,34,26],[33,27,34,27],[33,28,34,28],[33,29,34,29],[33,30,34,30],[33,31,34,31],[33,32,34,32],[33,33,34,33],[33,34,34,34],[33,35,34,35],[33,36,34,36],[33,37,34,37],[33,38,34,38],[33,39,34,39],[33,40,34,40],[33,41,34,41],[33,42,34,42],[16,56,17,56],[16,39,17,39],[16,40,17,40],[16,41,17,41],[16,42,17,42],[163,30,165,51],[166,30,168,51],[169,30,171,51],[40,85,47,89],[40,90,43,99],[44,90,47,99],[139,1,143,4],[139,5,143,21],[139,22,143,25],[139,26,143,39],[139,40,143,42],[139,43,143,56],[139,57,143,62],[139,63,143,79],[139,80,143,83],[139,84,143,93],[166,52,168,54],[169,52,171,54],[56,39,59,42],[60,44,61,52],[68,50,70,52],[137,66,138,67],[119,4,120,18]]}
[]
[null,null,null,null,null,null,null,null,null,null,null,null,null,null,null,null,null,null,null,null,null,null,null,null,null,null,null,null,null,null,null,null,null,null,null,null,null,null,null,null,null,null,null,null,null,null,null,null,null,null,null,null,null,null,null,null,null,null,null,null,null,null,null,null,null,null,null,null,null,null,null,null,null,null,null,null,null,null,null,null,null,null,null,null,null,null,null,null,null,null,null,null,null,"離島等供給用"]
[]
[]
[]
[]
["深夜電力・ホットタイム電気使用申込書（ほくでんNW控）"]
[]
[]
[]
[null,"北海道電力ネットワーク株式会社　御中"]
[]
[null,"電気の使用について貴社離島等供給約款[低圧用]を承認のうえ申し込みます。"]
[null,null,null,null,null,null,null,null,null,null,null,null,null,null,null,null,null,null,null,null,null,null,null,null,null,null,null,null,null,null,null,null,null,null,null,null,null,null,null,null,null,null,null,null,null,null,null,null,null,null,null,null,null,null,null,null,null,null,null,null,null,null,null,null,"受付扱所名",null,null,null,null,null,null,null,null,null,null,null,null,null,null,null,null,null,null,null,null,"受付№"]
[]
[]
[null,"お 客 さ ま",null,null,null,null,"ご契約名義",null,null,null,null,"（フリガナ）",null,null,null,null,null,null,{"$f":"DBCS(MID(ASC(入力用!C4),1,1))","v":""},{"$f":"DBCS(MID(ASC(入力用!C4),2,1))","v":""},{"$f":"DBCS(MID(ASC(入力用!C4),3,1))","v":""},{"$f":"DBCS(MID(ASC(入力用!C4),4,1))","v":""},{"$f":"DBCS(MID(ASC(入力用!C4),5,1))","v":""},{"$f":"DBCS(MID(ASC(入力用!C4),6,1))","v":""},{"$f":"DBCS(MID(ASC(入力用!C4),7,1))","v":""},{"$f":"DBCS(MID(ASC(入力用!C4),8,1))","v":""},{"$f":"DBCS(MID(ASC(入力用!C4),9,1))","v":""},{"$f":"DBCS(MID(ASC(入力用!C4),10,1))","v":""},{"$f":"DBCS(MID(ASC(入力用!C4),11,1))","v":""},{"$f":"DBCS(MID(ASC(入力用!C4),12,1))","v":""},{"$f":"DBCS(MID(ASC(入力用!C4),13,1))","v":""},{"$f":"DBCS(MID(ASC(入力用!C4),14,1))","v":""},{"$f":"DBCS(MID(ASC(入力用!C4),15,1))","v":""},{"$f":"DBCS(MID(ASC(入力用!C4),16,1))","v":""},{"$f":"DBCS(MID(ASC(入力用!C4),17,1))","v":""},{"$f":"DBCS(MID(ASC(入力用!C4),18,1))","v":""},{"$f":"DBCS(MID(ASC(入力用!C4),19,1))","v":""},{"$f":"DBCS(MID(ASC(入力用!C4),20,1))","v":""},{"$f":"DBCS(MID(ASC(入力用!C4),21,1))","v":""},{"$f":"DBCS(MID(ASC(入力用!C4),22,1))","v":""},{"$f":"DBCS(MID(ASC(入力用!C4),23,1))","v":""},{"$f":"DBCS(MID(ASC(入力用!C4),24,1))","v":""},{"$f":"DBCS(MID(ASC(入力用!C4),25,1))","v":""},{"$f":"DBCS(MID(ASC(入力用!C4),26,1))","v":""},{"$f":"DBCS(MID(ASC(入力用!C4),27,1))","v":""},{"$f":"DBCS(MID(ASC(入力用!C4),28,1))","v":""},{"$f":"DBCS(MID(ASC(入力用!C4),29,1))","v":""},{"$f":"DBCS(MID(ASC(入力用!C4),30,1))","v":""},{"$f":"DBCS(MID(ASC(入力用!C4),31,1))","v":""},{"$f":"DBCS(MID(ASC(入力用!C4),32,1))","v":""},{"$f":"DBCS(MID(ASC(入力用!C4),33,1))","v":""},{"$f":"DBCS(MID(ASC(入力用!C4),34,1))","v":""},{"$f":"DBCS(MID(ASC(入力用!C4),35,1))","v":""},{"$f":"DBCS(MID(ASC(入力用!C4),36,1))","v":""},{"$f":"DBCS(MID(ASC(入力用!C4),37,1))","v":""},{"$f":"DBCS(MID(ASC(入力用!C4),38,1))","v":""},{"$f":"DBCS(MID(ASC(入力用!C4),39,1))","v":""},{"$f":"DBCS(MID(ASC(入力用!C4),40,1))","v":""},null,null,null,null,null,null,"電気工事会社",null,null,null,null," 会社名",null,null,null,null,null,{"$f":"IF(入力用!C12=\"\",\"\",入力用!C12)","v":""}]
[]
[null,null,null,null,null,null,null,null,null,null,null,{"$f":"IF(入力用!C5=\"\",\"\",入力用!C5)","v":""}]
[null,null,null,null,null,null,null,null,null,null,null,null,null,null,null,null,null,null,null,null,null,null,null,null,null,null,null,null,null,null,null,null,null,null,null,null,null,null,null,null,null,null,null,null,null,null,null,null,null,null,null,null,null,null,null,null,null,null,null,null,null,null,null,null,null,null,null,null,null,"(担当者)",null,null,null,null,null,{"$f":"IF(入力用!C13=\"\",\"\",入力用!C13)","v":""},null,null,null,null,null,null,null,null,null,null,null,null,null,null,"工事会社№（",null,null,null,null,null,null,null,null,null,{"$f":"IF(入力用!C14=\"\",\"\",入力用!C14)","v":""},null,null,"-",{"$f":"IF(入力用!E14=\"\",\"\",入力用!E14)","v":""},null,null,null,null,")"]
[]
[null,null,null,null,null,null,null,null,null,null,null,null,null,null,null,null,null,null,null,null,null,null,null,null,null,null,null,null,null,null,null,null,null,null,null,null,null,null,null,null,null,null,null,null,null,null,null,null,null,null,null,null,null,null,null,null,null,null,null,null,null,null,null,null,null,null,null,null,null," 住　所",null,null,null,null,null,{"$f":"LEFT(入力用!C15,24)","v":""}]
[null,null,null,null,null,null,null,null,null,null,null,"（代表者肩書）",null,null,null,null,null,null,null,null,{"$f":"IF(入力用!C6=\"\",\"\",入力用!C6)","v":""},null,null,null,null,null,null,null,null,null,null,null,null,null,null,null,null,null,null,"（代表者名）",null,null,null,null,null,null,null,{"$f":"IF(入力用!C7=\"\",\"\",入力用!C7)","v":""}]
[null,null,null,null,null,null,null,null,null,null,null,null,null,null,null,null,null,null,null,null,null,null,null,null,null,null,null,null,null,null,null,null,null,null,null,null,null,null,null,null,null,null,null,null,null,null,null,null,null,null,null,null,null,null,null,null,null,null,null,null,null,null,null,null,null,null,null,null,null,{"$f":"MID(入力用!C15,25,28)","v":""}]
[null,null,null,null,null,null,"ご使用\n場　所",null,null,null,null,"(〒",null,{"$f":"LEFT(入力用!C8,3)","v":""},null,null,"-",{"$f":"RIGHT(入力用!C8,4)","v":""},null,null,null,")",null,{"$f":"LEFT(入力用!C9,25)","v":""}]
[null,null,null,null,null,null,null,null,null,null,null,null,null,null,null,null,null,null,null,null,null,null,null,null,null,null,null,null,null,null,null,null,null,null,null,null,null,null,null,null,null,null,null,null,null,null,null,null,null,null,null,null,null,null,null,null,null,null,null,null,null,null,null,null,null,null,null,null,null,{"$f":"MID(入力用!C15,53,12)","v":""},null,null,null,null,null,null,null,null,null,null,null,null,null,null,null,null,null,null,null,"電話(",null,null,null,{"$f":"IF(入力用!C16=\"\",\"\",入力用!C16)","v":""},null,null,null,null,"-",{"$f":"IF(入力用!E16=\"\",\"\",入力用!E16)","v":""},null,null,null,null,"-",{"$f":"IF(入力用!H16=\"\",\"\",入力用!H16)","v":""},null,null,null,null,")"]
[]
[null,null,null,null,null,null,null,null,null,null,null,{"$f":"MID(入力用!C9,26,33)","v":""},null,null,null,null,null,null,null,null,null,null,null,null,null,null,null,null,null,null,null,null,null,null,null,null,null,null,null,null,null,null,null,null,null,null,null,null,null,null,null,null,null,null,null,null,null,null,null,null,null,null,null,null,"建築会社",null,null,null,null," 会社名",null,null,null,null,null,{"$f":"IF(入力用!C17=\"\",\"\",入力用!C17)","v":""}]
[]
[]
[null,null,null,null,null,null,"電話番号",null,null,null,null,"固定",null,null,{"$f":"IF(入力用!C10=\"\",\"\",入力用!C10)","v":""},null,null,null,null,null,"-",{"$f":"IF(入力用!E10=\"\",\"\",入力用!E10)","v":""},null,null,null,null,null,null,"-",{"$f":"IF(入力用!H10=\"\",\"\",入力用!H10)","v":""},null,null,null,null,null,null,"携帯",null,null,{"$f":"IF(入力用!C11=\"\",\"\",入力用!C11)","v":""},null,null,null,null,null,null,"-",{"$f":"IF(入力用!E11=\"\",\"\",入力用!E11)","v":""},null,null,null,null,null,null,null,"-",{"$f":"IF(入力用!H11=\"\",\"\",入力用!H11)","v":""}]
[null,null,null,null,null,null,null,null,null,null,null,null,null,null,null,null,null,null,null,null,null,null,null,null,null,null,null,null,null,null,null,null,null,null,null,null,null,null,null,null,null,null,null,null,null,null,null,null,null,null,null,null,null,null,null,null,null,null,null,null,null,null,null,null,null,null,null,null,null,"(担当者)",null,null,null,null,null,{"$f":"IF(入力用!C18=\"\",\"\",入力用!C18)","v":""},null,null,null,null,null,null,null,null,null,null,null,null,null,"電話(",null,null,null,{"$f":"IF(入力用!C19=\"\",\"\",入力用!C19)","v":""},null,null,null,null,"-",{"$f":"IF(入力用!E19=\"\",\"\",入力用!E19)","v":""},null,null,null,null,"-",{"$f":"IF(入力用!H19=\"\",\"\",入力用!H19)","v":""},null,null,null,null,")"]
[]
[null,null,null,null,null,null,"お支払\n方　法",null,null,null,null,{"$f":"IF(OR(入力用!O20=2,入力用!O20=4),\"口座振込\",IF(入力用!O20=3,\"口座振替\",\"\"))","v":""},null,null,null,null,null,null,null,null,null,"支　払\n者　名",null,null,null,null,{"$f":"DBCS(MID(ASC(入力用!C21),1,1))","v":""},{"$f":"DBCS(MID(ASC(入力用!C21),2,1))","v":""},{"$f":"DBCS(MID(ASC(入力用!C21),3,1))","v":""},{"$f":"DBCS(MID(ASC(入力用!C21),4,1))","v":""},{"$f":"DBCS(MID(ASC(入力用!C21),5,1))","v":""},{"$f":"DBCS(MID(ASC(入力用!C21),6,1))","v":""},{"$f":"DBCS(MID(ASC(入力用!C21),7,1))","v":""},{"$f":"DBCS(MID(ASC(入力用!C21),8,1))","v":""},{"$f":"DBCS(MID(ASC(入力用!C21),9,1))","v":""},{"$f":"DBCS(MID(ASC(入力用!C21),10,1))","v":""},{"$f":"DBCS(MID(ASC(入力用!C21),11,1))","v":""},{"$f":"DBCS(MID(ASC(入力用!C21),12,1))","v":""},{"$f":"DBCS(MID(ASC(入力用!C21),13,1))","v":""},{"$f":"DBCS(MID(ASC(入力用!C21),14,1))","v":""},{"$f":"DBCS(MID(ASC(入力用!C21),15,1))","v":""},{"$f":"DBCS(MID(ASC(入力用!C21),16,1))","v":""},{"$f":"DBCS(MID(ASC(入力用!C21),17,1))","v":""},{"$f":"DBCS(MID(ASC(入力用!C21),18,1))","v":""},{"$f":"DBCS(MID(ASC(入力用!C21),19,1))","v":""},{"$f":"DBCS(MID(ASC(入力用!C21),20,1))","v":""},"請求書\n送付先",null,null,null,null,"(〒",null,{"$f":"LEFT(入力用!C23,3)","v":""},null,null,"-",{"$f":"RIGHT(入力用!C23,4)","v":""},null,null,null,")",null,{"$f":"IF(入力用!C24=\"同上\",\"\",LEFT(入力用!C24,12))","v":""},null,null,null,null,null,null,null,null,null,null,null,null,null,null,null,null,null,"ご連絡先",null,null,null,null,{"$f":"IF(OR(入力用!C26=\"同上\",入力用!C26=\"同左\"),\"\",LEFT(入力用!C26,17))","v":""}]
[]
[null,null,null,null,null,null,null,null,null,null,null,null,null,null,null,null,null,null,null,null,null,null,null,null,null,null,{"$f":"DBCS(MID(ASC(入力用!C21),21,1))","v":""},{"$f":"DBCS(MID(ASC(入力用!C21),22,1))","v":""},{"$f":"DBCS(MID(ASC(入力用!C21),23,1))","v":""},{"$f":"DBCS(MID(ASC(入力用!C21),24,1))","v":""},{"$f":"DBCS(MID(ASC(入力用!C21),25,1))","v":""},{"$f":"DBCS(MID(ASC(入力用!C21),26,1))","v":""},{"$f":"DBCS(MID(ASC(入力用!C21),27,1))","v":""},{"$f":"DBCS(MID(ASC(入力用!C21),28,1))","v":""},{"$f":"DBCS(MID(ASC(入力用!C21),29,1))","v":""},{"$f":"DBCS(MID(ASC(入力用!C21),30,1))","v":""},{"$f":"DBCS(MID(ASC(入力用!C21),31,1))","v":""},{"$f":"DBCS(MID(ASC(入力用!C21),32,1))","v":""},{"$f":"DBCS(MID(ASC(入力用!C21),33,1))","v":""},{"$f":"DBCS(MID(ASC(入力用!C21),34,1))","v":""},{"$f":"DBCS(MID(ASC(入力用!C21),35,1))","v":""},{"$f":"DBCS(MID(ASC(入力用!C21),36,1))","v":""},{"$f":"DBCS(MID(ASC(入力用!C21),37,1))","v":""},{"$f":"DBCS(MID(ASC(入力用!C21),38,1))","v":""},{"$f":"DBCS(MID(ASC(入力用!C21),39,1))","v":""},{"$f":"DBCS(MID(ASC(入力用!C21),40,1))","v":""},null,null,null,null,null,{"$f":"IF(入力用!C24=\"同上\",入力用!C24,MID(入力用!C24,13,20))","v":""},null,null,null,null,null,null,null,null,null,null,null,null,null,null,null,null,null,null,null,null,null,null,null,null,null,null,null,null,null,null,null,null,null,null,{"$f":"IF(OR(入力用!C26=\"同上\",入力用!C26=\"同左\"),入力用!C26,MID(入力用!C26,18,17))","v":""}]
[]
[null,null,null,null,null,null,null,null,null,null,null,null,null,null,null,null,null,null,null,null,null,null,null,null,null,null,{"$f":"IF(入力用!C22=\"\",\"\",入力用!C22)","v":""}]
[null,null,null,null,null,null,null,null,null,null,null,null,null,null,null,null,null,null,null,null,null,null,null,null,null,null,null,null,null,null,null,null,null,null,null,null,null,null,null,null,null,null,null,null,null,null,null,null,null,null,null,{"$f":"MID(入力用!C24,33,5)","v":""},null,null,null,null,null,null,null,"電話(",null,null,null,{"$f":"IF(入力用!C25=\"\",\"\",入力用!C25)","v":""},null,null,null,null,"-",{"$f":"IF(入力用!E25=\"\",\"\",入力用!E25)","v":""},null,null,null,null,"-",{"$f":"IF(入力用!H25=\"\",\"\",入力用!H25)","v":""},null,null,null,null,")",null,null,null,null,null,{"$f":"IF(OR(入力用!C26=\"同上\",入力用!C26=\"同左\"),\"\",MID(入力用!C26,35,1))","v":""},null,null,"電話(",null,null,null,{"$f":"IF(入力用!C27=\"\",\"\",入力用!C27)","v":""},null,null,null,null,"-",{"$f":"IF(入力用!E27=\"\",\"\",入力用!E27)","v":""},null,null,null,null,"-",{"$f":"IF(入力用!H27=\"\",\"\",入力用!H27)","v":""},null,null,null,null,")"]
[]
[null,"受　電\n希望日",null,null,null,null,null,null,null,null,null,null,null,null,null,null,null,null,null,null,null,null,null,null,null,null,null,null,null,null,null,"契約種別",null,null,{"$f":"IF(入力用!O31=2,\"92\",IF(入力用!O31=3,\"94\",IF(入力用!O31=4,\"93\",IF(OR(入力用!O31=5,入力用!O31=7),\"96\",IF(OR(入力用!O31=6,入力用!O31=8,入力用!O31=9),\"97\",\"\")))))","v":""},null,null,null,null,null,null,null,null,null,null,null,null,null,null,null,null,null,null,null,null,null,null,null,null,null,null,null,null,"供給電気\n方 式 ・\n供給電圧",null,null,null,null,{"$f":"IF(入力用!O32=2,入力用!Q6,IF(入力用!O32=3,入力用!Q7,IF(入力用!O32=4,入力用!Q8,IF(入力用!O32=5,入力用!Q9,\"\"))))","v":""},null,null,null,null,null,null,null,null,null,null,null,null,null,null,null,null,"電設Ｎｅｔ\n申込",null,null,null,null,{"$f":"IF(入力用!O28=2,入力用!S11,IF(入力用!O28=3,入力用!S12,\"\"))","v":""}]
[]
[null,null,null,null,null,null,null,null,null,null,null,null,null,null,null,null,null,null,null,null,null,null,null,null,null,null,null,null,null,null,null,null,null,null,{"$f":"入力用!P29","v":""}]
[]
[null,null,null,null,null,null,null,null,null,null,null,null,null,null,null,null,null,null,null,null,null,null,null,null,null,null,null,null,null,null,null,null,null,null,null,null,null,null,null,null,null,null,null,null,null,null,null,null,null,null,null,null,null,null,null,null,null,null,null,null,null,null,null,null,null,null,null,null,null,null,null,null,null,null,null,null,null,null,null,null,null,null,null,null,null,null,null,null,null,null,{"$f":"IF(入力用!C29=\"\",\"\",入力用!C29)","v":""}]
[null,null,null,null,null,null,{"$f":"IF(入力用!C30=\"\",\"\",入力用!C30)","v":""},null,null,null,null,null,null,null,null,{"$f":"IF(入力用!E30=\"\",\"\",入力用!E30)","v":""},null,null,null,null,null,null,null,{"$f":"IF(入力用!H30=\"\",\"\",入力用!H30)","v":""}]
[null,null,null,null,null,null,null,null,null,null,null,null,"年",null,null,null,null,null,null,null,"月",null,null,null,null,null,null,null,"日"]
[null,null,null,null,null,null,null,null,null,null,null,null,null,null,null,null,null,null,null,null,null,null,null,null,null,null,null,null,null,null,null,null,null,null,null,null,null,null,null,null,null,null,null,null,null,null,null,null,null,null,null,null,null,null,null,null,null,null,null,null,null,null,null,null,null,null,null,null,null,null,null,null,null,null,null,null,null,null,null,null,null,null,null,null,null,null,null,null,null,null,null,null,null,null,null,null,null,null,null,null,null,"受付"]
[null,"契約\n決定\n方法",null,null,null,null,{"$f":"IF(入力用!O33=2,入力用!R6,IF(入力用!O33=3,入力用!R7,\"\"))","v":""},null,null,null,null,null,null,null,null,null,null,null,null,null,null,null,"主開閉器の\n定　格　電　流",null,null,null,null,null,null,null,null,null,null,null,null,"フリーエリア\n計器払出希望\n事 業 所 名",null,null,null,null,null,null,null,{"$f":"IF(入力用!C35=\"\",\"\",入力用!C35)","v":""},null,null,null,null,null,null,null,null,null,null,null,null,null,null,null,null,null,null,null,null,null,null,"本契約前\nの臨時契\n約の有無",null,null,null,null,{"$f":"IF(入力用!O36=2,入力用!S6,IF(入力用!O36=3,入力用!S7,\"\"))","v":""},null,null,null,"臨時受付№(",null,null,null,null,null,null,null,null,null,null,null,")"]
[null,null,null,null,null,null,null,null,null,null,null,null,null,null,null,null,null,null,null,null,null,null,null,null,null,null,null,null,{"$f":"IF(入力用!C34=\"\",\"\",入力用!C34)","v":""}]
[]
[]
[null,null,null,null,null,null,null,null,null,null,null,null,null,null,null,null,null,null,null,null,null,null,null,null,null,null,null,null,null,null,null,null,null,"Ａ"]
[]
[null,"ホット\nタイム",null,null,null,null,"検　知　制　御　装　置",null,null,null,null,null,null,null,null,null,null,null,null,null,null,null,null,null,null,null,null,null,null,null,null,null,null,null,null,null,null,null,null,"通　電　遮　断　パ　タ　ー　ン",null,null,null,null,null,null,null,null,null,null,null,null,null,null,null,null,null,null,null,null,null,null,null,"最低使用期間"]
[null,null,null,null,null,null,null,null,null,null,null,null,null,null,null,null,null,null,null,null,null,null,null,null,null,null,null,null,null,null,null,null,null,null,null,null,null,null,null,null,null,null,null,null,null,null,null,null,null,null,null,null,null,null,null,null,null,null,null,null,null,null,null,null,null,null,null,null,null,null,null,null,null,null,null,null,null,null,null,null,null,null,null,null,null,null,null,null,null,null,null,null,null,null,null,null,null,null,null,null,null,"図面照査"]
[null,null,null,null,null,null,"メーカー",null,null,null,null,null,"型　　式",null,null,null,null,null,null,null,null,null,null,null,null,null,null,"種　類",null,null,null,null,null,null,null,null,null,null,null,{"$f":"IF(入力用!C40=\"\",\"　　\",入力用!C40)","v":"　　"},null,null,null,"時",null,{"$f":"IF(入力用!E40=\"\",\"\",IF(入力用!E40=\"0\",\"00\",入力用!E40))","v":""},null,null,null,"分から",null,null,null,{"$f":"IF(入力用!C41=\"\",\"　　\",入力用!C41)","v":"　　"},null,null,null,{"$f":"IF(入力用!O40=2,入力用!U6,IF(入力用!O40=3,入力用!U7,\"\"))&\" \"&IF(入力用!O40=2,入力用!V6,IF(入力用!O40=3,入力用!V7,\"\"))","v":" "},null,null,null,null,null,"開始月",null,null,null,null,null,"終了月"]
[]
[null,null,null,null,null,null,{"$f":"IF(入力用!C37=\"\",\"\",入力用!C37)","v":""},null,null,null,null,null,{"$f":"IF(入力用!C38=\"\",\"\",入力用!C38)","v":""},null,null,null,null,null,null,null,null,null,null,null,null,null,null,{"$f":"IF(入力用!O39=2,入力用!T6,IF(入力用!O39=3,入力用!T7,IF(入力用!O39=4,入力用!T8,\"\")))","v":""},null,null,null,null,null,null,null,null,null,null,null,null,null,null,null,null,null,null,null,null,null,null,null,null,null,null,null,null,null,null,null,null,null,null,null,{"$f":"IF(入力用!C42=\"\",\"\",入力用!C42)","v":""},null,null,"月分",null,null,{"$f":"IF(AND(入力用!O31>4,入力用!O31<9),IF(BL59>10,BL59-10,BL59+2),IF(入力用!O31=9,IF(BL59>7,BL59-7,BL59+5),\"\"))","v":""},null,null,"月分"]
[]
[null,"契約負荷設備内訳",null,null,null,null,"機 器 種 別",null,null,null,null,null,null,null,null,"メーカー",null,null,null,null,null,"型　　式",null,null,null,null,null,null,null,null,null,null,null,null,"通電制御・検知制御",null,null,null,null,null,null,null,null,null,"出　力",null,null,null,null,null,null,null,null,"入　力（ａ）",null,null,null,null,null,null,null,"力　率",null,null,null,null,null,null,null,"台数(ｂ)",null,null,null,null,null,"合計（ａ×ｂ）"]
[null,null,null,null,null,null,null,null,null,null,null,null,null,null,null,null,null,null,null,null,null,null,null,null,null,null,null,null,null,null,null,null,null,null,null,null,null,null,null,null,null,null,null,null,null,null,null,null,null,null,null,null,null,null,null,null,null,null,null,null,null,null,null,null,null,null,null,null,null,null,null,null,null,null,null,null,null,null,null,null,null,null,null,null,null,"引込以下工事",null,null,null,null,null,null,"要",null,null,null,"不要"]
[null,null,null,null,null,null,{"$f":"IF(入力用!C43=\"\",\"\",入力用!C43)","v":""},null,null,null,null,null,null,null,null,{"$f":"IF(入力用!C44=\"\",\"\",入力用!C44)","v":""},null,null,null,null,null,{"$f":"IF(入力用!C45=\"\",\"\",入力用!C45)","v":""},null,null,null,null,null,null,null,null,null,null,null,null,{"$f":"IF(入力用!O46=2,入力用!W6,IF(入力用!O46=3,入力用!W7,\"\"))","v":""},null,null,null,null,null,null,null,null,null,{"$f":"IF(入力用!C47=\"\",\"\",入力用!C47)","v":""},null,null,null,null,null,{"$f":"IF(入力用!O47=2,入力用!X6,IF(入力用!O47=3,入力用!X7,\"㏋\nkW\"))","v":"㏋\nkW"},null,null,{"$f":"IF(入力用!P46=0,\"\",入力用!P46)","v":""},null,null,null,null,null,"kW",null,{"$f":"IF(入力用!O49=2,入力用!Y6,IF(入力用!O49=3,入力用!Y7,IF(入力用!O49=4,入力用!Y8,IF(入力用!O49=5,入力用!Y9,\"\"))))","v":""},null,null,null,null,null,null,null,{"$f":"IF(入力用!C50=\"\",\"\",入力用!C50)","v":""},null,null,null,"台",null,{"$f":"入力用!P47","v":""},null,null,null,null,null,"kW"]
[null,null,null,null,null,null,null,null,null,null,null,null,null,null,null,null,null,null,null,null,null,null,null,null,null,null,null,null,null,null,null,null,null,null,null,null,null,null,null,null,null,null,null,null,null,null,null,null,null,null,null,null,null,null,null,null,null,null,null,null,null,null,null,null,null,null,null,null,null,null,null,null,null,null,null,null,null,null,null,null,null,null,null,null,null,null,null,null,null,null,null,null,null,null,null,null,null,null,null,null,null,"外線設計"]
[null,null,null,null,null,null,null,null,null,null,null,null,null,null,null,null,null,null,null,null,null,null,null,null,null,null,null,null,null,null,null,null,null,null,null,null,null,null,null,null,null,null,null,null,null,null,null,null,null,null,null,null,null,null,null,null,null,null,null,null,null,null,null,null,null,null,null,null,null,null,null,null,null,null,null,null,null,null,null,null,null,null,null,null,null,"メッセンジャー",null,null,null,null,null,null," №"]
[null,null,null,null,null,null,{"$f":"IF(入力用!C51=\"\",\"\",入力用!C51)","v":""},null,null,null,null,null,null,null,null,{"$f":"IF(入力用!C52=\"\",\"\",入力用!C52)","v":""},null,null,null,null,null,{"$f":"IF(入力用!C53=\"\",\"\",入力用!C53)","v":""},null,null,null,null,null,null,null,null,null,null,null,null,{"$f":"IF(入力用!O54=2,入力用!W6,IF(入力用!O54=3,入力用!W7,\"\"))","v":""},null,null,null,null,null,null,null,null,null,{"$f":"IF(入力用!C55=\"\",\"\",入力用!C55)","v":""},null,null,null,null,null,{"$f":"IF(入力用!O55=2,入力用!X6,IF(入力用!O55=3,入力用!X7,\"㏋\nkW\"))","v":"㏋\nkW"},null,null,{"$f":"IF(入力用!P54=0,\"\",入力用!P54)","v":""},null,null,null,null,null,"kW",null,{"$f":"IF(入力用!O57=2,入力用!Y6,IF(入力用!O57=3,入力用!Y7,IF(入力用!O57=4,入力用!Y8,IF(入力用!O57=5,入力用!Y9,\"\"))))","v":""},null,null,null,null,null,null,null,{"$f":"IF(入力用!C58=\"\",\"\",入力用!C58)","v":""},null,null,null,"台",null,{"$f":"入力用!P55","v":""},null,null,null,null,null,"kW"]
[]
[null,null,null,null,null,null,null,null,null,null,null,null,null,null,null,null,null,null,null,null,null,null,null,null,null,null,null,null,null,null,null,null,null,null,null,null,null,null,null,null,null,null,null,null,null,null,null,null,null,null,null,null,null,null,null,null,null,null,null,null,null,null,null,null,null,null,null,null,null,null,null,null,null,null,null,null,null,null,null,null,null,null,null,null,null,"外 線 工 事",null,null,null,null,null,null," №"]
[null,null,null,null,null,null,{"$f":"IF(入力用!C59=\"\",\"\",入力用!C59)","v":""},null,null,null,null,null,null,null,null,{"$f":"IF(入力用!C60=\"\",\"\",入力用!C60)","v":""},null,null,null,null,null,{"$f":"IF(入力用!C61=\"\",\"\",入力用!C61)","v":""},null,null,null,null,null,null,null,null,null,null,null,null,{"$f":"IF(入力用!O62=2,入力用!W6,IF(入力用!O62=3,入力用!W7,\"\"))","v":""},null,null,null,null,null,null,null,null,null,{"$f":"IF(入力用!C63=\"\",\"\",入力用!C63)","v":""},null,null,null,null,null,{"$f":"IF(入力用!O63=2,入力用!X6,IF(入力用!O63=3,入力用!X7,\"㏋\nkW\"))","v":"㏋\nkW"},null,null,{"$f":"IF(入力用!P62=0,\"\",入力用!P62)","v":""},null,null,null,null,null,"kW",null,{"$f":"IF(入力用!O65=2,入力用!Y6,IF(入力用!O65=3,入力用!Y7,IF(入力用!O65=4,入力用!Y8,IF(入力用!O65=5,入力用!Y9,\"\"))))","v":""},null,null,null,null,null,null,null,{"$f":"IF(入力用!C66=\"\",\"\",入力用!C66)","v":""},null,null,null,"台",null,{"$f":"入力用!P63","v":""},null,null,null,null,null,"kW"]
[]
[]
[null,null,null,null,null,null,{"$f":"IF(入力用!C67=\"\",\"\",入力用!C67)","v":""},null,null,null,null,null,null,null,null,{"$f":"IF(入力用!C68=\"\",\"\",入力用!C68)","v":""},null,null,null,null,null,{"$f":"IF(入力用!C69=\"\",\"\",入力用!C69)","v":""},null,null,null,null,null,null,null,null,null,null,null,null,{"$f":"IF(入力用!O70=2,入力用!W6,IF(入力用!O70=3,入力用!W7,\"\"))","v":""},null,null,null,null,null,null,null,null,null,{"$f":"IF(入力用!C71=\"\",\"\",入力用!C71)","v":""},null,null,null,null,null,{"$f":"IF(入力用!O71=2,入力用!X6,IF(入力用!O71=3,入力用!X7,\"㏋\nkW\"))","v":"㏋\nkW"},null,null,{"$f":"IF(入力用!P70=0,\"\",入力用!P70)","v":""},null,null,null,null,null,"kW",null,{"$f":"IF(入力用!O73=2,入力用!Y6,IF(入力用!O73=3,入力用!Y7,IF(入力用!O73=4,入力用!Y8,IF(入力用!O73=5,入力用!Y9,\"\"))))","v":""},null,null,null,null,null,null,null,{"$f":"IF(入力用!C74=\"\",\"\",入力用!C74)","v":""},null,null,null,"台",null,{"$f":"入力用!P71","v":""},null,null,null,null,null,"kW",null,null,null,null,null,null,null,null,null,null,null,null,null,null,null,null,null,null,null,"負担金計算"]
[]
[]
[null,null,null,null,null,null,{"$f":"IF(入力用!C75=\"\",\"\",入力用!C75)","v":""},null,null,null,null,null,null,null,null,{"$f":"IF(入力用!C76=\"\",\"\",入力用!C76)","v":""},null,null,null,null,null,{"$f":"IF(入力用!C77=\"\",\"\",入力用!C77)","v":""},null,null,null,null,null,null,null,null,null,null,null,null,{"$f":"IF(入力用!O78=2,入力用!W6,IF(入力用!O78=3,入力用!W7,\"\"))","v":""},null,null,null,null,null,null,null,null,null,{"$f":"IF(入力用!C79=\"\",\"\",入力用!C79)","v":""},null,null,null,null,null,{"$f":"IF(入力用!O79=2,入力用!X6,IF(入力用!O79=3,入力用!X7,\"㏋\nkW\"))","v":"㏋\nkW"},null,null,{"$f":"IF(入力用!P78=0,\"\",入力用!P78)","v":""},null,null,null,null,null,"kW",null,{"$f":"IF(入力用!O81=2,入力用!Y6,IF(入力用!O81=3,入力用!Y7,IF(入力用!O81=4,入力用!Y8,IF(入力用!O81=5,入力用!Y9,\"\"))))","v":""},null,null,null,null,null,null,null,{"$f":"IF(入力用!C82=\"\",\"\",入力用!C82)","v":""},null,null,null,"台",null,{"$f":"入力用!P79","v":""},null,null,null,null,null,"kW"]
[]
[]
[null,null,null,null,null,null,{"$f":"IF(入力用!C83=\"\",\"\",入力用!C83)","v":""},null,null,null,null,null,null,null,null,{"$f":"IF(入力用!C84=\"\",\"\",入力用!C84)","v":""},null,null,null,null,null,{"$f":"IF(入力用!C85=\"\",\"\",入力用!C85)","v":""},null,null,null,null,null,null,null,null,null,null,null,null,{"$f":"IF(入力用!O86=2,入力用!W6,IF(入力用!O86=3,入力用!W7,\"\"))","v":""},null,null,null,null,null,null,null,null,null,{"$f":"IF(入力用!C87=\"\",\"\",入力用!C87)","v":""},null,null,null,null,null,{"$f":"IF(入力用!O87=2,入力用!X6,IF(入力用!O87=3,入力用!X7,\"㏋\nkW\"))","v":"㏋\nkW"},null,null,{"$f":"IF(入力用!P86=0,\"\",入力用!P86)","v":""},null,null,null,null,null,"kW",null,{"$f":"IF(入力用!O89=2,入力用!Y6,IF(入力用!O89=3,入力用!Y7,IF(入力用!O89=4,入力用!Y8,IF(入力用!O89=5,入力用!Y9,\"\"))))","v":""},null,null,null,null,null,null,null,{"$f":"IF(入力用!C90=\"\",\"\",入力用!C90)","v":""},null,null,null,"台",null,{"$f":"入力用!P87","v":""},null,null,null,null,null,"kW"]
[]
[null,null,null,null,null,null,null,null,null,null,null,null,null,null,null,null,null,null,null,null,null,null,null,null,null,null,null,null,null,null,null,null,null,null,null,null,null,null,null,null,null,null,null,null,null,null,null,null,null,null,null,null,null,null,null,null,null,null,null,null,null,null,null,null,null,null,null,null,null,null,null,null,null,null,null,null,null,null,null,null,null,null,null,null,null,null,null,null,null,null,null,null,null,null,null,null,null,null,null,null,null,"負担金入金"]
[null,null,null,null,null,null,{"$f":"IF(入力用!C91=\"\",\"\",入力用!C91)","v":""},null,null,null,null,null,null,null,null,{"$f":"IF(入力用!C92=\"\",\"\",入力用!C92)","v":""},null,null,null,null,null,{"$f":"IF(入力用!C93=\"\",\"\",入力用!C93)","v":""},null,null,null,null,null,null,null,null,null,null,null,null,{"$f":"IF(入力用!O94=2,入力用!W6,IF(入力用!O94=3,入力用!W7,\"\"))","v":""},null,null,null,null,null,null,null,null,null,{"$f":"IF(入力用!C95=\"\",\"\",入力用!C95)","v":""},null,null,null,null,null,{"$f":"IF(入力用!O95=2,入力用!X6,IF(入力用!O95=3,入力用!X7,\"㏋\nkW\"))","v":"㏋\nkW"},null,null,{"$f":"IF(入力用!P94=0,\"\",入力用!P94)","v":""},null,null,null,null,null,"kW",null,{"$f":"IF(入力用!O97=2,入力用!Y6,IF(入力用!O97=3,入力用!Y7,IF(入力用!O97=4,入力用!Y8,IF(入力用!O97=5,入力用!Y9,\"\"))))","v":""},null,null,null,null,null,null,null,{"$f":"IF(入力用!C98=\"\",\"\",入力用!C98)","v":""},null,null,null,"台",null,{"$f":"入力用!P95","v":""},null,null,null,null,null,"kW"]
[]
[]
[null,null,null,null,null,null,{"$f":"IF(入力用!C99=\"\",\"\",入力用!C99)","v":""},null,null,null,null,null,null,null,null,{"$f":"IF(入力用!C100=\"\",\"\",入力用!C100)","v":""},null,null,null,null,null,{"$f":"IF(入力用!C101=\"\",\"\",入力用!C101)","v":""},null,null,null,null,null,null,null,null,null,null,null,null,{"$f":"IF(入力用!O102=2,入力用!W6,IF(入力用!O102=3,入力用!W7,\"\"))","v":""},null,null,null,null,null,null,null,null,null,{"$f":"IF(入力用!C103=\"\",\"\",入力用!C103)","v":""},null,null,null,null,null,{"$f":"IF(入力用!O103=2,入力用!X6,IF(入力用!O103=3,入力用!X7,\"㏋\nkW\"))","v":"㏋\nkW"},null,null,{"$f":"IF(入力用!P102=0,\"\",入力用!P102)","v":""},null,null,null,null,null,"kW",null,{"$f":"IF(入力用!O105=2,入力用!Y6,IF(入力用!O105=3,入力用!Y7,IF(入力用!O105=4,入力用!Y8,IF(入力用!O105=5,入力用!Y9,\"\"))))","v":""},null,null,null,null,null,null,null,{"$f":"IF(入力用!C106=\"\",\"\",入力用!C106)","v":""},null,null,null,"台",null,{"$f":"入力用!P103","v":""},null,null,null,null,null,"kW"]
[]
[]
[null,null,null,null,null,null,{"$f":"IF(入力用!C107=\"\",\"\",入力用!C107)","v":""},null,null,null,null,null,null,null,null,{"$f":"IF(入力用!C108=\"\",\"\",入力用!C108)","v":""},null,null,null,null,null,{"$f":"IF(入力用!C109=\"\",\"\",入力用!C109)","v":""},null,null,null,null,null,null,null,null,null,null,null,null,{"$f":"IF(入力用!O110=2,入力用!W6,IF(入力用!O110=3,入力用!W7,\"\"))","v":""},null,null,null,null,null,null,null,null,null,{"$f":"IF(入力用!C111=\"\",\"\",入力用!C111)","v":""},null,null,null,null,null,{"$f":"IF(入力用!O111=2,入力用!X6,IF(入力用!O111=3,入力用!X7,\"㏋\nkW\"))","v":"㏋\nkW"},null,null,{"$f":"IF(入力用!P110=0,\"\",入力用!P110)","v":""},null,null,null,null,null,"kW",null,{"$f":"IF(入力用!O113=2,入力用!Y6,IF(入力用!O113=3,入力用!Y7,IF(入力用!O113=4,入力用!Y8,IF(入力用!O113=5,入力用!Y9,\"\"))))","v":""},null,null,null,null,null,null,null,{"$f":"IF(入力用!C114=\"\",\"\",入力用!C114)","v":""},null,null,null,"台",null,{"$f":"入力用!P111","v":""},null,null,null,null,null,"kW"]
[null,null,null,null,null,null,null,null,null,null,null,null,null,null,null,null,null,null,null,null,null,null,null,null,null,null,null,null,null,null,null,null,null,null,null,null,null,null,null,null,null,null,null,null,null,null,null,null,null,null,null,null,null,null,null,null,null,null,null,null,null,null,null,null,null,null,null,null,null,null,null,null,null,null,null,null,null,null,null,null,null,null,null,null,null,null,null,null,null,null,null,null,null,null,null,null,null,null,null,null,null,"計器払出"]
[]
[null,null,null,null,null,null,{"$f":"IF(入力用!C115=\"\",\"\",入力用!C115)","v":""},null,null,null,null,null,null,null,null,{"$f":"IF(入力用!C116=\"\",\"\",入力用!C116)","v":""},null,null,null,null,null,{"$f":"IF(入力用!C117=\"\",\"\",入力用!C117)","v":""},null,null,null,null,null,null,null,null,null,null,null,null,{"$f":"IF(入力用!O118=2,入力用!W6,IF(入力用!O118=3,入力用!W7,\"\"))","v":""},null,null,null,null,null,null,null,null,null,{"$f":"IF(入力用!C119=\"\",\"\",入力用!C119)","v":""},null,null,null,null,null,{"$f":"IF(入力用!O119=2,入力用!X6,IF(入力用!O119=3,入力用!X7,\"㏋\nkW\"))","v":"㏋\nkW"},null,null,{"$f":"IF(入力用!P118=0,\"\",入力用!P118)","v":""},null,null,null,null,null,"kW",null,{"$f":"IF(入力用!O121=2,入力用!Y6,IF(入力用!O121=3,入力用!Y7,IF(入力用!O121=4,入力用!Y8,IF(入力用!O121=5,入力用!Y9,\"\"))))","v":""},null,null,null,null,null,null,null,{"$f":"IF(入力用!C122=\"\",\"\",入力用!C122)","v":""},null,null,null,"台",null,{"$f":"入力用!P119","v":""},null,null,null,null,null,"kW",null,null,null,"既設他契約の\n非 蓄 割 引\n継続可否",null,null,null,null,null,null,"・継 続 可"]
[]
[]
[null,null,null,null,null,null,{"$f":"IF(入力用!C123=\"\",\"\",入力用!C123)","v":""},null,null,null,null,null,null,null,null,{"$f":"IF(入力用!C124=\"\",\"\",入力用!C124)","v":""},null,null,null,null,null,{"$f":"IF(入力用!C125=\"\",\"\",入力用!C125)","v":""},null,null,null,null,null,null,null,null,null,null,null,null,{"$f":"IF(入力用!O126=2,入力用!W6,IF(入力用!O126=3,入力用!W7,\"\"))","v":""},null,null,null,null,null,null,null,null,null,{"$f":"IF(入力用!C127=\"\",\"\",入力用!C127)","v":""},null,null,null,null,null,{"$f":"IF(入力用!O127=2,入力用!X6,IF(入力用!O127=3,入力用!X7,\"㏋\nkW\"))","v":"㏋\nkW"},null,null,{"$f":"IF(入力用!P126=0,\"\",入力用!P126)","v":""},null,null,null,null,null,"kW",null,{"$f":"IF(入力用!O129=2,入力用!Y6,IF(入力用!O129=3,入力用!Y7,IF(入力用!O129=4,入力用!Y8,IF(入力用!O129=5,入力用!Y9,\"\"))))","v":""},null,null,null,null,null,null,null,{"$f":"IF(入力用!C130=\"\",\"\",入力用!C130)","v":""},null,null,null,"台",null,{"$f":"入力用!P127","v":""},null,null,null,null,null,"kW"]
[null,null,null,null,null,null,null,null,null,null,null,null,null,null,null,null,null,null,null,null,null,null,null,null,null,null,null,null,null,null,null,null,null,null,null,null,null,null,null,null,null,null,null,null,null,null,null,null,null,null,null,null,null,null,null,null,null,null,null,null,null,null,null,null,null,null,null,null,null,null,null,null,null,null,null,null,null,null,null,null,null,null,null,null,null,null,null,null,null,null,null,null,"・継続不可"]
[]
[null,null,null,null,null,null,{"$f":"IF(入力用!C131=\"\",\"\",入力用!C131)","v":""},null,null,null,null,null,null,null,null,{"$f":"IF(入力用!C132=\"\",\"\",入力用!C132)","v":""},null,null,null,null,null,{"$f":"IF(入力用!C133=\"\",\"\",入力用!C133)","v":""},null,null,null,null,null,null,null,null,null,null,null,null,{"$f":"IF(入力用!O134=2,入力用!W6,IF(入力用!O134=3,入力用!W7,\"\"))","v":""},null,null,null,null,null,null,null,null,null,{"$f":"IF(入力用!C135=\"\",\"\",入力用!C135)","v":""},null,null,null,null,null,{"$f":"IF(入力用!O135=2,入力用!X6,IF(入力用!O135=3,入力用!X7,\"㏋\nkW\"))","v":"㏋\nkW"},null,null,{"$f":"IF(入力用!P134=0,\"\",入力用!P134)","v":""},null,null,null,null,null,"kW",null,{"$f":"IF(入力用!O137=2,入力用!Y6,IF(入力用!O137=3,入力用!Y7,IF(入力用!O137=4,入力用!Y8,IF(入力用!O137=5,入力用!Y9,\"\"))))","v":""},null,null,null,null,null,null,null,{"$f":"IF(入力用!C138=\"\",\"\",入力用!C138)","v":""},null,null,null,"台",null,{"$f":"入力用!P135","v":""},null,null,null,null,null,"kW",null,null,null,null,null,null,null,null,null,null,null,null,null,null,null,null,null,null,null,"送電申込受付"]
[]
[]
[null,null,null,null,null,null,{"$f":"IF(入力用!C139=\"\",\"\",入力用!C139)","v":""},null,null,null,null,null,null,null,null,{"$f":"IF(入力用!C140=\"\",\"\",入力用!C140)","v":""},null,null,null,null,null,{"$f":"IF(入力用!C141=\"\",\"\",入力用!C141)","v":""},null,null,null,null,null,null,null,null,null,null,null,null,{"$f":"IF(入力用!O142=2,入力用!W6,IF(入力用!O142=3,入力用!W7,\"\"))","v":""},null,null,null,null,null,null,null,null,null,{"$f":"IF(入力用!C143=\"\",\"\",入力用!C143)","v":""},null,null,null,null,null,{"$f":"IF(入力用!O143=2,入力用!X6,IF(入力用!O143=3,入力用!X7,\"㏋\nkW\"))","v":"㏋\nkW"},null,null,{"$f":"IF(入力用!P142=0,\"\",入力用!P142)","v":""},null,null,null,null,null,"kW",null,{"$f":"IF(入力用!O145=2,入力用!Y6,IF(入力用!O145=3,入力用!Y7,IF(入力用!O145=4,入力用!Y8,IF(入力用!O145=5,入力用!Y9,\"\"))))","v":""},null,null,null,null,null,null,null,{"$f":"IF(入力用!C146=\"\",\"\",入力用!C146)","v":""},null,null,null,"台",null,{"$f":"入力用!P143","v":""},null,null,null,null,null,"kW"]
[]
[]
[null,null,null,null,null,null,{"$f":"IF(入力用!C147=\"\",\"\",入力用!C147)","v":""},null,null,null,null,null,null,null,null,{"$f":"IF(入力用!C148=\"\",\"\",入力用!C148)","v":""},null,null,null,null,null,{"$f":"IF(入力用!C149=\"\",\"\",入力用!C149)","v":""},null,null,null,null,null,null,null,null,null,null,null,null,{"$f":"IF(入力用!O150=2,入力用!W6,IF(入力用!O150=3,入力用!W7,\"\"))","v":""},null,null,null,null,null,null,null,null,null,{"$f":"IF(入力用!C151=\"\",\"\",入力用!C151)","v":""},null,null,null,null,null,{"$f":"IF(入力用!O151=2,入力用!X6,IF(入力用!O151=3,入力用!X7,\"㏋\nkW\"))","v":"㏋\nkW"},null,null,{"$f":"IF(入力用!P150=0,\"\",入力用!P150)","v":""},null,null,null,null,null,"kW",null,{"$f":"IF(入力用!O153=2,入力用!Y6,IF(入力用!O153=3,入力用!Y7,IF(入力用!O153=4,入力用!Y8,IF(入力用!O153=5,入力用!Y9,\"\"))))","v":""},null,null,null,null,null,null,null,{"$f":"IF(入力用!C154=\"\",\"\",入力用!C154)","v":""},null,null,null,"台",null,{"$f":"入力用!P151","v":""},null,null,null,null,null,"kW"]
[]
[null,null,null,null,null,null,null,null,null,null,null,null,null,null,null,null,null,null,null,null,null,null,null,null,null,null,null,null,null,null,null,null,null,null,null,null,null,null,null,null,null,null,null,null,null,null,null,null,null,null,null,null,null,null,null,null,null,null,null,null,null,null,null,null,null,null,null,null,null,null,null,null,null,null,null,null,null,null,null,null,null,null,null,null,null,null,null,null,null,null,null,null,null,null,null,null,null,null,null,null,null,"契約確認"]
[null,null,null,null,null,null,null,null,null,null,null,null,null,null,null,null,null,null,null,null,null,null,null,null,null,null,null,null,null,null,null,null,null,null,"通電制御･検知制御割引対象率",null,null,null,null,null,null,null,null,null,null,null,null,null,null,null,null,null,null,null,null,null,null,null,null,null,null,"力　率",null,null,null,null,null,null,null,"合計台数",null,null,null,null,null,"入力合計",null,null,null,null,null,null,null,null,"契約電力",null,null,null,null,null,null,null,{"$f":"IF(入力用!R33=0,\"\",入力用!R33)","v":""}]
[]
[null,null,null,null,null,null,null,null,null,null,null,null,null,null,null,null,null,null,null,null,null,null,null,null,null,null,null,null,null,null,null,null,null,null,{"$f":"IF(OR(ISERR(入力用!R35),入力用!R35=0),\"\",入力用!R35)","v":""},null,null,null,null,null,"kW",null,null,"/",null,{"$f":"IF(BX107=\"\",\"\",BX107)","v":""},null,null,null,null,null,"kW",null,null,{"$f":"IF(ISERR(AI107/AT107),\"\",ROUND(AI107/AT107,2)*100)","v":""},null,null,null,null,"%",null,"85％",null,null,null,{"$f":"IF(入力用!O33=2,\"超過\",IF(入力用!R31=\"\",\"超過\n未満\",IF(入力用!R31>0.85,\"超過\",IF(入力用!R31<0.85,\"未満\",\"\"))))","v":"超過\n未満"},null,null,null,{"$f":"IF(SUM(BR63:BU104)=0,\"\",SUM(BR63:BU104))","v":""},null,null,null,"台",null,{"$f":"IF(入力用!R38+入力用!R39=0,\"\",入力用!R38+入力用!R39)","v":""},null,null,null,null,null,"ｋＷ"]
[null,null,null,null,null,null,null,null,null,null,null,null,null,null,null,null,null,null,null,null,null,null,null,null,null,null,null,null,null,null,null,null,null,null,null,null,null,null,null,null,null,null,null,null,null,null,null,null,null,null,null,null,null,null,null,null,null,null,null,null,null,null,null,null,null,null,null,null,null,null,null,null,null,null,null,null,null,null,null,null,null,null,null,null,null,null,null,null,null,null,null,null,null,null,null,null,null,"ｋＷ"]
[]
[null,"異動種別",null,null,"・新設　　 　・減少　 　　　・転出",null,null,null,null,null,null,null,null,null,null,null,null,null,null,null,null,null,null,null,null,null,null,null,"供給地点特定番号",null,null,null,null,null,null,null,"発行\n回数",null,null,"支店",null,"ﾌﾞﾛｯｸ",null,null,"住所",null,null,null,null,"街区",null,null,"契約№",null,null,null,null,"枝番",null,null,"種別",null,null,null,null,null,"送電日\n（異動日）"]
[]
[null,null,null,null,"・種変(+)　　・設備撤去　　・名義変更",null,null,null,null,null,null,null,null,null,null,null,null,null,null,null,null,null,null,null,null,null,null,null,null,null,null,null,null,null,null,null,null,null,null,null,null,null,null,null,null,null,null,null,null,null,null,null,null,null,null,null,null,null,null,null,null,null,null,null,null,null,null,null,null,null,null,null,null,null,null,null,null,null,null,null,null,null,null,null,null,null,null,null,null,null,null,null,null,null,null,null,null,null,null,null,null,"上長確認"]
[]
[null,null,null,null,"・ｺｰﾄﾞ変(+)　・設備変更　　 ・その他",null,null,null,null,null,null,null,null,null,null,null,null,null,null,null,null,null,null,null,null,null,null,null,null,null,null,"010",null,null,null,null,null,null,null,null,null,null,null,null,null,null,null,null,null,null,null,null,null,null,null,null,null,null,null,null,{"$f":"AI41","v":""},null,null,"00"]
[]
[null,null,null,null,"・増加　　 　・転入　　　　（　　　　）",null,null,null,null,null,null,null,null,null,null,null,null,null,null,null,null,null,null,null,null,null,null,null,null,null,null,null,null,null,null,null,null,null,null,null,null,null,null,null,null,null,null,null,null,null,null,null,null,null,null,null,null,null,null,null,null,null,null,null,null,null,null,null,null,null,null,"年",null,null,null,"月",null,null,null,"日"]
[]
[null,"業種",null,null,"深夜電力",null,null,null,null,null,null,null,null,null,null,null,null,null,null,"・ﾙｰﾌﾋｰﾃｨﾝｸﾞ",null,null,null,null,null,null,null,null,null,null,null,"・その他",null,null,null,null,null,null,"ホットタイム",null,null,null,null,null,null,null,null,null,null,null,null,"・ｾﾝｻｰ付ﾛｰﾄﾞ(車道)またはﾙｰﾌ",null,null,null,null,null,null,null,null,null,null,null,null,null,null,null,null,null,null,"・ﾊﾟｯｹｰｼﾞ型蓄熱暖房器",null,null,null,null,null,null,null,null,null,null,null,null,null,null,null,null,null,"・暖房用･その他"]
[]
[null,null,null,null,"・温水器(8時間型)",null,null,null,null,null,null,null,null,null,null,null,null,null,null,"・ﾛｰﾄﾞﾋｰﾃｨﾝｸﾞ",null,null,null,null,null,null,null,null,null,null,null,null,null,null,null,null,null,null,"・ﾛｰﾄﾞﾋｰﾃｨﾝｸﾞ(車道)",null,null,null,null,null,null,null,null,null,null,null,null,"・ｾﾝｻｰ付ﾛｰﾄﾞ(歩道)またはﾙｰﾌ",null,null,null,null,null,null,null,null,null,null,null,null,null,null,null,null,null,null,"・ﾊﾟﾈﾙﾋｰﾀｰ",null,null,null,null,null,null,null,null,null,null,null,null,null,null,null,null,null,null,null,null,null,null,null,null,null,null,null,null,null,null,"竣工調査"]
[]
[null,null,null,null,"・蓄熱暖房器",null,null,null,null,null,null,null,null,null,null,null,null,null,null,"・温水器(5時間型)",null,null,null,null,null,null,null,null,null,null,null,null,null,null,null,null,null,null,"・ﾛｰﾄﾞﾋｰﾃｨﾝｸﾞ(歩道)",null,null,null,null,null,null,null,null,null,null,null,null,"・融雪用･その他",null,null,null,null,null,null,null,null,null,null,null,null,null,null,null,null,null,null,"・ﾋｰﾄﾎﾟﾝﾌﾟまたは融雪用電力Ｌ"]
[]
[null,null,null,null,"・温水器(8時間ﾏｲｺﾝ型)",null,null,null,null,null,null,null,null,null,null,null,null,null,null,"・温水器と蓄熱暖房器の併用",null,null,null,null,null,null,null,null,null,null,null,null,null,null,null,null,null,null,"・ﾙｰﾌﾋｰﾃｨﾝｸﾞ",null,null,null,null,null,null,null,null,null,null,null,null,"・床暖",null,null,null,null,null,null,null,null,null,null,null,null,null,null,null,null,null,null,"・ｾﾝｻｰ付ﾛｰﾄﾞまたはﾙｰﾌ･暖房併用"]
[]
[null,"入居区分",null,null,"・入居",null,null,null,null,null,null,null,"供給\n電気\n方式",null,null,{"$f":"IF(入力用!O32=2,\"単相2線100V\",IF(入力用!O32=3,\"単相2線200V\",IF(入力用!O32=4,\"単相3線100V\",IF(入力用!O32=5,\"3相3線200V\",\"\"))))","v":""},null,null,null,null,null,null,null,null,"計量\n電気\n方式",null,null,"・単相2線100Ｖ",null,null,null,null,null,null,null,null,"ＴＳ\n取付\n区分",null,null,"・通常　　　　 ・切替型",null,null,null,null,null,null,null,null,null,null,null,null,null,null,null,null,null,"系統連系情報",null,null,null,null,"・系統連系有　　・系統連系無",null,null,null,null,null,null,null,null,null,null,null,null,null,null,null,null,"引込柱№",null,null,"画",null,null,"区",null,null,"図",null,null,"番",null,null,"の",null,null,"号"]
[]
[null,null,null,null,null,null,null,null,null,null,null,null,null,null,null,null,null,null,null,null,null,null,null,null,null,null,null,"・単相2線200Ｖ",null,null,null,null,null,null,null,null,null,null,null,null,null,null,null,null,null,null,null,null,null,null,null,null,null,null,null,null,null,null,null,null,null,null,null,null,null,null,null,null,null,null,null,null,null,null,null,null,null,null,null,null,null,null,null,null,null,null,null,null,null,null,null,null,null,null,null,null,null,null,null,null,null,"完了確認"]
[null,null,null,null,null,null,null,null,null,null,null,null,null,null,null,null,null,null,null,null,null,null,null,null,null,null,null,null,null,null,null,null,null,null,null,null,null,null,null,"・共用･TSなし　・5時間型"]
[null,null,null,null,"・未入居",null,null,null,null,null,null,null,null,null,null,null,null,null,null,null,null,null,null,null,null,null,null,"・単相3線100Ｖ",null,null,null,null,null,null,null,null,null,null,null,null,null,null,null,null,null,null,null,null,null,null,null,null,null,null,null,null,null,null,null,null,null,null,"・逆潮流有　　・逆潮流無"]
[null,null,null,null,null,null,null,null,null,null,null,null,null,null,null,null,null,null,null,null,null,null,null,null,null,null,null,null,null,null,null,null,null,null,null,null,null,null,null,"・併用･高圧AS　・5時間型MS用"]
[null,null,null,null,null,null,null,null,null,null,null,null,null,null,null,null,null,null,null,null,null,null,null,null,null,null,null,"・3相3線200Ｖ "]
[]
[null,"計量\n区分",null,null,{"$f":"IF(OR(入力用!O31=5,入力用!O31=7),\"16時からの5時間連続カット\",IF(OR(入力用!O31=6,入力用!O31>7),AN57&AR57&AT57&AX57&BB57&BF57,IF(AND(入力用!O31>1,入力用!O31<5),\"　　　 時～　　　 時\",\"\")))","v":""},null,null,null,null,null,null,null,null,null,null,null,null,null,null,null,null,null,null,"計器取付位置",null,null,"・屋外　　　・屋内",null,null,null,null,null,null,null,null,null,null,null,null,null,null,"ＣＴ取付位置",null,null,"・屋外　　　・屋内",null,null,null,null,null,null,null,null,null,null,null,null,null,null,"ＣＴ\n２次\n亘長"]
[]
[null,null,null,null,null,null,null,null,null,null,null,null,null,null,null,null,null,null,null,null,null,null,null,null,null,null,"・屋外柱　　・集合盤",null,null,null,null,null,null,null,null,null,null,null,null,null,null,null,null,null,"・屋外柱　　・集合盤",null,null,null,null,null,null,null,null,null,null,null,null,null,null,null,null,null,null,null,null,null,null,null,null,null,null,null,null,null,null,null,null,null,null,null,null,null,null,null,null,null,null,null,null,null,null,null,null,null,null,null,null,null,null,null,null,"完了連絡"]
[]
[null,null,null,null,null,null,null,null,null,null,null,null,null,null,null,null,null,null,null,null,null,null,null,null,null,null,"・ｷｭｰﾋﾞｸﾙ　 ・受電室",null,null,null,null,null,null,null,null,null,null,null,null,null,null,null,null,null,"・ｷｭｰﾋﾞｸﾙ　 ・受電室",null,null,null,null,null,null,null,null,null,null,null,null,null,null,null,null,null,null,null,null,null,"ｍ"]
[]
[null,"支払者\n番号",null,null,null,null,null,null,null,null,null,null,null,null,null,null,null,null,null,null,null,null,"まとめ\n請求",null,null,null,"・有　　　・無",null,null,null,null,null,null,null,null,null,null,null,null,null,"支払\n番号",null,null,null,null,null,null,null,null,null,null,null,null,null,null,null,null,"決済\nアクセスキー",null,null,null,null,null,null,null,null,null,null,null,null,null,null,null,null,null,null,null,null,null,null,"請求書\n要　否",null,null,null,"・否　　　・要"]
[]
[]
[]
[null,null,null,null,null,null,null,null,null,null,null,null,null,null,null,null,null,null,null,null,null,null,null,null,null,null,null,null,null,null,null,null,null,null,null,null,null,null,null,null,null,null,null,null,null,null,null,null,null,null,null,null,null,null,null,null,null,null,null,null,null,null,null,null,null,null,null,null,null,null,null,null,null,null,null,null,null,null,null,null,null,null,null,null,null,null,null,null,null,null,null,null,null,null,null,null,null,null,null,null,null,"ＤＭ送付"]
[]
[null,"＜備考＞"]
[]
[]
[]
[]
[]
[null,null,null,null,null,null,null,null,null,null,null,null,null,null,null,null,null,null,null,null,null,null,null,null,null,null,null,null,null,null,null,null,null,null,null,null,null,null,null,null,null,null,null,null,null,null,null,null,null,null,null,null,null,null,null,null,null,null,null,null,null,null,null,null,null,null,null,null,null,null,null,null,null,null,null,null,null,null,null,null,null,null,null,null,null,null,null,null,null,null,null,null,null,null,null,null,null,null,null,null,null,"照合"]
[]
[]
[]
[]
[]
[]
[]
[]
[]
[null,null,null,null,null,null,null,null,null,null,null,null,null,null,null,null,null,null,null,null,"他契約登録",null,"要 ・ 不要",null,null,null,null,null,null,null,"他契約登録番号",null,null,null,null,null,null,null,null,null,null,null,null,null,null,null,null,null,null,null,null,null,"　□供給地点他契約登録済"]
[]
[]
[null,null,null,null,null,null,null,null,null,null,null,null,null,null,null,null,null,null,null,null,null,null,null,null,null,null,null,null,null,null,null,null,null,null,null,null,null,null,null,null,null,null,null,null,null,null,null,null,null,null,null,null,null,null,null,null,null,null,null,null,null,null,null,null,null,null,null,null,null,null,null,null,null,null,null,null,null,null,null,null,"計器\n増設",null,null,null,"取　外　計　器"]
[]
[null,null,null,null,null,null,null,null,null,null,null,null,null,null,null,null,null,null,null,null,null,null,null,null,null,null,null,null,null,null,null,null,null,null,null,null,null,null,null,null,null,null,null,null,null,null,null,null,null,null,null,null,null,null,null,null,null,null,null,null,null,null,null,null,null,null,null,null,null,null,null,null,null,null,null,null,null,null,null,null,null,null,null,null,"指示数"]
[]
[null,null,null,null,null,null,null,null,null,null,null,null,null,null,null,null,null,null,null,null,null,null,null,null,null,null,null,null,null,null,null,null,null,null,null,null,null,null,null,null,null,null,null,null,null,null,null,null,null,null,null,null,null,null,null,null,null,null,null,null,null,null,null,null,null,null,null,null,null,null,null,null,null,null,null,null,null,null,null,null,null,null,null,null,null,null,"夜　間"]
[]
[null,null,null,null,null,null,null,null,null,null,null,null,null,null,null,null,null,null,null,null,null,null,null,null,null,null,null,null,null,null,null,null,null,null,null,null,null,null,null,null,null,null,null,null,null,null,null,null,null,null,null,null,null,null,null,null,null,null,null,null,null,null,null,null,null,null,null,null,null,null,null,null,null,null,null,null,null,null,null,null,null,null,null,null,"計器№",null,null,null,null,null,null,null,null,null,"乗率"]
[]
["北　海　道　電　力　ネ　ッ　ト　ワ　ー　ク　株　式　会　社"]