{"text_format":"1","workbook":"xlsx","n_sheets":4,"sheets":["入力用","１枚目","２枚目","３枚目"],"not_rendered":{"charts":0,"images":0,"macros":1,"external_links":0,"defined_names":4,"comments":1,"pivot_tables":0},"unopened":[],"bounds":{"document_bytes":16777216,"sheet_cells":100000,"rows_first":2000,"rows_last":500,"rows_between":2000,"halvings":0,"cell_chars":16384,"cell_head_chars":4096},"cells_cut":0,"cells_raw":0,"read":"whole","date_system":"1900"}

{"sheet":"入力用","index":0,"n_rows":161,"n_cols":33,"rows_kept":161,"cut":false,"hidden":false,"merged":[[147,2,147,10],[149,2,149,3],[139,0,144,0],[140,2,140,10],[141,2,141,10],[143,2,143,3],[34,0,34,1],[156,0,160,0],[157,2,157,10],[158,2,158,10],[159,2,159,3],[151,0,155,0],[152,2,152,10],[153,2,153,10],[154,2,154,3],[145,0,150,0],[133,0,138,0],[134,2,134,10],[135,2,135,10],[137,2,137,3],[127,0,132,0],[128,2,128,10],[129,2,129,10],[131,2,131,3],[146,2,146,10],[103,0,110,0],[105,2,105,10],[106,2,106,10],[109,2,109,3],[95,0,102,0],[97,2,97,10],[98,2,98,10],[101,2,101,3],[119,0,126,0],[121,2,121,10],[122,2,122,10],[125,2,125,3],[111,0,118,0],[113,2,113,10],[114,2,114,10],[117,2,117,3],[71,0,78,0],[73,2,73,10],[74,2,74,10],[77,2,77,3],[63,0,70,0],[65,2,65,10],[66,2,66,10],[69,2,69,3],[87,0,94,0],[89,2,89,10],[90,2,90,10],[93,2,93,3],[79,0,86,0],[81,2,81,10],[82,2,82,10],[85,2,85,3],[45,15,45,16],[48,0,48,1],[48,2,48,3],[48,4,48,5],[53,0,54,0],[54,2,54,3],[54,4,54,5],[55,0,62,0],[61,2,61,3],[49,0,50,0],[50,2,50,3],[50,4,50,5],[51,0,52,0],[52,2,52,3],[53,15,53,31],[57,2,57,10],[58,2,58,10],[56,22,56,23],[56,24,56,25],[56,26,56,27],[52,4,52,5],[39,0,39,1],[40,0,47,0],[40,1,41,1],[41,2,41,3],[42,1,43,1],[43,2,43,3],[44,1,47,1],[45,3,45,6],[46,2,46,3],[46,4,46,10],[47,2,47,3],[47,4,47,10],[30,0,30,1],[25,0,26,0],[25,2,25,10],[27,0,27,1],[27,2,27,8],[36,0,36,1],[37,0,37,1],[38,0,38,1],[38,2,38,10],[37,6,37,10],[31,0,31,1],[32,0,32,1],[33,0,33,1],[35,0,35,1],[28,2,28,5],[25,16,25,17],[26,4,26,5],[26,7,26,8],[22,0,24,0],[22,2,22,5],[23,2,23,10],[24,4,24,5],[24,7,24,8],[29,0,29,1],[29,4,29,5],[29,8,29,9],[19,0,19,1],[20,0,21,0],[20,2,20,10],[21,2,21,10],[14,16,14,24],[15,4,15,5],[15,7,15,8],[16,0,18,0],[16,2,16,10],[17,2,17,10],[9,0,10,0],[9,4,9,5],[9,7,9,8],[10,4,10,5],[10,7,10,8],[18,4,18,5],[18,7,18,8],[11,0,15,0],[11,2,11,10],[12,2,12,10],[13,4,13,5],[14,2,14,10],[2,14,2,32],[3,0,6,0],[3,2,3,10],[4,2,4,10],[5,2,5,10],[6,2,6,10],[7,0,8,0],[7,2,7,5],[8,2,8,10]]}
[]
[null,null,null,null,null,null,null,null,null,null,null,null,null,false,{"$f":"IF(N2=TRUE,1,0)","v":0}]
[{"$f":"IF(L3=\"\",\"印刷されましたら，「NW控」の裏面に施設組合印および御社の社印を押印してください。\",\"必要事項をすべて入力すると，右の表示が消えます。\")","v":"必要事項をすべて入力すると，右の表示が消えます。"},null,null,null,null,null,null,null,null,null,null,{"$f":"IF(M3=\"\",\"\",M3)","v":"入力に不備があります。"},{"$f":"IF(COUNTBLANK(M4:M5)+COUNTBLANK(M8:M32)+COUNTBLANK(M37:M55)=46,\"\",\"入力に不備があります。\")","v":"入力に不備があります。"},null,"ドロップダウンリスト"]
["ご契約名義","フリガナ",null,null,null,null,null,null,null,null,null,"←入力してください。",{"$f":"IF(C4=\"\",\"←入力してください。\",IF(LEN(ASC(C4))>40,\"←「゛」「゜」を含め，40文字以内としてください。\",\"\"))","v":"←入力してください。"},null,"支払方法","契約種別","業種","供給電気方式・供給電圧","夜間時間開始時刻",null,"午後時間","供給方法","契約決定方法","本契約前の臨時契約の有無","適用業種別回路数内訳","蓄熱機器種別","蓄熱通電時間","蓄熱通電制御","蓄熱ﾀｲﾑｺﾝﾄﾛｰﾗｰ設置","ｵﾌﾋﾟｰｸ機器種別","ｵﾌﾋﾟｰｸ通電制御","非蓄機器種別","非蓄熱式電気暖房割引"]
[null,"漢字",null,null,null,null,null,null,null,null,null,"←入力してください。",{"$f":"IF(C5=\"\",\"←入力してください。\",\"\")","v":"←入力してください。"}]
[null,"代表者肩書",null,null,null,null,null,null,null,null,null,"ご契約者が個人名ではない場合は入力してください。",{"$f":"IF(C6=\"\",\"ご契約者が個人名ではない場合は入力してください。\",\"\")","v":"ご契約者が個人名ではない場合は入力してください。"},null,"振込用紙","ドリーム８","住宅","単相2線式100Ｖ","22時",null,"13時","Ａ方式同一計量(屋内分岐)","ブレーカー契約（ＳＢ）","有","住宅","温水器","8時間","あり","あり(内蔵)","HP温水器","あり","暖房エアコン","Ⅰ型"]
[null,"代表者名",null,null,null,null,null,null,null,null,null,"ご契約者が個人名ではない場合は入力してください。",{"$f":"IF(C7=\"\",\"ご契約者が個人名ではない場合は入力してください。\",\"\")","v":"ご契約者が個人名ではない場合は入力してください。"},null,"口座振替","ｅタイム３","アパート・寮","単相2線式200Ｖ","23時",null,"14時","Ｂ方式同一計量(屋外分岐)","主開閉器契約","無","アパート・寮","蓄熱式暖房器","5時間","なし","あり(取付)","HP暖給一体型","なし","HP温水暖房","Ⅱ型"]
["ご使用場所","郵便番号",null,null,null,null,null,null,null,null,null,null,null,null,"クレジット",null,"商店","単相3線式100V・200V","24時",null,"15時",{"$f":"\"Ｃ方式別計量(計器\"&IF(K36=\"\",\"　　\",K36)&\"台)\"","v":"Ｃ方式別計量(計器2台)"},"負荷設備契約",null,"商店","その他",null,null,"なし","その他",null,"その他","なし"]
[null,"住所",null,null,null,null,null,null,null,null,null,"←入力してください。",{"$f":"IF(C9=\"\",\"←入力してください。\",\"\")","v":"←入力してください。"},null,null,null,"事務所","3相3線式200V",null,null,null,null,"回路契約",null,"工場"]
["電話番号","固定",null,"-",null,null,"-",null,null,null,null,"",{"$f":"IF(OR(C10=\"\",E10=\"\",H10=\"\"),\"\",IF(OR(LEN(H10)<>4,LEN(C10)+LEN(E10)+LEN(H10)<>10),\"←入力内容が不正です。\",\"\"))","v":""},null,null,null,"その他",null,null,null,null,null,"総合主開閉器契約",null,"事務所",null,null,null,null,null,null,null,"配電Ｎｅｔ申込"]
[null,"携帯",null,"-",null,null,"-",null,null,null,null,"",{"$f":"IF(OR(C11=\"\",E11=\"\",K11=\"\"),\"\",IF(OR(LEN(K11)<>4,LEN(C11)+LEN(E11)+LEN(K11)<>11),\"←入力内容が不正です。\",\"\"))","v":""},null,null,null,null,null,null,null,null,null,"ブレーカー契約（計器）",null,"旅館・飲食店"]
["電気工事会社","会社名",null,null,null,null,null,null,null,null,null,"←入力してください。",{"$f":"IF(C12=\"\",\"←入力してください。\",\"\")","v":"←入力してください。"},null,null,null,null,null,null,null,null,null,null,null,"学校・病院",null,null,null,null,null,null,null,"有"]
[null,"担当者",null,null,null,null,null,null,null,null,null,"←入力してください。",{"$f":"IF(C13=\"\",\"←入力してください。\",\"\")","v":"←入力してください。"},null,null,null,null,null,null,null,null,null,null,null,"劇場・娯楽場",null,null,null,null,null,null,null,"無"]
[null,"工事会社№",null,"-",null,null,null,null,null,null,null,"←入力してください。",{"$f":"IF(OR(C14=\"\",E14=\"\"),\"←入力してください。\",IF(OR(LEN(C14)<>2,LEN(E14)<>3),\"←入力内容が不正です。\",\"\"))","v":"←入力してください。"},null,null,null,null,null,null,null,null,null,null,null,"その他"]
[null,"住所",null,null,null,null,null,null,null,null,null,"←入力してください。",{"$f":"IF(C15=\"\",\"←入力してください。\",\"\")","v":"←入力してください。"},null,null,null,"回路契約計算"]
[null,"電話",null,"-",null,null,"-",null,null,null,null,"←入力してください。",{"$f":"IF(AND(C16=\"\",E16=\"\",H16=\"\"),\"←入力してください。\",IF(OR(LEN(H16)<>4,LEN(C16)+LEN(E16)+LEN(H16)<10,LEN(C16)+LEN(E16)+LEN(H16)>11),\"←入力内容が不正です。\",\"\"))","v":"←入力してください。"},null,null,null,null,"～5回路","～10回路",null,null,"11回路～","内訳１","内訳２","内訳３"]
["建築会社","会社名",null,null,null,null,null,null,null,null,null,"",{"$f":"IF(AND(C18=\"\",C19=\"\",E19=\"\",H19=\"\"),\"\",IF(C17=\"\",\"←入力してください。\",\"\"))","v":""},null,null,null,"住宅",970,440,null,null,340,{"$f":"IF($C$51<6,R17*$C$51,IF($C$51<11,R17*5+S17*($C$51-5),R17*5+S17*5+V17*($C$51-10)))","v":0},{"$f":"IF($C$53<6,S17*$C$53,IF($C$53<11,S17*5+V17*($C$53-5),S17*5+V17*5+W17*($C$53-10)))","v":0},{"$f":"IF($C$55<6,R17*$C$55,IF($C$55<11,R17*5+S17*($C$55-5),R17*5+S17*5+V17*($C$55-10)))","v":0}]
[null,"担当者",null,null,null,null,null,null,null,null,null,"",{"$f":"IF(AND(C17=\"\",C19=\"\",E19=\"\",H19=\"\"),\"\",IF(C18=\"\",\"←入力してください。\",\"\"))","v":""},null,null,null,"アパート・寮",1060,540,null,null,460,0,0,0]
[null,"電話",null,"-",null,null,"-",null,null,null,null,"",{"$f":"IF(LEN(C19)+LEN(E19)+LEN(H19)=0,\"\",IF(OR(LEN(H19)<>4,LEN(C19)+LEN(E19)+LEN(H19)<10,LEN(C19)+LEN(E19)+LEN(H19)>11),\"←入力内容が不正です。\",\"\"))","v":""},null,1,null,"商店",1070,540,null,null,540,0,0,0]
["お支払方法",null,null,null,null,null,null,null,null,null,null,"←選択してください。",{"$f":"IF(O20=1,\"←選択してください。\",\"\")","v":"←選択してください。"},null,1,null,"工場",1080,510,null,null,510,0,0,0]
["支払者名","フリガナ",null,null,null,null,null,null,null,null,null,"",{"$f":"IF(AND(C21=\"\",C22=\"\"),\"\",IF(AND(C21=\"\",C22<>\"同上\"),\"←入力してください。\",IF(LEN(ASC(C21))>40,\"←「゛」「゜」を含め，40文字以内としてください。\",\"\")))","v":""},null,null,null,"事務所",1100,610,null,null,480,0,0,0]
[null,"漢字",null,null,null,null,null,null,null,null,null,"←入力してください。",{"$f":"IF(C22=\"\",\"←入力してください。\",\"\")","v":"←入力してください。"},null,null,null,"旅館・飲食店",1060,530,null,null,530,0,0,0]
["請求書送付先","郵便番号",null,null,null,null,null,null,null,null,null,"",{"$f":"IF(AND(C23=\"\",C24=\"\"),\"\",IF(AND(C23=\"\",C24<>\"同上\"),\"←入力してください。\",IF(C23=\"\",\"\",IF(OR(AND(MID(C23,4,1)<>\"-\",LEN(C23)<>7),AND(MID(C23,4,1)=\"-\",LEN(C23)<>8)),\"←入力誤りです。\",\"\"))))","v":""},null,null,null,"学校・病院",1170,600,null,null,600,0,0,0]
[null,"住所",null,null,null,null,null,null,null,null,null,"←入力してください。",{"$f":"IF(C24=\"\",\"←入力してください。\",\"\")","v":"←入力してください。"},null,null,null,"劇場・娯楽場",1070,660,null,null,660,0,0,0]
[null,"電話",null,"-",null,null,"-",null,null,null,null,"",{"$f":"IF(AND(C24=\"\",C25=\"\",E25=\"\",H25=\"\"),\"\",IF(C24=\"同上\",\"\",IF(AND(C25=\"\",E25=\"\",H25=\"\"),\"←入力してください。\",IF(OR(LEN(H25)<>4,LEN(C25)+LEN(E25)+LEN(H25)<10,LEN(C25)+LEN(E25)+LEN(H25)>11),\"←入力内容が不正です。\",\"\"))))","v":""},null,null,null,"その他",1060,540,null,null,540,0,0,0]
["ご連絡先","住所",null,null,null,null,null,null,null,null,null,"←入力してください。",{"$f":"IF(C26=\"\",\"←入力してください。\",\"\")","v":"←入力してください。"},null,null,null,"合計容量算定"]
[null,"電話",null,"-",null,null,"-",null,null,null,null,"",{"$f":"IF(AND(C26=\"\",C27=\"\",E27=\"\",H27=\"\"),\"\",IF(OR(C26=\"同上\",C26=\"同左\"),\"\",IF(AND(C27=\"\",E27=\"\",H27=\"\"),\"←入力してください。\",IF(OR(LEN(H27)<>4,LEN(C27)+LEN(E27)+LEN(H27)<10,LEN(C27)+LEN(E27)+LEN(H27)>11),\"←入力内容が不正です。\",\"\"))))","v":""},null,1,null,"合計容量",{"$f":"IF(OR(O37=2,O37=7),R28,IF(OR(O37=3,O37=6),R29,IF(O37=4,R30,IF(O37=5,R31,\"\"))))","v":""}]
["電設Ｎｅｔ申込",null,null,null,null,null,null,null,null,null,null,{"$f":"IF(M28=\"\",\"\",M28)","v":"←選択してください。"},{"$f":"IF(O28=1,\"←選択してください。\",\"\")","v":"←選択してください。"},null,1,null,"ブレーカー契約",{"$f":"C38*100","v":0}]
["電設工事番号",null,null,null,null,null,null,null,null,null,null,{"$f":"IF(M29=\"\",\"\",M29)","v":""},{"$f":"IF(OR(O28=1,O28=3),\"\",IF(LEN(ASC(C29))>10,\"←10桁の番号を入力してください。\",\"\"))","v":""},null,1,"業種表示用","主開閉器契約",{"$f":"IF(O33=2,C38*100,IF(OR(O33=3,O33=4),C38*200,IF(O33=5,C38*200*1.732,0)))","v":0}]
["受電希望日",null,null,"年",null,null,"月",null,"日",null,null,"←入力してください。",{"$f":"IF(OR(C30=\"\",E30=\"\",H30=\"\"),\"←入力してください。\",IF(AND(ISNUMBER(C30),ISNUMBER(E30),ISNUMBER(H30)),IF(OR(C30<1,E30<1,E30>12,H30<1,H30>31),\"←入力内容が不正です。\",\"\"),\"←数字を入力してください。\"))","v":"←入力してください。"},null,1,{"$f":"IF(O32=2,Q6,IF(O32=3,Q7,IF(O32=4,Q8,IF(O32=5,Q9,IF(O32=6,K32,\"\")))))","v":""},"負荷設備契約",{"$f":"C42+C44","v":0}]
["契約種別",null,null,null,null,null,null,null,null,null,null,"←選択してください。",{"$f":"IF(O31=1,\"←選択してください。\",\"\")","v":"←選択してください。"},null,1,null,"回路契約",{"$f":"Q49+Q51+Q53+C42+C44","v":{"$error":"#VALUE!"}}]
["業種",null,null,null,null,null,null,null,null,null,null,"←選択してください。",{"$f":"IF(O32=1,\"←選択してください。\",IF(AND(O32=6,K32=\"\"),\"←具体的な業種を入力してください。\",\"\"))","v":"←選択してください。"},null,1]
["供給電気方式・供給電圧",null,null,null,null,null,null,null,null,null,null,"←選択してください。",{"$f":"IF(O33=1,\"←選択してください。\",IF(O33=5,\"←間違いありませんか？\",\"\"))","v":"←選択してください。"},null,1]
["夜間時間開始時刻",null,null,null,null,null,null,null,null,null,null,{"$f":"IF(M34=\"\",\"\",M34)","v":"←選択してください。"},{"$f":"IF(O34=1,\"←選択してください。\",IF(AND(O31=4,O34<>2),\"←ｅタイム3の場合は22時を選択してください。\",\"\"))","v":"←選択してください。"},null,1]
["午後時間開始時刻",null,null,null,null,null,null,null,null,null,null,null,null,null,1]
["供給方法",null,null,null,null,null,null,null,null,null,2,{"$f":"IF(M36=\"\",\"\",M36)","v":"←選択してください。"},{"$f":"IF(O36=1,\"←選択してください。\",IF(O36=4,IF(K36=\"\",\"←計器の台数を入力してください。\",IF(AND(K36<>2,K36<>3,K36<>4),\"←計器台数が不正です。\",\"\")),\"\"))","v":"←選択してください。"},null,1]
["契約決定方法",null,null,null,null,null,null,null,null,null,null,"←選択してください。",{"$f":"IF(O37=1,\"←選択してください。\",\"\")","v":"←選択してください。"},false,1]
["主開閉器・電流制限器の定格電流",null,null,null,null,null,"←主開閉器・電流制限器の１次側",null,null,null,null,"",{"$f":"IF(AND(C38=\"\",OR(O37=2,O37=3,O37=6,O37=7)),\"←入力してください。\",IF(OR(C38=\"\",ISNUMBER(C38)),IF(AND(OR(O37=2,O37=7),C38<>5,C38<>10,C38<>15,C38<>20,C38<>30,C38<>40,C38<>50,C38<>60),\"←入力内容が不正です。\",\"\"),\"←数字を入力してください。\"))","v":""},false,1]
["フリーエリア計器払出事業所名",null,null,null,null,null,null,null,null,null,null,"←希望がなければ「なし」と入力してください。",{"$f":"IF(C39=\"\",\"←希望がなければ「なし」と入力してください。\",\"\")","v":"←希望がなければ「なし」と入力してください。"},null,1]
["本契約前の臨時契約の有無",null,null,null,null,null,null,null,null,null,null,{"$f":"IF(M40=\"\",\"\",M40)","v":"←選択してください。"},{"$f":"IF(O40=1,\"←選択してください。\",\"\")","v":"←選択してください。"},null,1]
["一般機器\n容量内訳","電灯",null,"灯",null,null,null,null,null,null,null,{"$f":"IF(M41=\"\",\"\",M41)","v":""},{"$f":"IF(OR(C41=\"\",ISNUMBER(C41)),IF(AND(O37=4,C41*C42+C43*C44=0),\"←入力してください。\",\"\"),\"←数字を入力してください。\")","v":""}]
[null,null,null,null,"ＶＡ",null,null,null,null,null,null,"",{"$f":"IF(OR(C42=\"\",ISNUMBER(C42)),IF(AND(O37=4,C41*C42+C43*C44=0),\"←入力してください。\",\"\"),\"←数字を入力してください。\")","v":""}]
[null,"小型機器",null,"個",null,null,null,null,null,null,null,"",{"$f":"IF(OR(C43=\"\",ISNUMBER(C43)),IF(AND(O37=4,C41*C42+C43*C44=0),\"←入力してください。\",\"\"),\"←数字を入力してください。\")","v":""}]
[null,null,null,null,"ＶＡ",null,null,null,null,null,null,"",{"$f":"IF(OR(C44=\"\",ISNUMBER(C44)),IF(AND(O37=4,C41*C42+C43*C44=0),\"←入力してください。\",\"\"),\"←数字を入力してください。\")","v":""}]
[null,"小型機器\nのうち，ＩＨ\nクッキング\nヒーター",null,"台",null,null,null,null,null,null,null,"",{"$f":"IF(AND(D46=\"\",E47=\"\",E48=\"\"),\"\",IF(C45=\"\",\"←入力してください。\",IF(OR(C45=\"\",ISNUMBER(C45)),\"\",\"←数字を入力してください。\")))","v":""}]
[null,null,"合計",null,null,null,null,"ＶＡ",null,null,null,"",{"$f":"IF(AND(C45=\"\",E47=\"\",E48=\"\"),\"\",IF(D46=\"\",\"←入力してください。\",IF(OR(D46=\"\",ISNUMBER(D46)),\"\",\"←数字を入力してください。\")))","v":""},null,null,"回路契約"]
[null,null,"メーカー",null,null,null,null,null,null,null,null,"",null,null,null,"業種表示用","容量計算用"]
[null,null,"型式",null,null,null,null,null,null,null,null,"",null,null,null,{"$f":"IF(O50=2,Y$6,IF(O50=3,Y$7,IF(O50=4,Y$8,IF(O50=5,Y$9,IF(O50=6,Y$10,IF(O50=7,Y$11,IF(O50=8,Y$12,IF(O50=9,Y$13,\"\"))))))))","v":""},{"$f":"IF(O50=2,W$17,IF(O50=3,W$18,IF(O50=4,W$19,IF(O50=5,W$20,IF(O50=6,W$21,IF(O50=7,W$22,IF(O50=8,W$23,IF(O50=9,W$24,\"\"))))))))","v":""}]
["回路数",null,null,null,"回路",null,null,null,null,null,null,"←入力してください。",{"$f":"IF(C49=\"\",\"←入力してください。\",IF(ISNUMBER(C49),\"\",\"←数字を入力してください。\"))","v":"←入力してください。"},null,1,{"$f":"IF(O50=10,Y$14,P48)","v":""},{"$f":"IF(O50=10,W$25,Q48)","v":""}]
["適用業種別\n回路数内訳１","業種",null,null,null,null,null,null,null,null,null,"",{"$f":"IF(AND(O37<>5,O50<>1),\"←選択できません。\",IF(AND(O37=5,O50=1),\"←選択してください。\",\"\"))","v":""},null,1,{"$f":"IF(O52=2,Y$6,IF(O52=3,Y$7,IF(O52=4,Y$8,IF(O52=5,Y$9,IF(O52=6,Y$10,IF(O52=7,Y$11,IF(O52=8,Y$12,IF(O52=9,Y$13,\"\"))))))))","v":""},{"$f":"IF(O52=2,W$17,IF(O52=3,W$18,IF(O52=4,W$19,IF(O52=5,W$20,IF(O52=6,W$21,IF(O52=7,W$22,IF(O52=8,W$23,IF(O52=9,W$24,\"\"))))))))","v":""}]
[null,"回路数",null,null,"回路",null,null,null,null,null,null,"",{"$f":"IF(O37<>5,IF(C51<>\"\",\"←入力できません。\",\"\"),IF(C51=\"\",\"←入力してください。\",IF(ISNUMBER(C51),\"\",\"←数字を入力してください。\")))","v":""},null,1,{"$f":"IF(O52=10,Y$14,P50)","v":""},{"$f":"IF(O52=10,W$25,Q50)","v":""}]
["適用業種別\n回路数内訳２","業種",null,null,null,null,null,null,null,null,null,"",{"$f":"IF(AND(O37<>5,O52<>1),\"←選択できません。\",IF(AND(O37=5,C53<>\"\",O52=1),\"←選択してください。\",\"\"))","v":""},null,1,{"$f":"IF(O54=2,Y$6,IF(O54=3,Y$7,IF(O54=4,Y$8,IF(O54=5,Y$9,IF(O54=6,Y$10,IF(O54=7,Y$11,IF(O54=8,Y$12,IF(O54=9,Y$13,\"\"))))))))","v":""},{"$f":"IF(O54=2,W$17,IF(O54=3,W$18,IF(O54=4,W$19,IF(O54=5,W$20,IF(O54=6,W$21,IF(O54=7,W$22,IF(O54=8,W$23,IF(O54=9,W$24,\"\"))))))))","v":""}]
[null,"回路数",null,null,"回路",null,null,null,null,null,null,"",{"$f":"IF(O37<>5,IF(C53<>\"\",\"←入力できません。\",\"\"),IF(O52=1,\"\",IF(C53=\"\",\"←入力してください。\",IF(ISNUMBER(C53),\"\",\"←数字を入力してください。\"))))","v":""},null,1,{"$f":"IF(O54=10,Y$14,P52)","v":""},{"$f":"IF(O54=10,W$25,Q52)","v":""}]
["適用業種別\n回路数内訳３","業種",null,null,null,null,null,null,null,null,null,"",{"$f":"IF(AND(O37<>5,O54<>1),\"←選択できません。\",IF(AND(O37=5,C55<>\"\",O54=1),\"←選択してください。\",\"\"))","v":""},null,1,"当社控作成用"]
[null,"回路数",null,null,"回路",null,null,null,null,null,null,"",{"$f":"IF(O37<>5,IF(C55<>\"\",\"←入力できません。\",\"\"),IF(O54=1,\"\",IF(C55=\"\",\"←入力してください。\",IF(ISNUMBER(C55),\"\",\"←数字を入力してください。\"))))","v":""},null,1,"蓄熱保有","ＴＣ設置","計量区分","ＳＢ容量",null,null,"割引区分","８Ｈ機器区分","８Ｈ機器合計","MC蓄暖","ＭＣ温水器","５Ｈ機器区分","５Ｈ機器合計","５Ｈ蓄暖","５Ｈ温水器等","非蓄容量"]
["夜間蓄熱型\n機器１","機器種別",null,null,null,null,null,null,null,null,null,"",{"$f":"IF(AND(O56=4,K56=\"\"),\"←具体的な機器種別を入力してください。\",IF(AND(O56=1,OR(O57>1,C58<>\"\",C59<>\"\",O60>1,O61>1,C62<>\"\",C63<>\"\")),\"←選択してください。\",\"\"))","v":""},null,1,{"$f":"IF(AND(C63=\"\",C71=\"\",C79=\"\",C86=\"\",C95=\"\",C103=\"\",C111=\"\",C119=\"\",C127=\"\",C133=\"\",C139=\"\",C145=\"\"),\"未保有\",\"保有\")","v":"未保有"},{"$f":"IF(OR(O61=2,O61=3,O69=2,O69=3,O77=2,O77=3,O85=2,O85=3,O93=2,O93=3,O101=2,O101=3,O109=2,O109=3,O117=2,O117=3,O125=2,O125=3),1,\"\")","v":""},{"$f":"IF(O36=2,\"21\",IF(O36=3,\"22\",IF(K36=2,\"11\",IF(K36=3,\"12\",IF(K36=4,\"13\",\"\")))))","v":"11"},{"$f":"IF(OR(O37=2,O37=7),C38,\"\")","v":""},null,null,{"$f":"IF(Y56+Z56>0,IF(AB56>0,\"3\",\"1\"),IF(AB56>0,\"2\",\"\"))","v":""},{"$f":"IF(AND(X59+X60>0,X61+X62>0),\"34\",IF(X61+X62>0,\"33\",IF(X60>0,\"32\",IF(X59>0,\"31\",IF(X58=1,\"21\",IF(X63>0,\"35\",\"\"))))))","v":""},{"$f":"ROUND(SUM(X59:X63),0)","v":0},{"$f":"ROUND(X62,0)","v":0},{"$f":"ROUND(X60+Z59,0)","v":0},{"$f":"IF(AB58>0,\"41\",IF(AB56>0,\"42\",\"\"))","v":""},{"$f":"ROUND(SUM(AB58:AB60),0)","v":0},{"$f":"ROUND(AB59,0)","v":0},{"$f":"ROUND(AB58+AB60,0)","v":0},{"$f":"IF(OR(O149=1,O149=4),\"\",ROUND(P149+P154+P159,0))","v":""}]
[null,"通電時間",null,null,null,null,null,null,null,null,null,"",{"$f":"IF(AND(O56>1,O57=1),\"←選択してください。\",\"\")","v":""},null,1,null,null,null,null,null,null,null,"８Ｈ機器内容チェック",null,"オフピーク機器容量",null,"５Ｈ機器容量"]
[null,"メーカー",null,null,null,null,null,null,null,null,null,"",{"$f":"IF(AND(O56>1,C58=\"\"),\"←入力してください。\",\"\")","v":""},null,null,null,null,null,null,null,null,null,"深夜電力Ａ有無",{"$f":"IF(OR(AND(O57=2,C62>0,C62<=0.5),AND(O65=2,C70>0,C70<=0.5),AND(O73=2,C78>0,C78<=0.5),AND(O81=2,C86>0.5,C86<=0.5),AND(O89=2,C94>0,C94<=0.5),AND(O97=2,C102>0,C102<=0.5),AND(O105=2,C110>0,C110<=0.5),AND(O113=2,C118>0,C118<=0.5),AND(O121=2,C126>0,C126<=0.5)),1,0)","v":0},"温水器通常容量",{"$f":"IF(AND(O128=2,O131=3),P131,0)+IF(AND(O134=2,O137=3),P137,0)+IF(AND(O140=2,O143=3),P143,0)","v":0},"温水器容量",{"$f":"IF(AND(O56=2,O57=3),P61,0)+IF(AND(O64=2,O65=3),P69,0)+IF(AND(O72=2,O73=3),P77,0)+IF(AND(O80=2,O81=3),P85,0)+IF(AND(O88=2,O89=3),P93,0)+IF(AND(O96=2,O97=3),P101,0)+IF(AND(O104=2,O105=3),P109,0)+IF(AND(O112=2,O113=3),P117,0)+IF(AND(O120=2,O121=3),P125,0)","v":0}]
[null,"型式",null,null,null,null,null,null,null,null,null,"",{"$f":"IF(AND(O56>1,C59=\"\"),\"←入力してください。\",\"\")","v":""},null,1,null,null,null,null,null,null,null,"温水器通常容量",{"$f":"IF(AND(O56=2,O57=2,O60=3),P61,0)+IF(AND(O64=2,O65=2,O68=3),P69,0)+IF(AND(O72=2,O73=2,O76=3),P77,0)+IF(AND(O80=2,O81=2,O84=3),P85,0)+IF(AND(O88=2,O89=2,O92=3),P93,0)+IF(AND(O96=2,O97=2,O100=3),P101,0)+IF(AND(O104=2,O105=2,O108=3),P109,0)+IF(AND(O112=2,O113=2,O116=3),P117,0)+IF(AND(O120=2,O121=2,O124=3),P125,0)","v":0},"温水器マイコン容量",{"$f":"IF(AND(O128=2,O131=2),P131,0)+IF(AND(O134=2,O137=2),P137,0)+IF(AND(O140=2,O143=2),P143,0)","v":0},"蓄暖容量",{"$f":"IF(AND(O56=3,O57=3),P61,0)+IF(AND(O64=3,O65=3),P69,0)+IF(AND(O72=3,O73=3),P77,0)+IF(AND(O80=3,O81=3),P85,0)+IF(AND(O88=3,O89=3),P93,0)+IF(AND(O96=3,O97=3),P101,0)+IF(AND(O104=3,O105=3),P109,0)+IF(AND(O112=3,O113=3),P117,0)+IF(AND(O120=3,O121=3),P125,0)","v":0}]
[null,"通電制御",null,null,null,null,null,null,null,null,null,"",{"$f":"IF(AND(O56>1,O60=1),\"←選択してください。\",\"\")","v":""},null,1,"入力合計",null,null,null,null,null,null,"温水器マイコン容量",{"$f":"IF(AND(O56=2,O57=2,O60=2),P61,0)+IF(AND(O64=2,O65=2,O68=2),P69,0)+IF(AND(O72=2,O73=2,O76=2),P77,0)+IF(AND(O80=2,O81=2,O84=2),P85,0)+IF(AND(O88=2,O89=2,O92=2),P93,0)+IF(AND(O96=2,O97=2,O100=2),P101,0)+IF(AND(O104=2,O105=2,O108=2),P109,0)+IF(AND(O112=2,O113=2,O116=2),P117,0)+IF(AND(O120=2,O121=2,O124=2),P125,0)","v":0},null,null,"その他容量",{"$f":"IF(AND(O56=4,O57=3),P61,0)+IF(AND(O64=4,O65=3),P69,0)+IF(AND(O72=4,O73=3),P77,0)+IF(AND(O80=4,O81=3),P85,0)+IF(AND(O88=4,O89=3),P93,0)+IF(AND(O96=4,O97=3),P101,0)+IF(AND(O104=4,O105=3),P109,0)+IF(AND(O112=4,O113=3),P117,0)+IF(AND(O120=4,O121=3),P125,0)","v":0}]
[null,"ﾀｲﾑｺﾝﾄﾛｰﾗｰ設置",null,null,null,null,null,null,null,null,null,"",{"$f":"IF(AND(O56>1,O61=1),\"←選択してください。\",\"\")","v":""},null,1,{"$f":"C62*C63","v":0},null,null,null,null,null,null,"蓄暖通常容量",{"$f":"IF(AND(O56=3,O57=2,O60=3),P61,0)+IF(AND(O64=3,O65=2,O68=3),P69,0)+IF(AND(O72=3,O73=2,O76=3),P77,0)+IF(AND(O80=3,O81=2,O84=3),P85,0)+IF(AND(O88=3,O89=2,O92=3),P93,0)+IF(AND(O96=3,O97=2,O100=3),P101,0)+IF(AND(O104=3,O105=2,O108=3),P109,0)+IF(AND(O112=3,O113=2,O116=3),P117,0)+IF(AND(O120=3,O121=2,O124=3),P125,0)","v":0}]
[null,"容量",null,null,"kVA",null,null,null,null,null,null,"",{"$f":"IF(AND(O56>1,C62=\"\"),\"←入力してください。\",\"\")","v":""},null,null,null,null,null,null,null,null,null,"蓄暖マイコン容量",{"$f":"IF(AND(O56=3,O57=2,O60=2),P61,0)+IF(AND(O64=3,O65=2,O68=2),P69,0)+IF(AND(O72=3,O73=2,O76=2),P77,0)+IF(AND(O80=3,O81=2,O84=2),P85,0)+IF(AND(O88=3,O89=2,O92=2),P93,0)+IF(AND(O96=3,O97=2,O100=2),P101,0)+IF(AND(O104=3,O105=2,O108=2),P109,0)+IF(AND(O112=3,O113=2,O116=2),P117,0)+IF(AND(O120=3,O121=2,O124=2),P125,0)","v":0},"暖給一体通常容量",{"$f":"IF(AND(O128=3,O131=3),P131,0)+IF(AND(O134=3,O137=3),P137,0)+IF(AND(O140=3,O143=3),P143,0)","v":0}]
[null,"台数",null,"台",null,null,null,null,null,null,null,"",{"$f":"IF(AND(O56>1,C63=\"\"),\"←入力してください。\",\"\")","v":""},null,1,null,null,null,null,null,null,null,"その他容量",{"$f":"IF(AND(O56=4,O57=2),P61,0)+IF(AND(O64=4,O65=2),P69,0)+IF(AND(O72=4,O73=2),P77,0)+IF(AND(O80=4,O81=2),P85,0)+IF(AND(O88=4,O89=2),P93,0)+IF(AND(O96=4,O97=2),P101,0)+IF(AND(O104=4,O105=2),P109,0)+IF(AND(O112=4,O113=2),P117,0)+IF(AND(O120=4,O121=2),P125,0)","v":0},"暖給一体マイコン容量",{"$f":"IF(AND(O128=3,O131=2),P131,0)+IF(AND(O134=3,O137=2),P137,0)+IF(AND(O140=3,O143=2),P143,0)","v":0}]
["夜間蓄熱型\n機器２","機器種別",null,null,null,null,null,null,null,null,null,"",{"$f":"IF(AND(O64=4,K64=\"\"),\"←具体的な機器種別を入力してください。\",IF(AND(O64=1,OR(O65>1,C66<>\"\",C67<>\"\",O68>1,O69>1,C70<>\"\",C71<>\"\")),\"←選択してください。\",\"\"))","v":""},null,1]
[null,"通電時間",null,null,null,null,null,null,null,null,null,"",{"$f":"IF(AND(O64>1,O65=1),\"←選択してください。\",\"\")","v":""},null,1]
[null,"メーカー",null,null,null,null,null,null,null,null,null,"",{"$f":"IF(AND(O64>1,C66=\"\"),\"←入力してください。\",\"\")","v":""}]
[null,"型式",null,null,null,null,null,null,null,null,null,"",{"$f":"IF(AND(O64>1,C67=\"\"),\"←入力してください。\",\"\")","v":""},null,1]
[null,"通電制御",null,null,null,null,null,null,null,null,null,"",{"$f":"IF(AND(O64>1,O68=1),\"←選択してください。\",\"\")","v":""},null,1,"入力合計"]
[null,"ﾀｲﾑｺﾝﾄﾛｰﾗｰ設置",null,null,null,null,null,null,null,null,null,"",{"$f":"IF(AND(O64>1,O69=1),\"←選択してください。\",\"\")","v":""},null,1,{"$f":"C70*C71","v":0}]
[null,"容量",null,null,"kVA",null,null,null,null,null,null,"",{"$f":"IF(AND(O64>1,C70=\"\"),\"←入力してください。\",\"\")","v":""}]
[null,"台数",null,"台",null,null,null,null,null,null,null,"",{"$f":"IF(AND(O64>1,C71=\"\"),\"←入力してください。\",\"\")","v":""},null,1]
["夜間蓄熱型\n機器３","機器種別",null,null,null,null,null,null,null,null,null,"",{"$f":"IF(AND(O72=4,K72=\"\"),\"←具体的な機器種別を入力してください。\",IF(AND(O72=1,OR(O73>1,C74<>\"\",C75<>\"\",O76>1,O77>1,C78<>\"\",C79<>\"\")),\"←選択してください。\",\"\"))","v":""},null,1]
[null,"通電時間",null,null,null,null,null,null,null,null,null,"",{"$f":"IF(AND(O72>1,O73=1),\"←選択してください。\",\"\")","v":""},null,1]
[null,"メーカー",null,null,null,null,null,null,null,null,null,"",{"$f":"IF(AND(O72>1,C74=\"\"),\"←入力してください。\",\"\")","v":""}]
[null,"型式",null,null,null,null,null,null,null,null,null,"",{"$f":"IF(AND(O72>1,C75=\"\"),\"←入力してください。\",\"\")","v":""},null,1]
[null,"通電制御",null,null,null,null,null,null,null,null,null,"",{"$f":"IF(AND(O72>1,O76=1),\"←選択してください。\",\"\")","v":""},null,1,"入力合計"]
[null,"ﾀｲﾑｺﾝﾄﾛｰﾗｰ設置",null,null,null,null,null,null,null,null,null,"",{"$f":"IF(AND(O72>1,O77=1),\"←選択してください。\",\"\")","v":""},null,1,{"$f":"C78*C79","v":0}]
[null,"容量",null,null,"kVA",null,null,null,null,null,null,"",{"$f":"IF(AND(O72>1,C78=\"\"),\"←入力してください。\",\"\")","v":""}]
[null,"台数",null,"台",null,null,null,null,null,null,null,"",{"$f":"IF(AND(O72>1,C79=\"\"),\"←入力してください。\",\"\")","v":""},null,1]
["夜間蓄熱型\n機器４","機器種別",null,null,null,null,null,null,null,null,null,"",{"$f":"IF(AND(O80=4,K80=\"\"),\"←具体的な機器種別を入力してください。\",IF(AND(O80=1,OR(O81>1,C82<>\"\",C83<>\"\",O84>1,O85>1,C86<>\"\",C87<>\"\")),\"←選択してください。\",\"\"))","v":""},null,1]
[null,"通電時間",null,null,null,null,null,null,null,null,null,"",{"$f":"IF(AND(O80>1,O81=1),\"←選択してください。\",\"\")","v":""},null,1]
[null,"メーカー",null,null,null,null,null,null,null,null,null,"",{"$f":"IF(AND(O80>1,C82=\"\"),\"←入力してください。\",\"\")","v":""}]
[null,"型式",null,null,null,null,null,null,null,null,null,"",{"$f":"IF(AND(O80>1,C83=\"\"),\"←入力してください。\",\"\")","v":""},null,1]
[null,"通電制御",null,null,null,null,null,null,null,null,null,"",{"$f":"IF(AND(O80>1,O84=1),\"←選択してください。\",\"\")","v":""},null,1,"入力合計"]
[null,"ﾀｲﾑｺﾝﾄﾛｰﾗｰ設置",null,null,null,null,null,null,null,null,null,"",{"$f":"IF(AND(O80>1,O85=1),\"←選択してください。\",\"\")","v":""},null,1,{"$f":"C86*C87","v":0}]
[null,"容量",null,null,"kVA",null,null,null,null,null,null,"",{"$f":"IF(AND(O80>1,C86=\"\"),\"←入力してください。\",\"\")","v":""}]
[null,"台数",null,"台",null,null,null,null,null,null,null,"",{"$f":"IF(AND(O80>1,C87=\"\"),\"←入力してください。\",\"\")","v":""},null,1]
["夜間蓄熱型\n機器５","機器種別",null,null,null,null,null,null,null,null,null,"",{"$f":"IF(AND(O88=4,K88=\"\"),\"←具体的な機器種別を入力してください。\",IF(AND(O88=1,OR(O89>1,C90<>\"\",C91<>\"\",O92>1,O93>1,C94<>\"\",C95<>\"\")),\"←選択してください。\",\"\"))","v":""},null,1]
[null,"通電時間",null,null,null,null,null,null,null,null,null,"",{"$f":"IF(AND(O88>1,O89=1),\"←選択してください。\",\"\")","v":""},null,1]
[null,"メーカー",null,null,null,null,null,null,null,null,null,"",{"$f":"IF(AND(O88>1,C90=\"\"),\"←入力してください。\",\"\")","v":""}]
[null,"型式",null,null,null,null,null,null,null,null,null,"",{"$f":"IF(AND(O88>1,C91=\"\"),\"←入力してください。\",\"\")","v":""},null,1]
[null,"通電制御",null,null,null,null,null,null,null,null,null,"",{"$f":"IF(AND(O88>1,O92=1),\"←選択してください。\",\"\")","v":""},null,1,"入力合計"]
[null,"ﾀｲﾑｺﾝﾄﾛｰﾗｰ設置",null,null,null,null,null,null,null,null,null,"",{"$f":"IF(AND(O88>1,O93=1),\"←選択してください。\",\"\")","v":""},null,1,{"$f":"C94*C95","v":0}]
[null,"容量",null,null,"kVA",null,null,null,null,null,null,"",{"$f":"IF(AND(O88>1,C94=\"\"),\"←入力してください。\",\"\")","v":""}]
[null,"台数",null,"台",null,null,null,null,null,null,null,"",{"$f":"IF(AND(O88>1,C95=\"\"),\"←入力してください。\",\"\")","v":""},null,1]
["夜間蓄熱型\n機器６","機器種別",null,null,null,null,null,null,null,null,null,"",{"$f":"IF(AND(O96=4,K96=\"\"),\"←具体的な機器種別を入力してください。\",IF(AND(O96=1,OR(O97>1,C98<>\"\",C99<>\"\",O100>1,O101>1,C102<>\"\",C103<>\"\")),\"←選択してください。\",\"\"))","v":""},null,1]
[null,"通電時間",null,null,null,null,null,null,null,null,null,"",{"$f":"IF(AND(O96>1,O97=1),\"←選択してください。\",\"\")","v":""},null,1]
[null,"メーカー",null,null,null,null,null,null,null,null,null,"",{"$f":"IF(AND(O96>1,C98=\"\"),\"←入力してください。\",\"\")","v":""}]
[null,"型式",null,null,null,null,null,null,null,null,null,"",{"$f":"IF(AND(O96>1,C99=\"\"),\"←入力してください。\",\"\")","v":""},null,1]
[null,"通電制御",null,null,null,null,null,null,null,null,null,"",{"$f":"IF(AND(O96>1,O100=1),\"←選択してください。\",\"\")","v":""},null,1,"入力合計"]
[null,"ﾀｲﾑｺﾝﾄﾛｰﾗｰ設置",null,null,null,null,null,null,null,null,null,"",{"$f":"IF(AND(O96>1,O101=1),\"←選択してください。\",\"\")","v":""},null,1,{"$f":"C102*C103","v":0}]
[null,"容量",null,null,"kVA",null,null,null,null,null,null,"",{"$f":"IF(AND(O96>1,C102=\"\"),\"←入力してください。\",\"\")","v":""}]
[null,"台数",null,"台",null,null,null,null,null,null,null,"",{"$f":"IF(AND(O96>1,C103=\"\"),\"←入力してください。\",\"\")","v":""},null,1]
["夜間蓄熱型\n機器７","機器種別",null,null,null,null,null,null,null,null,null,"",{"$f":"IF(AND(O104=4,K104=\"\"),\"←具体的な機器種別を入力してください。\",IF(AND(O104=1,OR(O105>1,C106<>\"\",C107<>\"\",O108>1,O109>1,C110<>\"\",C111<>\"\")),\"←選択してください。\",\"\"))","v":""},null,1]
[null,"通電時間",null,null,null,null,null,null,null,null,null,{"$f":"IF(M105=\"\",\"\",M105)","v":""},{"$f":"IF(AND(O104>1,O105=1),\"←選択してください。\",\"\")","v":""},null,1]
[null,"メーカー",null,null,null,null,null,null,null,null,null,"",{"$f":"IF(AND(O104>1,C106=\"\"),\"←入力してください。\",\"\")","v":""}]
[null,"型式",null,null,null,null,null,null,null,null,null,"",{"$f":"IF(AND(O104>1,C107=\"\"),\"←入力してください。\",\"\")","v":""},null,1]
[null,"通電制御",null,null,null,null,null,null,null,null,null,"",{"$f":"IF(AND(O104>1,O108=1),\"←選択してください。\",\"\")","v":""},null,1,"入力合計"]
[null,"ﾀｲﾑｺﾝﾄﾛｰﾗｰ設置",null,null,null,null,null,null,null,null,null,"",{"$f":"IF(AND(O104>1,O109=1),\"←選択してください。\",\"\")","v":""},null,1,{"$f":"C110*C111","v":0}]
[null,"容量",null,null,"kVA",null,null,null,null,null,null,"",{"$f":"IF(AND(O104>1,C110=\"\"),\"←入力してください。\",\"\")","v":""}]
[null,"台数",null,"台",null,null,null,null,null,null,null,"",{"$f":"IF(AND(O104>1,C111=\"\"),\"←入力してください。\",\"\")","v":""},null,1]
["夜間蓄熱型\n機器８","機器種別",null,null,null,null,null,null,null,null,null,"",{"$f":"IF(AND(O112=4,K112=\"\"),\"←具体的な機器種別を入力してください。\",IF(AND(O112=1,OR(O113>1,C114<>\"\",C115<>\"\",O116>1,O117>1,C118<>\"\",C119<>\"\")),\"←選択してください。\",\"\"))","v":""},null,1]
[null,"通電時間",null,null,null,null,null,null,null,null,null,"",{"$f":"IF(AND(O112>1,O113=1),\"←選択してください。\",\"\")","v":""},null,1]
[null,"メーカー",null,null,null,null,null,null,null,null,null,"",{"$f":"IF(AND(O112>1,C114=\"\"),\"←入力してください。\",\"\")","v":""}]
[null,"型式",null,null,null,null,null,null,null,null,null,"",{"$f":"IF(AND(O112>1,C115=\"\"),\"←入力してください。\",\"\")","v":""},null,1]
[null,"通電制御",null,null,null,null,null,null,null,null,null,"",{"$f":"IF(AND(O112>1,O116=1),\"←選択してください。\",\"\")","v":""},null,1,"入力合計"]
[null,"ﾀｲﾑｺﾝﾄﾛｰﾗｰ設置",null,null,null,null,null,null,null,null,null,"",{"$f":"IF(AND(O112>1,O117=1),\"←選択してください。\",\"\")","v":""},null,1,{"$f":"C118*C119","v":0}]
[null,"容量",null,null,"kVA",null,null,null,null,null,null,"",{"$f":"IF(AND(O112>1,C118=\"\"),\"←入力してください。\",\"\")","v":""}]
[null,"台数",null,"台",null,null,null,null,null,null,null,"",{"$f":"IF(AND(O112>1,C119=\"\"),\"←入力してください。\",\"\")","v":""},null,1]
["夜間蓄熱型\n機器９","機器種別",null,null,null,null,null,null,null,null,null,"",{"$f":"IF(AND(O120=4,K120=\"\"),\"←具体的な機器種別を入力してください。\",IF(AND(O120=1,OR(O121>1,C122<>\"\",C123<>\"\",O124>1,O125>1,C126<>\"\",C127<>\"\")),\"←選択してください。\",\"\"))","v":""},null,1]
[null,"通電時間",null,null,null,null,null,null,null,null,null,"",{"$f":"IF(AND(O120>1,O121=1),\"←選択してください。\",\"\")","v":""},null,1]
[null,"メーカー",null,null,null,null,null,null,null,null,null,"",{"$f":"IF(AND(O120>1,C122=\"\"),\"←入力してください。\",\"\")","v":""}]
[null,"型式",null,null,null,null,null,null,null,null,null,"",{"$f":"IF(AND(O120>1,C123=\"\"),\"←入力してください。\",\"\")","v":""},null,1]
[null,"通電制御",null,null,null,null,null,null,null,null,null,"",{"$f":"IF(AND(O120>1,O124=1),\"←選択してください。\",\"\")","v":""},null,1,"入力合計"]
[null,"ﾀｲﾑｺﾝﾄﾛｰﾗｰ設置",null,null,null,null,null,null,null,null,null,"",{"$f":"IF(AND(O120>1,O125=1),\"←選択してください。\",\"\")","v":""},null,1,{"$f":"C126*C127","v":0}]
[null,"容量",null,null,"kVA",null,null,null,null,null,null,"",{"$f":"IF(AND(O120>1,C126=\"\"),\"←入力してください。\",\"\")","v":""}]
[null,"台数",null,"台",null,null,null,null,null,null,null,{"$f":"IF(M127=\"\",\"\",M127)","v":""},{"$f":"IF(AND(O120>1,C127=\"\"),\"←入力してください。\",\"\")","v":""},null,1]
["オフピーク\n蓄熱型機器１","機器種別",null,null,null,null,null,null,null,null,null,"",{"$f":"IF(AND(O128=4,K128=\"\"),\"←具体的な機器種別を入力してください。\",IF(AND(O128=1,OR(C129<>\"\",C130<>\"\",O131>1,C132<>\"\",C133<>\"\")),\"←選択してください。\",\"\"))","v":""},null,1]
[null,"メーカー",null,null,null,null,null,null,null,null,null,"",{"$f":"IF(AND(O128>1,C129=\"\"),\"←入力してください。\",\"\")","v":""}]
[null,"型式",null,null,null,null,null,null,null,null,null,"",{"$f":"IF(AND(O128>1,C130=\"\"),\"←入力してください。\",\"\")","v":""},null,1,"入力合計"]
[null,"通電制御",null,null,null,null,null,null,null,null,null,"",{"$f":"IF(AND(O128>1,O131=1),\"←選択してください。\",\"\")","v":""},null,1,{"$f":"C132*C133","v":0}]
[null,"容量",null,null,"kVA",null,null,null,null,null,null,"",{"$f":"IF(AND(O128>1,C132=\"\"),\"←入力してください。\",\"\")","v":""}]
[null,"台数",null,"台",null,null,null,null,null,null,null,"",{"$f":"IF(AND(O128>1,C133=\"\"),\"←入力してください。\",\"\")","v":""},null,1]
["オフピーク\n蓄熱型機器２","機器種別",null,null,null,null,null,null,null,null,null,"",{"$f":"IF(AND(O134=4,K134=\"\"),\"←具体的な機器種別を入力してください。\",IF(AND(O134=1,OR(C135<>\"\",C136<>\"\",O137>1,C138<>\"\",C139<>\"\")),\"←選択してください。\",\"\"))","v":""},null,1]
[null,"メーカー",null,null,null,null,null,null,null,null,null,"",{"$f":"IF(AND(O134>1,C135=\"\"),\"←入力してください。\",\"\")","v":""}]
[null,"型式",null,null,null,null,null,null,null,null,null,"",{"$f":"IF(AND(O134>1,C136=\"\"),\"←入力してください。\",\"\")","v":""},null,1,"入力合計"]
[null,"通電制御",null,null,null,null,null,null,null,null,null,"",{"$f":"IF(AND(O134>1,O137=1),\"←選択してください。\",\"\")","v":""},null,1,{"$f":"C138*C139","v":0}]
[null,"容量",null,null,"kVA",null,null,null,null,null,null,"",{"$f":"IF(AND(O134>1,C138=\"\"),\"←入力してください。\",\"\")","v":""}]
[null,"台数",null,"台",null,null,null,null,null,null,null,"",{"$f":"IF(AND(O134>1,C139=\"\"),\"←入力してください。\",\"\")","v":""},null,1]
["オフピーク\n蓄熱型機器３","機器種別",null,null,null,null,null,null,null,null,null,"",{"$f":"IF(AND(O140=4,K140=\"\"),\"←具体的な機器種別を入力してください。\",IF(AND(O140=1,OR(C141<>\"\",C142<>\"\",O143>1,C144<>\"\",C145<>\"\")),\"←選択してください。\",\"\"))","v":""},null,1]
[null,"メーカー",null,null,null,null,null,null,null,null,null,"",{"$f":"IF(AND(O140>1,C141=\"\"),\"←入力してください。\",\"\")","v":""}]
[null,"型式",null,null,null,null,null,null,null,null,null,"",{"$f":"IF(AND(O140>1,C142=\"\"),\"←入力してください。\",\"\")","v":""},null,1,"入力合計"]
[null,"通電制御",null,null,null,null,null,null,null,null,null,"",{"$f":"IF(AND(O140>1,O143=1),\"←選択してください。\",\"\")","v":""},null,1,{"$f":"C144*C145","v":0}]
[null,"容量",null,null,"kVA",null,null,null,null,null,null,"",{"$f":"IF(AND(O140>1,C144=\"\"),\"←入力してください。\",\"\")","v":""}]
[null,"台数",null,"台",null,null,null,null,null,null,null,"",{"$f":"IF(AND(O140>1,C145=\"\"),\"←入力してください。\",\"\")","v":""},null,1]
["蓄熱式暖房器以外の電気暖房機器１","機器種別",null,null,null,null,null,null,null,null,null,"",{"$f":"IF(AND(O146=4,K146=\"\"),\"←具体的な機器種別を入力してください。\",IF(AND(O146=1,OR(K146<>\"\",C147<>\"\",C148<>\"\",O149>1,C150<>\"\",C151<>\"\")),\"←選択してください。\",\"\"))","v":""},null,1]
[null,"メーカー",null,null,null,null,null,null,null,null,null,"",{"$f":"IF(AND(O146>1,C147=\"\"),\"←入力してください。\",\"\")","v":""}]
[null,"型式",null,null,null,null,null,null,null,null,null,"",{"$f":"IF(AND(O146>1,C148=\"\"),\"←入力してください。\",\"\")","v":""},null,1,"入力合計"]
[null,"非蓄熱式電気暖房割引",null,null,null,null,null,null,null,null,null,"",{"$f":"IF(AND(O146>1,O149=1),\"←選択してください。\",\"\")","v":""},null,1,{"$f":"C150*C151","v":0}]
[null,"容量",null,null,"kVA",null,null,null,null,null,null,"",{"$f":"IF(AND(O146>1,C150=\"\"),\"←入力してください。\",\"\")","v":""}]
[null,"台数",null,"台",null,null,null,null,null,null,null,"",{"$f":"IF(AND(O146>1,C151=\"\"),\"←入力してください。\",\"\")","v":""},null,1]
["蓄熱式暖房器以外の電気暖房機器２","機器種別",null,null,null,null,null,null,null,null,null,"",{"$f":"IF(AND(O152=4,K152=\"\"),\"←具体的な機器種別を入力してください。\",IF(AND(O152=1,OR(K152<>\"\",C153<>\"\",C154<>\"\",O155>1,C156<>\"\",C157<>\"\")),\"←選択してください。\",\"\"))","v":""},null,1]
[null,"メーカー",null,null,null,null,null,null,null,null,null,"",{"$f":"IF(AND(O152>1,C153=\"\"),\"←入力してください。\",\"\")","v":""},null,null,"入力合計"]
[null,"型式",null,null,null,null,null,null,null,null,null,"",{"$f":"IF(AND(O152>1,C154=\"\"),\"←入力してください。\",\"\")","v":""},null,null,{"$f":"C155*C156","v":0}]
[null,"容量",null,null,"kVA",null,null,null,null,null,null,"",{"$f":"IF(AND(O152>1,C155=\"\"),\"←入力してください。\",\"\")","v":""}]
[null,"台数",null,"台",null,null,null,null,null,null,null,"",{"$f":"IF(AND(O152>1,C156=\"\"),\"←入力してください。\",\"\")","v":""},null,1]
["蓄熱式暖房器以外の電気暖房機器３","機器種別",null,null,null,null,null,null,null,null,null,"",{"$f":"IF(AND(O157=4,K157=\"\"),\"←具体的な機器種別を入力してください。\",IF(AND(O157=1,OR(K157<>\"\",C158<>\"\",C159<>\"\",O160>1,C161<>\"\",C162<>\"\")),\"←選択してください。\",\"\"))","v":""},null,1]
[null,"メーカー",null,null,null,null,null,null,null,null,null,"",{"$f":"IF(AND(O157>1,C158=\"\"),\"←入力してください。\",\"\")","v":""},null,null,"入力合計"]
[null,"型式",null,null,null,null,null,null,null,null,null,"",{"$f":"IF(AND(O157>1,C159=\"\"),\"←入力してください。\",\"\")","v":""},null,null,{"$f":"C160*C161","v":0}]
[null,"容量",null,null,"kVA",null,null,null,null,null,null,"",{"$f":"IF(AND(O157>1,C160=\"\"),\"←入力してください。\",\"\")","v":""}]
[null,"台数",null,"台",null,null,null,null,null,null,null,"",{"$f":"IF(AND(O157>1,C161=\"\"),\"←入力してください。\",\"\")","v":""}]

{"sheet":"１枚目","index":1,"n_rows":163,"n_cols":111,"rows_kept":163,"cut":false,"hidden":false,"merged":[[35,39,36,39],[35,40,36,40],[35,41,36,41],[35,42,36,42],[35,43,36,43],[35,44,36,44],[35,45,36,45],[16,49,17,49],[16,50,17,50],[16,51,17,51],[33,37,34,37],[33,38,34,38],[33,39,34,39],[33,40,34,40],[33,41,34,41],[33,42,34,42],[33,43,34,43],[33,44,34,44],[33,45,34,45],[16,25,17,25],[16,26,17,26],[16,27,17,27],[30,39,32,45],[33,32,34,32],[33,33,34,33],[33,34,34,34],[33,35,34,35],[33,36,34,36],[33,28,34,28],[33,29,34,29],[33,30,34,30],[33,31,34,31],[30,56,32,63],[16,58,17,58],[33,27,34,27],[16,57,17,57],[16,40,17,40],[16,41,17,41],[16,42,17,42],[16,43,17,43],[16,44,17,44],[16,45,17,45],[16,46,17,46],[16,47,17,47],[16,48,17,48],[16,59,17,63],[16,32,17,32],[16,52,17,52],[16,53,17,53],[16,54,17,54],[16,55,17,55],[16,56,17,56],[30,55,32,55],[22,40,23,47],[22,48,23,63],[24,24,26,63],[10,1,11,25],[12,1,13,38],[11,69,12,110],[40,68,45,72],[40,73,45,77],[40,30,41,34],[40,54,45,57],[40,58,45,67],[43,1,45,6],[30,46,32,46],[30,47,32,54],[25,104,26,104],[25,105,26,109],[25,110,26,110],[25,69,26,88],[25,89,26,92],[25,93,26,97],[25,98,26,98],[33,47,39,51],[27,64,32,68],[33,58,34,61],[16,31,17,31],[33,52,34,53],[33,54,34,56],[164,0,165,110],[71,27,73,33],[71,34,73,39],[65,7,67,26],[68,7,70,26],[65,40,67,57],[68,27,70,33],[68,34,70,39],[83,95,85,99],[80,95,82,99],[74,75,76,79],[74,80,76,82],[74,83,76,85],[77,95,79,99],[74,95,76,99],[83,27,85,33],[65,64,67,74],[80,75,82,79],[68,58,70,63],[65,58,67,63],[91,96,92,97],[93,96,94,97],[111,56,114,58],[111,59,114,61],[91,84,92,87],[80,34,82,39],[93,84,94,87],[46,61,51,68],[108,64,110,68],[108,69,110,71],[102,40,104,57],[80,64,82,74],[89,58,90,63],[97,64,99,68],[97,69,99,71],[46,49,51,54],[50,59,51,60],[77,64,79,74],[52,64,53,80],[58,64,59,73],[77,40,79,57],[77,58,79,63],[74,58,76,63],[62,64,64,74],[54,58,59,63],[58,45,59,57],[58,74,59,76],[56,64,57,73],[33,62,34,63],[46,7,51,24],[42,30,45,34],[43,7,45,11],[43,15,45,19],[43,23,45,26],[44,12,45,14],[80,7,82,26],[44,27,45,29],[44,20,45,22],[71,7,73,26],[54,12,59,14],[54,15,59,23],[60,7,61,26],[65,27,67,33],[65,34,67,39],[80,27,82,33],[62,40,64,57],[60,40,61,57],[52,58,53,63],[58,41,59,44],[33,57,34,57],[33,46,34,46],[35,46,36,46],[16,64,26,68],[60,95,61,99],[62,95,64,99],[62,27,64,33],[62,34,64,39],[27,75,30,110],[19,104,20,108],[19,109,20,110],[23,69,24,110],[31,69,32,74],[31,75,32,88],[31,104,32,104],[31,105,32,109],[31,110,32,110],[31,89,32,92],[31,93,32,97],[31,98,32,98],[31,99,32,103],[62,83,64,85],[60,83,61,87],[60,88,61,94],[46,87,51,90],[58,77,59,80],[37,27,39,46],[16,69,18,74],[16,75,18,110],[38,105,39,109],[27,69,30,74],[50,103,57,110],[38,110,39,110],[38,99,39,103],[38,93,39,97],[38,98,39,98],[38,104,39,104],[49,98,51,99],[35,52,37,80],[40,88,45,94],[40,95,42,110],[43,95,45,110],[54,77,55,80],[21,69,22,74],[21,75,22,110],[19,69,20,74],[19,75,20,89],[25,99,26,103],[19,90,20,99],[19,100,20,102],[19,103,20,103],[33,64,34,80],[77,83,79,85],[77,86,79,87],[74,86,76,87],[77,88,79,91],[71,75,73,79],[68,80,70,82],[68,83,70,85],[77,75,79,79],[77,80,79,82],[74,64,76,74],[74,88,76,91],[54,74,55,76],[46,91,48,99],[33,86,34,110],[62,86,64,87],[60,34,61,39],[56,77,57,80],[60,64,61,74],[74,7,76,26],[77,7,79,26],[77,34,79,39],[74,27,76,33],[77,27,79,33],[74,34,76,39],[65,75,67,79],[71,80,73,82],[60,75,61,82],[60,27,61,33],[56,43,57,45],[56,46,57,47],[56,48,57,54],[68,40,70,57],[56,55,57,57],[62,7,64,26],[68,64,70,74],[71,64,73,74],[71,58,73,63],[74,40,76,57],[71,40,73,57],[40,1,42,29],[89,4,99,6],[89,7,90,26],[89,27,90,39],[91,7,93,26],[91,27,93,39],[94,7,96,26],[94,27,96,39],[97,7,99,26],[97,27,99,39],[83,34,85,39],[86,34,88,39],[86,27,88,33],[54,28,55,34],[54,35,55,37],[52,7,53,27],[52,28,53,57],[86,40,88,57],[80,40,82,57],[40,35,41,53],[42,35,45,53],[54,54,55,57],[83,7,85,26],[86,7,88,26],[30,7,32,11],[30,36,32,38],[33,22,39,26],[30,12,32,14],[30,15,32,20],[30,21,32,21],[30,22,32,27],[30,28,32,28],[30,29,32,35],[35,28,36,28],[35,29,36,29],[35,30,36,30],[35,31,36,31],[35,32,36,32],[35,33,36,33],[35,34,36,34],[35,35,36,35],[35,36,36,36],[33,7,39,11],[35,27,36,27],[33,12,39,21],[35,37,36,37],[35,38,36,38],[24,12,26,13],[24,14,26,16],[24,17,26,17],[24,18,26,21],[22,12,23,20],[22,21,23,39],[24,22,26,23],[16,12,17,18],[16,19,17,19],[16,20,17,20],[16,21,17,21],[16,22,17,22],[16,23,17,23],[16,28,17,28],[16,29,17,29],[16,30,17,30],[16,33,17,33],[16,34,17,34],[16,35,17,35],[16,36,17,36],[16,37,17,37],[16,38,17,38],[16,39,17,39],[16,24,17,24],[6,0,9,110],[60,1,99,3],[60,4,88,6],[13,85,15,89],[13,64,15,68],[16,1,39,6],[13,69,15,84],[52,1,59,6],[46,1,51,6],[46,25,51,28],[58,34,59,40],[54,24,59,27],[58,28,59,33],[54,7,59,11],[56,28,57,42],[46,29,51,48],[54,38,55,53],[18,12,21,63],[89,40,90,57],[54,64,55,73],[54,81,59,89],[16,7,23,11],[24,7,29,11],[27,12,29,63],[100,1,110,6],[117,4,118,27],[100,7,101,26],[100,27,101,39],[102,7,104,26],[102,27,104,39],[108,7,110,26],[108,27,110,39],[105,40,107,57],[100,40,101,57],[108,40,110,57],[105,7,107,26],[105,27,107,39],[111,31,114,34],[111,35,114,37],[111,38,114,39],[111,40,114,42],[111,43,114,47],[111,48,114,50],[111,51,114,55],[115,31,118,34],[115,35,118,37],[115,38,118,39],[115,40,118,42],[162,0,163,110],[152,1,154,16],[111,1,118,3],[111,4,112,27],[111,28,118,30],[113,4,114,27],[115,4,116,27],[124,1,125,97],[122,1,123,97],[126,1,127,97],[120,1,121,97],[136,3,138,109],[139,3,141,109],[142,3,144,109],[145,3,147,109],[111,62,114,65],[115,43,118,47],[115,48,118,50],[115,51,118,55],[115,56,118,58],[115,59,118,61],[115,62,118,65],[105,77,107,80],[65,80,67,82],[65,83,67,85],[102,69,104,71],[102,72,104,74],[102,75,104,76],[83,80,85,82],[86,80,88,82],[94,81,96,83],[83,75,85,79],[102,81,104,83],[100,72,101,76],[102,77,104,80],[71,83,73,85],[97,81,99,83],[94,77,96,80],[100,77,101,83],[105,81,107,83],[80,83,82,85],[94,75,96,76],[91,77,93,80],[86,75,88,79],[86,64,88,74],[89,64,90,71],[77,92,79,94],[94,58,96,63],[91,75,93,76],[91,72,93,74],[91,58,93,63],[91,81,93,83],[91,88,92,89],[91,90,92,91],[89,84,90,99],[86,88,88,91],[86,95,88,99],[86,83,88,85],[86,86,88,87],[89,77,90,83],[93,98,94,99],[91,92,92,95],[93,92,94,95],[93,88,94,89],[93,90,94,91],[91,98,92,99],[80,80,82,82],[80,86,82,87],[80,88,82,91],[80,92,82,94],[50,101,57,102],[38,75,39,79],[38,80,39,80],[38,86,39,88],[38,89,39,92],[56,74,57,76],[35,86,37,110],[91,69,93,71],[46,82,51,86],[46,69,51,81],[68,75,70,79],[33,81,39,85],[65,95,67,99],[65,86,67,87],[71,86,73,87],[71,92,73,94],[68,95,70,99],[71,95,73,99],[68,86,70,87],[71,88,73,91],[65,88,67,91],[65,92,67,94],[68,88,70,91],[68,92,70,94],[128,1,129,97],[60,58,61,63],[62,92,64,94],[62,88,64,91],[62,80,64,82],[62,75,64,79],[40,78,45,82],[40,83,45,87],[97,58,99,63],[83,58,85,63],[80,58,82,63],[74,92,76,94],[57,90,59,93],[49,92,51,93],[49,94,51,97],[52,81,53,93],[48,55,51,58],[97,72,99,74],[97,75,99,76],[97,40,99,57],[83,40,85,57],[91,40,93,57],[94,40,96,57],[62,58,64,63],[91,64,93,68],[38,52,39,58],[38,59,39,62],[38,63,39,67],[38,68,39,68],[38,69,39,73],[38,74,39,74],[105,72,107,74],[105,75,107,76],[94,64,96,68],[94,72,96,74],[86,58,88,63],[94,69,96,71],[1,93,5,109],[13,90,15,110],[130,1,131,97],[83,92,85,94],[86,92,88,94],[107,96,110,99],[107,84,110,95],[105,84,106,99],[83,88,85,91],[83,86,85,87],[108,72,110,74],[108,75,110,76],[108,77,110,80],[108,81,110,83],[83,83,85,85],[97,77,99,80],[83,64,85,74],[89,72,90,76],[102,64,104,68],[105,64,107,68],[105,69,107,71],[102,58,110,63],[100,58,101,63],[100,64,101,71]]}
[]
[null,null,null,null,null,null,null,null,null,null,null,null,null,null,null,null,null,null,null,null,null,null,null,null,null,null,null,null,null,null,null,null,null,null,null,null,null,null,null,null,null,null,null,null,null,null,null,null,null,null,null,null,null,null,null,null,null,null,null,null,null,null,null,null,null,null,null,null,null,null,null,null,null,null,null,null,null,null,null,null,null,null,null,null,null,null,null,null,null,null,null,null,null,"離島等供給用"]
[]
[]
[]
[]
["時間帯別電灯電気使用申込書（工事会社様控）"]
[]
[]
[]
[null,"北海道電力ネットワーク株式会社　御中"]
[]
[null,"電気の使用について貴社離島等供給約款[低圧用]を承認のうえ申し込みます。"]
[null,null,null,null,null,null,null,null,null,null,null,null,null,null,null,null,null,null,null,null,null,null,null,null,null,null,null,null,null,null,null,null,null,null,null,null,null,null,null,null,null,null,null,null,null,null,null,null,null,null,null,null,null,null,null,null,null,null,null,null,null,null,null,null,"受付扱所名",null,null,null,null,null,null,null,null,null,null,null,null,null,null,null,null,null,null,null,null,"受付№"]
[]
[]
[null,"お 客 さ ま",null,null,null,null,null,"ご契約名義",null,null,null,null,"（フリガナ）",null,null,null,null,null,null,{"$f":"DBCS(MID(ASC(入力用!C4),1,1))","v":""},{"$f":"DBCS(MID(ASC(入力用!C4),2,1))","v":""},{"$f":"DBCS(MID(ASC(入力用!C4),3,1))","v":""},{"$f":"DBCS(MID(ASC(入力用!C4),4,1))","v":""},{"$f":"DBCS(MID(ASC(入力用!C4),5,1))","v":""},{"$f":"DBCS(MID(ASC(入力用!C4),6,1))","v":""},{"$f":"DBCS(MID(ASC(入力用!C4),7,1))","v":""},{"$f":"DBCS(MID(ASC(入力用!C4),8,1))","v":""},{"$f":"DBCS(MID(ASC(入力用!C4),9,1))","v":""},{"$f":"DBCS(MID(ASC(入力用!C4),10,1))","v":""},{"$f":"DBCS(MID(ASC(入力用!C4),11,1))","v":""},{"$f":"DBCS(MID(ASC(入力用!C4),12,1))","v":""},{"$f":"DBCS(MID(ASC(入力用!C4),13,1))","v":""},{"$f":"DBCS(MID(ASC(入力用!C4),14,1))","v":""},{"$f":"DBCS(MID(ASC(入力用!C4),15,1))","v":""},{"$f":"DBCS(MID(ASC(入力用!C4),16,1))","v":""},{"$f":"DBCS(MID(ASC(入力用!C4),17,1))","v":""},{"$f":"DBCS(MID(ASC(入力用!C4),18,1))","v":""},{"$f":"DBCS(MID(ASC(入力用!C4),19,1))","v":""},{"$f":"DBCS(MID(ASC(入力用!C4),20,1))","v":""},{"$f":"DBCS(MID(ASC(入力用!C4),21,1))","v":""},{"$f":"DBCS(MID(ASC(入力用!C4),22,1))","v":""},{"$f":"DBCS(MID(ASC(入力用!C4),23,1))","v":""},{"$f":"DBCS(MID(ASC(入力用!C4),24,1))","v":""},{"$f":"DBCS(MID(ASC(入力用!C4),25,1))","v":""},{"$f":"DBCS(MID(ASC(入力用!C4),26,1))","v":""},{"$f":"DBCS(MID(ASC(入力用!C4),27,1))","v":""},{"$f":"DBCS(MID(ASC(入力用!C4),28,1))","v":""},{"$f":"DBCS(MID(ASC(入力用!C4),29,1))","v":""},{"$f":"DBCS(MID(ASC(入力用!C4),30,1))","v":""},{"$f":"DBCS(MID(ASC(入力用!C4),31,1))","v":""},{"$f":"DBCS(MID(ASC(入力用!C4),32,1))","v":""},{"$f":"DBCS(MID(ASC(入力用!C4),33,1))","v":""},{"$f":"DBCS(MID(ASC(入力用!C4),34,1))","v":""},{"$f":"DBCS(MID(ASC(入力用!C4),35,1))","v":""},{"$f":"DBCS(MID(ASC(入力用!C4),36,1))","v":""},{"$f":"DBCS(MID(ASC(入力用!C4),37,1))","v":""},{"$f":"DBCS(MID(ASC(入力用!C4),38,1))","v":""},{"$f":"DBCS(MID(ASC(入力用!C4),39,1))","v":""},{"$f":"DBCS(MID(ASC(入力用!C4),40,1))","v":""},null,null,null,null,null,"電気工事会社",null,null,null,null," 会社名",null,null,null,null,null,{"$f":"IF(入力用!C12=\"\",\"\",入力用!C12)","v":""}]
[]
[null,null,null,null,null,null,null,null,null,null,null,null,{"$f":"IF(入力用!C5=\"\",\"\",入力用!C5)","v":""}]
[null,null,null,null,null,null,null,null,null,null,null,null,null,null,null,null,null,null,null,null,null,null,null,null,null,null,null,null,null,null,null,null,null,null,null,null,null,null,null,null,null,null,null,null,null,null,null,null,null,null,null,null,null,null,null,null,null,null,null,null,null,null,null,null,null,null,null,null,null,"(担当者)",null,null,null,null,null,{"$f":"IF(入力用!C13=\"\",\"\",入力用!C13)","v":""},null,null,null,null,null,null,null,null,null,null,null,null,null,null,"工事会社№（",null,null,null,null,null,null,null,null,null,{"$f":"IF(入力用!C14=\"\",\"\",入力用!C14)","v":""},null,null,"-",{"$f":"IF(入力用!E14=\"\",\"\",入力用!E14)","v":""},null,null,null,null,")"]
[]
[null,null,null,null,null,null,null,null,null,null,null,null,null,null,null,null,null,null,null,null,null,null,null,null,null,null,null,null,null,null,null,null,null,null,null,null,null,null,null,null,null,null,null,null,null,null,null,null,null,null,null,null,null,null,null,null,null,null,null,null,null,null,null,null,null,null,null,null,null," 住　所",null,null,null,null,null,{"$f":"LEFT(入力用!C15,24)","v":""}]
[null,null,null,null,null,null,null,null,null,null,null,null,"（代表者肩書）",null,null,null,null,null,null,null,null,{"$f":"IF(入力用!C6=\"\",\"\",入力用!C6)","v":""},null,null,null,null,null,null,null,null,null,null,null,null,null,null,null,null,null,null,"（代表者名）",null,null,null,null,null,null,null,{"$f":"IF(入力用!C7=\"\",\"\",入力用!C7)","v":""}]
[null,null,null,null,null,null,null,null,null,null,null,null,null,null,null,null,null,null,null,null,null,null,null,null,null,null,null,null,null,null,null,null,null,null,null,null,null,null,null,null,null,null,null,null,null,null,null,null,null,null,null,null,null,null,null,null,null,null,null,null,null,null,null,null,null,null,null,null,null,{"$f":"MID(入力用!C15,25,28)","v":""}]
[null,null,null,null,null,null,null,"ご使用\n場　所",null,null,null,null,"(〒",null,{"$f":"LEFT(入力用!C8,3)","v":""},null,null,"-",{"$f":"RIGHT(入力用!C8,4)","v":""},null,null,null,")",null,{"$f":"LEFT(入力用!C9,25)","v":""}]
[null,null,null,null,null,null,null,null,null,null,null,null,null,null,null,null,null,null,null,null,null,null,null,null,null,null,null,null,null,null,null,null,null,null,null,null,null,null,null,null,null,null,null,null,null,null,null,null,null,null,null,null,null,null,null,null,null,null,null,null,null,null,null,null,null,null,null,null,null,{"$f":"MID(入力用!C15,53,12)","v":""},null,null,null,null,null,null,null,null,null,null,null,null,null,null,null,null,null,null,null,"電話(",null,null,null,{"$f":"IF(入力用!C16=\"\",\"\",入力用!C16)","v":""},null,null,null,null,"-",{"$f":"IF(入力用!E16=\"\",\"\",入力用!E16)","v":""},null,null,null,null,"-",{"$f":"IF(入力用!H16=\"\",\"\",入力用!H16)","v":""},null,null,null,null,")"]
[]
[null,null,null,null,null,null,null,null,null,null,null,null,{"$f":"MID(入力用!C9,26,33)","v":""},null,null,null,null,null,null,null,null,null,null,null,null,null,null,null,null,null,null,null,null,null,null,null,null,null,null,null,null,null,null,null,null,null,null,null,null,null,null,null,null,null,null,null,null,null,null,null,null,null,null,null,"建築会社",null,null,null,null," 会社名",null,null,null,null,null,{"$f":"IF(入力用!C17=\"\",\"\",入力用!C17)","v":""}]
[]
[]
[null,null,null,null,null,null,null,"電話番号",null,null,null,null,"固定",null,null,{"$f":"IF(入力用!C10=\"\",\"\",入力用!C10)","v":""},null,null,null,null,null,"-",{"$f":"IF(入力用!E10=\"\",\"\",入力用!E10)","v":""},null,null,null,null,null,"-",{"$f":"IF(入力用!H10=\"\",\"\",入力用!H10)","v":""},null,null,null,null,null,null,"携帯",null,null,{"$f":"IF(入力用!C11=\"\",\"\",入力用!C11)","v":""},null,null,null,null,null,null,"-",{"$f":"IF(入力用!E11=\"\",\"\",入力用!E11)","v":""},null,null,null,null,null,null,null,"-",{"$f":"IF(入力用!H11=\"\",\"\",入力用!H11)","v":""}]
[null,null,null,null,null,null,null,null,null,null,null,null,null,null,null,null,null,null,null,null,null,null,null,null,null,null,null,null,null,null,null,null,null,null,null,null,null,null,null,null,null,null,null,null,null,null,null,null,null,null,null,null,null,null,null,null,null,null,null,null,null,null,null,null,null,null,null,null,null,"(担当者)",null,null,null,null,null,{"$f":"IF(入力用!C18=\"\",\"\",入力用!C18)","v":""},null,null,null,null,null,null,null,null,null,null,null,null,null,"電話(",null,null,null,{"$f":"IF(入力用!C19=\"\",\"\",入力用!C19)","v":""},null,null,null,null,"-",{"$f":"IF(入力用!E19=\"\",\"\",入力用!E19)","v":""},null,null,null,null,"-",{"$f":"IF(入力用!H19=\"\",\"\",入力用!H19)","v":""},null,null,null,null,")"]
[]
[null,null,null,null,null,null,null,"お支払\n方　法",null,null,null,null,{"$f":"IF(入力用!O20=2,入力用!O6,IF(入力用!O20=3,入力用!O7,IF(入力用!O20=4,入力用!O8,\"\")))","v":""},null,null,null,null,null,null,null,null,null,"支　払\n者　名",null,null,null,null,{"$f":"DBCS(MID(ASC(入力用!C21),1,1))","v":""},{"$f":"DBCS(MID(ASC(入力用!C21),2,1))","v":""},{"$f":"DBCS(MID(ASC(入力用!C21),3,1))","v":""},{"$f":"DBCS(MID(ASC(入力用!C21),4,1))","v":""},{"$f":"DBCS(MID(ASC(入力用!C21),5,1))","v":""},{"$f":"DBCS(MID(ASC(入力用!C21),6,1))","v":""},{"$f":"DBCS(MID(ASC(入力用!C21),7,1))","v":""},{"$f":"DBCS(MID(ASC(入力用!C21),8,1))","v":""},{"$f":"DBCS(MID(ASC(入力用!C21),9,1))","v":""},{"$f":"DBCS(MID(ASC(入力用!C21),10,1))","v":""},{"$f":"DBCS(MID(ASC(入力用!C21),11,1))","v":""},{"$f":"DBCS(MID(ASC(入力用!C21),12,1))","v":""},{"$f":"DBCS(MID(ASC(入力用!C21),13,1))","v":""},{"$f":"DBCS(MID(ASC(入力用!C21),14,1))","v":""},{"$f":"DBCS(MID(ASC(入力用!C21),15,1))","v":""},{"$f":"DBCS(MID(ASC(入力用!C21),16,1))","v":""},{"$f":"DBCS(MID(ASC(入力用!C21),17,1))","v":""},{"$f":"DBCS(MID(ASC(入力用!C21),18,1))","v":""},{"$f":"DBCS(MID(ASC(入力用!C21),19,1))","v":""},{"$f":"DBCS(MID(ASC(入力用!C21),20,1))","v":""},"請求書\n送付先",null,null,null,null,"(〒",null,{"$f":"LEFT(入力用!C23,3)","v":""},null,null,"-",{"$f":"RIGHT(入力用!C23,4)","v":""},null,null,null,")",null,{"$f":"IF(入力用!C24=\"同上\",\"\",LEFT(入力用!C24,11))","v":""},null,null,null,null,null,null,null,null,null,null,null,null,null,null,null,null,"ご連絡先",null,null,null,null,{"$f":"IF(OR(入力用!C26=\"同上\",入力用!C26=\"同左\"),\"\",LEFT(入力用!C26,17))","v":""}]
[]
[null,null,null,null,null,null,null,null,null,null,null,null,null,null,null,null,null,null,null,null,null,null,null,null,null,null,null,{"$f":"DBCS(MID(ASC(入力用!C21),21,1))","v":""},{"$f":"DBCS(MID(ASC(入力用!C21),22,1))","v":""},{"$f":"DBCS(MID(ASC(入力用!C21),23,1))","v":""},{"$f":"DBCS(MID(ASC(入力用!C21),24,1))","v":""},{"$f":"DBCS(MID(ASC(入力用!C21),25,1))","v":""},{"$f":"DBCS(MID(ASC(入力用!C21),26,1))","v":""},{"$f":"DBCS(MID(ASC(入力用!C21),27,1))","v":""},{"$f":"DBCS(MID(ASC(入力用!C21),28,1))","v":""},{"$f":"DBCS(MID(ASC(入力用!C21),29,1))","v":""},{"$f":"DBCS(MID(ASC(入力用!C21),30,1))","v":""},{"$f":"DBCS(MID(ASC(入力用!C21),31,1))","v":""},{"$f":"DBCS(MID(ASC(入力用!C21),32,1))","v":""},{"$f":"DBCS(MID(ASC(入力用!C21),33,1))","v":""},{"$f":"DBCS(MID(ASC(入力用!C21),34,1))","v":""},{"$f":"DBCS(MID(ASC(入力用!C21),35,1))","v":""},{"$f":"DBCS(MID(ASC(入力用!C21),36,1))","v":""},{"$f":"DBCS(MID(ASC(入力用!C21),37,1))","v":""},{"$f":"DBCS(MID(ASC(入力用!C21),38,1))","v":""},{"$f":"DBCS(MID(ASC(入力用!C21),39,1))","v":""},{"$f":"DBCS(MID(ASC(入力用!C21),40,1))","v":""},null,null,null,null,null,{"$f":"IF(入力用!C24=\"同上\",入力用!C24,MID(入力用!C24,12,20))","v":""},null,null,null,null,null,null,null,null,null,null,null,null,null,null,null,null,null,null,null,null,null,null,null,null,null,null,null,null,null,null,null,null,null,{"$f":"IF(OR(入力用!C26=\"同上\",入力用!C26=\"同左\"),入力用!C26,MID(入力用!C26,18,17))","v":""}]
[]
[null,null,null,null,null,null,null,null,null,null,null,null,null,null,null,null,null,null,null,null,null,null,null,null,null,null,null,{"$f":"IF(入力用!C22=\"\",\"\",入力用!C22)","v":""}]
[null,null,null,null,null,null,null,null,null,null,null,null,null,null,null,null,null,null,null,null,null,null,null,null,null,null,null,null,null,null,null,null,null,null,null,null,null,null,null,null,null,null,null,null,null,null,null,null,null,null,null,null,{"$f":"MID(入力用!C24,32,5)","v":""},null,null,null,null,null,null,"電話(",null,null,null,{"$f":"IF(入力用!C25=\"\",\"\",入力用!C25)","v":""},null,null,null,null,"-",{"$f":"IF(入力用!E25=\"\",\"\",入力用!E25)","v":""},null,null,null,null,"-",{"$f":"IF(入力用!H25=\"\",\"\",入力用!H25)","v":""},null,null,null,null,")",null,null,null,null,null,{"$f":"IF(OR(入力用!C26=\"同上\",入力用!C26=\"同左\"),\"\",MID(入力用!C26,35,1))","v":""},null,null,"電話(",null,null,null,{"$f":"IF(入力用!C27=\"\",\"\",入力用!C27)","v":""},null,null,null,null,"-",{"$f":"IF(入力用!E27=\"\",\"\",入力用!E27)","v":""},null,null,null,null,"-",{"$f":"IF(入力用!H27=\"\",\"\",入力用!H27)","v":""},null,null,null,null,")"]
[]
[null,null,null,null,null,null,null,null,null,null,null,null,null,null,null,null,null,null,null,null,null,null,null,null,null,null,null,null,null,null,"契約\n種別",null,null,null,null,{"$f":"IF(入力用!O31=2,入力用!P6,IF(入力用!O31=3,入力用!P7,IF(入力用!O31=4,入力用!P8,\"\")))","v":""},null,null,null,null,null,null,null,null,null,null,null,null,null,null,null,null,null,null,"業種",null,null,null,{"$f":"IF(入力用!P30=\"\",\"\",入力用!P30)","v":""},null,null,null,null,null,null,null,null,null,"夜間時間\n開始時刻",null,null,null,null,{"$f":"IF(入力用!O34=2,入力用!S6,IF(入力用!O34=3,入力用!S7,IF(入力用!O34=4,入力用!S8,\"\")))","v":""},null,null,null,null,"午後時間\n開始時刻",null,null,null,null,{"$f":"IF(入力用!O35=2,入力用!U6,IF(入力用!O35=3,入力用!U7,IF(入力用!O35=4,入力用!U8,\"\")))","v":""},null,null,null,null,"電設Ｎｅｔ\n申込",null,null,null,null,null,null,{"$f":"IF(入力用!O28=2,入力用!AG12,IF(入力用!O28=3,入力用!AG13,\"\"))","v":""}]
[]
[null,null,null,null,null,null,null,null,null,null,null,null,null,null,null,null,null,null,null,null,null,null,null,null,null,null,null,null,null,null,"電気供給方式・\n供給電圧",null,null,null,null,{"$f":"IF(入力用!O33=2,入力用!R6,IF(入力用!O33=3,入力用!R7,IF(入力用!O33=4,入力用!R8,IF(入力用!O33=5,入力用!R9,\"\"))))","v":""}]
[null,"受　電\n希望日",null,null,null,null,null,{"$f":"IF(入力用!C30=\"\",\"\",入力用!C30)","v":""},null,null,null,null,null,null,null,{"$f":"IF(入力用!E30=\"\",\"\",入力用!E30)","v":""},null,null,null,null,null,null,null,{"$f":"IF(入力用!H30=\"\",\"\",入力用!H30)","v":""},null,null,null,null,null,null,null,null,null,null,null,null,null,null,null,null,null,null,null,null,null,null,null,null,null,null,null,null,null,null,null,null,null,null,null,null,null,null,null,null,null,null,null,null,null,null,null,null,null,null,null,null,null,null,null,null,null,null,null,null,null,null,null,null,null,null,null,null,null,null,null,{"$f":"IF(入力用!C29=\"\",\"\",入力用!C29)","v":""}]
[null,null,null,null,null,null,null,null,null,null,null,null,"年",null,null,null,null,null,null,null,"月",null,null,null,null,null,null,"日"]
[]
[null,"供　給\n方　法",null,null,null,null,null,{"$f":"IF(入力用!O36=2,入力用!V6,IF(入力用!O36=3,入力用!V7,IF(入力用!O36=4,入力用!V8,\"\")))","v":""},null,null,null,null,null,null,null,null,null,null,null,null,null,null,null,null,null,"契約\n決定\n方法",null,null,null,{"$f":"IF(入力用!O37=2,入力用!W6,IF(入力用!O37=3,入力用!W7,IF(入力用!O37=4,入力用!W8,IF(入力用!O37=5,入力用!W9,IF(入力用!O37=6,入力用!W10,IF(入力用!O37=7,入力用!W11,\"\"))))))","v":""},null,null,null,null,null,null,null,null,null,null,null,null,null,null,null,null,null,null,null,"主開閉器・\n電流制限器\nの定格電流",null,null,null,null,null,null,null,null,null,null,null,"フリーエリア\n計器払出希望\n事 業 所 名",null,null,null,null,null,null,null,{"$f":"IF(入力用!C39=\"\",\"\",入力用!C39)","v":""},null,null,null,null,null,null,null,null,null,null,null,null,"本契約前\nの臨時契\n約の有無",null,null,null,null,{"$f":"IF(入力用!O40=2,入力用!X6,IF(入力用!O40=3,入力用!X7,\"\"))","v":""},null,null,null," 臨時受付№"]
[]
[null,null,null,null,null,null,null,null,null,null,null,null,null,null,null,null,null,null,null,null,null,null,null,null,null,null,null,null,null,null,null,null,null,null,null,null,null,null,null,null,null,null,null,null,null,null,null,null,null,null,null,null,null,null,null,{"$f":"IF(入力用!C38=\"\",\"\",入力用!C38)","v":""}]
[null,null,null,null,null,null,null,null,null,null,null,null,null,null,null,null,null,null,null,null,null,null,null,null,null,null,null,null,null,null,null,null,null,null,null,null,null,null,null,null,null,null,null,null,null,null,null,null,null,null,null,null,null,null,null,null,null,null,null,null,null,null,null,null,null,null,null,null,null,null,null,null,null,null,null,null,null,null,null,null,null,null,null,null,null,null,null,null,null,null,null,null,"(",null,null,null,null,null,")"]
[null,null,null,null,null,null,null,null,null,null,null,null,null,null,null,null,null,null,null,null,null,null,null,null,null,null,null,null,null,null,null,null,null,null,null,null,null,null,null,null,null,null,null,null,null,null,null,null,null,null,null,null,null,null,null,null,null,null,null,"Ａ",null,null,null,null,null,null,null,null,null,null,null,null,null,null,null,null,null,null,null,null,null,null,null,null,null,null,null,null,null,null,null,null,null,null,null,null,null,null,null,null,null,"受付"]
[]
[null,"一般機器\n容量内訳",null,null,null,null,null,"電　　　　　　　　灯",null,null,null,null,null,null,null,null,null,null,null,null,null,null,null,null,null,null,null,null,"小　　型　　機　　器",null,null,null,null,null,null,null,null,null,null,null,null,null,null,null,null,null,null,null,null,null,null,null,null,null,null,null,null,null,"回路数",null,null,null,null,null,"適用業種別回路数内訳",null,null,null,null,null,null,null,null,null,null,null,null,null,null,null,null,"合　計　容　量"]
[]
[null,null,null,null,null,null,null,{"$f":"IF(入力用!C41=\"\",\"\",入力用!C41)","v":""},null,null,null,null,"灯",null,null,{"$f":"IF(入力用!C42=\"\",\"\",入力用!C42)","v":""},null,null,null,null,null,null,null,null,"ＶＡ",null,null,null,{"$f":"IF(入力用!C43=\"\",\"\",入力用!C43)","v":""},null,null,null,null,null,null,"個",null,null,{"$f":"IF(入力用!C44=\"\",\"\",入力用!C44)","v":""},null,null,null,null,null,null,null,null,null,null,null,null,null,null,null,"ＶＡ",null,null,null,{"$f":"IF(入力用!C49=\"\",\"\",入力用!C49)","v":""},null,null,null,null,null,{"$f":"IF(入力用!P49=\"\",\"\",入力用!P49)","v":""},null,null,null,null,null,null,null,null,null,{"$f":"IF(入力用!C51=\"\",\"\",入力用!C51)","v":""},null,null,"回路",null,null,null,{"$f":"IF(OR(入力用!O37<4,入力用!O37=6,入力用!O37=7,入力用!R27=\"\",入力用!O38=1),\"\",入力用!R27)","v":""}]
[]
[null,null,null,null,null,null,null,null,null,null,null,null,null,null,null,null,null,null,null,null,null,null,null,null,null,null,null,null,"うちＩＨクッキングヒーター",null,null,null,null,null,null,null,null,null,null,null,null,null,null,{"$f":"IF(入力用!C45=\"\",\"\",入力用!C45)","v":""},null,null,"台",null,{"$f":"IF(入力用!D46=\"\",\"\",入力用!D46)","v":""},null,null,null,null,null,null,"ＶＡ",null,null,null,null,null,null,null,null,{"$f":"IF(入力用!P51=\"\",\"\",入力用!P51)","v":""},null,null,null,null,null,null,null,null,null,{"$f":"IF(入力用!C53=\"\",\"\",入力用!C53)","v":""},null,null,"回路"]
[null,null,null,null,null,null,null,null,null,null,null,null,null,null,null,null,null,null,null,null,null,null,null,null,null,null,null,null,null,null,null,null,null,null,null,null,null,null,null,null,null,null,null,null,null,null,null,null,null,null,null,null,null,null,null,null,null,null,null,null,null,null,null,null,null,null,null,null,null,null,null,null,null,null,null,null,null,null,null,null,null,null,null,null,null,null,null,null,null,null,"ＶＡ"]
[null,null,null,null,null,null,null,null,null,null,null,null,null,null,null,null,null,null,null,null,null,null,null,null,null,null,null,null,"(メーカー)",null,null,null,null,null,{"$f":"IF(入力用!E47=\"\",\"\",入力用!E47)","v":""},null,null,null,null,null,null,"(型式)",null,null,null,{"$f":"IF(入力用!E48=\"\",\"\",入力用!E48)","v":""},null,null,null,null,null,null,null,null,null,null,null,null,null,null,null,null,null,null,{"$f":"IF(入力用!P53=\"\",\"\",入力用!P53)","v":""},null,null,null,null,null,null,null,null,null,{"$f":"IF(入力用!C55=\"\",\"\",入力用!C55)","v":""},null,null,"回路"]
[]
[null,"蓄　　熱　　機　　器",null,null,"夜間蓄熱型機器",null,null,"機　器　種　別",null,null,null,null,null,null,null,null,null,null,null,null,null,null,null,null,null,null,null,"通電時間",null,null,null,null,null,null,"メーカー",null,null,null,null,null,"型式",null,null,null,null,null,null,null,null,null,null,null,null,null,null,null,null,null,"通電制御",null,null,null,null,null,"ﾀｲﾑｺﾝﾄﾛｰﾗｰ設置",null,null,null,null,null,null,null,null,null,null,"容量(a)",null,null,null,null,null,null,null,"台数(b)",null,null,null,null,"合計(a×b)",null,null,null,null,null,null,"施設№"]
[]
[null,null,null,null,null,null,null,{"$f":"IF(入力用!O56=2,入力用!Z6,IF(入力用!O56=3,入力用!Z7,IF(入力用!O56=4,入力用!K56,\"\")))","v":""},null,null,null,null,null,null,null,null,null,null,null,null,null,null,null,null,null,null,null,{"$f":"IF(入力用!O57=2,入力用!AA6,IF(入力用!O57=3,入力用!AA7,\"\"))","v":""},null,null,null,null,null,null,{"$f":"IF(入力用!C58=\"\",\"\",入力用!C58)","v":""},null,null,null,null,null,{"$f":"IF(入力用!C59=\"\",\"\",入力用!C59)","v":""},null,null,null,null,null,null,null,null,null,null,null,null,null,null,null,null,null,{"$f":"IF(入力用!O60=2,入力用!AB6,IF(入力用!O60=3,入力用!AB7,\"\"))","v":""},null,null,null,null,null,{"$f":"IF(入力用!O61=2,入力用!AC6,IF(入力用!O61=3,入力用!AC7,IF(入力用!O61=4,入力用!AC8,\"\")))","v":""},null,null,null,null,null,null,null,null,null,null,{"$f":"IF(入力用!C62=\"\",\"\",入力用!C62)","v":""},null,null,null,null,"kVA",null,null,{"$f":"IF(入力用!C63=\"\",\"\",入力用!C63)","v":""},null,null,"台",null,{"$f":"IF(入力用!P61=0,\"\",入力用!P61)","v":""},null,null,null,"kVA"]
[]
[]
[null,null,null,null,null,null,null,{"$f":"IF(入力用!O64=2,入力用!Z6,IF(入力用!O64=3,入力用!Z7,IF(入力用!O64=4,入力用!K64,\"\")))","v":""},null,null,null,null,null,null,null,null,null,null,null,null,null,null,null,null,null,null,null,{"$f":"IF(入力用!O65=2,入力用!AA6,IF(入力用!O65=3,入力用!AA7,\"\"))","v":""},null,null,null,null,null,null,{"$f":"IF(入力用!C66=\"\",\"\",入力用!C66)","v":""},null,null,null,null,null,{"$f":"IF(入力用!C67=\"\",\"\",入力用!C67)","v":""},null,null,null,null,null,null,null,null,null,null,null,null,null,null,null,null,null,{"$f":"IF(入力用!O68=2,入力用!AB6,IF(入力用!O68=3,入力用!AB7,\"\"))","v":""},null,null,null,null,null,{"$f":"IF(入力用!O69=2,入力用!AC6,IF(入力用!O69=3,入力用!AC7,IF(入力用!O69=4,入力用!AC8,\"\")))","v":""},null,null,null,null,null,null,null,null,null,null,{"$f":"IF(入力用!C70=\"\",\"\",入力用!C70)","v":""},null,null,null,null,"kVA",null,null,{"$f":"IF(入力用!C71=\"\",\"\",入力用!C71)","v":""},null,null,"台",null,{"$f":"IF(入力用!P69=0,\"\",入力用!P69)","v":""},null,null,null,"kVA"]
[]
[]
[null,null,null,null,null,null,null,{"$f":"IF(入力用!O72=2,入力用!Z6,IF(入力用!O72=3,入力用!Z7,IF(入力用!O72=4,入力用!K72,\"\")))","v":""},null,null,null,null,null,null,null,null,null,null,null,null,null,null,null,null,null,null,null,{"$f":"IF(入力用!O73=2,入力用!AA6,IF(入力用!O73=3,入力用!AA7,\"\"))","v":""},null,null,null,null,null,null,{"$f":"IF(入力用!C74=\"\",\"\",入力用!C74)","v":""},null,null,null,null,null,{"$f":"IF(入力用!C75=\"\",\"\",入力用!C75)","v":""},null,null,null,null,null,null,null,null,null,null,null,null,null,null,null,null,null,{"$f":"IF(入力用!O76=2,入力用!AB6,IF(入力用!O76=3,入力用!AB7,\"\"))","v":""},null,null,null,null,null,{"$f":"IF(入力用!O77=2,入力用!AC6,IF(入力用!O77=3,入力用!AC7,IF(入力用!O77=4,入力用!AC8,\"\")))","v":""},null,null,null,null,null,null,null,null,null,null,{"$f":"IF(入力用!C78=\"\",\"\",入力用!C78)","v":""},null,null,null,null,"kVA",null,null,{"$f":"IF(入力用!C79=\"\",\"\",入力用!C79)","v":""},null,null,"台",null,{"$f":"IF(入力用!P77=0,\"\",入力用!P77)","v":""},null,null,null,"kVA"]
[]
[]
[null,null,null,null,null,null,null,{"$f":"IF(入力用!O80=2,入力用!Z6,IF(入力用!O80=3,入力用!Z7,IF(入力用!O80=4,入力用!K80,\"\")))","v":""},null,null,null,null,null,null,null,null,null,null,null,null,null,null,null,null,null,null,null,{"$f":"IF(入力用!O81=2,入力用!AA6,IF(入力用!O81=3,入力用!AA7,\"\"))","v":""},null,null,null,null,null,null,{"$f":"IF(入力用!C82=\"\",\"\",入力用!C82)","v":""},null,null,null,null,null,{"$f":"IF(入力用!C83=\"\",\"\",入力用!C83)","v":""},null,null,null,null,null,null,null,null,null,null,null,null,null,null,null,null,null,{"$f":"IF(入力用!O84=2,入力用!AB6,IF(入力用!O84=3,入力用!AB7,\"\"))","v":""},null,null,null,null,null,{"$f":"IF(入力用!O85=2,入力用!AC6,IF(入力用!O85=3,入力用!AC7,IF(入力用!O85=4,入力用!AC8,\"\")))","v":""},null,null,null,null,null,null,null,null,null,null,{"$f":"IF(入力用!C86=\"\",\"\",入力用!C86)","v":""},null,null,null,null,"kVA",null,null,{"$f":"IF(入力用!C87=\"\",\"\",入力用!C87)","v":""},null,null,"台",null,{"$f":"IF(入力用!P85=0,\"\",入力用!P85)","v":""},null,null,null,"kVA"]
[]
[]
[null,null,null,null,null,null,null,{"$f":"IF(入力用!O88=2,入力用!Z6,IF(入力用!O88=3,入力用!Z7,IF(入力用!O88=4,入力用!K88,\"\")))","v":""},null,null,null,null,null,null,null,null,null,null,null,null,null,null,null,null,null,null,null,{"$f":"IF(入力用!O89=2,入力用!AA6,IF(入力用!O89=3,入力用!AA7,\"\"))","v":""},null,null,null,null,null,null,{"$f":"IF(入力用!C90=\"\",\"\",入力用!C90)","v":""},null,null,null,null,null,{"$f":"IF(入力用!C91=\"\",\"\",入力用!C91)","v":""},null,null,null,null,null,null,null,null,null,null,null,null,null,null,null,null,null,{"$f":"IF(入力用!O92=2,入力用!AB6,IF(入力用!O92=3,入力用!AB7,\"\"))","v":""},null,null,null,null,null,{"$f":"IF(入力用!O93=2,入力用!AC6,IF(入力用!O93=3,入力用!AC7,IF(入力用!O93=4,入力用!AC8,\"\")))","v":""},null,null,null,null,null,null,null,null,null,null,{"$f":"IF(入力用!C94=\"\",\"\",入力用!C94)","v":""},null,null,null,null,"kVA",null,null,{"$f":"IF(入力用!C95=\"\",\"\",入力用!C95)","v":""},null,null,"台",null,{"$f":"IF(入力用!P93=0,\"\",入力用!P93)","v":""},null,null,null,"kVA"]
[]
[]
[null,null,null,null,null,null,null,{"$f":"IF(入力用!O96=2,入力用!Z6,IF(入力用!O96=3,入力用!Z7,IF(入力用!O96=4,入力用!K96,\"\")))","v":""},null,null,null,null,null,null,null,null,null,null,null,null,null,null,null,null,null,null,null,{"$f":"IF(入力用!O97=2,入力用!AA6,IF(入力用!O97=3,入力用!AA7,\"\"))","v":""},null,null,null,null,null,null,{"$f":"IF(入力用!C98=\"\",\"\",入力用!C98)","v":""},null,null,null,null,null,{"$f":"IF(入力用!C99=\"\",\"\",入力用!C99)","v":""},null,null,null,null,null,null,null,null,null,null,null,null,null,null,null,null,null,{"$f":"IF(入力用!O100=2,入力用!AB6,IF(入力用!O100=3,入力用!AB7,\"\"))","v":""},null,null,null,null,null,{"$f":"IF(入力用!O101=2,入力用!AC6,IF(入力用!O101=3,入力用!AC7,IF(入力用!O101=4,入力用!AC8,\"\")))","v":""},null,null,null,null,null,null,null,null,null,null,{"$f":"IF(入力用!C102=\"\",\"\",入力用!C102)","v":""},null,null,null,null,"kVA",null,null,{"$f":"IF(入力用!C103=\"\",\"\",入力用!C103)","v":""},null,null,"台",null,{"$f":"IF(入力用!P101=0,\"\",入力用!P101)","v":""},null,null,null,"kVA"]
[]
[]
[null,null,null,null,null,null,null,{"$f":"IF(入力用!O104=2,入力用!Z6,IF(入力用!O104=3,入力用!Z7,IF(入力用!O104=4,入力用!K104,\"\")))","v":""},null,null,null,null,null,null,null,null,null,null,null,null,null,null,null,null,null,null,null,{"$f":"IF(入力用!O105=2,入力用!AA6,IF(入力用!O105=3,入力用!AA7,\"\"))","v":""},null,null,null,null,null,null,{"$f":"IF(入力用!C106=\"\",\"\",入力用!C106)","v":""},null,null,null,null,null,{"$f":"IF(入力用!C107=\"\",\"\",入力用!C107)","v":""},null,null,null,null,null,null,null,null,null,null,null,null,null,null,null,null,null,{"$f":"IF(入力用!O108=2,入力用!AB6,IF(入力用!O108=3,入力用!AB7,\"\"))","v":""},null,null,null,null,null,{"$f":"IF(入力用!O109=2,入力用!AC6,IF(入力用!O109=3,入力用!AC7,IF(入力用!O109=4,入力用!AC8,\"\")))","v":""},null,null,null,null,null,null,null,null,null,null,{"$f":"IF(入力用!C110=\"\",\"\",入力用!C110)","v":""},null,null,null,null,"kVA",null,null,{"$f":"IF(入力用!C111=\"\",\"\",入力用!C111)","v":""},null,null,"台",null,{"$f":"IF(入力用!P109=0,\"\",入力用!P109)","v":""},null,null,null,"kVA"]
[]
[]
[null,null,null,null,null,null,null,{"$f":"IF(入力用!O112=2,入力用!Z6,IF(入力用!O112=3,入力用!Z7,IF(入力用!O112=4,入力用!K112,\"\")))","v":""},null,null,null,null,null,null,null,null,null,null,null,null,null,null,null,null,null,null,null,{"$f":"IF(入力用!O113=2,入力用!AA6,IF(入力用!O113=3,入力用!AA7,\"\"))","v":""},null,null,null,null,null,null,{"$f":"IF(入力用!C114=\"\",\"\",入力用!C114)","v":""},null,null,null,null,null,{"$f":"IF(入力用!C115=\"\",\"\",入力用!C115)","v":""},null,null,null,null,null,null,null,null,null,null,null,null,null,null,null,null,null,{"$f":"IF(入力用!O116=2,入力用!AB6,IF(入力用!O116=3,入力用!AB7,\"\"))","v":""},null,null,null,null,null,{"$f":"IF(入力用!O117=2,入力用!AC6,IF(入力用!O117=3,入力用!AC7,IF(入力用!O117=4,入力用!AC8,\"\")))","v":""},null,null,null,null,null,null,null,null,null,null,{"$f":"IF(入力用!C118=\"\",\"\",入力用!C118)","v":""},null,null,null,null,"kVA",null,null,{"$f":"IF(入力用!C119=\"\",\"\",入力用!C119)","v":""},null,null,"台",null,{"$f":"IF(入力用!P117=0,\"\",入力用!P117)","v":""},null,null,null,"kVA"]
[]
[]
[null,null,null,null,null,null,null,{"$f":"IF(入力用!O120=2,入力用!Z6,IF(入力用!O120=3,入力用!Z7,IF(入力用!O120=4,入力用!K120,\"\")))","v":""},null,null,null,null,null,null,null,null,null,null,null,null,null,null,null,null,null,null,null,{"$f":"IF(入力用!O121=2,入力用!AA6,IF(入力用!O121=3,入力用!AA7,\"\"))","v":""},null,null,null,null,null,null,{"$f":"IF(入力用!C122=\"\",\"\",入力用!C122)","v":""},null,null,null,null,null,{"$f":"IF(入力用!C123=\"\",\"\",入力用!C123)","v":""},null,null,null,null,null,null,null,null,null,null,null,null,null,null,null,null,null,{"$f":"IF(入力用!O124=2,入力用!AB6,IF(入力用!O124=3,入力用!AB7,\"\"))","v":""},null,null,null,null,null,{"$f":"IF(入力用!O125=2,入力用!AC6,IF(入力用!O125=3,入力用!AC7,IF(入力用!O125=4,入力用!AC8,\"\")))","v":""},null,null,null,null,null,null,null,null,null,null,{"$f":"IF(入力用!C126=\"\",\"\",入力用!C126)","v":""},null,null,null,null,"kVA",null,null,{"$f":"IF(入力用!C127=\"\",\"\",入力用!C127)","v":""},null,null,"台",null,{"$f":"IF(入力用!P125=0,\"\",入力用!P125)","v":""},null,null,null,"kVA"]
[]
[]
[null,null,null,null,"オフ\nピー\nク蓄\n熱型\n機器",null,null,"機　器　種　別　※HPはヒートポンプ",null,null,null,null,null,null,null,null,null,null,null,null,null,null,null,null,null,null,null,"メーカー",null,null,null,null,null,null,null,null,null,null,null,null,"型式",null,null,null,null,null,null,null,null,null,null,null,null,null,null,null,null,null,"通電制御",null,null,null,null,null,"容量(a)",null,null,null,null,null,null,null,"台数(b)",null,null,null,null,"合計(a×b)",null,null,null,null,null,null,"通電開始時刻"]
[]
[null,null,null,null,null,null,null,{"$f":"IF(入力用!O128=2,入力用!AD6,IF(入力用!O128=3,入力用!AD7,IF(入力用!O128=4,入力用!K128,\"\")))","v":""},null,null,null,null,null,null,null,null,null,null,null,null,null,null,null,null,null,null,null,{"$f":"IF(入力用!C129=\"\",\"\",入力用!C129)","v":""},null,null,null,null,null,null,null,null,null,null,null,null,{"$f":"IF(入力用!C130=\"\",\"\",入力用!C130)","v":""},null,null,null,null,null,null,null,null,null,null,null,null,null,null,null,null,null,{"$f":"IF(入力用!O131=2,入力用!AE6,IF(入力用!O131=3,入力用!AE7,\"\"))","v":""},null,null,null,null,null,{"$f":"IF(入力用!C132=\"\",\"\",入力用!C132)","v":""},null,null,null,null,"kVA",null,null,{"$f":"IF(入力用!C133=\"\",\"\",入力用!C133)","v":""},null,null,"台",null,{"$f":"IF(入力用!P131=0,\"\",入力用!P131)","v":""},null,null,null,"kVA",null,null,"施設№１",null,null,null,null,null,"時",null,"施設№３",null,null,null,null,null,"時"]
[]
[null,null,null,null,null,null,null,null,null,null,null,null,null,null,null,null,null,null,null,null,null,null,null,null,null,null,null,null,null,null,null,null,null,null,null,null,null,null,null,null,null,null,null,null,null,null,null,null,null,null,null,null,null,null,null,null,null,null,null,null,null,null,null,null,null,null,null,null,null,null,null,null,null,null,null,null,null,null,null,null,null,null,null,null,"施設№２",null,null,null,null,null,"時",null,"施設№４",null,null,null,null,null,"時"]
[null,null,null,null,null,null,null,{"$f":"IF(入力用!O134=2,入力用!AD6,IF(入力用!O134=3,入力用!AD7,IF(入力用!O134=4,入力用!K134,\"\")))","v":""},null,null,null,null,null,null,null,null,null,null,null,null,null,null,null,null,null,null,null,{"$f":"IF(入力用!C135=\"\",\"\",入力用!C135)","v":""},null,null,null,null,null,null,null,null,null,null,null,null,{"$f":"IF(入力用!C136=\"\",\"\",入力用!C136)","v":""},null,null,null,null,null,null,null,null,null,null,null,null,null,null,null,null,null,{"$f":"IF(入力用!O137=2,入力用!AE6,IF(入力用!O137=3,入力用!AE7,\"\"))","v":""},null,null,null,null,null,{"$f":"IF(入力用!C138=\"\",\"\",入力用!C138)","v":""},null,null,null,null,"kVA",null,null,{"$f":"IF(入力用!C139=\"\",\"\",入力用!C139)","v":""},null,null,"台",null,{"$f":"IF(入力用!P137=0,\"\",入力用!P137)","v":""},null,null,null,"kVA"]
[]
[]
[null,null,null,null,null,null,null,{"$f":"IF(入力用!O140=2,入力用!AD6,IF(入力用!O140=3,入力用!AD7,IF(入力用!O140=4,入力用!K140,\"\")))","v":""},null,null,null,null,null,null,null,null,null,null,null,null,null,null,null,null,null,null,null,{"$f":"IF(入力用!C141=\"\",\"\",入力用!C141)","v":""},null,null,null,null,null,null,null,null,null,null,null,null,{"$f":"IF(入力用!C142=\"\",\"\",入力用!C142)","v":""},null,null,null,null,null,null,null,null,null,null,null,null,null,null,null,null,null,{"$f":"IF(入力用!O143=2,入力用!AE6,IF(入力用!O143=3,入力用!AE7,\"\"))","v":""},null,null,null,null,null,{"$f":"IF(入力用!C144=\"\",\"\",入力用!C144)","v":""},null,null,null,null,"kVA",null,null,{"$f":"IF(入力用!C145=\"\",\"\",入力用!C145)","v":""},null,null,"台",null,{"$f":"IF(入力用!P143=0,\"\",入力用!P143)","v":""},null,null,null,"kVA"]
[]
[]
[null,"蓄 熱 式\n暖 房 器\n以 外 の\n電気暖房\n機      器",null,null,null,null,null,"機　器　種　別　※HPはヒートポンプ",null,null,null,null,null,null,null,null,null,null,null,null,null,null,null,null,null,null,null,"メーカー",null,null,null,null,null,null,null,null,null,null,null,null,"型式",null,null,null,null,null,null,null,null,null,null,null,null,null,null,null,null,null,"非蓄熱式電\n気暖房割引",null,null,null,null,null,"容量(a)",null,null,null,null,null,null,null,"台数(b)",null,null,null,null,"合計(a×b)"]
[]
[null,null,null,null,null,null,null,{"$f":"IF(入力用!O146=2,入力用!AF6,IF(入力用!O146=3,入力用!AF7,IF(入力用!O146=4,入力用!K146,\"\")))","v":""},null,null,null,null,null,null,null,null,null,null,null,null,null,null,null,null,null,null,null,{"$f":"IF(入力用!C147=\"\",\"\",入力用!C147)","v":""},null,null,null,null,null,null,null,null,null,null,null,null,{"$f":"IF(入力用!C148=\"\",\"\",入力用!C148)","v":""},null,null,null,null,null,null,null,null,null,null,null,null,null,null,null,null,null,{"$f":"IF(入力用!O149=2,入力用!AG6,IF(入力用!O149=3,入力用!AG7,IF(入力用!O149=4,入力用!AG8,\"\")))","v":""},null,null,null,null,null,{"$f":"IF(入力用!C150=\"\",\"\",入力用!C150)","v":""},null,null,null,null,"kVA",null,null,{"$f":"IF(入力用!C151=\"\",\"\",入力用!C151)","v":""},null,null,"台",null,{"$f":"IF(入力用!P149=0,\"\",入力用!P149)","v":""},null,null,null,"kVA"]
[]
[]
[null,null,null,null,null,null,null,{"$f":"IF(入力用!O152=2,入力用!AF6,IF(入力用!O152=3,入力用!AF7,IF(入力用!O152=4,入力用!K152,\"\")))","v":""},null,null,null,null,null,null,null,null,null,null,null,null,null,null,null,null,null,null,null,{"$f":"IF(入力用!C153=\"\",\"\",入力用!C153)","v":""},null,null,null,null,null,null,null,null,null,null,null,null,{"$f":"IF(入力用!C154=\"\",\"\",入力用!C154)","v":""},null,null,null,null,null,null,null,null,null,null,null,null,null,null,null,null,null,null,null,null,null,null,null,{"$f":"IF(入力用!C155=\"\",\"\",入力用!C155)","v":""},null,null,null,null,"kVA",null,null,{"$f":"IF(入力用!C156=\"\",\"\",入力用!C156)","v":""},null,null,"台",null,{"$f":"IF(入力用!P154=0,\"\",入力用!P154)","v":""},null,null,null,"kVA",null,null,"契約容量 (小数点以下四捨五入)"]
[]
[null,null,null,null,null,null,null,null,null,null,null,null,null,null,null,null,null,null,null,null,null,null,null,null,null,null,null,null,null,null,null,null,null,null,null,null,null,null,null,null,null,null,null,null,null,null,null,null,null,null,null,null,null,null,null,null,null,null,null,null,null,null,null,null,null,null,null,null,null,null,null,null,null,null,null,null,null,null,null,null,null,null,null,null,{"$f":"IF(入力用!O37=6,入力用!R29,\"\")","v":""},null,null,null,null,null,null,null,null,null,null,null,"ｋＶＡ"]
[null,null,null,null,null,null,null,{"$f":"IF(入力用!O157=2,入力用!AF6,IF(入力用!O157=3,入力用!AF7,IF(入力用!O157=4,入力用!K157,\"\")))","v":""},null,null,null,null,null,null,null,null,null,null,null,null,null,null,null,null,null,null,null,{"$f":"IF(入力用!C158=\"\",\"\",入力用!C158)","v":""},null,null,null,null,null,null,null,null,null,null,null,null,{"$f":"IF(入力用!C159=\"\",\"\",入力用!C159)","v":""},null,null,null,null,null,null,null,null,null,null,null,null,null,null,null,null,null,null,null,null,null,null,null,{"$f":"IF(入力用!C160=\"\",\"\",入力用!C160)","v":""},null,null,null,null,"kVA",null,null,{"$f":"IF(入力用!C161=\"\",\"\",入力用!C161)","v":""},null,null,"台",null,{"$f":"IF(入力用!P159=0,\"\",入力用!P159)","v":""},null,null,null,"kVA"]
[]
[]
[null,"異動種別",null,null,"・新設　　 　・減少　 　　　・転出",null,null,null,null,null,null,null,null,null,null,null,null,null,null,null,null,null,null,null,null,null,null,null,"供給地点特定番号",null,null,null,null,null,null,"発行\n回数",null,null,"支店",null,"ﾌﾞﾛｯｸ",null,null,"住所",null,null,null,null,"街区",null,null,"契約№",null,null,null,null,"枝番",null,null,"種別"]
[]
[null,null,null,null,"・種変(+)　　・設備撤去　　・名義変更"]
[]
[null,null,null,null,"・ｺｰﾄﾞ変(+)　・設備変更　　 ・その他",null,null,null,null,null,null,null,null,null,null,null,null,null,null,null,null,null,null,null,null,null,null,null,null,null,null,"010",null,null,null,null,null,null,null,null,null,null,null,null,null,null,null,null,null,null,null,null,null,null,null,null,null,null,null,33,null,null,"00"]
[]
[null,null,null,null,"・増加　　 　・転入　　　　（　　　　）"]
[]
[]
[null,"　※　太枠内をご記入願います。"]
[]
[null,"　※　ご契約者さまが法人の場合は，代表者肩書および代表者名をあわせてご記入願います。"]
[]
[null,"　※　夜間時間は，ドリーム８の場合は夜間時間開始時刻から８時間，ｅタイム３の場合は２２時から翌日の８時までとなっております。"]
[]
[null,"　※　午後時間は，午後時間開始時刻から５時間となっております。なお，午後時間開始時刻は，ｅタイム３の場合のみご記入願います。"]
[]
[null,"　※　ご提供いただいた個人情報は，電気事業の範囲内で利用いたします。"]
[]
[]
[]
[]
[]
[]
[]
[null,null,null,"拝啓　平素は弊社事業に格別のお引き立てを賜り，厚くお礼申し上げます。５６７８９０"]
[]
[]
[null,null,null,"　さて，御社よりお申込みをいただきました上記お客さまの電気のご使用につきまして，"]
[]
[]
[null,null,null,"本内容にて受付させていただきましたことをお知らせいたします。１２３４５６７８９０"]
[]
[]
[null,null,null,"１２３４５６７８９０１２３４５６７８９０１２３４５６７８９０１２３４５６７敬具０"]
[]
[]
[]
[]
[]
[]
[null,"＜連絡事項＞"]
[]
[]
[]
[]
[]
[]
[]
[]
[]
["北　海　道　電　力　ネ　ッ　ト　ワ　ー　ク　株　式　会　社"]

{"sheet":"２枚目","index":2,"n_rows":163,"n_cols":111,"rows_kept":163,"cut":false,"hidden":false,"merged":[[115,31,118,34],[115,35,118,37],[115,38,118,39],[115,40,118,42],[115,43,118,47],[115,48,118,50],[115,51,118,55],[115,56,118,58],[115,59,118,61],[38,110,39,110],[38,98,39,98],[35,86,37,110],[38,99,39,103],[40,83,45,87],[40,78,45,82],[111,59,114,61],[111,62,114,65],[111,66,118,70],[111,75,116,78],[111,79,116,82],[115,62,118,65],[117,75,118,78],[117,79,118,82],[117,71,118,74],[94,77,96,80],[91,81,93,83],[91,88,92,89],[93,90,94,91],[97,58,99,63],[97,72,99,74],[50,103,57,110],[46,69,51,81],[50,101,57,102],[16,27,17,27],[16,28,17,28],[33,12,39,21],[35,45,36,45],[35,46,36,46],[35,36,36,36],[35,37,36,37],[35,38,36,38],[35,39,36,39],[35,40,36,40],[35,41,36,41],[35,42,36,42],[35,43,36,43],[35,44,36,44],[35,27,36,27],[35,28,36,28],[35,29,36,29],[35,30,36,30],[35,31,36,31],[35,32,36,32],[33,22,39,26],[35,33,36,33],[35,34,36,34],[35,35,36,35],[33,27,34,27],[33,28,34,28],[33,29,34,29],[33,30,34,30],[33,31,34,31],[33,32,34,32],[33,33,34,33],[33,34,34,34],[33,35,34,35],[77,86,79,87],[80,88,82,91],[77,83,79,85],[83,75,85,79],[83,80,85,82],[77,80,79,82],[80,40,82,57],[83,34,85,39],[16,58,17,58],[33,36,34,36],[33,37,34,37],[33,38,34,38],[33,39,34,39],[33,40,34,40],[33,41,34,41],[33,42,34,42],[33,43,34,43],[33,44,34,44],[33,45,34,45],[37,27,39,46],[77,27,79,33],[91,69,93,71],[91,72,93,74],[91,75,93,76],[94,72,96,74],[86,64,88,74],[89,64,90,71],[89,58,90,63],[91,58,93,63],[83,58,85,63],[80,34,82,39],[94,69,96,71],[83,27,85,33],[83,40,85,57],[145,2,147,110],[162,0,163,110],[164,0,165,110],[136,2,138,110],[139,2,141,110],[142,2,144,110],[77,88,79,91],[77,92,79,94],[86,58,88,63],[86,86,88,87],[89,72,90,76],[100,27,101,39],[91,40,93,57],[91,64,93,68],[86,75,88,79],[86,83,88,85],[91,84,92,87],[93,84,94,87],[94,81,96,83],[94,64,96,68],[83,64,85,74],[122,1,123,109],[93,98,94,99],[100,72,101,76],[133,2,135,110],[33,7,39,11],[30,29,32,35],[30,22,32,27],[30,47,32,54],[30,55,32,55],[30,7,32,11],[68,40,70,57],[80,64,82,74],[80,27,82,33],[80,58,82,63],[71,27,73,33],[62,64,64,74],[56,46,57,47],[33,54,34,56],[56,43,57,45],[56,74,57,76],[54,12,59,14],[46,7,51,24],[43,7,45,11],[54,15,59,23],[54,24,59,27],[46,25,51,28],[52,7,53,27],[16,30,17,30],[16,31,17,31],[16,39,17,39],[16,52,17,52],[16,53,17,53],[16,54,17,54],[16,32,17,32],[16,33,17,33],[16,49,17,49],[16,50,17,50],[16,51,17,51],[30,12,32,14],[30,36,32,38],[30,21,32,21],[24,24,26,63],[22,40,23,47],[22,48,23,63],[24,22,26,23],[24,14,26,16],[30,28,32,28],[30,15,32,20],[30,39,32,45],[30,46,32,46],[111,43,114,47],[111,48,114,50],[111,51,114,55],[111,56,114,58],[97,7,99,26],[97,27,99,39],[97,40,99,57],[102,40,104,57],[102,7,104,26],[102,27,104,39],[108,40,110,57],[100,40,101,57],[100,58,101,63],[6,0,9,110],[13,85,15,89],[13,64,15,68],[13,69,15,84],[10,1,11,25],[12,1,13,38],[11,69,12,110],[16,1,39,6],[24,7,29,11],[16,7,23,11],[22,12,23,20],[22,21,23,39],[18,12,21,63],[16,19,17,19],[16,20,17,20],[16,21,17,21],[16,22,17,22],[16,23,17,23],[16,24,17,24],[24,17,26,17],[24,18,26,21],[25,69,26,88],[16,25,17,25],[16,26,17,26],[16,29,17,29],[71,40,73,57],[58,28,59,33],[58,34,59,40],[65,27,67,33],[40,30,41,34],[33,46,34,46],[33,47,39,51],[40,1,45,6],[16,43,17,43],[16,44,17,44],[16,45,17,45],[16,46,17,46],[16,47,17,47],[16,48,17,48],[16,34,17,34],[16,35,17,35],[16,36,17,36],[16,37,17,37],[16,38,17,38],[54,35,55,37],[54,38,55,53],[62,40,64,57],[16,12,17,18],[46,82,51,86],[46,91,48,99],[52,1,59,6],[46,1,51,6],[52,81,53,93],[46,87,51,90],[43,15,45,19],[43,23,45,26],[57,90,59,93],[54,81,59,89],[49,98,51,99],[44,12,45,14],[44,20,45,22],[54,7,59,11],[49,92,51,93],[40,88,45,94],[40,95,42,110],[43,95,45,110],[56,64,57,73],[46,29,51,48],[42,30,45,34],[54,28,55,34],[50,59,51,60],[46,61,51,68],[40,73,45,77],[152,1,154,16],[60,1,99,3],[89,4,99,6],[62,34,64,39],[60,27,61,33],[60,7,61,26],[62,7,64,26],[60,34,61,39],[62,27,64,33],[74,7,76,26],[68,7,70,26],[71,7,73,26],[60,4,88,6],[65,7,67,26],[86,7,88,26],[80,7,82,26],[74,34,76,39],[111,1,118,3],[54,77,55,80],[48,55,51,58],[111,40,114,42],[77,7,79,26],[83,7,85,26],[86,27,88,33],[77,34,79,39],[19,90,20,99],[19,100,20,102],[19,103,20,103],[31,69,32,74],[27,12,29,63],[24,12,26,13],[19,75,20,89],[33,86,34,110],[21,69,22,74],[21,75,22,110],[19,104,20,108],[19,109,20,110],[56,28,57,42],[52,58,53,63],[52,28,53,57],[74,27,76,33],[68,34,70,39],[65,34,67,39],[68,27,70,33],[44,27,45,29],[35,52,37,80],[38,68,39,68],[38,75,39,79],[38,80,39,80],[27,64,32,68],[27,69,30,74],[42,35,45,53],[16,69,18,74],[16,55,17,55],[16,56,17,56],[16,57,17,57],[16,40,17,40],[16,41,17,41],[16,42,17,42],[38,63,39,67],[40,54,45,57],[40,58,45,67],[38,52,39,58],[38,59,39,62],[16,59,17,63],[19,69,20,74],[31,98,32,98],[31,99,32,103],[31,104,32,104],[25,99,26,103],[25,104,26,104],[25,105,26,109],[27,75,30,110],[65,64,67,74],[56,48,57,54],[31,105,32,109],[33,62,34,63],[30,56,32,63],[33,58,34,61],[38,104,39,104],[38,105,39,109],[38,89,39,92],[38,74,39,74],[40,68,45,72],[38,69,39,73],[31,75,32,88],[31,89,32,92],[38,93,39,97],[33,64,34,80],[38,86,39,88],[58,41,59,44],[58,45,59,57],[56,55,57,57],[65,80,67,82],[62,75,64,79],[77,58,79,63],[77,75,79,79],[25,110,26,110],[25,89,26,92],[25,98,26,98],[33,81,39,85],[49,94,51,97],[46,49,51,54],[40,35,41,53],[52,64,53,80],[54,54,55,57],[33,52,34,53],[16,64,26,68],[23,69,24,110],[25,93,26,97],[33,57,34,57],[16,75,18,110],[31,93,32,97],[31,110,32,110],[77,64,79,74],[71,34,73,39],[71,58,73,63],[74,64,76,74],[74,80,76,82],[68,64,70,74],[71,64,73,74],[74,75,76,79],[71,80,73,82],[74,58,76,63],[74,40,76,57],[77,40,79,57],[71,95,73,99],[68,92,70,94],[65,86,67,87],[62,58,64,63],[62,95,64,99],[74,95,76,99],[58,64,59,73],[56,77,57,80],[54,58,59,63],[58,77,59,80],[58,74,59,76],[54,74,55,76],[54,64,55,73],[68,95,70,99],[65,92,67,94],[68,75,70,79],[68,80,70,82],[65,88,67,91],[68,83,70,85],[68,88,70,91],[65,75,67,79],[62,86,64,87],[65,95,67,99],[60,64,61,74],[62,83,64,85],[62,88,64,91],[71,83,73,85],[74,88,76,91],[62,92,64,94],[65,40,67,57],[60,58,61,63],[60,40,61,57],[65,83,67,85],[74,86,76,87],[60,88,61,94],[60,83,61,87],[60,75,61,82],[71,88,73,91],[71,92,73,94],[74,92,76,94],[68,86,70,87],[71,86,73,87],[74,83,76,85],[62,80,64,82],[71,75,73,79],[68,58,70,63],[65,58,67,63],[93,96,94,97],[108,81,110,83],[107,96,110,99],[97,81,99,83],[80,95,82,99],[86,92,88,94],[91,96,92,97],[91,98,92,99],[86,88,88,91],[86,95,88,99],[83,95,85,99],[91,90,92,91],[89,84,90,99],[91,92,92,95],[100,77,101,83],[102,77,104,80],[105,77,107,80],[80,83,82,85],[80,86,82,87],[89,77,90,83],[93,88,94,89],[93,92,94,95],[13,90,15,110],[128,1,129,97],[111,71,116,74],[108,72,110,74],[108,75,110,76],[108,77,110,80],[126,1,127,97],[108,64,110,68],[124,1,125,97],[120,1,121,97],[102,58,110,63],[105,7,107,26],[105,64,107,68],[105,69,107,71],[105,72,107,74],[105,40,107,57],[105,27,107,39],[105,75,107,76],[83,92,85,94],[80,92,82,94],[80,75,82,79],[80,80,82,82],[60,95,61,99],[77,95,79,99],[100,1,110,6],[100,7,101,26],[102,75,104,76],[102,72,104,74],[94,7,96,26],[83,88,85,91],[83,83,85,85],[83,86,85,87],[86,80,88,82],[89,40,90,57],[89,27,90,39],[91,27,93,39],[86,40,88,57],[97,64,99,68],[100,64,101,71],[102,64,104,68],[102,69,104,71],[97,69,99,71],[108,69,110,71],[86,34,88,39],[1,93,5,109],[89,7,90,26],[91,7,93,26],[111,28,118,30],[97,77,99,80],[97,75,99,76],[94,75,96,76],[115,4,116,27],[117,4,118,27],[94,58,96,63],[113,4,114,27],[108,27,110,39],[94,27,96,39],[94,40,96,57],[111,4,112,27],[108,7,110,26],[111,31,114,34],[111,35,114,37],[111,38,114,39],[107,84,110,95],[91,77,93,80],[105,84,106,99],[102,81,104,83],[105,81,107,83]]}
[]
[null,null,null,null,null,null,null,null,null,null,null,null,null,null,null,null,null,null,null,null,null,null,null,null,null,null,null,null,null,null,null,null,null,null,null,null,null,null,null,null,null,null,null,null,null,null,null,null,null,null,null,null,null,null,null,null,null,null,null,null,null,null,null,null,null,null,null,null,null,null,null,null,null,null,null,null,null,null,null,null,null,null,null,null,null,null,null,null,null,null,null,null,null,"離島等供給用"]
[]
[]
[]
[]
["時間帯別電灯電気使用申込書（お客さま控）"]
[]
[]
[]
[null,"北海道電力ネットワーク株式会社　御中"]
[]
[null,"電気の使用について貴社離島等供給約款[低圧用]を承認のうえ申し込みます。"]
[null,null,null,null,null,null,null,null,null,null,null,null,null,null,null,null,null,null,null,null,null,null,null,null,null,null,null,null,null,null,null,null,null,null,null,null,null,null,null,null,null,null,null,null,null,null,null,null,null,null,null,null,null,null,null,null,null,null,null,null,null,null,null,null,"受付扱所名",null,null,null,null,null,null,null,null,null,null,null,null,null,null,null,null,null,null,null,null,"受付№"]
[]
[]
[null,"お 客 さ ま",null,null,null,null,null,"ご契約名義",null,null,null,null,"（フリガナ）",null,null,null,null,null,null,{"$f":"DBCS(MID(ASC(入力用!C4),1,1))","v":""},{"$f":"DBCS(MID(ASC(入力用!C4),2,1))","v":""},{"$f":"DBCS(MID(ASC(入力用!C4),3,1))","v":""},{"$f":"DBCS(MID(ASC(入力用!C4),4,1))","v":""},{"$f":"DBCS(MID(ASC(入力用!C4),5,1))","v":""},{"$f":"DBCS(MID(ASC(入力用!C4),6,1))","v":""},{"$f":"DBCS(MID(ASC(入力用!C4),7,1))","v":""},{"$f":"DBCS(MID(ASC(入力用!C4),8,1))","v":""},{"$f":"DBCS(MID(ASC(入力用!C4),9,1))","v":""},{"$f":"DBCS(MID(ASC(入力用!C4),10,1))","v":""},{"$f":"DBCS(MID(ASC(入力用!C4),11,1))","v":""},{"$f":"DBCS(MID(ASC(入力用!C4),12,1))","v":""},{"$f":"DBCS(MID(ASC(入力用!C4),13,1))","v":""},{"$f":"DBCS(MID(ASC(入力用!C4),14,1))","v":""},{"$f":"DBCS(MID(ASC(入力用!C4),15,1))","v":""},{"$f":"DBCS(MID(ASC(入力用!C4),16,1))","v":""},{"$f":"DBCS(MID(ASC(入力用!C4),17,1))","v":""},{"$f":"DBCS(MID(ASC(入力用!C4),18,1))","v":""},{"$f":"DBCS(MID(ASC(入力用!C4),19,1))","v":""},{"$f":"DBCS(MID(ASC(入力用!C4),20,1))","v":""},{"$f":"DBCS(MID(ASC(入力用!C4),21,1))","v":""},{"$f":"DBCS(MID(ASC(入力用!C4),22,1))","v":""},{"$f":"DBCS(MID(ASC(入力用!C4),23,1))","v":""},{"$f":"DBCS(MID(ASC(入力用!C4),24,1))","v":""},{"$f":"DBCS(MID(ASC(入力用!C4),25,1))","v":""},{"$f":"DBCS(MID(ASC(入力用!C4),26,1))","v":""},{"$f":"DBCS(MID(ASC(入力用!C4),27,1))","v":""},{"$f":"DBCS(MID(ASC(入力用!C4),28,1))","v":""},{"$f":"DBCS(MID(ASC(入力用!C4),29,1))","v":""},{"$f":"DBCS(MID(ASC(入力用!C4),30,1))","v":""},{"$f":"DBCS(MID(ASC(入力用!C4),31,1))","v":""},{"$f":"DBCS(MID(ASC(入力用!C4),32,1))","v":""},{"$f":"DBCS(MID(ASC(入力用!C4),33,1))","v":""},{"$f":"DBCS(MID(ASC(入力用!C4),34,1))","v":""},{"$f":"DBCS(MID(ASC(入力用!C4),35,1))","v":""},{"$f":"DBCS(MID(ASC(入力用!C4),36,1))","v":""},{"$f":"DBCS(MID(ASC(入力用!C4),37,1))","v":""},{"$f":"DBCS(MID(ASC(入力用!C4),38,1))","v":""},{"$f":"DBCS(MID(ASC(入力用!C4),39,1))","v":""},{"$f":"DBCS(MID(ASC(入力用!C4),40,1))","v":""},null,null,null,null,null,"電気工事会社",null,null,null,null," 会社名",null,null,null,null,null,{"$f":"IF(入力用!C12=\"\",\"\",入力用!C12)","v":""}]
[]
[null,null,null,null,null,null,null,null,null,null,null,null,{"$f":"IF(入力用!C5=\"\",\"\",入力用!C5)","v":""}]
[null,null,null,null,null,null,null,null,null,null,null,null,null,null,null,null,null,null,null,null,null,null,null,null,null,null,null,null,null,null,null,null,null,null,null,null,null,null,null,null,null,null,null,null,null,null,null,null,null,null,null,null,null,null,null,null,null,null,null,null,null,null,null,null,null,null,null,null,null,"(担当者)",null,null,null,null,null,{"$f":"IF(入力用!C13=\"\",\"\",入力用!C13)","v":""},null,null,null,null,null,null,null,null,null,null,null,null,null,null,"工事会社№（",null,null,null,null,null,null,null,null,null,{"$f":"IF(入力用!C14=\"\",\"\",入力用!C14)","v":""},null,null,"-",{"$f":"IF(入力用!E14=\"\",\"\",入力用!E14)","v":""},null,null,null,null,")"]
[]
[null,null,null,null,null,null,null,null,null,null,null,null,null,null,null,null,null,null,null,null,null,null,null,null,null,null,null,null,null,null,null,null,null,null,null,null,null,null,null,null,null,null,null,null,null,null,null,null,null,null,null,null,null,null,null,null,null,null,null,null,null,null,null,null,null,null,null,null,null," 住　所",null,null,null,null,null,{"$f":"LEFT(入力用!C15,24)","v":""}]
[null,null,null,null,null,null,null,null,null,null,null,null,"（代表者肩書）",null,null,null,null,null,null,null,null,{"$f":"IF(入力用!C6=\"\",\"\",入力用!C6)","v":""},null,null,null,null,null,null,null,null,null,null,null,null,null,null,null,null,null,null,"（代表者名）",null,null,null,null,null,null,null,{"$f":"IF(入力用!C7=\"\",\"\",入力用!C7)","v":""}]
[null,null,null,null,null,null,null,null,null,null,null,null,null,null,null,null,null,null,null,null,null,null,null,null,null,null,null,null,null,null,null,null,null,null,null,null,null,null,null,null,null,null,null,null,null,null,null,null,null,null,null,null,null,null,null,null,null,null,null,null,null,null,null,null,null,null,null,null,null,{"$f":"MID(入力用!C15,25,28)","v":""}]
[null,null,null,null,null,null,null,"ご使用\n場　所",null,null,null,null,"(〒",null,{"$f":"LEFT(入力用!C8,3)","v":""},null,null,"-",{"$f":"RIGHT(入力用!C8,4)","v":""},null,null,null,")",null,{"$f":"LEFT(入力用!C9,25)","v":""}]
[null,null,null,null,null,null,null,null,null,null,null,null,null,null,null,null,null,null,null,null,null,null,null,null,null,null,null,null,null,null,null,null,null,null,null,null,null,null,null,null,null,null,null,null,null,null,null,null,null,null,null,null,null,null,null,null,null,null,null,null,null,null,null,null,null,null,null,null,null,{"$f":"MID(入力用!C15,53,12)","v":""},null,null,null,null,null,null,null,null,null,null,null,null,null,null,null,null,null,null,null,"電話(",null,null,null,{"$f":"IF(入力用!C16=\"\",\"\",入力用!C16)","v":""},null,null,null,null,"-",{"$f":"IF(入力用!E16=\"\",\"\",入力用!E16)","v":""},null,null,null,null,"-",{"$f":"IF(入力用!H16=\"\",\"\",入力用!H16)","v":""},null,null,null,null,")"]
[]
[null,null,null,null,null,null,null,null,null,null,null,null,{"$f":"MID(入力用!C9,26,33)","v":""},null,null,null,null,null,null,null,null,null,null,null,null,null,null,null,null,null,null,null,null,null,null,null,null,null,null,null,null,null,null,null,null,null,null,null,null,null,null,null,null,null,null,null,null,null,null,null,null,null,null,null,"建築会社",null,null,null,null," 会社名",null,null,null,null,null,{"$f":"IF(入力用!C17=\"\",\"\",入力用!C17)","v":""}]
[]
[]
[null,null,null,null,null,null,null,"電話番号",null,null,null,null,"固定",null,null,{"$f":"IF(入力用!C10=\"\",\"\",入力用!C10)","v":""},null,null,null,null,null,"-",{"$f":"IF(入力用!E10=\"\",\"\",入力用!E10)","v":""},null,null,null,null,null,"-",{"$f":"IF(入力用!H10=\"\",\"\",入力用!H10)","v":""},null,null,null,null,null,null,"携帯",null,null,{"$f":"IF(入力用!C11=\"\",\"\",入力用!C11)","v":""},null,null,null,null,null,null,"-",{"$f":"IF(入力用!E11=\"\",\"\",入力用!E11)","v":""},null,null,null,null,null,null,null,"-",{"$f":"IF(入力用!H11=\"\",\"\",入力用!H11)","v":""}]
[null,null,null,null,null,null,null,null,null,null,null,null,null,null,null,null,null,null,null,null,null,null,null,null,null,null,null,null,null,null,null,null,null,null,null,null,null,null,null,null,null,null,null,null,null,null,null,null,null,null,null,null,null,null,null,null,null,null,null,null,null,null,null,null,null,null,null,null,null,"(担当者)",null,null,null,null,null,{"$f":"IF(入力用!C18=\"\",\"\",入力用!C18)","v":""},null,null,null,null,null,null,null,null,null,null,null,null,null,"電話(",null,null,null,{"$f":"IF(入力用!C19=\"\",\"\",入力用!C19)","v":""},null,null,null,null,"-",{"$f":"IF(入力用!E19=\"\",\"\",入力用!E19)","v":""},null,null,null,null,"-",{"$f":"IF(入力用!H19=\"\",\"\",入力用!H19)","v":""},null,null,null,null,")"]
[]
[null,null,null,null,null,null,null,"お支払\n方　法",null,null,null,null,{"$f":"IF(入力用!O20=2,入力用!O6,IF(入力用!O20=3,入力用!O7,IF(入力用!O20=4,入力用!O8,\"\")))","v":""},null,null,null,null,null,null,null,null,null,"支　払\n者　名",null,null,null,null,{"$f":"DBCS(MID(ASC(入力用!C21),1,1))","v":""},{"$f":"DBCS(MID(ASC(入力用!C21),2,1))","v":""},{"$f":"DBCS(MID(ASC(入力用!C21),3,1))","v":""},{"$f":"DBCS(MID(ASC(入力用!C21),4,1))","v":""},{"$f":"DBCS(MID(ASC(入力用!C21),5,1))","v":""},{"$f":"DBCS(MID(ASC(入力用!C21),6,1))","v":""},{"$f":"DBCS(MID(ASC(入力用!C21),7,1))","v":""},{"$f":"DBCS(MID(ASC(入力用!C21),8,1))","v":""},{"$f":"DBCS(MID(ASC(入力用!C21),9,1))","v":""},{"$f":"DBCS(MID(ASC(入力用!C21),10,1))","v":""},{"$f":"DBCS(MID(ASC(入力用!C21),11,1))","v":""},{"$f":"DBCS(MID(ASC(入力用!C21),12,1))","v":""},{"$f":"DBCS(MID(ASC(入力用!C21),13,1))","v":""},{"$f":"DBCS(MID(ASC(入力用!C21),14,1))","v":""},{"$f":"DBCS(MID(ASC(入力用!C21),15,1))","v":""},{"$f":"DBCS(MID(ASC(入力用!C21),16,1))","v":""},{"$f":"DBCS(MID(ASC(入力用!C21),17,1))","v":""},{"$f":"DBCS(MID(ASC(入力用!C21),18,1))","v":""},{"$f":"DBCS(MID(ASC(入力用!C21),19,1))","v":""},{"$f":"DBCS(MID(ASC(入力用!C21),20,1))","v":""},"請求書\n送付先",null,null,null,null,"(〒",null,{"$f":"LEFT(入力用!C23,3)","v":""},null,null,"-",{"$f":"RIGHT(入力用!C23,4)","v":""},null,null,null,")",null,{"$f":"IF(入力用!C24=\"同上\",\"\",LEFT(入力用!C24,11))","v":""},null,null,null,null,null,null,null,null,null,null,null,null,null,null,null,null,"ご連絡先",null,null,null,null,{"$f":"IF(OR(入力用!C26=\"同上\",入力用!C26=\"同左\"),\"\",LEFT(入力用!C26,17))","v":""}]
[]
[null,null,null,null,null,null,null,null,null,null,null,null,null,null,null,null,null,null,null,null,null,null,null,null,null,null,null,{"$f":"DBCS(MID(ASC(入力用!C21),21,1))","v":""},{"$f":"DBCS(MID(ASC(入力用!C21),22,1))","v":""},{"$f":"DBCS(MID(ASC(入力用!C21),23,1))","v":""},{"$f":"DBCS(MID(ASC(入力用!C21),24,1))","v":""},{"$f":"DBCS(MID(ASC(入力用!C21),25,1))","v":""},{"$f":"DBCS(MID(ASC(入力用!C21),26,1))","v":""},{"$f":"DBCS(MID(ASC(入力用!C21),27,1))","v":""},{"$f":"DBCS(MID(ASC(入力用!C21),28,1))","v":""},{"$f":"DBCS(MID(ASC(入力用!C21),29,1))","v":""},{"$f":"DBCS(MID(ASC(入力用!C21),30,1))","v":""},{"$f":"DBCS(MID(ASC(入力用!C21),31,1))","v":""},{"$f":"DBCS(MID(ASC(入力用!C21),32,1))","v":""},{"$f":"DBCS(MID(ASC(入力用!C21),33,1))","v":""},{"$f":"DBCS(MID(ASC(入力用!C21),34,1))","v":""},{"$f":"DBCS(MID(ASC(入力用!C21),35,1))","v":""},{"$f":"DBCS(MID(ASC(入力用!C21),36,1))","v":""},{"$f":"DBCS(MID(ASC(入力用!C21),37,1))","v":""},{"$f":"DBCS(MID(ASC(入力用!C21),38,1))","v":""},{"$f":"DBCS(MID(ASC(入力用!C21),39,1))","v":""},{"$f":"DBCS(MID(ASC(入力用!C21),40,1))","v":""},null,null,null,null,null,{"$f":"IF(入力用!C24=\"同上\",入力用!C24,MID(入力用!C24,12,20))","v":""},null,null,null,null,null,null,null,null,null,null,null,null,null,null,null,null,null,null,null,null,null,null,null,null,null,null,null,null,null,null,null,null,null,{"$f":"IF(OR(入力用!C26=\"同上\",入力用!C26=\"同左\"),入力用!C26,MID(入力用!C26,18,17))","v":""}]
[]
[null,null,null,null,null,null,null,null,null,null,null,null,null,null,null,null,null,null,null,null,null,null,null,null,null,null,null,{"$f":"IF(入力用!C22=\"\",\"\",入力用!C22)","v":""}]
[null,null,null,null,null,null,null,null,null,null,null,null,null,null,null,null,null,null,null,null,null,null,null,null,null,null,null,null,null,null,null,null,null,null,null,null,null,null,null,null,null,null,null,null,null,null,null,null,null,null,null,null,{"$f":"MID(入力用!C24,32,5)","v":""},null,null,null,null,null,null,"電話(",null,null,null,{"$f":"IF(入力用!C25=\"\",\"\",入力用!C25)","v":""},null,null,null,null,"-",{"$f":"IF(入力用!E25=\"\",\"\",入力用!E25)","v":""},null,null,null,null,"-",{"$f":"IF(入力用!H25=\"\",\"\",入力用!H25)","v":""},null,null,null,null,")",null,null,null,null,null,{"$f":"IF(OR(入力用!C26=\"同上\",入力用!C26=\"同左\"),\"\",MID(入力用!C26,35,1))","v":""},null,null,"電話(",null,null,null,{"$f":"IF(入力用!C27=\"\",\"\",入力用!C27)","v":""},null,null,null,null,"-",{"$f":"IF(入力用!E27=\"\",\"\",入力用!E27)","v":""},null,null,null,null,"-",{"$f":"IF(入力用!H27=\"\",\"\",入力用!H27)","v":""},null,null,null,null,")"]
[]
[null,"受　電\n希望日",null,null,null,null,null,null,null,null,null,null,null,null,null,null,null,null,null,null,null,null,null,null,null,null,null,null,null,null,"契約\n種別",null,null,null,null,{"$f":"IF(入力用!O31=2,入力用!P6,IF(入力用!O31=3,入力用!P7,IF(入力用!O31=4,入力用!P8,\"\")))","v":""},null,null,null,null,null,null,null,null,null,null,null,null,null,null,null,null,null,null,"業種",null,null,null,{"$f":"IF(入力用!P30=\"\",\"\",入力用!P30)","v":""},null,null,null,null,null,null,null,null,null,"夜間時間\n開始時刻",null,null,null,null,{"$f":"IF(入力用!O34=2,入力用!S6,IF(入力用!O34=3,入力用!S7,IF(入力用!O34=4,入力用!S8,\"\")))","v":""},null,null,null,null,"午後時間\n開始時刻",null,null,null,null,{"$f":"IF(入力用!O35=2,入力用!U6,IF(入力用!O35=3,入力用!U7,IF(入力用!O35=4,入力用!U8,\"\")))","v":""},null,null,null,null,"電設Ｎｅｔ\n申込",null,null,null,null,null,null,{"$f":"IF(入力用!O28=2,入力用!AG12,IF(入力用!O28=3,入力用!AG13,\"\"))","v":""}]
[]
[null,null,null,null,null,null,null,null,null,null,null,null,null,null,null,null,null,null,null,null,null,null,null,null,null,null,null,null,null,null,"電気供給方式・\n供給電圧",null,null,null,null,{"$f":"IF(入力用!O33=2,入力用!R6,IF(入力用!O33=3,入力用!R7,IF(入力用!O33=4,入力用!R8,IF(入力用!O33=5,入力用!R9,\"\"))))","v":""}]
[null,null,null,null,null,null,null,{"$f":"IF(入力用!C30=\"\",\"\",入力用!C30)","v":""},null,null,null,null,null,null,null,{"$f":"IF(入力用!E30=\"\",\"\",入力用!E30)","v":""},null,null,null,null,null,null,null,{"$f":"IF(入力用!H30=\"\",\"\",入力用!H30)","v":""},null,null,null,null,null,null,null,null,null,null,null,null,null,null,null,null,null,null,null,null,null,null,null,null,null,null,null,null,null,null,null,null,null,null,null,null,null,null,null,null,null,null,null,null,null,null,null,null,null,null,null,null,null,null,null,null,null,null,null,null,null,null,null,null,null,null,null,null,null,null,null,{"$f":"IF(入力用!C29=\"\",\"\",入力用!C29)","v":""}]
[null,null,null,null,null,null,null,null,null,null,null,null,"年",null,null,null,null,null,null,null,"月",null,null,null,null,null,null,"日"]
[]
[null,"供　給\n方　法",null,null,null,null,null,{"$f":"IF(入力用!O36=2,入力用!V6,IF(入力用!O36=3,入力用!V7,IF(入力用!O36=4,入力用!V8,\"\")))","v":""},null,null,null,null,null,null,null,null,null,null,null,null,null,null,null,null,null,"契約\n決定\n方法",null,null,null,{"$f":"IF(入力用!O37=2,入力用!W6,IF(入力用!O37=3,入力用!W7,IF(入力用!O37=4,入力用!W8,IF(入力用!O37=5,入力用!W9,IF(入力用!O37=6,入力用!W10,IF(入力用!O37=7,入力用!W11,\"\"))))))","v":""},null,null,null,null,null,null,null,null,null,null,null,null,null,null,null,null,null,null,null,"主開閉器・\n電流制限器\nの定格電流",null,null,null,null,null,null,null,null,null,null,null,"フリーエリア\n計器払出希望\n事 業 所 名",null,null,null,null,null,null,null,{"$f":"IF(入力用!C39=\"\",\"\",入力用!C39)","v":""},null,null,null,null,null,null,null,null,null,null,null,null,"本契約前\nの臨時契\n約の有無",null,null,null,null,{"$f":"IF(入力用!O40=2,入力用!X6,IF(入力用!O40=3,入力用!X7,\"\"))","v":""},null,null,null," 臨時受付№"]
[]
[null,null,null,null,null,null,null,null,null,null,null,null,null,null,null,null,null,null,null,null,null,null,null,null,null,null,null,null,null,null,null,null,null,null,null,null,null,null,null,null,null,null,null,null,null,null,null,null,null,null,null,null,null,null,null,{"$f":"IF(入力用!C38=\"\",\"\",入力用!C38)","v":""}]
[null,null,null,null,null,null,null,null,null,null,null,null,null,null,null,null,null,null,null,null,null,null,null,null,null,null,null,null,null,null,null,null,null,null,null,null,null,null,null,null,null,null,null,null,null,null,null,null,null,null,null,null,null,null,null,null,null,null,null,null,null,null,null,null,null,null,null,null,null,null,null,null,null,null,null,null,null,null,null,null,null,null,null,null,null,null,null,null,null,null,null,null,"(",null,null,null,null,null,")"]
[null,null,null,null,null,null,null,null,null,null,null,null,null,null,null,null,null,null,null,null,null,null,null,null,null,null,null,null,null,null,null,null,null,null,null,null,null,null,null,null,null,null,null,null,null,null,null,null,null,null,null,null,null,null,null,null,null,null,null,"Ａ",null,null,null,null,null,null,null,null,null,null,null,null,null,null,null,null,null,null,null,null,null,null,null,null,null,null,null,null,null,null,null,null,null,null,null,null,null,null,null,null,null,"受付"]
[]
[null,"一般機器\n容量内訳",null,null,null,null,null,"電　　　　　　　　灯",null,null,null,null,null,null,null,null,null,null,null,null,null,null,null,null,null,null,null,null,"小　　型　　機　　器",null,null,null,null,null,null,null,null,null,null,null,null,null,null,null,null,null,null,null,null,null,null,null,null,null,null,null,null,null,"回路数",null,null,null,null,null,"適用業種別回路数内訳",null,null,null,null,null,null,null,null,null,null,null,null,null,null,null,null,"合　計　容　量"]
[]
[null,null,null,null,null,null,null,{"$f":"IF(入力用!C41=\"\",\"\",入力用!C41)","v":""},null,null,null,null,"灯",null,null,{"$f":"IF(入力用!C42=\"\",\"\",入力用!C42)","v":""},null,null,null,null,null,null,null,null,"ＶＡ",null,null,null,{"$f":"IF(入力用!C43=\"\",\"\",入力用!C43)","v":""},null,null,null,null,null,null,"個",null,null,{"$f":"IF(入力用!C44=\"\",\"\",入力用!C44)","v":""},null,null,null,null,null,null,null,null,null,null,null,null,null,null,null,"ＶＡ",null,null,null,{"$f":"IF(入力用!C49=\"\",\"\",入力用!C49)","v":""},null,null,null,null,null,{"$f":"IF(入力用!P49=\"\",\"\",入力用!P49)","v":""},null,null,null,null,null,null,null,null,null,{"$f":"IF(入力用!C51=\"\",\"\",入力用!C51)","v":""},null,null,"回路",null,null,null,{"$f":"IF(OR(入力用!O37<4,入力用!O37=6,入力用!O37=7,入力用!R27=\"\",入力用!O38=1),\"\",入力用!R27)","v":""}]
[]
[null,null,null,null,null,null,null,null,null,null,null,null,null,null,null,null,null,null,null,null,null,null,null,null,null,null,null,null,"うちＩＨクッキングヒーター",null,null,null,null,null,null,null,null,null,null,null,null,null,null,{"$f":"IF(入力用!C45=\"\",\"\",入力用!C45)","v":""},null,null,"台",null,{"$f":"IF(入力用!D46=\"\",\"\",入力用!D46)","v":""},null,null,null,null,null,null,"ＶＡ",null,null,null,null,null,null,null,null,{"$f":"IF(入力用!P51=\"\",\"\",入力用!P51)","v":""},null,null,null,null,null,null,null,null,null,{"$f":"IF(入力用!C53=\"\",\"\",入力用!C53)","v":""},null,null,"回路"]
[null,null,null,null,null,null,null,null,null,null,null,null,null,null,null,null,null,null,null,null,null,null,null,null,null,null,null,null,null,null,null,null,null,null,null,null,null,null,null,null,null,null,null,null,null,null,null,null,null,null,null,null,null,null,null,null,null,null,null,null,null,null,null,null,null,null,null,null,null,null,null,null,null,null,null,null,null,null,null,null,null,null,null,null,null,null,null,null,null,null,"ＶＡ"]
[null,null,null,null,null,null,null,null,null,null,null,null,null,null,null,null,null,null,null,null,null,null,null,null,null,null,null,null,"(メーカー)",null,null,null,null,null,{"$f":"IF(入力用!E47=\"\",\"\",入力用!E47)","v":""},null,null,null,null,null,null,"(型式)",null,null,null,{"$f":"IF(入力用!E48=\"\",\"\",入力用!E48)","v":""},null,null,null,null,null,null,null,null,null,null,null,null,null,null,null,null,null,null,{"$f":"IF(入力用!P53=\"\",\"\",入力用!P53)","v":""},null,null,null,null,null,null,null,null,null,{"$f":"IF(入力用!C55=\"\",\"\",入力用!C55)","v":""},null,null,"回路"]
[]
[null,"蓄　　熱　　機　　器",null,null,"夜間蓄熱型機器",null,null,"機　器　種　別",null,null,null,null,null,null,null,null,null,null,null,null,null,null,null,null,null,null,null,"通電時間",null,null,null,null,null,null,"メーカー",null,null,null,null,null,"型式",null,null,null,null,null,null,null,null,null,null,null,null,null,null,null,null,null,"通電制御",null,null,null,null,null,"ﾀｲﾑｺﾝﾄﾛｰﾗｰ設置",null,null,null,null,null,null,null,null,null,null,"容量(a)",null,null,null,null,null,null,null,"台数(b)",null,null,null,null,"合計(a×b)",null,null,null,null,null,null,"施設№"]
[]
[null,null,null,null,null,null,null,{"$f":"IF(入力用!O56=2,入力用!Z6,IF(入力用!O56=3,入力用!Z7,IF(入力用!O56=4,入力用!K56,\"\")))","v":""},null,null,null,null,null,null,null,null,null,null,null,null,null,null,null,null,null,null,null,{"$f":"IF(入力用!O57=2,入力用!AA6,IF(入力用!O57=3,入力用!AA7,\"\"))","v":""},null,null,null,null,null,null,{"$f":"IF(入力用!C58=\"\",\"\",入力用!C58)","v":""},null,null,null,null,null,{"$f":"IF(入力用!C59=\"\",\"\",入力用!C59)","v":""},null,null,null,null,null,null,null,null,null,null,null,null,null,null,null,null,null,{"$f":"IF(入力用!O60=2,入力用!AB6,IF(入力用!O60=3,入力用!AB7,\"\"))","v":""},null,null,null,null,null,{"$f":"IF(入力用!O61=2,入力用!AC6,IF(入力用!O61=3,入力用!AC7,IF(入力用!O61=4,入力用!AC8,\"\")))","v":""},null,null,null,null,null,null,null,null,null,null,{"$f":"IF(入力用!C62=\"\",\"\",入力用!C62)","v":""},null,null,null,null,"kVA",null,null,{"$f":"IF(入力用!C63=\"\",\"\",入力用!C63)","v":""},null,null,"台",null,{"$f":"IF(入力用!P61=0,\"\",入力用!P61)","v":""},null,null,null,"kVA"]
[]
[]
[null,null,null,null,null,null,null,{"$f":"IF(入力用!O64=2,入力用!Z6,IF(入力用!O64=3,入力用!Z7,IF(入力用!O64=4,入力用!K64,\"\")))","v":""},null,null,null,null,null,null,null,null,null,null,null,null,null,null,null,null,null,null,null,{"$f":"IF(入力用!O65=2,入力用!AA6,IF(入力用!O65=3,入力用!AA7,\"\"))","v":""},null,null,null,null,null,null,{"$f":"IF(入力用!C66=\"\",\"\",入力用!C66)","v":""},null,null,null,null,null,{"$f":"IF(入力用!C67=\"\",\"\",入力用!C67)","v":""},null,null,null,null,null,null,null,null,null,null,null,null,null,null,null,null,null,{"$f":"IF(入力用!O68=2,入力用!AB6,IF(入力用!O68=3,入力用!AB7,\"\"))","v":""},null,null,null,null,null,{"$f":"IF(入力用!O69=2,入力用!AC6,IF(入力用!O69=3,入力用!AC7,IF(入力用!O69=4,入力用!AC8,\"\")))","v":""},null,null,null,null,null,null,null,null,null,null,{"$f":"IF(入力用!C70=\"\",\"\",入力用!C70)","v":""},null,null,null,null,"kVA",null,null,{"$f":"IF(入力用!C71=\"\",\"\",入力用!C71)","v":""},null,null,"台",null,{"$f":"IF(入力用!P69=0,\"\",入力用!P69)","v":""},null,null,null,"kVA"]
[]
[]
[null,null,null,null,null,null,null,{"$f":"IF(入力用!O72=2,入力用!Z6,IF(入力用!O72=3,入力用!Z7,IF(入力用!O72=4,入力用!K72,\"\")))","v":""},null,null,null,null,null,null,null,null,null,null,null,null,null,null,null,null,null,null,null,{"$f":"IF(入力用!O73=2,入力用!AA6,IF(入力用!O73=3,入力用!AA7,\"\"))","v":""},null,null,null,null,null,null,{"$f":"IF(入力用!C74=\"\",\"\",入力用!C74)","v":""},null,null,null,null,null,{"$f":"IF(入力用!C75=\"\",\"\",入力用!C75)","v":""},null,null,null,null,null,null,null,null,null,null,null,null,null,null,null,null,null,{"$f":"IF(入力用!O76=2,入力用!AB6,IF(入力用!O76=3,入力用!AB7,\"\"))","v":""},null,null,null,null,null,{"$f":"IF(入力用!O77=2,入力用!AC6,IF(入力用!O77=3,入力用!AC7,IF(入力用!O77=4,入力用!AC8,\"\")))","v":""},null,null,null,null,null,null,null,null,null,null,{"$f":"IF(入力用!C78=\"\",\"\",入力用!C78)","v":""},null,null,null,null,"kVA",null,null,{"$f":"IF(入力用!C79=\"\",\"\",入力用!C79)","v":""},null,null,"台",null,{"$f":"IF(入力用!P77=0,\"\",入力用!P77)","v":""},null,null,null,"kVA"]
[]
[]
[null,null,null,null,null,null,null,{"$f":"IF(入力用!O80=2,入力用!Z6,IF(入力用!O80=3,入力用!Z7,IF(入力用!O80=4,入力用!K80,\"\")))","v":""},null,null,null,null,null,null,null,null,null,null,null,null,null,null,null,null,null,null,null,{"$f":"IF(入力用!O81=2,入力用!AA6,IF(入力用!O81=3,入力用!AA7,\"\"))","v":""},null,null,null,null,null,null,{"$f":"IF(入力用!C82=\"\",\"\",入力用!C82)","v":""},null,null,null,null,null,{"$f":"IF(入力用!C83=\"\",\"\",入力用!C83)","v":""},null,null,null,null,null,null,null,null,null,null,null,null,null,null,null,null,null,{"$f":"IF(入力用!O84=2,入力用!AB6,IF(入力用!O84=3,入力用!AB7,\"\"))","v":""},null,null,null,null,null,{"$f":"IF(入力用!O85=2,入力用!AC6,IF(入力用!O85=3,入力用!AC7,IF(入力用!O85=4,入力用!AC8,\"\")))","v":""},null,null,null,null,null,null,null,null,null,null,{"$f":"IF(入力用!C86=\"\",\"\",入力用!C86)","v":""},null,null,null,null,"kVA",null,null,{"$f":"IF(入力用!C87=\"\",\"\",入力用!C87)","v":""},null,null,"台",null,{"$f":"IF(入力用!P85=0,\"\",入力用!P85)","v":""},null,null,null,"kVA"]
[]
[]
[null,null,null,null,null,null,null,{"$f":"IF(入力用!O88=2,入力用!Z6,IF(入力用!O88=3,入力用!Z7,IF(入力用!O88=4,入力用!K88,\"\")))","v":""},null,null,null,null,null,null,null,null,null,null,null,null,null,null,null,null,null,null,null,{"$f":"IF(入力用!O89=2,入力用!AA6,IF(入力用!O89=3,入力用!AA7,\"\"))","v":""},null,null,null,null,null,null,{"$f":"IF(入力用!C90=\"\",\"\",入力用!C90)","v":""},null,null,null,null,null,{"$f":"IF(入力用!C91=\"\",\"\",入力用!C91)","v":""},null,null,null,null,null,null,null,null,null,null,null,null,null,null,null,null,null,{"$f":"IF(入力用!O92=2,入力用!AB6,IF(入力用!O92=3,入力用!AB7,\"\"))","v":""},null,null,null,null,null,{"$f":"IF(入力用!O93=2,入力用!AC6,IF(入力用!O93=3,入力用!AC7,IF(入力用!O93=4,入力用!AC8,\"\")))","v":""},null,null,null,null,null,null,null,null,null,null,{"$f":"IF(入力用!C94=\"\",\"\",入力用!C94)","v":""},null,null,null,null,"kVA",null,null,{"$f":"IF(入力用!C95=\"\",\"\",入力用!C95)","v":""},null,null,"台",null,{"$f":"IF(入力用!P93=0,\"\",入力用!P93)","v":""},null,null,null,"kVA"]
[]
[]
[null,null,null,null,null,null,null,{"$f":"IF(入力用!O96=2,入力用!Z6,IF(入力用!O96=3,入力用!Z7,IF(入力用!O96=4,入力用!K96,\"\")))","v":""},null,null,null,null,null,null,null,null,null,null,null,null,null,null,null,null,null,null,null,{"$f":"IF(入力用!O97=2,入力用!AA6,IF(入力用!O97=3,入力用!AA7,\"\"))","v":""},null,null,null,null,null,null,{"$f":"IF(入力用!C98=\"\",\"\",入力用!C98)","v":""},null,null,null,null,null,{"$f":"IF(入力用!C99=\"\",\"\",入力用!C99)","v":""},null,null,null,null,null,null,null,null,null,null,null,null,null,null,null,null,null,{"$f":"IF(入力用!O100=2,入力用!AB6,IF(入力用!O100=3,入力用!AB7,\"\"))","v":""},null,null,null,null,null,{"$f":"IF(入力用!O101=2,入力用!AC6,IF(入力用!O101=3,入力用!AC7,IF(入力用!O101=4,入力用!AC8,\"\")))","v":""},null,null,null,null,null,null,null,null,null,null,{"$f":"IF(入力用!C102=\"\",\"\",入力用!C102)","v":""},null,null,null,null,"kVA",null,null,{"$f":"IF(入力用!C103=\"\",\"\",入力用!C103)","v":""},null,null,"台",null,{"$f":"IF(入力用!P101=0,\"\",入力用!P101)","v":""},null,null,null,"kVA"]
[]
[]
[null,null,null,null,null,null,null,{"$f":"IF(入力用!O104=2,入力用!Z6,IF(入力用!O104=3,入力用!Z7,IF(入力用!O104=4,入力用!K104,\"\")))","v":""},null,null,null,null,null,null,null,null,null,null,null,null,null,null,null,null,null,null,null,{"$f":"IF(入力用!O105=2,入力用!AA6,IF(入力用!O105=3,入力用!AA7,\"\"))","v":""},null,null,null,null,null,null,{"$f":"IF(入力用!C106=\"\",\"\",入力用!C106)","v":""},null,null,null,null,null,{"$f":"IF(入力用!C107=\"\",\"\",入力用!C107)","v":""},null,null,null,null,null,null,null,null,null,null,null,null,null,null,null,null,null,{"$f":"IF(入力用!O108=2,入力用!AB6,IF(入力用!O108=3,入力用!AB7,\"\"))","v":""},null,null,null,null,null,{"$f":"IF(入力用!O109=2,入力用!AC6,IF(入力用!O109=3,入力用!AC7,IF(入力用!O109=4,入力用!AC8,\"\")))","v":""},null,null,null,null,null,null,null,null,null,null,{"$f":"IF(入力用!C110=\"\",\"\",入力用!C110)","v":""},null,null,null,null,"kVA",null,null,{"$f":"IF(入力用!C111=\"\",\"\",入力用!C111)","v":""},null,null,"台",null,{"$f":"IF(入力用!P109=0,\"\",入力用!P109)","v":""},null,null,null,"kVA"]
[]
[]
[null,null,null,null,null,null,null,{"$f":"IF(入力用!O112=2,入力用!Z6,IF(入力用!O112=3,入力用!Z7,IF(入力用!O112=4,入力用!K112,\"\")))","v":""},null,null,null,null,null,null,null,null,null,null,null,null,null,null,null,null,null,null,null,{"$f":"IF(入力用!O113=2,入力用!AA6,IF(入力用!O113=3,入力用!AA7,\"\"))","v":""},null,null,null,null,null,null,{"$f":"IF(入力用!C114=\"\",\"\",入力用!C114)","v":""},null,null,null,null,null,{"$f":"IF(入力用!C115=\"\",\"\",入力用!C115)","v":""},null,null,null,null,null,null,null,null,null,null,null,null,null,null,null,null,null,{"$f":"IF(入力用!O116=2,入力用!AB6,IF(入力用!O116=3,入力用!AB7,\"\"))","v":""},null,null,null,null,null,{"$f":"IF(入力用!O117=2,入力用!AC6,IF(入力用!O117=3,入力用!AC7,IF(入力用!O117=4,入力用!AC8,\"\")))","v":""},null,null,null,null,null,null,null,null,null,null,{"$f":"IF(入力用!C118=\"\",\"\",入力用!C118)","v":""},null,null,null,null,"kVA",null,null,{"$f":"IF(入力用!C119=\"\",\"\",入力用!C119)","v":""},null,null,"台",null,{"$f":"IF(入力用!P117=0,\"\",入力用!P117)","v":""},null,null,null,"kVA"]
[]
[]
[null,null,null,null,null,null,null,{"$f":"IF(入力用!O120=2,入力用!Z6,IF(入力用!O120=3,入力用!Z7,IF(入力用!O120=4,入力用!K120,\"\")))","v":""},null,null,null,null,null,null,null,null,null,null,null,null,null,null,null,null,null,null,null,{"$f":"IF(入力用!O121=2,入力用!AA6,IF(入力用!O121=3,入力用!AA7,\"\"))","v":""},null,null,null,null,null,null,{"$f":"IF(入力用!C122=\"\",\"\",入力用!C122)","v":""},null,null,null,null,null,{"$f":"IF(入力用!C123=\"\",\"\",入力用!C123)","v":""},null,null,null,null,null,null,null,null,null,null,null,null,null,null,null,null,null,{"$f":"IF(入力用!O124=2,入力用!AB6,IF(入力用!O124=3,入力用!AB7,\"\"))","v":""},null,null,null,null,null,{"$f":"IF(入力用!O125=2,入力用!AC6,IF(入力用!O125=3,入力用!AC7,IF(入力用!O125=4,入力用!AC8,\"\")))","v":""},null,null,null,null,null,null,null,null,null,null,{"$f":"IF(入力用!C126=\"\",\"\",入力用!C126)","v":""},null,null,null,null,"kVA",null,null,{"$f":"IF(入力用!C127=\"\",\"\",入力用!C127)","v":""},null,null,"台",null,{"$f":"IF(入力用!P125=0,\"\",入力用!P125)","v":""},null,null,null,"kVA"]
[]
[]
[null,null,null,null,"オフ\nピー\nク蓄\n熱型\n機器",null,null,"機　器　種　別　※HPはヒートポンプ",null,null,null,null,null,null,null,null,null,null,null,null,null,null,null,null,null,null,null,"メーカー",null,null,null,null,null,null,null,null,null,null,null,null,"型式",null,null,null,null,null,null,null,null,null,null,null,null,null,null,null,null,null,"通電制御",null,null,null,null,null,"容量(a)",null,null,null,null,null,null,null,"台数(b)",null,null,null,null,"合計(a×b)",null,null,null,null,null,null,"通電開始時刻"]
[]
[null,null,null,null,null,null,null,{"$f":"IF(入力用!O128=2,入力用!AD6,IF(入力用!O128=3,入力用!AD7,IF(入力用!O128=4,入力用!AD8,\"\")))","v":""},null,null,null,null,null,null,null,null,null,null,null,null,null,null,null,null,null,null,null,{"$f":"IF(入力用!C129=\"\",\"\",入力用!C129)","v":""},null,null,null,null,null,null,null,null,null,null,null,null,{"$f":"IF(入力用!C130=\"\",\"\",入力用!C130)","v":""},null,null,null,null,null,null,null,null,null,null,null,null,null,null,null,null,null,{"$f":"IF(入力用!O131=2,入力用!AE6,IF(入力用!O131=3,入力用!AE7,\"\"))","v":""},null,null,null,null,null,{"$f":"IF(入力用!C132=\"\",\"\",入力用!C132)","v":""},null,null,null,null,"kVA",null,null,{"$f":"IF(入力用!C133=\"\",\"\",入力用!C133)","v":""},null,null,"台",null,{"$f":"IF(入力用!P131=0,\"\",入力用!P131)","v":""},null,null,null,"kVA",null,null,"施設№１",null,null,null,null,null,"時",null,"施設№３",null,null,null,null,null,"時"]
[]
[null,null,null,null,null,null,null,null,null,null,null,null,null,null,null,null,null,null,null,null,null,null,null,null,null,null,null,null,null,null,null,null,null,null,null,null,null,null,null,null,null,null,null,null,null,null,null,null,null,null,null,null,null,null,null,null,null,null,null,null,null,null,null,null,null,null,null,null,null,null,null,null,null,null,null,null,null,null,null,null,null,null,null,null,"施設№２",null,null,null,null,null,"時",null,"施設№４",null,null,null,null,null,"時"]
[null,null,null,null,null,null,null,{"$f":"IF(入力用!O134=2,入力用!AD6,IF(入力用!O134=3,入力用!AD7,IF(入力用!O134=4,入力用!AD8,\"\")))","v":""},null,null,null,null,null,null,null,null,null,null,null,null,null,null,null,null,null,null,null,{"$f":"IF(入力用!C135=\"\",\"\",入力用!C135)","v":""},null,null,null,null,null,null,null,null,null,null,null,null,{"$f":"IF(入力用!C136=\"\",\"\",入力用!C136)","v":""},null,null,null,null,null,null,null,null,null,null,null,null,null,null,null,null,null,{"$f":"IF(入力用!O137=2,入力用!AE6,IF(入力用!O137=3,入力用!AE7,\"\"))","v":""},null,null,null,null,null,{"$f":"IF(入力用!C138=\"\",\"\",入力用!C138)","v":""},null,null,null,null,"kVA",null,null,{"$f":"IF(入力用!C139=\"\",\"\",入力用!C139)","v":""},null,null,"台",null,{"$f":"IF(入力用!P137=0,\"\",入力用!P137)","v":""},null,null,null,"kVA"]
[]
[]
[null,null,null,null,null,null,null,{"$f":"IF(入力用!O140=2,入力用!AD6,IF(入力用!O140=3,入力用!AD7,IF(入力用!O140=4,入力用!AD8,\"\")))","v":""},null,null,null,null,null,null,null,null,null,null,null,null,null,null,null,null,null,null,null,{"$f":"IF(入力用!C141=\"\",\"\",入力用!C141)","v":""},null,null,null,null,null,null,null,null,null,null,null,null,{"$f":"IF(入力用!C142=\"\",\"\",入力用!C142)","v":""},null,null,null,null,null,null,null,null,null,null,null,null,null,null,null,null,null,{"$f":"IF(入力用!O143=2,入力用!AE6,IF(入力用!O143=3,入力用!AE7,\"\"))","v":""},null,null,null,null,null,{"$f":"IF(入力用!C144=\"\",\"\",入力用!C144)","v":""},null,null,null,null,"kVA",null,null,{"$f":"IF(入力用!C145=\"\",\"\",入力用!C145)","v":""},null,null,"台",null,{"$f":"IF(入力用!P143=0,\"\",入力用!P143)","v":""},null,null,null,"kVA"]
[]
[]
[null,"蓄 熱 式\n暖 房 器\n以 外 の\n電気暖房\n機      器",null,null,null,null,null,"機　器　種　別　※HPはヒートポンプ",null,null,null,null,null,null,null,null,null,null,null,null,null,null,null,null,null,null,null,"メーカー",null,null,null,null,null,null,null,null,null,null,null,null,"型式",null,null,null,null,null,null,null,null,null,null,null,null,null,null,null,null,null,"非蓄熱式電\n気暖房割引",null,null,null,null,null,"容量(a)",null,null,null,null,null,null,null,"台数(b)",null,null,null,null,"合計(a×b)"]
[]
[null,null,null,null,null,null,null,{"$f":"IF(入力用!O146=2,入力用!AF6,IF(入力用!O146=3,入力用!AF7,IF(入力用!O146=4,入力用!K146,\"\")))","v":""},null,null,null,null,null,null,null,null,null,null,null,null,null,null,null,null,null,null,null,{"$f":"IF(入力用!C147=\"\",\"\",入力用!C147)","v":""},null,null,null,null,null,null,null,null,null,null,null,null,{"$f":"IF(入力用!C148=\"\",\"\",入力用!C148)","v":""},null,null,null,null,null,null,null,null,null,null,null,null,null,null,null,null,null,{"$f":"IF(入力用!O149=2,入力用!AG6,IF(入力用!O149=3,入力用!AG7,IF(入力用!O149=4,入力用!AG8,\"\")))","v":""},null,null,null,null,null,{"$f":"IF(入力用!C150=\"\",\"\",入力用!C150)","v":""},null,null,null,null,"kVA",null,null,{"$f":"IF(入力用!C151=\"\",\"\",入力用!C151)","v":""},null,null,"台",null,{"$f":"IF(入力用!P149=0,\"\",入力用!P149)","v":""},null,null,null,"kVA"]
[]
[]
[null,null,null,null,null,null,null,{"$f":"IF(入力用!O152=2,入力用!AF6,IF(入力用!O152=3,入力用!AF7,IF(入力用!O152=4,入力用!K152,\"\")))","v":""},null,null,null,null,null,null,null,null,null,null,null,null,null,null,null,null,null,null,null,{"$f":"IF(入力用!C153=\"\",\"\",入力用!C153)","v":""},null,null,null,null,null,null,null,null,null,null,null,null,{"$f":"IF(入力用!C154=\"\",\"\",入力用!C154)","v":""},null,null,null,null,null,null,null,null,null,null,null,null,null,null,null,null,null,null,null,null,null,null,null,{"$f":"IF(入力用!C155=\"\",\"\",入力用!C155)","v":""},null,null,null,null,"kVA",null,null,{"$f":"IF(入力用!C156=\"\",\"\",入力用!C156)","v":""},null,null,"台",null,{"$f":"IF(入力用!P154=0,\"\",入力用!P154)","v":""},null,null,null,"kVA",null,null,"契約容量 (小数点以下四捨五入)"]
[]
[null,null,null,null,null,null,null,null,null,null,null,null,null,null,null,null,null,null,null,null,null,null,null,null,null,null,null,null,null,null,null,null,null,null,null,null,null,null,null,null,null,null,null,null,null,null,null,null,null,null,null,null,null,null,null,null,null,null,null,null,null,null,null,null,null,null,null,null,null,null,null,null,null,null,null,null,null,null,null,null,null,null,null,null,{"$f":"IF(入力用!O37=6,入力用!R29,\"\")","v":""},null,null,null,null,null,null,null,null,null,null,null,"ｋＶＡ"]
[null,null,null,null,null,null,null,{"$f":"IF(入力用!O157=2,入力用!AF6,IF(入力用!O157=3,入力用!AF7,IF(入力用!O157=4,入力用!K157,\"\")))","v":""},null,null,null,null,null,null,null,null,null,null,null,null,null,null,null,null,null,null,null,{"$f":"IF(入力用!C158=\"\",\"\",入力用!C158)","v":""},null,null,null,null,null,null,null,null,null,null,null,null,{"$f":"IF(入力用!C159=\"\",\"\",入力用!C159)","v":""},null,null,null,null,null,null,null,null,null,null,null,null,null,null,null,null,null,null,null,null,null,null,null,{"$f":"IF(入力用!C160=\"\",\"\",入力用!C160)","v":""},null,null,null,null,"kVA",null,null,{"$f":"IF(入力用!C161=\"\",\"\",入力用!C161)","v":""},null,null,"台",null,{"$f":"IF(入力用!P159=0,\"\",入力用!P159)","v":""},null,null,null,"kVA"]
[]
[]
[null,"異動種別",null,null,"・新設　　 　・減少　 　　　・転出",null,null,null,null,null,null,null,null,null,null,null,null,null,null,null,null,null,null,null,null,null,null,null,"供給地点特定番号",null,null,null,null,null,null,"発行\n回数",null,null,"支店",null,"ﾌﾞﾛｯｸ",null,null,"住所",null,null,null,null,"街区",null,null,"契約№",null,null,null,null,"枝番",null,null,"種別",null,null,null,null,null,null,"送電日\n（異動日）"]
[]
[null,null,null,null,"・種変(+)　　・設備撤去　　・名義変更"]
[]
[null,null,null,null,"・ｺｰﾄﾞ変(+)　・設備変更　　 ・その他",null,null,null,null,null,null,null,null,null,null,null,null,null,null,null,null,null,null,null,null,null,null,null,null,null,null,"010",null,null,null,null,null,null,null,null,null,null,null,null,null,null,null,null,null,null,null,null,null,null,null,null,null,null,null,33,null,null,"00"]
[]
[null,null,null,null,"・増加　　 　・転入　　　　（　　　　）",null,null,null,null,null,null,null,null,null,null,null,null,null,null,null,null,null,null,null,null,null,null,null,null,null,null,null,null,null,null,null,null,null,null,null,null,null,null,null,null,null,null,null,null,null,null,null,null,null,null,null,null,null,null,null,null,null,null,null,null,null,null,null,null,null,null,"年",null,null,null,"月",null,null,null,"日"]
[]
[]
[null,"　※　太枠内をご記入願います。"]
[]
[null,"　※　ご契約名義，お支払方法またはアンペア変更をご希望の場合は，カスタマーサービスセンター（0120-680-340）までご連絡ください。"]
[]
[null,"　※　夜間時間は，ドリーム８の場合は夜間時間開始時刻から８時間，ｅタイム３の場合は２２時から翌日の８時までとなっております。"]
[]
[null,"　※　午後時間は，午後時間開始時刻から５時間となっております。なお，午後時間開始時刻は，ｅタイム３の場合のみご記入願います。"]
[]
[null,"　※　ご提供いただいた個人情報は，電気事業の範囲内で利用いたします。"]
[]
[]
[]
[]
[null,null,"拝啓　平素は弊社事業に格別のお引き立てを賜り，厚くお礼申し上げます。０１２３４５６７８９０１２３４５６７８９０１２３４５６"]
[]
[]
[null,null,"　さて，この度お客さまの電気ご使用につきまして，本申込書記載の内容にてご契約させていただきましたことをお知らせいたします。"]
[]
[]
[null,null,"　なお，上記蓄熱機器等は，申込書記載の電気工事会社様によって最終確認いただいておりますが，機器型式および容量等の相違により"]
[]
[]
[null,null,"お客さまおよび弊社の各設備に悪影響を及ぼす恐れがあり，また電気料金が変更となる場合がございますので，大変お手数ではございま"]
[]
[]
[null,null,"すが，別途送付いたします「ご契約内容のお知らせについて」とともに，内容をご確認いただきますようお願いいたします。０１２３４"]
[]
[]
[null,null,"０１２３４５６７８９０１２３４５６７８９０１２３４５６７８９０１２３４５６７８９０１２３４５６７８９０１２３４５６７敬具８　"]
[]
[]
[]
[null,"＜連絡事項＞"]
[]
[]
[]
[]
[]
[]
[]
[]
[]
["北　海　道　電　力　ネ　ッ　ト　ワ　ー　ク　株　式　会　社"]

{"sheet":"３枚目","index":3,"n_rows":173,"n_cols":111,"rows_kept":173,"cut":false,"hidden":false,"merged":[[143,36,146,39],[143,4,146,8],[125,103,132,110],[33,12,39,21],[35,27,36,27],[35,28,36,28],[35,29,36,29],[119,24,124,29],[119,30,121,41],[122,30,124,41],[35,40,36,40],[35,41,36,41],[35,42,36,42],[35,43,36,43],[35,44,36,44],[122,95,124,97],[40,88,45,94],[40,95,42,110],[43,95,45,110],[35,45,36,45],[35,46,36,46],[35,30,36,30],[35,31,36,31],[35,32,36,32],[147,68,150,71],[147,72,148,76],[149,72,150,76],[123,53,124,76],[121,53,122,76],[111,66,118,70],[52,7,53,27],[42,35,45,53],[40,54,45,57],[40,58,45,67],[40,35,41,40],[102,7,104,26],[111,48,114,50],[111,51,114,55],[108,7,110,26],[108,40,110,57],[115,59,118,61],[86,64,88,74],[122,42,124,44],[122,47,124,49],[119,45,121,49],[97,7,99,26],[77,7,79,26],[80,7,82,26],[147,1,150,4],[147,5,150,21],[147,22,150,25],[147,26,148,33],[149,26,150,33],[147,34,150,36],[147,37,150,50],[133,81,136,83],[127,81,128,83],[147,51,150,54],[147,55,150,67],[134,28,135,33],[128,28,129,33],[139,76,142,78],[130,75,132,78],[127,1,132,3],[143,40,146,42],[130,57,132,60],[131,45,132,47],[143,18,146,20],[143,27,144,32],[143,12,146,17],[125,12,138,14],[133,4,134,11],[35,37,36,37],[35,38,36,38],[35,39,36,39],[16,55,17,55],[16,56,17,56],[16,57,17,57],[16,49,17,49],[16,50,17,50],[16,51,17,51],[16,52,17,52],[16,53,17,53],[16,54,17,54],[30,46,32,46],[30,47,32,54],[27,12,29,63],[30,36,32,38],[30,15,32,20],[30,21,32,21],[24,18,26,21],[24,22,26,23],[30,56,32,63],[35,34,36,34],[35,35,36,35],[16,59,17,63],[166,76,168,78],[169,68,171,72],[169,73,171,75],[169,76,171,78],[169,60,171,64],[169,65,171,67],[16,30,17,30],[16,31,17,31],[16,32,17,32],[16,33,17,33],[16,34,17,34],[16,35,17,35],[16,36,17,36],[16,58,17,58],[33,46,34,46],[33,30,34,30],[33,31,34,31],[33,32,34,32],[33,33,34,33],[33,34,34,34],[33,35,34,35],[33,36,34,36],[33,37,34,37],[35,36,36,36],[115,40,118,42],[115,48,118,50],[89,4,99,6],[89,7,90,26],[86,27,88,33],[94,77,96,80],[91,75,93,76],[91,77,93,80],[91,40,93,57],[111,31,114,34],[115,31,118,34],[111,62,114,65],[115,62,118,65],[117,71,118,74],[108,72,110,74],[105,72,107,74],[111,75,116,78],[111,79,116,82],[108,69,110,71],[91,64,93,68],[94,64,96,68],[102,64,104,68],[97,72,99,74],[105,64,107,68],[11,69,12,110],[161,20,171,21],[161,22,162,29],[161,30,162,51],[161,52,162,78],[40,83,45,87],[10,1,11,25],[12,1,13,38],[42,30,45,34],[40,30,41,34],[40,41,41,53],[43,15,45,19],[43,7,45,11],[43,23,45,26],[62,58,64,63],[48,55,51,58],[117,79,118,82],[122,45,124,46],[25,110,26,110],[25,69,26,88],[25,89,26,92],[27,69,30,74],[27,75,30,110],[31,69,32,74],[174,0,175,110],[168,80,171,83],[162,84,163,99],[170,97,171,99],[164,86,165,89],[164,80,167,83],[163,73,165,75],[163,55,165,56],[163,57,165,59],[166,55,168,56],[163,52,165,54],[163,60,165,64],[163,65,165,67],[163,68,165,72],[157,101,164,102],[157,103,164,110],[166,65,168,67],[166,68,168,72],[166,73,168,75],[163,76,165,78],[166,60,168,64],[166,52,168,54],[169,52,171,54],[169,55,171,56],[31,99,32,103],[31,110,32,110],[31,105,32,109],[31,104,32,104],[16,69,18,74],[13,85,15,89],[13,69,15,84],[25,93,26,97],[25,98,26,98],[16,75,18,110],[19,69,20,74],[19,75,20,89],[19,90,20,99],[19,100,20,102],[19,103,20,103],[19,104,20,108],[19,109,20,110],[25,99,26,103],[25,104,26,104],[25,105,26,109],[21,69,22,74],[21,75,22,110],[23,69,24,110],[13,90,15,110],[31,75,32,88],[31,89,32,92],[31,93,32,97],[31,98,32,98],[30,22,32,27],[30,28,32,28],[22,21,23,39],[16,19,17,19],[16,20,17,20],[16,21,17,21],[16,22,17,22],[16,23,17,23],[16,24,17,24],[16,25,17,25],[16,26,17,26],[16,27,17,27],[16,28,17,28],[16,64,26,68],[18,12,21,63],[13,64,15,68],[16,12,17,18],[33,40,34,40],[33,41,34,41],[33,42,34,42],[33,43,34,43],[33,44,34,44],[33,45,34,45],[16,43,17,43],[16,44,17,44],[16,45,17,45],[22,48,23,63],[16,40,17,40],[16,41,17,41],[16,42,17,42],[16,38,17,38],[16,39,17,39],[16,37,17,37],[24,24,26,63],[16,46,17,46],[16,47,17,47],[16,48,17,48],[22,12,23,20],[83,64,85,74],[94,27,96,39],[97,27,99,39],[91,27,93,39],[97,69,99,71],[97,64,99,68],[83,40,85,57],[83,58,85,63],[97,58,99,63],[83,27,85,33],[83,34,85,39],[89,27,90,39],[86,34,88,39],[86,40,88,57],[91,58,93,63],[89,72,90,76],[89,40,90,57],[86,75,88,79],[97,77,99,80],[86,58,88,63],[89,58,90,63],[91,72,93,74],[94,69,96,71],[97,75,99,76],[80,27,82,33],[80,34,82,39],[16,1,39,6],[24,12,26,13],[71,34,73,39],[60,34,61,39],[65,40,67,57],[74,40,76,57],[22,40,23,47],[33,38,34,38],[33,39,34,39],[16,29,17,29],[60,1,99,3],[60,4,88,6],[86,7,88,26],[83,7,85,26],[91,7,93,26],[33,22,39,26],[16,7,23,11],[35,33,36,33],[30,55,32,55],[30,7,32,11],[30,29,32,35],[30,39,32,45],[89,64,90,71],[68,7,70,26],[46,1,51,6],[60,27,61,33],[54,24,59,27],[62,7,64,26],[74,58,76,63],[58,34,59,40],[65,58,67,63],[58,45,59,57],[54,58,59,63],[56,43,57,45],[65,27,67,33],[74,34,76,39],[74,7,76,26],[68,27,70,33],[65,34,67,39],[58,41,59,44],[77,40,79,57],[77,34,79,39],[80,40,82,57],[77,27,79,33],[74,27,76,33],[68,34,70,39],[30,12,32,14],[24,14,26,16],[24,17,26,17],[46,7,51,24],[6,0,9,110],[53,101,60,102],[33,81,39,85],[52,1,59,6],[53,103,60,110],[57,94,59,96],[58,28,59,33],[60,7,61,26],[54,12,59,14],[54,35,55,37],[54,38,55,53],[56,48,57,54],[56,28,57,42],[54,28,55,34],[24,7,29,11],[40,1,45,6],[60,58,61,63],[44,12,45,14],[27,64,32,68],[33,27,34,27],[44,20,45,22],[33,57,34,57],[46,29,51,48],[33,47,39,51],[46,69,51,81],[38,59,39,62],[71,7,73,26],[68,40,70,57],[50,59,51,60],[68,64,70,74],[65,64,67,74],[54,64,55,73],[54,74,55,76],[38,69,39,73],[38,74,39,74],[37,27,39,46],[40,68,45,72],[40,73,45,77],[40,78,45,82],[46,25,51,28],[44,27,45,29],[33,7,39,11],[33,29,34,29],[33,28,34,28],[54,7,59,11],[54,15,59,23],[65,7,67,26],[52,81,53,93],[65,75,67,79],[71,75,73,79],[71,40,73,57],[71,58,73,63],[71,86,73,87],[71,83,73,85],[65,86,67,87],[68,86,70,87],[60,40,61,57],[71,27,73,33],[68,80,70,82],[77,58,79,63],[77,64,79,74],[71,64,73,74],[71,80,73,82],[56,77,57,80],[58,77,59,80],[68,58,70,63],[68,83,70,85],[80,86,82,87],[77,83,79,85],[80,58,82,63],[74,64,76,74],[58,64,59,73],[68,75,70,79],[60,75,61,82],[65,80,67,82],[56,74,57,76],[65,83,67,85],[60,83,61,87],[62,83,64,85],[62,80,64,82],[77,75,79,79],[77,80,79,82],[80,64,82,74],[85,103,92,110],[69,103,76,110],[101,101,108,102],[101,103,108,110],[85,101,92,102],[93,103,100,110],[91,98,92,99],[97,91,98,92],[77,101,84,102],[69,101,76,102],[77,103,84,110],[77,95,79,99],[71,95,73,99],[80,92,82,94],[74,92,76,94],[77,88,79,91],[83,95,85,99],[93,96,94,97],[91,90,92,91],[68,95,70,99],[61,103,68,110],[61,101,68,102],[62,92,64,94],[60,88,61,94],[139,35,142,44],[139,48,142,66],[138,28,138,33],[127,37,138,38],[141,29,142,31],[127,94,128,99],[119,86,121,88],[119,83,121,85],[93,101,100,102],[91,69,93,71],[115,35,118,37],[108,27,110,39],[111,40,114,42],[111,35,114,37],[111,43,114,47],[115,4,116,27],[117,4,118,27],[111,38,114,39],[100,40,101,57],[100,27,101,39],[102,27,104,39],[100,7,101,26],[111,59,114,61],[111,56,114,58],[105,27,107,39],[115,43,118,47],[111,4,112,27],[113,4,114,27],[115,38,118,39],[111,28,118,30],[127,48,138,49],[109,101,116,102],[109,103,116,110],[108,75,110,76],[137,91,142,93],[139,85,140,90],[119,77,124,79],[122,83,124,85],[119,89,121,91],[119,95,121,97],[122,80,124,82],[127,84,138,85],[122,89,124,91],[119,80,121,82],[119,92,121,94],[122,86,124,88],[108,77,110,80],[108,81,110,83],[133,1,138,3],[135,4,136,11],[137,4,138,11],[125,4,126,11],[125,1,126,3],[94,7,96,26],[119,1,124,3],[123,4,124,23],[121,4,122,23],[119,4,120,23],[100,1,110,6],[111,1,118,3],[105,7,107,26],[139,45,142,47],[127,68,138,72],[129,63,130,65],[139,67,142,69],[139,70,142,75],[133,61,138,62],[127,61,132,62],[127,66,138,67],[119,53,120,76],[127,73,138,74],[127,75,129,78],[133,75,135,78],[143,51,144,68],[135,94,136,99],[140,94,142,96],[105,81,107,83],[105,69,107,71],[105,84,106,99],[105,77,107,80],[105,75,107,76],[115,56,118,58],[137,81,138,83],[145,27,146,32],[139,32,142,34],[143,21,144,26],[143,48,146,50],[127,39,129,42],[139,1,142,3],[139,9,142,11],[131,63,132,65],[130,39,132,42],[133,45,136,47],[136,39,138,42],[127,57,129,60],[133,43,138,44],[125,25,138,27],[125,28,125,33],[126,28,127,33],[132,28,133,33],[136,28,137,33],[130,28,131,33],[125,37,126,54],[133,39,135,42],[125,34,138,36],[127,43,132,44],[141,7,142,8],[139,12,140,22],[141,12,142,22],[154,12,156,14],[157,18,160,25],[153,18,156,25],[153,26,156,27],[151,1,160,3],[153,4,156,9],[153,10,156,11],[151,4,152,33],[155,15,156,17],[157,4,160,9],[140,4,142,6],[139,23,142,25],[140,26,142,28],[145,21,146,26],[157,10,160,11],[159,31,160,33],[143,9,146,11],[157,12,160,17],[154,28,156,30],[155,31,156,33],[143,33,146,35],[151,34,152,57],[164,84,169,85],[168,86,169,89],[170,88,171,93],[166,86,167,89],[164,90,165,99],[170,94,171,96],[166,90,167,99],[168,90,169,99],[170,84,171,87],[158,34,160,41],[153,34,157,41],[153,42,157,49],[158,42,160,49],[151,58,153,73],[163,30,165,51],[166,30,168,51],[169,30,171,51],[158,28,160,30],[169,57,171,59],[163,22,171,29],[157,26,160,27],[158,50,160,57],[153,50,157,57],[166,57,168,59],[172,0,173,110],[141,97,142,99],[133,103,140,110],[133,101,140,102],[143,43,146,47],[143,1,146,3],[145,51,146,68],[149,103,156,110],[141,85,142,90],[136,57,138,60],[133,57,135,60],[133,63,136,65],[127,50,138,54],[136,75,138,78],[137,63,138,65],[127,63,128,65],[129,45,130,47],[127,45,128,47],[127,55,138,56],[137,45,138,47],[149,101,156,102],[141,101,148,102],[127,4,132,11],[125,15,138,24],[141,103,148,110],[125,101,132,102],[129,94,130,99],[141,79,142,84],[139,79,140,84],[122,92,124,94],[133,94,134,99],[131,81,132,83],[129,81,130,83],[125,91,136,93],[125,94,126,99],[127,86,138,90],[131,94,132,99],[127,79,132,80],[117,101,124,102],[117,103,124,110],[133,79,138,80],[91,92,92,95],[91,88,92,89],[100,77,101,83],[91,96,92,97],[93,98,94,99],[107,96,110,99],[94,81,96,83],[97,93,98,99],[99,93,100,99],[97,81,99,83],[95,91,96,94],[99,91,100,92],[91,81,93,83],[93,90,94,91],[93,92,94,95],[91,84,92,87],[97,84,98,90],[95,95,96,99],[93,88,94,89],[93,84,94,87],[102,81,104,83],[99,84,100,90],[107,84,110,95],[38,63,39,67],[46,91,48,99],[49,98,51,99],[52,28,53,57],[52,58,53,63],[62,40,64,57],[62,27,64,33],[62,34,64,39],[54,81,59,89],[54,77,55,80],[52,64,53,80],[56,64,57,73],[62,75,64,79],[58,74,59,76],[62,64,64,74],[60,64,61,74],[56,46,57,47],[56,55,57,57],[54,54,55,57],[58,97,59,99],[46,61,51,68],[57,90,59,93],[38,105,39,109],[33,62,34,63],[33,64,34,80],[35,52,37,80],[38,52,39,58],[33,58,34,61],[46,49,51,54],[46,82,51,86],[33,86,34,110],[38,104,39,104],[38,98,39,98],[38,68,39,68],[35,86,37,110],[38,86,39,88],[38,89,39,92],[38,93,39,97],[38,99,39,103],[38,75,39,79],[33,52,34,53],[33,54,34,56],[38,110,39,110],[38,80,39,80],[46,87,51,90],[49,92,51,93],[83,75,85,79],[65,95,67,99],[65,88,67,91],[49,94,51,97],[68,88,70,91],[60,95,61,99],[68,92,70,94],[65,92,67,94],[86,86,88,87],[62,88,64,91],[62,95,64,99],[52,94,56,99],[62,86,64,87],[83,88,85,91],[83,86,85,87],[80,83,82,85],[74,75,76,79],[100,64,101,71],[89,77,90,83],[86,92,88,94],[74,95,76,99],[71,92,73,94],[74,80,76,82],[80,80,82,82],[83,80,85,82],[77,86,79,87],[74,86,76,87],[71,88,73,91],[74,83,76,85],[89,84,90,99],[86,83,88,85],[86,95,88,99],[86,88,88,91],[83,92,85,94],[80,95,82,99],[80,75,82,79],[80,88,82,91],[74,88,76,91],[77,92,79,94],[83,83,85,85],[86,80,88,82],[1,93,5,109],[94,72,96,74],[102,69,104,71],[100,72,101,76],[102,72,104,74],[125,55,126,72],[125,73,126,90],[100,58,101,63],[97,40,99,57],[94,40,96,57],[102,58,110,63],[119,42,121,44],[115,51,118,55],[119,50,124,52],[105,40,107,57],[94,75,96,76],[94,58,96,63],[95,84,96,90],[102,77,104,80],[111,71,116,74],[108,64,110,68],[117,75,118,78],[102,40,104,57],[102,75,104,76]]}
[]
[null,null,null,null,null,null,null,null,null,null,null,null,null,null,null,null,null,null,null,null,null,null,null,null,null,null,null,null,null,null,null,null,null,null,null,null,null,null,null,null,null,null,null,null,null,null,null,null,null,null,null,null,null,null,null,null,null,null,null,null,null,null,null,null,null,null,null,null,null,null,null,null,null,null,null,null,null,null,null,null,null,null,null,null,null,null,null,null,null,null,null,null,null,"離島等供給用"]
[]
[]
[]
[]
["時間帯別電灯電気使用申込書（ほくでんNW控）"]
[]
[]
[]
[null,"北海道電力ネットワーク株式会社　御中"]
[]
[null,"電気の使用について貴社離島等供給約款[低圧用]に承認のうえ申し込みます。"]
[null,null,null,null,null,null,null,null,null,null,null,null,null,null,null,null,null,null,null,null,null,null,null,null,null,null,null,null,null,null,null,null,null,null,null,null,null,null,null,null,null,null,null,null,null,null,null,null,null,null,null,null,null,null,null,null,null,null,null,null,null,null,null,null,"受付扱所名",null,null,null,null,null,null,null,null,null,null,null,null,null,null,null,null,null,null,null,null,"受付№"]
[]
[]
[null,"お 客 さ ま",null,null,null,null,null,"ご契約名義",null,null,null,null,"（フリガナ）",null,null,null,null,null,null,{"$f":"DBCS(MID(ASC(入力用!C4),1,1))","v":""},{"$f":"DBCS(MID(ASC(入力用!C4),2,1))","v":""},{"$f":"DBCS(MID(ASC(入力用!C4),3,1))","v":""},{"$f":"DBCS(MID(ASC(入力用!C4),4,1))","v":""},{"$f":"DBCS(MID(ASC(入力用!C4),5,1))","v":""},{"$f":"DBCS(MID(ASC(入力用!C4),6,1))","v":""},{"$f":"DBCS(MID(ASC(入力用!C4),7,1))","v":""},{"$f":"DBCS(MID(ASC(入力用!C4),8,1))","v":""},{"$f":"DBCS(MID(ASC(入力用!C4),9,1))","v":""},{"$f":"DBCS(MID(ASC(入力用!C4),10,1))","v":""},{"$f":"DBCS(MID(ASC(入力用!C4),11,1))","v":""},{"$f":"DBCS(MID(ASC(入力用!C4),12,1))","v":""},{"$f":"DBCS(MID(ASC(入力用!C4),13,1))","v":""},{"$f":"DBCS(MID(ASC(入力用!C4),14,1))","v":""},{"$f":"DBCS(MID(ASC(入力用!C4),15,1))","v":""},{"$f":"DBCS(MID(ASC(入力用!C4),16,1))","v":""},{"$f":"DBCS(MID(ASC(入力用!C4),17,1))","v":""},{"$f":"DBCS(MID(ASC(入力用!C4),18,1))","v":""},{"$f":"DBCS(MID(ASC(入力用!C4),19,1))","v":""},{"$f":"DBCS(MID(ASC(入力用!C4),20,1))","v":""},{"$f":"DBCS(MID(ASC(入力用!C4),21,1))","v":""},{"$f":"DBCS(MID(ASC(入力用!C4),22,1))","v":""},{"$f":"DBCS(MID(ASC(入力用!C4),23,1))","v":""},{"$f":"DBCS(MID(ASC(入力用!C4),24,1))","v":""},{"$f":"DBCS(MID(ASC(入力用!C4),25,1))","v":""},{"$f":"DBCS(MID(ASC(入力用!C4),26,1))","v":""},{"$f":"DBCS(MID(ASC(入力用!C4),27,1))","v":""},{"$f":"DBCS(MID(ASC(入力用!C4),28,1))","v":""},{"$f":"DBCS(MID(ASC(入力用!C4),29,1))","v":""},{"$f":"DBCS(MID(ASC(入力用!C4),30,1))","v":""},{"$f":"DBCS(MID(ASC(入力用!C4),31,1))","v":""},{"$f":"DBCS(MID(ASC(入力用!C4),32,1))","v":""},{"$f":"DBCS(MID(ASC(入力用!C4),33,1))","v":""},{"$f":"DBCS(MID(ASC(入力用!C4),34,1))","v":""},{"$f":"DBCS(MID(ASC(入力用!C4),35,1))","v":""},{"$f":"DBCS(MID(ASC(入力用!C4),36,1))","v":""},{"$f":"DBCS(MID(ASC(入力用!C4),37,1))","v":""},{"$f":"DBCS(MID(ASC(入力用!C4),38,1))","v":""},{"$f":"DBCS(MID(ASC(入力用!C4),39,1))","v":""},{"$f":"DBCS(MID(ASC(入力用!C4),40,1))","v":""},null,null,null,null,null,"電気工事会社",null,null,null,null," 会社名",null,null,null,null,null,{"$f":"IF(入力用!C12=\"\",\"\",入力用!C12)","v":""}]
[]
[null,null,null,null,null,null,null,null,null,null,null,null,{"$f":"IF(入力用!C5=\"\",\"\",入力用!C5)","v":""}]
[null,null,null,null,null,null,null,null,null,null,null,null,null,null,null,null,null,null,null,null,null,null,null,null,null,null,null,null,null,null,null,null,null,null,null,null,null,null,null,null,null,null,null,null,null,null,null,null,null,null,null,null,null,null,null,null,null,null,null,null,null,null,null,null,null,null,null,null,null,"(担当者)",null,null,null,null,null,{"$f":"IF(入力用!C13=\"\",\"\",入力用!C13)","v":""},null,null,null,null,null,null,null,null,null,null,null,null,null,null,"工事会社№（",null,null,null,null,null,null,null,null,null,{"$f":"IF(入力用!C14=\"\",\"\",入力用!C14)","v":""},null,null,"-",{"$f":"IF(入力用!E14=\"\",\"\",入力用!E14)","v":""},null,null,null,null,")"]
[]
[null,null,null,null,null,null,null,null,null,null,null,null,null,null,null,null,null,null,null,null,null,null,null,null,null,null,null,null,null,null,null,null,null,null,null,null,null,null,null,null,null,null,null,null,null,null,null,null,null,null,null,null,null,null,null,null,null,null,null,null,null,null,null,null,null,null,null,null,null," 住　所",null,null,null,null,null,{"$f":"LEFT(入力用!C15,24)","v":""}]
[null,null,null,null,null,null,null,null,null,null,null,null,"（代表者肩書）",null,null,null,null,null,null,null,null,{"$f":"IF(入力用!C6=\"\",\"\",入力用!C6)","v":""},null,null,null,null,null,null,null,null,null,null,null,null,null,null,null,null,null,null,"（代表者名）",null,null,null,null,null,null,null,{"$f":"IF(入力用!C7=\"\",\"\",入力用!C7)","v":""}]
[null,null,null,null,null,null,null,null,null,null,null,null,null,null,null,null,null,null,null,null,null,null,null,null,null,null,null,null,null,null,null,null,null,null,null,null,null,null,null,null,null,null,null,null,null,null,null,null,null,null,null,null,null,null,null,null,null,null,null,null,null,null,null,null,null,null,null,null,null,{"$f":"MID(入力用!C15,25,28)","v":""}]
[null,null,null,null,null,null,null,"ご使用\n場　所",null,null,null,null,"(〒",null,{"$f":"LEFT(入力用!C8,3)","v":""},null,null,"-",{"$f":"RIGHT(入力用!C8,4)","v":""},null,null,null,")",null,{"$f":"LEFT(入力用!C9,25)","v":""}]
[null,null,null,null,null,null,null,null,null,null,null,null,null,null,null,null,null,null,null,null,null,null,null,null,null,null,null,null,null,null,null,null,null,null,null,null,null,null,null,null,null,null,null,null,null,null,null,null,null,null,null,null,null,null,null,null,null,null,null,null,null,null,null,null,null,null,null,null,null,{"$f":"MID(入力用!C15,53,12)","v":""},null,null,null,null,null,null,null,null,null,null,null,null,null,null,null,null,null,null,null,"電話(",null,null,null,{"$f":"IF(入力用!C16=\"\",\"\",入力用!C16)","v":""},null,null,null,null,"-",{"$f":"IF(入力用!E16=\"\",\"\",入力用!E16)","v":""},null,null,null,null,"-",{"$f":"IF(入力用!H16=\"\",\"\",入力用!H16)","v":""},null,null,null,null,")"]
[]
[null,null,null,null,null,null,null,null,null,null,null,null,{"$f":"MID(入力用!C9,26,33)","v":""},null,null,null,null,null,null,null,null,null,null,null,null,null,null,null,null,null,null,null,null,null,null,null,null,null,null,null,null,null,null,null,null,null,null,null,null,null,null,null,null,null,null,null,null,null,null,null,null,null,null,null,"建築会社",null,null,null,null," 会社名",null,null,null,null,null,{"$f":"IF(入力用!C17=\"\",\"\",入力用!C17)","v":""}]
[]
[]
[null,null,null,null,null,null,null,"電話番号",null,null,null,null,"固定",null,null,{"$f":"IF(入力用!C10=\"\",\"\",入力用!C10)","v":""},null,null,null,null,null,"-",{"$f":"IF(入力用!E10=\"\",\"\",入力用!E10)","v":""},null,null,null,null,null,"-",{"$f":"IF(入力用!H10=\"\",\"\",入力用!H10)","v":""},null,null,null,null,null,null,"携帯",null,null,{"$f":"IF(入力用!C11=\"\",\"\",入力用!C11)","v":""},null,null,null,null,null,null,"-",{"$f":"IF(入力用!E11=\"\",\"\",入力用!E11)","v":""},null,null,null,null,null,null,null,"-",{"$f":"IF(入力用!H11=\"\",\"\",入力用!H11)","v":""}]
[null,null,null,null,null,null,null,null,null,null,null,null,null,null,null,null,null,null,null,null,null,null,null,null,null,null,null,null,null,null,null,null,null,null,null,null,null,null,null,null,null,null,null,null,null,null,null,null,null,null,null,null,null,null,null,null,null,null,null,null,null,null,null,null,null,null,null,null,null,"(担当者)",null,null,null,null,null,{"$f":"IF(入力用!C18=\"\",\"\",入力用!C18)","v":""},null,null,null,null,null,null,null,null,null,null,null,null,null,"電話(",null,null,null,{"$f":"IF(入力用!C19=\"\",\"\",入力用!C19)","v":""},null,null,null,null,"-",{"$f":"IF(入力用!E19=\"\",\"\",入力用!E19)","v":""},null,null,null,null,"-",{"$f":"IF(入力用!H19=\"\",\"\",入力用!H19)","v":""},null,null,null,null,")"]
[]
[null,null,null,null,null,null,null,"お支払\n方　法",null,null,null,null,{"$f":"IF(OR(入力用!O20=2,入力用!O20=4),\"口座振込\",IF(入力用!O20=3,\"口座振替\",\"\"))","v":""},null,null,null,null,null,null,null,null,null,"支　払\n者　名",null,null,null,null,{"$f":"DBCS(MID(ASC(入力用!C21),1,1))","v":""},{"$f":"DBCS(MID(ASC(入力用!C21),2,1))","v":""},{"$f":"DBCS(MID(ASC(入力用!C21),3,1))","v":""},{"$f":"DBCS(MID(ASC(入力用!C21),4,1))","v":""},{"$f":"DBCS(MID(ASC(入力用!C21),5,1))","v":""},{"$f":"DBCS(MID(ASC(入力用!C21),6,1))","v":""},{"$f":"DBCS(MID(ASC(入力用!C21),7,1))","v":""},{"$f":"DBCS(MID(ASC(入力用!C21),8,1))","v":""},{"$f":"DBCS(MID(ASC(入力用!C21),9,1))","v":""},{"$f":"DBCS(MID(ASC(入力用!C21),10,1))","v":""},{"$f":"DBCS(MID(ASC(入力用!C21),11,1))","v":""},{"$f":"DBCS(MID(ASC(入力用!C21),12,1))","v":""},{"$f":"DBCS(MID(ASC(入力用!C21),13,1))","v":""},{"$f":"DBCS(MID(ASC(入力用!C21),14,1))","v":""},{"$f":"DBCS(MID(ASC(入力用!C21),15,1))","v":""},{"$f":"DBCS(MID(ASC(入力用!C21),16,1))","v":""},{"$f":"DBCS(MID(ASC(入力用!C21),17,1))","v":""},{"$f":"DBCS(MID(ASC(入力用!C21),18,1))","v":""},{"$f":"DBCS(MID(ASC(入力用!C21),19,1))","v":""},{"$f":"DBCS(MID(ASC(入力用!C21),20,1))","v":""},"請求書\n送付先",null,null,null,null,"(〒",null,{"$f":"LEFT(入力用!C23,3)","v":""},null,null,"-",{"$f":"RIGHT(入力用!C23,4)","v":""},null,null,null,")",null,{"$f":"IF(入力用!C24=\"同上\",\"\",LEFT(入力用!C24,11))","v":""},null,null,null,null,null,null,null,null,null,null,null,null,null,null,null,null,"ご連絡先",null,null,null,null,{"$f":"IF(OR(入力用!C26=\"同上\",入力用!C26=\"同左\"),\"\",LEFT(入力用!C26,17))","v":""}]
[]
[null,null,null,null,null,null,null,null,null,null,null,null,null,null,null,null,null,null,null,null,null,null,null,null,null,null,null,{"$f":"DBCS(MID(ASC(入力用!C21),21,1))","v":""},{"$f":"DBCS(MID(ASC(入力用!C21),22,1))","v":""},{"$f":"DBCS(MID(ASC(入力用!C21),23,1))","v":""},{"$f":"DBCS(MID(ASC(入力用!C21),24,1))","v":""},{"$f":"DBCS(MID(ASC(入力用!C21),25,1))","v":""},{"$f":"DBCS(MID(ASC(入力用!C21),26,1))","v":""},{"$f":"DBCS(MID(ASC(入力用!C21),27,1))","v":""},{"$f":"DBCS(MID(ASC(入力用!C21),28,1))","v":""},{"$f":"DBCS(MID(ASC(入力用!C21),29,1))","v":""},{"$f":"DBCS(MID(ASC(入力用!C21),30,1))","v":""},{"$f":"DBCS(MID(ASC(入力用!C21),31,1))","v":""},{"$f":"DBCS(MID(ASC(入力用!C21),32,1))","v":""},{"$f":"DBCS(MID(ASC(入力用!C21),33,1))","v":""},{"$f":"DBCS(MID(ASC(入力用!C21),34,1))","v":""},{"$f":"DBCS(MID(ASC(入力用!C21),35,1))","v":""},{"$f":"DBCS(MID(ASC(入力用!C21),36,1))","v":""},{"$f":"DBCS(MID(ASC(入力用!C21),37,1))","v":""},{"$f":"DBCS(MID(ASC(入力用!C21),38,1))","v":""},{"$f":"DBCS(MID(ASC(入力用!C21),39,1))","v":""},{"$f":"DBCS(MID(ASC(入力用!C21),40,1))","v":""},null,null,null,null,null,{"$f":"IF(入力用!C24=\"同上\",入力用!C24,MID(入力用!C24,12,20))","v":""},null,null,null,null,null,null,null,null,null,null,null,null,null,null,null,null,null,null,null,null,null,null,null,null,null,null,null,null,null,null,null,null,null,{"$f":"IF(OR(入力用!C26=\"同上\",入力用!C26=\"同左\"),入力用!C26,MID(入力用!C26,18,17))","v":""}]
[]
[null,null,null,null,null,null,null,null,null,null,null,null,null,null,null,null,null,null,null,null,null,null,null,null,null,null,null,{"$f":"IF(入力用!C22=\"\",\"\",入力用!C22)","v":""}]
[null,null,null,null,null,null,null,null,null,null,null,null,null,null,null,null,null,null,null,null,null,null,null,null,null,null,null,null,null,null,null,null,null,null,null,null,null,null,null,null,null,null,null,null,null,null,null,null,null,null,null,null,{"$f":"MID(入力用!C24,32,5)","v":""},null,null,null,null,null,null,"電話(",null,null,null,{"$f":"IF(入力用!C25=\"\",\"\",入力用!C25)","v":""},null,null,null,null,"-",{"$f":"IF(入力用!E25=\"\",\"\",入力用!E25)","v":""},null,null,null,null,"-",{"$f":"IF(入力用!H25=\"\",\"\",入力用!H25)","v":""},null,null,null,null,")",null,null,null,null,null,{"$f":"IF(OR(入力用!C26=\"同上\",入力用!C26=\"同左\"),\"\",MID(入力用!C26,35,1))","v":""},null,null,"電話(",null,null,null,{"$f":"IF(入力用!C27=\"\",\"\",入力用!C27)","v":""},null,null,null,null,"-",{"$f":"IF(入力用!E27=\"\",\"\",入力用!E27)","v":""},null,null,null,null,"-",{"$f":"IF(入力用!H27=\"\",\"\",入力用!H27)","v":""},null,null,null,null,")"]
[]
[null,"受　電\n希望日",null,null,null,null,null,null,null,null,null,null,null,null,null,null,null,null,null,null,null,null,null,null,null,null,null,null,null,null,"契約\n種別",null,null,null,null,{"$f":"IF(入力用!O31=1,\"\",33)","v":""},null,null,null,null,null,{"$f":"IF(入力用!O31=2,入力用!P6,IF(入力用!O31=3,入力用!P7,IF(入力用!O31=4,入力用!P8,\"\")))","v":""},null,null,null,null,null,null,null,null,null,null,null,null,"業種",null,null,null,{"$f":"IF(入力用!P30=\"\",\"\",入力用!P30)","v":""},null,null,null,null,null,null,null,null,null,"夜間時間\n開始時刻",null,null,null,null,{"$f":"IF(入力用!O34=2,入力用!S6,IF(入力用!O34=3,入力用!S7,IF(入力用!O34=4,入力用!S8,\"\")))","v":""},null,null,null,null,"午後時間\n開始時刻",null,null,null,null,{"$f":"IF(入力用!O35=2,入力用!U6,IF(入力用!O35=3,入力用!U7,IF(入力用!O35=4,入力用!U8,\"\")))","v":""},null,null,null,null,"電設Ｎｅｔ\n申込",null,null,null,null,null,null,{"$f":"IF(入力用!O28=2,入力用!AG12,IF(入力用!O28=3,入力用!AG13,\"\"))","v":""}]
[]
[null,null,null,null,null,null,null,null,null,null,null,null,null,null,null,null,null,null,null,null,null,null,null,null,null,null,null,null,null,null,"電気供給方式・\n供給電圧",null,null,null,null,{"$f":"IF(入力用!O33=2,入力用!R6,IF(入力用!O33=3,入力用!R7,IF(入力用!O33=4,入力用!R8,IF(入力用!O33=5,入力用!R9,\"\"))))","v":""}]
[null,null,null,null,null,null,null,{"$f":"IF(入力用!C30=\"\",\"\",入力用!C30)","v":""},null,null,null,null,null,null,null,{"$f":"IF(入力用!E30=\"\",\"\",入力用!E30)","v":""},null,null,null,null,null,null,null,{"$f":"IF(入力用!H30=\"\",\"\",入力用!H30)","v":""},null,null,null,null,null,null,null,null,null,null,null,null,null,null,null,null,null,null,null,null,null,null,null,null,null,null,null,null,null,null,null,null,null,null,null,null,null,null,null,null,null,null,null,null,null,null,null,null,null,null,null,null,null,null,null,null,null,null,null,null,null,null,null,null,null,null,null,null,null,null,null,{"$f":"IF(入力用!C29=\"\",\"\",入力用!C29)","v":""}]
[null,null,null,null,null,null,null,null,null,null,null,null,"年",null,null,null,null,null,null,null,"月",null,null,null,null,null,null,"日"]
[]
[null,"供　給\n方　法",null,null,null,null,null,{"$f":"IF(入力用!O36=2,入力用!V6,IF(入力用!O36=3,入力用!V7,IF(入力用!O36=4,入力用!V8,\"\")))","v":""},null,null,null,null,null,null,null,null,null,null,null,null,null,null,null,null,null,"契約\n決定\n方法",null,null,null,{"$f":"IF(入力用!O37=2,入力用!W6,IF(入力用!O37=3,入力用!W7,IF(入力用!O37=4,入力用!W8,IF(入力用!O37=5,入力用!W9,IF(入力用!O37=6,入力用!W10,IF(入力用!O37=7,入力用!W11,\"\"))))))","v":""},null,null,null,null,null,null,null,null,null,null,null,null,null,null,null,null,null,null,null,"主開閉器・\n電流制限器\nの定格電流",null,null,null,null,null,null,null,null,null,null,null,"フリーエリア\n計器払出希望\n事 業 所 名",null,null,null,null,null,null,null,{"$f":"IF(入力用!C39=\"\",\"\",入力用!C39)","v":""},null,null,null,null,null,null,null,null,null,null,null,null,"本契約前\nの臨時契\n約の有無",null,null,null,null,{"$f":"IF(入力用!O40=2,入力用!X6,IF(入力用!O40=3,入力用!X7,\"\"))","v":""},null,null,null," 臨時受付№"]
[]
[null,null,null,null,null,null,null,null,null,null,null,null,null,null,null,null,null,null,null,null,null,null,null,null,null,null,null,null,null,null,null,null,null,null,null,null,null,null,null,null,null,null,null,null,null,null,null,null,null,null,null,null,null,null,null,{"$f":"IF(入力用!C38=\"\",\"\",入力用!C38)","v":""}]
[null,null,null,null,null,null,null,null,null,null,null,null,null,null,null,null,null,null,null,null,null,null,null,null,null,null,null,null,null,null,null,null,null,null,null,null,null,null,null,null,null,null,null,null,null,null,null,null,null,null,null,null,null,null,null,null,null,null,null,null,null,null,null,null,null,null,null,null,null,null,null,null,null,null,null,null,null,null,null,null,null,null,null,null,null,null,null,null,null,null,null,null,"(",null,null,null,null,null,")"]
[null,null,null,null,null,null,null,null,null,null,null,null,null,null,null,null,null,null,null,null,null,null,null,null,null,null,null,null,null,null,null,null,null,null,null,null,null,null,null,null,null,null,null,null,null,null,null,null,null,null,null,null,null,null,null,null,null,null,null,"Ａ"]
[]
[null,"一般機器\n容量内訳",null,null,null,null,null,"電　　　　　　　　灯",null,null,null,null,null,null,null,null,null,null,null,null,null,null,null,null,null,null,null,null,"小　　型　　機　　器",null,null,null,null,null,null,null,null,null,null,null,null,null,null,null,null,null,null,null,null,null,null,null,null,null,null,null,null,null,"回路数",null,null,null,null,null,"適用業種別回路数内訳",null,null,null,null,null,null,null,null,null,null,null,null,null,null,null,null,"合　計　容　量",null,null,null,null,null,null,null,null,null,null,null,null,"ＳＢの１次側\nに接続する\n一般機器容量"]
[null,null,null,null,null,null,null,null,null,null,null,null,null,null,null,null,null,null,null,null,null,null,null,null,null,null,null,null,null,null,null,null,null,null,null,null,null,null,null,null,null,null,null,null,null,null,null,null,null,null,null,null,null,null,null,null,null,null,null,null,null,null,null,null,null,null,null,null,null,null,null,null,null,null,null,null,null,null,null,null,null,null,null,null,null,null,null,null,null,null,null,null,null,null,null,null,null,null,null,null,null,"受付"]
[null,null,null,null,null,null,null,{"$f":"IF(入力用!C41=\"\",\"\",入力用!C41)","v":""},null,null,null,null,"灯",null,null,{"$f":"IF(入力用!C42=\"\",\"\",入力用!C42)","v":""},null,null,null,null,null,null,null,null,"ＶＡ",null,null,null,{"$f":"IF(入力用!C43=\"\",\"\",入力用!C43)","v":""},null,null,null,null,null,null,"個",null,null,{"$f":"IF(入力用!C44=\"\",\"\",入力用!C44)","v":""},null,null,null,null,null,null,null,null,null,null,null,null,null,null,null,"ＶＡ",null,null,null,{"$f":"IF(入力用!C49=\"\",\"\",入力用!C49)","v":""},null,null,null,null,null,{"$f":"IF(入力用!P49=\"\",\"\",入力用!P49)","v":""},null,null,null,null,null,null,null,null,null,{"$f":"IF(入力用!C51=\"\",\"\",入力用!C51)","v":""},null,null,"回路",null,null,null,{"$f":"IF(OR(入力用!O37<4,入力用!O37=6,入力用!O37=7,入力用!R27=\"\",入力用!O38=1),\"\",入力用!R27)","v":""}]
[]
[null,null,null,null,null,null,null,null,null,null,null,null,null,null,null,null,null,null,null,null,null,null,null,null,null,null,null,null,"うちＩＨクッキングヒーター",null,null,null,null,null,null,null,null,null,null,null,null,null,null,{"$f":"IF(入力用!C45=\"\",\"\",入力用!C45)","v":""},null,null,"台",null,{"$f":"IF(入力用!D46=\"\",\"\",入力用!D46)","v":""},null,null,null,null,null,null,"ＶＡ",null,null,null,null,null,null,null,null,{"$f":"IF(入力用!P51=\"\",\"\",入力用!P51)","v":""},null,null,null,null,null,null,null,null,null,{"$f":"IF(入力用!C53=\"\",\"\",入力用!C53)","v":""},null,null,"回路"]
[null,null,null,null,null,null,null,null,null,null,null,null,null,null,null,null,null,null,null,null,null,null,null,null,null,null,null,null,null,null,null,null,null,null,null,null,null,null,null,null,null,null,null,null,null,null,null,null,null,null,null,null,null,null,null,null,null,null,null,null,null,null,null,null,null,null,null,null,null,null,null,null,null,null,null,null,null,null,null,null,null,null,null,null,null,null,null,null,null,null,"ＶＡ"]
[null,null,null,null,null,null,null,null,null,null,null,null,null,null,null,null,null,null,null,null,null,null,null,null,null,null,null,null,"(メーカー)",null,null,null,null,null,{"$f":"IF(入力用!E47=\"\",\"\",入力用!E47)","v":""},null,null,null,null,null,null,"(型式)",null,null,null,{"$f":"IF(入力用!E48=\"\",\"\",入力用!E48)","v":""},null,null,null,null,null,null,null,null,null,null,null,null,null,null,null,null,null,null,{"$f":"IF(入力用!P53=\"\",\"\",入力用!P53)","v":""},null,null,null,null,null,null,null,null,null,{"$f":"IF(入力用!C55=\"\",\"\",入力用!C55)","v":""},null,null,"回路",null,null,null,null,null,null,null,null,null,null,null,null,null,null,null,null,null,null,null,"kVA"]
[]
[null,"蓄　　熱　　機　　器",null,null,"夜間蓄熱型機器",null,null,"機　器　種　別",null,null,null,null,null,null,null,null,null,null,null,null,null,null,null,null,null,null,null,"通電時間",null,null,null,null,null,null,"メーカー",null,null,null,null,null,"型式",null,null,null,null,null,null,null,null,null,null,null,null,null,null,null,null,null,"通電制御",null,null,null,null,null,"ﾀｲﾑｺﾝﾄﾛｰﾗｰ設置",null,null,null,null,null,null,null,null,null,null,"容量(a)",null,null,null,null,null,null,null,"台数(b)",null,null,null,null,"合計(a×b)",null,null,null,null,null,null,"施設№"]
[null,null,null,null,null,null,null,null,null,null,null,null,null,null,null,null,null,null,null,null,null,null,null,null,null,null,null,null,null,null,null,null,null,null,null,null,null,null,null,null,null,null,null,null,null,null,null,null,null,null,null,null,null,null,null,null,null,null,null,null,null,null,null,null,null,null,null,null,null,null,null,null,null,null,null,null,null,null,null,null,null,null,null,null,null,null,null,null,null,null,null,null,null,null,null,null,null,null,null,null,null,"図面照査"]
[null,null,null,null,null,null,null,{"$f":"IF(入力用!O56=2,入力用!Z6,IF(入力用!O56=3,入力用!Z7,IF(入力用!O56=4,入力用!K56,\"\")))","v":""},null,null,null,null,null,null,null,null,null,null,null,null,null,null,null,null,null,null,null,{"$f":"IF(入力用!O57=2,入力用!AA6,IF(入力用!O57=3,入力用!AA7,\"\"))","v":""},null,null,null,null,null,null,{"$f":"IF(入力用!C58=\"\",\"\",入力用!C58)","v":""},null,null,null,null,null,{"$f":"IF(入力用!C59=\"\",\"\",入力用!C59)","v":""},null,null,null,null,null,null,null,null,null,null,null,null,null,null,null,null,null,{"$f":"IF(入力用!O60=2,入力用!AB6,IF(入力用!O60=3,入力用!AB7,\"\"))","v":""},null,null,null,null,null,{"$f":"IF(入力用!O61=2,入力用!AC6,IF(入力用!O61=3,入力用!AC7,IF(入力用!O61=4,入力用!AC8,\"\")))","v":""},null,null,null,null,null,null,null,null,null,null,{"$f":"IF(入力用!C62=\"\",\"\",入力用!C62)","v":""},null,null,null,null,"kVA",null,null,{"$f":"IF(入力用!C63=\"\",\"\",入力用!C63)","v":""},null,null,"台",null,{"$f":"IF(入力用!P61=0,\"\",入力用!P61)","v":""},null,null,null,"kVA"]
[]
[]
[null,null,null,null,null,null,null,{"$f":"IF(入力用!O64=2,入力用!Z6,IF(入力用!O64=3,入力用!Z7,IF(入力用!O64=4,入力用!K64,\"\")))","v":""},null,null,null,null,null,null,null,null,null,null,null,null,null,null,null,null,null,null,null,{"$f":"IF(入力用!O65=2,入力用!AA6,IF(入力用!O65=3,入力用!AA7,\"\"))","v":""},null,null,null,null,null,null,{"$f":"IF(入力用!C66=\"\",\"\",入力用!C66)","v":""},null,null,null,null,null,{"$f":"IF(入力用!C67=\"\",\"\",入力用!C67)","v":""},null,null,null,null,null,null,null,null,null,null,null,null,null,null,null,null,null,{"$f":"IF(入力用!O68=2,入力用!AB6,IF(入力用!O68=3,入力用!AB7,\"\"))","v":""},null,null,null,null,null,{"$f":"IF(入力用!O69=2,入力用!AC6,IF(入力用!O69=3,入力用!AC7,IF(入力用!O69=4,入力用!AC8,\"\")))","v":""},null,null,null,null,null,null,null,null,null,null,{"$f":"IF(入力用!C70=\"\",\"\",入力用!C70)","v":""},null,null,null,null,"kVA",null,null,{"$f":"IF(入力用!C71=\"\",\"\",入力用!C71)","v":""},null,null,"台",null,{"$f":"IF(入力用!P69=0,\"\",入力用!P69)","v":""},null,null,null,"kVA"]
[]
[]
[null,null,null,null,null,null,null,{"$f":"IF(入力用!O72=2,入力用!Z6,IF(入力用!O72=3,入力用!Z7,IF(入力用!O72=4,入力用!K72,\"\")))","v":""},null,null,null,null,null,null,null,null,null,null,null,null,null,null,null,null,null,null,null,{"$f":"IF(入力用!O73=2,入力用!AA6,IF(入力用!O73=3,入力用!AA7,\"\"))","v":""},null,null,null,null,null,null,{"$f":"IF(入力用!C74=\"\",\"\",入力用!C74)","v":""},null,null,null,null,null,{"$f":"IF(入力用!C75=\"\",\"\",入力用!C75)","v":""},null,null,null,null,null,null,null,null,null,null,null,null,null,null,null,null,null,{"$f":"IF(入力用!O76=2,入力用!AB6,IF(入力用!O76=3,入力用!AB7,\"\"))","v":""},null,null,null,null,null,{"$f":"IF(入力用!O77=2,入力用!AC6,IF(入力用!O77=3,入力用!AC7,IF(入力用!O77=4,入力用!AC8,\"\")))","v":""},null,null,null,null,null,null,null,null,null,null,{"$f":"IF(入力用!C78=\"\",\"\",入力用!C78)","v":""},null,null,null,null,"kVA",null,null,{"$f":"IF(入力用!C79=\"\",\"\",入力用!C79)","v":""},null,null,"台",null,{"$f":"IF(入力用!P77=0,\"\",入力用!P77)","v":""},null,null,null,"kVA"]
[null,null,null,null,null,null,null,null,null,null,null,null,null,null,null,null,null,null,null,null,null,null,null,null,null,null,null,null,null,null,null,null,null,null,null,null,null,null,null,null,null,null,null,null,null,null,null,null,null,null,null,null,null,null,null,null,null,null,null,null,null,null,null,null,null,null,null,null,null,null,null,null,null,null,null,null,null,null,null,null,null,null,null,null,null,null,null,null,null,null,null,null,null,null,null,null,null,null,null,null,null,"外線設計"]
[]
[null,null,null,null,null,null,null,{"$f":"IF(入力用!O80=2,入力用!Z6,IF(入力用!O80=3,入力用!Z7,IF(入力用!O80=4,入力用!K80,\"\")))","v":""},null,null,null,null,null,null,null,null,null,null,null,null,null,null,null,null,null,null,null,{"$f":"IF(入力用!O81=2,入力用!AA6,IF(入力用!O81=3,入力用!AA7,\"\"))","v":""},null,null,null,null,null,null,{"$f":"IF(入力用!C82=\"\",\"\",入力用!C82)","v":""},null,null,null,null,null,{"$f":"IF(入力用!C83=\"\",\"\",入力用!C83)","v":""},null,null,null,null,null,null,null,null,null,null,null,null,null,null,null,null,null,{"$f":"IF(入力用!O84=2,入力用!AB6,IF(入力用!O84=3,入力用!AB7,\"\"))","v":""},null,null,null,null,null,{"$f":"IF(入力用!O85=2,入力用!AC6,IF(入力用!O85=3,入力用!AC7,IF(入力用!O85=4,入力用!AC8,\"\")))","v":""},null,null,null,null,null,null,null,null,null,null,{"$f":"IF(入力用!C86=\"\",\"\",入力用!C86)","v":""},null,null,null,null,"kVA",null,null,{"$f":"IF(入力用!C87=\"\",\"\",入力用!C87)","v":""},null,null,"台",null,{"$f":"IF(入力用!P85=0,\"\",入力用!P85)","v":""},null,null,null,"kVA"]
[]
[]
[null,null,null,null,null,null,null,{"$f":"IF(入力用!O88=2,入力用!Z6,IF(入力用!O88=3,入力用!Z7,IF(入力用!O88=4,入力用!K88,\"\")))","v":""},null,null,null,null,null,null,null,null,null,null,null,null,null,null,null,null,null,null,null,{"$f":"IF(入力用!O89=2,入力用!AA6,IF(入力用!O89=3,入力用!AA7,\"\"))","v":""},null,null,null,null,null,null,{"$f":"IF(入力用!C90=\"\",\"\",入力用!C90)","v":""},null,null,null,null,null,{"$f":"IF(入力用!C91=\"\",\"\",入力用!C91)","v":""},null,null,null,null,null,null,null,null,null,null,null,null,null,null,null,null,null,{"$f":"IF(入力用!O92=2,入力用!AB6,IF(入力用!O92=3,入力用!AB7,\"\"))","v":""},null,null,null,null,null,{"$f":"IF(入力用!O93=2,入力用!AC6,IF(入力用!O93=3,入力用!AC7,IF(入力用!O93=4,入力用!AC8,\"\")))","v":""},null,null,null,null,null,null,null,null,null,null,{"$f":"IF(入力用!C94=\"\",\"\",入力用!C94)","v":""},null,null,null,null,"kVA",null,null,{"$f":"IF(入力用!C95=\"\",\"\",入力用!C95)","v":""},null,null,"台",null,{"$f":"IF(入力用!P93=0,\"\",入力用!P93)","v":""},null,null,null,"kVA"]
[]
[]
[null,null,null,null,null,null,null,{"$f":"IF(入力用!O96=2,入力用!Z6,IF(入力用!O96=3,入力用!Z7,IF(入力用!O96=4,入力用!K96,\"\")))","v":""},null,null,null,null,null,null,null,null,null,null,null,null,null,null,null,null,null,null,null,{"$f":"IF(入力用!O97=2,入力用!AA6,IF(入力用!O97=3,入力用!AA7,\"\"))","v":""},null,null,null,null,null,null,{"$f":"IF(入力用!C98=\"\",\"\",入力用!C98)","v":""},null,null,null,null,null,{"$f":"IF(入力用!C99=\"\",\"\",入力用!C99)","v":""},null,null,null,null,null,null,null,null,null,null,null,null,null,null,null,null,null,{"$f":"IF(入力用!O100=2,入力用!AB6,IF(入力用!O100=3,入力用!AB7,\"\"))","v":""},null,null,null,null,null,{"$f":"IF(入力用!O101=2,入力用!AC6,IF(入力用!O101=3,入力用!AC7,IF(入力用!O101=4,入力用!AC8,\"\")))","v":""},null,null,null,null,null,null,null,null,null,null,{"$f":"IF(入力用!C102=\"\",\"\",入力用!C102)","v":""},null,null,null,null,"kVA",null,null,{"$f":"IF(入力用!C103=\"\",\"\",入力用!C103)","v":""},null,null,"台",null,{"$f":"IF(入力用!P101=0,\"\",入力用!P101)","v":""},null,null,null,"kVA",null,null,null,null,null,null,null,null,"負担金計算"]
[]
[]
[null,null,null,null,null,null,null,{"$f":"IF(入力用!O104=2,入力用!Z6,IF(入力用!O104=3,入力用!Z7,IF(入力用!O104=4,入力用!K104,\"\")))","v":""},null,null,null,null,null,null,null,null,null,null,null,null,null,null,null,null,null,null,null,{"$f":"IF(入力用!O105=2,入力用!AA6,IF(入力用!O105=3,入力用!AA7,\"\"))","v":""},null,null,null,null,null,null,{"$f":"IF(入力用!C106=\"\",\"\",入力用!C106)","v":""},null,null,null,null,null,{"$f":"IF(入力用!C107=\"\",\"\",入力用!C107)","v":""},null,null,null,null,null,null,null,null,null,null,null,null,null,null,null,null,null,{"$f":"IF(入力用!O108=2,入力用!AB6,IF(入力用!O108=3,入力用!AB7,\"\"))","v":""},null,null,null,null,null,{"$f":"IF(入力用!O109=2,入力用!AC6,IF(入力用!O109=3,入力用!AC7,IF(入力用!O109=4,入力用!AC8,\"\")))","v":""},null,null,null,null,null,null,null,null,null,null,{"$f":"IF(入力用!C110=\"\",\"\",入力用!C110)","v":""},null,null,null,null,"kVA",null,null,{"$f":"IF(入力用!C111=\"\",\"\",入力用!C111)","v":""},null,null,"台",null,{"$f":"IF(入力用!P109=0,\"\",入力用!P109)","v":""},null,null,null,"kVA"]
[]
[]
[null,null,null,null,null,null,null,{"$f":"IF(入力用!O112=2,入力用!Z6,IF(入力用!O112=3,入力用!Z7,IF(入力用!O112=4,入力用!K112,\"\")))","v":""},null,null,null,null,null,null,null,null,null,null,null,null,null,null,null,null,null,null,null,{"$f":"IF(入力用!O113=2,入力用!AA6,IF(入力用!O113=3,入力用!AA7,\"\"))","v":""},null,null,null,null,null,null,{"$f":"IF(入力用!C114=\"\",\"\",入力用!C114)","v":""},null,null,null,null,null,{"$f":"IF(入力用!C115=\"\",\"\",入力用!C115)","v":""},null,null,null,null,null,null,null,null,null,null,null,null,null,null,null,null,null,{"$f":"IF(入力用!O116=2,入力用!AB6,IF(入力用!O116=3,入力用!AB7,\"\"))","v":""},null,null,null,null,null,{"$f":"IF(入力用!O117=2,入力用!AC6,IF(入力用!O117=3,入力用!AC7,IF(入力用!O117=4,入力用!AC8,\"\")))","v":""},null,null,null,null,null,null,null,null,null,null,{"$f":"IF(入力用!C118=\"\",\"\",入力用!C118)","v":""},null,null,null,null,"kVA",null,null,{"$f":"IF(入力用!C119=\"\",\"\",入力用!C119)","v":""},null,null,"台",null,{"$f":"IF(入力用!P117=0,\"\",入力用!P117)","v":""},null,null,null,"kVA"]
[]
[null,null,null,null,null,null,null,null,null,null,null,null,null,null,null,null,null,null,null,null,null,null,null,null,null,null,null,null,null,null,null,null,null,null,null,null,null,null,null,null,null,null,null,null,null,null,null,null,null,null,null,null,null,null,null,null,null,null,null,null,null,null,null,null,null,null,null,null,null,null,null,null,null,null,null,null,null,null,null,null,null,null,null,null,null,null,null,null,null,null,null,null,null,null,null,null,null,null,null,null,null,"負担金入金"]
[null,null,null,null,null,null,null,{"$f":"IF(入力用!O120=2,入力用!Z6,IF(入力用!O120=3,入力用!Z7,IF(入力用!O120=4,入力用!K120,\"\")))","v":""},null,null,null,null,null,null,null,null,null,null,null,null,null,null,null,null,null,null,null,{"$f":"IF(入力用!O121=2,入力用!AA6,IF(入力用!O121=3,入力用!AA7,\"\"))","v":""},null,null,null,null,null,null,{"$f":"IF(入力用!C122=\"\",\"\",入力用!C122)","v":""},null,null,null,null,null,{"$f":"IF(入力用!C123=\"\",\"\",入力用!C123)","v":""},null,null,null,null,null,null,null,null,null,null,null,null,null,null,null,null,null,{"$f":"IF(入力用!O124=2,入力用!AB6,IF(入力用!O124=3,入力用!AB7,\"\"))","v":""},null,null,null,null,null,{"$f":"IF(入力用!O125=2,入力用!AC6,IF(入力用!O125=3,入力用!AC7,IF(入力用!O125=4,入力用!AC8,\"\")))","v":""},null,null,null,null,null,null,null,null,null,null,{"$f":"IF(入力用!C126=\"\",\"\",入力用!C126)","v":""},null,null,null,null,"kVA",null,null,{"$f":"IF(入力用!C127=\"\",\"\",入力用!C127)","v":""},null,null,"台",null,{"$f":"IF(入力用!P125=0,\"\",入力用!P125)","v":""},null,null,null,"kVA"]
[]
[]
[null,null,null,null,"オフ\nピー\nク蓄\n熱型\n機器",null,null,"機　器　種　別　※HPはヒートポンプ",null,null,null,null,null,null,null,null,null,null,null,null,null,null,null,null,null,null,null,"メーカー",null,null,null,null,null,null,null,null,null,null,null,null,"型式",null,null,null,null,null,null,null,null,null,null,null,null,null,null,null,null,null,"通電制御",null,null,null,null,null,"容量(a)",null,null,null,null,null,null,null,"台数(b)",null,null,null,null,"合計(a×b)",null,null,null,null,null,null,"通電開始時刻"]
[]
[null,null,null,null,null,null,null,{"$f":"IF(入力用!O128=2,入力用!AD6,IF(入力用!O128=3,入力用!AD7,IF(入力用!O128=4,入力用!AD8,\"\")))","v":""},null,null,null,null,null,null,null,null,null,null,null,null,null,null,null,null,null,null,null,{"$f":"IF(入力用!C129=\"\",\"\",入力用!C129)","v":""},null,null,null,null,null,null,null,null,null,null,null,null,{"$f":"IF(入力用!C130=\"\",\"\",入力用!C130)","v":""},null,null,null,null,null,null,null,null,null,null,null,null,null,null,null,null,null,{"$f":"IF(入力用!O131=2,入力用!AE6,IF(入力用!O131=3,入力用!AE7,\"\"))","v":""},null,null,null,null,null,{"$f":"IF(入力用!C132=\"\",\"\",入力用!C132)","v":""},null,null,null,null,"kVA",null,null,{"$f":"IF(入力用!C133=\"\",\"\",入力用!C133)","v":""},null,null,"台",null,{"$f":"IF(入力用!P131=0,\"\",入力用!P131)","v":""},null,null,null,"kVA",null,null,"施設№１",null,null,null,null,null,"時",null,"施設№３",null,null,null,null,null,"時"]
[]
[null,null,null,null,null,null,null,null,null,null,null,null,null,null,null,null,null,null,null,null,null,null,null,null,null,null,null,null,null,null,null,null,null,null,null,null,null,null,null,null,null,null,null,null,null,null,null,null,null,null,null,null,null,null,null,null,null,null,null,null,null,null,null,null,null,null,null,null,null,null,null,null,null,null,null,null,null,null,null,null,null,null,null,null,"施設№２",null,null,null,null,null,"時",null,"施設№４",null,null,null,null,null,"時",null,null,"計器払出"]
[null,null,null,null,null,null,null,{"$f":"IF(入力用!O134=2,入力用!AD6,IF(入力用!O134=3,入力用!AD7,IF(入力用!O134=4,入力用!AD8,\"\")))","v":""},null,null,null,null,null,null,null,null,null,null,null,null,null,null,null,null,null,null,null,{"$f":"IF(入力用!C135=\"\",\"\",入力用!C135)","v":""},null,null,null,null,null,null,null,null,null,null,null,null,{"$f":"IF(入力用!C136=\"\",\"\",入力用!C136)","v":""},null,null,null,null,null,null,null,null,null,null,null,null,null,null,null,null,null,{"$f":"IF(入力用!O137=2,入力用!AE6,IF(入力用!O137=3,入力用!AE7,\"\"))","v":""},null,null,null,null,null,{"$f":"IF(入力用!C138=\"\",\"\",入力用!C138)","v":""},null,null,null,null,"kVA",null,null,{"$f":"IF(入力用!C139=\"\",\"\",入力用!C139)","v":""},null,null,"台",null,{"$f":"IF(入力用!P137=0,\"\",入力用!P137)","v":""},null,null,null,"kVA"]
[null,null,null,null,null,null,null,null,null,null,null,null,null,null,null,null,null,null,null,null,null,null,null,null,null,null,null,null,null,null,null,null,null,null,null,null,null,null,null,null,null,null,null,null,null,null,null,null,null,null,null,null,null,null,null,null,null,null,null,null,null,null,null,null,null,null,null,null,null,null,null,null,null,null,null,null,null,null,null,null,null,null,null,null,"引込以下工事",null,null,null,null,null,null,"要",null,null,null,"不要"]
[]
[null,null,null,null,null,null,null,{"$f":"IF(入力用!O140=2,入力用!AD6,IF(入力用!O140=3,入力用!AD7,IF(入力用!O140=4,入力用!AD8,\"\")))","v":""},null,null,null,null,null,null,null,null,null,null,null,null,null,null,null,null,null,null,null,{"$f":"IF(入力用!C141=\"\",\"\",入力用!C141)","v":""},null,null,null,null,null,null,null,null,null,null,null,null,{"$f":"IF(入力用!C142=\"\",\"\",入力用!C142)","v":""},null,null,null,null,null,null,null,null,null,null,null,null,null,null,null,null,null,{"$f":"IF(入力用!O143=2,入力用!AE6,IF(入力用!O143=3,入力用!AE7,\"\"))","v":""},null,null,null,null,null,{"$f":"IF(入力用!C144=\"\",\"\",入力用!C144)","v":""},null,null,null,null,"kVA",null,null,{"$f":"IF(入力用!C145=\"\",\"\",入力用!C145)","v":""},null,null,"台",null,{"$f":"IF(入力用!P143=0,\"\",入力用!P143)","v":""},null,null,null,"kVA",null,null,"メッセンジャー",null,null,null,null,null,null,"№"]
[]
[null,null,null,null,null,null,null,null,null,null,null,null,null,null,null,null,null,null,null,null,null,null,null,null,null,null,null,null,null,null,null,null,null,null,null,null,null,null,null,null,null,null,null,null,null,null,null,null,null,null,null,null,null,null,null,null,null,null,null,null,null,null,null,null,null,null,null,null,null,null,null,null,null,null,null,null,null,null,null,null,null,null,null,null,"外 線 工 事",null,null,null,null,null,null,"№"]
[null,"蓄 熱 式\n暖 房 器\n以 外 の\n電気暖房\n機      器",null,null,null,null,null,"機　器　種　別　※HPはヒートポンプ",null,null,null,null,null,null,null,null,null,null,null,null,null,null,null,null,null,null,null,"メーカー",null,null,null,null,null,null,null,null,null,null,null,null,"型式",null,null,null,null,null,null,null,null,null,null,null,null,null,null,null,null,null,"非蓄熱式電\n気暖房割引",null,null,null,null,null,"容量(a)",null,null,null,null,null,null,null,"台数(b)",null,null,null,null,"合計(a×b)"]
[null,null,null,null,null,null,null,null,null,null,null,null,null,null,null,null,null,null,null,null,null,null,null,null,null,null,null,null,null,null,null,null,null,null,null,null,null,null,null,null,null,null,null,null,null,null,null,null,null,null,null,null,null,null,null,null,null,null,null,null,null,null,null,null,null,null,null,null,null,null,null,null,null,null,null,null,null,null,null,null,null,null,null,null,null,null,null,null,null,null,null,null,null,null,null,null,null,null,null,null,null,"送電申込受付"]
[null,null,null,null,null,null,null,{"$f":"IF(入力用!O146=2,入力用!AF6,IF(入力用!O146=3,入力用!AF7,IF(入力用!O146=4,入力用!K146,\"\")))","v":""},null,null,null,null,null,null,null,null,null,null,null,null,null,null,null,null,null,null,null,{"$f":"IF(入力用!C147=\"\",\"\",入力用!C147)","v":""},null,null,null,null,null,null,null,null,null,null,null,null,{"$f":"IF(入力用!C148=\"\",\"\",入力用!C148)","v":""},null,null,null,null,null,null,null,null,null,null,null,null,null,null,null,null,null,{"$f":"IF(入力用!O149=2,入力用!AG6,IF(入力用!O149=3,入力用!AG7,IF(入力用!O149=4,入力用!AG8,\"\")))","v":""},null,null,null,null,null,{"$f":"IF(入力用!C150=\"\",\"\",入力用!C150)","v":""},null,null,null,null,"kVA",null,null,{"$f":"IF(入力用!C151=\"\",\"\",入力用!C151)","v":""},null,null,"台",null,{"$f":"IF(入力用!P149=0,\"\",入力用!P149)","v":""},null,null,null,"kVA"]
[]
[]
[null,null,null,null,null,null,null,{"$f":"IF(入力用!O152=2,入力用!AF6,IF(入力用!O152=3,入力用!AF7,IF(入力用!O152=4,入力用!K152,\"\")))","v":""},null,null,null,null,null,null,null,null,null,null,null,null,null,null,null,null,null,null,null,{"$f":"IF(入力用!C153=\"\",\"\",入力用!C153)","v":""},null,null,null,null,null,null,null,null,null,null,null,null,{"$f":"IF(入力用!C154=\"\",\"\",入力用!C154)","v":""},null,null,null,null,null,null,null,null,null,null,null,null,null,null,null,null,null,null,null,null,null,null,null,{"$f":"IF(入力用!C155=\"\",\"\",入力用!C155)","v":""},null,null,null,null,"kVA",null,null,{"$f":"IF(入力用!C156=\"\",\"\",入力用!C156)","v":""},null,null,"台",null,{"$f":"IF(入力用!P154=0,\"\",入力用!P154)","v":""},null,null,null,"kVA",null,null,"契約容量 (小数点以下四捨五入)"]
[]
[null,null,null,null,null,null,null,null,null,null,null,null,null,null,null,null,null,null,null,null,null,null,null,null,null,null,null,null,null,null,null,null,null,null,null,null,null,null,null,null,null,null,null,null,null,null,null,null,null,null,null,null,null,null,null,null,null,null,null,null,null,null,null,null,null,null,null,null,null,null,null,null,null,null,null,null,null,null,null,null,null,null,null,null,{"$f":"IF(入力用!O37=6,入力用!R29,\"\")","v":""},null,null,null,null,null,null,null,null,null,null,null,"ｋＶＡ"]
[null,null,null,null,null,null,null,{"$f":"IF(入力用!O157=2,入力用!AF6,IF(入力用!O157=3,入力用!AF7,IF(入力用!O157=4,入力用!K157,\"\")))","v":""},null,null,null,null,null,null,null,null,null,null,null,null,null,null,null,null,null,null,null,{"$f":"IF(入力用!C158=\"\",\"\",入力用!C158)","v":""},null,null,null,null,null,null,null,null,null,null,null,null,{"$f":"IF(入力用!C159=\"\",\"\",入力用!C159)","v":""},null,null,null,null,null,null,null,null,null,null,null,null,null,null,null,null,null,null,null,null,null,null,null,{"$f":"IF(入力用!C160=\"\",\"\",入力用!C160)","v":""},null,null,null,null,"kVA",null,null,{"$f":"IF(入力用!C161=\"\",\"\",入力用!C161)","v":""},null,null,"台",null,{"$f":"IF(入力用!P159=0,\"\",入力用!P159)","v":""},null,null,null,"kVA"]
[null,null,null,null,null,null,null,null,null,null,null,null,null,null,null,null,null,null,null,null,null,null,null,null,null,null,null,null,null,null,null,null,null,null,null,null,null,null,null,null,null,null,null,null,null,null,null,null,null,null,null,null,null,null,null,null,null,null,null,null,null,null,null,null,null,null,null,null,null,null,null,null,null,null,null,null,null,null,null,null,null,null,null,null,null,null,null,null,null,null,null,null,null,null,null,null,null,null,null,null,null,"契約確認"]
[]
[null,"異動種別",null,null,"・新設　　 　・減少　 　　　・転出",null,null,null,null,null,null,null,null,null,null,null,null,null,null,null,null,null,null,null,null,null,null,null,"供給地点特定番号",null,null,null,null,null,null,"発行\n回数",null,null,"支店",null,"ﾌﾞﾛｯｸ",null,null,"住所",null,null,null,null,"街区",null,null,"契約№",null,null,null,null,"枝番",null,null,"種別",null,null,null,null,null,null,"送電日\n（異動日）"]
[]
[null,null,null,null,"・種変(+)　　・設備撤去　　・名義変更"]
[]
[null,null,null,null,"・ｺｰﾄﾞ変(+)　・設備変更　　 ・その他",null,null,null,null,null,null,null,null,null,null,null,null,null,null,null,null,null,null,null,null,null,null,null,null,null,null,"010",null,null,null,null,null,null,null,null,null,null,null,null,null,null,null,null,null,null,null,null,null,null,null,null,null,null,null,33,null,null,"00"]
[]
[null,null,null,null,"・増加　　 　・転入　　　　（　　　　）",null,null,null,null,null,null,null,null,null,null,null,null,null,null,null,null,null,null,null,null,null,null,null,null,null,null,null,null,null,null,null,null,null,null,null,null,null,null,null,null,null,null,null,null,null,null,null,null,null,null,null,null,null,null,null,null,null,null,null,null,null,null,null,null,null,null,"年",null,null,null,"月",null,null,null,"日",null,null,null,null,null,null,null,null,null,null,null,null,null,null,null,null,null,null,null,null,null,"上長確認"]
[]
[null,"業種",null,null,"・ 住宅　　　・ 工場　　　 　・ 病院･学校",null,null,null,null,null,null,null,null,null,null,null,null,null,null,null,null,null,null,null,"系統連系\n情報",null,null,null,null,null,"・系統連系有　・系統連系無",null,null,null,null,null,null,null,null,null,null,null,"夜蓄\n保有",null,null,{"$f":"入力用!P56","v":"未保有"},null,null,null,null,"移行前\n契　約",null,null,"　電灯･蓄熱ともに既設　･その他",null,null,null,null,null,null,null,null,null,null,null,null,null,null,null,null,null,null,null,null,null,null,null,"引込柱№",null,null,"画",null,null,"区",null,null,"図",null,null,"番",null,null,"の",null,null,"号"]
[]
[null,null,null,null,"・ ｱﾊﾟｰﾄ･寮　・ 事務所　　　 ・ 劇場･娯楽場",null,null,null,null,null,null,null,null,null,null,null,null,null,null,null,null,null,null,null,null,null,null,null,null,null,null,null,null,null,null,null,null,null,null,null,null,null,null,null,null,null,null,null,null,null,null,null,null,"・ 蓄熱のみ新設　　　  ・ 電灯新設･蓄熱未保有"]
[null,null,null,null,null,null,null,null,null,null,null,null,null,null,null,null,null,null,null,null,null,null,null,null,null,null,null,null,null,null,"・逆潮流有　・逆潮流無",null,null,null,null,null,null,null,null,null,null,null,"ＴＣ\n設置",null,null,{"$f":"入力用!Q56","v":""},null,{"$f":"IF(AT123=1,\"あり\",\"なし\")","v":"なし"}]
[null,null,null,null,"・ 商店　　　・ 旅館･飲食店　・ その他",null,null,null,null,null,null,null,null,null,null,null,null,null,null,null,null,null,null,null,null,null,null,null,null,null,null,null,null,null,null,null,null,null,null,null,null,null,null,null,null,null,null,null,null,null,null,null,null,"・ 電灯･蓄熱ともに新設 ・電灯既設･蓄熱未保有"]
[]
[null,"入居区分",null,null,"・入居　・未入居",null,null,null,null,null,null,null,"計量区分",null,null,{"$f":"IF(入力用!R56=\"21\",\"電子式1台・屋内分岐\",IF(入力用!R56=\"22\",\"電子式1台・屋外分岐\",IF(入力用!R56=\"11\",\"電子式1台機械式1台\",IF(入力用!R56=\"12\",\"電子式1台機械式2台\",IF(入力用!R56=\"13\",\"電子式1台機械式3台\",\"\")))))","v":"電子式1台機械式1台"},null,null,null,null,null,null,null,null,null,"計器取付位置",null,null,null,null,null,null,null,null,"機械式計器内訳",null,null,"機械式計器1台目",null,null,null,null,null,null,null,null,null,null,null,null,null,null,null,null,null,"機械式計器2台目",null,null,null,null,null,null,null,null,null,null,null,null,null,null,null,null,null,"機械式計器3台目",null,null,null,null,null,null,null,null,null,null,null,null,null,null,null,null,null,"ＣＴ取付位置",null,null,"・屋外",null,null,null,null,null,null,"竣工調査"]
[null,null,null,null,null,null,null,null,null,null,null,null,null,null,null,null,null,null,null,null,null,null,null,null,null,null,null,null,"・屋外"]
[null,"供給\n電気\n方式",null,null,{"$f":"IF(入力用!O33=2,\"単相2線100V\",IF(入力用!O33=3,\"単相2線200V\",IF(入力用!O33=4,\"単相3線100V\",IF(入力用!O33=5,\"3相3線200V\",\"\"))))","v":""},null,null,null,null,null,null,null,null,null,null,null,null,null,null,null,null,null,null,null,null,null,null,null,null,null,null,null,null,null,null,null,null,"電気方式",null,"・ 単相\n 2線100Ｖ",null,null,null,"通電時間",null,"5時間",null,null,"ＴＳ取付区分",null,"・ 通常\n・ 共用\n　　･TSなし\n・ 併用\n　　･高圧AS\n・ 切替型\n・ 5時間型\n・ 5時間型\n　　　 MS用",null,null,null,null,"電気方式",null,"・ 単相\n 2線100Ｖ",null,null,null,"通電時間",null,"5時間",null,null,"ＴＳ取付区分",null,"・ 通常\n・ 共用\n　　･TSなし\n・ 併用\n　　･高圧AS\n・ 切替型\n・ 5時間型\n・ 5時間型\n　　　 MS用",null,null,null,null,"電気方式",null,"・ 単相\n 2線100Ｖ",null,null,null,"通電時間",null,"5時間",null,null,"ＴＳ取付区分",null,"・ 通常\n・ 共用\n　　･TSなし\n・ 併用\n　　･高圧AS\n・ 切替型\n・ 5時間型\n・ 5時間型\n　　　 MS用",null,null,null,null,null,null,null,"・屋外柱"]
[null,null,null,null,null,null,null,null,null,null,null,null,null,null,null,null,null,null,null,null,null,null,null,null,null,null,null,null,"・屋外柱"]
[null,null,null,null,null,null,null,null,null,null,null,null,null,null,null,null,null,null,null,null,null,null,null,null,null,null,null,null,null,null,null,null,null,null,null,null,null,null,null,null,null,null,null,null,null,"8時間",null,null,null,null,null,null,null,null,null,null,null,null,null,null,null,null,null,"8時間",null,null,null,null,null,null,null,null,null,null,null,null,null,null,null,null,null,"8時間",null,null,null,null,null,null,null,null,null,null,null,null,"・ｷｭｰﾋﾞｸﾙ"]
[null,null,null,null,null,null,null,null,null,null,null,null,null,null,null,null,null,null,null,null,null,null,null,null,null,null,null,null,"・ｷｭｰﾋﾞｸﾙ",null,null,null,null,null,null,null,null,null,null,"・ 単相\n 2線200Ｖ",null,null,null,null,null,null,null,null,null,null,null,null,null,null,null,null,null,"・ 単相\n 2線200Ｖ",null,null,null,null,null,null,null,null,null,null,null,null,null,null,null,null,null,"・ 単相\n 2線200Ｖ"]
[null,null,null,null,null,null,null,null,null,null,null,null,null,null,null,null,null,null,null,null,null,null,null,null,null,null,null,null,null,null,null,null,null,null,null,null,null,null,null,null,null,null,null,null,null,"10時間",null,null,null,null,null,null,null,null,null,null,null,null,null,null,null,null,null,"10時間",null,null,null,null,null,null,null,null,null,null,null,null,null,null,null,null,null,"10時間",null,null,null,null,null,null,null,null,null,null,null,null,"・屋内"]
[null,null,null,null,null,null,null,null,null,null,null,null,null,null,null,null,null,null,null,null,null,null,null,null,null,null,null,null,"・屋内"]
[null,"計量\n電気\n方式",null,null,"・単相2線100Ｖ",null,null,null,null,null,null,null,null,null,null,null,null,null,null,null,null,null,null,null,null,null,null,null,null,null,null,null,null,null,null,null,null,null,null,"・ 単相\n 3線100Ｖ",null,null,null,"通電開始",null,null,null,null,null,null,null,null,null,null,null,null,null,"・ 単相\n 3線100Ｖ",null,null,null,"通電開始",null,null,null,null,null,null,null,null,null,null,null,null,null,"・ 単相\n 3線100Ｖ",null,null,null,"通電開始",null,null,null,null,null,null,null,null,null,null,null,null,null,null,"・集合盤",null,null,null,null,null,null,"完了確認"]
[null,null,null,null,null,null,null,null,null,null,null,null,null,null,null,null,null,null,null,null,null,null,null,null,null,null,null,null,"・集合盤"]
[null,null,null,null,"・単相3線100Ｖ",null,null,null,null,null,null,null,null,null,null,null,null,null,null,null,null,null,null,null,null,null,null,null,null,null,null,null,null,null,null,null,null,null,null,null,null,null,null,null,null,null,null,null,null,null,null,null,null,null,null,null,null,null,null,null,null,null,null,null,null,null,null,null,null,null,null,null,null,null,null,null,null,null,null,null,null,null,null,null,null,null,null,null,null,null,null,null,null,null,"・受電室"]
[null,null,null,null,null,null,null,null,null,null,null,null,null,null,null,null,null,null,null,null,null,null,null,null,null,null,null,null,"・受電室",null,null,null,null,null,null,null,null,null,null,"・ 3相\n 3線200Ｖ",null,null,null,null,null,null,null,null,null,null,null,null,null,null,null,null,null,"・ 3相\n 3線200Ｖ",null,null,null,null,null,null,null,null,null,null,null,null,null,null,null,null,null,"・ 3相\n 3線200Ｖ"]
[null,null,null,null,"・3相3線200Ｖ",null,null,null,null,null,null,null,null,null,null,null,null,null,null,null,null,null,null,null,null,null,null,null,null,null,null,null,null,null,null,null,null,null,null,null,null,null,null,null,null,"時",null,null,null,null,null,null,null,null,null,null,null,null,null,null,null,null,null,"時",null,null,null,null,null,null,null,null,null,null,null,null,null,null,null,null,null,"時",null,null,null,null,null,null,null,null,null,"ＣＴ\n２次\n亘長"]
[]
[null,"ＳＢ\n容量",null,null,null,null,null,null,null,"負荷\n設備\n区分",null,null,"・ 従量電灯A　・ 従量電灯C",null,null,null,null,null,null,null,null,null,null,"電灯\n負荷\n合計",null,null,null,null,null,null,null,null,"割引\n区分",null,null,{"$f":"IF(入力用!V56=\"1\",\"MC\",IF(入力用!V56=\"2\",\"5時間\",IF(入力用!V56=\"3\",\"MC+5時間\",\"\")))","v":""},null,null,null,null,null,null,null,null,null,"８Ｈ\n機器\n区分",null,null,{"$f":"IF(入力用!W56=\"21\",\"深夜電力A\",IF(入力用!W56=\"31\",\"温水器通常\",IF(入力用!W56=\"32\",\"温水器MC\",IF(入力用!W56=\"33\",\"蓄熱暖房器\",IF(入力用!W56=\"34\",\"温水器＋蓄暖\",IF(入力用!W56=\"35\",\"その他\",\"\"))))))","v":""},null,null,null,null,null,null,null,null,null,null,null,null,null,null,null,null,null,null,"８Ｈ\n機器\n合計",null,null,{"$f":"IF(入力用!X56=0,\" kVA\",入力用!X56&\" kVA\")","v":" kVA"},null,null,null,null,null,"ＭＣ\n割引\n容量",null,null,"蓄暖",null,null,null,null,null,"温水器"]
[null,null,null,null,{"$f":"入力用!S56","v":""}]
[null,null,null,null,null,null,null,"Ａ",null,null,null,null,"・ 従量電灯B",null,null,null,null,null,null,null,null,null,null,null,null,null,null,null,null,"kVA",null,null,null,null,null,null,null,null,null,null,null,null,null,null,null,null,null,null,null,null,null,null,null,null,null,null,null,null,null,null,null,null,null,null,null,null,null,null,null,null,null,null,null,null,null,null,null,null,null,"kVA",null,null,null,null,null,"kVA",null,null,null,null,null,null,null,null,null,null,null,"ｍ",null,null,null,"完了連絡"]
[]
[null,"５Ｈ\n機器\n区分",null,null,{"$f":"IF(入力用!AA56=\"41\",\"温水器\",IF(入力用!AA56=\"42\",\"その他\",\"\"))","v":""},null,null,null,null,"５Ｈ\n機器\n合計",null,null,{"$f":"IF(入力用!AB56=0,\" kVA\",入力用!AB56&\" kVA\")","v":" kVA"},null,null,null,null,null,"５Ｈ\n割引\n容量",null,null,"蓄暖",null,null,null,null,null,"温水器等",null,null,null,null,null,"非蓄\n区分",null,null,{"$f":"IF(入力用!O149=2,\"1型\",IF(入力用!O149=3,\"2型\",\"\"))","v":""},null,null,null,"非蓄\n容量",null,null,{"$f":"IF(入力用!AE56=\"\",\" kVA\",入力用!AE56&\" kVA\")","v":" kVA"},null,null,null,null,"ＯＰ\n機器\n区分",null,null,"・MC温水　・MC温水+暖房　・暖房"]
[]
[null,null,null,null,null,null,null,null,null,null,null,null,null,null,null,null,null,null,null,null,null,"kVA",null,null,null,null,null,"kVA",null,null,null,null,null,null,null,null,null,null,null,null,null,null,null,null,null,null,null,null,null,null,null,"・MC暖房　・温水　　　　 ・温水+暖房"]
[]
[null,"支払者\n番号",null,null,null,null,null,null,null,null,null,null,null,null,null,null,null,null,null,null,null,null,"まとめ\n請求",null,null,null,"・有　　",null,null,null,null,null,null,null,"支払\n番号",null,null,null,null,null,null,null,null,null,null,null,null,null,null,null,null,"決済アクセスキー",null,null,null,null,null,null,null,null,null,null,null,null,null,null,null,null,"請求書\n要　否",null,null,null,"・否"]
[]
[null,null,null,null,null,null,null,null,null,null,null,null,null,null,null,null,null,null,null,null,null,null,null,null,null,null,"・無",null,null,null,null,null,null,null,null,null,null,null,null,null,null,null,null,null,null,null,null,null,null,null,null,null,null,null,null,null,null,null,null,null,null,null,null,null,null,null,null,null,null,null,null,null,"・要",null,null,null,null,null,null,null,null,null,null,null,null,null,null,null,null,null,null,null,null,null,null,null,null,null,null,null,null,"ⅮＭ送付"]
[]
[null,"契約\n容量\n算定",null,null,"小　数　点　以　下　第　４　位　四　捨　五　入",null,null,null,null,null,null,null,null,null,null,null,null,null,null,null,null,null,null,null,null,null,null,null,null,null,null,null,null,null,"契　　約　　容　　量",null,null,null,null,null,null,null,null,null,null,null,null,null,null,null,null,null,null,null,null,null,null,null,"＜備考＞"]
[]
[null,null,null,null,"圧縮・電圧補\n正後合計容量",null,null,null,null,null,"①",null,null,null,null,null,null,null,"①×0.4＝",null,null,null,null,null,null,null,"③",null,null,null,null,null,null,null,"総合主開閉器契約\nまたは夜間蓄熱型\n機器未保有の場合",null,null,null,null,null,null,null,"②≦③の場合",null,null,null,null,null,null,null,"②＞③の場合"]
[]
[null,null,null,null,null,null,null,null,null,null,null,null,null,null,null,"kVA",null,null,null,null,null,null,null,null,null,null,null,null,null,null,null,"kVA"]
[]
[null,null,null,null,"夜間蓄熱型\n機器総容量",null,null,null,null,null,"②",null,{"$f":"IF(SUM(入力用!X59:X63,入力用!AB58:AB60)=0,\" kVA\",SUM(入力用!X59:X63,入力用!AB58:AB60)&\" kVA\")","v":" kVA"},null,null,null,null,null,"②×0.1＋①＝",null,null,null,null,null,null,null,"④",null,null,null,null,null,null,null,null,null,null,null,null,null,null,null,null,null,null,null,null,null,null,null,null,null,null,null,null,null,null,null,null,null,null,null,null,null,null,null,null,null,null,null,null,null,null,null,null,null,null,null,null,null,null,null,null,null,null,null,null,null,null,null,null,null,null,null,null,null,null,null,null,null,null,"照合"]
[null,null,null,null,null,null,null,null,null,null,null,null,null,null,null,null,null,null,null,null,null,null,null,null,null,null,null,null,null,null,null,null,null,null,"契約容量＝①",null,null,null,null,null,null,null,"契約容量＝①",null,null,null,null,null,null,null,"契約容量＝④"]
[null,null,null,null,null,null,null,null,null,null,null,null,null,null,null,null,null,null,null,null,null,null,null,null,null,null,null,null,null,null,null,"kVA"]
[]
[null,null,null,null,null,null,null,null,null,null,null,null,null,null,null,null,null,null,null,null,"他契約登録",null,"要 ・ 不要",null,null,null,null,null,null,null,"他契約登録番号",null,null,null,null,null,null,null,null,null,null,null,null,null,null,null,null,null,null,null,null,null,"　□供給地点他契約登録済"]
[null,null,null,null,null,null,null,null,null,null,null,null,null,null,null,null,null,null,null,null,null,null,null,null,null,null,null,null,null,null,null,null,null,null,null,null,null,null,null,null,null,null,null,null,null,null,null,null,null,null,null,null,null,null,null,null,null,null,null,null,null,null,null,null,null,null,null,null,null,null,null,null,null,null,null,null,null,null,null,null,null,null,null,null,"取　外　計　器"]
[]
[null,null,null,null,null,null,null,null,null,null,null,null,null,null,null,null,null,null,null,null,null,null,null,null,null,null,null,null,null,null,null,null,null,null,null,null,null,null,null,null,null,null,null,null,null,null,null,null,null,null,null,null,null,null,null,null,null,null,null,null,null,null,null,null,null,null,null,null,null,null,null,null,null,null,null,null,null,null,null,null,"計器\n増設",null,null,null,"指示数"]
[]
[null,null,null,null,null,null,null,null,null,null,null,null,null,null,null,null,null,null,null,null,null,null,null,null,null,null,null,null,null,null,null,null,null,null,null,null,null,null,null,null,null,null,null,null,null,null,null,null,null,null,null,null,null,null,null,null,null,null,null,null,null,null,null,null,null,null,null,null,null,null,null,null,null,null,null,null,null,null,null,null,null,null,null,null,null,null,"ﾋﾟｰｸ/午後"]
[]
[null,null,null,null,null,null,null,null,null,null,null,null,null,null,null,null,null,null,null,null,null,null,null,null,null,null,null,null,null,null,null,null,null,null,null,null,null,null,null,null,null,null,null,null,null,null,null,null,null,null,null,null,null,null,null,null,null,null,null,null,null,null,null,null,null,null,null,null,null,null,null,null,null,null,null,null,null,null,null,null,null,null,null,null,null,null,"夜　間"]
[]
[null,null,null,null,null,null,null,null,null,null,null,null,null,null,null,null,null,null,null,null,null,null,null,null,null,null,null,null,null,null,null,null,null,null,null,null,null,null,null,null,null,null,null,null,null,null,null,null,null,null,null,null,null,null,null,null,null,null,null,null,null,null,null,null,null,null,null,null,null,null,null,null,null,null,null,null,null,null,null,null,null,null,null,null,"計器№",null,null,null,null,null,null,null,null,null,"乗率"]
[]
["北　海　道　電　力　ネ　ッ　ト　ワ　ー　ク　株　式　会　社"]