{"text_format":"1","workbook":"xlsx","n_sheets":4,"sheets":["入力用","１枚目","２枚目","３枚目"],"not_rendered":{"charts":0,"images":0,"macros":1,"external_links":0,"defined_names":4,"comments":1,"pivot_tables":0},"unopened":[],"bounds":{"document_bytes":16777216,"sheet_cells":100000,"rows_first":2000,"rows_last":500,"rows_between":2000,"halvings":0,"cell_chars":16384,"cell_head_chars":4096},"cells_cut":0,"cells_raw":0,"read":"whole","date_system":"1900"}

{"sheet":"入力用","index":0,"n_rows":272,"n_cols":36,"rows_kept":272,"cut":false,"hidden":false,"merged":[[2,16,2,24],[3,0,3,2],[3,3,3,11],[3,23,3,24],[4,0,4,2],[4,5,4,6],[4,9,4,10],[5,0,7,1],[5,3,5,11],[6,3,6,11],[7,5,7,6],[8,0,51,0],[8,1,8,2],[9,1,9,2],[10,1,10,2],[11,1,11,2],[47,1,48,2],[51,1,51,2],[20,1,27,1],[44,1,46,1],[28,1,35,1],[11,4,11,5],[12,1,19,1],[12,3,12,11],[13,3,13,11],[17,3,17,4],[17,5,17,6],[13,17,13,19],[14,3,14,11],[16,3,16,4],[16,5,16,6],[18,18,18,19],[19,4,19,5],[19,17,19,35],[20,20,20,23],[20,24,20,27],[20,28,20,31],[20,32,20,35],[21,3,21,11],[22,3,22,11],[23,17,23,18],[20,3,20,11],[24,3,24,4],[24,5,24,6],[25,3,25,4],[25,5,25,6],[27,4,27,5],[28,3,28,11],[29,3,29,11],[30,3,30,11],[32,3,32,4],[32,5,32,6],[33,3,33,4],[33,5,33,6],[35,4,35,5],[36,1,43,1],[36,3,36,11],[37,3,37,11],[38,3,38,11],[40,3,40,4],[40,5,40,6],[41,3,41,4],[41,5,41,6],[43,4,43,5],[44,3,44,11],[45,3,45,11],[47,5,47,6],[49,1,49,2],[49,4,49,6],[50,1,50,2],[50,3,50,11],[52,0,95,0],[52,1,52,2],[53,1,53,2],[54,1,54,2],[55,1,55,2],[91,1,92,2],[95,1,95,2],[64,1,71,1],[94,1,94,2],[55,4,55,5],[56,1,63,1],[56,3,56,11],[57,3,57,11],[61,3,61,4],[61,5,61,6],[64,3,64,11],[72,1,79,1],[72,3,72,11],[57,17,57,19],[58,3,58,11],[60,3,60,4],[60,5,60,6],[62,18,62,19],[63,4,63,5],[63,17,63,35],[64,20,64,23],[64,24,64,27],[64,28,64,31],[64,32,64,35],[65,3,65,11],[66,3,66,11],[67,17,67,18],[68,3,68,4],[68,5,68,6],[69,3,69,4],[69,5,69,6],[71,4,71,5],[73,3,73,11],[74,3,74,11],[76,3,76,4],[76,5,76,6],[77,3,77,4],[77,5,77,6],[79,4,79,5],[80,3,80,11],[81,3,81,11],[82,3,82,11],[84,3,84,4],[84,5,84,6],[85,3,85,4],[85,5,85,6],[87,4,87,5],[88,1,90,1],[88,3,88,11],[89,3,89,11],[80,1,87,1],[91,5,91,6],[93,1,93,2],[93,4,93,6],[94,3,94,11],[96,0,139,0],[96,1,96,2],[97,1,97,2],[98,1,98,2],[99,1,99,2],[135,1,136,2],[139,1,139,2],[99,4,99,5],[100,1,107,1],[100,3,100,11],[101,3,101,11],[105,3,105,4],[105,5,105,6],[108,1,115,1],[108,3,108,11],[116,1,123,1],[109,3,109,11],[110,3,110,11],[120,3,120,4],[120,5,120,6],[101,17,101,19],[102,3,102,11],[104,3,104,4],[104,5,104,6],[106,18,106,19],[107,4,107,5],[107,17,107,35],[108,20,108,23],[108,24,108,27],[108,28,108,31],[108,32,108,35],[111,17,111,18],[112,3,112,4],[112,5,112,6],[113,3,113,4],[113,5,113,6],[115,4,115,5],[116,3,116,11],[117,3,117,11],[118,3,118,11],[121,3,121,4],[121,5,121,6],[123,4,123,5],[124,1,131,1],[124,3,124,11],[125,3,125,11],[126,3,126,11],[128,3,128,4],[128,5,128,6],[129,3,129,4],[129,5,129,6],[131,4,131,5],[132,1,134,1],[132,3,132,11],[133,3,133,11],[135,5,135,6],[137,1,137,2],[137,4,137,6],[138,1,138,2],[138,3,138,11],[140,0,183,0],[140,1,140,2],[141,1,141,2],[142,1,142,2],[143,1,143,2],[179,1,180,2],[183,1,183,2],[143,4,143,5],[144,1,151,1],[144,3,144,11],[145,3,145,11],[149,3,149,4],[149,5,149,6],[160,1,167,1],[160,3,160,11],[161,3,161,11],[145,17,145,19],[146,3,146,11],[148,3,148,4],[148,5,148,6],[150,18,150,19],[151,4,151,5],[151,17,151,35],[152,1,159,1],[152,3,152,11],[152,20,152,23],[152,24,152,27],[152,28,152,31],[152,32,152,35],[153,3,153,11],[154,3,154,11],[155,17,155,18],[156,3,156,4],[156,5,156,6],[157,3,157,4],[157,5,157,6],[159,4,159,5],[162,3,162,11],[164,3,164,4],[164,5,164,6],[165,3,165,4],[165,5,165,6],[167,4,167,5],[168,1,175,1],[168,3,168,11],[169,3,169,11],[170,3,170,11],[172,3,172,4],[172,5,172,6],[173,3,173,4],[173,5,173,6],[175,4,175,5],[176,1,178,1],[176,3,176,11],[177,3,177,11],[179,5,179,6],[181,1,181,2],[181,4,181,6],[182,1,182,2],[182,3,182,11],[184,0,227,0],[184,1,184,2],[185,1,185,2],[186,1,186,2],[187,1,187,2],[223,1,224,2],[227,1,227,2],[187,4,187,5],[188,1,195,1],[188,3,188,11],[189,3,189,11],[193,3,193,4],[193,5,193,6],[204,1,211,1],[204,3,204,11],[205,3,205,11],[189,17,189,19],[190,3,190,11],[192,3,192,4],[192,5,192,6],[194,18,194,19],[195,4,195,5],[195,17,195,35],[196,1,203,1],[196,3,196,11],[196,20,196,23],[196,24,196,27],[196,28,196,31],[196,32,196,35],[197,3,197,11],[198,3,198,11],[199,17,199,18],[200,3,200,4],[200,5,200,6],[201,3,201,4],[201,5,201,6],[203,4,203,5],[206,3,206,11],[208,3,208,4],[208,5,208,6],[209,3,209,4],[209,5,209,6],[211,4,211,5],[212,1,219,1],[212,3,212,11],[213,3,213,11],[214,3,214,11],[216,3,216,4],[216,5,216,6],[217,3,217,4],[217,5,217,6],[219,4,219,5],[220,1,222,1],[220,3,220,11],[221,3,221,11],[223,5,223,6],[225,1,225,2],[225,4,225,6],[226,1,226,2],[226,3,226,11],[228,0,271,0],[228,1,228,2],[229,1,229,2],[230,1,230,2],[231,1,231,2],[267,1,268,2],[271,1,271,2],[231,4,231,5],[232,1,239,1],[232,3,232,11],[233,3,233,11],[237,3,237,4],[237,5,237,6],[248,1,255,1],[248,3,248,11],[249,3,249,11],[233,17,233,19],[234,3,234,11],[236,3,236,4],[236,5,236,6],[238,18,238,19],[239,4,239,5],[239,17,239,35],[240,1,247,1],[240,3,240,11],[240,20,240,23],[240,24,240,27],[240,28,240,31],[240,32,240,35],[241,3,241,11],[242,3,242,11],[243,17,243,18],[244,3,244,4],[244,5,244,6],[245,3,245,4],[245,5,245,6],[247,4,247,5],[270,1,270,2],[270,3,270,11],[264,1,266,1],[264,3,264,11],[265,3,265,11],[267,5,267,6],[269,1,269,2],[269,4,269,6],[250,3,250,11],[252,3,252,4],[252,5,252,6],[253,3,253,4],[253,5,253,6],[255,4,255,5],[256,1,263,1],[256,3,256,11],[257,3,257,11],[258,3,258,11],[260,3,260,4],[260,5,260,6],[261,3,261,4],[261,5,261,6],[263,4,263,5]]}
[]
[null,null,null,null,null,null,null,null,null,null,null,null,null,null,false]
[null,{"$f":"IF(M3=\"\",\"印刷されましたら，「ＮＷ控」の裏面に施設組合印および御社の社印を押印してください。\",\"必要事項をすべて入力すると，右の表示が消えます。\")","v":"必要事項をすべて入力すると，右の表示が消えます。"},null,null,null,null,null,null,null,null,null,null,{"$f":"IF(N3=\"\",\"\",N3)","v":"入力に不備があります。"},{"$f":"IF(COUNTBLANK(N4:N272)=269,\"\",\"入力に不備があります。\")","v":"入力に不備があります。"},null,null,"ドロップダウンリスト"]
["建物名",null,null,null,null,null,null,null,null,null,null,null,"←入力してください。",{"$f":"IF(D4=\"\",\"←入力してください。\",\"\")","v":"←入力してください。"},null,null,"契約種別","供給電気方式・供給電圧","契約決定方法","通電制御・検知制御","出力","力率","検知制御装置","通電遮断パターン"]
["受電希望日",null,null,null,"年",null,null,"月",null,"日",null,null,"←入力してください。",{"$f":"IF(OR(D5=\"\",F5=\"\",I5=\"\"),\"←入力してください。\",IF(AND(ISNUMBER(D5),ISNUMBER(F5),ISNUMBER(I5)),IF(OR(D5<1,F5<1,F5>12,I5<1,I5>31),\"←入力内容が不正です。\",\"\"),\"←数字を入力してください。\"))","v":"←入力してください。"}]
["電気工事会社",null,"会社名",null,null,null,null,null,null,null,null,null,"←入力してください。",{"$f":"IF(D6=\"\",\"←入力してください。\",\"\")","v":"←入力してください。"},null,null,"低圧電力","単相2線式100Ｖ","主開閉器契約","あり","㏋",1,"降雪","時間","連続"]
[null,null,"担当者",null,null,null,null,null,null,null,null,null,"←入力してください。",{"$f":"IF(D7=\"\",\"←入力してください。\",\"\")","v":"←入力してください。"},null,null,"深夜電力Ｂ","単相2線式200Ｖ","負荷設備契約","なし","kW",0.9,"屋根","分","断続"]
[null,null,"工事会社№",null,"-",null,null,null,null,null,null,null,"←入力してください。",{"$f":"IF(OR(D8=\"\",F8=\"\"),\"←入力してください。\",IF(OR(LEN(D8)<>2,LEN(F8)<>3),\"←入力内容が不正です。\",\"\"))","v":"←入力してください。"},null,1,"深夜電力Ｃ","単相3線式100V・200V",null,null,null,0.85,"路面"]
["Ａパターン","契約種別",null,null,null,null,null,null,null,null,null,null,"←選択してください。",{"$f":"IF(P9=1,\"←選択してください。\",\"\")","v":"←選択してください。"},null,1,"深夜電力Ｄ","3相3線式200V",null,null,null,0.8]
[null,"供給電気方式・供給電圧",null,null,null,null,null,null,null,null,null,null,"←選択してください。",{"$f":"IF(P10=1,\"←選択してください。\",\"\")","v":"←選択してください。"},null,1,"ホットタイム19"]
[null,"契約決定方法",null,null,null,null,null,null,null,null,null,null,"←選択してください。",{"$f":"IF(P11=1,\"←選択してください。\",\"\")","v":"←選択してください。"},null,1,"ホットタイム22","契約種別表示用"]
[null,"主開閉器の定格電流",null,null,"Ａ",null,null,null,null,null,null,null,"",{"$f":"IF(AND(D12=\"\",P11=2),\"←入力してください。\",IF(OR(D12=\"\",ISNUMBER(D12)),\"\",\"←数字を入力してください。\"))","v":""},null,1,"ホットタイム19エコ",{"$f":"IF(P9=2,Q6,IF(P9=3,Q7,IF(P9=4,Q8,IF(P9=5,Q9,IF(P9=6,Q10,IF(P9=7,Q11,IF(P9=8,Q12,IF(P9=9,Q13,\"\"))))))))","v":""}]
[null,"契約負荷\n設備内訳１","機器種別",null,null,null,null,null,null,null,null,null,"←契約負荷設備の内訳を入力してください。",{"$f":"IF(AND(D20=\"\",D28=\"\",D36=\"\",D44=\"\"),\"←契約負荷設備の内訳を入力してください。\",\"\")","v":"←契約負荷設備の内訳を入力してください。"},null,null,"ホットタイム22エコ",{"$f":"IF(P9=10,Q14,R12)","v":""}]
[null,null,"メーカー",null,null,null,null,null,null,null,null,null,"",{"$f":"IF(AND(D13<>\"\",D14=\"\"),\"←入力してください。\",\"\")","v":""},null,null,"ホットタイム22ロング","加重平均力率の算定"]
[null,null,"型式",null,null,null,null,null,null,null,null,null,"",{"$f":"IF(AND(D13<>\"\",D15=\"\"),\"←入力してください。\",\"\")","v":""},null,1,null,1,{"$f":"IF(P19=2,Q18,0)+IF(P27=2,Q26,0)+IF(P35=2,Q34,0)+IF(P43=2,Q42,0)","v":0},{"$f":"S15*1","v":0}]
[null,null,"通電制御・検知制御",null,null,null,null,null,null,null,null,null,"",{"$f":"IF(AND(D13<>\"\",P16=1),\"←選択してください。\",\"\")","v":""},null,1,"入力値算定",0.9,{"$f":"IF(P19=3,Q18,0)+IF(P27=3,Q26,0)+IF(P35=3,Q34,0)+IF(P43=3,Q42,0)","v":0},{"$f":"ROUND(S16*0.9,3)","v":0}]
[null,null,"出力",null,null,null,null,null,null,null,null,null,"",{"$f":"IF(D17=\"\",\"\",IF(ISNUMBER(D17),IF(P17=1,\"←単位を選択してください。\",IF(AND(P17=2,P19=2),\"←単位または力率が間違っています。\",\"\")),\"←数字を入力してください。\"))","v":""},null,1,{"$f":"IF(D18<>\"\",D18,IF(P19=2,D17,IF(P17=2,ROUND(D17*0.933,3),0)))","v":0},0.85,{"$f":"IF(P19=4,Q18,0)+IF(P27=4,Q26,0)+IF(P35=4,Q34,0)+IF(P43=4,Q42,0)","v":0},{"$f":"ROUND(S17*0.85,3)","v":0}]
[null,null,"入力",null,null,"kW",null,null,null,null,null,null,"",{"$f":"IF(OR(D18=\"\",ISNUMBER(D18)),\"\",\"←数字を入力してください。\")","v":""},null,1,{"$f":"IF(Q17*D20=0,\"\",Q17*D20)","v":""},0.8,{"$f":"IF(P19=5,Q18,0)+IF(P27=5,Q26,0)+IF(P35=5,Q34,0)+IF(P43=5,Q42,0)","v":0},{"$f":"ROUND(S18*0.8,3)","v":0}]
[null,null,"力率",null,null,null,null,null,null,null,null,null,"",{"$f":"IF(AND(D13<>\"\",P19=1),\"←選択してください。\",\"\")","v":""},null,1,null,"合計",{"$f":"IF(SUM(S15:S18)=0,\"\",ROUND(SUM(T15:T18)/SUM(S15:S18),2))","v":""}]
[null,null,"台数",null,"台",null,null,null,null,null,null,null,"",{"$f":"IF(AND(D13<>\"\",D20=\"\"),\"←入力してください。\",IF(OR(D20=\"\",ISNUMBER(D20)),\"\",\"←数字を入力してください。\"))","v":""},null,null,null,"台数圧縮"]
[null,"契約負荷\n設備内訳２","機器種別",null,null,null,null,null,null,null,null,null,"",null,null,null,null,"最初の2台",{"$f":"IF(V22>1,U22*2,U22+Y22)","v":0},{"$f":"ROUND(S21*1,3)","v":0},"1番目",null,null,null,"2番目",null,null,null,"3番目",null,null,null,"4番目"]
[null,null,"メーカー",null,null,null,null,null,null,null,null,null,"",{"$f":"IF(AND(D21<>\"\",D22=\"\"),\"←入力してください。\",\"\")","v":""},null,null,null,"次の２台",{"$f":"IF(V22>3,U22*2,IF(V22=3,U22+Y22,IF(V22=2,IF(Z22>1,Y22*2,Y22+AC22),IF(Z22>2,Y22*2,IF(Z22=2,Y22+AC22,IF(Z22=1,IF(AD22>1,AC22*2,AC22+AG22)))))))","v":0},{"$f":"ROUND(S22*0.95,3)","v":0},{"$f":"MAX(U23:X26)","v":0},{"$f":"COUNTIF(U23:X26,U22)","v":16},null,null,{"$f":"MAX(Y23:AB26)+U22","v":-100},{"$f":"COUNTIF(Y23:AB26,Y22-U22)","v":16},null,null,{"$f":"MAX(AC23:AF26)+Y22","v":-200},{"$f":"COUNTIF(AC23:AF26,AC22-Y22)","v":16},null,null,{"$f":"MAX(AG23:AJ26)+AC22","v":-300},{"$f":"COUNTIF(AG23:AJ26,AG22-AC22)","v":16}]
[null,null,"型式",null,null,null,null,null,null,null,null,null,"",{"$f":"IF(AND(D21<>\"\",D23=\"\"),\"←入力してください。\",\"\")","v":""},null,1,null,"残り",{"$f":"S39-S21-S22","v":0},{"$f":"ROUND(S23*0.9,3)","v":0},{"$f":"IF(P19>2,Q17,0)","v":0},{"$f":"IF(D20>1,U23,0)","v":0},{"$f":"IF(D20>2,U23,0)","v":0},{"$f":"IF(D20>3,U23,0)","v":0},{"$f":"IF(U23-U22=0,-100,U23-U22)","v":-100},{"$f":"IF(V23-U22=0,-100,V23-U22)","v":-100},{"$f":"IF(W23-U22=0,-100,W23-U22)","v":-100},{"$f":"IF(X23-U22=0,-100,X23-U22)","v":-100},{"$f":"IF(Y23-Y22+U22=0,-100,Y23-Y22+U22)","v":-100},{"$f":"IF(Z23-Y22+U22=0,-100,Z23-Y22+U22)","v":-100},{"$f":"IF(AA23-Y22+U22=0,-100,AA23-Y22+U22)","v":-100},{"$f":"IF(AB23-Y22+U22=0,-100,AB23-Y22+U22)","v":-100},{"$f":"IF(AC23-AC22+Y22=0,-100,AC23-AC22+Y22)","v":-100},{"$f":"IF(AD23-AC22+Y22=0,-100,AD23-AC22+Y22)","v":-100},{"$f":"IF(AE23-AC22+Y22=0,-100,AE23-AC22+Y22)","v":-100},{"$f":"IF(AF23-AC22+Y22=0,-100,AF23-AC22+Y22)","v":-100}]
[null,null,"通電制御・検知制御",null,null,null,null,null,null,null,null,null,"",{"$f":"IF(AND(D21<>\"\",P24=1),\"←選択してください。\",\"\")","v":""},null,1,"入力値算定","合計",null,{"$f":"SUM(T21:T23)","v":0},{"$f":"IF(P27>2,Q25,0)","v":0},{"$f":"IF(D28>1,U24,0)","v":0},{"$f":"IF(D28>2,U24,0)","v":0},{"$f":"IF(D28>3,U24,0)","v":0},{"$f":"IF(U24-U22=0,-100,U24-U22)","v":-100},{"$f":"IF(V24-U22=0,-100,V24-U22)","v":-100},{"$f":"IF(W24-U22=0,-100,W24-U22)","v":-100},{"$f":"IF(X24-U22=0,-100,X24-U22)","v":-100},{"$f":"IF(Y24-Y22+U22=0,-100,Y24-Y22+U22)","v":-100},{"$f":"IF(Z24-Y22+U22=0,-100,Z24-Y22+U22)","v":-100},{"$f":"IF(AA24-Y22+U22=0,-100,AA24-Y22+U22)","v":-100},{"$f":"IF(AB24-Y22+U22=0,-100,AB24-Y22+U22)","v":-100},{"$f":"IF(AC24-AC22+Y22=0,-100,AC24-AC22+Y22)","v":-100},{"$f":"IF(AD24-AC22+Y22=0,-100,AD24-AC22+Y22)","v":-100},{"$f":"IF(AE24-$AC22+Y22=0,-100,AE24-AC22+Y22)","v":-100},{"$f":"IF(AF24-AC22+Y22=0,-100,AF24-AC22+Y22)","v":-100}]
[null,null,"出力",null,null,null,null,null,null,null,null,null,"",{"$f":"IF(D25=\"\",\"\",IF(ISNUMBER(D25),IF(P25=1,\"←単位を選択してください。\",IF(AND(P25=2,P27=2),\"←単位または力率が間違っています。\",\"\")),\"←数字を入力してください。\"))","v":""},null,1,{"$f":"IF(D26<>\"\",D26,IF(P27=2,D25,IF(P25=2,ROUND(D25*0.933,3),0)))","v":0},null,null,null,{"$f":"IF(P35>2,Q33,0)","v":0},{"$f":"IF(D36>1,U25,0)","v":0},{"$f":"IF(D36>2,U25,0)","v":0},{"$f":"IF(D36>3,U25,0)","v":0},{"$f":"IF(U25-U22=0,-100,U25-U22)","v":-100},{"$f":"IF(V25-U22=0,-100,V25-U22)","v":-100},{"$f":"IF(W25-U22=0,-100,W25-U22)","v":-100},{"$f":"IF(X25-U22=0,-100,X25-U22)","v":-100},{"$f":"IF(Y25-Y22+U22=0,-100,Y25-Y22+U22)","v":-100},{"$f":"IF(Z25-Y22+U22=0,-100,Z25-Y22+U22)","v":-100},{"$f":"IF(AA25-Y22+U22=0,-100,AA25-Y22+U22)","v":-100},{"$f":"IF(AB25-Y22+U22=0,-100,AB25-Y22+U22)","v":-100},{"$f":"IF(AC25-AC22+Y22=0,-100,AC25-AC22+Y22)","v":-100},{"$f":"IF(AD25-AC22+Y22=0,-100,AD25-AC22+Y22)","v":-100},{"$f":"IF(AE25-AC22+Y22=0,-100,AE25-AC22+Y22)","v":-100},{"$f":"IF(AF25-AC22+Y22=0,-100,AF25-AC22+Y22)","v":-100}]
[null,null,"入力",null,null,"kW",null,null,null,null,null,null,"",{"$f":"IF(OR(D26=\"\",ISNUMBER(D26)),\"\",\"←数字を入力してください。\")","v":""},null,1,{"$f":"IF(Q25*D28=0,\"\",Q25*D28)","v":""},"容量圧縮",{"$f":"ROUND(IF(T24<6,T24,IF(T24<20,(T24-6)*0.9+6,IF(T24<50,(T24-20)*0.8+6+14*0.9,(T24-50)*0.7+6+14*0.9+30*0.8))),3)+S38","v":0},null,{"$f":"IF(P43>2,Q41,0)","v":0},{"$f":"IF(D44>1,U26,0)","v":0},{"$f":"IF(D44>2,U26,0)","v":0},{"$f":"IF(D44>3,U26,0)","v":0},{"$f":"IF(U26-U22=0,-100,U26-U22)","v":-100},{"$f":"IF(V26-U22=0,-100,V26-U22)","v":-100},{"$f":"IF(W26-U22=0,-100,W26-U22)","v":-100},{"$f":"IF(X26-U22=0,-100,X26-U22)","v":-100},{"$f":"IF(Y26-Y22+U22=0,-100,Y26-Y22+U22)","v":-100},{"$f":"IF(Z26-Y22+U22=0,-100,Z26-Y22+U22)","v":-100},{"$f":"IF(AA26-Y22+U22=0,-100,AA26-Y22+U22)","v":-100},{"$f":"IF(AB26-Y22+U22=0,-100,AB26-Y22+U22)","v":-100},{"$f":"IF(AC26-AC22+Y22=0,-100,AC26-AC22+Y22)","v":-100},{"$f":"IF(AD26-AC22+Y22=0,-100,AD26-AC22+Y22)","v":-100},{"$f":"IF(AE26-AC22+Y22=0,-100,AE26-AC22+Y22)","v":-100},{"$f":"IF(AF26-AC22+Y22=0,-100,AF26-AC22+Y22)","v":-100}]
[null,null,"力率",null,null,null,null,null,null,null,null,null,"",{"$f":"IF(AND(D21<>\"\",P27=1),\"←選択してください。\",\"\")","v":""},null,1]
[null,null,"台数",null,"台",null,null,null,null,null,null,null,"",{"$f":"IF(AND(D21<>\"\",D28=\"\"),\"←入力してください。\",IF(OR(D28=\"\",ISNUMBER(D28)),\"\",\"←数字を入力してください。\"))","v":""},null,null,null,"主開閉器契約",{"$f":"IF(P10=2,D12*100/1000,IF(OR(P10=3,P10=4),D12*200/1000,IF(P10=5,D12*200*1.732/1000,0)))","v":0}]
[null,"契約負荷\n設備内訳３","機器種別",null,null,null,null,null,null,null,null,null,""]
[null,null,"メーカー",null,null,null,null,null,null,null,null,null,"",{"$f":"IF(AND(D29<>\"\",D30=\"\"),\"←入力してください。\",\"\")","v":""},null,null,null,"負荷設備契約自動計算可否確認",{"$f":"IF(S37=1,\"\",S26)","v":0}]
[null,null,"型式",null,null,null,null,null,null,null,null,null,"",{"$f":"IF(AND(D29<>\"\",D31=\"\"),\"←入力してください。\",\"\")","v":""},null,1,null,"加重平均力率自動計算可否確認",{"$f":"IF(OR(AND(P19>1,Q17=0),AND(P27>1,Q25=0),AND(P35>1,Q33=0),AND(P43>1,Q41=0)),\"\",S19)","v":""}]
[null,null,"通電制御・検知制御",null,null,null,null,null,null,null,null,null,"",{"$f":"IF(AND(D29<>\"\",P32=1),\"←選択してください。\",\"\")","v":""},null,1,"入力値算定"]
[null,null,"出力",null,null,null,null,null,null,null,null,null,"",{"$f":"IF(D33=\"\",\"\",IF(ISNUMBER(D33),IF(P33=1,\"←単位を選択してください。\",IF(AND(P33=2,P35=2),\"←単位または力率が間違っています。\",\"\")),\"←数字を入力してください。\"))","v":""},null,1,{"$f":"IF(D34<>\"\",D34,IF(P35=2,D33,IF(P33=2,ROUND(D33*0.933,3),0)))","v":0},"契約電力確定",{"$f":"IF(P11=2,IF(AND(P9>2,P9<6,S28>0,S28<=0.5),0.5,ROUND(S28,0)),IF(P11=3,IF(AND(P9>2,P9<6,S26>0,S26<=0.5),0.5,ROUND(S26,0)),\"\"))","v":""}]
[null,null,"入力",null,null,"kW",null,null,null,null,null,null,"",{"$f":"IF(OR(D34=\"\",ISNUMBER(D34)),\"\",\"←数字を入力してください。\")","v":""},null,1,{"$f":"IF(Q33*D36=0,\"\",Q33*D36)","v":""}]
[null,null,"力率",null,null,null,null,null,null,null,null,null,"",{"$f":"IF(AND(D29<>\"\",P35=1),\"←選択してください。\",\"\")","v":""},null,1,null,"通電制御・検知制御対象率（分子）",{"$f":"IF(P16=2,Q18,0)+IF(P24=2,Q26,0)+IF(P32=2,Q34,0)+IF(P40=2,Q42,0)","v":0}]
[null,null,"台数",null,"台",null,null,null,null,null,null,null,"",{"$f":"IF(AND(D29<>\"\",D36=\"\"),\"←入力してください。\",IF(OR(D36=\"\",ISNUMBER(D36)),\"\",\"←数字を入力してください。\"))","v":""}]
[null,"契約負荷\n設備内訳４","機器種別",null,null,null,null,null,null,null,null,null,"",null,null,null,null,"出力・入力データチェック",{"$f":"IF(OR(AND(Q17=0,D20<>\"\"),AND(Q25=0,D28<>\"\"),AND(Q33=0,D36<>\"\"),AND(Q41=0,D44<>\"\")),1,\"\")","v":""}]
[null,null,"メーカー",null,null,null,null,null,null,null,null,null,"",{"$f":"IF(AND(D37<>\"\",D38=\"\"),\"←入力してください。\",\"\")","v":""},null,null,null,"電熱器総容量",{"$f":"IF(S37=1,0,IF(P19=2,Q18,0)+IF(P27=2,Q26,0)+IF(P35=2,Q34,0)+IF(P43=2,Q42,0))","v":0}]
[null,null,"型式",null,null,null,null,null,null,null,null,null,"",{"$f":"IF(AND(D37<>\"\",D39=\"\"),\"←入力してください。\",\"\")","v":""},null,1,null,"電熱器以外総容量",{"$f":"IF(S37=1,0,IF(P19>2,Q18,0)+IF(P27>2,Q26,0)+IF(P35>2,Q34,0)+IF(P43>2,Q42,0))","v":0}]
[null,null,"通電制御・検知制御",null,null,null,null,null,null,null,null,null,"",{"$f":"IF(AND(D37<>\"\",P40=1),\"←選択してください。\",\"\")","v":""},null,1,"入力値算定"]
[null,null,"出力",null,null,null,null,null,null,null,null,null,"",{"$f":"IF(D41=\"\",\"\",IF(ISNUMBER(D41),IF(P41=1,\"←単位を選択してください。\",IF(AND(P41=2,P43=2),\"←単位または力率が間違っています。\",\"\")),\"←数字を入力してください。\"))","v":""},null,1,{"$f":"IF(D42<>\"\",D42,IF(P43=2,D41,IF(P41=2,ROUND(D41*0.933,3),0)))","v":0}]
[null,null,"入力",null,null,"kW",null,null,null,null,null,null,"",{"$f":"IF(OR(D42=\"\",ISNUMBER(D42)),\"\",\"←数字を入力してください。\")","v":""},null,1,{"$f":"IF(Q41*D44=0,\"\",Q41*D44)","v":""}]
[null,null,"力率",null,null,null,null,null,null,null,null,null,"",{"$f":"IF(AND(D37<>\"\",P43=1),\"←選択してください。\",\"\")","v":""},null,1]
[null,null,"台数",null,"台",null,null,null,null,null,null,null,"",{"$f":"IF(AND(D37<>\"\",D44=\"\"),\"←入力してください。\",IF(OR(D44=\"\",ISNUMBER(D44)),\"\",\"←数字を入力してください。\"))","v":""}]
[null,"検知制御装置","メーカー",null,null,null,null,null,null,null,null,null,"",{"$f":"IF(OR(P9=2,P9=3,P9=4,P9=9),IF(D45<>\"\",\"←入力できません。\",\"\"),IF(AND(D46<>\"\",D45=\"\"),\"←入力してください。\",\"\"))","v":""}]
[null,null,"型式",null,null,null,null,null,null,null,null,null,"",{"$f":"IF(OR(P9=2,P9=3,P9=4,P9=9),IF(D46<>\"\",\"←入力できません。\",\"\"),IF(AND(D45<>\"\",D46=\"\"),\"←入力してください。\",\"\"))","v":""},null,1]
[null,null,"種類",null,null,null,null,null,null,null,null,null,"",{"$f":"IF(AND(OR(P9=2,P9=3,P9=4,P9=9),P47>1),\"←選択できません。\",IF(AND(D45<>\"\",P47=1),\"←選択してください。\",\"\"))","v":""},null,1]
[null,"通電遮断パターン",null,null,"時",null,null,"分から",null,null,null,null,"",{"$f":"IF(AND(OR(P9=6,P9>7),OR(D48=\"\",F48=\"\")),\"←入力してください。\",IF(OR(D48=\"\",F48=\"\"),\"\",IF(AND(ISNUMBER(D48),ISNUMBER(F48)),IF(OR(D48<4,AND(D48>7,D48<16),D48>19,MOD(F48,15)<>0,F48<0,F48>59),\"←入力内容が不正です。\",\"\"),\"←数字を入力してください。\")))","v":""},null,1]
[null,null,null,null,null,null,null,null,null,null,null,null,"",{"$f":"IF(AND(OR(P9=6,P9>7),D49=\"\"),\"←入力してください。\",IF(D49=\"\",\"\",IF(ISNUMBER(D49),IF(OR(D49=15,D49=30,D49=1,D49=2),IF(OR(AND(D49=2,P49=3),AND(D49<>2,P49=2),AND(D49>2,P48=2),AND(D49<3,P48=3)),\"←入力・選択内容が不正です。\",\"\"),\"←入力内容が不正です。\"),\"←数字を入力してください。\")))","v":""},null,1]
[null,"最低使用期間開始月",null,null,"月分",null,null,null,null,null,null,null,"",{"$f":"IF(AND(P9>4,D50=\"\"),\"←入力してください。\",IF(D50=\"\",\"\",IF(ISNUMBER(D50),IF(OR(D50<1,D50>12),\"←入力内容が不正です。\",\"\"),\"←数字を入力してください。\")))","v":""}]
[null,"室番号",null,null,null,null,null,null,null,null,null,null,"←入力してください。",{"$f":"IF(D51=\"\",\"←入力してください。\",\"\")","v":"←入力してください。"}]
[null,"契約口数合計",null,null,"口",null,null,null,null,null,null,null,"←入力してください。",{"$f":"IF(D52=\"\",\"←入力してください。\",\"\")","v":"←入力してください。"},null,1]
["Ｂパターン","契約種別",null,null,null,null,null,null,null,null,null,null,"",{"$f":"IF(AND(P53=1,P54<>1),\"←選択してください。\",\"\")","v":""},null,1]
[null,"供給電気方式・供給電圧",null,null,null,null,null,null,null,null,null,null,"",{"$f":"IF(AND(P53<>1,P54=1),\"←選択してください。\",\"\")","v":""},null,1]
[null,"契約決定方法",null,null,null,null,null,null,null,null,null,null,"",{"$f":"IF(AND(P53<>1,P55=1),\"←選択してください。\",\"\")","v":""},null,1,null,"契約種別表示用"]
[null,"主開閉器の定格電流",null,null,"Ａ",null,null,null,null,null,null,null,"",{"$f":"IF(AND(D56=\"\",P55=2),\"←入力してください。\",IF(OR(D56=\"\",ISNUMBER(D56)),\"\",\"←数字を入力してください。\"))","v":""},null,null,null,{"$f":"IF(P53=2,Q6,IF(P53=3,Q7,IF(P53=4,Q8,IF(P53=5,Q9,IF(P53=6,Q10,IF(P53=7,Q11,IF(P53=8,Q12,IF(P53=9,Q13,\"\"))))))))","v":""}]
[null,"契約負荷\n設備内訳１","機器種別",null,null,null,null,null,null,null,null,null,"",{"$f":"IF(AND(P53<>1,D64=\"\",D72=\"\",D80=\"\",D88=\"\"),\"←契約負荷設備の内訳を入力してください。\",\"\")","v":""},null,null,null,{"$f":"IF(P53=10,Q14,R56)","v":""}]
[null,null,"メーカー",null,null,null,null,null,null,null,null,null,"",{"$f":"IF(AND(D57<>\"\",D58=\"\"),\"←入力してください。\",\"\")","v":""},null,null,null,"加重平均力率の算定"]
[null,null,"型式",null,null,null,null,null,null,null,null,null,"",{"$f":"IF(AND(D57<>\"\",D59=\"\"),\"←入力してください。\",\"\")","v":""},null,1,null,1,{"$f":"IF(P63=2,Q62,0)+IF(P71=2,Q70,0)+IF(P79=2,Q78,0)+IF(P87=2,Q86,0)","v":0},{"$f":"S59*1","v":0}]
[null,null,"通電制御・検知制御",null,null,null,null,null,null,null,null,null,"",{"$f":"IF(AND(D57<>\"\",P60=1),\"←選択してください。\",\"\")","v":""},null,1,"入力値算定",0.9,{"$f":"IF(P63=3,Q62,0)+IF(P71=3,Q70,0)+IF(P79=3,Q78,0)+IF(P87=3,Q86,0)","v":0},{"$f":"ROUND(S60*0.9,3)","v":0}]
[null,null,"出力",null,null,null,null,null,null,null,null,null,"",{"$f":"IF(D61=\"\",\"\",IF(ISNUMBER(D61),IF(P61=1,\"←単位を選択してください。\",IF(AND(P61=2,P63=2),\"←単位または力率が間違っています。\",\"\")),\"←数字を入力してください。\"))","v":""},null,1,{"$f":"IF(D62<>\"\",D62,IF(P63=2,D61,IF(P61=2,ROUND(D61*0.933,3),0)))","v":0},0.85,{"$f":"IF(P63=4,Q62,0)+IF(P71=4,Q70,0)+IF(P79=4,Q78,0)+IF(P87=4,Q86,0)","v":0},{"$f":"ROUND(S61*0.85,3)","v":0}]
[null,null,"入力",null,null,"kW",null,null,null,null,null,null,"",{"$f":"IF(OR(D62=\"\",ISNUMBER(D62)),\"\",\"←数字を入力してください。\")","v":""},null,1,{"$f":"IF(Q61*D64=0,\"\",Q61*D64)","v":""},0.8,{"$f":"IF(P63=5,Q62,0)+IF(P71=5,Q70,0)+IF(P79=5,Q78,0)+IF(P87=5,Q86,0)","v":0},{"$f":"ROUND(S62*0.8,3)","v":0}]
[null,null,"力率",null,null,null,null,null,null,null,null,null,"",{"$f":"IF(AND(D57<>\"\",P63=1),\"←選択してください。\",\"\")","v":""},null,1,null,"合計",{"$f":"IF(SUM(S59:S62)=0,\"\",ROUND(SUM(T59:T62)/SUM(S59:S62),2))","v":""}]
[null,null,"台数",null,"台",null,null,null,null,null,null,null,"",{"$f":"IF(AND(D57<>\"\",D64=\"\"),\"←入力してください。\",IF(OR(D64=\"\",ISNUMBER(D64)),\"\",\"←数字を入力してください。\"))","v":""},null,null,null,"台数圧縮"]
[null,"契約負荷\n設備内訳２","機器種別",null,null,null,null,null,null,null,null,null,"",null,null,null,null,"最初の2台",{"$f":"IF(V66>1,U66*2,U66+Y66)","v":0},{"$f":"ROUND(S65*1,3)","v":0},"1番目",null,null,null,"2番目",null,null,null,"3番目",null,null,null,"4番目"]
[null,null,"メーカー",null,null,null,null,null,null,null,null,null,"",{"$f":"IF(AND(D65<>\"\",D66=\"\"),\"←入力してください。\",\"\")","v":""},null,null,null,"次の２台",{"$f":"IF(V66>3,U66*2,IF(V66=3,U66+Y66,IF(V66=2,IF(Z66>1,Y66*2,Y66+AC66),IF(Z66>2,Y66*2,IF(Z66=2,Y66+AC66,IF(Z66=1,IF(AD66>1,AC66*2,AC66+AG66)))))))","v":0},{"$f":"ROUND(S66*0.95,3)","v":0},{"$f":"MAX(U67:X70)","v":0},{"$f":"COUNTIF(U67:X70,U66)","v":16},null,null,{"$f":"MAX(Y67:AB70)+U66","v":-100},{"$f":"COUNTIF(Y67:AB70,Y66-U66)","v":16},null,null,{"$f":"MAX(AC67:AF70)+Y66","v":-200},{"$f":"COUNTIF(AC67:AF70,AC66-Y66)","v":16},null,null,{"$f":"MAX(AG67:AJ70)+AC66","v":-300},{"$f":"COUNTIF(AG67:AJ70,AG66-AC66)","v":16}]
[null,null,"型式",null,null,null,null,null,null,null,null,null,{"$f":"IF(N67=\"\",\"\",N67)","v":""},{"$f":"IF(AND(D65<>\"\",D67=\"\"),\"←入力してください。\",\"\")","v":""},null,1,null,"残り",{"$f":"S83-S65-S66","v":0},{"$f":"ROUND(S67*0.9,3)","v":0},{"$f":"IF(P63>2,Q61,0)","v":0},{"$f":"IF(D64>1,U67,0)","v":0},{"$f":"IF(D64>2,U67,0)","v":0},{"$f":"IF(D64>3,U67,0)","v":0},{"$f":"IF(U67-U66=0,-100,U67-U66)","v":-100},{"$f":"IF(V67-U66=0,-100,V67-U66)","v":-100},{"$f":"IF(W67-U66=0,-100,W67-U66)","v":-100},{"$f":"IF(X67-U66=0,-100,X67-U66)","v":-100},{"$f":"IF(Y67-Y66+U66=0,-100,Y67-Y66+U66)","v":-100},{"$f":"IF(Z67-Y66+U66=0,-100,Z67-Y66+U66)","v":-100},{"$f":"IF(AA67-Y66+U66=0,-100,AA67-Y66+U66)","v":-100},{"$f":"IF(AB67-Y66+U66=0,-100,AB67-Y66+U66)","v":-100},{"$f":"IF(AC67-AC66+Y66=0,-100,AC67-AC66+Y66)","v":-100},{"$f":"IF(AD67-AC66+Y66=0,-100,AD67-AC66+Y66)","v":-100},{"$f":"IF(AE67-AC66+Y66=0,-100,AE67-AC66+Y66)","v":-100},{"$f":"IF(AF67-AC66+Y66=0,-100,AF67-AC66+Y66)","v":-100}]
[null,null,"通電制御・検知制御",null,null,null,null,null,null,null,null,null,"",{"$f":"IF(AND(D65<>\"\",P68=1),\"←選択してください。\",\"\")","v":""},null,1,"入力値算定","合計",null,{"$f":"SUM(T65:T67)","v":0},{"$f":"IF(P71>2,Q69,0)","v":0},{"$f":"IF(D72>1,U68,0)","v":0},{"$f":"IF(D72>2,U68,0)","v":0},{"$f":"IF(D72>3,U68,0)","v":0},{"$f":"IF(U68-U66=0,-100,U68-U66)","v":-100},{"$f":"IF(V68-U66=0,-100,V68-U66)","v":-100},{"$f":"IF(W68-U66=0,-100,W68-U66)","v":-100},{"$f":"IF(X68-U66=0,-100,X68-U66)","v":-100},{"$f":"IF(Y68-Y66+U66=0,-100,Y68-Y66+U66)","v":-100},{"$f":"IF(Z68-Y66+U66=0,-100,Z68-Y66+U66)","v":-100},{"$f":"IF(AA68-Y66+U66=0,-100,AA68-Y66+U66)","v":-100},{"$f":"IF(AB68-Y66+U66=0,-100,AB68-Y66+U66)","v":-100},{"$f":"IF(AC68-AC66+Y66=0,-100,AC68-AC66+Y66)","v":-100},{"$f":"IF(AD68-AC66+Y66=0,-100,AD68-AC66+Y66)","v":-100},{"$f":"IF(AE68-$AC66+Y66=0,-100,AE68-AC66+Y66)","v":-100},{"$f":"IF(AF68-AC66+Y66=0,-100,AF68-AC66+Y66)","v":-100}]
[null,null,"出力",null,null,null,null,null,null,null,null,null,"",{"$f":"IF(D69=\"\",\"\",IF(ISNUMBER(D69),IF(P69=1,\"←単位を選択してください。\",IF(AND(P69=2,P71=2),\"←単位または力率が間違っています。\",\"\")),\"←数字を入力してください。\"))","v":""},null,1,{"$f":"IF(D70<>\"\",D70,IF(P71=2,D69,IF(P69=2,ROUND(D69*0.933,3),0)))","v":0},null,null,null,{"$f":"IF(P79>2,Q77,0)","v":0},{"$f":"IF(D80>1,U69,0)","v":0},{"$f":"IF(D80>2,U69,0)","v":0},{"$f":"IF(D80>3,U69,0)","v":0},{"$f":"IF(U69-U66=0,-100,U69-U66)","v":-100},{"$f":"IF(V69-U66=0,-100,V69-U66)","v":-100},{"$f":"IF(W69-U66=0,-100,W69-U66)","v":-100},{"$f":"IF(X69-U66=0,-100,X69-U66)","v":-100},{"$f":"IF(Y69-Y66+U66=0,-100,Y69-Y66+U66)","v":-100},{"$f":"IF(Z69-Y66+U66=0,-100,Z69-Y66+U66)","v":-100},{"$f":"IF(AA69-Y66+U66=0,-100,AA69-Y66+U66)","v":-100},{"$f":"IF(AB69-Y66+U66=0,-100,AB69-Y66+U66)","v":-100},{"$f":"IF(AC69-AC66+Y66=0,-100,AC69-AC66+Y66)","v":-100},{"$f":"IF(AD69-AC66+Y66=0,-100,AD69-AC66+Y66)","v":-100},{"$f":"IF(AE69-AC66+Y66=0,-100,AE69-AC66+Y66)","v":-100},{"$f":"IF(AF69-AC66+Y66=0,-100,AF69-AC66+Y66)","v":-100}]
[null,null,"入力",null,null,"kW",null,null,null,null,null,null,"",{"$f":"IF(OR(D70=\"\",ISNUMBER(D70)),\"\",\"←数字を入力してください。\")","v":""},null,1,{"$f":"IF(Q69*D72=0,\"\",Q69*D72)","v":""},"容量圧縮",{"$f":"ROUND(IF(T68<6,T68,IF(T68<20,(T68-6)*0.9+6,IF(T68<50,(T68-20)*0.8+6+14*0.9,(T68-50)*0.7+6+14*0.9+30*0.8))),3)+S82","v":0},null,{"$f":"IF(P87>2,Q85,0)","v":0},{"$f":"IF(D88>1,U70,0)","v":0},{"$f":"IF(D88>2,U70,0)","v":0},{"$f":"IF(D88>3,U70,0)","v":0},{"$f":"IF(U70-U66=0,-100,U70-U66)","v":-100},{"$f":"IF(V70-U66=0,-100,V70-U66)","v":-100},{"$f":"IF(W70-U66=0,-100,W70-U66)","v":-100},{"$f":"IF(X70-U66=0,-100,X70-U66)","v":-100},{"$f":"IF(Y70-Y66+U66=0,-100,Y70-Y66+U66)","v":-100},{"$f":"IF(Z70-Y66+U66=0,-100,Z70-Y66+U66)","v":-100},{"$f":"IF(AA70-Y66+U66=0,-100,AA70-Y66+U66)","v":-100},{"$f":"IF(AB70-Y66+U66=0,-100,AB70-Y66+U66)","v":-100},{"$f":"IF(AC70-AC66+Y66=0,-100,AC70-AC66+Y66)","v":-100},{"$f":"IF(AD70-AC66+Y66=0,-100,AD70-AC66+Y66)","v":-100},{"$f":"IF(AE70-AC66+Y66=0,-100,AE70-AC66+Y66)","v":-100},{"$f":"IF(AF70-AC66+Y66=0,-100,AF70-AC66+Y66)","v":-100}]
[null,null,"力率",null,null,null,null,null,null,null,null,null,"",{"$f":"IF(AND(D65<>\"\",P71=1),\"←選択してください。\",\"\")","v":""},null,1]
[null,null,"台数",null,"台",null,null,null,null,null,null,null,"",{"$f":"IF(AND(D65<>\"\",D72=\"\"),\"←入力してください。\",IF(OR(D72=\"\",ISNUMBER(D72)),\"\",\"←数字を入力してください。\"))","v":""},null,null,null,"主開閉器契約",{"$f":"IF(P54=2,D56*100/1000,IF(OR(P54=3,P54=4),D56*200/1000,IF(P54=5,D56*200*1.732/1000,0)))","v":0}]
[null,"契約負荷\n設備内訳３","機器種別",null,null,null,null,null,null,null,null,null,""]
[null,null,"メーカー",null,null,null,null,null,null,null,null,null,"",{"$f":"IF(AND(D73<>\"\",D74=\"\"),\"←入力してください。\",\"\")","v":""},null,null,null,"負荷設備契約自動計算可否確認",{"$f":"IF(S81=1,\"\",S70)","v":0}]
[null,null,"型式",null,null,null,null,null,null,null,null,null,"",{"$f":"IF(AND(D73<>\"\",D75=\"\"),\"←入力してください。\",\"\")","v":""},null,1,null,"加重平均力率自動計算可否確認",{"$f":"IF(OR(AND(P63>1,Q61=0),AND(P71>1,Q69=0),AND(P79>1,Q77=0),AND(P87>1,Q85=0)),\"\",S63)","v":""}]
[null,null,"通電制御・検知制御",null,null,null,null,null,null,null,null,null,"",{"$f":"IF(AND(D73<>\"\",P76=1),\"←選択してください。\",\"\")","v":""},null,1,"入力値算定"]
[null,null,"出力",null,null,null,null,null,null,null,null,null,"",{"$f":"IF(D77=\"\",\"\",IF(ISNUMBER(D77),IF(P77=1,\"←単位を選択してください。\",IF(AND(P77=2,P79=2),\"←単位または力率が間違っています。\",\"\")),\"←数字を入力してください。\"))","v":""},null,1,{"$f":"IF(D78<>\"\",D78,IF(P79=2,D77,IF(P77=2,ROUND(D77*0.933,3),0)))","v":0},"契約電力確定",{"$f":"IF(P55=2,IF(AND(P53>2,P53<6,S72>0,S72<=0.5),0.5,ROUND(S72,0)),IF(P55=3,IF(AND(P53>2,P53<6,S70>0,S70<=0.5),0.5,ROUND(S70,0)),\"\"))","v":""}]
[null,null,"入力",null,null,"kW",null,null,null,null,null,null,"",{"$f":"IF(OR(D78=\"\",ISNUMBER(D78)),\"\",\"←数字を入力してください。\")","v":""},null,1,{"$f":"IF(Q77*D80=0,\"\",Q77*D80)","v":""}]
[null,null,"力率",null,null,null,null,null,null,null,null,null,"",{"$f":"IF(AND(D73<>\"\",P79=1),\"←選択してください。\",\"\")","v":""},null,1,null,"通電制御・検知制御対象率（分子）",{"$f":"IF(P60=2,Q62,0)+IF(P68=2,Q70,0)+IF(P76=2,Q78,0)+IF(P84=2,Q86,0)","v":0}]
[null,null,"台数",null,"台",null,null,null,null,null,null,null,"",{"$f":"IF(AND(D73<>\"\",D80=\"\"),\"←入力してください。\",IF(OR(D80=\"\",ISNUMBER(D80)),\"\",\"←数字を入力してください。\"))","v":""}]
[null,"契約負荷\n設備内訳４","機器種別",null,null,null,null,null,null,null,null,null,"",null,null,null,null,"出力・入力データチェック",{"$f":"IF(OR(AND(Q61=0,D64<>\"\"),AND(Q69=0,D72<>\"\"),AND(Q77=0,D80<>\"\"),AND(Q85=0,D88<>\"\")),1,\"\")","v":""}]
[null,null,"メーカー",null,null,null,null,null,null,null,null,null,"",{"$f":"IF(AND(D81<>\"\",D82=\"\"),\"←入力してください。\",\"\")","v":""},null,null,null,"電熱器総容量",{"$f":"IF(S81=1,0,IF(P63=2,Q62,0)+IF(P71=2,Q70,0)+IF(P79=2,Q78,0)+IF(P87=2,Q86,0))","v":0}]
[null,null,"型式",null,null,null,null,null,null,null,null,null,"",{"$f":"IF(AND(D81<>\"\",D83=\"\"),\"←入力してください。\",\"\")","v":""},null,1,null,"電熱器以外総容量",{"$f":"IF(S81=1,0,IF(P63>2,Q62,0)+IF(P71>2,Q70,0)+IF(P79>2,Q78,0)+IF(P87>2,Q86,0))","v":0}]
[null,null,"通電制御・検知制御",null,null,null,null,null,null,null,null,null,"",{"$f":"IF(AND(D81<>\"\",P84=1),\"←選択してください。\",\"\")","v":""},null,1,"入力値算定"]
[null,null,"出力",null,null,null,null,null,null,null,null,null,"",{"$f":"IF(D85=\"\",\"\",IF(ISNUMBER(D85),IF(P85=1,\"←単位を選択してください。\",IF(AND(P85=2,P87=2),\"←単位または力率が間違っています。\",\"\")),\"←数字を入力してください。\"))","v":""},null,1,{"$f":"IF(D86<>\"\",D86,IF(P87=2,D85,IF(P85=2,ROUND(D85*0.933,3),0)))","v":0}]
[null,null,"入力",null,null,"kW",null,null,null,null,null,null,"",{"$f":"IF(OR(D86=\"\",ISNUMBER(D86)),\"\",\"←数字を入力してください。\")","v":""},null,1,{"$f":"IF(Q85*D88=0,\"\",Q85*D88)","v":""}]
[null,null,"力率",null,null,null,null,null,null,null,null,null,"",{"$f":"IF(AND(D81<>\"\",P87=1),\"←選択してください。\",\"\")","v":""},null,1]
[null,null,"台数",null,"台",null,null,null,null,null,null,null,"",{"$f":"IF(AND(D81<>\"\",D88=\"\"),\"←入力してください。\",IF(OR(D88=\"\",ISNUMBER(D88)),\"\",\"←数字を入力してください。\"))","v":""}]
[null,"検知制御装置","メーカー",null,null,null,null,null,null,null,null,null,"",{"$f":"IF(OR(P53=2,P53=3,P53=4,P53=9),IF(D89<>\"\",\"←入力できません。\",\"\"),IF(AND(D90<>\"\",D89=\"\"),\"←入力してください。\",\"\"))","v":""}]
[null,null,"型式",null,null,null,null,null,null,null,null,null,"",{"$f":"IF(OR(P53=2,P53=3,P53=4,P53=9),IF(D90<>\"\",\"←入力できません。\",\"\"),IF(AND(D89<>\"\",D90=\"\"),\"←入力してください。\",\"\"))","v":""},null,1]
[null,null,"種類",null,null,null,null,null,null,null,null,null,"",{"$f":"IF(AND(OR(P53=2,P53=3,P53=4,P53=9),P91>1),\"←選択できません。\",IF(AND(D89<>\"\",P91=1),\"←選択してください。\",\"\"))","v":""},null,1]
[null,"通電遮断パターン",null,null,"時",null,null,"分から",null,null,null,null,"",{"$f":"IF(AND(OR(P53=6,P53>7),OR(D92=\"\",F92=\"\")),\"←入力してください。\",IF(OR(D92=\"\",F92=\"\"),\"\",IF(AND(ISNUMBER(D92),ISNUMBER(F92)),IF(OR(D92<4,AND(D92>7,D92<16),D92>19,MOD(F92,15)<>0,F92<0,F92>59),\"←入力内容が不正です。\",\"\"),\"←数字を入力してください。\")))","v":""},null,1]
[null,null,null,null,null,null,null,null,null,null,null,null,"",{"$f":"IF(AND(OR(P53=6,P53>7),D93=\"\"),\"←入力してください。\",IF(D93=\"\",\"\",IF(ISNUMBER(D93),IF(OR(D93=15,D93=30,D93=1,D93=2),IF(OR(AND(D93=2,P93=3),AND(D93<>2,P93=2),AND(D93>2,P92=2),AND(D93<3,P92=3)),\"←入力・選択内容が不正です。\",\"\"),\"←入力内容が不正です。\"),\"←数字を入力してください。\")))","v":""},null,1]
[null,"最低使用期間開始月",null,null,"月分",null,null,null,null,null,null,null,"",{"$f":"IF(AND(P53>4,D94=\"\"),\"←入力してください。\",IF(D94=\"\",\"\",IF(ISNUMBER(D94),IF(OR(D94<1,D94>12),\"←入力内容が不正です。\",\"\"),\"←数字を入力してください。\")))","v":""}]
[null,"室番号",null,null,null,null,null,null,null,null,null,null,"",{"$f":"IF(AND(P53<>1,D95=\"\"),\"←入力してください。\",\"\")","v":""}]
[null,"契約口数合計",null,null,"口",null,null,null,null,null,null,null,"",{"$f":"IF(AND(P53<>1,D96=\"\"),\"←入力してください。\",\"\")","v":""},null,1]
["Ｃパターン","契約種別",null,null,null,null,null,null,null,null,null,null,"",{"$f":"IF(AND(P97=1,P98<>1),\"←選択してください。\",\"\")","v":""},null,1]
[null,"供給電気方式・供給電圧",null,null,null,null,null,null,null,null,null,null,"",{"$f":"IF(AND(P97<>1,P98=1),\"←選択してください。\",\"\")","v":""},null,1]
[null,"契約決定方法",null,null,null,null,null,null,null,null,null,null,"",{"$f":"IF(AND(P97<>1,P99=1),\"←選択してください。\",\"\")","v":""},null,1,null,"契約種別表示用"]
[null,"主開閉器の定格電流",null,null,"Ａ",null,null,null,null,null,null,null,"",{"$f":"IF(AND(D100=\"\",P99=2),\"←入力してください。\",IF(OR(D100=\"\",ISNUMBER(D100)),\"\",\"←数字を入力してください。\"))","v":""},null,null,null,{"$f":"IF(P97=2,Q6,IF(P97=3,Q7,IF(P97=4,Q8,IF(P97=5,Q9,IF(P97=6,Q10,IF(P97=7,Q11,IF(P97=8,Q12,IF(P97=9,Q13,\"\"))))))))","v":""}]
[null,"契約負荷\n設備内訳１","機器種別",null,null,null,null,null,null,null,null,null,"",{"$f":"IF(AND(P97<>1,D108=\"\",D116=\"\",D124=\"\",D132=\"\"),\"←契約負荷設備の内訳を入力してください。\",\"\")","v":""},null,null,null,{"$f":"IF(P97=10,Q14,R100)","v":""}]
[null,null,"メーカー",null,null,null,null,null,null,null,null,null,"",{"$f":"IF(AND(D101<>\"\",D102=\"\"),\"←入力してください。\",\"\")","v":""},null,null,null,"加重平均力率の算定"]
[null,null,"型式",null,null,null,null,null,null,null,null,null,"",{"$f":"IF(AND(D101<>\"\",D103=\"\"),\"←入力してください。\",\"\")","v":""},null,1,null,1,{"$f":"IF(P107=2,Q106,0)+IF(P115=2,Q114,0)+IF(P123=2,Q122,0)+IF(P131=2,Q130,0)","v":0},{"$f":"S103*1","v":0}]
[null,null,"通電制御・検知制御",null,null,null,null,null,null,null,null,null,"",{"$f":"IF(AND(D101<>\"\",P104=1),\"←選択してください。\",\"\")","v":""},null,1,"入力値算定",0.9,{"$f":"IF(P107=3,Q106,0)+IF(P115=3,Q114,0)+IF(P123=3,Q122,0)+IF(P131=3,Q130,0)","v":0},{"$f":"ROUND(S104*0.9,3)","v":0}]
[null,null,"出力",null,null,null,null,null,null,null,null,null,"",{"$f":"IF(D105=\"\",\"\",IF(ISNUMBER(D105),IF(P105=1,\"←単位を選択してください。\",IF(AND(P105=2,P107=2),\"←単位または力率が間違っています。\",\"\")),\"←数字を入力してください。\"))","v":""},null,1,{"$f":"IF(D106<>\"\",D106,IF(P107=2,D105,IF(P105=2,ROUND(D105*0.933,3),0)))","v":0},0.85,{"$f":"IF(P107=4,Q106,0)+IF(P115=4,Q114,0)+IF(P123=4,Q122,0)+IF(P131=4,Q130,0)","v":0},{"$f":"ROUND(S105*0.85,3)","v":0}]
[null,null,"入力",null,null,"kW",null,null,null,null,null,null,"",{"$f":"IF(OR(D106=\"\",ISNUMBER(D106)),\"\",\"←数字を入力してください。\")","v":""},null,1,{"$f":"IF(Q105*D108=0,\"\",Q105*D108)","v":""},0.8,{"$f":"IF(P107=5,Q106,0)+IF(P115=5,Q114,0)+IF(P123=5,Q122,0)+IF(P131=5,Q130,0)","v":0},{"$f":"ROUND(S106*0.8,3)","v":0}]
[null,null,"力率",null,null,null,null,null,null,null,null,null,"",{"$f":"IF(AND(D101<>\"\",P107=1),\"←選択してください。\",\"\")","v":""},null,1,null,"合計",{"$f":"IF(SUM(S103:S106)=0,\"\",ROUND(SUM(T103:T106)/SUM(S103:S106),2))","v":""}]
[null,null,"台数",null,"台",null,null,null,null,null,null,null,"",{"$f":"IF(AND(D101<>\"\",D108=\"\"),\"←入力してください。\",IF(OR(D108=\"\",ISNUMBER(D108)),\"\",\"←数字を入力してください。\"))","v":""},null,null,null,"台数圧縮"]
[null,"契約負荷\n設備内訳２","機器種別",null,null,null,null,null,null,null,null,null,"",null,null,null,null,"最初の2台",{"$f":"IF(V110>1,U110*2,U110+Y110)","v":0},{"$f":"ROUND(S109*1,3)","v":0},"1番目",null,null,null,"2番目",null,null,null,"3番目",null,null,null,"4番目"]
[null,null,"メーカー",null,null,null,null,null,null,null,null,null,"",{"$f":"IF(AND(D109<>\"\",D110=\"\"),\"←入力してください。\",\"\")","v":""},null,null,null,"次の２台",{"$f":"IF(V110>3,U110*2,IF(V110=3,U110+Y110,IF(V110=2,IF(Z110>1,Y110*2,Y110+AC110),IF(Z110>2,Y110*2,IF(Z110=2,Y110+AC110,IF(Z110=1,IF(AD110>1,AC110*2,AC110+AG110)))))))","v":0},{"$f":"ROUND(S110*0.95,3)","v":0},{"$f":"MAX(U111:X114)","v":0},{"$f":"COUNTIF(U111:X114,U110)","v":16},null,null,{"$f":"MAX(Y111:AB114)+U110","v":-100},{"$f":"COUNTIF(Y111:AB114,Y110-U110)","v":16},null,null,{"$f":"MAX(AC111:AF114)+Y110","v":-200},{"$f":"COUNTIF(AC111:AF114,AC110-Y110)","v":16},null,null,{"$f":"MAX(AG111:AJ114)+AC110","v":-300},{"$f":"COUNTIF(AG111:AJ114,AG110-AC110)","v":16}]
[null,null,"型式",null,null,null,null,null,null,null,null,null,"",{"$f":"IF(AND(D109<>\"\",D111=\"\"),\"←入力してください。\",\"\")","v":""},null,1,null,"残り",{"$f":"S127-S109-S110","v":0},{"$f":"ROUND(S111*0.9,3)","v":0},{"$f":"IF(P107>2,Q105,0)","v":0},{"$f":"IF(D108>1,U111,0)","v":0},{"$f":"IF(D108>2,U111,0)","v":0},{"$f":"IF(D108>3,U111,0)","v":0},{"$f":"IF(U111-U110=0,-100,U111-U110)","v":-100},{"$f":"IF(V111-U110=0,-100,V111-U110)","v":-100},{"$f":"IF(W111-U110=0,-100,W111-U110)","v":-100},{"$f":"IF(X111-U110=0,-100,X111-U110)","v":-100},{"$f":"IF(Y111-Y110+U110=0,-100,Y111-Y110+U110)","v":-100},{"$f":"IF(Z111-Y110+U110=0,-100,Z111-Y110+U110)","v":-100},{"$f":"IF(AA111-Y110+U110=0,-100,AA111-Y110+U110)","v":-100},{"$f":"IF(AB111-Y110+U110=0,-100,AB111-Y110+U110)","v":-100},{"$f":"IF(AC111-AC110+Y110=0,-100,AC111-AC110+Y110)","v":-100},{"$f":"IF(AD111-AC110+Y110=0,-100,AD111-AC110+Y110)","v":-100},{"$f":"IF(AE111-AC110+Y110=0,-100,AE111-AC110+Y110)","v":-100},{"$f":"IF(AF111-AC110+Y110=0,-100,AF111-AC110+Y110)","v":-100}]
[null,null,"通電制御・検知制御",null,null,null,null,null,null,null,null,null,"",{"$f":"IF(AND(D109<>\"\",P112=1),\"←選択してください。\",\"\")","v":""},null,1,"入力値算定","合計",null,{"$f":"SUM(T109:T111)","v":0},{"$f":"IF(P115>2,Q113,0)","v":0},{"$f":"IF(D116>1,U112,0)","v":0},{"$f":"IF(D116>2,U112,0)","v":0},{"$f":"IF(D116>3,U112,0)","v":0},{"$f":"IF(U112-U110=0,-100,U112-U110)","v":-100},{"$f":"IF(V112-U110=0,-100,V112-U110)","v":-100},{"$f":"IF(W112-U110=0,-100,W112-U110)","v":-100},{"$f":"IF(X112-U110=0,-100,X112-U110)","v":-100},{"$f":"IF(Y112-Y110+U110=0,-100,Y112-Y110+U110)","v":-100},{"$f":"IF(Z112-Y110+U110=0,-100,Z112-Y110+U110)","v":-100},{"$f":"IF(AA112-Y110+U110=0,-100,AA112-Y110+U110)","v":-100},{"$f":"IF(AB112-Y110+U110=0,-100,AB112-Y110+U110)","v":-100},{"$f":"IF(AC112-AC110+Y110=0,-100,AC112-AC110+Y110)","v":-100},{"$f":"IF(AD112-AC110+Y110=0,-100,AD112-AC110+Y110)","v":-100},{"$f":"IF(AE112-$AC110+Y110=0,-100,AE112-AC110+Y110)","v":-100},{"$f":"IF(AF112-AC110+Y110=0,-100,AF112-AC110+Y110)","v":-100}]
[null,null,"出力",null,null,null,null,null,null,null,null,null,"",{"$f":"IF(D113=\"\",\"\",IF(ISNUMBER(D113),IF(P113=1,\"←単位を選択してください。\",IF(AND(P113=2,P115=2),\"←単位または力率が間違っています。\",\"\")),\"←数字を入力してください。\"))","v":""},null,1,{"$f":"IF(D114<>\"\",D114,IF(P115=2,D113,IF(P113=2,ROUND(D113*0.933,3),0)))","v":0},null,null,null,{"$f":"IF(P123>2,Q121,0)","v":0},{"$f":"IF(D124>1,U113,0)","v":0},{"$f":"IF(D124>2,U113,0)","v":0},{"$f":"IF(D124>3,U113,0)","v":0},{"$f":"IF(U113-U110=0,-100,U113-U110)","v":-100},{"$f":"IF(V113-U110=0,-100,V113-U110)","v":-100},{"$f":"IF(W113-U110=0,-100,W113-U110)","v":-100},{"$f":"IF(X113-U110=0,-100,X113-U110)","v":-100},{"$f":"IF(Y113-Y110+U110=0,-100,Y113-Y110+U110)","v":-100},{"$f":"IF(Z113-Y110+U110=0,-100,Z113-Y110+U110)","v":-100},{"$f":"IF(AA113-Y110+U110=0,-100,AA113-Y110+U110)","v":-100},{"$f":"IF(AB113-Y110+U110=0,-100,AB113-Y110+U110)","v":-100},{"$f":"IF(AC113-AC110+Y110=0,-100,AC113-AC110+Y110)","v":-100},{"$f":"IF(AD113-AC110+Y110=0,-100,AD113-AC110+Y110)","v":-100},{"$f":"IF(AE113-AC110+Y110=0,-100,AE113-AC110+Y110)","v":-100},{"$f":"IF(AF113-AC110+Y110=0,-100,AF113-AC110+Y110)","v":-100}]
[null,null,"入力",null,null,"kW",null,null,null,null,null,null,"",{"$f":"IF(OR(D114=\"\",ISNUMBER(D114)),\"\",\"←数字を入力してください。\")","v":""},null,1,{"$f":"IF(Q113*D116=0,\"\",Q113*D116)","v":""},"容量圧縮",{"$f":"ROUND(IF(T112<6,T112,IF(T112<20,(T112-6)*0.9+6,IF(T112<50,(T112-20)*0.8+6+14*0.9,(T112-50)*0.7+6+14*0.9+30*0.8))),3)+S126","v":0},null,{"$f":"IF(P131>2,Q129,0)","v":0},{"$f":"IF(D132>1,U114,0)","v":0},{"$f":"IF(D132>2,U114,0)","v":0},{"$f":"IF(D132>3,U114,0)","v":0},{"$f":"IF(U114-U110=0,-100,U114-U110)","v":-100},{"$f":"IF(V114-U110=0,-100,V114-U110)","v":-100},{"$f":"IF(W114-U110=0,-100,W114-U110)","v":-100},{"$f":"IF(X114-U110=0,-100,X114-U110)","v":-100},{"$f":"IF(Y114-Y110+U110=0,-100,Y114-Y110+U110)","v":-100},{"$f":"IF(Z114-Y110+U110=0,-100,Z114-Y110+U110)","v":-100},{"$f":"IF(AA114-Y110+U110=0,-100,AA114-Y110+U110)","v":-100},{"$f":"IF(AB114-Y110+U110=0,-100,AB114-Y110+U110)","v":-100},{"$f":"IF(AC114-AC110+Y110=0,-100,AC114-AC110+Y110)","v":-100},{"$f":"IF(AD114-AC110+Y110=0,-100,AD114-AC110+Y110)","v":-100},{"$f":"IF(AE114-AC110+Y110=0,-100,AE114-AC110+Y110)","v":-100},{"$f":"IF(AF114-AC110+Y110=0,-100,AF114-AC110+Y110)","v":-100}]
[null,null,"力率",null,null,null,null,null,null,null,null,null,"",{"$f":"IF(AND(D109<>\"\",P115=1),\"←選択してください。\",\"\")","v":""},null,1]
[null,null,"台数",null,"台",null,null,null,null,null,null,null,"",{"$f":"IF(AND(D109<>\"\",D116=\"\"),\"←入力してください。\",IF(OR(D116=\"\",ISNUMBER(D116)),\"\",\"←数字を入力してください。\"))","v":""},null,null,null,"主開閉器契約",{"$f":"IF(P98=2,D100*100/1000,IF(OR(P98=3,P98=4),D100*200/1000,IF(P98=5,D100*200*1.732/1000,0)))","v":0}]
[null,"契約負荷\n設備内訳３","機器種別",null,null,null,null,null,null,null,null,null,""]
[null,null,"メーカー",null,null,null,null,null,null,null,null,null,"",{"$f":"IF(AND(D117<>\"\",D118=\"\"),\"←入力してください。\",\"\")","v":""},null,null,null,"負荷設備契約自動計算可否確認",{"$f":"IF(S125=1,\"\",S114)","v":0}]
[null,null,"型式",null,null,null,null,null,null,null,null,null,"",{"$f":"IF(AND(D117<>\"\",D119=\"\"),\"←入力してください。\",\"\")","v":""},null,1,null,"加重平均力率自動計算可否確認",{"$f":"IF(OR(AND(P107>1,Q105=0),AND(P115>1,Q113=0),AND(P123>1,Q121=0),AND(P131>1,Q129=0)),\"\",S107)","v":""}]
[null,null,"通電制御・検知制御",null,null,null,null,null,null,null,null,null,"",{"$f":"IF(AND(D117<>\"\",P120=1),\"←選択してください。\",\"\")","v":""},null,1,"入力値算定"]
[null,null,"出力",null,null,null,null,null,null,null,null,null,"",{"$f":"IF(D121=\"\",\"\",IF(ISNUMBER(D121),IF(P121=1,\"←単位を選択してください。\",IF(AND(P121=2,P123=2),\"←単位または力率が間違っています。\",\"\")),\"←数字を入力してください。\"))","v":""},null,1,{"$f":"IF(D122<>\"\",D122,IF(P123=2,D121,IF(P121=2,ROUND(D121*0.933,3),0)))","v":0},"契約電力確定",{"$f":"IF(P99=2,IF(AND(P97>2,P97<6,S116>0,S116<=0.5),0.5,ROUND(S116,0)),IF(P99=3,IF(AND(P97>2,P97<6,S114>0,S114<=0.5),0.5,ROUND(S114,0)),\"\"))","v":""}]
[null,null,"入力",null,null,"kW",null,null,null,null,null,null,"",{"$f":"IF(OR(D122=\"\",ISNUMBER(D122)),\"\",\"←数字を入力してください。\")","v":""},null,1,{"$f":"IF(Q121*D124=0,\"\",Q121*D124)","v":""}]
[null,null,"力率",null,null,null,null,null,null,null,null,null,"",{"$f":"IF(AND(D117<>\"\",P123=1),\"←選択してください。\",\"\")","v":""},null,1,null,"通電制御・検知制御対象率（分子）",{"$f":"IF(P104=2,Q106,0)+IF(P112=2,Q114,0)+IF(P120=2,Q122,0)+IF(P128=2,Q130,0)","v":0}]
[null,null,"台数",null,"台",null,null,null,null,null,null,null,"",{"$f":"IF(AND(D117<>\"\",D124=\"\"),\"←入力してください。\",IF(OR(D124=\"\",ISNUMBER(D124)),\"\",\"←数字を入力してください。\"))","v":""}]
[null,"契約負荷\n設備内訳４","機器種別",null,null,null,null,null,null,null,null,null,"",null,null,null,null,"出力・入力データチェック",{"$f":"IF(OR(AND(Q105=0,D108<>\"\"),AND(Q113=0,D116<>\"\"),AND(Q121=0,D124<>\"\"),AND(Q129=0,D132<>\"\")),1,\"\")","v":""}]
[null,null,"メーカー",null,null,null,null,null,null,null,null,null,"",{"$f":"IF(AND(D125<>\"\",D126=\"\"),\"←入力してください。\",\"\")","v":""},null,null,null,"電熱器総容量",{"$f":"IF(S125=1,0,IF(P107=2,Q106,0)+IF(P115=2,Q114,0)+IF(P123=2,Q122,0)+IF(P131=2,Q130,0))","v":0}]
[null,null,"型式",null,null,null,null,null,null,null,null,null,"",{"$f":"IF(AND(D125<>\"\",D127=\"\"),\"←入力してください。\",\"\")","v":""},null,1,null,"電熱器以外総容量",{"$f":"IF(S125=1,0,IF(P107>2,Q106,0)+IF(P115>2,Q114,0)+IF(P123>2,Q122,0)+IF(P131>2,Q130,0))","v":0}]
[null,null,"通電制御・検知制御",null,null,null,null,null,null,null,null,null,"",{"$f":"IF(AND(D125<>\"\",P128=1),\"←選択してください。\",\"\")","v":""},null,1,"入力値算定"]
[null,null,"出力",null,null,null,null,null,null,null,null,null,"",{"$f":"IF(D129=\"\",\"\",IF(ISNUMBER(D129),IF(P129=1,\"←単位を選択してください。\",IF(AND(P129=2,P131=2),\"←単位または力率が間違っています。\",\"\")),\"←数字を入力してください。\"))","v":""},null,1,{"$f":"IF(D130<>\"\",D130,IF(P131=2,D129,IF(P129=2,ROUND(D129*0.933,3),0)))","v":0}]
[null,null,"入力",null,null,"kW",null,null,null,null,null,null,"",{"$f":"IF(OR(D130=\"\",ISNUMBER(D130)),\"\",\"←数字を入力してください。\")","v":""},null,1,{"$f":"IF(Q129*D132=0,\"\",Q129*D132)","v":""}]
[null,null,"力率",null,null,null,null,null,null,null,null,null,{"$f":"IF(N131=\"\",\"\",N131)","v":""},{"$f":"IF(AND(D125<>\"\",P131=1),\"←選択してください。\",\"\")","v":""},null,1]
[null,null,"台数",null,"台",null,null,null,null,null,null,null,"",{"$f":"IF(AND(D125<>\"\",D132=\"\"),\"←入力してください。\",IF(OR(D132=\"\",ISNUMBER(D132)),\"\",\"←数字を入力してください。\"))","v":""}]
[null,"検知制御装置","メーカー",null,null,null,null,null,null,null,null,null,"",{"$f":"IF(OR(P97=2,P97=3,P97=4,P97=9),IF(D133<>\"\",\"←入力できません。\",\"\"),IF(AND(D134<>\"\",D133=\"\"),\"←入力してください。\",\"\"))","v":""}]
[null,null,"型式",null,null,null,null,null,null,null,null,null,"",{"$f":"IF(OR(P97=2,P97=3,P97=4,P97=9),IF(D134<>\"\",\"←入力できません。\",\"\"),IF(AND(D133<>\"\",D134=\"\"),\"←入力してください。\",\"\"))","v":""},null,1]
[null,null,"種類",null,null,null,null,null,null,null,null,null,"",{"$f":"IF(AND(OR(P97=2,P97=3,P97=4,P97=9),P135>1),\"←選択できません。\",IF(AND(D133<>\"\",P135=1),\"←選択してください。\",\"\"))","v":""},null,1]
[null,"通電遮断パターン",null,null,"時",null,null,"分から",null,null,null,null,"",{"$f":"IF(AND(OR(P97=6,P97>7),OR(D136=\"\",F136=\"\")),\"←入力してください。\",IF(OR(D136=\"\",F136=\"\"),\"\",IF(AND(ISNUMBER(D136),ISNUMBER(F136)),IF(OR(D136<4,AND(D136>7,D136<16),D136>19,MOD(F136,15)<>0,F136<0,F136>59),\"←入力内容が不正です。\",\"\"),\"←数字を入力してください。\")))","v":""},null,1]
[null,null,null,null,null,null,null,null,null,null,null,null,"",{"$f":"IF(AND(OR(P97=6,P97>7),D137=\"\"),\"←入力してください。\",IF(D137=\"\",\"\",IF(ISNUMBER(D137),IF(OR(D137=15,D137=30,D137=1,D137=2),IF(OR(AND(D137=2,P137=3),AND(D137<>2,P137=2),AND(D137>2,P136=2),AND(D137<3,P136=3)),\"←入力・選択内容が不正です。\",\"\"),\"←入力内容が不正です。\"),\"←数字を入力してください。\")))","v":""},null,1]
[null,"最低使用期間開始月",null,null,"月分",null,null,null,null,null,null,null,"",{"$f":"IF(AND(P97>4,D138=\"\"),\"←入力してください。\",IF(D138=\"\",\"\",IF(ISNUMBER(D138),IF(OR(D138<1,D138>12),\"←入力内容が不正です。\",\"\"),\"←数字を入力してください。\")))","v":""}]
[null,"室番号",null,null,null,null,null,null,null,null,null,null,"",{"$f":"IF(AND(P97<>1,D139=\"\"),\"←入力してください。\",\"\")","v":""}]
[null,"契約口数合計",null,null,"口",null,null,null,null,null,null,null,"",{"$f":"IF(AND(P97<>1,D140=\"\"),\"←入力してください。\",\"\")","v":""},null,1]
["Ｄパターン","契約種別",null,null,null,null,null,null,null,null,null,null,"",{"$f":"IF(AND(P141=1,P142<>1),\"←選択してください。\",\"\")","v":""},null,1]
[null,"供給電気方式・供給電圧",null,null,null,null,null,null,null,null,null,null,"",{"$f":"IF(AND(P141<>1,P142=1),\"←選択してください。\",\"\")","v":""},null,1]
[null,"契約決定方法",null,null,null,null,null,null,null,null,null,null,"",{"$f":"IF(AND(P141<>1,P143=1),\"←選択してください。\",\"\")","v":""},null,1,null,"契約種別表示用"]
[null,"主開閉器の定格電流",null,null,"Ａ",null,null,null,null,null,null,null,"",{"$f":"IF(AND(D144=\"\",P143=2),\"←入力してください。\",IF(OR(D144=\"\",ISNUMBER(D144)),\"\",\"←数字を入力してください。\"))","v":""},null,null,null,{"$f":"IF(P141=2,Q6,IF(P141=3,Q7,IF(P141=4,Q8,IF(P141=5,Q9,IF(P141=6,Q10,IF(P141=7,Q11,IF(P141=8,Q12,IF(P141=9,Q13,\"\"))))))))","v":""}]
[null,"契約負荷\n設備内訳１","機器種別",null,null,null,null,null,null,null,null,null,"",{"$f":"IF(AND(P141<>1,D152=\"\",D160=\"\",D168=\"\",D176=\"\"),\"←契約負荷設備の内訳を入力してください。\",\"\")","v":""},null,null,null,{"$f":"IF(P141=10,Q14,R144)","v":""}]
[null,null,"メーカー",null,null,null,null,null,null,null,null,null,"",{"$f":"IF(AND(D145<>\"\",D146=\"\"),\"←入力してください。\",\"\")","v":""},null,null,null,"加重平均力率の算定"]
[null,null,"型式",null,null,null,null,null,null,null,null,null,"",{"$f":"IF(AND(D145<>\"\",D147=\"\"),\"←入力してください。\",\"\")","v":""},null,1,null,1,{"$f":"IF(P151=2,Q150,0)+IF(P159=2,Q158,0)+IF(P167=2,Q166,0)+IF(P175=2,Q174,0)","v":0},{"$f":"S147*1","v":0}]
[null,null,"通電制御・検知制御",null,null,null,null,null,null,null,null,null,"",{"$f":"IF(AND(D145<>\"\",P148=1),\"←選択してください。\",\"\")","v":""},null,1,"入力値算定",0.9,{"$f":"IF(P151=3,Q150,0)+IF(P159=3,Q158,0)+IF(P167=3,Q166,0)+IF(P175=3,Q174,0)","v":0},{"$f":"ROUND(S148*0.9,3)","v":0}]
[null,null,"出力",null,null,null,null,null,null,null,null,null,"",{"$f":"IF(D149=\"\",\"\",IF(ISNUMBER(D149),IF(P149=1,\"←単位を選択してください。\",IF(AND(P149=2,P151=2),\"←単位または力率が間違っています。\",\"\")),\"←数字を入力してください。\"))","v":""},null,1,{"$f":"IF(D150<>\"\",D150,IF(P151=2,D149,IF(P149=2,ROUND(D149*0.933,3),0)))","v":0},0.85,{"$f":"IF(P151=4,Q150,0)+IF(P159=4,Q158,0)+IF(P167=4,Q166,0)+IF(P175=4,Q174,0)","v":0},{"$f":"ROUND(S149*0.85,3)","v":0}]
[null,null,"入力",null,null,"kW",null,null,null,null,null,null,"",{"$f":"IF(OR(D150=\"\",ISNUMBER(D150)),\"\",\"←数字を入力してください。\")","v":""},null,1,{"$f":"IF(Q149*D152=0,\"\",Q149*D152)","v":""},0.8,{"$f":"IF(P151=5,Q150,0)+IF(P159=5,Q158,0)+IF(P167=5,Q166,0)+IF(P175=5,Q174,0)","v":0},{"$f":"ROUND(S150*0.8,3)","v":0}]
[null,null,"力率",null,null,null,null,null,null,null,null,null,"",{"$f":"IF(AND(D145<>\"\",P151=1),\"←選択してください。\",\"\")","v":""},null,1,null,"合計",{"$f":"IF(SUM(S147:S150)=0,\"\",ROUND(SUM(T147:T150)/SUM(S147:S150),2))","v":""}]
[null,null,"台数",null,"台",null,null,null,null,null,null,null,"",{"$f":"IF(AND(D145<>\"\",D152=\"\"),\"←入力してください。\",IF(OR(D152=\"\",ISNUMBER(D152)),\"\",\"←数字を入力してください。\"))","v":""},null,null,null,"台数圧縮"]
[null,"契約負荷\n設備内訳２","機器種別",null,null,null,null,null,null,null,null,null,"",null,null,null,null,"最初の2台",{"$f":"IF(V154>1,U154*2,U154+Y154)","v":0},{"$f":"ROUND(S153*1,3)","v":0},"1番目",null,null,null,"2番目",null,null,null,"3番目",null,null,null,"4番目"]
[null,null,"メーカー",null,null,null,null,null,null,null,null,null,"",{"$f":"IF(AND(D153<>\"\",D154=\"\"),\"←入力してください。\",\"\")","v":""},null,null,null,"次の２台",{"$f":"IF(V154>3,U154*2,IF(V154=3,U154+Y154,IF(V154=2,IF(Z154>1,Y154*2,Y154+AC154),IF(Z154>2,Y154*2,IF(Z154=2,Y154+AC154,IF(Z154=1,IF(AD154>1,AC154*2,AC154+AG154)))))))","v":0},{"$f":"ROUND(S154*0.95,3)","v":0},{"$f":"MAX(U155:X158)","v":0},{"$f":"COUNTIF(U155:X158,U154)","v":16},null,null,{"$f":"MAX(Y155:AB158)+U154","v":-100},{"$f":"COUNTIF(Y155:AB158,Y154-U154)","v":16},null,null,{"$f":"MAX(AC155:AF158)+Y154","v":-200},{"$f":"COUNTIF(AC155:AF158,AC154-Y154)","v":16},null,null,{"$f":"MAX(AG155:AJ158)+AC154","v":-300},{"$f":"COUNTIF(AG155:AJ158,AG154-AC154)","v":16}]
[null,null,"型式",null,null,null,null,null,null,null,null,null,"",{"$f":"IF(AND(D153<>\"\",D155=\"\"),\"←入力してください。\",\"\")","v":""},null,1,null,"残り",{"$f":"S171-S153-S154","v":0},{"$f":"ROUND(S155*0.9,3)","v":0},{"$f":"IF(P151>2,Q149,0)","v":0},{"$f":"IF(D152>1,U155,0)","v":0},{"$f":"IF(D152>2,U155,0)","v":0},{"$f":"IF(D152>3,U155,0)","v":0},{"$f":"IF(U155-U154=0,-100,U155-U154)","v":-100},{"$f":"IF(V155-U154=0,-100,V155-U154)","v":-100},{"$f":"IF(W155-U154=0,-100,W155-U154)","v":-100},{"$f":"IF(X155-U154=0,-100,X155-U154)","v":-100},{"$f":"IF(Y155-Y154+U154=0,-100,Y155-Y154+U154)","v":-100},{"$f":"IF(Z155-Y154+U154=0,-100,Z155-Y154+U154)","v":-100},{"$f":"IF(AA155-Y154+U154=0,-100,AA155-Y154+U154)","v":-100},{"$f":"IF(AB155-Y154+U154=0,-100,AB155-Y154+U154)","v":-100},{"$f":"IF(AC155-AC154+Y154=0,-100,AC155-AC154+Y154)","v":-100},{"$f":"IF(AD155-AC154+Y154=0,-100,AD155-AC154+Y154)","v":-100},{"$f":"IF(AE155-AC154+Y154=0,-100,AE155-AC154+Y154)","v":-100},{"$f":"IF(AF155-AC154+Y154=0,-100,AF155-AC154+Y154)","v":-100}]
[null,null,"通電制御・検知制御",null,null,null,null,null,null,null,null,null,"",{"$f":"IF(AND(D153<>\"\",P156=1),\"←選択してください。\",\"\")","v":""},null,1,"入力値算定","合計",null,{"$f":"SUM(T153:T155)","v":0},{"$f":"IF(P159>2,Q157,0)","v":0},{"$f":"IF(D160>1,U156,0)","v":0},{"$f":"IF(D160>2,U156,0)","v":0},{"$f":"IF(D160>3,U156,0)","v":0},{"$f":"IF(U156-U154=0,-100,U156-U154)","v":-100},{"$f":"IF(V156-U154=0,-100,V156-U154)","v":-100},{"$f":"IF(W156-U154=0,-100,W156-U154)","v":-100},{"$f":"IF(X156-U154=0,-100,X156-U154)","v":-100},{"$f":"IF(Y156-Y154+U154=0,-100,Y156-Y154+U154)","v":-100},{"$f":"IF(Z156-Y154+U154=0,-100,Z156-Y154+U154)","v":-100},{"$f":"IF(AA156-Y154+U154=0,-100,AA156-Y154+U154)","v":-100},{"$f":"IF(AB156-Y154+U154=0,-100,AB156-Y154+U154)","v":-100},{"$f":"IF(AC156-AC154+Y154=0,-100,AC156-AC154+Y154)","v":-100},{"$f":"IF(AD156-AC154+Y154=0,-100,AD156-AC154+Y154)","v":-100},{"$f":"IF(AE156-$AC154+Y154=0,-100,AE156-AC154+Y154)","v":-100},{"$f":"IF(AF156-AC154+Y154=0,-100,AF156-AC154+Y154)","v":-100}]
[null,null,"出力",null,null,null,null,null,null,null,null,null,"",{"$f":"IF(D157=\"\",\"\",IF(ISNUMBER(D157),IF(P157=1,\"←単位を選択してください。\",IF(AND(P157=2,P159=2),\"←単位または力率が間違っています。\",\"\")),\"←数字を入力してください。\"))","v":""},null,1,{"$f":"IF(D158<>\"\",D158,IF(P159=2,D157,IF(P157=2,ROUND(D157*0.933,3),0)))","v":0},null,null,null,{"$f":"IF(P167>2,Q165,0)","v":0},{"$f":"IF(D168>1,U157,0)","v":0},{"$f":"IF(D168>2,U157,0)","v":0},{"$f":"IF(D168>3,U157,0)","v":0},{"$f":"IF(U157-U154=0,-100,U157-U154)","v":-100},{"$f":"IF(V157-U154=0,-100,V157-U154)","v":-100},{"$f":"IF(W157-U154=0,-100,W157-U154)","v":-100},{"$f":"IF(X157-U154=0,-100,X157-U154)","v":-100},{"$f":"IF(Y157-Y154+U154=0,-100,Y157-Y154+U154)","v":-100},{"$f":"IF(Z157-Y154+U154=0,-100,Z157-Y154+U154)","v":-100},{"$f":"IF(AA157-Y154+U154=0,-100,AA157-Y154+U154)","v":-100},{"$f":"IF(AB157-Y154+U154=0,-100,AB157-Y154+U154)","v":-100},{"$f":"IF(AC157-AC154+Y154=0,-100,AC157-AC154+Y154)","v":-100},{"$f":"IF(AD157-AC154+Y154=0,-100,AD157-AC154+Y154)","v":-100},{"$f":"IF(AE157-AC154+Y154=0,-100,AE157-AC154+Y154)","v":-100},{"$f":"IF(AF157-AC154+Y154=0,-100,AF157-AC154+Y154)","v":-100}]
[null,null,"入力",null,null,"kW",null,null,null,null,null,null,"",{"$f":"IF(OR(D158=\"\",ISNUMBER(D158)),\"\",\"←数字を入力してください。\")","v":""},null,1,{"$f":"IF(Q157*D160=0,\"\",Q157*D160)","v":""},"容量圧縮",{"$f":"ROUND(IF(T156<6,T156,IF(T156<20,(T156-6)*0.9+6,IF(T156<50,(T156-20)*0.8+6+14*0.9,(T156-50)*0.7+6+14*0.9+30*0.8))),3)+S170","v":0},null,{"$f":"IF(P175>2,Q173,0)","v":0},{"$f":"IF(D176>1,U158,0)","v":0},{"$f":"IF(D176>2,U158,0)","v":0},{"$f":"IF(D176>3,U158,0)","v":0},{"$f":"IF(U158-U154=0,-100,U158-U154)","v":-100},{"$f":"IF(V158-U154=0,-100,V158-U154)","v":-100},{"$f":"IF(W158-U154=0,-100,W158-U154)","v":-100},{"$f":"IF(X158-U154=0,-100,X158-U154)","v":-100},{"$f":"IF(Y158-Y154+U154=0,-100,Y158-Y154+U154)","v":-100},{"$f":"IF(Z158-Y154+U154=0,-100,Z158-Y154+U154)","v":-100},{"$f":"IF(AA158-Y154+U154=0,-100,AA158-Y154+U154)","v":-100},{"$f":"IF(AB158-Y154+U154=0,-100,AB158-Y154+U154)","v":-100},{"$f":"IF(AC158-AC154+Y154=0,-100,AC158-AC154+Y154)","v":-100},{"$f":"IF(AD158-AC154+Y154=0,-100,AD158-AC154+Y154)","v":-100},{"$f":"IF(AE158-AC154+Y154=0,-100,AE158-AC154+Y154)","v":-100},{"$f":"IF(AF158-AC154+Y154=0,-100,AF158-AC154+Y154)","v":-100}]
[null,null,"力率",null,null,null,null,null,null,null,null,null,"",{"$f":"IF(AND(D153<>\"\",P159=1),\"←選択してください。\",\"\")","v":""},null,1]
[null,null,"台数",null,"台",null,null,null,null,null,null,null,"",{"$f":"IF(AND(D153<>\"\",D160=\"\"),\"←入力してください。\",IF(OR(D160=\"\",ISNUMBER(D160)),\"\",\"←数字を入力してください。\"))","v":""},null,null,null,"主開閉器契約",{"$f":"IF(P142=2,D144*100/1000,IF(OR(P142=3,P142=4),D144*200/1000,IF(P142=5,D144*200*1.732/1000,0)))","v":0}]
[null,"契約負荷\n設備内訳３","機器種別",null,null,null,null,null,null,null,null,null,""]
[null,null,"メーカー",null,null,null,null,null,null,null,null,null,"",{"$f":"IF(AND(D161<>\"\",D162=\"\"),\"←入力してください。\",\"\")","v":""},null,null,null,"負荷設備契約自動計算可否確認",{"$f":"IF(S169=1,\"\",S158)","v":0}]
[null,null,"型式",null,null,null,null,null,null,null,null,null,"",{"$f":"IF(AND(D161<>\"\",D163=\"\"),\"←入力してください。\",\"\")","v":""},null,1,null,"加重平均力率自動計算可否確認",{"$f":"IF(OR(AND(P151>1,Q149=0),AND(P159>1,Q157=0),AND(P167>1,Q165=0),AND(P175>1,Q173=0)),\"\",S151)","v":""}]
[null,null,"通電制御・検知制御",null,null,null,null,null,null,null,null,null,"",{"$f":"IF(AND(D161<>\"\",P164=1),\"←選択してください。\",\"\")","v":""},null,1,"入力値算定"]
[null,null,"出力",null,null,null,null,null,null,null,null,null,"",{"$f":"IF(D165=\"\",\"\",IF(ISNUMBER(D165),IF(P165=1,\"←単位を選択してください。\",IF(AND(P165=2,P167=2),\"←単位または力率が間違っています。\",\"\")),\"←数字を入力してください。\"))","v":""},null,1,{"$f":"IF(D166<>\"\",D166,IF(P167=2,D165,IF(P165=2,ROUND(D165*0.933,3),0)))","v":0},"契約電力確定",{"$f":"IF(P143=2,IF(AND(P141>2,P141<6,S160>0,S160<=0.5),0.5,ROUND(S160,0)),IF(P143=3,IF(AND(P141>2,P141<6,S158>0,S158<=0.5),0.5,ROUND(S158,0)),\"\"))","v":""}]
[null,null,"入力",null,null,"kW",null,null,null,null,null,null,"",{"$f":"IF(OR(D166=\"\",ISNUMBER(D166)),\"\",\"←数字を入力してください。\")","v":""},null,1,{"$f":"IF(Q165*D168=0,\"\",Q165*D168)","v":""}]
[null,null,"力率",null,null,null,null,null,null,null,null,null,"",{"$f":"IF(AND(D161<>\"\",P167=1),\"←選択してください。\",\"\")","v":""},null,1,null,"通電制御・検知制御対象率（分子）",{"$f":"IF(P148=2,Q150,0)+IF(P156=2,Q158,0)+IF(P164=2,Q166,0)+IF(P172=2,Q174,0)","v":0}]
[null,null,"台数",null,"台",null,null,null,null,null,null,null,"",{"$f":"IF(AND(D161<>\"\",D168=\"\"),\"←入力してください。\",IF(OR(D168=\"\",ISNUMBER(D168)),\"\",\"←数字を入力してください。\"))","v":""}]
[null,"契約負荷\n設備内訳４","機器種別",null,null,null,null,null,null,null,null,null,"",null,null,null,null,"出力・入力データチェック",{"$f":"IF(OR(AND(Q149=0,D152<>\"\"),AND(Q157=0,D160<>\"\"),AND(Q165=0,D168<>\"\"),AND(Q173=0,D176<>\"\")),1,\"\")","v":""}]
[null,null,"メーカー",null,null,null,null,null,null,null,null,null,"",{"$f":"IF(AND(D169<>\"\",D170=\"\"),\"←入力してください。\",\"\")","v":""},null,null,null,"電熱器総容量",{"$f":"IF(S169=1,0,IF(P151=2,Q150,0)+IF(P159=2,Q158,0)+IF(P167=2,Q166,0)+IF(P175=2,Q174,0))","v":0}]
[null,null,"型式",null,null,null,null,null,null,null,null,null,"",{"$f":"IF(AND(D169<>\"\",D171=\"\"),\"←入力してください。\",\"\")","v":""},null,1,null,"電熱器以外総容量",{"$f":"IF(S169=1,0,IF(P151>2,Q150,0)+IF(P159>2,Q158,0)+IF(P167>2,Q166,0)+IF(P175>2,Q174,0))","v":0}]
[null,null,"通電制御・検知制御",null,null,null,null,null,null,null,null,null,"",{"$f":"IF(AND(D169<>\"\",P172=1),\"←選択してください。\",\"\")","v":""},null,1,"入力値算定"]
[null,null,"出力",null,null,null,null,null,null,null,null,null,"",{"$f":"IF(D173=\"\",\"\",IF(ISNUMBER(D173),IF(P173=1,\"←単位を選択してください。\",IF(AND(P173=2,P175=2),\"←単位または力率が間違っています。\",\"\")),\"←数字を入力してください。\"))","v":""},null,1,{"$f":"IF(D174<>\"\",D174,IF(P175=2,D173,IF(P173=2,ROUND(D173*0.933,3),0)))","v":0}]
[null,null,"入力",null,null,"kW",null,null,null,null,null,null,"",{"$f":"IF(OR(D174=\"\",ISNUMBER(D174)),\"\",\"←数字を入力してください。\")","v":""},null,1,{"$f":"IF(Q173*D176=0,\"\",Q173*D176)","v":""}]
[null,null,"力率",null,null,null,null,null,null,null,null,null,"",{"$f":"IF(AND(D169<>\"\",P175=1),\"←選択してください。\",\"\")","v":""},null,1]
[null,null,"台数",null,"台",null,null,null,null,null,null,null,"",{"$f":"IF(AND(D169<>\"\",D176=\"\"),\"←入力してください。\",IF(OR(D176=\"\",ISNUMBER(D176)),\"\",\"←数字を入力してください。\"))","v":""}]
[null,"検知制御装置","メーカー",null,null,null,null,null,null,null,null,null,"",{"$f":"IF(OR(P141=2,P141=3,P141=4,P141=9),IF(D177<>\"\",\"←入力できません。\",\"\"),IF(AND(D178<>\"\",D177=\"\"),\"←入力してください。\",\"\"))","v":""}]
[null,null,"型式",null,null,null,null,null,null,null,null,null,"",{"$f":"IF(OR(P141=2,P141=3,P141=4,P141=9),IF(D178<>\"\",\"←入力できません。\",\"\"),IF(AND(D177<>\"\",D178=\"\"),\"←入力してください。\",\"\"))","v":""},null,1]
[null,null,"種類",null,null,null,null,null,null,null,null,null,"",{"$f":"IF(AND(OR(P141=2,P141=3,P141=4,P141=9),P179>1),\"←選択できません。\",IF(AND(D177<>\"\",P179=1),\"←選択してください。\",\"\"))","v":""},null,1]
[null,"通電遮断パターン",null,null,"時",null,null,"分から",null,null,null,null,"",{"$f":"IF(AND(OR(P141=6,P141>7),OR(D180=\"\",F180=\"\")),\"←入力してください。\",IF(OR(D180=\"\",F180=\"\"),\"\",IF(AND(ISNUMBER(D180),ISNUMBER(F180)),IF(OR(D180<4,AND(D180>7,D180<16),D180>19,MOD(F180,15)<>0,F180<0,F180>59),\"←入力内容が不正です。\",\"\"),\"←数字を入力してください。\")))","v":""},null,1]
[null,null,null,null,null,null,null,null,null,null,null,null,"",{"$f":"IF(AND(OR(P141=6,P141>7),D181=\"\"),\"←入力してください。\",IF(D181=\"\",\"\",IF(ISNUMBER(D181),IF(OR(D181=15,D181=30,D181=1,D181=2),IF(OR(AND(D181=2,P181=3),AND(D181<>2,P181=2),AND(D181>2,P180=2),AND(D181<3,P180=3)),\"←入力・選択内容が不正です。\",\"\"),\"←入力内容が不正です。\"),\"←数字を入力してください。\")))","v":""},null,1]
[null,"最低使用期間開始月",null,null,"月分",null,null,null,null,null,null,null,"",{"$f":"IF(AND(P141>4,D182=\"\"),\"←入力してください。\",IF(D182=\"\",\"\",IF(ISNUMBER(D182),IF(OR(D182<1,D182>12),\"←入力内容が不正です。\",\"\"),\"←数字を入力してください。\")))","v":""}]
[null,"室番号",null,null,null,null,null,null,null,null,null,null,"",{"$f":"IF(AND(P141<>1,D183=\"\"),\"←入力してください。\",\"\")","v":""}]
[null,"契約口数合計",null,null,"口",null,null,null,null,null,null,null,"",{"$f":"IF(AND(P141<>1,D184=\"\"),\"←入力してください。\",\"\")","v":""},null,1]
["Ｅパターン","契約種別",null,null,null,null,null,null,null,null,null,null,"",{"$f":"IF(AND(P185=1,P186<>1),\"←選択してください。\",\"\")","v":""},null,1]
[null,"供給電気方式・供給電圧",null,null,null,null,null,null,null,null,null,null,"",{"$f":"IF(AND(P185<>1,P186=1),\"←選択してください。\",\"\")","v":""},null,1]
[null,"契約決定方法",null,null,null,null,null,null,null,null,null,null,"",{"$f":"IF(AND(P185<>1,P187=1),\"←選択してください。\",\"\")","v":""},null,1,null,"契約種別表示用"]
[null,"主開閉器の定格電流",null,null,"Ａ",null,null,null,null,null,null,null,"",{"$f":"IF(AND(D188=\"\",P187=2),\"←入力してください。\",IF(OR(D188=\"\",ISNUMBER(D188)),\"\",\"←数字を入力してください。\"))","v":""},null,null,null,{"$f":"IF(P185=2,Q6,IF(P185=3,Q7,IF(P185=4,Q8,IF(P185=5,Q9,IF(P185=6,Q10,IF(P185=7,Q11,IF(P185=8,Q12,IF(P185=9,Q13,\"\"))))))))","v":""}]
[null,"契約負荷\n設備内訳１","機器種別",null,null,null,null,null,null,null,null,null,"",{"$f":"IF(AND(P185<>1,D196=\"\",D204=\"\",D212=\"\",D220=\"\"),\"←契約負荷設備の内訳を入力してください。\",\"\")","v":""},null,null,null,{"$f":"IF(P185=10,Q14,R188)","v":""}]
[null,null,"メーカー",null,null,null,null,null,null,null,null,null,"",{"$f":"IF(AND(D189<>\"\",D190=\"\"),\"←入力してください。\",\"\")","v":""},null,null,null,"加重平均力率の算定"]
[null,null,"型式",null,null,null,null,null,null,null,null,null,"",{"$f":"IF(AND(D189<>\"\",D191=\"\"),\"←入力してください。\",\"\")","v":""},null,1,null,1,{"$f":"IF(P195=2,Q194,0)+IF(P203=2,Q202,0)+IF(P211=2,Q210,0)+IF(P219=2,Q218,0)","v":0},{"$f":"S191*1","v":0}]
[null,null,"通電制御・検知制御",null,null,null,null,null,null,null,null,null,"",{"$f":"IF(AND(D189<>\"\",P192=1),\"←選択してください。\",\"\")","v":""},null,1,"入力値算定",0.9,{"$f":"IF(P195=3,Q194,0)+IF(P203=3,Q202,0)+IF(P211=3,Q210,0)+IF(P219=3,Q218,0)","v":0},{"$f":"ROUND(S192*0.9,3)","v":0}]
[null,null,"出力",null,null,null,null,null,null,null,null,null,"",{"$f":"IF(D193=\"\",\"\",IF(ISNUMBER(D193),IF(P193=1,\"←単位を選択してください。\",IF(AND(P193=2,P195=2),\"←単位または力率が間違っています。\",\"\")),\"←数字を入力してください。\"))","v":""},null,1,{"$f":"IF(D194<>\"\",D194,IF(P195=2,D193,IF(P193=2,ROUND(D193*0.933,3),0)))","v":0},0.85,{"$f":"IF(P195=4,Q194,0)+IF(P203=4,Q202,0)+IF(P211=4,Q210,0)+IF(P219=4,Q218,0)","v":0},{"$f":"ROUND(S193*0.85,3)","v":0}]
[null,null,"入力",null,null,"kW",null,null,null,null,null,null,"",{"$f":"IF(OR(D194=\"\",ISNUMBER(D194)),\"\",\"←数字を入力してください。\")","v":""},null,1,{"$f":"IF(Q193*D196=0,\"\",Q193*D196)","v":""},0.8,{"$f":"IF(P195=5,Q194,0)+IF(P203=5,Q202,0)+IF(P211=5,Q210,0)+IF(P219=5,Q218,0)","v":0},{"$f":"ROUND(S194*0.8,3)","v":0}]
[null,null,"力率",null,null,null,null,null,null,null,null,null,{"$f":"IF(N195=\"\",\"\",N195)","v":""},{"$f":"IF(AND(D189<>\"\",P195=1),\"←選択してください。\",\"\")","v":""},null,1,null,"合計",{"$f":"IF(SUM(S191:S194)=0,\"\",ROUND(SUM(T191:T194)/SUM(S191:S194),2))","v":""}]
[null,null,"台数",null,"台",null,null,null,null,null,null,null,"",{"$f":"IF(AND(D189<>\"\",D196=\"\"),\"←入力してください。\",IF(OR(D196=\"\",ISNUMBER(D196)),\"\",\"←数字を入力してください。\"))","v":""},null,null,null,"台数圧縮"]
[null,"契約負荷\n設備内訳２","機器種別",null,null,null,null,null,null,null,null,null,"",null,null,null,null,"最初の2台",{"$f":"IF(V198>1,U198*2,U198+Y198)","v":0},{"$f":"ROUND(S197*1,3)","v":0},"1番目",null,null,null,"2番目",null,null,null,"3番目",null,null,null,"4番目"]
[null,null,"メーカー",null,null,null,null,null,null,null,null,null,"",{"$f":"IF(AND(D197<>\"\",D198=\"\"),\"←入力してください。\",\"\")","v":""},null,null,null,"次の２台",{"$f":"IF(V198>3,U198*2,IF(V198=3,U198+Y198,IF(V198=2,IF(Z198>1,Y198*2,Y198+AC198),IF(Z198>2,Y198*2,IF(Z198=2,Y198+AC198,IF(Z198=1,IF(AD198>1,AC198*2,AC198+AG198)))))))","v":0},{"$f":"ROUND(S198*0.95,3)","v":0},{"$f":"MAX(U199:X202)","v":0},{"$f":"COUNTIF(U199:X202,U198)","v":16},null,null,{"$f":"MAX(Y199:AB202)+U198","v":-100},{"$f":"COUNTIF(Y199:AB202,Y198-U198)","v":16},null,null,{"$f":"MAX(AC199:AF202)+Y198","v":-200},{"$f":"COUNTIF(AC199:AF202,AC198-Y198)","v":16},null,null,{"$f":"MAX(AG199:AJ202)+AC198","v":-300},{"$f":"COUNTIF(AG199:AJ202,AG198-AC198)","v":16}]
[null,null,"型式",null,null,null,null,null,null,null,null,null,"",{"$f":"IF(AND(D197<>\"\",D199=\"\"),\"←入力してください。\",\"\")","v":""},null,1,null,"残り",{"$f":"S215-S197-S198","v":0},{"$f":"ROUND(S199*0.9,3)","v":0},{"$f":"IF(P195>2,Q193,0)","v":0},{"$f":"IF(D196>1,U199,0)","v":0},{"$f":"IF(D196>2,U199,0)","v":0},{"$f":"IF(D196>3,U199,0)","v":0},{"$f":"IF(U199-U198=0,-100,U199-U198)","v":-100},{"$f":"IF(V199-U198=0,-100,V199-U198)","v":-100},{"$f":"IF(W199-U198=0,-100,W199-U198)","v":-100},{"$f":"IF(X199-U198=0,-100,X199-U198)","v":-100},{"$f":"IF(Y199-Y198+U198=0,-100,Y199-Y198+U198)","v":-100},{"$f":"IF(Z199-Y198+U198=0,-100,Z199-Y198+U198)","v":-100},{"$f":"IF(AA199-Y198+U198=0,-100,AA199-Y198+U198)","v":-100},{"$f":"IF(AB199-Y198+U198=0,-100,AB199-Y198+U198)","v":-100},{"$f":"IF(AC199-AC198+Y198=0,-100,AC199-AC198+Y198)","v":-100},{"$f":"IF(AD199-AC198+Y198=0,-100,AD199-AC198+Y198)","v":-100},{"$f":"IF(AE199-AC198+Y198=0,-100,AE199-AC198+Y198)","v":-100},{"$f":"IF(AF199-AC198+Y198=0,-100,AF199-AC198+Y198)","v":-100}]
[null,null,"通電制御・検知制御",null,null,null,null,null,null,null,null,null,"",{"$f":"IF(AND(D197<>\"\",P200=1),\"←選択してください。\",\"\")","v":""},null,1,"入力値算定","合計",null,{"$f":"SUM(T197:T199)","v":0},{"$f":"IF(P203>2,Q201,0)","v":0},{"$f":"IF(D204>1,U200,0)","v":0},{"$f":"IF(D204>2,U200,0)","v":0},{"$f":"IF(D204>3,U200,0)","v":0},{"$f":"IF(U200-U198=0,-100,U200-U198)","v":-100},{"$f":"IF(V200-U198=0,-100,V200-U198)","v":-100},{"$f":"IF(W200-U198=0,-100,W200-U198)","v":-100},{"$f":"IF(X200-U198=0,-100,X200-U198)","v":-100},{"$f":"IF(Y200-Y198+U198=0,-100,Y200-Y198+U198)","v":-100},{"$f":"IF(Z200-Y198+U198=0,-100,Z200-Y198+U198)","v":-100},{"$f":"IF(AA200-Y198+U198=0,-100,AA200-Y198+U198)","v":-100},{"$f":"IF(AB200-Y198+U198=0,-100,AB200-Y198+U198)","v":-100},{"$f":"IF(AC200-AC198+Y198=0,-100,AC200-AC198+Y198)","v":-100},{"$f":"IF(AD200-AC198+Y198=0,-100,AD200-AC198+Y198)","v":-100},{"$f":"IF(AE200-$AC198+Y198=0,-100,AE200-AC198+Y198)","v":-100},{"$f":"IF(AF200-AC198+Y198=0,-100,AF200-AC198+Y198)","v":-100}]
[null,null,"出力",null,null,null,null,null,null,null,null,null,"",{"$f":"IF(D201=\"\",\"\",IF(ISNUMBER(D201),IF(P201=1,\"←単位を選択してください。\",IF(AND(P201=2,P203=2),\"←単位または力率が間違っています。\",\"\")),\"←数字を入力してください。\"))","v":""},null,1,{"$f":"IF(D202<>\"\",D202,IF(P203=2,D201,IF(P201=2,ROUND(D201*0.933,3),0)))","v":0},null,null,null,{"$f":"IF(P211>2,Q209,0)","v":0},{"$f":"IF(D212>1,U201,0)","v":0},{"$f":"IF(D212>2,U201,0)","v":0},{"$f":"IF(D212>3,U201,0)","v":0},{"$f":"IF(U201-U198=0,-100,U201-U198)","v":-100},{"$f":"IF(V201-U198=0,-100,V201-U198)","v":-100},{"$f":"IF(W201-U198=0,-100,W201-U198)","v":-100},{"$f":"IF(X201-U198=0,-100,X201-U198)","v":-100},{"$f":"IF(Y201-Y198+U198=0,-100,Y201-Y198+U198)","v":-100},{"$f":"IF(Z201-Y198+U198=0,-100,Z201-Y198+U198)","v":-100},{"$f":"IF(AA201-Y198+U198=0,-100,AA201-Y198+U198)","v":-100},{"$f":"IF(AB201-Y198+U198=0,-100,AB201-Y198+U198)","v":-100},{"$f":"IF(AC201-AC198+Y198=0,-100,AC201-AC198+Y198)","v":-100},{"$f":"IF(AD201-AC198+Y198=0,-100,AD201-AC198+Y198)","v":-100},{"$f":"IF(AE201-AC198+Y198=0,-100,AE201-AC198+Y198)","v":-100},{"$f":"IF(AF201-AC198+Y198=0,-100,AF201-AC198+Y198)","v":-100}]
[null,null,"入力",null,null,"kW",null,null,null,null,null,null,"",{"$f":"IF(OR(D202=\"\",ISNUMBER(D202)),\"\",\"←数字を入力してください。\")","v":""},null,1,{"$f":"IF(Q201*D204=0,\"\",Q201*D204)","v":""},"容量圧縮",{"$f":"ROUND(IF(T200<6,T200,IF(T200<20,(T200-6)*0.9+6,IF(T200<50,(T200-20)*0.8+6+14*0.9,(T200-50)*0.7+6+14*0.9+30*0.8))),3)+S214","v":0},null,{"$f":"IF(P219>2,Q217,0)","v":0},{"$f":"IF(D220>1,U202,0)","v":0},{"$f":"IF(D220>2,U202,0)","v":0},{"$f":"IF(D220>3,U202,0)","v":0},{"$f":"IF(U202-U198=0,-100,U202-U198)","v":-100},{"$f":"IF(V202-U198=0,-100,V202-U198)","v":-100},{"$f":"IF(W202-U198=0,-100,W202-U198)","v":-100},{"$f":"IF(X202-U198=0,-100,X202-U198)","v":-100},{"$f":"IF(Y202-Y198+U198=0,-100,Y202-Y198+U198)","v":-100},{"$f":"IF(Z202-Y198+U198=0,-100,Z202-Y198+U198)","v":-100},{"$f":"IF(AA202-Y198+U198=0,-100,AA202-Y198+U198)","v":-100},{"$f":"IF(AB202-Y198+U198=0,-100,AB202-Y198+U198)","v":-100},{"$f":"IF(AC202-AC198+Y198=0,-100,AC202-AC198+Y198)","v":-100},{"$f":"IF(AD202-AC198+Y198=0,-100,AD202-AC198+Y198)","v":-100},{"$f":"IF(AE202-AC198+Y198=0,-100,AE202-AC198+Y198)","v":-100},{"$f":"IF(AF202-AC198+Y198=0,-100,AF202-AC198+Y198)","v":-100}]
[null,null,"力率",null,null,null,null,null,null,null,null,null,"",{"$f":"IF(AND(D197<>\"\",P203=1),\"←選択してください。\",\"\")","v":""},null,1]
[null,null,"台数",null,"台",null,null,null,null,null,null,null,"",{"$f":"IF(AND(D197<>\"\",D204=\"\"),\"←入力してください。\",IF(OR(D204=\"\",ISNUMBER(D204)),\"\",\"←数字を入力してください。\"))","v":""},null,null,null,"主開閉器契約",{"$f":"IF(P186=2,D188*100/1000,IF(OR(P186=3,P186=4),D188*200/1000,IF(P186=5,D188*200*1.732/1000,0)))","v":0}]
[null,"契約負荷\n設備内訳３","機器種別",null,null,null,null,null,null,null,null,null,""]
[null,null,"メーカー",null,null,null,null,null,null,null,null,null,"",{"$f":"IF(AND(D205<>\"\",D206=\"\"),\"←入力してください。\",\"\")","v":""},null,null,null,"負荷設備契約自動計算可否確認",{"$f":"IF(S213=1,\"\",S202)","v":0}]
[null,null,"型式",null,null,null,null,null,null,null,null,null,"",{"$f":"IF(AND(D205<>\"\",D207=\"\"),\"←入力してください。\",\"\")","v":""},null,1,null,"加重平均力率自動計算可否確認",{"$f":"IF(OR(AND(P195>1,Q193=0),AND(P203>1,Q201=0),AND(P211>1,Q209=0),AND(P219>1,Q217=0)),\"\",S195)","v":""}]
[null,null,"通電制御・検知制御",null,null,null,null,null,null,null,null,null,"",{"$f":"IF(AND(D205<>\"\",P208=1),\"←選択してください。\",\"\")","v":""},null,1,"入力値算定"]
[null,null,"出力",null,null,null,null,null,null,null,null,null,"",{"$f":"IF(D209=\"\",\"\",IF(ISNUMBER(D209),IF(P209=1,\"←単位を選択してください。\",IF(AND(P209=2,P211=2),\"←単位または力率が間違っています。\",\"\")),\"←数字を入力してください。\"))","v":""},null,1,{"$f":"IF(D210<>\"\",D210,IF(P211=2,D209,IF(P209=2,ROUND(D209*0.933,3),0)))","v":0},"契約電力確定",{"$f":"IF(P187=2,IF(AND(P185>2,P185<6,S204>0,S204<=0.5),0.5,ROUND(S204,0)),IF(P187=3,IF(AND(P185>2,P185<6,S202>0,S202<=0.5),0.5,ROUND(S202,0)),\"\"))","v":""}]
[null,null,"入力",null,null,"kW",null,null,null,null,null,null,"",{"$f":"IF(OR(D210=\"\",ISNUMBER(D210)),\"\",\"←数字を入力してください。\")","v":""},null,1,{"$f":"IF(Q209*D212=0,\"\",Q209*D212)","v":""}]
[null,null,"力率",null,null,null,null,null,null,null,null,null,"",{"$f":"IF(AND(D205<>\"\",P211=1),\"←選択してください。\",\"\")","v":""},null,1,null,"通電制御・検知制御対象率（分子）",{"$f":"IF(P192=2,Q194,0)+IF(P200=2,Q202,0)+IF(P208=2,Q210,0)+IF(P216=2,Q218,0)","v":0}]
[null,null,"台数",null,"台",null,null,null,null,null,null,null,"",{"$f":"IF(AND(D205<>\"\",D212=\"\"),\"←入力してください。\",IF(OR(D212=\"\",ISNUMBER(D212)),\"\",\"←数字を入力してください。\"))","v":""}]
[null,"契約負荷\n設備内訳４","機器種別",null,null,null,null,null,null,null,null,null,"",null,null,null,null,"出力・入力データチェック",{"$f":"IF(OR(AND(Q193=0,D196<>\"\"),AND(Q201=0,D204<>\"\"),AND(Q209=0,D212<>\"\"),AND(Q217=0,D220<>\"\")),1,\"\")","v":""}]
[null,null,"メーカー",null,null,null,null,null,null,null,null,null,"",{"$f":"IF(AND(D213<>\"\",D214=\"\"),\"←入力してください。\",\"\")","v":""},null,null,null,"電熱器総容量",{"$f":"IF(S213=1,0,IF(P195=2,Q194,0)+IF(P203=2,Q202,0)+IF(P211=2,Q210,0)+IF(P219=2,Q218,0))","v":0}]
[null,null,"型式",null,null,null,null,null,null,null,null,null,"",{"$f":"IF(AND(D213<>\"\",D215=\"\"),\"←入力してください。\",\"\")","v":""},null,1,null,"電熱器以外総容量",{"$f":"IF(S213=1,0,IF(P195>2,Q194,0)+IF(P203>2,Q202,0)+IF(P211>2,Q210,0)+IF(P219>2,Q218,0))","v":0}]
[null,null,"通電制御・検知制御",null,null,null,null,null,null,null,null,null,"",{"$f":"IF(AND(D213<>\"\",P216=1),\"←選択してください。\",\"\")","v":""},null,1,"入力値算定"]
[null,null,"出力",null,null,null,null,null,null,null,null,null,"",{"$f":"IF(D217=\"\",\"\",IF(ISNUMBER(D217),IF(P217=1,\"←単位を選択してください。\",IF(AND(P217=2,P219=2),\"←単位または力率が間違っています。\",\"\")),\"←数字を入力してください。\"))","v":""},null,1,{"$f":"IF(D218<>\"\",D218,IF(P219=2,D217,IF(P217=2,ROUND(D217*0.933,3),0)))","v":0}]
[null,null,"入力",null,null,"kW",null,null,null,null,null,null,"",{"$f":"IF(OR(D218=\"\",ISNUMBER(D218)),\"\",\"←数字を入力してください。\")","v":""},null,1,{"$f":"IF(Q217*D220=0,\"\",Q217*D220)","v":""}]
[null,null,"力率",null,null,null,null,null,null,null,null,null,"",{"$f":"IF(AND(D213<>\"\",P219=1),\"←選択してください。\",\"\")","v":""},null,1]
[null,null,"台数",null,"台",null,null,null,null,null,null,null,"",{"$f":"IF(AND(D213<>\"\",D220=\"\"),\"←入力してください。\",IF(OR(D220=\"\",ISNUMBER(D220)),\"\",\"←数字を入力してください。\"))","v":""}]
[null,"検知制御装置","メーカー",null,null,null,null,null,null,null,null,null,"",{"$f":"IF(OR(P185=2,P185=3,P185=4,P185=9),IF(D221<>\"\",\"←入力できません。\",\"\"),IF(AND(D222<>\"\",D221=\"\"),\"←入力してください。\",\"\"))","v":""}]
[null,null,"型式",null,null,null,null,null,null,null,null,null,"",{"$f":"IF(OR(P185=2,P185=3,P185=4,P185=9),IF(D222<>\"\",\"←入力できません。\",\"\"),IF(AND(D221<>\"\",D222=\"\"),\"←入力してください。\",\"\"))","v":""},null,1]
[null,null,"種類",null,null,null,null,null,null,null,null,null,"",{"$f":"IF(AND(OR(P185=2,P185=3,P185=4,P185=9),P223>1),\"←選択できません。\",IF(AND(D221<>\"\",P223=1),\"←選択してください。\",\"\"))","v":""},null,1]
[null,"通電遮断パターン",null,null,"時",null,null,"分から",null,null,null,null,"",{"$f":"IF(AND(OR(P185=6,P185>7),OR(D224=\"\",F224=\"\")),\"←入力してください。\",IF(OR(D224=\"\",F224=\"\"),\"\",IF(AND(ISNUMBER(D224),ISNUMBER(F224)),IF(OR(D224<4,AND(D224>7,D224<16),D224>19,MOD(F224,15)<>0,F224<0,F224>59),\"←入力内容が不正です。\",\"\"),\"←数字を入力してください。\")))","v":""},null,1]
[null,null,null,null,null,null,null,null,null,null,null,null,"",{"$f":"IF(AND(OR(P185=6,P185>7),D225=\"\"),\"←入力してください。\",IF(D225=\"\",\"\",IF(ISNUMBER(D225),IF(OR(D225=15,D225=30,D225=1,D225=2),IF(OR(AND(D225=2,P225=3),AND(D225<>2,P225=2),AND(D225>2,P224=2),AND(D225<3,P224=3)),\"←入力・選択内容が不正です。\",\"\"),\"←入力内容が不正です。\"),\"←数字を入力してください。\")))","v":""},null,1]
[null,"最低使用期間開始月",null,null,"月分",null,null,null,null,null,null,null,"",{"$f":"IF(AND(P185>4,D226=\"\"),\"←入力してください。\",IF(D226=\"\",\"\",IF(ISNUMBER(D226),IF(OR(D226<1,D226>12),\"←入力内容が不正です。\",\"\"),\"←数字を入力してください。\")))","v":""}]
[null,"室番号",null,null,null,null,null,null,null,null,null,null,"",{"$f":"IF(AND(P185<>1,D227=\"\"),\"←入力してください。\",\"\")","v":""}]
[null,"契約口数合計",null,null,"口",null,null,null,null,null,null,null,"",{"$f":"IF(AND(P185<>1,D228=\"\"),\"←入力してください。\",\"\")","v":""},null,1]
["Ｆパターン","契約種別",null,null,null,null,null,null,null,null,null,null,"",{"$f":"IF(AND(P229=1,P230<>1),\"←選択してください。\",\"\")","v":""},null,1]
[null,"供給電気方式・供給電圧",null,null,null,null,null,null,null,null,null,null,"",{"$f":"IF(AND(P229<>1,P230=1),\"←選択してください。\",\"\")","v":""},null,1]
[null,"契約決定方法",null,null,null,null,null,null,null,null,null,null,"",{"$f":"IF(AND(P229<>1,P231=1),\"←選択してください。\",\"\")","v":""},null,1,null,"契約種別表示用"]
[null,"主開閉器の定格電流",null,null,"Ａ",null,null,null,null,null,null,null,"",{"$f":"IF(AND(D232=\"\",P231=2),\"←入力してください。\",IF(OR(D232=\"\",ISNUMBER(D232)),\"\",\"←数字を入力してください。\"))","v":""},null,null,null,{"$f":"IF(P229=2,Q6,IF(P229=3,Q7,IF(P229=4,Q8,IF(P229=5,Q9,IF(P229=6,Q10,IF(P229=7,Q11,IF(P229=8,Q12,IF(P229=9,Q13,\"\"))))))))","v":""}]
[null,"契約負荷\n設備内訳１","機器種別",null,null,null,null,null,null,null,null,null,"",{"$f":"IF(AND(P229<>1,D240=\"\",D248=\"\",D256=\"\",D264=\"\"),\"←契約負荷設備の内訳を入力してください。\",\"\")","v":""},null,null,null,{"$f":"IF(P229=10,Q14,R232)","v":""}]
[null,null,"メーカー",null,null,null,null,null,null,null,null,null,"",{"$f":"IF(AND(D233<>\"\",D234=\"\"),\"←入力してください。\",\"\")","v":""},null,null,null,"加重平均力率の算定"]
[null,null,"型式",null,null,null,null,null,null,null,null,null,"",{"$f":"IF(AND(D233<>\"\",D235=\"\"),\"←入力してください。\",\"\")","v":""},null,1,null,1,{"$f":"IF(P239=2,Q238,0)+IF(P247=2,Q246,0)+IF(P255=2,Q254,0)+IF(P263=2,Q262,0)","v":0},{"$f":"S235*1","v":0}]
[null,null,"通電制御・検知制御",null,null,null,null,null,null,null,null,null,"",{"$f":"IF(AND(D233<>\"\",P236=1),\"←選択してください。\",\"\")","v":""},null,1,"入力値算定",0.9,{"$f":"IF(P239=3,Q238,0)+IF(P247=3,Q246,0)+IF(P255=3,Q254,0)+IF(P263=3,Q262,0)","v":0},{"$f":"ROUND(S236*0.9,3)","v":0}]
[null,null,"出力",null,null,null,null,null,null,null,null,null,"",{"$f":"IF(D237=\"\",\"\",IF(ISNUMBER(D237),IF(P237=1,\"←単位を選択してください。\",IF(AND(P237=2,P239=2),\"←単位または力率が間違っています。\",\"\")),\"←数字を入力してください。\"))","v":""},null,1,{"$f":"IF(D238<>\"\",D238,IF(P239=2,D237,IF(P237=2,ROUND(D237*0.933,3),0)))","v":0},0.85,{"$f":"IF(P239=4,Q238,0)+IF(P247=4,Q246,0)+IF(P255=4,Q254,0)+IF(P263=4,Q262,0)","v":0},{"$f":"ROUND(S237*0.85,3)","v":0}]
[null,null,"入力",null,null,"kW",null,null,null,null,null,null,"",{"$f":"IF(OR(D238=\"\",ISNUMBER(D238)),\"\",\"←数字を入力してください。\")","v":""},null,1,{"$f":"IF(Q237*D240=0,\"\",Q237*D240)","v":""},0.8,{"$f":"IF(P239=5,Q238,0)+IF(P247=5,Q246,0)+IF(P255=5,Q254,0)+IF(P263=5,Q262,0)","v":0},{"$f":"ROUND(S238*0.8,3)","v":0}]
[null,null,"力率",null,null,null,null,null,null,null,null,null,"",{"$f":"IF(AND(D233<>\"\",P239=1),\"←選択してください。\",\"\")","v":""},null,1,null,"合計",{"$f":"IF(SUM(S235:S238)=0,\"\",ROUND(SUM(T235:T238)/SUM(S235:S238),2))","v":""}]
[null,null,"台数",null,"台",null,null,null,null,null,null,null,"",{"$f":"IF(AND(D233<>\"\",D240=\"\"),\"←入力してください。\",IF(OR(D240=\"\",ISNUMBER(D240)),\"\",\"←数字を入力してください。\"))","v":""},null,null,null,"台数圧縮"]
[null,"契約負荷\n設備内訳２","機器種別",null,null,null,null,null,null,null,null,null,"",null,null,null,null,"最初の2台",{"$f":"IF(V242>1,U242*2,U242+Y242)","v":0},{"$f":"ROUND(S241*1,3)","v":0},"1番目",null,null,null,"2番目",null,null,null,"3番目",null,null,null,"4番目"]
[null,null,"メーカー",null,null,null,null,null,null,null,null,null,"",{"$f":"IF(AND(D241<>\"\",D242=\"\"),\"←入力してください。\",\"\")","v":""},null,null,null,"次の２台",{"$f":"IF(V242>3,U242*2,IF(V242=3,U242+Y242,IF(V242=2,IF(Z242>1,Y242*2,Y242+AC242),IF(Z242>2,Y242*2,IF(Z242=2,Y242+AC242,IF(Z242=1,IF(AD242>1,AC242*2,AC242+AG242)))))))","v":0},{"$f":"ROUND(S242*0.95,3)","v":0},{"$f":"MAX(U243:X246)","v":0},{"$f":"COUNTIF(U243:X246,U242)","v":16},null,null,{"$f":"MAX(Y243:AB246)+U242","v":-100},{"$f":"COUNTIF(Y243:AB246,Y242-U242)","v":16},null,null,{"$f":"MAX(AC243:AF246)+Y242","v":-200},{"$f":"COUNTIF(AC243:AF246,AC242-Y242)","v":16},null,null,{"$f":"MAX(AG243:AJ246)+AC242","v":-300},{"$f":"COUNTIF(AG243:AJ246,AG242-AC242)","v":16}]
[null,null,"型式",null,null,null,null,null,null,null,null,null,"",{"$f":"IF(AND(D241<>\"\",D243=\"\"),\"←入力してください。\",\"\")","v":""},null,1,null,"残り",{"$f":"S259-S241-S242","v":0},{"$f":"ROUND(S243*0.9,3)","v":0},{"$f":"IF(P239>2,Q237,0)","v":0},{"$f":"IF(D240>1,U243,0)","v":0},{"$f":"IF(D240>2,U243,0)","v":0},{"$f":"IF(D240>3,U243,0)","v":0},{"$f":"IF(U243-U242=0,-100,U243-U242)","v":-100},{"$f":"IF(V243-U242=0,-100,V243-U242)","v":-100},{"$f":"IF(W243-U242=0,-100,W243-U242)","v":-100},{"$f":"IF(X243-U242=0,-100,X243-U242)","v":-100},{"$f":"IF(Y243-Y242+U242=0,-100,Y243-Y242+U242)","v":-100},{"$f":"IF(Z243-Y242+U242=0,-100,Z243-Y242+U242)","v":-100},{"$f":"IF(AA243-Y242+U242=0,-100,AA243-Y242+U242)","v":-100},{"$f":"IF(AB243-Y242+U242=0,-100,AB243-Y242+U242)","v":-100},{"$f":"IF(AC243-AC242+Y242=0,-100,AC243-AC242+Y242)","v":-100},{"$f":"IF(AD243-AC242+Y242=0,-100,AD243-AC242+Y242)","v":-100},{"$f":"IF(AE243-AC242+Y242=0,-100,AE243-AC242+Y242)","v":-100},{"$f":"IF(AF243-AC242+Y242=0,-100,AF243-AC242+Y242)","v":-100}]
[null,null,"通電制御・検知制御",null,null,null,null,null,null,null,null,null,"",{"$f":"IF(AND(D241<>\"\",P244=1),\"←選択してください。\",\"\")","v":""},null,1,"入力値算定","合計",null,{"$f":"SUM(T241:T243)","v":0},{"$f":"IF(P247>2,Q245,0)","v":0},{"$f":"IF(D248>1,U244,0)","v":0},{"$f":"IF(D248>2,U244,0)","v":0},{"$f":"IF(D248>3,U244,0)","v":0},{"$f":"IF(U244-U242=0,-100,U244-U242)","v":-100},{"$f":"IF(V244-U242=0,-100,V244-U242)","v":-100},{"$f":"IF(W244-U242=0,-100,W244-U242)","v":-100},{"$f":"IF(X244-U242=0,-100,X244-U242)","v":-100},{"$f":"IF(Y244-Y242+U242=0,-100,Y244-Y242+U242)","v":-100},{"$f":"IF(Z244-Y242+U242=0,-100,Z244-Y242+U242)","v":-100},{"$f":"IF(AA244-Y242+U242=0,-100,AA244-Y242+U242)","v":-100},{"$f":"IF(AB244-Y242+U242=0,-100,AB244-Y242+U242)","v":-100},{"$f":"IF(AC244-AC242+Y242=0,-100,AC244-AC242+Y242)","v":-100},{"$f":"IF(AD244-AC242+Y242=0,-100,AD244-AC242+Y242)","v":-100},{"$f":"IF(AE244-$AC242+Y242=0,-100,AE244-AC242+Y242)","v":-100},{"$f":"IF(AF244-AC242+Y242=0,-100,AF244-AC242+Y242)","v":-100}]
[null,null,"出力",null,null,null,null,null,null,null,null,null,"",{"$f":"IF(D245=\"\",\"\",IF(ISNUMBER(D245),IF(P245=1,\"←単位を選択してください。\",IF(AND(P245=2,P247=2),\"←単位または力率が間違っています。\",\"\")),\"←数字を入力してください。\"))","v":""},null,1,{"$f":"IF(D246<>\"\",D246,IF(P247=2,D245,IF(P245=2,ROUND(D245*0.933,3),0)))","v":0},null,null,null,{"$f":"IF(P255>2,Q253,0)","v":0},{"$f":"IF(D256>1,U245,0)","v":0},{"$f":"IF(D256>2,U245,0)","v":0},{"$f":"IF(D256>3,U245,0)","v":0},{"$f":"IF(U245-U242=0,-100,U245-U242)","v":-100},{"$f":"IF(V245-U242=0,-100,V245-U242)","v":-100},{"$f":"IF(W245-U242=0,-100,W245-U242)","v":-100},{"$f":"IF(X245-U242=0,-100,X245-U242)","v":-100},{"$f":"IF(Y245-Y242+U242=0,-100,Y245-Y242+U242)","v":-100},{"$f":"IF(Z245-Y242+U242=0,-100,Z245-Y242+U242)","v":-100},{"$f":"IF(AA245-Y242+U242=0,-100,AA245-Y242+U242)","v":-100},{"$f":"IF(AB245-Y242+U242=0,-100,AB245-Y242+U242)","v":-100},{"$f":"IF(AC245-AC242+Y242=0,-100,AC245-AC242+Y242)","v":-100},{"$f":"IF(AD245-AC242+Y242=0,-100,AD245-AC242+Y242)","v":-100},{"$f":"IF(AE245-AC242+Y242=0,-100,AE245-AC242+Y242)","v":-100},{"$f":"IF(AF245-AC242+Y242=0,-100,AF245-AC242+Y242)","v":-100}]
[null,null,"入力",null,null,"kW",null,null,null,null,null,null,"",{"$f":"IF(OR(D246=\"\",ISNUMBER(D246)),\"\",\"←数字を入力してください。\")","v":""},null,1,{"$f":"IF(Q245*D248=0,\"\",Q245*D248)","v":""},"容量圧縮",{"$f":"ROUND(IF(T244<6,T244,IF(T244<20,(T244-6)*0.9+6,IF(T244<50,(T244-20)*0.8+6+14*0.9,(T244-50)*0.7+6+14*0.9+30*0.8))),3)+S258","v":0},null,{"$f":"IF(P263>2,Q261,0)","v":0},{"$f":"IF(D264>1,U246,0)","v":0},{"$f":"IF(D264>2,U246,0)","v":0},{"$f":"IF(D264>3,U246,0)","v":0},{"$f":"IF(U246-U242=0,-100,U246-U242)","v":-100},{"$f":"IF(V246-U242=0,-100,V246-U242)","v":-100},{"$f":"IF(W246-U242=0,-100,W246-U242)","v":-100},{"$f":"IF(X246-U242=0,-100,X246-U242)","v":-100},{"$f":"IF(Y246-Y242+U242=0,-100,Y246-Y242+U242)","v":-100},{"$f":"IF(Z246-Y242+U242=0,-100,Z246-Y242+U242)","v":-100},{"$f":"IF(AA246-Y242+U242=0,-100,AA246-Y242+U242)","v":-100},{"$f":"IF(AB246-Y242+U242=0,-100,AB246-Y242+U242)","v":-100},{"$f":"IF(AC246-AC242+Y242=0,-100,AC246-AC242+Y242)","v":-100},{"$f":"IF(AD246-AC242+Y242=0,-100,AD246-AC242+Y242)","v":-100},{"$f":"IF(AE246-AC242+Y242=0,-100,AE246-AC242+Y242)","v":-100},{"$f":"IF(AF246-AC242+Y242=0,-100,AF246-AC242+Y242)","v":-100}]
[null,null,"力率",null,null,null,null,null,null,null,null,null,"",{"$f":"IF(AND(D241<>\"\",P247=1),\"←選択してください。\",\"\")","v":""},null,1]
[null,null,"台数",null,"台",null,null,null,null,null,null,null,"",{"$f":"IF(AND(D241<>\"\",D248=\"\"),\"←入力してください。\",IF(OR(D248=\"\",ISNUMBER(D248)),\"\",\"←数字を入力してください。\"))","v":""},null,null,null,"主開閉器契約",{"$f":"IF(P230=2,D232*100/1000,IF(OR(P230=3,P230=4),D232*200/1000,IF(P230=5,D232*200*1.732/1000,0)))","v":0}]
[null,"契約負荷\n設備内訳３","機器種別",null,null,null,null,null,null,null,null,null,""]
[null,null,"メーカー",null,null,null,null,null,null,null,null,null,"",{"$f":"IF(AND(D249<>\"\",D250=\"\"),\"←入力してください。\",\"\")","v":""},null,null,null,"負荷設備契約自動計算可否確認",{"$f":"IF(S257=1,\"\",S246)","v":0}]
[null,null,"型式",null,null,null,null,null,null,null,null,null,"",{"$f":"IF(AND(D249<>\"\",D251=\"\"),\"←入力してください。\",\"\")","v":""},null,1,null,"加重平均力率自動計算可否確認",{"$f":"IF(OR(AND(P239>1,Q237=0),AND(P247>1,Q245=0),AND(P255>1,Q253=0),AND(P263>1,Q261=0)),\"\",S239)","v":""}]
[null,null,"通電制御・検知制御",null,null,null,null,null,null,null,null,null,"",{"$f":"IF(AND(D249<>\"\",P252=1),\"←選択してください。\",\"\")","v":""},null,1,"入力値算定"]
[null,null,"出力",null,null,null,null,null,null,null,null,null,"",{"$f":"IF(D253=\"\",\"\",IF(ISNUMBER(D253),IF(P253=1,\"←単位を選択してください。\",IF(AND(P253=2,P255=2),\"←単位または力率が間違っています。\",\"\")),\"←数字を入力してください。\"))","v":""},null,1,{"$f":"IF(D254<>\"\",D254,IF(P255=2,D253,IF(P253=2,ROUND(D253*0.933,3),0)))","v":0},"契約電力確定",{"$f":"IF(P231=2,IF(AND(P229>2,P229<6,S248>0,S248<=0.5),0.5,ROUND(S248,0)),IF(P231=3,IF(AND(P229>2,P229<6,S246>0,S246<=0.5),0.5,ROUND(S246,0)),\"\"))","v":""}]
[null,null,"入力",null,null,"kW",null,null,null,null,null,null,"",{"$f":"IF(OR(D254=\"\",ISNUMBER(D254)),\"\",\"←数字を入力してください。\")","v":""},null,1,{"$f":"IF(Q253*D256=0,\"\",Q253*D256)","v":""}]
[null,null,"力率",null,null,null,null,null,null,null,null,null,"",{"$f":"IF(AND(D249<>\"\",P255=1),\"←選択してください。\",\"\")","v":""},null,1,null,"通電制御・検知制御対象率（分子）",{"$f":"IF(P236=2,Q238,0)+IF(P244=2,Q246,0)+IF(P252=2,Q254,0)+IF(P260=2,Q262,0)","v":0}]
[null,null,"台数",null,"台",null,null,null,null,null,null,null,"",{"$f":"IF(AND(D249<>\"\",D256=\"\"),\"←入力してください。\",IF(OR(D256=\"\",ISNUMBER(D256)),\"\",\"←数字を入力してください。\"))","v":""}]
[null,"契約負荷\n設備内訳４","機器種別",null,null,null,null,null,null,null,null,null,"",null,null,null,null,"出力・入力データチェック",{"$f":"IF(OR(AND(Q237=0,D240<>\"\"),AND(Q245=0,D248<>\"\"),AND(Q253=0,D256<>\"\"),AND(Q261=0,D264<>\"\")),1,\"\")","v":""}]
[null,null,"メーカー",null,null,null,null,null,null,null,null,null,"",{"$f":"IF(AND(D257<>\"\",D258=\"\"),\"←入力してください。\",\"\")","v":""},null,null,null,"電熱器総容量",{"$f":"IF(S257=1,0,IF(P239=2,Q238,0)+IF(P247=2,Q246,0)+IF(P255=2,Q254,0)+IF(P263=2,Q262,0))","v":0}]
[null,null,"型式",null,null,null,null,null,null,null,null,null,{"$f":"IF(N259=\"\",\"\",N259)","v":""},{"$f":"IF(AND(D257<>\"\",D259=\"\"),\"←入力してください。\",\"\")","v":""},null,1,null,"電熱器以外総容量",{"$f":"IF(S257=1,0,IF(P239>2,Q238,0)+IF(P247>2,Q246,0)+IF(P255>2,Q254,0)+IF(P263>2,Q262,0))","v":0}]
[null,null,"通電制御・検知制御",null,null,null,null,null,null,null,null,null,"",{"$f":"IF(AND(D257<>\"\",P260=1),\"←選択してください。\",\"\")","v":""},null,1,"入力値算定"]
[null,null,"出力",null,null,null,null,null,null,null,null,null,"",{"$f":"IF(D261=\"\",\"\",IF(ISNUMBER(D261),IF(P261=1,\"←単位を選択してください。\",IF(AND(P261=2,P263=2),\"←単位または力率が間違っています。\",\"\")),\"←数字を入力してください。\"))","v":""},null,1,{"$f":"IF(D262<>\"\",D262,IF(P263=2,D261,IF(P261=2,ROUND(D261*0.933,3),0)))","v":0}]
[null,null,"入力",null,null,"kW",null,null,null,null,null,null,"",{"$f":"IF(OR(D262=\"\",ISNUMBER(D262)),\"\",\"←数字を入力してください。\")","v":""},null,1,{"$f":"IF(Q261*D264=0,\"\",Q261*D264)","v":""}]
[null,null,"力率",null,null,null,null,null,null,null,null,null,"",{"$f":"IF(AND(D257<>\"\",P263=1),\"←選択してください。\",\"\")","v":""},null,1]
[null,null,"台数",null,"台",null,null,null,null,null,null,null,"",{"$f":"IF(AND(D257<>\"\",D264=\"\"),\"←入力してください。\",IF(OR(D264=\"\",ISNUMBER(D264)),\"\",\"←数字を入力してください。\"))","v":""}]
[null,"検知制御装置","メーカー",null,null,null,null,null,null,null,null,null,"",{"$f":"IF(OR(P229=2,P229=3,P229=4,P229=9),IF(D265<>\"\",\"←入力できません。\",\"\"),IF(AND(D266<>\"\",D265=\"\"),\"←入力してください。\",\"\"))","v":""}]
[null,null,"型式",null,null,null,null,null,null,null,null,null,"",{"$f":"IF(OR(P229=2,P229=3,P229=4,P229=9),IF(D266<>\"\",\"←入力できません。\",\"\"),IF(AND(D265<>\"\",D266=\"\"),\"←入力してください。\",\"\"))","v":""},null,1]
[null,null,"種類",null,null,null,null,null,null,null,null,null,"",{"$f":"IF(AND(OR(P229=2,P229=3,P229=4,P229=9),P267>1),\"←選択できません。\",IF(AND(D265<>\"\",P267=1),\"←選択してください。\",\"\"))","v":""},null,1]
[null,"通電遮断パターン",null,null,"時",null,null,"分から",null,null,null,null,"",{"$f":"IF(AND(OR(P229=6,P229>7),OR(D268=\"\",F268=\"\")),\"←入力してください。\",IF(OR(D268=\"\",F268=\"\"),\"\",IF(AND(ISNUMBER(D268),ISNUMBER(F268)),IF(OR(D268<4,AND(D268>7,D268<16),D268>19,MOD(F268,15)<>0,F268<0,F268>59),\"←入力内容が不正です。\",\"\"),\"←数字を入力してください。\")))","v":""},null,1]
[null,null,null,null,null,null,null,null,null,null,null,null,"",{"$f":"IF(AND(OR(P229=6,P229>7),D269=\"\"),\"←入力してください。\",IF(D269=\"\",\"\",IF(ISNUMBER(D269),IF(OR(D269=15,D269=30,D269=1,D269=2),IF(OR(AND(D269=2,P269=3),AND(D269<>2,P269=2),AND(D269>2,P268=2),AND(D269<3,P268=3)),\"←入力・選択内容が不正です。\",\"\"),\"←入力内容が不正です。\"),\"←数字を入力してください。\")))","v":""},null,1]
[null,"最低使用期間開始月",null,null,"月分",null,null,null,null,null,null,null,"",{"$f":"IF(AND(P229>4,D270=\"\"),\"←入力してください。\",IF(D270=\"\",\"\",IF(ISNUMBER(D270),IF(OR(D270<1,D270>12),\"←入力内容が不正です。\",\"\"),\"←数字を入力してください。\")))","v":""}]
[null,"室番号",null,null,null,null,null,null,null,null,null,null,"",{"$f":"IF(AND(P229<>1,D271=\"\"),\"←入力してください。\",\"\")","v":""}]
[null,"契約口数合計",null,null,"口",null,null,null,null,null,null,null,"",{"$f":"IF(AND(P229<>1,D272=\"\"),\"←入力してください。\",\"\")","v":""}]

{"sheet":"１枚目","index":1,"n_rows":164,"n_cols":110,"rows_kept":164,"cut":false,"hidden":false,"merged":[[1,93,4,109],[58,71,59,72],[58,68,59,70],[60,63,61,67],[60,71,61,72],[72,63,73,67],[60,61,61,62],[70,56,71,62],[60,56,61,60],[62,56,65,61],[72,56,73,60],[70,68,71,72],[72,68,73,70],[72,71,73,72],[67,70,69,72],[38,103,39,107],[38,108,39,110],[30,86,32,90],[36,108,37,110],[36,104,37,107],[36,91,37,103],[26,91,27,110],[28,91,35,110],[36,71,37,72],[44,1,51,5],[44,6,51,9],[44,10,51,12],[58,6,59,16],[56,6,57,16],[56,22,57,36],[58,22,59,36],[60,17,61,21],[56,17,57,21],[58,17,59,21],[116,56,119,61],[112,56,113,60],[112,52,113,55],[112,47,113,51],[124,37,125,46],[114,61,115,62],[52,1,61,5],[52,6,53,16],[60,6,61,16],[130,89,133,92],[130,93,133,96],[130,97,133,102],[130,103,133,107],[130,56,131,60],[130,61,131,62],[112,61,113,62],[128,56,129,60],[128,61,129,62],[126,68,127,70],[132,56,133,60],[132,61,133,62],[124,56,125,62],[126,61,127,62],[124,63,125,67],[124,68,125,72],[130,63,131,67],[128,63,129,67],[130,71,131,72],[128,68,129,70],[130,83,133,88],[132,78,133,79],[132,75,133,77],[132,63,133,67],[66,56,69,61],[62,62,65,72],[76,71,77,72],[76,68,77,70],[76,63,77,67],[128,83,129,102],[98,42,105,55],[92,47,93,51],[90,56,91,60],[90,61,91,62],[108,56,109,60],[108,52,109,55],[98,56,101,61],[102,56,105,61],[90,52,91,55],[74,52,75,55],[74,47,75,51],[106,47,107,55],[106,63,107,67],[126,56,127,60],[114,56,115,60],[114,63,115,67],[114,52,115,55],[120,56,123,61],[126,108,127,110],[125,85,127,90],[126,104,127,107],[128,108,129,110],[126,91,127,103],[128,103,129,107],[120,73,122,76],[126,71,127,72],[88,68,89,72],[90,71,91,72],[107,75,109,76],[112,73,113,77],[116,73,117,90],[114,71,115,72],[110,71,111,72],[105,73,106,90],[110,108,111,110],[112,93,115,96],[112,97,115,102],[108,91,109,103],[112,103,115,107],[114,73,115,74],[112,83,115,88],[112,89,115,92],[132,80,133,82],[130,73,131,77],[94,71,95,72],[96,73,97,74],[96,80,97,82],[94,73,95,77],[96,75,97,77],[96,71,97,72],[94,68,95,70],[132,71,133,72],[112,71,113,72],[120,62,123,69],[112,63,113,67],[128,71,129,72],[132,68,133,70],[130,68,131,70],[94,63,95,67],[110,63,111,67],[132,73,133,74],[108,68,109,70],[108,71,109,72],[126,63,127,67],[125,75,127,76],[107,73,109,74],[24,45,25,47],[26,13,33,37],[26,42,33,55],[24,53,25,55],[26,38,33,41],[26,56,29,61],[88,6,89,16],[80,10,87,12],[88,17,89,21],[70,17,71,21],[72,6,73,16],[78,6,79,16],[74,6,75,16],[30,56,33,61],[34,6,35,16],[36,17,37,21],[40,17,41,21],[38,52,39,55],[40,52,41,55],[34,56,35,62],[36,37,37,46],[26,62,29,72],[34,47,35,55],[34,17,35,21],[98,1,105,5],[98,6,105,9],[76,22,77,36],[70,1,79,5],[70,6,71,16],[88,1,97,5],[74,17,75,21],[98,10,105,12],[90,17,91,21],[78,17,79,21],[74,22,75,36],[92,6,93,16],[94,17,95,21],[94,6,95,16],[94,22,95,36],[96,6,97,16],[96,22,97,36],[92,22,93,36],[98,13,105,37],[116,1,123,5],[116,6,123,9],[116,10,123,12],[110,17,111,21],[110,6,111,16],[114,17,115,21],[106,1,115,5],[106,6,107,16],[106,17,107,21],[108,6,109,16],[116,13,123,37],[114,6,115,16],[114,37,115,46],[116,38,123,41],[106,22,107,36],[112,22,113,36],[110,22,111,36],[112,6,113,16],[112,17,113,21],[114,22,115,36],[108,17,109,21],[108,22,109,36],[108,37,109,46],[116,42,123,55],[62,1,69,5],[62,6,69,9],[62,10,69,12],[90,6,91,16],[80,13,87,37],[80,6,87,9],[72,17,73,21],[80,1,87,5],[76,6,77,16],[76,17,77,21],[88,22,89,36],[72,37,73,46],[74,37,75,46],[76,37,77,46],[78,37,79,46],[80,38,87,41],[62,38,69,41],[80,42,87,55],[72,52,73,55],[78,22,79,36],[76,52,77,55],[72,22,73,36],[70,22,71,36],[90,47,91,51],[35,79,37,82],[34,68,35,72],[38,83,39,102],[33,73,34,90],[38,73,39,82],[30,73,32,76],[30,62,33,69],[30,77,32,85],[35,85,37,90],[35,83,37,84],[28,86,29,90],[35,73,37,74],[35,75,37,76],[35,77,37,78],[6,0,9,110],[17,1,25,5],[14,64,16,68],[17,34,21,63],[22,34,25,38],[23,39,25,44],[23,48,25,52],[14,69,16,84],[24,100,25,102],[24,90,25,99],[14,85,16,89],[24,75,25,89],[11,1,12,25],[13,1,14,38],[17,6,25,33],[24,61,25,63],[23,56,25,60],[17,69,23,74],[17,75,23,110],[24,103,25,103],[24,104,25,108],[24,109,25,110],[24,69,25,74],[17,64,25,68],[26,1,33,5],[26,6,33,9],[26,10,33,12],[40,78,41,82],[40,73,41,77],[34,22,35,36],[34,37,35,46],[28,77,29,85],[31,70,33,72],[34,1,43,5],[40,6,41,16],[38,6,39,16],[38,22,39,36],[40,22,41,36],[42,22,43,36],[40,68,41,70],[40,71,41,72],[26,73,27,90],[42,17,43,21],[36,47,37,51],[36,52,37,55],[42,47,43,51],[42,52,43,55],[40,47,41,51],[42,37,43,46],[38,37,39,46],[42,56,43,60],[42,71,43,72],[36,22,37,36],[42,61,43,62],[36,56,37,60],[38,56,39,60],[38,47,39,51],[40,63,41,67],[36,61,37,62],[38,61,39,62],[36,63,37,67],[38,68,39,70],[38,63,39,67],[40,61,41,62],[36,68,37,70],[38,71,39,72],[56,61,57,62],[56,63,57,67],[56,71,57,72],[54,22,55,36],[44,13,51,37],[52,17,53,21],[54,6,55,16],[54,17,55,21],[52,22,53,36],[44,42,51,55],[56,47,57,51],[56,52,57,55],[54,63,55,67],[54,47,55,51],[54,52,55,55],[44,56,47,61],[48,62,51,69],[54,61,55,62],[48,56,51,61],[54,56,55,60],[52,47,53,55],[54,68,55,70],[52,63,53,67],[52,56,53,62],[28,73,29,76],[34,63,35,67],[42,6,43,16],[38,17,39,21],[36,6,37,16],[48,77,50,85],[49,70,51,72],[53,75,55,76],[42,63,43,67],[42,78,43,79],[42,68,43,70],[44,62,47,72],[52,68,53,72],[46,77,47,85],[46,73,47,76],[53,77,55,78],[54,71,55,72],[53,73,55,74],[51,73,52,90],[53,79,55,82],[53,83,55,84],[42,80,43,82],[42,73,43,74],[40,56,41,60],[96,17,97,21],[92,17,93,21],[88,56,89,62],[90,22,91,36],[88,37,89,46],[90,37,91,46],[60,73,61,74],[60,68,61,70],[92,37,93,46],[94,37,95,46],[96,37,97,46],[94,52,95,55],[92,56,93,60],[92,61,93,62],[94,61,95,62],[94,56,95,60],[92,52,93,55],[94,47,95,51],[96,56,97,60],[78,47,79,51],[78,52,79,55],[96,47,97,51],[96,52,97,55],[80,56,83,61],[56,68,57,70],[58,78,59,82],[60,80,61,82],[90,63,91,67],[58,56,59,60],[80,62,83,72],[64,77,65,85],[66,73,68,76],[62,73,63,90],[64,86,65,90],[66,77,68,85],[66,86,68,90],[56,56,57,60],[84,56,87,61],[74,61,75,62],[78,56,79,60],[66,62,69,69],[70,63,71,67],[72,61,73,62],[89,75,91,76],[74,71,75,72],[74,68,75,70],[78,68,79,70],[58,61,59,62],[60,52,61,55],[88,63,89,67],[58,63,59,67],[165,0,166,110],[135,103,142,110],[139,1,140,97],[141,1,142,97],[135,101,142,102],[137,1,138,97],[135,1,136,97],[163,0,164,110],[144,1,146,16],[124,1,133,5],[130,6,131,16],[124,22,125,36],[124,47,125,55],[128,22,129,36],[128,47,129,51],[128,52,129,55],[128,37,129,46],[124,6,125,16],[124,17,125,21],[126,22,127,36],[126,47,127,51],[132,47,133,51],[132,52,133,55],[132,37,133,46],[126,37,127,46],[132,6,133,16],[132,17,133,21],[126,6,127,16],[126,17,127,21],[128,6,129,16],[128,17,129,21],[130,22,131,36],[132,22,133,36],[130,17,131,21],[126,52,127,55],[130,47,131,51],[130,52,131,55],[130,37,131,46],[98,38,105,41],[106,37,107,46],[116,62,119,72],[114,47,115,51],[121,70,123,72],[112,68,113,70],[114,68,115,70],[74,63,75,67],[106,68,107,72],[90,68,91,70],[85,70,87,72],[84,62,87,69],[96,68,97,70],[92,68,93,70],[103,70,105,72],[88,47,89,55],[96,63,97,67],[92,63,93,67],[96,61,97,62],[98,62,101,72],[74,56,75,60],[76,56,77,60],[110,37,111,46],[112,37,113,46],[106,56,107,62],[108,63,109,67],[110,56,111,60],[108,61,109,62],[110,47,111,51],[110,52,111,55],[108,47,109,51],[110,61,111,62],[110,68,111,70],[90,104,91,107],[94,108,97,110],[94,93,97,96],[94,97,97,102],[94,89,97,92],[92,108,93,110],[90,91,91,103],[118,91,125,110],[118,73,119,76],[92,103,93,107],[114,78,115,79],[107,77,109,78],[94,103,97,107],[108,104,109,107],[108,108,109,110],[107,83,109,84],[107,85,109,90],[112,108,115,110],[110,103,111,107],[78,71,79,72],[78,63,79,67],[92,71,93,72],[102,62,105,69],[92,83,93,102],[92,73,93,82],[74,73,75,82],[78,78,79,79],[89,73,91,74],[78,75,79,77],[100,77,101,85],[100,86,101,90],[102,86,104,90],[78,61,79,62],[76,61,77,62],[98,91,99,110],[100,91,107,110],[98,73,99,90],[94,83,97,88],[90,108,91,110],[84,77,86,85],[89,85,91,90],[89,77,91,78],[89,79,91,82],[130,78,131,82],[107,79,109,82],[112,78,113,82],[120,77,122,85],[114,80,115,82],[125,77,127,78],[125,79,127,82],[96,78,97,79],[94,78,95,82],[128,73,129,82],[125,83,127,84],[125,73,127,74],[102,73,104,76],[102,77,104,85],[118,77,119,85],[110,73,111,82],[114,75,115,77],[110,83,111,102],[123,73,124,90],[116,91,117,110],[120,86,122,90],[118,86,119,90],[100,73,101,76],[130,108,133,110],[58,73,59,77],[48,73,50,76],[62,91,63,110],[80,73,81,90],[76,83,79,88],[78,80,79,82],[71,79,73,82],[71,83,73,84],[76,78,77,82],[76,97,79,102],[80,91,81,110],[76,73,77,77],[76,89,79,92],[72,108,73,110],[72,104,73,107],[76,108,79,110],[72,91,73,103],[71,85,73,90],[74,103,75,107],[74,83,75,102],[64,73,65,76],[56,73,57,82],[58,83,61,88],[56,103,57,107],[56,108,57,110],[56,83,57,102],[46,86,47,90],[54,91,55,103],[48,86,50,90],[40,93,43,96],[40,97,43,102],[58,103,61,107],[54,108,55,110],[40,108,43,110],[40,83,43,88],[40,89,43,92],[82,91,89,110],[82,73,83,76],[82,77,83,85],[82,86,83,90],[84,73,86,76],[44,91,45,110],[46,91,53,110],[54,104,55,107],[58,89,61,92],[76,103,79,107],[78,73,79,74],[71,77,73,78],[71,75,73,76],[87,73,88,90],[71,73,73,74],[84,86,86,90],[89,83,91,84],[64,91,71,110],[74,108,75,110],[69,73,70,90],[76,93,79,96],[58,93,61,96],[58,108,61,110],[60,75,61,77],[14,90,16,110],[44,38,51,41],[56,37,57,46],[54,37,55,46],[52,37,53,46],[76,47,77,51],[72,47,73,51],[58,47,59,51],[60,37,61,46],[58,37,59,46],[40,37,41,46],[62,13,69,37],[62,42,69,55],[70,37,71,46],[60,22,61,36],[60,47,61,51],[70,47,71,55],[58,52,59,55],[40,103,43,107],[53,85,55,90],[60,78,61,79],[58,97,61,102],[42,75,43,77],[44,73,45,90]]}
[]
[null,null,null,null,null,null,null,null,null,null,null,null,null,null,null,null,null,null,null,null,null,null,null,null,null,null,null,null,null,null,null,null,null,null,null,null,null,null,null,null,null,null,null,null,null,null,null,null,null,null,null,null,null,null,null,null,null,null,null,null,null,null,null,null,null,null,null,null,null,null,null,null,null,null,null,null,null,null,null,null,null,null,null,null,null,null,null,null,null,null,null,null,null,"離島等供給用"]
[]
[]
[]
[]
["（従量制電力）集合住宅専有部分用電気使用申込書（工事会社様控）"]
[]
[]
[]
[]
[null,"北海道電力ネットワーク株式会社　御中"]
[]
[null,"電気の使用について貴社離島等供給約款[低圧用]を承認のうえ申し込みます。"]
[null,null,null,null,null,null,null,null,null,null,null,null,null,null,null,null,null,null,null,null,null,null,null,null,null,null,null,null,null,null,null,null,null,null,null,null,null,null,null,null,null,null,null,null,null,null,null,null,null,null,null,null,null,null,null,null,null,null,null,null,null,null,null,null,"受付扱所名",null,null,null,null,null,null,null,null,null,null,null,null,null,null,null,null,null,null,null,null,"受付№"]
[]
[]
[null,"建物名",null,null,null,null,{"$f":"IF(入力用!D4=\"\",\"\",入力用!D4)","v":""},null,null,null,null,null,null,null,null,null,null,null,null,null,null,null,null,null,null,null,null,null,null,null,null,null,null,null,null,null,null,null,null,null,null,null,null,null,null,null,null,null,null,null,null,null,null,null,null,null,null,null,null,null,null,null,null,null,"電気\n工事\n会社",null,null,null,null," 会社名",null,null,null,null,null,{"$f":"IF(入力用!D6=\"\",\"\",入力用!D6)","v":""}]
[]
[]
[]
[]
[null,null,null,null,null,null,null,null,null,null,null,null,null,null,null,null,null,null,null,null,null,null,null,null,null,null,null,null,null,null,null,null,null,null,"受　電\n希望日"]
[null,null,null,null,null,null,null,null,null,null,null,null,null,null,null,null,null,null,null,null,null,null,null,null,null,null,null,null,null,null,null,null,null,null,null,null,null,null,null,{"$f":"IF(入力用!D5=\"\",\"\",入力用!D5)","v":""},null,null,null,null,null,null,null,null,{"$f":"IF(入力用!F5=\"\",\"\",入力用!F5)","v":""},null,null,null,null,null,null,null,{"$f":"IF(入力用!I5=\"\",\"\",入力用!I5)","v":""}]
[null,null,null,null,null,null,null,null,null,null,null,null,null,null,null,null,null,null,null,null,null,null,null,null,null,null,null,null,null,null,null,null,null,null,null,null,null,null,null,null,null,null,null,null,null,"年",null,null,null,null,null,null,null,"月",null,null,null,null,null,null,null,"日",null,null,null,null,null,null,null,"(担当者)",null,null,null,null,null,{"$f":"IF(入力用!D7=\"\",\"\",入力用!D7)","v":""},null,null,null,null,null,null,null,null,null,null,null,null,null,null,"工事会社№（",null,null,null,null,null,null,null,null,null,{"$f":"IF(入力用!D8=\"\",\"\",入力用!D8)","v":""},null,null,"-",{"$f":"IF(入力用!F8=\"\",\"\",入力用!F8)","v":""},null,null,null,null,")"]
[]
[null,"ﾊﾟﾀｰﾝ\n区 分",null,null,null,null,"A",null,null,null,"契約種別",null,null,{"$f":"入力用!R13","v":""},null,null,null,null,null,null,null,null,null,null,null,null,null,null,null,null,null,null,null,null,null,null,null,null,"供給\n電気\n方式",null,null,null,{"$f":"IF(入力用!P10=2,入力用!R6,IF(入力用!P10=3,入力用!R7,IF(入力用!P10=4,入力用!R8,IF(入力用!P10=5,入力用!R9,\"\"))))","v":""},null,null,null,null,null,null,null,null,null,null,null,null,null,"契約決定\n方　　法",null,null,null,null,null,{"$f":"IF(入力用!P11=2,入力用!S6,IF(入力用!P11=3,入力用!S7,\"\"))","v":""},null,null,null,null,null,null,null,null,null,null,"検知制御装置",null,null,null,null,null,null,null,null,null,null,null,null,null,null,null,null,null,"室　　　番　　　号"]
[]
[null,null,null,null,null,null,null,null,null,null,null,null,null,null,null,null,null,null,null,null,null,null,null,null,null,null,null,null,null,null,null,null,null,null,null,null,null,null,null,null,null,null,null,null,null,null,null,null,null,null,null,null,null,null,null,null,null,null,null,null,null,null,null,null,null,null,null,null,null,null,null,null,null,"メーカー",null,null,null,"型　　式",null,null,null,null,null,null,null,null,"種　類",null,null,null,null,{"$f":"IF(入力用!D51=\"\",\"\",入力用!D51)","v":""}]
[]
[null,null,null,null,null,null,null,null,null,null,null,null,null,null,null,null,null,null,null,null,null,null,null,null,null,null,null,null,null,null,null,null,null,null,null,null,null,null,null,null,null,null,null,null,null,null,null,null,null,null,null,null,null,null,null,null,"主開閉器の\n定格電流",null,null,null,null,null,{"$f":"IF(入力用!D12=\"\",\"\",入力用!D12)","v":""},null,null,null,null,null,null,null,null,null,null,{"$f":"IF(入力用!D45=\"\",\"\",入力用!D45)","v":""},null,null,null,{"$f":"IF(入力用!D46=\"\",\"\",入力用!D46)","v":""},null,null,null,null,null,null,null,null,{"$f":"IF(入力用!P47=2,入力用!W6,IF(入力用!P47=3,入力用!W7,IF(入力用!P47=4,入力用!W8,\"\")))","v":""}]
[null,null,null,null,null,null,null,null,null,null,null,null,null,null,null,null,null,null,null,null,null,null,null,null,null,null,null,null,null,null,null,null,null,null,null,null,null,null,null,null,null,null,null,null,null,null,null,null,null,null,null,null,null,null,null,null,null,null,null,null,null,null,null,null,null,null,null,null,null,null,"Ａ"]
[]
[null,null,null,null,null,null,null,null,null,null,null,null,null,null,null,null,null,null,null,null,null,null,null,null,null,null,null,null,null,null,null,null,null,null,null,null,null,null,null,null,null,null,null,null,null,null,null,null,null,null,null,null,null,null,null,null,null,null,null,null,null,null,null,null,null,null,null,null,null,null,null,null,null,"通電遮断パターン"]
[null,"契約\n負荷\n設備\n内訳",null,null,null,null,"機　器　種　別",null,null,null,null,null,null,null,null,null,null,"メーカー",null,null,null,null,"型　　　　式",null,null,null,null,null,null,null,null,null,null,null,null,null,null,"通電制御・検知制御",null,null,null,null,null,null,null,null,null,"出　力",null,null,null,null,null,null,null,null,"入 力",null,null,null,null,null,null,"力率",null,null,null,null,"台数"]
[null,null,null,null,null,null,null,null,null,null,null,null,null,null,null,null,null,null,null,null,null,null,null,null,null,null,null,null,null,null,null,null,null,null,null,null,null,null,null,null,null,null,null,null,null,null,null,null,null,null,null,null,null,null,null,null,null,null,null,null,null,null,null,null,null,null,null,null,null,null,null,null,null,{"$f":"IF(入力用!D48=\"\",\"\",入力用!D48)","v":""},null,"時",null,{"$f":"IF(入力用!F48=\"\",\"\",IF(入力用!F48=\"0\",\"00\",入力用!F48))","v":""},null,"分から",null,null,null,{"$f":"IF(入力用!D49=\"\",\"\",入力用!D49)","v":""},null,{"$f":"IF(入力用!P48=2,入力用!X6,IF(入力用!P48=3,入力用!X7,\"\"))&IF(入力用!P49=2,入力用!Y6,IF(入力用!P49=3,入力用!Y7,\"\"))","v":""}]
[null,null,null,null,null,null,{"$f":"IF(入力用!D13=\"\",\"\",入力用!D13)","v":""},null,null,null,null,null,null,null,null,null,null,{"$f":"IF(入力用!D14=\"\",\"\",入力用!D14)","v":""},null,null,null,null,{"$f":"IF(入力用!D15=\"\",\"\",入力用!D15)","v":""},null,null,null,null,null,null,null,null,null,null,null,null,null,null,{"$f":"IF(入力用!P16=2,入力用!T6,IF(入力用!P16=3,入力用!T7,\"\"))","v":""},null,null,null,null,null,null,null,null,null,{"$f":"IF(入力用!D17=\"\",\"\",入力用!D17)","v":""},null,null,null,null,{"$f":"IF(入力用!P17=2,入力用!U6,IF(入力用!P17=3,入力用!U7,\"㏋・㎾\"))","v":"㏋・㎾"},null,null,null,{"$f":"IF(入力用!Q17=0,\"\",入力用!Q17)","v":""},null,null,null,null,"㎾",null,{"$f":"IF(入力用!P19=2,入力用!V6,IF(入力用!P19=3,入力用!V7,IF(入力用!P19=4,入力用!V8,IF(入力用!P19=5,入力用!V9,\"\"))))","v":""},null,null,null,null,{"$f":"IF(入力用!D20=\"\",\"\",入力用!D20)","v":""},null,null,"台",null,null,null,null,null,null,null,null,null,null,null,null,null,null,null,null,null,null,null,"契 約 口 数 合 計",null,null,null,null,null,null,null,null,null,null,null,null,{"$f":"IF(入力用!D52=\"\",\"\",入力用!D52)","v":""},null,null,null,"口"]
[]
[null,null,null,null,null,null,{"$f":"IF(入力用!D21=\"\",\"\",入力用!D21)","v":""},null,null,null,null,null,null,null,null,null,null,{"$f":"IF(入力用!D22=\"\",\"\",入力用!D22)","v":""},null,null,null,null,{"$f":"IF(入力用!D23=\"\",\"\",入力用!D23)","v":""},null,null,null,null,null,null,null,null,null,null,null,null,null,null,{"$f":"IF(入力用!P24=2,入力用!T6,IF(入力用!P24=3,入力用!T7,\"\"))","v":""},null,null,null,null,null,null,null,null,null,{"$f":"IF(入力用!D25=\"\",\"\",入力用!D25)","v":""},null,null,null,null,{"$f":"IF(入力用!P25=2,入力用!U6,IF(入力用!P25=3,入力用!U7,\"㏋・㎾\"))","v":"㏋・㎾"},null,null,null,{"$f":"IF(入力用!Q25=0,\"\",入力用!Q25)","v":""},null,null,null,null,"㎾",null,{"$f":"IF(入力用!P27=2,入力用!V6,IF(入力用!P27=3,入力用!V7,IF(入力用!P27=4,入力用!V8,IF(入力用!P27=5,入力用!V9,\"\"))))","v":""},null,null,null,null,{"$f":"IF(入力用!D28=\"\",\"\",入力用!D28)","v":""},null,null,"台",null,"最低使用期間",null,null,null,null,null,null,null,null,null,"通電制御・検知制御割引対象率",null,null,null,null,null,null,null,null,null,null,null,null,null,null,null,null,null,null,null,{"$f":"IF(入力用!S38+入力用!S39=0,\"\",ROUND(入力用!S35/(入力用!S38+入力用!S39),2)*100)","v":""},null,null,null,null,"％"]
[]
[null,null,null,null,null,null,{"$f":"IF(入力用!D29=\"\",\"\",入力用!D29)","v":""},null,null,null,null,null,null,null,null,null,null,{"$f":"IF(入力用!D30=\"\",\"\",入力用!D30)","v":""},null,null,null,null,{"$f":"IF(入力用!D31=\"\",\"\",入力用!D31)","v":""},null,null,null,null,null,null,null,null,null,null,null,null,null,null,{"$f":"IF(入力用!P32=2,入力用!T6,IF(入力用!P32=3,入力用!T7,\"\"))","v":""},null,null,null,null,null,null,null,null,null,{"$f":"IF(入力用!D33=\"\",\"\",入力用!D33)","v":""},null,null,null,null,{"$f":"IF(入力用!P33=2,入力用!U6,IF(入力用!P33=3,入力用!U7,\"㏋・㎾\"))","v":"㏋・㎾"},null,null,null,{"$f":"IF(入力用!Q33=0,\"\",入力用!Q33)","v":""},null,null,null,null,"㎾",null,{"$f":"IF(入力用!P35=2,入力用!V6,IF(入力用!P35=3,入力用!V7,IF(入力用!P35=4,入力用!V8,IF(入力用!P35=5,入力用!V9,\"\"))))","v":""},null,null,null,null,{"$f":"IF(入力用!D36=\"\",\"\",入力用!D36)","v":""},null,null,"台",null,"開始",null,null,null,null,"終了",null,null,null,null,"力率",null,null,null,null,null,"85％",null,null,null,{"$f":"IF(入力用!P11=2,\"超過\",IF(入力用!S19=\"\",\"超過\n未満\",IF(入力用!S19>0.85,\"超過\",IF(入力用!S19=0.85,\"\",\"未満\"))))","v":"超過\n未満"},null,null,null,"契 約\n電 力",null,null,null,null,null,{"$f":"入力用!S33","v":""},null,null,null,null,"kW"]
[]
[null,null,null,null,null,null,{"$f":"IF(入力用!D37=\"\",\"\",入力用!D37)","v":""},null,null,null,null,null,null,null,null,null,null,{"$f":"IF(入力用!D38=\"\",\"\",入力用!D38)","v":""},null,null,null,null,{"$f":"IF(入力用!D39=\"\",\"\",入力用!D39)","v":""},null,null,null,null,null,null,null,null,null,null,null,null,null,null,{"$f":"IF(入力用!P40=2,入力用!T6,IF(入力用!P40=3,入力用!T7,\"\"))","v":""},null,null,null,null,null,null,null,null,null,{"$f":"IF(入力用!D41=\"\",\"\",入力用!D41)","v":""},null,null,null,null,{"$f":"IF(入力用!P41=2,入力用!U6,IF(入力用!P41=3,入力用!U7,\"㏋・㎾\"))","v":"㏋・㎾"},null,null,null,{"$f":"IF(入力用!Q41=0,\"\",入力用!Q41)","v":""},null,null,null,null,"㎾",null,{"$f":"IF(入力用!P43=2,入力用!V6,IF(入力用!P43=3,入力用!V7,IF(入力用!P43=4,入力用!V8,IF(入力用!P43=5,入力用!V9,\"\"))))","v":""},null,null,null,null,{"$f":"IF(入力用!D44=\"\",\"\",入力用!D44)","v":""},null,null,"台",null,{"$f":"IF(入力用!D50=\"\",\"\",入力用!D50)","v":""},null,"月分",null,null,{"$f":"IF(入力用!D50=\"\",\"\",IF(入力用!P9=10,IF(BV43>7,BV43-7,BV43+5),IF(BV43>10,BV43-10,BV43+2)))","v":""},null,"月分"]
[]
[null,"ﾊﾟﾀｰﾝ\n区 分",null,null,null,null,"B",null,null,null,"契約種別",null,null,{"$f":"入力用!R57","v":""},null,null,null,null,null,null,null,null,null,null,null,null,null,null,null,null,null,null,null,null,null,null,null,null,"供給\n電気\n方式",null,null,null,{"$f":"IF(入力用!P54=2,入力用!R6,IF(入力用!P54=3,入力用!R7,IF(入力用!P54=4,入力用!R8,IF(入力用!P54=5,入力用!R9,\"\"))))","v":""},null,null,null,null,null,null,null,null,null,null,null,null,null,"契約決定\n方　　法",null,null,null,null,null,{"$f":"IF(入力用!P55=2,入力用!S6,IF(入力用!P55=3,入力用!S7,\"\"))","v":""},null,null,null,null,null,null,null,null,null,null,"検知制御装置",null,null,null,null,null,null,null,null,null,null,null,null,null,null,null,null,null,"室　　　番　　　号"]
[]
[null,null,null,null,null,null,null,null,null,null,null,null,null,null,null,null,null,null,null,null,null,null,null,null,null,null,null,null,null,null,null,null,null,null,null,null,null,null,null,null,null,null,null,null,null,null,null,null,null,null,null,null,null,null,null,null,null,null,null,null,null,null,null,null,null,null,null,null,null,null,null,null,null,"メーカー",null,null,null,"型　　式",null,null,null,null,null,null,null,null,"種　類",null,null,null,null,{"$f":"IF(入力用!D95=\"\",\"\",入力用!D95)","v":""}]
[]
[null,null,null,null,null,null,null,null,null,null,null,null,null,null,null,null,null,null,null,null,null,null,null,null,null,null,null,null,null,null,null,null,null,null,null,null,null,null,null,null,null,null,null,null,null,null,null,null,null,null,null,null,null,null,null,null,"主開閉器の\n定格電流",null,null,null,null,null,{"$f":"IF(入力用!D56=\"\",\"\",入力用!D56)","v":""},null,null,null,null,null,null,null,null,null,null,{"$f":"IF(入力用!D89=\"\",\"\",入力用!D89)","v":""},null,null,null,{"$f":"IF(入力用!D90=\"\",\"\",入力用!D90)","v":""},null,null,null,null,null,null,null,null,{"$f":"IF(入力用!P91=2,入力用!W6,IF(入力用!P91=3,入力用!W7,IF(入力用!P91=4,入力用!W8,\"\")))","v":""}]
[null,null,null,null,null,null,null,null,null,null,null,null,null,null,null,null,null,null,null,null,null,null,null,null,null,null,null,null,null,null,null,null,null,null,null,null,null,null,null,null,null,null,null,null,null,null,null,null,null,null,null,null,null,null,null,null,null,null,null,null,null,null,null,null,null,null,null,null,null,null,"Ａ"]
[]
[null,null,null,null,null,null,null,null,null,null,null,null,null,null,null,null,null,null,null,null,null,null,null,null,null,null,null,null,null,null,null,null,null,null,null,null,null,null,null,null,null,null,null,null,null,null,null,null,null,null,null,null,null,null,null,null,null,null,null,null,null,null,null,null,null,null,null,null,null,null,null,null,null,"通電遮断パターン"]
[null,"契約\n負荷\n設備\n内訳",null,null,null,null,"機　器　種　別",null,null,null,null,null,null,null,null,null,null,"メーカー",null,null,null,null,"型　　　　式",null,null,null,null,null,null,null,null,null,null,null,null,null,null,"通電制御・検知制御",null,null,null,null,null,null,null,null,null,"出　力",null,null,null,null,null,null,null,null,"入 力",null,null,null,null,null,null,"力率",null,null,null,null,"台数"]
[null,null,null,null,null,null,null,null,null,null,null,null,null,null,null,null,null,null,null,null,null,null,null,null,null,null,null,null,null,null,null,null,null,null,null,null,null,null,null,null,null,null,null,null,null,null,null,null,null,null,null,null,null,null,null,null,null,null,null,null,null,null,null,null,null,null,null,null,null,null,null,null,null,{"$f":"IF(入力用!D92=\"\",\"\",入力用!D92)","v":""},null,"時",null,{"$f":"IF(入力用!F92=\"\",\"\",IF(入力用!F92=\"0\",\"00\",入力用!F92))","v":""},null,"分から",null,null,null,{"$f":"IF(入力用!D93=\"\",\"\",入力用!D93)","v":""},null,{"$f":"IF(入力用!P92=2,入力用!X6,IF(入力用!P92=3,入力用!X7,\"\"))&IF(入力用!P93=2,入力用!Y6,IF(入力用!P93=3,入力用!Y7,\"\"))","v":""}]
[null,null,null,null,null,null,{"$f":"IF(入力用!D57=\"\",\"\",入力用!D57)","v":""},null,null,null,null,null,null,null,null,null,null,{"$f":"IF(入力用!D58=\"\",\"\",入力用!D58)","v":""},null,null,null,null,{"$f":"IF(入力用!D59=\"\",\"\",入力用!D59)","v":""},null,null,null,null,null,null,null,null,null,null,null,null,null,null,{"$f":"IF(入力用!P60=2,入力用!T6,IF(入力用!P60=3,入力用!T7,\"\"))","v":""},null,null,null,null,null,null,null,null,null,{"$f":"IF(入力用!D61=\"\",\"\",入力用!D61)","v":""},null,null,null,null,{"$f":"IF(入力用!P61=2,入力用!U6,IF(入力用!P61=3,入力用!U7,\"㏋・㎾\"))","v":"㏋・㎾"},null,null,null,{"$f":"IF(入力用!Q61=0,\"\",入力用!Q61)","v":""},null,null,null,null,"㎾",null,{"$f":"IF(入力用!P63=2,入力用!V6,IF(入力用!P63=3,入力用!V7,IF(入力用!P63=4,入力用!V8,IF(入力用!P63=5,入力用!V9,\"\"))))","v":""},null,null,null,null,{"$f":"IF(入力用!D64=\"\",\"\",入力用!D64)","v":""},null,null,"台",null,null,null,null,null,null,null,null,null,null,null,null,null,null,null,null,null,null,null,"契 約 口 数 合 計",null,null,null,null,null,null,null,null,null,null,null,null,{"$f":"IF(入力用!D96=\"\",\"\",入力用!D96)","v":""},null,null,null,"口"]
[]
[null,null,null,null,null,null,{"$f":"IF(入力用!D65=\"\",\"\",入力用!D65)","v":""},null,null,null,null,null,null,null,null,null,null,{"$f":"IF(入力用!D66=\"\",\"\",入力用!D66)","v":""},null,null,null,null,{"$f":"IF(入力用!D67=\"\",\"\",入力用!D67)","v":""},null,null,null,null,null,null,null,null,null,null,null,null,null,null,{"$f":"IF(入力用!P68=2,入力用!T6,IF(入力用!P68=3,入力用!T7,\"\"))","v":""},null,null,null,null,null,null,null,null,null,{"$f":"IF(入力用!D69=\"\",\"\",入力用!D69)","v":""},null,null,null,null,{"$f":"IF(入力用!P69=2,入力用!U6,IF(入力用!P69=3,入力用!U7,\"㏋・㎾\"))","v":"㏋・㎾"},null,null,null,{"$f":"IF(入力用!Q69=0,\"\",入力用!Q69)","v":""},null,null,null,null,"㎾",null,{"$f":"IF(入力用!P71=2,入力用!V6,IF(入力用!P71=3,入力用!V7,IF(入力用!P71=4,入力用!V8,IF(入力用!P71=5,入力用!V9,\"\"))))","v":""},null,null,null,null,{"$f":"IF(入力用!D72=\"\",\"\",入力用!D72)","v":""},null,null,"台",null,"最低使用期間",null,null,null,null,null,null,null,null,null,"通電制御・検知制御割引対象率",null,null,null,null,null,null,null,null,null,null,null,null,null,null,null,null,null,null,null,{"$f":"IF(入力用!S82+入力用!S83=0,\"\",ROUND(入力用!S79/(入力用!S82+入力用!S83),2)*100)","v":""},null,null,null,null,"％"]
[]
[null,null,null,null,null,null,{"$f":"IF(入力用!D73=\"\",\"\",入力用!D73)","v":""},null,null,null,null,null,null,null,null,null,null,{"$f":"IF(入力用!D74=\"\",\"\",入力用!D74)","v":""},null,null,null,null,{"$f":"IF(入力用!D75=\"\",\"\",入力用!D75)","v":""},null,null,null,null,null,null,null,null,null,null,null,null,null,null,{"$f":"IF(入力用!P76=2,入力用!T6,IF(入力用!P76=3,入力用!T7,\"\"))","v":""},null,null,null,null,null,null,null,null,null,{"$f":"IF(入力用!D77=\"\",\"\",入力用!D77)","v":""},null,null,null,null,{"$f":"IF(入力用!P77=2,入力用!U6,IF(入力用!P77=3,入力用!U7,\"㏋・㎾\"))","v":"㏋・㎾"},null,null,null,{"$f":"IF(入力用!Q77=0,\"\",入力用!Q77)","v":""},null,null,null,null,"㎾",null,{"$f":"IF(入力用!P79=2,入力用!V6,IF(入力用!P79=3,入力用!V7,IF(入力用!P79=4,入力用!V8,IF(入力用!P79=5,入力用!V9,\"\"))))","v":""},null,null,null,null,{"$f":"IF(入力用!D80=\"\",\"\",入力用!D80)","v":""},null,null,"台",null,"開始",null,null,null,null,"終了",null,null,null,null,"力率",null,null,null,null,null,"85％",null,null,null,{"$f":"IF(入力用!P55=2,\"超過\",IF(入力用!S63=\"\",\"超過\n未満\",IF(入力用!S63>0.85,\"超過\",IF(入力用!S63=0.85,\"\",\"未満\"))))","v":"超過\n未満"},null,null,null,"契 約\n電 力",null,null,null,null,null,{"$f":"入力用!S77","v":""},null,null,null,null,"kW"]
[]
[null,null,null,null,null,null,{"$f":"IF(入力用!D81=\"\",\"\",入力用!D81)","v":""},null,null,null,null,null,null,null,null,null,null,{"$f":"IF(入力用!D82=\"\",\"\",入力用!D82)","v":""},null,null,null,null,{"$f":"IF(入力用!D83=\"\",\"\",入力用!D83)","v":""},null,null,null,null,null,null,null,null,null,null,null,null,null,null,{"$f":"IF(入力用!P84=2,入力用!T6,IF(入力用!P84=3,入力用!T7,\"\"))","v":""},null,null,null,null,null,null,null,null,null,{"$f":"IF(入力用!D85=\"\",\"\",入力用!D85)","v":""},null,null,null,null,{"$f":"IF(入力用!P85=2,入力用!U6,IF(入力用!P85=3,入力用!U7,\"㏋・㎾\"))","v":"㏋・㎾"},null,null,null,{"$f":"IF(入力用!Q85=0,\"\",入力用!Q85)","v":""},null,null,null,null,"㎾",null,{"$f":"IF(入力用!P87=2,入力用!V6,IF(入力用!P87=3,入力用!V7,IF(入力用!P87=4,入力用!V8,IF(入力用!P87=5,入力用!V9,\"\"))))","v":""},null,null,null,null,{"$f":"IF(入力用!D88=\"\",\"\",入力用!D88)","v":""},null,null,"台",null,{"$f":"IF(入力用!D94=\"\",\"\",入力用!D94)","v":""},null,"月分",null,null,{"$f":"IF(入力用!D94=\"\",\"\",IF(入力用!P53=10,IF(BV61>7,BV61-7,BV61+5),IF(BV61>10,BV61-10,BV61+2)))","v":""},null,"月分"]
[]
[null,"ﾊﾟﾀｰﾝ\n区 分",null,null,null,null,"C",null,null,null,"契約種別",null,null,{"$f":"入力用!R101","v":""},null,null,null,null,null,null,null,null,null,null,null,null,null,null,null,null,null,null,null,null,null,null,null,null,"供給\n電気\n方式",null,null,null,{"$f":"IF(入力用!P98=2,入力用!R6,IF(入力用!P98=3,入力用!R7,IF(入力用!P98=4,入力用!R8,IF(入力用!P98=5,入力用!R9,\"\"))))","v":""},null,null,null,null,null,null,null,null,null,null,null,null,null,"契約決定\n方　　法",null,null,null,null,null,{"$f":"IF(入力用!P99=2,入力用!S6,IF(入力用!P99=3,入力用!S7,\"\"))","v":""},null,null,null,null,null,null,null,null,null,null,"検知制御装置",null,null,null,null,null,null,null,null,null,null,null,null,null,null,null,null,null,"室　　　番　　　号"]
[]
[null,null,null,null,null,null,null,null,null,null,null,null,null,null,null,null,null,null,null,null,null,null,null,null,null,null,null,null,null,null,null,null,null,null,null,null,null,null,null,null,null,null,null,null,null,null,null,null,null,null,null,null,null,null,null,null,null,null,null,null,null,null,null,null,null,null,null,null,null,null,null,null,null,"メーカー",null,null,null,"型　　式",null,null,null,null,null,null,null,null,"種　類",null,null,null,null,{"$f":"IF(入力用!D139=\"\",\"\",入力用!D139)","v":""}]
[]
[null,null,null,null,null,null,null,null,null,null,null,null,null,null,null,null,null,null,null,null,null,null,null,null,null,null,null,null,null,null,null,null,null,null,null,null,null,null,null,null,null,null,null,null,null,null,null,null,null,null,null,null,null,null,null,null,"主開閉器の\n定格電流",null,null,null,null,null,{"$f":"IF(入力用!D100=\"\",\"\",入力用!D100)","v":""},null,null,null,null,null,null,null,null,null,null,{"$f":"IF(入力用!D133=\"\",\"\",入力用!D133)","v":""},null,null,null,{"$f":"IF(入力用!D134=\"\",\"\",入力用!D134)","v":""},null,null,null,null,null,null,null,null,{"$f":"IF(入力用!P135=2,入力用!W6,IF(入力用!P135=3,入力用!W7,IF(入力用!P135=4,入力用!W8,\"\")))","v":""}]
[null,null,null,null,null,null,null,null,null,null,null,null,null,null,null,null,null,null,null,null,null,null,null,null,null,null,null,null,null,null,null,null,null,null,null,null,null,null,null,null,null,null,null,null,null,null,null,null,null,null,null,null,null,null,null,null,null,null,null,null,null,null,null,null,null,null,null,null,null,null,"Ａ"]
[]
[null,null,null,null,null,null,null,null,null,null,null,null,null,null,null,null,null,null,null,null,null,null,null,null,null,null,null,null,null,null,null,null,null,null,null,null,null,null,null,null,null,null,null,null,null,null,null,null,null,null,null,null,null,null,null,null,null,null,null,null,null,null,null,null,null,null,null,null,null,null,null,null,null,"通電遮断パターン"]
[null,"契約\n負荷\n設備\n内訳",null,null,null,null,"機　器　種　別",null,null,null,null,null,null,null,null,null,null,"メーカー",null,null,null,null,"型　　　　式",null,null,null,null,null,null,null,null,null,null,null,null,null,null,"通電制御・検知制御",null,null,null,null,null,null,null,null,null,"出　力",null,null,null,null,null,null,null,null,"入 力",null,null,null,null,null,null,"力率",null,null,null,null,"台数"]
[null,null,null,null,null,null,null,null,null,null,null,null,null,null,null,null,null,null,null,null,null,null,null,null,null,null,null,null,null,null,null,null,null,null,null,null,null,null,null,null,null,null,null,null,null,null,null,null,null,null,null,null,null,null,null,null,null,null,null,null,null,null,null,null,null,null,null,null,null,null,null,null,null,{"$f":"IF(入力用!D136=\"\",\"\",入力用!D136)","v":""},null,"時",null,{"$f":"IF(入力用!F136=\"\",\"\",IF(入力用!F136=\"0\",\"00\",入力用!F136))","v":""},null,"分から",null,null,null,{"$f":"IF(入力用!D137=\"\",\"\",入力用!D137)","v":""},null,{"$f":"IF(入力用!P136=2,入力用!X6,IF(入力用!P136=3,入力用!X7,\"\"))&IF(入力用!P137=2,入力用!Y6,IF(入力用!P137=3,入力用!Y7,\"\"))","v":""}]
[null,null,null,null,null,null,{"$f":"IF(入力用!D101=\"\",\"\",入力用!D101)","v":""},null,null,null,null,null,null,null,null,null,null,{"$f":"IF(入力用!D102=\"\",\"\",入力用!D102)","v":""},null,null,null,null,{"$f":"IF(入力用!D103=\"\",\"\",入力用!D103)","v":""},null,null,null,null,null,null,null,null,null,null,null,null,null,null,{"$f":"IF(入力用!P104=2,入力用!T6,IF(入力用!P104=3,入力用!T7,\"\"))","v":""},null,null,null,null,null,null,null,null,null,{"$f":"IF(入力用!D105=\"\",\"\",入力用!D105)","v":""},null,null,null,null,{"$f":"IF(入力用!P105=2,入力用!U6,IF(入力用!P105=3,入力用!U7,\"㏋・㎾\"))","v":"㏋・㎾"},null,null,null,{"$f":"IF(入力用!Q105=0,\"\",入力用!Q105)","v":""},null,null,null,null,"㎾",null,{"$f":"IF(入力用!P107=2,入力用!V6,IF(入力用!P107=3,入力用!V7,IF(入力用!P107=4,入力用!V8,IF(入力用!P107=5,入力用!V9,\"\"))))","v":""},null,null,null,null,{"$f":"IF(入力用!D108=\"\",\"\",入力用!D108)","v":""},null,null,"台",null,null,null,null,null,null,null,null,null,null,null,null,null,null,null,null,null,null,null,"契 約 口 数 合 計",null,null,null,null,null,null,null,null,null,null,null,null,{"$f":"IF(入力用!D140=\"\",\"\",入力用!D140)","v":""},null,null,null,"口"]
[]
[null,null,null,null,null,null,{"$f":"IF(入力用!D109=\"\",\"\",入力用!D109)","v":""},null,null,null,null,null,null,null,null,null,null,{"$f":"IF(入力用!D110=\"\",\"\",入力用!D110)","v":""},null,null,null,null,{"$f":"IF(入力用!D111=\"\",\"\",入力用!D111)","v":""},null,null,null,null,null,null,null,null,null,null,null,null,null,null,{"$f":"IF(入力用!P112=2,入力用!T6,IF(入力用!P112=3,入力用!T7,\"\"))","v":""},null,null,null,null,null,null,null,null,null,{"$f":"IF(入力用!D113=\"\",\"\",入力用!D113)","v":""},null,null,null,null,{"$f":"IF(入力用!P113=2,入力用!U6,IF(入力用!P113=3,入力用!U7,\"㏋・㎾\"))","v":"㏋・㎾"},null,null,null,{"$f":"IF(入力用!Q113=0,\"\",入力用!Q113)","v":""},null,null,null,null,"㎾",null,{"$f":"IF(入力用!P115=2,入力用!V6,IF(入力用!P115=3,入力用!V7,IF(入力用!P115=4,入力用!V8,IF(入力用!P115=5,入力用!V9,\"\"))))","v":""},null,null,null,null,{"$f":"IF(入力用!D116=\"\",\"\",入力用!D116)","v":""},null,null,"台",null,"最低使用期間",null,null,null,null,null,null,null,null,null,"通電制御・検知制御割引対象率",null,null,null,null,null,null,null,null,null,null,null,null,null,null,null,null,null,null,null,{"$f":"IF(入力用!S126+入力用!S127=0,\"\",ROUND(入力用!S123/(入力用!S126+入力用!S127),2)*100)","v":""},null,null,null,null,"％"]
[]
[null,null,null,null,null,null,{"$f":"IF(入力用!D117=\"\",\"\",入力用!D117)","v":""},null,null,null,null,null,null,null,null,null,null,{"$f":"IF(入力用!D118=\"\",\"\",入力用!D118)","v":""},null,null,null,null,{"$f":"IF(入力用!D119=\"\",\"\",入力用!D119)","v":""},null,null,null,null,null,null,null,null,null,null,null,null,null,null,{"$f":"IF(入力用!P120=2,入力用!T6,IF(入力用!P120=3,入力用!T7,\"\"))","v":""},null,null,null,null,null,null,null,null,null,{"$f":"IF(入力用!D121=\"\",\"\",入力用!D121)","v":""},null,null,null,null,{"$f":"IF(入力用!P121=2,入力用!U6,IF(入力用!P121=3,入力用!U7,\"㏋・㎾\"))","v":"㏋・㎾"},null,null,null,{"$f":"IF(入力用!Q121=0,\"\",入力用!Q121)","v":""},null,null,null,null,"㎾",null,{"$f":"IF(入力用!P123=2,入力用!V6,IF(入力用!P123=3,入力用!V7,IF(入力用!P123=4,入力用!V8,IF(入力用!P123=5,入力用!V9,\"\"))))","v":""},null,null,null,null,{"$f":"IF(入力用!D124=\"\",\"\",入力用!D124)","v":""},null,null,"台",null,"開始",null,null,null,null,"終了",null,null,null,null,"力率",null,null,null,null,null,"85％",null,null,null,{"$f":"IF(入力用!P99=2,\"超過\",IF(入力用!S107=\"\",\"超過\n未満\",IF(入力用!S107>0.85,\"超過\",IF(入力用!S107=0.85,\"\",\"未満\"))))","v":"超過\n未満"},null,null,null,"契 約\n電 力",null,null,null,null,null,{"$f":"入力用!S121","v":""},null,null,null,null,"kW"]
[]
[null,null,null,null,null,null,{"$f":"IF(入力用!D125=\"\",\"\",入力用!D125)","v":""},null,null,null,null,null,null,null,null,null,null,{"$f":"IF(入力用!D126=\"\",\"\",入力用!D126)","v":""},null,null,null,null,{"$f":"IF(入力用!D127=\"\",\"\",入力用!D127)","v":""},null,null,null,null,null,null,null,null,null,null,null,null,null,null,{"$f":"IF(入力用!P128=2,入力用!T6,IF(入力用!P128=3,入力用!T7,\"\"))","v":""},null,null,null,null,null,null,null,null,null,{"$f":"IF(入力用!D129=\"\",\"\",入力用!D129)","v":""},null,null,null,null,{"$f":"IF(入力用!P129=2,入力用!U6,IF(入力用!P129=3,入力用!U7,\"㏋・㎾\"))","v":"㏋・㎾"},null,null,null,{"$f":"IF(入力用!Q129=0,\"\",入力用!Q129)","v":""},null,null,null,null,"㎾",null,{"$f":"IF(入力用!P131=2,入力用!V6,IF(入力用!P131=3,入力用!V7,IF(入力用!P131=4,入力用!V8,IF(入力用!P131=5,入力用!V9,\"\"))))","v":""},null,null,null,null,{"$f":"IF(入力用!D132=\"\",\"\",入力用!D132)","v":""},null,null,"台",null,{"$f":"IF(入力用!D138=\"\",\"\",入力用!D138)","v":""},null,"月分",null,null,{"$f":"IF(入力用!D138=\"\",\"\",IF(入力用!P97=10,IF(BV79>7,BV79-7,BV79+5),IF(BV79>10,BV79-10,BV79+2)))","v":""},null,"月分"]
[]
[null,"ﾊﾟﾀｰﾝ\n区 分",null,null,null,null,"D",null,null,null,"契約種別",null,null,{"$f":"入力用!R145","v":""},null,null,null,null,null,null,null,null,null,null,null,null,null,null,null,null,null,null,null,null,null,null,null,null,"供給\n電気\n方式",null,null,null,{"$f":"IF(入力用!P142=2,入力用!R6,IF(入力用!P142=3,入力用!R7,IF(入力用!P142=4,入力用!R8,IF(入力用!P142=5,入力用!R9,\"\"))))","v":""},null,null,null,null,null,null,null,null,null,null,null,null,null,"契約決定\n方　　法",null,null,null,null,null,{"$f":"IF(入力用!P143=2,入力用!S6,IF(入力用!P143=3,入力用!S7,\"\"))","v":""},null,null,null,null,null,null,null,null,null,null,"検知制御装置",null,null,null,null,null,null,null,null,null,null,null,null,null,null,null,null,null,"室　　　番　　　号"]
[]
[null,null,null,null,null,null,null,null,null,null,null,null,null,null,null,null,null,null,null,null,null,null,null,null,null,null,null,null,null,null,null,null,null,null,null,null,null,null,null,null,null,null,null,null,null,null,null,null,null,null,null,null,null,null,null,null,null,null,null,null,null,null,null,null,null,null,null,null,null,null,null,null,null,"メーカー",null,null,null,"型　　式",null,null,null,null,null,null,null,null,"種　類",null,null,null,null,{"$f":"IF(入力用!D183=\"\",\"\",入力用!D183)","v":""}]
[]
[null,null,null,null,null,null,null,null,null,null,null,null,null,null,null,null,null,null,null,null,null,null,null,null,null,null,null,null,null,null,null,null,null,null,null,null,null,null,null,null,null,null,null,null,null,null,null,null,null,null,null,null,null,null,null,null,"主開閉器の\n定格電流",null,null,null,null,null,{"$f":"IF(入力用!D144=\"\",\"\",入力用!D144)","v":""},null,null,null,null,null,null,null,null,null,null,{"$f":"IF(入力用!D177=\"\",\"\",入力用!D177)","v":""},null,null,null,{"$f":"IF(入力用!D178=\"\",\"\",入力用!D178)","v":""},null,null,null,null,null,null,null,null,{"$f":"IF(入力用!P179=2,入力用!W6,IF(入力用!P179=3,入力用!W7,IF(入力用!P179=4,入力用!W8,\"\")))","v":""}]
[null,null,null,null,null,null,null,null,null,null,null,null,null,null,null,null,null,null,null,null,null,null,null,null,null,null,null,null,null,null,null,null,null,null,null,null,null,null,null,null,null,null,null,null,null,null,null,null,null,null,null,null,null,null,null,null,null,null,null,null,null,null,null,null,null,null,null,null,null,null,"Ａ"]
[]
[null,null,null,null,null,null,null,null,null,null,null,null,null,null,null,null,null,null,null,null,null,null,null,null,null,null,null,null,null,null,null,null,null,null,null,null,null,null,null,null,null,null,null,null,null,null,null,null,null,null,null,null,null,null,null,null,null,null,null,null,null,null,null,null,null,null,null,null,null,null,null,null,null,"通電遮断パターン"]
[null,"契約\n負荷\n設備\n内訳",null,null,null,null,"機　器　種　別",null,null,null,null,null,null,null,null,null,null,"メーカー",null,null,null,null,"型　　　　式",null,null,null,null,null,null,null,null,null,null,null,null,null,null,"通電制御・検知制御",null,null,null,null,null,null,null,null,null,"出　力",null,null,null,null,null,null,null,null,"入 力",null,null,null,null,null,null,"力率",null,null,null,null,"台数"]
[null,null,null,null,null,null,null,null,null,null,null,null,null,null,null,null,null,null,null,null,null,null,null,null,null,null,null,null,null,null,null,null,null,null,null,null,null,null,null,null,null,null,null,null,null,null,null,null,null,null,null,null,null,null,null,null,null,null,null,null,null,null,null,null,null,null,null,null,null,null,null,null,null,{"$f":"IF(入力用!D180=\"\",\"\",入力用!D180)","v":""},null,"時",null,{"$f":"IF(入力用!F180=\"\",\"\",IF(入力用!F180=\"0\",\"00\",入力用!F180))","v":""},null,"分から",null,null,null,{"$f":"IF(入力用!D181=\"\",\"\",入力用!D181)","v":""},null,{"$f":"IF(入力用!P180=2,入力用!X6,IF(入力用!P180=3,入力用!X7,\"\"))&IF(入力用!P181=2,入力用!Y6,IF(入力用!P181=3,入力用!Y7,\"\"))","v":""}]
[null,null,null,null,null,null,{"$f":"IF(入力用!D145=\"\",\"\",入力用!D145)","v":""},null,null,null,null,null,null,null,null,null,null,{"$f":"IF(入力用!D146=\"\",\"\",入力用!D146)","v":""},null,null,null,null,{"$f":"IF(入力用!D147=\"\",\"\",入力用!D147)","v":""},null,null,null,null,null,null,null,null,null,null,null,null,null,null,{"$f":"IF(入力用!P148=2,入力用!T6,IF(入力用!P148=3,入力用!T7,\"\"))","v":""},null,null,null,null,null,null,null,null,null,{"$f":"IF(入力用!D149=\"\",\"\",入力用!D149)","v":""},null,null,null,null,{"$f":"IF(入力用!P149=2,入力用!U6,IF(入力用!P149=3,入力用!U7,\"㏋・㎾\"))","v":"㏋・㎾"},null,null,null,{"$f":"IF(入力用!Q149=0,\"\",入力用!Q149)","v":""},null,null,null,null,"㎾",null,{"$f":"IF(入力用!P151=2,入力用!V6,IF(入力用!P151=3,入力用!V7,IF(入力用!P151=4,入力用!V8,IF(入力用!P151=5,入力用!V9,\"\"))))","v":""},null,null,null,null,{"$f":"IF(入力用!D152=\"\",\"\",入力用!D152)","v":""},null,null,"台",null,null,null,null,null,null,null,null,null,null,null,null,null,null,null,null,null,null,null,"契 約 口 数 合 計",null,null,null,null,null,null,null,null,null,null,null,null,{"$f":"IF(入力用!D184=\"\",\"\",入力用!D184)","v":""},null,null,null,"口"]
[]
[null,null,null,null,null,null,{"$f":"IF(入力用!D153=\"\",\"\",入力用!D153)","v":""},null,null,null,null,null,null,null,null,null,null,{"$f":"IF(入力用!D154=\"\",\"\",入力用!D154)","v":""},null,null,null,null,{"$f":"IF(入力用!D155=\"\",\"\",入力用!D155)","v":""},null,null,null,null,null,null,null,null,null,null,null,null,null,null,{"$f":"IF(入力用!P156=2,入力用!T6,IF(入力用!P156=3,入力用!T7,\"\"))","v":""},null,null,null,null,null,null,null,null,null,{"$f":"IF(入力用!D157=\"\",\"\",入力用!D157)","v":""},null,null,null,null,{"$f":"IF(入力用!P157=2,入力用!U6,IF(入力用!P157=3,入力用!U7,\"㏋・㎾\"))","v":"㏋・㎾"},null,null,null,{"$f":"IF(入力用!Q157=0,\"\",入力用!Q157)","v":""},null,null,null,null,"㎾",null,{"$f":"IF(入力用!P159=2,入力用!V6,IF(入力用!P159=3,入力用!V7,IF(入力用!P159=4,入力用!V8,IF(入力用!P159=5,入力用!V9,\"\"))))","v":""},null,null,null,null,{"$f":"IF(入力用!D160=\"\",\"\",入力用!D160)","v":""},null,null,"台",null,"最低使用期間",null,null,null,null,null,null,null,null,null,"通電制御・検知制御割引対象率",null,null,null,null,null,null,null,null,null,null,null,null,null,null,null,null,null,null,null,{"$f":"IF(入力用!S170+入力用!S171=0,\"\",ROUND(入力用!S167/(入力用!S170+入力用!S171),2)*100)","v":""},null,null,null,null,"％"]
[]
[null,null,null,null,null,null,{"$f":"IF(入力用!D161=\"\",\"\",入力用!D161)","v":""},null,null,null,null,null,null,null,null,null,null,{"$f":"IF(入力用!D162=\"\",\"\",入力用!D162)","v":""},null,null,null,null,{"$f":"IF(入力用!D163=\"\",\"\",入力用!D163)","v":""},null,null,null,null,null,null,null,null,null,null,null,null,null,null,{"$f":"IF(入力用!P164=2,入力用!T6,IF(入力用!P164=3,入力用!T7,\"\"))","v":""},null,null,null,null,null,null,null,null,null,{"$f":"IF(入力用!D165=\"\",\"\",入力用!D165)","v":""},null,null,null,null,{"$f":"IF(入力用!P165=2,入力用!U6,IF(入力用!P165=3,入力用!U7,\"㏋・㎾\"))","v":"㏋・㎾"},null,null,null,{"$f":"IF(入力用!Q165=0,\"\",入力用!Q165)","v":""},null,null,null,null,"㎾",null,{"$f":"IF(入力用!P167=2,入力用!V6,IF(入力用!P167=3,入力用!V7,IF(入力用!P167=4,入力用!V8,IF(入力用!P167=5,入力用!V9,\"\"))))","v":""},null,null,null,null,{"$f":"IF(入力用!D168=\"\",\"\",入力用!D168)","v":""},null,null,"台",null,"開始",null,null,null,null,"終了",null,null,null,null,"力率",null,null,null,null,null,"85％",null,null,null,{"$f":"IF(入力用!P143=2,\"超過\",IF(入力用!S151=\"\",\"超過\n未満\",IF(入力用!S151>0.85,\"超過\",IF(入力用!S151=0.85,\"\",\"未満\"))))","v":"超過\n未満"},null,null,null,"契 約\n電 力",null,null,null,null,null,{"$f":"入力用!S165","v":""},null,null,null,null,"kW"]
[]
[null,null,null,null,null,null,{"$f":"IF(入力用!D169=\"\",\"\",入力用!D169)","v":""},null,null,null,null,null,null,null,null,null,null,{"$f":"IF(入力用!D170=\"\",\"\",入力用!D170)","v":""},null,null,null,null,{"$f":"IF(入力用!D171=\"\",\"\",入力用!D171)","v":""},null,null,null,null,null,null,null,null,null,null,null,null,null,null,{"$f":"IF(入力用!P172=2,入力用!T6,IF(入力用!P172=3,入力用!T7,\"\"))","v":""},null,null,null,null,null,null,null,null,null,{"$f":"IF(入力用!D173=\"\",\"\",入力用!D173)","v":""},null,null,null,null,{"$f":"IF(入力用!P173=2,入力用!U6,IF(入力用!P173=3,入力用!U7,\"㏋・㎾\"))","v":"㏋・㎾"},null,null,null,{"$f":"IF(入力用!Q173=0,\"\",入力用!Q173)","v":""},null,null,null,null,"㎾",null,{"$f":"IF(入力用!P175=2,入力用!V6,IF(入力用!P175=3,入力用!V7,IF(入力用!P175=4,入力用!V8,IF(入力用!P175=5,入力用!V9,\"\"))))","v":""},null,null,null,null,{"$f":"IF(入力用!D176=\"\",\"\",入力用!D176)","v":""},null,null,"台",null,{"$f":"IF(入力用!D182=\"\",\"\",入力用!D182)","v":""},null,"月分",null,null,{"$f":"IF(入力用!D182=\"\",\"\",IF(入力用!P141=10,IF(BV97>7,BV97-7,BV97+5),IF(BV97>10,BV97-10,BV97+2)))","v":""},null,"月分"]
[]
[null,"ﾊﾟﾀｰﾝ\n区 分",null,null,null,null,"E",null,null,null,"契約種別",null,null,{"$f":"入力用!R189","v":""},null,null,null,null,null,null,null,null,null,null,null,null,null,null,null,null,null,null,null,null,null,null,null,null,"供給\n電気\n方式",null,null,null,{"$f":"IF(入力用!P186=2,入力用!R6,IF(入力用!P186=3,入力用!R7,IF(入力用!P186=4,入力用!R8,IF(入力用!P186=5,入力用!R9,\"\"))))","v":""},null,null,null,null,null,null,null,null,null,null,null,null,null,"契約決定\n方　　法",null,null,null,null,null,{"$f":"IF(入力用!P187=2,入力用!S6,IF(入力用!P187=3,入力用!S7,\"\"))","v":""},null,null,null,null,null,null,null,null,null,null,"検知制御装置",null,null,null,null,null,null,null,null,null,null,null,null,null,null,null,null,null,"室　　　番　　　号"]
[]
[null,null,null,null,null,null,null,null,null,null,null,null,null,null,null,null,null,null,null,null,null,null,null,null,null,null,null,null,null,null,null,null,null,null,null,null,null,null,null,null,null,null,null,null,null,null,null,null,null,null,null,null,null,null,null,null,null,null,null,null,null,null,null,null,null,null,null,null,null,null,null,null,null,"メーカー",null,null,null,"型　　式",null,null,null,null,null,null,null,null,"種　類",null,null,null,null,{"$f":"IF(入力用!D227=\"\",\"\",入力用!D227)","v":""}]
[]
[null,null,null,null,null,null,null,null,null,null,null,null,null,null,null,null,null,null,null,null,null,null,null,null,null,null,null,null,null,null,null,null,null,null,null,null,null,null,null,null,null,null,null,null,null,null,null,null,null,null,null,null,null,null,null,null,"主開閉器の\n定格電流",null,null,null,null,null,{"$f":"IF(入力用!D188=\"\",\"\",入力用!D188)","v":""},null,null,null,null,null,null,null,null,null,null,{"$f":"IF(入力用!D221=\"\",\"\",入力用!D221)","v":""},null,null,null,{"$f":"IF(入力用!D222=\"\",\"\",入力用!D222)","v":""},null,null,null,null,null,null,null,null,{"$f":"IF(入力用!P223=2,入力用!W6,IF(入力用!P223=3,入力用!W7,IF(入力用!P223=4,入力用!W8,\"\")))","v":""}]
[null,null,null,null,null,null,null,null,null,null,null,null,null,null,null,null,null,null,null,null,null,null,null,null,null,null,null,null,null,null,null,null,null,null,null,null,null,null,null,null,null,null,null,null,null,null,null,null,null,null,null,null,null,null,null,null,null,null,null,null,null,null,null,null,null,null,null,null,null,null,"Ａ"]
[]
[null,null,null,null,null,null,null,null,null,null,null,null,null,null,null,null,null,null,null,null,null,null,null,null,null,null,null,null,null,null,null,null,null,null,null,null,null,null,null,null,null,null,null,null,null,null,null,null,null,null,null,null,null,null,null,null,null,null,null,null,null,null,null,null,null,null,null,null,null,null,null,null,null,"通電遮断パターン"]
[null,"契約\n負荷\n設備\n内訳",null,null,null,null,"機　器　種　別",null,null,null,null,null,null,null,null,null,null,"メーカー",null,null,null,null,"型　　　　式",null,null,null,null,null,null,null,null,null,null,null,null,null,null,"通電制御・検知制御",null,null,null,null,null,null,null,null,null,"出　力",null,null,null,null,null,null,null,null,"入 力",null,null,null,null,null,null,"力率",null,null,null,null,"台数"]
[null,null,null,null,null,null,null,null,null,null,null,null,null,null,null,null,null,null,null,null,null,null,null,null,null,null,null,null,null,null,null,null,null,null,null,null,null,null,null,null,null,null,null,null,null,null,null,null,null,null,null,null,null,null,null,null,null,null,null,null,null,null,null,null,null,null,null,null,null,null,null,null,null,{"$f":"IF(入力用!D224=\"\",\"\",入力用!D224)","v":""},null,"時",null,{"$f":"IF(入力用!F224=\"\",\"\",IF(入力用!F224=\"0\",\"00\",入力用!F224))","v":""},null,"分から",null,null,null,{"$f":"IF(入力用!D225=\"\",\"\",入力用!D225)","v":""},null,{"$f":"IF(入力用!P224=2,入力用!X6,IF(入力用!P224=3,入力用!X7,\"\"))&IF(入力用!P225=2,入力用!Y6,IF(入力用!P225=3,入力用!Y7,\"\"))","v":""}]
[null,null,null,null,null,null,{"$f":"IF(入力用!D189=\"\",\"\",入力用!D189)","v":""},null,null,null,null,null,null,null,null,null,null,{"$f":"IF(入力用!D190=\"\",\"\",入力用!D190)","v":""},null,null,null,null,{"$f":"IF(入力用!D191=\"\",\"\",入力用!D191)","v":""},null,null,null,null,null,null,null,null,null,null,null,null,null,null,{"$f":"IF(入力用!P192=2,入力用!T6,IF(入力用!P192=3,入力用!T77,\"\"))","v":""},null,null,null,null,null,null,null,null,null,{"$f":"IF(入力用!D193=\"\",\"\",入力用!D193)","v":""},null,null,null,null,{"$f":"IF(入力用!P193=2,入力用!U6,IF(入力用!P193=3,入力用!U7,\"㏋・㎾\"))","v":"㏋・㎾"},null,null,null,{"$f":"IF(入力用!Q193=0,\"\",入力用!Q193)","v":""},null,null,null,null,"㎾",null,{"$f":"IF(入力用!P195=2,入力用!V6,IF(入力用!P195=3,入力用!V7,IF(入力用!P195=4,入力用!V8,IF(入力用!P195=5,入力用!V9,\"\"))))","v":""},null,null,null,null,{"$f":"IF(入力用!D196=\"\",\"\",入力用!D196)","v":""},null,null,"台",null,null,null,null,null,null,null,null,null,null,null,null,null,null,null,null,null,null,null,"契 約 口 数 合 計",null,null,null,null,null,null,null,null,null,null,null,null,{"$f":"IF(入力用!D228=\"\",\"\",入力用!D228)","v":""},null,null,null,"口"]
[]
[null,null,null,null,null,null,{"$f":"IF(入力用!D197=\"\",\"\",入力用!D197)","v":""},null,null,null,null,null,null,null,null,null,null,{"$f":"IF(入力用!D198=\"\",\"\",入力用!D198)","v":""},null,null,null,null,{"$f":"IF(入力用!D199=\"\",\"\",入力用!D199)","v":""},null,null,null,null,null,null,null,null,null,null,null,null,null,null,{"$f":"IF(入力用!P200=2,入力用!T6,IF(入力用!P200=3,入力用!T7,\"\"))","v":""},null,null,null,null,null,null,null,null,null,{"$f":"IF(入力用!D201=\"\",\"\",入力用!D201)","v":""},null,null,null,null,{"$f":"IF(入力用!P201=2,入力用!U6,IF(入力用!P201=3,入力用!U7,\"㏋・㎾\"))","v":"㏋・㎾"},null,null,null,{"$f":"IF(入力用!Q201=0,\"\",入力用!Q201)","v":""},null,null,null,null,"㎾",null,{"$f":"IF(入力用!P203=2,入力用!V6,IF(入力用!P203=3,入力用!V7,IF(入力用!P203=4,入力用!V8,IF(入力用!P203=5,入力用!V9,\"\"))))","v":""},null,null,null,null,{"$f":"IF(入力用!D204=\"\",\"\",入力用!D204)","v":""},null,null,"台",null,"最低使用期間",null,null,null,null,null,null,null,null,null,"通電制御・検知制御割引対象率",null,null,null,null,null,null,null,null,null,null,null,null,null,null,null,null,null,null,null,{"$f":"IF(入力用!S214+入力用!S215=0,\"\",ROUND(入力用!S211/(入力用!S214+入力用!S215),2)*100)","v":""},null,null,null,null,"％"]
[]
[null,null,null,null,null,null,{"$f":"IF(入力用!D205=\"\",\"\",入力用!D205)","v":""},null,null,null,null,null,null,null,null,null,null,{"$f":"IF(入力用!D206=\"\",\"\",入力用!D206)","v":""},null,null,null,null,{"$f":"IF(入力用!D207=\"\",\"\",入力用!D207)","v":""},null,null,null,null,null,null,null,null,null,null,null,null,null,null,{"$f":"IF(入力用!P208=2,入力用!T6,IF(入力用!P208=3,入力用!T7,\"\"))","v":""},null,null,null,null,null,null,null,null,null,{"$f":"IF(入力用!D209=\"\",\"\",入力用!D209)","v":""},null,null,null,null,{"$f":"IF(入力用!P209=2,入力用!U6,IF(入力用!P209=3,入力用!U7,\"㏋・㎾\"))","v":"㏋・㎾"},null,null,null,{"$f":"IF(入力用!Q209=0,\"\",入力用!Q209)","v":""},null,null,null,null,"㎾",null,{"$f":"IF(入力用!P211=2,入力用!V6,IF(入力用!P211=3,入力用!V7,IF(入力用!P211=4,入力用!V8,IF(入力用!P211=5,入力用!V9,\"\"))))","v":""},null,null,null,null,{"$f":"IF(入力用!D212=\"\",\"\",入力用!D212)","v":""},null,null,"台",null,"開始",null,null,null,null,"終了",null,null,null,null,"力率",null,null,null,null,null,"85％",null,null,null,{"$f":"IF(入力用!P187=2,\"超過\",IF(入力用!S195=\"\",\"超過\n未満\",IF(入力用!S195>0.85,\"超過\",IF(入力用!S195=0.85,\"\",\"未満\"))))","v":"超過\n未満"},null,null,null,"契 約\n電 力",null,null,null,null,null,{"$f":"入力用!S209","v":""},null,null,null,null,"kW"]
[]
[null,null,null,null,null,null,{"$f":"IF(入力用!D213=\"\",\"\",入力用!D213)","v":""},null,null,null,null,null,null,null,null,null,null,{"$f":"IF(入力用!D214=\"\",\"\",入力用!D214)","v":""},null,null,null,null,{"$f":"IF(入力用!D215=\"\",\"\",入力用!D215)","v":""},null,null,null,null,null,null,null,null,null,null,null,null,null,null,{"$f":"IF(入力用!P216=2,入力用!T6,IF(入力用!P216=3,入力用!T7,\"\"))","v":""},null,null,null,null,null,null,null,null,null,{"$f":"IF(入力用!D217=\"\",\"\",入力用!D217)","v":""},null,null,null,null,{"$f":"IF(入力用!P217=2,入力用!U6,IF(入力用!P217=3,入力用!U7,\"㏋・㎾\"))","v":"㏋・㎾"},null,null,null,{"$f":"IF(入力用!Q217=0,\"\",入力用!Q217)","v":""},null,null,null,null,"㎾",null,{"$f":"IF(入力用!P219=2,入力用!V6,IF(入力用!P219=3,入力用!V7,IF(入力用!P219=4,入力用!V8,IF(入力用!P219=5,入力用!V9,\"\"))))","v":""},null,null,null,null,{"$f":"IF(入力用!D220=\"\",\"\",入力用!D220)","v":""},null,null,"台",null,{"$f":"IF(入力用!D226=\"\",\"\",入力用!D226)","v":""},null,"月分",null,null,{"$f":"IF(入力用!D226=\"\",\"\",IF(入力用!P185=10,IF(BV115>7,BV115-7,BV115+5),IF(BV115>10,BV115-10,BV115+2)))","v":""},null,"月分"]
[]
[null,"ﾊﾟﾀｰﾝ\n区 分",null,null,null,null,"F",null,null,null,"契約種別",null,null,{"$f":"入力用!R233","v":""},null,null,null,null,null,null,null,null,null,null,null,null,null,null,null,null,null,null,null,null,null,null,null,null,"供給\n電気\n方式",null,null,null,{"$f":"IF(入力用!P230=2,入力用!R6,IF(入力用!P230=3,入力用!R7,IF(入力用!P230=4,入力用!R8,IF(入力用!P230=5,入力用!R9,\"\"))))","v":""},null,null,null,null,null,null,null,null,null,null,null,null,null,"契約決定\n方　　法",null,null,null,null,null,{"$f":"IF(入力用!P231=2,入力用!S6,IF(入力用!P231=3,入力用!S7,\"\"))","v":""},null,null,null,null,null,null,null,null,null,null,"検知制御装置",null,null,null,null,null,null,null,null,null,null,null,null,null,null,null,null,null,"室　　　番　　　号"]
[]
[null,null,null,null,null,null,null,null,null,null,null,null,null,null,null,null,null,null,null,null,null,null,null,null,null,null,null,null,null,null,null,null,null,null,null,null,null,null,null,null,null,null,null,null,null,null,null,null,null,null,null,null,null,null,null,null,null,null,null,null,null,null,null,null,null,null,null,null,null,null,null,null,null,"メーカー",null,null,null,"型　　式",null,null,null,null,null,null,null,null,"種　類",null,null,null,null,{"$f":"IF(入力用!D271=\"\",\"\",入力用!D271)","v":""}]
[]
[null,null,null,null,null,null,null,null,null,null,null,null,null,null,null,null,null,null,null,null,null,null,null,null,null,null,null,null,null,null,null,null,null,null,null,null,null,null,null,null,null,null,null,null,null,null,null,null,null,null,null,null,null,null,null,null,"主開閉器の\n定格電流",null,null,null,null,null,{"$f":"IF(入力用!D232=\"\",\"\",入力用!D232)","v":""},null,null,null,null,null,null,null,null,null,null,{"$f":"IF(入力用!D265=\"\",\"\",入力用!D265)","v":""},null,null,null,{"$f":"IF(入力用!D266=\"\",\"\",入力用!D266)","v":""},null,null,null,null,null,null,null,null,{"$f":"IF(入力用!P267=2,入力用!W6,IF(入力用!P267=3,入力用!W7,IF(入力用!P267=4,入力用!W8,\"\")))","v":""}]
[null,null,null,null,null,null,null,null,null,null,null,null,null,null,null,null,null,null,null,null,null,null,null,null,null,null,null,null,null,null,null,null,null,null,null,null,null,null,null,null,null,null,null,null,null,null,null,null,null,null,null,null,null,null,null,null,null,null,null,null,null,null,null,null,null,null,null,null,null,null,"Ａ"]
[]
[null,null,null,null,null,null,null,null,null,null,null,null,null,null,null,null,null,null,null,null,null,null,null,null,null,null,null,null,null,null,null,null,null,null,null,null,null,null,null,null,null,null,null,null,null,null,null,null,null,null,null,null,null,null,null,null,null,null,null,null,null,null,null,null,null,null,null,null,null,null,null,null,null,"通電遮断パターン"]
[null,"契約\n負荷\n設備\n内訳",null,null,null,null,"機　器　種　別",null,null,null,null,null,null,null,null,null,null,"メーカー",null,null,null,null,"型　　　　式",null,null,null,null,null,null,null,null,null,null,null,null,null,null,"通電制御・検知制御",null,null,null,null,null,null,null,null,null,"出　力",null,null,null,null,null,null,null,null,"入 力",null,null,null,null,null,null,"力率",null,null,null,null,"台数"]
[null,null,null,null,null,null,null,null,null,null,null,null,null,null,null,null,null,null,null,null,null,null,null,null,null,null,null,null,null,null,null,null,null,null,null,null,null,null,null,null,null,null,null,null,null,null,null,null,null,null,null,null,null,null,null,null,null,null,null,null,null,null,null,null,null,null,null,null,null,null,null,null,null,{"$f":"IF(入力用!D268=\"\",\"\",入力用!D268)","v":""},null,"時",null,{"$f":"IF(入力用!F268=\"\",\"\",IF(入力用!F268=\"0\",\"00\",入力用!F268))","v":""},null,"分から",null,null,null,{"$f":"IF(入力用!D269=\"\",\"\",入力用!D269)","v":""},null,{"$f":"IF(入力用!P268=2,入力用!X6,IF(入力用!P268=3,入力用!X7,\"\"))&IF(入力用!P269=2,入力用!Y6,IF(入力用!P269=3,入力用!Y7,\"\"))","v":""}]
[null,null,null,null,null,null,{"$f":"IF(入力用!D233=\"\",\"\",入力用!D233)","v":""},null,null,null,null,null,null,null,null,null,null,{"$f":"IF(入力用!D234=\"\",\"\",入力用!D234)","v":""},null,null,null,null,{"$f":"IF(入力用!D235=\"\",\"\",入力用!D235)","v":""},null,null,null,null,null,null,null,null,null,null,null,null,null,null,{"$f":"IF(入力用!P236=2,入力用!T6,IF(入力用!P236=3,入力用!T7,\"\"))","v":""},null,null,null,null,null,null,null,null,null,{"$f":"IF(入力用!D237=\"\",\"\",入力用!D237)","v":""},null,null,null,null,{"$f":"IF(入力用!P237=2,入力用!U6,IF(入力用!P237=3,入力用!U7,\"㏋・㎾\"))","v":"㏋・㎾"},null,null,null,{"$f":"IF(入力用!Q237=0,\"\",入力用!Q237)","v":""},null,null,null,null,"㎾",null,{"$f":"IF(入力用!P239=2,入力用!V6,IF(入力用!P239=3,入力用!V7,IF(入力用!P239=4,入力用!V8,IF(入力用!P239=5,入力用!V9,\"\"))))","v":""},null,null,null,null,{"$f":"IF(入力用!D240=\"\",\"\",入力用!D240)","v":""},null,null,"台",null,null,null,null,null,null,null,null,null,null,null,null,null,null,null,null,null,null,null,"契 約 口 数 合 計",null,null,null,null,null,null,null,null,null,null,null,null,{"$f":"IF(入力用!D272=\"\",\"\",入力用!D272)","v":""},null,null,null,"口"]
[]
[null,null,null,null,null,null,{"$f":"IF(入力用!D241=\"\",\"\",入力用!D241)","v":""},null,null,null,null,null,null,null,null,null,null,{"$f":"IF(入力用!D242=\"\",\"\",入力用!D242)","v":""},null,null,null,null,{"$f":"IF(入力用!D243=\"\",\"\",入力用!D243)","v":""},null,null,null,null,null,null,null,null,null,null,null,null,null,null,{"$f":"IF(入力用!P244=2,入力用!T6,IF(入力用!P244=3,入力用!T7,\"\"))","v":""},null,null,null,null,null,null,null,null,null,{"$f":"IF(入力用!D245=\"\",\"\",入力用!D245)","v":""},null,null,null,null,{"$f":"IF(入力用!P245=2,入力用!U6,IF(入力用!P245=3,入力用!U7,\"㏋・㎾\"))","v":"㏋・㎾"},null,null,null,{"$f":"IF(入力用!Q245=0,\"\",入力用!Q245)","v":""},null,null,null,null,"㎾",null,{"$f":"IF(入力用!P247=2,入力用!V6,IF(入力用!P247=3,入力用!V7,IF(入力用!P247=4,入力用!V8,IF(入力用!P247=5,入力用!V9,\"\"))))","v":""},null,null,null,null,{"$f":"IF(入力用!D248=\"\",\"\",入力用!D248)","v":""},null,null,"台",null,"最低使用期間",null,null,null,null,null,null,null,null,null,"通電制御・検知制御割引対象率",null,null,null,null,null,null,null,null,null,null,null,null,null,null,null,null,null,null,null,{"$f":"IF(入力用!S258+入力用!S259=0,\"\",ROUND(入力用!S255/(入力用!S258+入力用!S259),2)*100)","v":""},null,null,null,null,"％"]
[]
[null,null,null,null,null,null,{"$f":"IF(入力用!D249=\"\",\"\",入力用!D249)","v":""},null,null,null,null,null,null,null,null,null,null,{"$f":"IF(入力用!D250=\"\",\"\",入力用!D250)","v":""},null,null,null,null,{"$f":"IF(入力用!D251=\"\",\"\",入力用!D251)","v":""},null,null,null,null,null,null,null,null,null,null,null,null,null,null,{"$f":"IF(入力用!P252=2,入力用!T6,IF(入力用!P252=3,入力用!T7,\"\"))","v":""},null,null,null,null,null,null,null,null,null,{"$f":"IF(入力用!D253=\"\",\"\",入力用!D253)","v":""},null,null,null,null,{"$f":"IF(入力用!P253=2,入力用!U6,IF(入力用!P253=3,入力用!U7,\"㏋・㎾\"))","v":"㏋・㎾"},null,null,null,{"$f":"IF(入力用!Q253=0,\"\",入力用!Q253)","v":""},null,null,null,null,"㎾",null,{"$f":"IF(入力用!P255=2,入力用!V6,IF(入力用!P255=3,入力用!V7,IF(入力用!P255=4,入力用!V8,IF(入力用!P255=5,入力用!V9,\"\"))))","v":""},null,null,null,null,{"$f":"IF(入力用!D256=\"\",\"\",入力用!D256)","v":""},null,null,"台",null,"開始",null,null,null,null,"終了",null,null,null,null,"力率",null,null,null,null,null,"85％",null,null,null,{"$f":"IF(入力用!P231=2,\"超過\",IF(入力用!S239=\"\",\"超過\n未満\",IF(入力用!S239>0.85,\"超過\",IF(入力用!S239=0.85,\"\",\"未満\"))))","v":"超過\n未満"},null,null,null,"契 約\n電 力",null,null,null,null,null,{"$f":"入力用!S253","v":""},null,null,null,null,"kW"]
[]
[null,null,null,null,null,null,{"$f":"IF(入力用!D257=\"\",\"\",入力用!D257)","v":""},null,null,null,null,null,null,null,null,null,null,{"$f":"IF(入力用!D258=\"\",\"\",入力用!D258)","v":""},null,null,null,null,{"$f":"IF(入力用!D259=\"\",\"\",入力用!D259)","v":""},null,null,null,null,null,null,null,null,null,null,null,null,null,null,{"$f":"IF(入力用!P260=2,入力用!T6,IF(入力用!P260=3,入力用!T7,\"\"))","v":""},null,null,null,null,null,null,null,null,null,{"$f":"IF(入力用!D261=\"\",\"\",入力用!D261)","v":""},null,null,null,null,{"$f":"IF(入力用!P261=2,入力用!U6,IF(入力用!P261=3,入力用!U7,\"㏋・㎾\"))","v":"㏋・㎾"},null,null,null,{"$f":"IF(入力用!Q261=0,\"\",入力用!Q261)","v":""},null,null,null,null,"㎾",null,{"$f":"IF(入力用!P263=2,入力用!V6,IF(入力用!P263=3,入力用!V7,IF(入力用!P263=4,入力用!V8,IF(入力用!P263=5,入力用!V9,\"\"))))","v":""},null,null,null,null,{"$f":"IF(入力用!D264=\"\",\"\",入力用!D264)","v":""},null,null,"台",null,{"$f":"IF(入力用!D270=\"\",\"\",入力用!D270)","v":""},null,"月分",null,null,{"$f":"IF(入力用!D270=\"\",\"\",IF(入力用!P229=10,IF(BV133>7,BV133-7,BV133+5),IF(BV133>10,BV133-10,BV133+2)))","v":""},null,"月分"]
[]
[]
[null,"　※　本申込書は集合住宅の新設の場合に使用することができます。",null,null,null,null,null,null,null,null,null,null,null,null,null,null,null,null,null,null,null,null,null,null,null,null,null,null,null,null,null,null,null,null,null,null,null,null,null,null,null,null,null,null,null,null,null,null,null,null,null,null,null,null,null,null,null,null,null,null,null,null,null,null,null,null,null,null,null,null,null,null,null,null,null,null,null,null,null,null,null,null,null,null,null,null,null,null,null,null,null,null,null,null,null,null,null,null,null,null,null,"受付"]
[]
[null,"　※　太枠内をご記入願います。"]
[]
[null,"　※　集合住宅共用部分用電気使用申込書をあわせて提出願います。"]
[]
[null,"　※　ご提供いただいた個人情報は，電気事業の範囲内で利用いたします。"]
[]
[]
[null,"＜連絡事項＞"]
[]
[]
[]
[]
[]
[]
[]
[]
[]
[]
[]
[]
[]
[]
[]
[]
[]
[]
["北　海　道　電　力　ネ　ッ　ト　ワ　ー　ク　株　式　会　社"]

{"sheet":"２枚目","index":2,"n_rows":164,"n_cols":110,"rows_kept":164,"cut":false,"hidden":false,"merged":[[1,93,4,109],[94,63,95,67],[96,63,97,67],[96,56,97,60],[108,56,109,60],[103,70,105,72],[96,68,97,70],[102,62,105,69],[96,71,97,72],[64,91,71,110],[66,77,68,85],[74,108,75,110],[66,86,68,90],[71,79,73,82],[71,83,73,84],[71,77,73,78],[74,73,75,82],[74,83,75,102],[64,77,65,85],[69,73,70,90],[66,73,68,76],[74,68,75,70],[74,63,75,67],[70,63,71,67],[106,47,107,55],[108,71,109,72],[106,68,107,72],[94,71,95,72],[106,63,107,67],[106,56,107,62],[94,47,95,51],[108,63,109,67],[130,17,131,21],[108,68,109,70],[128,47,129,51],[128,52,129,55],[106,37,107,46],[108,61,109,62],[112,52,113,55],[112,56,113,60],[112,17,113,21],[106,17,107,21],[112,61,113,62],[110,61,111,62],[110,47,111,51],[110,52,111,55],[110,56,111,60],[116,38,123,41],[96,61,97,62],[98,42,105,55],[96,52,97,55],[44,42,51,55],[44,62,47,72],[62,42,69,55],[62,62,65,72],[54,37,55,46],[52,37,53,46],[54,68,55,70],[54,71,55,72],[54,63,55,67],[56,37,57,46],[54,47,55,51],[52,47,53,55],[52,63,53,67],[52,68,53,72],[48,62,51,69],[58,71,59,72],[54,61,55,62],[52,56,53,62],[94,52,95,55],[94,56,95,60],[94,61,95,62],[88,37,89,46],[76,37,77,46],[78,37,79,46],[92,37,93,46],[80,42,87,55],[90,37,91,46],[80,38,87,41],[70,1,79,5],[94,22,95,36],[108,22,109,36],[90,22,91,36],[92,22,93,36],[88,1,97,5],[88,6,89,16],[88,17,89,21],[90,6,91,16],[90,17,91,21],[94,6,95,16],[92,6,93,16],[94,17,95,21],[92,17,93,21],[70,22,71,36],[74,22,75,36],[76,6,77,16],[76,17,77,21],[74,6,75,16],[74,17,75,21],[80,1,87,5],[106,22,107,36],[98,13,105,37],[96,22,97,36],[132,73,133,74],[132,75,133,77],[130,73,131,77],[128,56,129,60],[60,68,61,70],[60,71,61,72],[48,73,50,76],[48,77,50,85],[51,73,52,90],[48,86,50,90],[132,78,133,79],[132,80,133,82],[76,68,77,70],[78,68,79,70],[92,68,93,70],[88,56,89,62],[116,56,119,61],[94,68,95,70],[102,56,105,61],[116,62,119,72],[80,62,83,72],[98,62,101,72],[92,63,93,67],[92,71,93,72],[112,22,113,36],[108,37,109,46],[40,6,41,16],[40,17,41,21],[60,6,61,16],[60,17,61,21],[76,22,77,36],[72,22,73,36],[88,22,89,36],[78,22,79,36],[70,6,71,16],[54,6,55,16],[58,6,59,16],[58,17,59,21],[56,17,57,21],[80,6,87,9],[80,10,87,12],[54,22,55,36],[58,22,59,36],[62,13,69,37],[60,22,61,36],[70,17,71,21],[72,6,73,16],[72,17,73,21],[132,71,133,72],[128,63,129,67],[110,6,111,16],[110,17,111,21],[110,22,111,36],[108,6,109,16],[108,17,109,21],[78,6,79,16],[78,17,79,21],[128,37,129,46],[128,22,129,36],[124,6,125,16],[124,17,125,21],[126,6,127,16],[126,17,127,21],[126,22,127,36],[116,42,123,55],[96,6,97,16],[96,17,97,21],[108,47,109,51],[108,52,109,55],[112,47,113,51],[98,38,105,41],[94,37,95,46],[74,71,75,72],[70,68,71,72],[66,62,69,69],[72,61,73,62],[62,10,69,12],[56,47,57,51],[56,52,57,55],[56,56,57,60],[56,61,57,62],[60,37,61,46],[58,47,59,51],[58,52,59,55],[58,56,59,60],[60,63,61,67],[66,56,69,61],[67,70,69,72],[62,56,65,61],[72,37,73,46],[72,68,73,70],[72,71,73,72],[72,56,73,60],[56,22,57,36],[58,61,59,62],[58,68,59,70],[14,90,16,110],[54,52,55,55],[54,56,55,60],[40,47,41,51],[40,52,41,55],[42,47,43,51],[42,52,43,55],[36,108,37,110],[38,56,39,60],[38,68,39,70],[38,71,39,72],[36,56,37,60],[36,68,37,70],[38,63,39,67],[54,108,55,110],[44,91,45,110],[46,91,53,110],[44,73,45,90],[46,73,47,76],[46,86,47,90],[53,83,55,84],[53,73,55,74],[53,75,55,76],[53,79,55,82],[26,91,27,110],[28,91,35,110],[17,75,23,110],[24,75,25,89],[24,90,25,99],[24,100,25,102],[35,73,37,74],[35,85,37,90],[36,104,37,107],[35,75,37,76],[17,69,23,74],[24,69,25,74],[24,103,25,103],[36,91,37,103],[35,79,37,82],[35,83,37,84],[24,109,25,110],[52,1,61,5],[44,6,51,9],[44,1,51,5],[36,37,37,46],[62,6,69,9],[34,22,35,36],[36,22,37,36],[38,22,39,36],[40,22,41,36],[36,17,37,21],[82,73,83,76],[89,79,91,82],[112,83,115,88],[114,75,115,77],[82,77,83,85],[96,75,97,77],[96,78,97,79],[96,80,97,82],[87,73,88,90],[36,6,37,16],[42,6,43,16],[38,37,39,46],[42,22,43,36],[52,22,53,36],[44,13,51,37],[44,38,51,41],[116,1,123,5],[116,6,123,9],[116,10,123,12],[106,1,115,5],[106,6,107,16],[114,6,115,16],[112,6,113,16],[80,13,87,37],[98,1,105,5],[98,6,105,9],[98,10,105,12],[96,37,97,46],[62,1,69,5],[62,38,69,41],[56,6,57,16],[34,1,43,5],[54,17,55,21],[26,1,33,5],[26,6,33,9],[26,10,33,12],[26,13,33,37],[26,42,33,55],[30,86,32,90],[26,56,29,61],[26,62,29,72],[30,62,33,69],[30,73,32,76],[26,73,27,90],[28,73,29,76],[28,77,29,85],[28,86,29,90],[26,38,33,41],[33,73,34,90],[34,17,35,21],[34,6,35,16],[34,56,35,62],[34,37,35,46],[58,103,61,107],[58,108,61,110],[56,73,57,82],[58,63,59,67],[60,61,61,62],[60,78,61,79],[60,80,61,82],[60,73,61,74],[40,37,41,46],[42,37,43,46],[58,37,59,46],[36,71,37,72],[38,73,39,82],[48,56,51,61],[30,77,32,85],[42,56,43,60],[34,68,35,72],[35,77,37,78],[36,52,37,55],[36,63,37,67],[36,61,37,62],[36,47,37,51],[34,63,35,67],[31,70,33,72],[60,56,61,60],[62,73,63,90],[64,86,65,90],[64,73,65,76],[6,0,9,110],[14,64,16,68],[14,85,16,89],[49,70,51,72],[14,69,16,84],[24,104,25,108],[17,1,25,5],[17,34,25,38],[17,64,25,68],[17,6,25,33],[24,61,25,63],[23,39,25,44],[23,48,25,52],[23,56,25,60],[30,56,33,61],[54,91,55,103],[54,104,55,107],[24,45,25,47],[24,53,25,55],[42,75,43,77],[56,83,57,102],[56,63,57,67],[40,68,41,70],[40,71,41,72],[40,63,41,67],[42,68,43,70],[42,71,43,72],[46,77,47,85],[53,85,55,90],[53,77,55,78],[42,63,43,67],[40,73,41,77],[42,78,43,79],[40,78,41,82],[42,73,43,74],[42,80,43,82],[58,78,59,82],[58,73,59,77],[56,71,57,72],[56,68,57,70],[58,97,61,102],[114,47,115,51],[78,73,79,74],[114,52,115,55],[114,56,115,60],[105,73,106,90],[102,86,104,90],[102,73,104,76],[110,73,111,82],[110,71,111,72],[110,68,111,70],[110,63,111,67],[84,62,87,69],[85,70,87,72],[78,78,79,79],[90,61,91,62],[92,47,93,51],[92,52,93,55],[78,80,79,82],[78,71,79,72],[118,73,119,76],[132,6,133,16],[118,77,119,85],[114,78,115,79],[114,80,115,82],[107,75,109,76],[107,77,109,78],[116,73,117,90],[112,73,113,77],[112,78,113,82],[120,73,122,76],[125,73,127,74],[125,77,127,78],[128,17,129,21],[126,47,127,51],[126,52,127,55],[126,56,127,60],[114,17,115,21],[126,37,127,46],[132,63,133,67],[130,68,131,70],[130,71,131,72],[130,63,131,67],[130,61,131,62],[139,1,140,97],[135,1,136,97],[120,86,122,90],[123,73,124,90],[132,37,133,46],[125,85,127,90],[130,78,131,82],[132,17,133,21],[130,6,131,16],[128,6,129,16],[124,1,133,5],[124,68,125,72],[120,62,123,69],[128,61,129,62],[126,61,127,62],[126,63,127,67],[125,75,127,76],[128,73,129,82],[125,79,127,82],[120,56,123,61],[126,68,127,70],[126,71,127,72],[132,61,133,62],[132,68,133,70],[121,70,123,72],[165,0,166,110],[82,91,89,110],[90,91,91,103],[90,108,91,110],[90,104,91,107],[137,1,138,97],[141,1,142,97],[114,73,115,74],[163,0,164,110],[135,101,142,102],[135,103,142,110],[126,91,127,103],[126,104,127,107],[126,108,127,110],[116,91,117,110],[118,91,125,110],[112,93,115,96],[110,83,111,102],[112,71,113,72],[114,68,115,70],[114,22,115,36],[124,22,125,36],[107,83,109,84],[128,71,129,72],[128,68,129,70],[72,63,73,67],[60,75,61,77],[71,85,73,90],[71,73,73,74],[70,37,71,46],[70,47,71,55],[70,56,71,62],[72,47,73,51],[72,52,73,55],[60,47,61,51],[60,52,61,55],[71,75,73,76],[80,73,81,90],[89,77,91,78],[89,75,91,76],[89,73,91,74],[89,85,91,90],[76,83,79,88],[76,89,79,92],[92,83,93,102],[120,77,122,85],[124,63,125,67],[78,75,79,77],[102,77,104,85],[100,77,101,85],[107,79,109,82],[74,37,75,46],[80,56,83,61],[84,56,87,61],[114,71,115,72],[114,63,115,67],[107,85,109,90],[100,73,101,76],[100,86,101,90],[96,73,97,74],[92,73,93,82],[89,83,91,84],[76,71,77,72],[76,63,77,67],[78,63,79,67],[82,86,83,90],[90,71,91,72],[88,68,89,72],[88,63,89,67],[90,63,91,67],[88,47,89,55],[112,68,113,70],[110,37,111,46],[112,37,113,46],[74,47,75,51],[74,52,75,55],[74,56,75,60],[74,61,75,62],[112,63,113,67],[76,47,77,51],[76,52,77,55],[76,56,77,60],[76,61,77,62],[78,47,79,51],[78,52,79,55],[78,56,79,60],[78,61,79,62],[90,56,91,60],[92,61,93,62],[92,56,93,60],[90,68,91,70],[96,47,97,51],[98,56,101,61],[90,47,91,51],[90,52,91,55],[84,86,86,90],[84,73,86,76],[84,77,86,85],[76,73,77,77],[76,78,77,82],[72,104,73,107],[72,108,73,110],[72,91,73,103],[38,108,39,110],[40,83,43,88],[40,89,43,92],[40,93,43,96],[40,97,43,102],[40,103,43,107],[40,108,43,110],[38,83,39,102],[38,103,39,107],[56,103,57,107],[56,108,57,110],[58,83,61,88],[58,89,61,92],[58,93,61,96],[62,91,63,110],[76,93,79,96],[110,103,111,107],[110,108,111,110],[94,83,97,88],[94,89,97,92],[94,93,97,96],[94,97,97,102],[108,104,109,107],[98,73,99,90],[98,91,99,110],[107,73,109,74],[108,108,109,110],[108,91,109,103],[100,91,107,110],[94,73,95,77],[94,78,95,82],[76,97,79,102],[76,103,79,107],[76,108,79,110],[74,103,75,107],[94,103,97,107],[94,108,97,110],[92,103,93,107],[92,108,93,110],[80,91,81,110],[130,103,133,107],[130,108,133,110],[112,108,115,110],[128,83,129,102],[128,103,129,107],[128,108,129,110],[112,89,115,92],[112,97,115,102],[112,103,115,107],[118,86,119,90],[130,97,133,102],[130,83,133,88],[130,89,133,92],[130,93,133,96],[125,83,127,84],[42,61,43,62],[52,6,53,16],[52,17,53,21],[44,10,51,12],[38,47,39,51],[42,17,43,21],[38,6,39,16],[38,17,39,21],[44,56,47,61],[38,61,39,62],[40,61,41,62],[40,56,41,60],[38,52,39,55],[11,1,12,25],[13,1,14,38],[156,2,158,110],[159,2,161,110],[144,2,146,110],[147,2,149,110],[150,2,152,110],[153,2,155,110],[132,22,133,36],[132,47,133,51],[124,47,125,55],[124,56,125,62],[116,13,123,37],[124,37,125,46],[114,37,115,46],[114,61,115,62],[132,52,133,55],[132,56,133,60],[130,22,131,36],[130,47,131,51],[130,52,131,55],[130,56,131,60],[130,37,131,46],[34,47,35,55]]}
[]
[null,null,null,null,null,null,null,null,null,null,null,null,null,null,null,null,null,null,null,null,null,null,null,null,null,null,null,null,null,null,null,null,null,null,null,null,null,null,null,null,null,null,null,null,null,null,null,null,null,null,null,null,null,null,null,null,null,null,null,null,null,null,null,null,null,null,null,null,null,null,null,null,null,null,null,null,null,null,null,null,null,null,null,null,null,null,null,null,null,null,null,null,null,"離島等供給用"]
[]
[]
[]
[]
["（従量制電力）集合住宅専有部分用電気使用申込書（お客さま控）"]
[]
[]
[]
[]
[null,"北海道電力ネットワーク株式会社　御中"]
[]
[null,"電気の使用について貴社離島等供給約款[低圧用]を承認のうえ申し込みます。"]
[null,null,null,null,null,null,null,null,null,null,null,null,null,null,null,null,null,null,null,null,null,null,null,null,null,null,null,null,null,null,null,null,null,null,null,null,null,null,null,null,null,null,null,null,null,null,null,null,null,null,null,null,null,null,null,null,null,null,null,null,null,null,null,null,"受付扱所名",null,null,null,null,null,null,null,null,null,null,null,null,null,null,null,null,null,null,null,null,"受付№"]
[]
[]
[null,"建物名",null,null,null,null,{"$f":"IF(入力用!D4=\"\",\"\",入力用!D4)","v":""},null,null,null,null,null,null,null,null,null,null,null,null,null,null,null,null,null,null,null,null,null,null,null,null,null,null,null,"受　電\n希望日",null,null,null,null,null,null,null,null,null,null,null,null,null,null,null,null,null,null,null,null,null,null,null,null,null,null,null,null,null,"電気\n工事\n会社",null,null,null,null," 会社名",null,null,null,null,null,{"$f":"IF(入力用!D6=\"\",\"\",入力用!D6)","v":""}]
[]
[]
[]
[]
[]
[null,null,null,null,null,null,null,null,null,null,null,null,null,null,null,null,null,null,null,null,null,null,null,null,null,null,null,null,null,null,null,null,null,null,null,null,null,null,null,{"$f":"IF(入力用!D5=\"\",\"\",入力用!D5)","v":""},null,null,null,null,null,null,null,null,{"$f":"IF(入力用!F5=\"\",\"\",入力用!F5)","v":""},null,null,null,null,null,null,null,{"$f":"IF(入力用!I5=\"\",\"\",入力用!I5)","v":""}]
[null,null,null,null,null,null,null,null,null,null,null,null,null,null,null,null,null,null,null,null,null,null,null,null,null,null,null,null,null,null,null,null,null,null,null,null,null,null,null,null,null,null,null,null,null,"年",null,null,null,null,null,null,null,"月",null,null,null,null,null,null,null,"日",null,null,null,null,null,null,null,"(担当者)",null,null,null,null,null,{"$f":"IF(入力用!D7=\"\",\"\",入力用!D7)","v":""},null,null,null,null,null,null,null,null,null,null,null,null,null,null,"工事会社№（",null,null,null,null,null,null,null,null,null,{"$f":"IF(入力用!D8=\"\",\"\",入力用!D8)","v":""},null,null,"-",{"$f":"IF(入力用!F8=\"\",\"\",入力用!F8)","v":""},null,null,null,null,")"]
[]
[null,"ﾊﾟﾀｰﾝ\n区 分",null,null,null,null,"A",null,null,null,"契約種別",null,null,{"$f":"入力用!R13","v":""},null,null,null,null,null,null,null,null,null,null,null,null,null,null,null,null,null,null,null,null,null,null,null,null,"供給\n電気\n方式",null,null,null,{"$f":"IF(入力用!P10=2,入力用!R6,IF(入力用!P10=3,入力用!R7,IF(入力用!P10=4,入力用!R8,IF(入力用!P10=5,入力用!R9,\"\"))))","v":""},null,null,null,null,null,null,null,null,null,null,null,null,null,"契約決定\n方　　法",null,null,null,null,null,{"$f":"IF(入力用!P11=2,入力用!S6,IF(入力用!P11=3,入力用!S7,\"\"))","v":""},null,null,null,null,null,null,null,null,null,null,"検知制御装置",null,null,null,null,null,null,null,null,null,null,null,null,null,null,null,null,null,"室　　　番　　　号"]
[]
[null,null,null,null,null,null,null,null,null,null,null,null,null,null,null,null,null,null,null,null,null,null,null,null,null,null,null,null,null,null,null,null,null,null,null,null,null,null,null,null,null,null,null,null,null,null,null,null,null,null,null,null,null,null,null,null,null,null,null,null,null,null,null,null,null,null,null,null,null,null,null,null,null,"メーカー",null,null,null,"型　　式",null,null,null,null,null,null,null,null,"種　類",null,null,null,null,{"$f":"IF(入力用!D51=\"\",\"\",入力用!D51)","v":""}]
[]
[null,null,null,null,null,null,null,null,null,null,null,null,null,null,null,null,null,null,null,null,null,null,null,null,null,null,null,null,null,null,null,null,null,null,null,null,null,null,null,null,null,null,null,null,null,null,null,null,null,null,null,null,null,null,null,null,"主開閉器の\n定格電流",null,null,null,null,null,{"$f":"IF(入力用!D12=\"\",\"\",入力用!D12)","v":""},null,null,null,null,null,null,null,null,null,null,{"$f":"IF(入力用!D45=\"\",\"\",入力用!D45)","v":""},null,null,null,{"$f":"IF(入力用!D46=\"\",\"\",入力用!D46)","v":""},null,null,null,null,null,null,null,null,{"$f":"IF(入力用!P47=2,入力用!W6,IF(入力用!P47=3,入力用!W7,IF(入力用!P47=4,入力用!W8,\"\")))","v":""}]
[null,null,null,null,null,null,null,null,null,null,null,null,null,null,null,null,null,null,null,null,null,null,null,null,null,null,null,null,null,null,null,null,null,null,null,null,null,null,null,null,null,null,null,null,null,null,null,null,null,null,null,null,null,null,null,null,null,null,null,null,null,null,null,null,null,null,null,null,null,null,"Ａ"]
[]
[null,null,null,null,null,null,null,null,null,null,null,null,null,null,null,null,null,null,null,null,null,null,null,null,null,null,null,null,null,null,null,null,null,null,null,null,null,null,null,null,null,null,null,null,null,null,null,null,null,null,null,null,null,null,null,null,null,null,null,null,null,null,null,null,null,null,null,null,null,null,null,null,null,"通電遮断パターン"]
[null,"契約\n負荷\n設備\n内訳",null,null,null,null,"機　器　種　別",null,null,null,null,null,null,null,null,null,null,"メーカー",null,null,null,null,"型　　　　式",null,null,null,null,null,null,null,null,null,null,null,null,null,null,"通電制御・検知制御",null,null,null,null,null,null,null,null,null,"出　力",null,null,null,null,null,null,null,null,"入 力",null,null,null,null,null,null,"力率",null,null,null,null,"台数"]
[null,null,null,null,null,null,null,null,null,null,null,null,null,null,null,null,null,null,null,null,null,null,null,null,null,null,null,null,null,null,null,null,null,null,null,null,null,null,null,null,null,null,null,null,null,null,null,null,null,null,null,null,null,null,null,null,null,null,null,null,null,null,null,null,null,null,null,null,null,null,null,null,null,{"$f":"IF(入力用!D48=\"\",\"\",入力用!D48)","v":""},null,"時",null,{"$f":"IF(入力用!F48=\"\",\"\",IF(入力用!F48=\"0\",\"00\",入力用!F48))","v":""},null,"分から",null,null,null,{"$f":"IF(入力用!D49=\"\",\"\",入力用!D49)","v":""},null,{"$f":"IF(入力用!P48=2,入力用!X6,IF(入力用!P48=3,入力用!X7,\"\"))&IF(入力用!P49=2,入力用!Y6,IF(入力用!P49=3,入力用!Y7,\"\"))","v":""}]
[null,null,null,null,null,null,{"$f":"IF(入力用!D13=\"\",\"\",入力用!D13)","v":""},null,null,null,null,null,null,null,null,null,null,{"$f":"IF(入力用!D14=\"\",\"\",入力用!D14)","v":""},null,null,null,null,{"$f":"IF(入力用!D15=\"\",\"\",入力用!D15)","v":""},null,null,null,null,null,null,null,null,null,null,null,null,null,null,{"$f":"IF(入力用!P16=2,入力用!T6,IF(入力用!P16=3,入力用!T7,\"\"))","v":""},null,null,null,null,null,null,null,null,null,{"$f":"IF(入力用!D17=\"\",\"\",入力用!D17)","v":""},null,null,null,null,{"$f":"IF(入力用!P17=2,入力用!U6,IF(入力用!P17=3,入力用!U7,\"㏋・㎾\"))","v":"㏋・㎾"},null,null,null,{"$f":"IF(入力用!Q17=0,\"\",入力用!Q17)","v":""},null,null,null,null,"㎾",null,{"$f":"IF(入力用!P19=2,入力用!V6,IF(入力用!P19=3,入力用!V7,IF(入力用!P19=4,入力用!V8,IF(入力用!P19=5,入力用!V9,\"\"))))","v":""},null,null,null,null,{"$f":"IF(入力用!D20=\"\",\"\",入力用!D20)","v":""},null,null,"台",null,null,null,null,null,null,null,null,null,null,null,null,null,null,null,null,null,null,null,"契 約 口 数 合 計",null,null,null,null,null,null,null,null,null,null,null,null,{"$f":"IF(入力用!D52=\"\",\"\",入力用!D52)","v":""},null,null,null,"口"]
[]
[null,null,null,null,null,null,{"$f":"IF(入力用!D21=\"\",\"\",入力用!D21)","v":""},null,null,null,null,null,null,null,null,null,null,{"$f":"IF(入力用!D22=\"\",\"\",入力用!D22)","v":""},null,null,null,null,{"$f":"IF(入力用!D23=\"\",\"\",入力用!D23)","v":""},null,null,null,null,null,null,null,null,null,null,null,null,null,null,{"$f":"IF(入力用!P24=2,入力用!T6,IF(入力用!P24=3,入力用!T7,\"\"))","v":""},null,null,null,null,null,null,null,null,null,{"$f":"IF(入力用!D25=\"\",\"\",入力用!D25)","v":""},null,null,null,null,{"$f":"IF(入力用!P25=2,入力用!U6,IF(入力用!P25=3,入力用!U7,\"㏋・㎾\"))","v":"㏋・㎾"},null,null,null,{"$f":"IF(入力用!Q25=0,\"\",入力用!Q25)","v":""},null,null,null,null,"㎾",null,{"$f":"IF(入力用!P27=2,入力用!V6,IF(入力用!P27=3,入力用!V7,IF(入力用!P27=4,入力用!V8,IF(入力用!P27=5,入力用!V9,\"\"))))","v":""},null,null,null,null,{"$f":"IF(入力用!D28=\"\",\"\",入力用!D28)","v":""},null,null,"台",null,"最低使用期間",null,null,null,null,null,null,null,null,null,"通電制御・検知制御割引対象率",null,null,null,null,null,null,null,null,null,null,null,null,null,null,null,null,null,null,null,{"$f":"IF(入力用!S38+入力用!S39=0,\"\",ROUND(入力用!S35/(入力用!S38+入力用!S39),2)*100)","v":""},null,null,null,null,"％"]
[]
[null,null,null,null,null,null,{"$f":"IF(入力用!D29=\"\",\"\",入力用!D29)","v":""},null,null,null,null,null,null,null,null,null,null,{"$f":"IF(入力用!D30=\"\",\"\",入力用!D30)","v":""},null,null,null,null,{"$f":"IF(入力用!D31=\"\",\"\",入力用!D31)","v":""},null,null,null,null,null,null,null,null,null,null,null,null,null,null,{"$f":"IF(入力用!P32=2,入力用!T6,IF(入力用!P32=3,入力用!T7,\"\"))","v":""},null,null,null,null,null,null,null,null,null,{"$f":"IF(入力用!D33=\"\",\"\",入力用!D33)","v":""},null,null,null,null,{"$f":"IF(入力用!P33=2,入力用!U6,IF(入力用!P33=3,入力用!U7,\"㏋・㎾\"))","v":"㏋・㎾"},null,null,null,{"$f":"IF(入力用!Q33=0,\"\",入力用!Q33)","v":""},null,null,null,null,"㎾",null,{"$f":"IF(入力用!P35=2,入力用!V6,IF(入力用!P35=3,入力用!V7,IF(入力用!P35=4,入力用!V8,IF(入力用!P35=5,入力用!V9,\"\"))))","v":""},null,null,null,null,{"$f":"IF(入力用!D36=\"\",\"\",入力用!D36)","v":""},null,null,"台",null,"開始",null,null,null,null,"終了",null,null,null,null,"力率",null,null,null,null,null,"85％",null,null,null,{"$f":"IF(入力用!P11=2,\"超過\",IF(入力用!S19=\"\",\"超過\n未満\",IF(入力用!S19>0.85,\"超過\",IF(入力用!S19=0.85,\"\",\"未満\"))))","v":"超過\n未満"},null,null,null,"契 約\n電 力",null,null,null,null,null,{"$f":"入力用!S33","v":""},null,null,null,null,"kW"]
[]
[null,null,null,null,null,null,{"$f":"IF(入力用!D37=\"\",\"\",入力用!D37)","v":""},null,null,null,null,null,null,null,null,null,null,{"$f":"IF(入力用!D38=\"\",\"\",入力用!D38)","v":""},null,null,null,null,{"$f":"IF(入力用!D39=\"\",\"\",入力用!D39)","v":""},null,null,null,null,null,null,null,null,null,null,null,null,null,null,{"$f":"IF(入力用!P40=2,入力用!T6,IF(入力用!P40=3,入力用!T7,\"\"))","v":""},null,null,null,null,null,null,null,null,null,{"$f":"IF(入力用!D41=\"\",\"\",入力用!D41)","v":""},null,null,null,null,{"$f":"IF(入力用!P41=2,入力用!U6,IF(入力用!P41=3,入力用!U7,\"㏋・㎾\"))","v":"㏋・㎾"},null,null,null,{"$f":"IF(入力用!Q41=0,\"\",入力用!Q41)","v":""},null,null,null,null,"㎾",null,{"$f":"IF(入力用!P43=2,入力用!V6,IF(入力用!P43=3,入力用!V7,IF(入力用!P43=4,入力用!V8,IF(入力用!P43=5,入力用!V9,\"\"))))","v":""},null,null,null,null,{"$f":"IF(入力用!D44=\"\",\"\",入力用!D44)","v":""},null,null,"台",null,{"$f":"IF(入力用!D50=\"\",\"\",入力用!D50)","v":""},null,"月分",null,null,{"$f":"IF(入力用!D50=\"\",\"\",IF(入力用!P9=10,IF(BV43>7,BV43-7,BV43+5),IF(BV43>10,BV43-10,BV43+2)))","v":""},null,"月分"]
[]
[null,"ﾊﾟﾀｰﾝ\n区 分",null,null,null,null,"B",null,null,null,"契約種別",null,null,{"$f":"入力用!R57","v":""},null,null,null,null,null,null,null,null,null,null,null,null,null,null,null,null,null,null,null,null,null,null,null,null,"供給\n電気\n方式",null,null,null,{"$f":"IF(入力用!P54=2,入力用!R6,IF(入力用!P54=3,入力用!R7,IF(入力用!P54=4,入力用!R8,IF(入力用!P54=5,入力用!R9,\"\"))))","v":""},null,null,null,null,null,null,null,null,null,null,null,null,null,"契約決定\n方　　法",null,null,null,null,null,{"$f":"IF(入力用!P55=2,入力用!S6,IF(入力用!P55=3,入力用!S7,\"\"))","v":""},null,null,null,null,null,null,null,null,null,null,"検知制御装置",null,null,null,null,null,null,null,null,null,null,null,null,null,null,null,null,null,"室　　　番　　　号"]
[]
[null,null,null,null,null,null,null,null,null,null,null,null,null,null,null,null,null,null,null,null,null,null,null,null,null,null,null,null,null,null,null,null,null,null,null,null,null,null,null,null,null,null,null,null,null,null,null,null,null,null,null,null,null,null,null,null,null,null,null,null,null,null,null,null,null,null,null,null,null,null,null,null,null,"メーカー",null,null,null,"型　　式",null,null,null,null,null,null,null,null,"種　類",null,null,null,null,{"$f":"IF(入力用!D95=\"\",\"\",入力用!D95)","v":""}]
[]
[null,null,null,null,null,null,null,null,null,null,null,null,null,null,null,null,null,null,null,null,null,null,null,null,null,null,null,null,null,null,null,null,null,null,null,null,null,null,null,null,null,null,null,null,null,null,null,null,null,null,null,null,null,null,null,null,"主開閉器の\n定格電流",null,null,null,null,null,{"$f":"IF(入力用!D56=\"\",\"\",入力用!D56)","v":""},null,null,null,null,null,null,null,null,null,null,{"$f":"IF(入力用!D89=\"\",\"\",入力用!D89)","v":""},null,null,null,{"$f":"IF(入力用!D90=\"\",\"\",入力用!D90)","v":""},null,null,null,null,null,null,null,null,{"$f":"IF(入力用!P91=2,入力用!W6,IF(入力用!P91=3,入力用!W7,IF(入力用!P91=4,入力用!W8,\"\")))","v":""}]
[null,null,null,null,null,null,null,null,null,null,null,null,null,null,null,null,null,null,null,null,null,null,null,null,null,null,null,null,null,null,null,null,null,null,null,null,null,null,null,null,null,null,null,null,null,null,null,null,null,null,null,null,null,null,null,null,null,null,null,null,null,null,null,null,null,null,null,null,null,null,"Ａ"]
[]
[null,null,null,null,null,null,null,null,null,null,null,null,null,null,null,null,null,null,null,null,null,null,null,null,null,null,null,null,null,null,null,null,null,null,null,null,null,null,null,null,null,null,null,null,null,null,null,null,null,null,null,null,null,null,null,null,null,null,null,null,null,null,null,null,null,null,null,null,null,null,null,null,null,"通電遮断パターン"]
[null,"契約\n負荷\n設備\n内訳",null,null,null,null,"機　器　種　別",null,null,null,null,null,null,null,null,null,null,"メーカー",null,null,null,null,"型　　　　式",null,null,null,null,null,null,null,null,null,null,null,null,null,null,"通電制御・検知制御",null,null,null,null,null,null,null,null,null,"出　力",null,null,null,null,null,null,null,null,"入 力",null,null,null,null,null,null,"力率",null,null,null,null,"台数"]
[null,null,null,null,null,null,null,null,null,null,null,null,null,null,null,null,null,null,null,null,null,null,null,null,null,null,null,null,null,null,null,null,null,null,null,null,null,null,null,null,null,null,null,null,null,null,null,null,null,null,null,null,null,null,null,null,null,null,null,null,null,null,null,null,null,null,null,null,null,null,null,null,null,{"$f":"IF(入力用!D92=\"\",\"\",入力用!D92)","v":""},null,"時",null,{"$f":"IF(入力用!F92=\"\",\"\",IF(入力用!F92=\"0\",\"00\",入力用!F92))","v":""},null,"分から",null,null,null,{"$f":"IF(入力用!D93=\"\",\"\",入力用!D93)","v":""},null,{"$f":"IF(入力用!P92=2,入力用!X6,IF(入力用!P92=3,入力用!X7,\"\"))&IF(入力用!P93=2,入力用!Y6,IF(入力用!P93=3,入力用!Y7,\"\"))","v":""}]
[null,null,null,null,null,null,{"$f":"IF(入力用!D57=\"\",\"\",入力用!D57)","v":""},null,null,null,null,null,null,null,null,null,null,{"$f":"IF(入力用!D58=\"\",\"\",入力用!D58)","v":""},null,null,null,null,{"$f":"IF(入力用!D59=\"\",\"\",入力用!D59)","v":""},null,null,null,null,null,null,null,null,null,null,null,null,null,null,{"$f":"IF(入力用!P60=2,入力用!T6,IF(入力用!P60=3,入力用!T7,\"\"))","v":""},null,null,null,null,null,null,null,null,null,{"$f":"IF(入力用!D61=\"\",\"\",入力用!D61)","v":""},null,null,null,null,{"$f":"IF(入力用!P61=2,入力用!U6,IF(入力用!P61=3,入力用!U7,\"㏋・㎾\"))","v":"㏋・㎾"},null,null,null,{"$f":"IF(入力用!Q61=0,\"\",入力用!Q61)","v":""},null,null,null,null,"㎾",null,{"$f":"IF(入力用!P63=2,入力用!V6,IF(入力用!P63=3,入力用!V7,IF(入力用!P63=4,入力用!V8,IF(入力用!P63=5,入力用!V9,\"\"))))","v":""},null,null,null,null,{"$f":"IF(入力用!D64=\"\",\"\",入力用!D64)","v":""},null,null,"台",null,null,null,null,null,null,null,null,null,null,null,null,null,null,null,null,null,null,null,"契 約 口 数 合 計",null,null,null,null,null,null,null,null,null,null,null,null,{"$f":"IF(入力用!D96=\"\",\"\",入力用!D96)","v":""},null,null,null,"口"]
[]
[null,null,null,null,null,null,{"$f":"IF(入力用!D65=\"\",\"\",入力用!D65)","v":""},null,null,null,null,null,null,null,null,null,null,{"$f":"IF(入力用!D66=\"\",\"\",入力用!D66)","v":""},null,null,null,null,{"$f":"IF(入力用!D67=\"\",\"\",入力用!D67)","v":""},null,null,null,null,null,null,null,null,null,null,null,null,null,null,{"$f":"IF(入力用!P68=2,入力用!T6,IF(入力用!P68=3,入力用!T7,\"\"))","v":""},null,null,null,null,null,null,null,null,null,{"$f":"IF(入力用!D69=\"\",\"\",入力用!D69)","v":""},null,null,null,null,{"$f":"IF(入力用!P69=2,入力用!U6,IF(入力用!P69=3,入力用!U7,\"㏋・㎾\"))","v":"㏋・㎾"},null,null,null,{"$f":"IF(入力用!Q69=0,\"\",入力用!Q69)","v":""},null,null,null,null,"㎾",null,{"$f":"IF(入力用!P71=2,入力用!V6,IF(入力用!P71=3,入力用!V7,IF(入力用!P71=4,入力用!V8,IF(入力用!P71=5,入力用!V9,\"\"))))","v":""},null,null,null,null,{"$f":"IF(入力用!D72=\"\",\"\",入力用!D72)","v":""},null,null,"台",null,"最低使用期間",null,null,null,null,null,null,null,null,null,"通電制御・検知制御割引対象率",null,null,null,null,null,null,null,null,null,null,null,null,null,null,null,null,null,null,null,{"$f":"IF(入力用!S82+入力用!S83=0,\"\",ROUND(入力用!S79/(入力用!S82+入力用!S83),2)*100)","v":""},null,null,null,null,"％"]
[]
[null,null,null,null,null,null,{"$f":"IF(入力用!D73=\"\",\"\",入力用!D73)","v":""},null,null,null,null,null,null,null,null,null,null,{"$f":"IF(入力用!D74=\"\",\"\",入力用!D74)","v":""},null,null,null,null,{"$f":"IF(入力用!D75=\"\",\"\",入力用!D75)","v":""},null,null,null,null,null,null,null,null,null,null,null,null,null,null,{"$f":"IF(入力用!P76=2,入力用!T6,IF(入力用!P76=3,入力用!T7,\"\"))","v":""},null,null,null,null,null,null,null,null,null,{"$f":"IF(入力用!D77=\"\",\"\",入力用!D77)","v":""},null,null,null,null,{"$f":"IF(入力用!P77=2,入力用!U6,IF(入力用!P77=3,入力用!U7,\"㏋・㎾\"))","v":"㏋・㎾"},null,null,null,{"$f":"IF(入力用!Q77=0,\"\",入力用!Q77)","v":""},null,null,null,null,"㎾",null,{"$f":"IF(入力用!P79=2,入力用!V6,IF(入力用!P79=3,入力用!V7,IF(入力用!P79=4,入力用!V8,IF(入力用!P79=5,入力用!V9,\"\"))))","v":""},null,null,null,null,{"$f":"IF(入力用!D80=\"\",\"\",入力用!D80)","v":""},null,null,"台",null,"開始",null,null,null,null,"終了",null,null,null,null,"力率",null,null,null,null,null,"85％",null,null,null,{"$f":"IF(入力用!P55=2,\"超過\",IF(入力用!S63=\"\",\"超過\n未満\",IF(入力用!S63>0.85,\"超過\",IF(入力用!S63=0.85,\"\",\"未満\"))))","v":"超過\n未満"},null,null,null,"契 約\n電 力",null,null,null,null,null,{"$f":"入力用!S77","v":""},null,null,null,null,"kW"]
[]
[null,null,null,null,null,null,{"$f":"IF(入力用!D81=\"\",\"\",入力用!D81)","v":""},null,null,null,null,null,null,null,null,null,null,{"$f":"IF(入力用!D82=\"\",\"\",入力用!D82)","v":""},null,null,null,null,{"$f":"IF(入力用!D83=\"\",\"\",入力用!D83)","v":""},null,null,null,null,null,null,null,null,null,null,null,null,null,null,{"$f":"IF(入力用!P84=2,入力用!T6,IF(入力用!P84=3,入力用!T7,\"\"))","v":""},null,null,null,null,null,null,null,null,null,{"$f":"IF(入力用!D85=\"\",\"\",入力用!D85)","v":""},null,null,null,null,{"$f":"IF(入力用!P85=2,入力用!U6,IF(入力用!P85=3,入力用!U7,\"㏋・㎾\"))","v":"㏋・㎾"},null,null,null,{"$f":"IF(入力用!Q85=0,\"\",入力用!Q85)","v":""},null,null,null,null,"㎾",null,{"$f":"IF(入力用!P87=2,入力用!V6,IF(入力用!P87=3,入力用!V7,IF(入力用!P87=4,入力用!V8,IF(入力用!P87=5,入力用!V9,\"\"))))","v":""},null,null,null,null,{"$f":"IF(入力用!D88=\"\",\"\",入力用!D88)","v":""},null,null,"台",null,{"$f":"IF(入力用!D94=\"\",\"\",入力用!D94)","v":""},null,"月分",null,null,{"$f":"IF(入力用!D94=\"\",\"\",IF(入力用!P53=10,IF(BV61>7,BV61-7,BV61+5),IF(BV61>10,BV61-10,BV61+2)))","v":""},null,"月分"]
[]
[null,"ﾊﾟﾀｰﾝ\n区 分",null,null,null,null,"C",null,null,null,"契約種別",null,null,{"$f":"入力用!R101","v":""},null,null,null,null,null,null,null,null,null,null,null,null,null,null,null,null,null,null,null,null,null,null,null,null,"供給\n電気\n方式",null,null,null,{"$f":"IF(入力用!P98=2,入力用!R6,IF(入力用!P98=3,入力用!R7,IF(入力用!P98=4,入力用!R8,IF(入力用!P98=5,入力用!R9,\"\"))))","v":""},null,null,null,null,null,null,null,null,null,null,null,null,null,"契約決定\n方　　法",null,null,null,null,null,{"$f":"IF(入力用!P99=2,入力用!S6,IF(入力用!P99=3,入力用!S7,\"\"))","v":""},null,null,null,null,null,null,null,null,null,null,"検知制御装置",null,null,null,null,null,null,null,null,null,null,null,null,null,null,null,null,null,"室　　　番　　　号"]
[]
[null,null,null,null,null,null,null,null,null,null,null,null,null,null,null,null,null,null,null,null,null,null,null,null,null,null,null,null,null,null,null,null,null,null,null,null,null,null,null,null,null,null,null,null,null,null,null,null,null,null,null,null,null,null,null,null,null,null,null,null,null,null,null,null,null,null,null,null,null,null,null,null,null,"メーカー",null,null,null,"型　　式",null,null,null,null,null,null,null,null,"種　類",null,null,null,null,{"$f":"IF(入力用!D139=\"\",\"\",入力用!D139)","v":""}]
[]
[null,null,null,null,null,null,null,null,null,null,null,null,null,null,null,null,null,null,null,null,null,null,null,null,null,null,null,null,null,null,null,null,null,null,null,null,null,null,null,null,null,null,null,null,null,null,null,null,null,null,null,null,null,null,null,null,"主開閉器の\n定格電流",null,null,null,null,null,{"$f":"IF(入力用!D100=\"\",\"\",入力用!D100)","v":""},null,null,null,null,null,null,null,null,null,null,{"$f":"IF(入力用!D133=\"\",\"\",入力用!D133)","v":""},null,null,null,{"$f":"IF(入力用!D134=\"\",\"\",入力用!D134)","v":""},null,null,null,null,null,null,null,null,{"$f":"IF(入力用!P135=2,入力用!W6,IF(入力用!P135=3,入力用!W7,IF(入力用!P135=4,入力用!W8,\"\")))","v":""}]
[null,null,null,null,null,null,null,null,null,null,null,null,null,null,null,null,null,null,null,null,null,null,null,null,null,null,null,null,null,null,null,null,null,null,null,null,null,null,null,null,null,null,null,null,null,null,null,null,null,null,null,null,null,null,null,null,null,null,null,null,null,null,null,null,null,null,null,null,null,null,"Ａ"]
[]
[null,null,null,null,null,null,null,null,null,null,null,null,null,null,null,null,null,null,null,null,null,null,null,null,null,null,null,null,null,null,null,null,null,null,null,null,null,null,null,null,null,null,null,null,null,null,null,null,null,null,null,null,null,null,null,null,null,null,null,null,null,null,null,null,null,null,null,null,null,null,null,null,null,"通電遮断パターン"]
[null,"契約\n負荷\n設備\n内訳",null,null,null,null,"機　器　種　別",null,null,null,null,null,null,null,null,null,null,"メーカー",null,null,null,null,"型　　　　式",null,null,null,null,null,null,null,null,null,null,null,null,null,null,"通電制御・検知制御",null,null,null,null,null,null,null,null,null,"出　力",null,null,null,null,null,null,null,null,"入 力",null,null,null,null,null,null,"力率",null,null,null,null,"台数"]
[null,null,null,null,null,null,null,null,null,null,null,null,null,null,null,null,null,null,null,null,null,null,null,null,null,null,null,null,null,null,null,null,null,null,null,null,null,null,null,null,null,null,null,null,null,null,null,null,null,null,null,null,null,null,null,null,null,null,null,null,null,null,null,null,null,null,null,null,null,null,null,null,null,{"$f":"IF(入力用!D136=\"\",\"\",入力用!D136)","v":""},null,"時",null,{"$f":"IF(入力用!F136=\"\",\"\",IF(入力用!F136=\"0\",\"00\",入力用!F136))","v":""},null,"分から",null,null,null,{"$f":"IF(入力用!D137=\"\",\"\",入力用!D137)","v":""},null,{"$f":"IF(入力用!P136=2,入力用!X6,IF(入力用!P136=3,入力用!X7,\"\"))&IF(入力用!P137=2,入力用!Y6,IF(入力用!P137=3,入力用!Y7,\"\"))","v":""}]
[null,null,null,null,null,null,{"$f":"IF(入力用!D101=\"\",\"\",入力用!D101)","v":""},null,null,null,null,null,null,null,null,null,null,{"$f":"IF(入力用!D102=\"\",\"\",入力用!D102)","v":""},null,null,null,null,{"$f":"IF(入力用!D103=\"\",\"\",入力用!D103)","v":""},null,null,null,null,null,null,null,null,null,null,null,null,null,null,{"$f":"IF(入力用!P104=2,入力用!T6,IF(入力用!P104=3,入力用!T7,\"\"))","v":""},null,null,null,null,null,null,null,null,null,{"$f":"IF(入力用!D105=\"\",\"\",入力用!D105)","v":""},null,null,null,null,{"$f":"IF(入力用!P105=2,入力用!U6,IF(入力用!P105=3,入力用!U7,\"㏋・㎾\"))","v":"㏋・㎾"},null,null,null,{"$f":"IF(入力用!Q105=0,\"\",入力用!Q105)","v":""},null,null,null,null,"㎾",null,{"$f":"IF(入力用!P107=2,入力用!V6,IF(入力用!P107=3,入力用!V7,IF(入力用!P107=4,入力用!V8,IF(入力用!P107=5,入力用!V9,\"\"))))","v":""},null,null,null,null,{"$f":"IF(入力用!D108=\"\",\"\",入力用!D108)","v":""},null,null,"台",null,null,null,null,null,null,null,null,null,null,null,null,null,null,null,null,null,null,null,"契 約 口 数 合 計",null,null,null,null,null,null,null,null,null,null,null,null,{"$f":"IF(入力用!D140=\"\",\"\",入力用!D140)","v":""},null,null,null,"口"]
[]
[null,null,null,null,null,null,{"$f":"IF(入力用!D109=\"\",\"\",入力用!D109)","v":""},null,null,null,null,null,null,null,null,null,null,{"$f":"IF(入力用!D110=\"\",\"\",入力用!D110)","v":""},null,null,null,null,{"$f":"IF(入力用!D111=\"\",\"\",入力用!D111)","v":""},null,null,null,null,null,null,null,null,null,null,null,null,null,null,{"$f":"IF(入力用!P112=2,入力用!T6,IF(入力用!P112=3,入力用!T7,\"\"))","v":""},null,null,null,null,null,null,null,null,null,{"$f":"IF(入力用!D113=\"\",\"\",入力用!D113)","v":""},null,null,null,null,{"$f":"IF(入力用!P113=2,入力用!U6,IF(入力用!P113=3,入力用!U7,\"㏋・㎾\"))","v":"㏋・㎾"},null,null,null,{"$f":"IF(入力用!Q113=0,\"\",入力用!Q113)","v":""},null,null,null,null,"㎾",null,{"$f":"IF(入力用!P115=2,入力用!V6,IF(入力用!P115=3,入力用!V7,IF(入力用!P115=4,入力用!V8,IF(入力用!P115=5,入力用!V9,\"\"))))","v":""},null,null,null,null,{"$f":"IF(入力用!D116=\"\",\"\",入力用!D116)","v":""},null,null,"台",null,"最低使用期間",null,null,null,null,null,null,null,null,null,"通電制御・検知制御割引対象率",null,null,null,null,null,null,null,null,null,null,null,null,null,null,null,null,null,null,null,{"$f":"IF(入力用!S126+入力用!S127=0,\"\",ROUND(入力用!S123/(入力用!S126+入力用!S127),2)*100)","v":""},null,null,null,null,"％"]
[]
[null,null,null,null,null,null,{"$f":"IF(入力用!D117=\"\",\"\",入力用!D117)","v":""},null,null,null,null,null,null,null,null,null,null,{"$f":"IF(入力用!D118=\"\",\"\",入力用!D118)","v":""},null,null,null,null,{"$f":"IF(入力用!D119=\"\",\"\",入力用!D119)","v":""},null,null,null,null,null,null,null,null,null,null,null,null,null,null,{"$f":"IF(入力用!P120=2,入力用!T6,IF(入力用!P120=3,入力用!T7,\"\"))","v":""},null,null,null,null,null,null,null,null,null,{"$f":"IF(入力用!D121=\"\",\"\",入力用!D121)","v":""},null,null,null,null,{"$f":"IF(入力用!P121=2,入力用!U6,IF(入力用!P121=3,入力用!U7,\"㏋・㎾\"))","v":"㏋・㎾"},null,null,null,{"$f":"IF(入力用!Q121=0,\"\",入力用!Q121)","v":""},null,null,null,null,"㎾",null,{"$f":"IF(入力用!P123=2,入力用!V6,IF(入力用!P123=3,入力用!V7,IF(入力用!P123=4,入力用!V8,IF(入力用!P123=5,入力用!V9,\"\"))))","v":""},null,null,null,null,{"$f":"IF(入力用!D124=\"\",\"\",入力用!D124)","v":""},null,null,"台",null,"開始",null,null,null,null,"終了",null,null,null,null,"力率",null,null,null,null,null,"85％",null,null,null,{"$f":"IF(入力用!P99=2,\"超過\",IF(入力用!S107=\"\",\"超過\n未満\",IF(入力用!S107>0.85,\"超過\",IF(入力用!S107=0.85,\"\",\"未満\"))))","v":"超過\n未満"},null,null,null,"契 約\n電 力",null,null,null,null,null,{"$f":"入力用!S121","v":""},null,null,null,null,"kW"]
[]
[null,null,null,null,null,null,{"$f":"IF(入力用!D125=\"\",\"\",入力用!D125)","v":""},null,null,null,null,null,null,null,null,null,null,{"$f":"IF(入力用!D126=\"\",\"\",入力用!D126)","v":""},null,null,null,null,{"$f":"IF(入力用!D127=\"\",\"\",入力用!D127)","v":""},null,null,null,null,null,null,null,null,null,null,null,null,null,null,{"$f":"IF(入力用!P128=2,入力用!T6,IF(入力用!P128=3,入力用!T7,\"\"))","v":""},null,null,null,null,null,null,null,null,null,{"$f":"IF(入力用!D129=\"\",\"\",入力用!D129)","v":""},null,null,null,null,{"$f":"IF(入力用!P129=2,入力用!U6,IF(入力用!P129=3,入力用!U7,\"㏋・㎾\"))","v":"㏋・㎾"},null,null,null,{"$f":"IF(入力用!Q129=0,\"\",入力用!Q129)","v":""},null,null,null,null,"㎾",null,{"$f":"IF(入力用!P131=2,入力用!V6,IF(入力用!P131=3,入力用!V7,IF(入力用!P131=4,入力用!V8,IF(入力用!P131=5,入力用!V9,\"\"))))","v":""},null,null,null,null,{"$f":"IF(入力用!D132=\"\",\"\",入力用!D132)","v":""},null,null,"台",null,{"$f":"IF(入力用!D138=\"\",\"\",入力用!D138)","v":""},null,"月分",null,null,{"$f":"IF(入力用!D138=\"\",\"\",IF(入力用!P97=10,IF(BV79>7,BV79-7,BV79+5),IF(BV79>10,BV79-10,BV79+2)))","v":""},null,"月分"]
[]
[null,"ﾊﾟﾀｰﾝ\n区 分",null,null,null,null,"D",null,null,null,"契約種別",null,null,{"$f":"入力用!R145","v":""},null,null,null,null,null,null,null,null,null,null,null,null,null,null,null,null,null,null,null,null,null,null,null,null,"供給\n電気\n方式",null,null,null,{"$f":"IF(入力用!P142=2,入力用!R6,IF(入力用!P142=3,入力用!R7,IF(入力用!P142=4,入力用!R8,IF(入力用!P142=5,入力用!R9,\"\"))))","v":""},null,null,null,null,null,null,null,null,null,null,null,null,null,"契約決定\n方　　法",null,null,null,null,null,{"$f":"IF(入力用!P143=2,入力用!S6,IF(入力用!P143=3,入力用!S7,\"\"))","v":""},null,null,null,null,null,null,null,null,null,null,"検知制御装置",null,null,null,null,null,null,null,null,null,null,null,null,null,null,null,null,null,"室　　　番　　　号"]
[]
[null,null,null,null,null,null,null,null,null,null,null,null,null,null,null,null,null,null,null,null,null,null,null,null,null,null,null,null,null,null,null,null,null,null,null,null,null,null,null,null,null,null,null,null,null,null,null,null,null,null,null,null,null,null,null,null,null,null,null,null,null,null,null,null,null,null,null,null,null,null,null,null,null,"メーカー",null,null,null,"型　　式",null,null,null,null,null,null,null,null,"種　類",null,null,null,null,{"$f":"IF(入力用!D183=\"\",\"\",入力用!D183)","v":""}]
[]
[null,null,null,null,null,null,null,null,null,null,null,null,null,null,null,null,null,null,null,null,null,null,null,null,null,null,null,null,null,null,null,null,null,null,null,null,null,null,null,null,null,null,null,null,null,null,null,null,null,null,null,null,null,null,null,null,"主開閉器の\n定格電流",null,null,null,null,null,{"$f":"IF(入力用!D144=\"\",\"\",入力用!D144)","v":""},null,null,null,null,null,null,null,null,null,null,{"$f":"IF(入力用!D177=\"\",\"\",入力用!D177)","v":""},null,null,null,{"$f":"IF(入力用!D178=\"\",\"\",入力用!D178)","v":""},null,null,null,null,null,null,null,null,{"$f":"IF(入力用!P179=2,入力用!W6,IF(入力用!P179=3,入力用!W7,IF(入力用!P179=4,入力用!W8,\"\")))","v":""}]
[null,null,null,null,null,null,null,null,null,null,null,null,null,null,null,null,null,null,null,null,null,null,null,null,null,null,null,null,null,null,null,null,null,null,null,null,null,null,null,null,null,null,null,null,null,null,null,null,null,null,null,null,null,null,null,null,null,null,null,null,null,null,null,null,null,null,null,null,null,null,"Ａ"]
[]
[null,null,null,null,null,null,null,null,null,null,null,null,null,null,null,null,null,null,null,null,null,null,null,null,null,null,null,null,null,null,null,null,null,null,null,null,null,null,null,null,null,null,null,null,null,null,null,null,null,null,null,null,null,null,null,null,null,null,null,null,null,null,null,null,null,null,null,null,null,null,null,null,null,"通電遮断パターン"]
[null,"契約\n負荷\n設備\n内訳",null,null,null,null,"機　器　種　別",null,null,null,null,null,null,null,null,null,null,"メーカー",null,null,null,null,"型　　　　式",null,null,null,null,null,null,null,null,null,null,null,null,null,null,"通電制御・検知制御",null,null,null,null,null,null,null,null,null,"出　力",null,null,null,null,null,null,null,null,"入 力",null,null,null,null,null,null,"力率",null,null,null,null,"台数"]
[null,null,null,null,null,null,null,null,null,null,null,null,null,null,null,null,null,null,null,null,null,null,null,null,null,null,null,null,null,null,null,null,null,null,null,null,null,null,null,null,null,null,null,null,null,null,null,null,null,null,null,null,null,null,null,null,null,null,null,null,null,null,null,null,null,null,null,null,null,null,null,null,null,{"$f":"IF(入力用!D180=\"\",\"\",入力用!D180)","v":""},null,"時",null,{"$f":"IF(入力用!F180=\"\",\"\",IF(入力用!F180=\"0\",\"00\",入力用!F180))","v":""},null,"分から",null,null,null,{"$f":"IF(入力用!D181=\"\",\"\",入力用!D181)","v":""},null,{"$f":"IF(入力用!P180=2,入力用!X6,IF(入力用!P180=3,入力用!X7,\"\"))&IF(入力用!P181=2,入力用!Y6,IF(入力用!P181=3,入力用!Y7,\"\"))","v":""}]
[null,null,null,null,null,null,{"$f":"IF(入力用!D145=\"\",\"\",入力用!D145)","v":""},null,null,null,null,null,null,null,null,null,null,{"$f":"IF(入力用!D146=\"\",\"\",入力用!D146)","v":""},null,null,null,null,{"$f":"IF(入力用!D147=\"\",\"\",入力用!D147)","v":""},null,null,null,null,null,null,null,null,null,null,null,null,null,null,{"$f":"IF(入力用!P148=2,入力用!T6,IF(入力用!P148=3,入力用!T7,\"\"))","v":""},null,null,null,null,null,null,null,null,null,{"$f":"IF(入力用!D149=\"\",\"\",入力用!D149)","v":""},null,null,null,null,{"$f":"IF(入力用!P149=2,入力用!U6,IF(入力用!P149=3,入力用!U7,\"㏋・㎾\"))","v":"㏋・㎾"},null,null,null,{"$f":"IF(入力用!Q149=0,\"\",入力用!Q149)","v":""},null,null,null,null,"㎾",null,{"$f":"IF(入力用!P151=2,入力用!V6,IF(入力用!P151=3,入力用!V7,IF(入力用!P151=4,入力用!V8,IF(入力用!P151=5,入力用!V9,\"\"))))","v":""},null,null,null,null,{"$f":"IF(入力用!D152=\"\",\"\",入力用!D152)","v":""},null,null,"台",null,null,null,null,null,null,null,null,null,null,null,null,null,null,null,null,null,null,null,"契 約 口 数 合 計",null,null,null,null,null,null,null,null,null,null,null,null,{"$f":"IF(入力用!D184=\"\",\"\",入力用!D184)","v":""},null,null,null,"口"]
[]
[null,null,null,null,null,null,{"$f":"IF(入力用!D153=\"\",\"\",入力用!D153)","v":""},null,null,null,null,null,null,null,null,null,null,{"$f":"IF(入力用!D154=\"\",\"\",入力用!D154)","v":""},null,null,null,null,{"$f":"IF(入力用!D155=\"\",\"\",入力用!D155)","v":""},null,null,null,null,null,null,null,null,null,null,null,null,null,null,{"$f":"IF(入力用!P156=2,入力用!T6,IF(入力用!P156=3,入力用!T7,\"\"))","v":""},null,null,null,null,null,null,null,null,null,{"$f":"IF(入力用!D157=\"\",\"\",入力用!D157)","v":""},null,null,null,null,{"$f":"IF(入力用!P157=2,入力用!U6,IF(入力用!P157=3,入力用!U7,\"㏋・㎾\"))","v":"㏋・㎾"},null,null,null,{"$f":"IF(入力用!Q157=0,\"\",入力用!Q157)","v":""},null,null,null,null,"㎾",null,{"$f":"IF(入力用!P159=2,入力用!V6,IF(入力用!P159=3,入力用!V7,IF(入力用!P159=4,入力用!V8,IF(入力用!P159=5,入力用!V9,\"\"))))","v":""},null,null,null,null,{"$f":"IF(入力用!D160=\"\",\"\",入力用!D160)","v":""},null,null,"台",null,"最低使用期間",null,null,null,null,null,null,null,null,null,"通電制御・検知制御割引対象率",null,null,null,null,null,null,null,null,null,null,null,null,null,null,null,null,null,null,null,{"$f":"IF(入力用!S170+入力用!S171=0,\"\",ROUND(入力用!S167/(入力用!S170+入力用!S171),2)*100)","v":""},null,null,null,null,"％"]
[]
[null,null,null,null,null,null,{"$f":"IF(入力用!D161=\"\",\"\",入力用!D161)","v":""},null,null,null,null,null,null,null,null,null,null,{"$f":"IF(入力用!D162=\"\",\"\",入力用!D162)","v":""},null,null,null,null,{"$f":"IF(入力用!D163=\"\",\"\",入力用!D163)","v":""},null,null,null,null,null,null,null,null,null,null,null,null,null,null,{"$f":"IF(入力用!P164=2,入力用!T6,IF(入力用!P164=3,入力用!T7,\"\"))","v":""},null,null,null,null,null,null,null,null,null,{"$f":"IF(入力用!D165=\"\",\"\",入力用!D165)","v":""},null,null,null,null,{"$f":"IF(入力用!P165=2,入力用!U6,IF(入力用!P165=3,入力用!U7,\"㏋・㎾\"))","v":"㏋・㎾"},null,null,null,{"$f":"IF(入力用!Q165=0,\"\",入力用!Q165)","v":""},null,null,null,null,"㎾",null,{"$f":"IF(入力用!P167=2,入力用!V6,IF(入力用!P167=3,入力用!V7,IF(入力用!P167=4,入力用!V8,IF(入力用!P167=5,入力用!V9,\"\"))))","v":""},null,null,null,null,{"$f":"IF(入力用!D168=\"\",\"\",入力用!D168)","v":""},null,null,"台",null,"開始",null,null,null,null,"終了",null,null,null,null,"力率",null,null,null,null,null,"85％",null,null,null,{"$f":"IF(入力用!P143=2,\"超過\",IF(入力用!S151=\"\",\"超過\n未満\",IF(入力用!S151>0.85,\"超過\",IF(入力用!S151=0.85,\"\",\"未満\"))))","v":"超過\n未満"},null,null,null,"契 約\n電 力",null,null,null,null,null,{"$f":"入力用!S165","v":""},null,null,null,null,"kW"]
[]
[null,null,null,null,null,null,{"$f":"IF(入力用!D169=\"\",\"\",入力用!D169)","v":""},null,null,null,null,null,null,null,null,null,null,{"$f":"IF(入力用!D170=\"\",\"\",入力用!D170)","v":""},null,null,null,null,{"$f":"IF(入力用!D171=\"\",\"\",入力用!D171)","v":""},null,null,null,null,null,null,null,null,null,null,null,null,null,null,{"$f":"IF(入力用!P172=2,入力用!T6,IF(入力用!P172=3,入力用!T7,\"\"))","v":""},null,null,null,null,null,null,null,null,null,{"$f":"IF(入力用!D173=\"\",\"\",入力用!D173)","v":""},null,null,null,null,{"$f":"IF(入力用!P173=2,入力用!U6,IF(入力用!P173=3,入力用!U7,\"㏋・㎾\"))","v":"㏋・㎾"},null,null,null,{"$f":"IF(入力用!Q173=0,\"\",入力用!Q173)","v":""},null,null,null,null,"㎾",null,{"$f":"IF(入力用!P175=2,入力用!V6,IF(入力用!P175=3,入力用!V7,IF(入力用!P175=4,入力用!V8,IF(入力用!P175=5,入力用!V9,\"\"))))","v":""},null,null,null,null,{"$f":"IF(入力用!D176=\"\",\"\",入力用!D176)","v":""},null,null,"台",null,{"$f":"IF(入力用!D182=\"\",\"\",入力用!D182)","v":""},null,"月分",null,null,{"$f":"IF(入力用!D182=\"\",\"\",IF(入力用!P141=10,IF(BV97>7,BV97-7,BV97+5),IF(BV97>10,BV97-10,BV97+2)))","v":""},null,"月分"]
[]
[null,"ﾊﾟﾀｰﾝ\n区 分",null,null,null,null,"E",null,null,null,"契約種別",null,null,{"$f":"入力用!R189","v":""},null,null,null,null,null,null,null,null,null,null,null,null,null,null,null,null,null,null,null,null,null,null,null,null,"供給\n電気\n方式",null,null,null,{"$f":"IF(入力用!P186=2,入力用!R6,IF(入力用!P186=3,入力用!R7,IF(入力用!P186=4,入力用!R8,IF(入力用!P186=5,入力用!R9,\"\"))))","v":""},null,null,null,null,null,null,null,null,null,null,null,null,null,"契約決定\n方　　法",null,null,null,null,null,{"$f":"IF(入力用!P187=2,入力用!S6,IF(入力用!P187=3,入力用!S7,\"\"))","v":""},null,null,null,null,null,null,null,null,null,null,"検知制御装置",null,null,null,null,null,null,null,null,null,null,null,null,null,null,null,null,null,"室　　　番　　　号"]
[]
[null,null,null,null,null,null,null,null,null,null,null,null,null,null,null,null,null,null,null,null,null,null,null,null,null,null,null,null,null,null,null,null,null,null,null,null,null,null,null,null,null,null,null,null,null,null,null,null,null,null,null,null,null,null,null,null,null,null,null,null,null,null,null,null,null,null,null,null,null,null,null,null,null,"メーカー",null,null,null,"型　　式",null,null,null,null,null,null,null,null,"種　類",null,null,null,null,{"$f":"IF(入力用!D227=\"\",\"\",入力用!D227)","v":""}]
[]
[null,null,null,null,null,null,null,null,null,null,null,null,null,null,null,null,null,null,null,null,null,null,null,null,null,null,null,null,null,null,null,null,null,null,null,null,null,null,null,null,null,null,null,null,null,null,null,null,null,null,null,null,null,null,null,null,"主開閉器の\n定格電流",null,null,null,null,null,{"$f":"IF(入力用!D188=\"\",\"\",入力用!D188)","v":""},null,null,null,null,null,null,null,null,null,null,{"$f":"IF(入力用!D221=\"\",\"\",入力用!D221)","v":""},null,null,null,{"$f":"IF(入力用!D222=\"\",\"\",入力用!D222)","v":""},null,null,null,null,null,null,null,null,{"$f":"IF(入力用!P223=2,入力用!W6,IF(入力用!P223=3,入力用!W7,IF(入力用!P223=4,入力用!W8,\"\")))","v":""}]
[null,null,null,null,null,null,null,null,null,null,null,null,null,null,null,null,null,null,null,null,null,null,null,null,null,null,null,null,null,null,null,null,null,null,null,null,null,null,null,null,null,null,null,null,null,null,null,null,null,null,null,null,null,null,null,null,null,null,null,null,null,null,null,null,null,null,null,null,null,null,"Ａ"]
[]
[null,null,null,null,null,null,null,null,null,null,null,null,null,null,null,null,null,null,null,null,null,null,null,null,null,null,null,null,null,null,null,null,null,null,null,null,null,null,null,null,null,null,null,null,null,null,null,null,null,null,null,null,null,null,null,null,null,null,null,null,null,null,null,null,null,null,null,null,null,null,null,null,null,"通電遮断パターン"]
[null,"契約\n負荷\n設備\n内訳",null,null,null,null,"機　器　種　別",null,null,null,null,null,null,null,null,null,null,"メーカー",null,null,null,null,"型　　　　式",null,null,null,null,null,null,null,null,null,null,null,null,null,null,"通電制御・検知制御",null,null,null,null,null,null,null,null,null,"出　力",null,null,null,null,null,null,null,null,"入 力",null,null,null,null,null,null,"力率",null,null,null,null,"台数"]
[null,null,null,null,null,null,null,null,null,null,null,null,null,null,null,null,null,null,null,null,null,null,null,null,null,null,null,null,null,null,null,null,null,null,null,null,null,null,null,null,null,null,null,null,null,null,null,null,null,null,null,null,null,null,null,null,null,null,null,null,null,null,null,null,null,null,null,null,null,null,null,null,null,{"$f":"IF(入力用!D224=\"\",\"\",入力用!D224)","v":""},null,"時",null,{"$f":"IF(入力用!F224=\"\",\"\",IF(入力用!F224=\"0\",\"00\",入力用!F224))","v":""},null,"分から",null,null,null,{"$f":"IF(入力用!D225=\"\",\"\",入力用!D225)","v":""},null,{"$f":"IF(入力用!P224=2,入力用!X6,IF(入力用!P224=3,入力用!X7,\"\"))&IF(入力用!P225=2,入力用!Y6,IF(入力用!P225=3,入力用!Y7,\"\"))","v":""}]
[null,null,null,null,null,null,{"$f":"IF(入力用!D189=\"\",\"\",入力用!D189)","v":""},null,null,null,null,null,null,null,null,null,null,{"$f":"IF(入力用!D190=\"\",\"\",入力用!D190)","v":""},null,null,null,null,{"$f":"IF(入力用!D191=\"\",\"\",入力用!D191)","v":""},null,null,null,null,null,null,null,null,null,null,null,null,null,null,{"$f":"IF(入力用!P192=2,入力用!T6,IF(入力用!P192=3,入力用!T77,\"\"))","v":""},null,null,null,null,null,null,null,null,null,{"$f":"IF(入力用!D193=\"\",\"\",入力用!D193)","v":""},null,null,null,null,{"$f":"IF(入力用!P193=2,入力用!U6,IF(入力用!P193=3,入力用!U7,\"㏋・㎾\"))","v":"㏋・㎾"},null,null,null,{"$f":"IF(入力用!Q193=0,\"\",入力用!Q193)","v":""},null,null,null,null,"㎾",null,{"$f":"IF(入力用!P195=2,入力用!V6,IF(入力用!P195=3,入力用!V7,IF(入力用!P195=4,入力用!V8,IF(入力用!P195=5,入力用!V9,\"\"))))","v":""},null,null,null,null,{"$f":"IF(入力用!D196=\"\",\"\",入力用!D196)","v":""},null,null,"台",null,null,null,null,null,null,null,null,null,null,null,null,null,null,null,null,null,null,null,"契 約 口 数 合 計",null,null,null,null,null,null,null,null,null,null,null,null,{"$f":"IF(入力用!D228=\"\",\"\",入力用!D228)","v":""},null,null,null,"口"]
[]
[null,null,null,null,null,null,{"$f":"IF(入力用!D197=\"\",\"\",入力用!D197)","v":""},null,null,null,null,null,null,null,null,null,null,{"$f":"IF(入力用!D198=\"\",\"\",入力用!D198)","v":""},null,null,null,null,{"$f":"IF(入力用!D199=\"\",\"\",入力用!D199)","v":""},null,null,null,null,null,null,null,null,null,null,null,null,null,null,{"$f":"IF(入力用!P200=2,入力用!T6,IF(入力用!P200=3,入力用!T7,\"\"))","v":""},null,null,null,null,null,null,null,null,null,{"$f":"IF(入力用!D201=\"\",\"\",入力用!D201)","v":""},null,null,null,null,{"$f":"IF(入力用!P201=2,入力用!U6,IF(入力用!P201=3,入力用!U7,\"㏋・㎾\"))","v":"㏋・㎾"},null,null,null,{"$f":"IF(入力用!Q201=0,\"\",入力用!Q201)","v":""},null,null,null,null,"㎾",null,{"$f":"IF(入力用!P203=2,入力用!V6,IF(入力用!P203=3,入力用!V7,IF(入力用!P203=4,入力用!V8,IF(入力用!P203=5,入力用!V9,\"\"))))","v":""},null,null,null,null,{"$f":"IF(入力用!D204=\"\",\"\",入力用!D204)","v":""},null,null,"台",null,"最低使用期間",null,null,null,null,null,null,null,null,null,"通電制御・検知制御割引対象率",null,null,null,null,null,null,null,null,null,null,null,null,null,null,null,null,null,null,null,{"$f":"IF(入力用!S214+入力用!S215=0,\"\",ROUND(入力用!S211/(入力用!S214+入力用!S215),2)*100)","v":""},null,null,null,null,"％"]
[]
[null,null,null,null,null,null,{"$f":"IF(入力用!D205=\"\",\"\",入力用!D205)","v":""},null,null,null,null,null,null,null,null,null,null,{"$f":"IF(入力用!D206=\"\",\"\",入力用!D206)","v":""},null,null,null,null,{"$f":"IF(入力用!D207=\"\",\"\",入力用!D207)","v":""},null,null,null,null,null,null,null,null,null,null,null,null,null,null,{"$f":"IF(入力用!P208=2,入力用!T6,IF(入力用!P208=3,入力用!T7,\"\"))","v":""},null,null,null,null,null,null,null,null,null,{"$f":"IF(入力用!D209=\"\",\"\",入力用!D209)","v":""},null,null,null,null,{"$f":"IF(入力用!P209=2,入力用!U6,IF(入力用!P209=3,入力用!U7,\"㏋・㎾\"))","v":"㏋・㎾"},null,null,null,{"$f":"IF(入力用!Q209=0,\"\",入力用!Q209)","v":""},null,null,null,null,"㎾",null,{"$f":"IF(入力用!P211=2,入力用!V6,IF(入力用!P211=3,入力用!V7,IF(入力用!P211=4,入力用!V8,IF(入力用!P211=5,入力用!V9,\"\"))))","v":""},null,null,null,null,{"$f":"IF(入力用!D212=\"\",\"\",入力用!D212)","v":""},null,null,"台",null,"開始",null,null,null,null,"終了",null,null,null,null,"力率",null,null,null,null,null,"85％",null,null,null,{"$f":"IF(入力用!P187=2,\"超過\",IF(入力用!S195=\"\",\"超過\n未満\",IF(入力用!S195>0.85,\"超過\",IF(入力用!S195=0.85,\"\",\"未満\"))))","v":"超過\n未満"},null,null,null,"契 約\n電 力",null,null,null,null,null,{"$f":"入力用!S209","v":""},null,null,null,null,"kW"]
[]
[null,null,null,null,null,null,{"$f":"IF(入力用!D213=\"\",\"\",入力用!D213)","v":""},null,null,null,null,null,null,null,null,null,null,{"$f":"IF(入力用!D214=\"\",\"\",入力用!D214)","v":""},null,null,null,null,{"$f":"IF(入力用!D215=\"\",\"\",入力用!D215)","v":""},null,null,null,null,null,null,null,null,null,null,null,null,null,null,{"$f":"IF(入力用!P216=2,入力用!T6,IF(入力用!P216=3,入力用!T7,\"\"))","v":""},null,null,null,null,null,null,null,null,null,{"$f":"IF(入力用!D217=\"\",\"\",入力用!D217)","v":""},null,null,null,null,{"$f":"IF(入力用!P217=2,入力用!U6,IF(入力用!P217=3,入力用!U7,\"㏋・㎾\"))","v":"㏋・㎾"},null,null,null,{"$f":"IF(入力用!Q217=0,\"\",入力用!Q217)","v":""},null,null,null,null,"㎾",null,{"$f":"IF(入力用!P219=2,入力用!V6,IF(入力用!P219=3,入力用!V7,IF(入力用!P219=4,入力用!V8,IF(入力用!P219=5,入力用!V9,\"\"))))","v":""},null,null,null,null,{"$f":"IF(入力用!D220=\"\",\"\",入力用!D220)","v":""},null,null,"台",null,{"$f":"IF(入力用!D226=\"\",\"\",入力用!D226)","v":""},null,"月分",null,null,{"$f":"IF(入力用!D226=\"\",\"\",IF(入力用!P185=10,IF(BV115>7,BV115-7,BV115+5),IF(BV115>10,BV115-10,BV115+2)))","v":""},null,"月分"]
[]
[null,"ﾊﾟﾀｰﾝ\n区 分",null,null,null,null,"F",null,null,null,"契約種別",null,null,{"$f":"入力用!R233","v":""},null,null,null,null,null,null,null,null,null,null,null,null,null,null,null,null,null,null,null,null,null,null,null,null,"供給\n電気\n方式",null,null,null,{"$f":"IF(入力用!P230=2,入力用!R6,IF(入力用!P230=3,入力用!R7,IF(入力用!P230=4,入力用!R8,IF(入力用!P230=5,入力用!R9,\"\"))))","v":""},null,null,null,null,null,null,null,null,null,null,null,null,null,"契約決定\n方　　法",null,null,null,null,null,{"$f":"IF(入力用!P231=2,入力用!S6,IF(入力用!P231=3,入力用!S7,\"\"))","v":""},null,null,null,null,null,null,null,null,null,null,"検知制御装置",null,null,null,null,null,null,null,null,null,null,null,null,null,null,null,null,null,"室　　　番　　　号"]
[]
[null,null,null,null,null,null,null,null,null,null,null,null,null,null,null,null,null,null,null,null,null,null,null,null,null,null,null,null,null,null,null,null,null,null,null,null,null,null,null,null,null,null,null,null,null,null,null,null,null,null,null,null,null,null,null,null,null,null,null,null,null,null,null,null,null,null,null,null,null,null,null,null,null,"メーカー",null,null,null,"型　　式",null,null,null,null,null,null,null,null,"種　類",null,null,null,null,{"$f":"IF(入力用!D271=\"\",\"\",入力用!D271)","v":""}]
[]
[null,null,null,null,null,null,null,null,null,null,null,null,null,null,null,null,null,null,null,null,null,null,null,null,null,null,null,null,null,null,null,null,null,null,null,null,null,null,null,null,null,null,null,null,null,null,null,null,null,null,null,null,null,null,null,null,"主開閉器の\n定格電流",null,null,null,null,null,{"$f":"IF(入力用!D232=\"\",\"\",入力用!D232)","v":""},null,null,null,null,null,null,null,null,null,null,{"$f":"IF(入力用!D265=\"\",\"\",入力用!D265)","v":""},null,null,null,{"$f":"IF(入力用!D266=\"\",\"\",入力用!D266)","v":""},null,null,null,null,null,null,null,null,{"$f":"IF(入力用!P267=2,入力用!W6,IF(入力用!P267=3,入力用!W7,IF(入力用!P267=4,入力用!W8,\"\")))","v":""}]
[null,null,null,null,null,null,null,null,null,null,null,null,null,null,null,null,null,null,null,null,null,null,null,null,null,null,null,null,null,null,null,null,null,null,null,null,null,null,null,null,null,null,null,null,null,null,null,null,null,null,null,null,null,null,null,null,null,null,null,null,null,null,null,null,null,null,null,null,null,null,"Ａ"]
[]
[null,null,null,null,null,null,null,null,null,null,null,null,null,null,null,null,null,null,null,null,null,null,null,null,null,null,null,null,null,null,null,null,null,null,null,null,null,null,null,null,null,null,null,null,null,null,null,null,null,null,null,null,null,null,null,null,null,null,null,null,null,null,null,null,null,null,null,null,null,null,null,null,null,"通電遮断パターン"]
[null,"契約\n負荷\n設備\n内訳",null,null,null,null,"機　器　種　別",null,null,null,null,null,null,null,null,null,null,"メーカー",null,null,null,null,"型　　　　式",null,null,null,null,null,null,null,null,null,null,null,null,null,null,"通電制御・検知制御",null,null,null,null,null,null,null,null,null,"出　力",null,null,null,null,null,null,null,null,"入 力",null,null,null,null,null,null,"力率",null,null,null,null,"台数"]
[null,null,null,null,null,null,null,null,null,null,null,null,null,null,null,null,null,null,null,null,null,null,null,null,null,null,null,null,null,null,null,null,null,null,null,null,null,null,null,null,null,null,null,null,null,null,null,null,null,null,null,null,null,null,null,null,null,null,null,null,null,null,null,null,null,null,null,null,null,null,null,null,null,{"$f":"IF(入力用!D268=\"\",\"\",入力用!D268)","v":""},null,"時",null,{"$f":"IF(入力用!F268=\"\",\"\",IF(入力用!F268=\"0\",\"00\",入力用!F268))","v":""},null,"分から",null,null,null,{"$f":"IF(入力用!D269=\"\",\"\",入力用!D269)","v":""},null,{"$f":"IF(入力用!P268=2,入力用!X6,IF(入力用!P268=3,入力用!X7,\"\"))&IF(入力用!P269=2,入力用!Y6,IF(入力用!P269=3,入力用!Y7,\"\"))","v":""}]
[null,null,null,null,null,null,{"$f":"IF(入力用!D233=\"\",\"\",入力用!D233)","v":""},null,null,null,null,null,null,null,null,null,null,{"$f":"IF(入力用!D234=\"\",\"\",入力用!D234)","v":""},null,null,null,null,{"$f":"IF(入力用!D235=\"\",\"\",入力用!D235)","v":""},null,null,null,null,null,null,null,null,null,null,null,null,null,null,{"$f":"IF(入力用!P236=2,入力用!T6,IF(入力用!P236=3,入力用!T7,\"\"))","v":""},null,null,null,null,null,null,null,null,null,{"$f":"IF(入力用!D237=\"\",\"\",入力用!D237)","v":""},null,null,null,null,{"$f":"IF(入力用!P237=2,入力用!U6,IF(入力用!P237=3,入力用!U7,\"㏋・㎾\"))","v":"㏋・㎾"},null,null,null,{"$f":"IF(入力用!Q237=0,\"\",入力用!Q237)","v":""},null,null,null,null,"㎾",null,{"$f":"IF(入力用!P239=2,入力用!V6,IF(入力用!P239=3,入力用!V7,IF(入力用!P239=4,入力用!V8,IF(入力用!P239=5,入力用!V9,\"\"))))","v":""},null,null,null,null,{"$f":"IF(入力用!D240=\"\",\"\",入力用!D240)","v":""},null,null,"台",null,null,null,null,null,null,null,null,null,null,null,null,null,null,null,null,null,null,null,"契 約 口 数 合 計",null,null,null,null,null,null,null,null,null,null,null,null,{"$f":"IF(入力用!D272=\"\",\"\",入力用!D272)","v":""},null,null,null,"口"]
[]
[null,null,null,null,null,null,{"$f":"IF(入力用!D241=\"\",\"\",入力用!D241)","v":""},null,null,null,null,null,null,null,null,null,null,{"$f":"IF(入力用!D242=\"\",\"\",入力用!D242)","v":""},null,null,null,null,{"$f":"IF(入力用!D243=\"\",\"\",入力用!D243)","v":""},null,null,null,null,null,null,null,null,null,null,null,null,null,null,{"$f":"IF(入力用!P244=2,入力用!T6,IF(入力用!P244=3,入力用!T7,\"\"))","v":""},null,null,null,null,null,null,null,null,null,{"$f":"IF(入力用!D245=\"\",\"\",入力用!D245)","v":""},null,null,null,null,{"$f":"IF(入力用!P245=2,入力用!U6,IF(入力用!P245=3,入力用!U7,\"㏋・㎾\"))","v":"㏋・㎾"},null,null,null,{"$f":"IF(入力用!Q245=0,\"\",入力用!Q245)","v":""},null,null,null,null,"㎾",null,{"$f":"IF(入力用!P247=2,入力用!V6,IF(入力用!P247=3,入力用!V7,IF(入力用!P247=4,入力用!V8,IF(入力用!P247=5,入力用!V9,\"\"))))","v":""},null,null,null,null,{"$f":"IF(入力用!D248=\"\",\"\",入力用!D248)","v":""},null,null,"台",null,"最低使用期間",null,null,null,null,null,null,null,null,null,"通電制御・検知制御割引対象率",null,null,null,null,null,null,null,null,null,null,null,null,null,null,null,null,null,null,null,{"$f":"IF(入力用!S258+入力用!S259=0,\"\",ROUND(入力用!S255/(入力用!S258+入力用!S259),2)*100)","v":""},null,null,null,null,"％"]
[]
[null,null,null,null,null,null,{"$f":"IF(入力用!D249=\"\",\"\",入力用!D249)","v":""},null,null,null,null,null,null,null,null,null,null,{"$f":"IF(入力用!D250=\"\",\"\",入力用!D250)","v":""},null,null,null,null,{"$f":"IF(入力用!D251=\"\",\"\",入力用!D251)","v":""},null,null,null,null,null,null,null,null,null,null,null,null,null,null,{"$f":"IF(入力用!P252=2,入力用!T6,IF(入力用!P252=3,入力用!T7,\"\"))","v":""},null,null,null,null,null,null,null,null,null,{"$f":"IF(入力用!D253=\"\",\"\",入力用!D253)","v":""},null,null,null,null,{"$f":"IF(入力用!P253=2,入力用!U6,IF(入力用!P253=3,入力用!U7,\"㏋・㎾\"))","v":"㏋・㎾"},null,null,null,{"$f":"IF(入力用!Q253=0,\"\",入力用!Q253)","v":""},null,null,null,null,"㎾",null,{"$f":"IF(入力用!P255=2,入力用!V6,IF(入力用!P255=3,入力用!V7,IF(入力用!P255=4,入力用!V8,IF(入力用!P255=5,入力用!V9,\"\"))))","v":""},null,null,null,null,{"$f":"IF(入力用!D256=\"\",\"\",入力用!D256)","v":""},null,null,"台",null,"開始",null,null,null,null,"終了",null,null,null,null,"力率",null,null,null,null,null,"85％",null,null,null,{"$f":"IF(入力用!P231=2,\"超過\",IF(入力用!S239=\"\",\"超過\n未満\",IF(入力用!S239>0.85,\"超過\",IF(入力用!S239=0.85,\"\",\"未満\"))))","v":"超過\n未満"},null,null,null,"契 約\n電 力",null,null,null,null,null,{"$f":"入力用!S253","v":""},null,null,null,null,"kW"]
[]
[null,null,null,null,null,null,{"$f":"IF(入力用!D257=\"\",\"\",入力用!D257)","v":""},null,null,null,null,null,null,null,null,null,null,{"$f":"IF(入力用!D258=\"\",\"\",入力用!D258)","v":""},null,null,null,null,{"$f":"IF(入力用!D259=\"\",\"\",入力用!D259)","v":""},null,null,null,null,null,null,null,null,null,null,null,null,null,null,{"$f":"IF(入力用!P260=2,入力用!T6,IF(入力用!P260=3,入力用!T7,\"\"))","v":""},null,null,null,null,null,null,null,null,null,{"$f":"IF(入力用!D261=\"\",\"\",入力用!D261)","v":""},null,null,null,null,{"$f":"IF(入力用!P261=2,入力用!U6,IF(入力用!P261=3,入力用!U7,\"㏋・㎾\"))","v":"㏋・㎾"},null,null,null,{"$f":"IF(入力用!Q261=0,\"\",入力用!Q261)","v":""},null,null,null,null,"㎾",null,{"$f":"IF(入力用!P263=2,入力用!V6,IF(入力用!P263=3,入力用!V7,IF(入力用!P263=4,入力用!V8,IF(入力用!P263=5,入力用!V9,\"\"))))","v":""},null,null,null,null,{"$f":"IF(入力用!D264=\"\",\"\",入力用!D264)","v":""},null,null,"台",null,{"$f":"IF(入力用!D270=\"\",\"\",入力用!D270)","v":""},null,"月分",null,null,{"$f":"IF(入力用!D270=\"\",\"\",IF(入力用!P229=10,IF(BV133>7,BV133-7,BV133+5),IF(BV133>10,BV133-10,BV133+2)))","v":""},null,"月分"]
[]
[]
[null,"　※　本申込書は集合住宅の新設の場合に使用することができます。",null,null,null,null,null,null,null,null,null,null,null,null,null,null,null,null,null,null,null,null,null,null,null,null,null,null,null,null,null,null,null,null,null,null,null,null,null,null,null,null,null,null,null,null,null,null,null,null,null,null,null,null,null,null,null,null,null,null,null,null,null,null,null,null,null,null,null,null,null,null,null,null,null,null,null,null,null,null,null,null,null,null,null,null,null,null,null,null,null,null,null,null,null,null,null,null,null,null,null,"受付"]
[]
[null,"　※　太枠内をご記入願います。"]
[]
[null,"　※　集合住宅共用部分用電気使用申込書をあわせて提出願います。"]
[]
[null,"　※　ご提供いただいた個人情報は，電気事業の範囲内で利用いたします。"]
[]
[]
[null,null,"拝啓　平素は弊社事業に格別のお引き立てを賜り，厚くお礼申し上げます。０１２３４５６７８９０１２３４５６７８９０１２３４５６"]
[]
[]
[null,null,"　さて，この度お客さまの電気ご使用につきまして，本申込書記載の内容にてご契約させていただきましたことをお知らせいたします。"]
[]
[]
[null,null,"　なお，上記契約負荷設備は，申込書記載の電気工事会社様によって最終確認いただいておりますが，機器種別および容量等の相違によ"]
[]
[]
[null,null,"り，お客さまおよび弊社の各設備に悪影響を及ぼす恐れがあり，また今後ご入居されるお客さまの電気料金が変更となる場合がございま"]
[]
[]
[null,null,"すので，大変お手数ではございますが，内容をご確認いただきますようお願いいたします。０１２３４５６７８９０１２３４５６７８９"]
[]
[]
[null,null,"０１２３４５６７８９０１２３４５６７８９０１２３４５６７８９０１２３４５６７８９０１２３４５６７８９０１２３４５６７敬具８　"]
[]
[]
[]
["北　海　道　電　力　ネ　ッ　ト　ワ　ー　ク　株　式　会　社"]

{"sheet":"３枚目","index":3,"n_rows":169,"n_cols":110,"rows_kept":169,"cut":false,"hidden":false,"merged":[[1,93,4,109],[36,104,37,107],[36,91,37,103],[53,77,55,78],[53,79,55,82],[56,103,57,107],[54,104,55,107],[56,73,57,82],[51,73,52,90],[48,86,50,90],[35,83,37,84],[48,77,50,85],[53,75,55,76],[44,91,45,110],[54,91,55,103],[40,97,43,102],[42,78,43,79],[46,86,47,90],[40,78,41,82],[40,73,41,77],[40,108,43,110],[38,103,39,107],[38,73,39,82],[38,83,39,102],[54,108,55,110],[56,68,57,70],[54,68,55,70],[74,63,75,67],[40,93,43,96],[42,80,43,82],[53,85,55,90],[56,83,57,102],[60,80,61,82],[46,91,53,110],[58,103,61,107],[58,108,61,110],[56,108,57,110],[60,68,61,70],[64,73,65,76],[58,97,61,102],[58,93,61,96],[46,77,47,85],[42,75,43,77],[72,108,73,110],[54,71,55,72],[66,73,68,76],[71,77,73,78],[71,75,73,76],[110,17,111,21],[108,6,109,16],[108,17,109,21],[128,17,129,21],[110,6,111,16],[110,22,111,36],[108,22,109,36],[108,37,109,46],[124,37,125,46],[114,22,115,36],[124,22,125,36],[126,22,127,36],[128,6,129,16],[112,6,113,16],[112,17,113,21],[128,37,129,46],[130,71,131,72],[128,73,129,82],[130,78,131,82],[128,68,129,70],[120,86,122,90],[118,86,119,90],[126,71,127,72],[118,77,119,85],[130,83,133,88],[130,89,133,92],[130,73,131,77],[132,75,133,77],[132,73,133,74],[132,56,133,60],[125,79,127,82],[126,61,127,62],[128,61,129,62],[130,52,131,55],[128,56,129,60],[124,47,125,55],[130,56,131,60],[128,52,129,55],[126,47,127,51],[126,52,127,55],[126,56,127,60],[130,63,131,67],[124,63,125,67],[128,63,129,67],[130,61,131,62],[124,56,125,62],[132,68,133,70],[132,71,133,72],[132,78,133,79],[132,80,133,82],[130,68,131,70],[125,75,127,76],[132,63,133,67],[74,22,75,36],[88,6,89,16],[72,22,73,36],[88,22,89,36],[90,22,91,36],[170,0,171,110],[132,6,133,16],[132,17,133,21],[124,1,133,5],[124,6,125,16],[124,17,125,21],[126,6,127,16],[126,17,127,21],[126,108,127,110],[125,77,127,78],[130,37,131,46],[126,104,127,107],[126,63,127,67],[126,37,127,46],[163,23,165,33],[152,7,166,22],[152,23,154,33],[132,47,133,51],[132,52,133,55],[106,6,107,16],[106,17,107,21],[92,6,93,16],[70,1,79,5],[70,6,71,16],[70,17,71,21],[76,6,77,16],[76,17,77,21],[78,6,79,16],[94,6,95,16],[80,1,87,5],[80,6,87,9],[80,10,87,12],[74,6,75,16],[90,17,91,21],[94,17,95,21],[88,17,89,21],[92,17,93,21],[74,17,75,21],[90,6,91,16],[78,17,79,21],[72,17,73,21],[72,6,73,16],[80,13,87,37],[110,108,111,110],[94,83,97,88],[110,68,111,70],[110,71,111,72],[107,83,109,84],[108,68,109,70],[94,73,95,77],[94,78,95,82],[110,73,111,82],[96,68,97,70],[103,70,105,72],[107,79,109,82],[102,86,104,90],[106,68,107,72],[105,73,106,90],[107,73,109,74],[102,77,104,85],[96,80,97,82],[108,71,109,72],[108,91,109,103],[100,91,107,110],[108,104,109,107],[98,91,99,110],[96,22,97,36],[92,37,93,46],[98,38,105,41],[106,22,107,36],[98,42,105,55],[60,61,61,62],[74,37,75,46],[74,61,75,62],[96,78,97,79],[90,63,91,67],[78,63,79,67],[76,63,77,67],[74,47,75,51],[74,52,75,55],[74,56,75,60],[78,47,79,51],[78,52,79,55],[106,63,107,67],[78,78,79,79],[76,78,77,82],[76,73,77,77],[60,47,61,51],[70,47,71,55],[70,56,71,62],[80,73,81,90],[84,77,86,85],[88,47,89,55],[90,71,91,72],[88,63,89,67],[88,68,89,72],[90,68,91,70],[88,56,89,62],[90,47,91,51],[96,73,97,74],[94,61,95,62],[94,68,95,70],[94,63,95,67],[94,71,95,72],[94,56,95,60],[92,68,93,70],[88,37,89,46],[90,37,91,46],[38,47,39,51],[38,37,39,46],[38,52,39,55],[56,22,57,36],[56,37,57,46],[54,47,55,51],[60,22,61,36],[78,71,79,72],[60,71,61,72],[40,47,41,51],[40,52,41,55],[42,47,43,51],[72,71,73,72],[72,63,73,67],[52,63,53,67],[54,56,55,60],[54,61,55,62],[78,22,79,36],[72,37,73,46],[56,63,57,67],[54,63,55,67],[60,63,61,67],[58,68,59,70],[58,63,59,67],[36,22,37,36],[38,22,39,36],[40,22,41,36],[52,37,53,46],[54,37,55,46],[54,52,55,55],[42,52,43,55],[34,6,35,16],[62,1,69,5],[62,6,69,9],[62,10,69,12],[60,17,61,21],[52,1,61,5],[58,6,59,16],[56,6,57,16],[58,17,59,21],[60,6,61,16],[54,6,55,16],[54,17,55,21],[52,6,53,16],[52,17,53,21],[44,13,51,37],[62,13,69,37],[56,17,57,21],[36,17,37,21],[58,22,59,36],[60,37,61,46],[44,1,51,5],[58,37,59,46],[17,34,25,38],[24,45,25,47],[24,53,25,55],[24,61,25,63],[34,47,35,55],[26,38,33,41],[34,22,35,36],[56,56,57,60],[48,56,51,61],[58,56,59,60],[40,6,41,16],[40,17,41,21],[44,6,51,9],[44,10,51,12],[44,42,51,55],[42,37,43,46],[44,38,51,41],[40,37,41,46],[34,1,43,5],[24,69,25,74],[23,48,25,52],[23,39,25,44],[35,73,37,74],[36,71,37,72],[35,75,37,76],[35,85,37,90],[35,79,37,82],[34,68,35,72],[35,77,37,78],[36,68,37,70],[30,62,33,69],[33,73,34,90],[31,70,33,72],[36,63,37,67],[34,37,35,46],[6,0,9,110],[14,64,16,68],[14,85,16,89],[23,56,25,60],[17,6,25,33],[38,56,39,60],[38,68,39,70],[38,63,39,67],[38,61,39,62],[26,10,33,12],[30,86,32,90],[14,69,16,84],[30,77,32,85],[36,61,37,62],[36,37,37,46],[26,42,33,55],[34,56,35,62],[26,56,29,61],[26,1,33,5],[38,17,39,21],[17,1,25,5],[36,52,37,55],[26,6,33,9],[34,17,35,21],[42,6,43,16],[42,17,43,21],[36,6,37,16],[38,6,39,16],[36,47,37,51],[26,91,27,110],[28,91,35,110],[30,56,33,61],[34,63,35,67],[36,56,37,60],[36,108,37,110],[38,108,39,110],[30,73,32,76],[28,77,29,85],[28,73,29,76],[42,73,43,74],[40,83,43,88],[40,63,41,67],[42,63,43,67],[42,68,43,70],[42,71,43,72],[38,71,39,72],[26,73,27,90],[28,86,29,90],[76,108,79,110],[90,91,91,103],[94,89,97,92],[89,79,91,82],[82,77,83,85],[92,73,93,82],[89,75,91,76],[78,80,79,82],[74,71,75,72],[78,73,79,74],[78,75,79,77],[82,73,83,76],[87,73,88,90],[84,86,86,90],[84,73,86,76],[92,83,93,102],[89,85,91,90],[89,83,91,84],[74,83,75,102],[74,103,75,107],[74,108,75,110],[82,86,83,90],[76,83,79,88],[76,89,79,92],[71,85,73,90],[58,73,59,77],[62,91,63,110],[64,91,71,110],[64,86,65,90],[71,83,73,84],[58,83,61,88],[60,78,61,79],[72,91,73,103],[114,73,115,74],[89,77,91,78],[108,108,109,110],[89,73,91,74],[107,75,109,76],[107,85,109,90],[98,73,99,90],[100,73,101,76],[100,77,101,85],[96,75,97,77],[114,80,115,82],[114,78,115,79],[94,93,97,96],[94,97,97,102],[92,108,93,110],[112,73,113,77],[114,75,115,77],[100,86,101,90],[102,73,104,76],[92,103,93,107],[94,103,97,107],[90,104,91,107],[90,108,91,110],[82,91,89,110],[116,1,123,5],[116,6,123,9],[116,10,123,12],[116,73,117,90],[120,73,122,76],[118,73,119,76],[112,37,113,46],[112,47,113,51],[112,52,113,55],[112,61,113,62],[121,70,123,72],[112,63,113,67],[112,56,113,60],[114,37,115,46],[114,68,115,70],[114,71,115,72],[106,1,115,5],[116,56,119,61],[106,37,107,46],[107,77,109,78],[112,78,113,82],[110,47,111,51],[116,13,123,37],[112,68,113,70],[168,0,169,110],[159,79,164,84],[159,85,161,110],[162,85,164,110],[152,2,166,6],[156,85,158,110],[157,23,160,33],[114,63,115,67],[120,56,123,61],[116,62,119,72],[120,62,123,69],[114,56,115,60],[114,61,115,62],[116,91,117,110],[114,6,115,16],[114,17,115,21],[114,47,115,51],[128,71,129,72],[120,77,122,85],[125,73,127,74],[124,68,125,72],[126,68,127,70],[123,73,124,90],[114,52,115,55],[112,71,113,72],[110,61,111,62],[110,56,111,60],[98,56,101,61],[96,63,97,67],[96,56,97,60],[96,61,97,62],[98,62,101,72],[102,62,105,69],[102,56,105,61],[96,71,97,72],[110,37,111,46],[108,47,109,51],[72,68,73,70],[70,63,71,67],[78,68,79,70],[74,68,75,70],[66,62,69,69],[84,56,87,61],[76,61,77,62],[85,70,87,72],[92,71,93,72],[92,61,93,62],[92,63,93,67],[67,70,69,72],[70,68,71,72],[94,52,95,55],[92,52,93,55],[94,37,95,46],[80,62,83,72],[80,42,87,55],[48,73,50,76],[44,73,45,90],[17,64,25,68],[46,73,47,76],[62,73,63,90],[48,62,51,69],[17,75,23,110],[24,100,25,102],[24,103,25,103],[24,104,25,108],[24,109,25,110],[24,75,25,89],[24,90,25,99],[40,89,43,92],[17,69,23,74],[58,61,59,62],[56,61,57,62],[40,103,43,107],[53,73,55,74],[40,68,41,70],[40,61,41,62],[40,71,41,72],[53,83,55,84],[42,61,43,62],[76,47,77,51],[80,56,83,61],[78,61,79,62],[78,56,79,60],[72,61,73,62],[84,62,87,69],[76,68,77,70],[72,56,73,60],[76,56,77,60],[76,93,79,96],[76,97,79,102],[80,91,81,110],[76,103,79,107],[74,73,75,82],[76,71,77,72],[56,52,57,55],[60,52,61,55],[60,56,61,60],[62,62,65,72],[76,52,77,55],[56,71,57,72],[58,52,59,55],[66,86,68,90],[58,89,61,92],[58,78,59,82],[66,77,68,85],[64,77,65,85],[60,73,61,74],[60,75,61,77],[71,73,73,74],[58,71,59,72],[69,73,70,90],[71,79,73,82],[42,22,43,36],[52,22,53,36],[52,47,53,55],[54,22,55,36],[40,56,41,60],[62,38,69,41],[62,42,69,55],[72,47,73,51],[72,52,73,55],[66,56,69,61],[62,56,65,61],[70,37,71,46],[52,56,53,62],[42,56,43,60],[44,56,47,61],[44,62,47,72],[52,68,53,72],[56,47,57,51],[58,47,59,51],[49,70,51,72],[90,52,91,55],[135,1,137,16],[130,6,131,16],[130,17,131,21],[130,47,131,51],[132,37,133,46],[92,47,93,51],[94,47,95,51],[96,52,97,55],[96,47,97,51],[108,52,109,55],[98,13,105,37],[94,22,95,36],[92,22,93,36],[112,22,113,36],[116,38,123,41],[116,42,123,55],[98,1,105,5],[98,6,105,9],[98,10,105,12],[88,1,97,5],[96,6,97,16],[96,37,97,46],[96,17,97,21],[110,52,111,55],[11,1,12,25],[13,1,14,38],[132,22,133,36],[130,22,131,36],[26,62,29,72],[132,61,133,62],[26,13,33,37],[128,22,129,36],[128,47,129,51],[106,47,107,55],[110,63,111,67],[108,63,109,67],[90,61,91,62],[90,56,91,60],[108,56,109,60],[108,61,109,62],[92,56,93,60],[106,56,107,62],[76,22,77,36],[80,38,87,41],[78,37,79,46],[76,37,77,46],[70,22,71,36],[141,95,142,102],[14,90,16,110],[128,103,129,107],[141,103,142,110],[130,103,133,107],[130,108,133,110],[112,103,115,107],[112,108,115,110],[128,83,129,102],[126,91,127,103],[118,91,125,110],[125,85,127,90],[125,83,127,84],[94,108,97,110],[110,83,111,102],[110,103,111,107],[130,93,133,96],[130,97,133,102],[128,108,129,110],[112,83,115,88],[112,89,115,92],[112,93,115,96],[112,97,115,102],[72,104,73,107]]}
[]
[null,null,null,null,null,null,null,null,null,null,null,null,null,null,null,null,null,null,null,null,null,null,null,null,null,null,null,null,null,null,null,null,null,null,null,null,null,null,null,null,null,null,null,null,null,null,null,null,null,null,null,null,null,null,null,null,null,null,null,null,null,null,null,null,null,null,null,null,null,null,null,null,null,null,null,null,null,null,null,null,null,null,null,null,null,null,null,null,null,null,null,null,null,"離島等供給用"]
[]
[]
[]
[]
["（従量制電力）集合住宅専有部分用電気使用申込書（ほくでんNW控）"]
[]
[]
[]
[]
[null,"北海道電力ネットワーク株式会社　御中"]
[]
[null,"電気の使用について貴社離島等供給約款[低圧用]を承認のうえ申し込みます。"]
[null,null,null,null,null,null,null,null,null,null,null,null,null,null,null,null,null,null,null,null,null,null,null,null,null,null,null,null,null,null,null,null,null,null,null,null,null,null,null,null,null,null,null,null,null,null,null,null,null,null,null,null,null,null,null,null,null,null,null,null,null,null,null,null,"受付扱所名",null,null,null,null,null,null,null,null,null,null,null,null,null,null,null,null,null,null,null,null,"受付№"]
[]
[]
[null,"建物名",null,null,null,null,{"$f":"IF(入力用!D4=\"\",\"\",入力用!D4)","v":""},null,null,null,null,null,null,null,null,null,null,null,null,null,null,null,null,null,null,null,null,null,null,null,null,null,null,null,"受　電\n希望日",null,null,null,null,null,null,null,null,null,null,null,null,null,null,null,null,null,null,null,null,null,null,null,null,null,null,null,null,null,"電気\n工事\n会社",null,null,null,null," 会社名",null,null,null,null,null,{"$f":"IF(入力用!D6=\"\",\"\",入力用!D6)","v":""}]
[]
[]
[]
[]
[]
[null,null,null,null,null,null,null,null,null,null,null,null,null,null,null,null,null,null,null,null,null,null,null,null,null,null,null,null,null,null,null,null,null,null,null,null,null,null,null,{"$f":"IF(入力用!D5=\"\",\"\",入力用!D5)","v":""},null,null,null,null,null,null,null,null,{"$f":"IF(入力用!F5=\"\",\"\",入力用!F5)","v":""},null,null,null,null,null,null,null,{"$f":"IF(入力用!I5=\"\",\"\",入力用!I5)","v":""}]
[null,null,null,null,null,null,null,null,null,null,null,null,null,null,null,null,null,null,null,null,null,null,null,null,null,null,null,null,null,null,null,null,null,null,null,null,null,null,null,null,null,null,null,null,null,"年",null,null,null,null,null,null,null,"月",null,null,null,null,null,null,null,"日",null,null,null,null,null,null,null,"(担当者)",null,null,null,null,null,{"$f":"IF(入力用!D7=\"\",\"\",入力用!D7)","v":""},null,null,null,null,null,null,null,null,null,null,null,null,null,null,"工事会社№（",null,null,null,null,null,null,null,null,null,{"$f":"IF(入力用!D8=\"\",\"\",入力用!D8)","v":""},null,null,"-",{"$f":"IF(入力用!F8=\"\",\"\",入力用!F8)","v":""},null,null,null,null,")"]
[]
[null,"ﾊﾟﾀｰﾝ\n区 分",null,null,null,null,"A",null,null,null,"契約種別",null,null,{"$f":"入力用!R13","v":""},null,null,null,null,null,null,null,null,null,null,null,null,null,null,null,null,null,null,null,null,null,null,null,null,"供給\n電気\n方式",null,null,null,{"$f":"IF(入力用!P10=2,入力用!R6,IF(入力用!P10=3,入力用!R7,IF(入力用!P10=4,入力用!R8,IF(入力用!P10=5,入力用!R9,\"\"))))","v":""},null,null,null,null,null,null,null,null,null,null,null,null,null,"契約決定\n方　　法",null,null,null,null,null,{"$f":"IF(入力用!P11=2,入力用!S6,IF(入力用!P11=3,入力用!S7,\"\"))","v":""},null,null,null,null,null,null,null,null,null,null,"検知制御装置",null,null,null,null,null,null,null,null,null,null,null,null,null,null,null,null,null,"室　　　番　　　号"]
[]
[null,null,null,null,null,null,null,null,null,null,null,null,null,null,null,null,null,null,null,null,null,null,null,null,null,null,null,null,null,null,null,null,null,null,null,null,null,null,null,null,null,null,null,null,null,null,null,null,null,null,null,null,null,null,null,null,null,null,null,null,null,null,null,null,null,null,null,null,null,null,null,null,null,"メーカー",null,null,null,"型　　式",null,null,null,null,null,null,null,null,"種　類",null,null,null,null,{"$f":"IF(入力用!D51=\"\",\"\",入力用!D51)","v":""}]
[]
[null,null,null,null,null,null,null,null,null,null,null,null,null,null,null,null,null,null,null,null,null,null,null,null,null,null,null,null,null,null,null,null,null,null,null,null,null,null,null,null,null,null,null,null,null,null,null,null,null,null,null,null,null,null,null,null,"主開閉器の\n定格電流",null,null,null,null,null,{"$f":"IF(入力用!D12=\"\",\"\",入力用!D12)","v":""},null,null,null,null,null,null,null,null,null,null,{"$f":"IF(入力用!D45=\"\",\"\",入力用!D45)","v":""},null,null,null,{"$f":"IF(入力用!D46=\"\",\"\",入力用!D46)","v":""},null,null,null,null,null,null,null,null,{"$f":"IF(入力用!P47=2,入力用!W6,IF(入力用!P47=3,入力用!W7,IF(入力用!P47=4,入力用!W8,\"\")))","v":""}]
[null,null,null,null,null,null,null,null,null,null,null,null,null,null,null,null,null,null,null,null,null,null,null,null,null,null,null,null,null,null,null,null,null,null,null,null,null,null,null,null,null,null,null,null,null,null,null,null,null,null,null,null,null,null,null,null,null,null,null,null,null,null,null,null,null,null,null,null,null,null,"Ａ"]
[]
[null,null,null,null,null,null,null,null,null,null,null,null,null,null,null,null,null,null,null,null,null,null,null,null,null,null,null,null,null,null,null,null,null,null,null,null,null,null,null,null,null,null,null,null,null,null,null,null,null,null,null,null,null,null,null,null,null,null,null,null,null,null,null,null,null,null,null,null,null,null,null,null,null,"通電遮断パターン"]
[null,"契約\n負荷\n設備\n内訳",null,null,null,null,"機　器　種　別",null,null,null,null,null,null,null,null,null,null,"メーカー",null,null,null,null,"型　　　　式",null,null,null,null,null,null,null,null,null,null,null,null,null,null,"通電制御・検知制御",null,null,null,null,null,null,null,null,null,"出　力",null,null,null,null,null,null,null,null,"入 力",null,null,null,null,null,null,"力率",null,null,null,null,"台数"]
[null,null,null,null,null,null,null,null,null,null,null,null,null,null,null,null,null,null,null,null,null,null,null,null,null,null,null,null,null,null,null,null,null,null,null,null,null,null,null,null,null,null,null,null,null,null,null,null,null,null,null,null,null,null,null,null,null,null,null,null,null,null,null,null,null,null,null,null,null,null,null,null,null,{"$f":"IF(入力用!D48=\"\",\"\",入力用!D48)","v":""},null,"時",null,{"$f":"IF(入力用!F48=\"\",\"\",IF(入力用!F48=\"0\",\"00\",入力用!F48))","v":""},null,"分から",null,null,null,{"$f":"IF(入力用!D49=\"\",\"\",入力用!D49)","v":""},null,{"$f":"IF(入力用!P48=2,入力用!X6,IF(入力用!P48=3,入力用!X7,\"\"))&IF(入力用!P49=2,入力用!Y6,IF(入力用!P49=3,入力用!Y7,\"\"))","v":""}]
[null,null,null,null,null,null,{"$f":"IF(入力用!D13=\"\",\"\",入力用!D13)","v":""},null,null,null,null,null,null,null,null,null,null,{"$f":"IF(入力用!D14=\"\",\"\",入力用!D14)","v":""},null,null,null,null,{"$f":"IF(入力用!D15=\"\",\"\",入力用!D15)","v":""},null,null,null,null,null,null,null,null,null,null,null,null,null,null,{"$f":"IF(入力用!P16=2,入力用!T6,IF(入力用!P16=3,入力用!T7,\"\"))","v":""},null,null,null,null,null,null,null,null,null,{"$f":"IF(入力用!D17=\"\",\"\",入力用!D17)","v":""},null,null,null,null,{"$f":"IF(入力用!P17=2,入力用!U6,IF(入力用!P17=3,入力用!U7,\"㏋・㎾\"))","v":"㏋・㎾"},null,null,null,{"$f":"IF(入力用!Q17=0,\"\",入力用!Q17)","v":""},null,null,null,null,"㎾",null,{"$f":"IF(入力用!P19=2,入力用!V6,IF(入力用!P19=3,入力用!V7,IF(入力用!P19=4,入力用!V8,IF(入力用!P19=5,入力用!V9,\"\"))))","v":""},null,null,null,null,{"$f":"IF(入力用!D20=\"\",\"\",入力用!D20)","v":""},null,null,"台",null,null,null,null,null,null,null,null,null,null,null,null,null,null,null,null,null,null,null,"契 約 口 数 合 計",null,null,null,null,null,null,null,null,null,null,null,null,{"$f":"IF(入力用!D52=\"\",\"\",入力用!D52)","v":""},null,null,null,"口"]
[]
[null,null,null,null,null,null,{"$f":"IF(入力用!D21=\"\",\"\",入力用!D21)","v":""},null,null,null,null,null,null,null,null,null,null,{"$f":"IF(入力用!D22=\"\",\"\",入力用!D22)","v":""},null,null,null,null,{"$f":"IF(入力用!D23=\"\",\"\",入力用!D23)","v":""},null,null,null,null,null,null,null,null,null,null,null,null,null,null,{"$f":"IF(入力用!P24=2,入力用!T6,IF(入力用!P24=3,入力用!T7,\"\"))","v":""},null,null,null,null,null,null,null,null,null,{"$f":"IF(入力用!D25=\"\",\"\",入力用!D25)","v":""},null,null,null,null,{"$f":"IF(入力用!P25=2,入力用!U6,IF(入力用!P25=3,入力用!U7,\"㏋・㎾\"))","v":"㏋・㎾"},null,null,null,{"$f":"IF(入力用!Q25=0,\"\",入力用!Q25)","v":""},null,null,null,null,"㎾",null,{"$f":"IF(入力用!P27=2,入力用!V6,IF(入力用!P27=3,入力用!V7,IF(入力用!P27=4,入力用!V8,IF(入力用!P27=5,入力用!V9,\"\"))))","v":""},null,null,null,null,{"$f":"IF(入力用!D28=\"\",\"\",入力用!D28)","v":""},null,null,"台",null,"最低使用期間",null,null,null,null,null,null,null,null,null,"通電制御・検知制御割引対象率",null,null,null,null,null,null,null,null,null,null,null,null,null,null,null,null,null,null,null,{"$f":"IF(入力用!S38+入力用!S39=0,\"\",ROUND(入力用!S35/(入力用!S38+入力用!S39),2)*100)","v":""},null,null,null,null,"％"]
[]
[null,null,null,null,null,null,{"$f":"IF(入力用!D29=\"\",\"\",入力用!D29)","v":""},null,null,null,null,null,null,null,null,null,null,{"$f":"IF(入力用!D30=\"\",\"\",入力用!D30)","v":""},null,null,null,null,{"$f":"IF(入力用!D31=\"\",\"\",入力用!D31)","v":""},null,null,null,null,null,null,null,null,null,null,null,null,null,null,{"$f":"IF(入力用!P32=2,入力用!T6,IF(入力用!P32=3,入力用!T7,\"\"))","v":""},null,null,null,null,null,null,null,null,null,{"$f":"IF(入力用!D33=\"\",\"\",入力用!D33)","v":""},null,null,null,null,{"$f":"IF(入力用!P33=2,入力用!U6,IF(入力用!P33=3,入力用!U7,\"㏋・㎾\"))","v":"㏋・㎾"},null,null,null,{"$f":"IF(入力用!Q33=0,\"\",入力用!Q33)","v":""},null,null,null,null,"㎾",null,{"$f":"IF(入力用!P35=2,入力用!V6,IF(入力用!P35=3,入力用!V7,IF(入力用!P35=4,入力用!V8,IF(入力用!P35=5,入力用!V9,\"\"))))","v":""},null,null,null,null,{"$f":"IF(入力用!D36=\"\",\"\",入力用!D36)","v":""},null,null,"台",null,"開始",null,null,null,null,"終了",null,null,null,null,"力率",null,null,null,null,null,"85％",null,null,null,{"$f":"IF(入力用!P11=2,\"超過\",IF(入力用!S19=\"\",\"超過\n未満\",IF(入力用!S19>0.85,\"超過\",IF(入力用!S19=0.85,\"\",\"未満\"))))","v":"超過\n未満"},null,null,null,"契 約\n電 力",null,null,null,null,null,{"$f":"入力用!S33","v":""},null,null,null,null,"kW"]
[]
[null,null,null,null,null,null,{"$f":"IF(入力用!D37=\"\",\"\",入力用!D37)","v":""},null,null,null,null,null,null,null,null,null,null,{"$f":"IF(入力用!D38=\"\",\"\",入力用!D38)","v":""},null,null,null,null,{"$f":"IF(入力用!D39=\"\",\"\",入力用!D39)","v":""},null,null,null,null,null,null,null,null,null,null,null,null,null,null,{"$f":"IF(入力用!P40=2,入力用!T6,IF(入力用!P40=3,入力用!T7,\"\"))","v":""},null,null,null,null,null,null,null,null,null,{"$f":"IF(入力用!D41=\"\",\"\",入力用!D41)","v":""},null,null,null,null,{"$f":"IF(入力用!P41=2,入力用!U6,IF(入力用!P41=3,入力用!U7,\"㏋・㎾\"))","v":"㏋・㎾"},null,null,null,{"$f":"IF(入力用!Q41=0,\"\",入力用!Q41)","v":""},null,null,null,null,"㎾",null,{"$f":"IF(入力用!P43=2,入力用!V6,IF(入力用!P43=3,入力用!V7,IF(入力用!P43=4,入力用!V8,IF(入力用!P43=5,入力用!V9,\"\"))))","v":""},null,null,null,null,{"$f":"IF(入力用!D44=\"\",\"\",入力用!D44)","v":""},null,null,"台",null,{"$f":"IF(入力用!D50=\"\",\"\",入力用!D50)","v":""},null,"月分",null,null,{"$f":"IF(入力用!D50=\"\",\"\",IF(入力用!P9=10,IF(BV43>7,BV43-7,BV43+5),IF(BV43>10,BV43-10,BV43+2)))","v":""},null,"月分"]
[]
[null,"ﾊﾟﾀｰﾝ\n区 分",null,null,null,null,"B",null,null,null,"契約種別",null,null,{"$f":"入力用!R57","v":""},null,null,null,null,null,null,null,null,null,null,null,null,null,null,null,null,null,null,null,null,null,null,null,null,"供給\n電気\n方式",null,null,null,{"$f":"IF(入力用!P54=2,入力用!R6,IF(入力用!P54=3,入力用!R7,IF(入力用!P54=4,入力用!R8,IF(入力用!P54=5,入力用!R9,\"\"))))","v":""},null,null,null,null,null,null,null,null,null,null,null,null,null,"契約決定\n方　　法",null,null,null,null,null,{"$f":"IF(入力用!P55=2,入力用!S6,IF(入力用!P55=3,入力用!S7,\"\"))","v":""},null,null,null,null,null,null,null,null,null,null,"検知制御装置",null,null,null,null,null,null,null,null,null,null,null,null,null,null,null,null,null,"室　　　番　　　号"]
[]
[null,null,null,null,null,null,null,null,null,null,null,null,null,null,null,null,null,null,null,null,null,null,null,null,null,null,null,null,null,null,null,null,null,null,null,null,null,null,null,null,null,null,null,null,null,null,null,null,null,null,null,null,null,null,null,null,null,null,null,null,null,null,null,null,null,null,null,null,null,null,null,null,null,"メーカー",null,null,null,"型　　式",null,null,null,null,null,null,null,null,"種　類",null,null,null,null,{"$f":"IF(入力用!D95=\"\",\"\",入力用!D95)","v":""}]
[]
[null,null,null,null,null,null,null,null,null,null,null,null,null,null,null,null,null,null,null,null,null,null,null,null,null,null,null,null,null,null,null,null,null,null,null,null,null,null,null,null,null,null,null,null,null,null,null,null,null,null,null,null,null,null,null,null,"主開閉器の\n定格電流",null,null,null,null,null,{"$f":"IF(入力用!D56=\"\",\"\",入力用!D56)","v":""},null,null,null,null,null,null,null,null,null,null,{"$f":"IF(入力用!D89=\"\",\"\",入力用!D89)","v":""},null,null,null,{"$f":"IF(入力用!D90=\"\",\"\",入力用!D90)","v":""},null,null,null,null,null,null,null,null,{"$f":"IF(入力用!P91=2,入力用!W6,IF(入力用!P91=3,入力用!W7,IF(入力用!P91=4,入力用!W8,\"\")))","v":""}]
[null,null,null,null,null,null,null,null,null,null,null,null,null,null,null,null,null,null,null,null,null,null,null,null,null,null,null,null,null,null,null,null,null,null,null,null,null,null,null,null,null,null,null,null,null,null,null,null,null,null,null,null,null,null,null,null,null,null,null,null,null,null,null,null,null,null,null,null,null,null,"Ａ"]
[]
[null,null,null,null,null,null,null,null,null,null,null,null,null,null,null,null,null,null,null,null,null,null,null,null,null,null,null,null,null,null,null,null,null,null,null,null,null,null,null,null,null,null,null,null,null,null,null,null,null,null,null,null,null,null,null,null,null,null,null,null,null,null,null,null,null,null,null,null,null,null,null,null,null,"通電遮断パターン"]
[null,"契約\n負荷\n設備\n内訳",null,null,null,null,"機　器　種　別",null,null,null,null,null,null,null,null,null,null,"メーカー",null,null,null,null,"型　　　　式",null,null,null,null,null,null,null,null,null,null,null,null,null,null,"通電制御・検知制御",null,null,null,null,null,null,null,null,null,"出　力",null,null,null,null,null,null,null,null,"入 力",null,null,null,null,null,null,"力率",null,null,null,null,"台数"]
[null,null,null,null,null,null,null,null,null,null,null,null,null,null,null,null,null,null,null,null,null,null,null,null,null,null,null,null,null,null,null,null,null,null,null,null,null,null,null,null,null,null,null,null,null,null,null,null,null,null,null,null,null,null,null,null,null,null,null,null,null,null,null,null,null,null,null,null,null,null,null,null,null,{"$f":"IF(入力用!D92=\"\",\"\",入力用!D92)","v":""},null,"時",null,{"$f":"IF(入力用!F92=\"\",\"\",IF(入力用!F92=\"0\",\"00\",入力用!F92))","v":""},null,"分から",null,null,null,{"$f":"IF(入力用!D93=\"\",\"\",入力用!D93)","v":""},null,{"$f":"IF(入力用!P92=2,入力用!X6,IF(入力用!P92=3,入力用!X7,\"\"))&IF(入力用!P93=2,入力用!Y6,IF(入力用!P93=3,入力用!Y7,\"\"))","v":""}]
[null,null,null,null,null,null,{"$f":"IF(入力用!D57=\"\",\"\",入力用!D57)","v":""},null,null,null,null,null,null,null,null,null,null,{"$f":"IF(入力用!D58=\"\",\"\",入力用!D58)","v":""},null,null,null,null,{"$f":"IF(入力用!D59=\"\",\"\",入力用!D59)","v":""},null,null,null,null,null,null,null,null,null,null,null,null,null,null,{"$f":"IF(入力用!P60=2,入力用!T6,IF(入力用!P60=3,入力用!T7,\"\"))","v":""},null,null,null,null,null,null,null,null,null,{"$f":"IF(入力用!D61=\"\",\"\",入力用!D61)","v":""},null,null,null,null,{"$f":"IF(入力用!P61=2,入力用!U6,IF(入力用!P61=3,入力用!U7,\"㏋・㎾\"))","v":"㏋・㎾"},null,null,null,{"$f":"IF(入力用!Q61=0,\"\",入力用!Q61)","v":""},null,null,null,null,"㎾",null,{"$f":"IF(入力用!P63=2,入力用!V6,IF(入力用!P63=3,入力用!V7,IF(入力用!P63=4,入力用!V8,IF(入力用!P63=5,入力用!V9,\"\"))))","v":""},null,null,null,null,{"$f":"IF(入力用!D64=\"\",\"\",入力用!D64)","v":""},null,null,"台",null,null,null,null,null,null,null,null,null,null,null,null,null,null,null,null,null,null,null,"契 約 口 数 合 計",null,null,null,null,null,null,null,null,null,null,null,null,{"$f":"IF(入力用!D96=\"\",\"\",入力用!D96)","v":""},null,null,null,"口"]
[]
[null,null,null,null,null,null,{"$f":"IF(入力用!D65=\"\",\"\",入力用!D65)","v":""},null,null,null,null,null,null,null,null,null,null,{"$f":"IF(入力用!D66=\"\",\"\",入力用!D66)","v":""},null,null,null,null,{"$f":"IF(入力用!D67=\"\",\"\",入力用!D67)","v":""},null,null,null,null,null,null,null,null,null,null,null,null,null,null,{"$f":"IF(入力用!P68=2,入力用!T6,IF(入力用!P68=3,入力用!T7,\"\"))","v":""},null,null,null,null,null,null,null,null,null,{"$f":"IF(入力用!D69=\"\",\"\",入力用!D69)","v":""},null,null,null,null,{"$f":"IF(入力用!P69=2,入力用!U6,IF(入力用!P69=3,入力用!U7,\"㏋・㎾\"))","v":"㏋・㎾"},null,null,null,{"$f":"IF(入力用!Q69=0,\"\",入力用!Q69)","v":""},null,null,null,null,"㎾",null,{"$f":"IF(入力用!P71=2,入力用!V6,IF(入力用!P71=3,入力用!V7,IF(入力用!P71=4,入力用!V8,IF(入力用!P71=5,入力用!V9,\"\"))))","v":""},null,null,null,null,{"$f":"IF(入力用!D72=\"\",\"\",入力用!D72)","v":""},null,null,"台",null,"最低使用期間",null,null,null,null,null,null,null,null,null,"通電制御・検知制御割引対象率",null,null,null,null,null,null,null,null,null,null,null,null,null,null,null,null,null,null,null,{"$f":"IF(入力用!S82+入力用!S83=0,\"\",ROUND(入力用!S79/(入力用!S82+入力用!S83),2)*100)","v":""},null,null,null,null,"％"]
[]
[null,null,null,null,null,null,{"$f":"IF(入力用!D73=\"\",\"\",入力用!D73)","v":""},null,null,null,null,null,null,null,null,null,null,{"$f":"IF(入力用!D74=\"\",\"\",入力用!D74)","v":""},null,null,null,null,{"$f":"IF(入力用!D75=\"\",\"\",入力用!D75)","v":""},null,null,null,null,null,null,null,null,null,null,null,null,null,null,{"$f":"IF(入力用!P76=2,入力用!T6,IF(入力用!P76=3,入力用!T7,\"\"))","v":""},null,null,null,null,null,null,null,null,null,{"$f":"IF(入力用!D77=\"\",\"\",入力用!D77)","v":""},null,null,null,null,{"$f":"IF(入力用!P77=2,入力用!U6,IF(入力用!P77=3,入力用!U7,\"㏋・㎾\"))","v":"㏋・㎾"},null,null,null,{"$f":"IF(入力用!Q77=0,\"\",入力用!Q77)","v":""},null,null,null,null,"㎾",null,{"$f":"IF(入力用!P79=2,入力用!V6,IF(入力用!P79=3,入力用!V7,IF(入力用!P79=4,入力用!V8,IF(入力用!P79=5,入力用!V9,\"\"))))","v":""},null,null,null,null,{"$f":"IF(入力用!D80=\"\",\"\",入力用!D80)","v":""},null,null,"台",null,"開始",null,null,null,null,"終了",null,null,null,null,"力率",null,null,null,null,null,"85％",null,null,null,{"$f":"IF(入力用!P55=2,\"超過\",IF(入力用!S63=\"\",\"超過\n未満\",IF(入力用!S63>0.85,\"超過\",IF(入力用!S63=0.85,\"\",\"未満\"))))","v":"超過\n未満"},null,null,null,"契 約\n電 力",null,null,null,null,null,{"$f":"入力用!S77","v":""},null,null,null,null,"kW"]
[]
[null,null,null,null,null,null,{"$f":"IF(入力用!D81=\"\",\"\",入力用!D81)","v":""},null,null,null,null,null,null,null,null,null,null,{"$f":"IF(入力用!D82=\"\",\"\",入力用!D82)","v":""},null,null,null,null,{"$f":"IF(入力用!D83=\"\",\"\",入力用!D83)","v":""},null,null,null,null,null,null,null,null,null,null,null,null,null,null,{"$f":"IF(入力用!P84=2,入力用!T6,IF(入力用!P84=3,入力用!T7,\"\"))","v":""},null,null,null,null,null,null,null,null,null,{"$f":"IF(入力用!D85=\"\",\"\",入力用!D85)","v":""},null,null,null,null,{"$f":"IF(入力用!P85=2,入力用!U6,IF(入力用!P85=3,入力用!U7,\"㏋・㎾\"))","v":"㏋・㎾"},null,null,null,{"$f":"IF(入力用!Q85=0,\"\",入力用!Q85)","v":""},null,null,null,null,"㎾",null,{"$f":"IF(入力用!P87=2,入力用!V6,IF(入力用!P87=3,入力用!V7,IF(入力用!P87=4,入力用!V8,IF(入力用!P87=5,入力用!V9,\"\"))))","v":""},null,null,null,null,{"$f":"IF(入力用!D88=\"\",\"\",入力用!D88)","v":""},null,null,"台",null,{"$f":"IF(入力用!D94=\"\",\"\",入力用!D94)","v":""},null,"月分",null,null,{"$f":"IF(入力用!D94=\"\",\"\",IF(入力用!P53=10,IF(BV61>7,BV61-7,BV61+5),IF(BV61>10,BV61-10,BV61+2)))","v":""},null,"月分"]
[]
[null,"ﾊﾟﾀｰﾝ\n区 分",null,null,null,null,"C",null,null,null,"契約種別",null,null,{"$f":"入力用!R101","v":""},null,null,null,null,null,null,null,null,null,null,null,null,null,null,null,null,null,null,null,null,null,null,null,null,"供給\n電気\n方式",null,null,null,{"$f":"IF(入力用!P98=2,入力用!R6,IF(入力用!P98=3,入力用!R7,IF(入力用!P98=4,入力用!R8,IF(入力用!P98=5,入力用!R9,\"\"))))","v":""},null,null,null,null,null,null,null,null,null,null,null,null,null,"契約決定\n方　　法",null,null,null,null,null,{"$f":"IF(入力用!P99=2,入力用!S6,IF(入力用!P99=3,入力用!S7,\"\"))","v":""},null,null,null,null,null,null,null,null,null,null,"検知制御装置",null,null,null,null,null,null,null,null,null,null,null,null,null,null,null,null,null,"室　　　番　　　号"]
[]
[null,null,null,null,null,null,null,null,null,null,null,null,null,null,null,null,null,null,null,null,null,null,null,null,null,null,null,null,null,null,null,null,null,null,null,null,null,null,null,null,null,null,null,null,null,null,null,null,null,null,null,null,null,null,null,null,null,null,null,null,null,null,null,null,null,null,null,null,null,null,null,null,null,"メーカー",null,null,null,"型　　式",null,null,null,null,null,null,null,null,"種　類",null,null,null,null,{"$f":"IF(入力用!D139=\"\",\"\",入力用!D139)","v":""}]
[]
[null,null,null,null,null,null,null,null,null,null,null,null,null,null,null,null,null,null,null,null,null,null,null,null,null,null,null,null,null,null,null,null,null,null,null,null,null,null,null,null,null,null,null,null,null,null,null,null,null,null,null,null,null,null,null,null,"主開閉器の\n定格電流",null,null,null,null,null,{"$f":"IF(入力用!D100=\"\",\"\",入力用!D100)","v":""},null,null,null,null,null,null,null,null,null,null,{"$f":"IF(入力用!D133=\"\",\"\",入力用!D133)","v":""},null,null,null,{"$f":"IF(入力用!D134=\"\",\"\",入力用!D134)","v":""},null,null,null,null,null,null,null,null,{"$f":"IF(入力用!P135=2,入力用!W6,IF(入力用!P135=3,入力用!W7,IF(入力用!P135=4,入力用!W8,\"\")))","v":""}]
[null,null,null,null,null,null,null,null,null,null,null,null,null,null,null,null,null,null,null,null,null,null,null,null,null,null,null,null,null,null,null,null,null,null,null,null,null,null,null,null,null,null,null,null,null,null,null,null,null,null,null,null,null,null,null,null,null,null,null,null,null,null,null,null,null,null,null,null,null,null,"Ａ"]
[]
[null,null,null,null,null,null,null,null,null,null,null,null,null,null,null,null,null,null,null,null,null,null,null,null,null,null,null,null,null,null,null,null,null,null,null,null,null,null,null,null,null,null,null,null,null,null,null,null,null,null,null,null,null,null,null,null,null,null,null,null,null,null,null,null,null,null,null,null,null,null,null,null,null,"通電遮断パターン"]
[null,"契約\n負荷\n設備\n内訳",null,null,null,null,"機　器　種　別",null,null,null,null,null,null,null,null,null,null,"メーカー",null,null,null,null,"型　　　　式",null,null,null,null,null,null,null,null,null,null,null,null,null,null,"通電制御・検知制御",null,null,null,null,null,null,null,null,null,"出　力",null,null,null,null,null,null,null,null,"入 力",null,null,null,null,null,null,"力率",null,null,null,null,"台数"]
[null,null,null,null,null,null,null,null,null,null,null,null,null,null,null,null,null,null,null,null,null,null,null,null,null,null,null,null,null,null,null,null,null,null,null,null,null,null,null,null,null,null,null,null,null,null,null,null,null,null,null,null,null,null,null,null,null,null,null,null,null,null,null,null,null,null,null,null,null,null,null,null,null,{"$f":"IF(入力用!D136=\"\",\"\",入力用!D136)","v":""},null,"時",null,{"$f":"IF(入力用!F136=\"\",\"\",IF(入力用!F136=\"0\",\"00\",入力用!F136))","v":""},null,"分から",null,null,null,{"$f":"IF(入力用!D137=\"\",\"\",入力用!D137)","v":""},null,{"$f":"IF(入力用!P136=2,入力用!X6,IF(入力用!P136=3,入力用!X7,\"\"))&IF(入力用!P137=2,入力用!Y6,IF(入力用!P137=3,入力用!Y7,\"\"))","v":""}]
[null,null,null,null,null,null,{"$f":"IF(入力用!D101=\"\",\"\",入力用!D101)","v":""},null,null,null,null,null,null,null,null,null,null,{"$f":"IF(入力用!D102=\"\",\"\",入力用!D102)","v":""},null,null,null,null,{"$f":"IF(入力用!D103=\"\",\"\",入力用!D103)","v":""},null,null,null,null,null,null,null,null,null,null,null,null,null,null,{"$f":"IF(入力用!P104=2,入力用!T6,IF(入力用!P104=3,入力用!T7,\"\"))","v":""},null,null,null,null,null,null,null,null,null,{"$f":"IF(入力用!D105=\"\",\"\",入力用!D105)","v":""},null,null,null,null,{"$f":"IF(入力用!P105=2,入力用!U6,IF(入力用!P105=3,入力用!U7,\"㏋・㎾\"))","v":"㏋・㎾"},null,null,null,{"$f":"IF(入力用!Q105=0,\"\",入力用!Q105)","v":""},null,null,null,null,"㎾",null,{"$f":"IF(入力用!P107=2,入力用!V6,IF(入力用!P107=3,入力用!V7,IF(入力用!P107=4,入力用!V8,IF(入力用!P107=5,入力用!V9,\"\"))))","v":""},null,null,null,null,{"$f":"IF(入力用!D108=\"\",\"\",入力用!D108)","v":""},null,null,"台",null,null,null,null,null,null,null,null,null,null,null,null,null,null,null,null,null,null,null,"契 約 口 数 合 計",null,null,null,null,null,null,null,null,null,null,null,null,{"$f":"IF(入力用!D140=\"\",\"\",入力用!D140)","v":""},null,null,null,"口"]
[]
[null,null,null,null,null,null,{"$f":"IF(入力用!D109=\"\",\"\",入力用!D109)","v":""},null,null,null,null,null,null,null,null,null,null,{"$f":"IF(入力用!D110=\"\",\"\",入力用!D110)","v":""},null,null,null,null,{"$f":"IF(入力用!D111=\"\",\"\",入力用!D111)","v":""},null,null,null,null,null,null,null,null,null,null,null,null,null,null,{"$f":"IF(入力用!P112=2,入力用!T6,IF(入力用!P112=3,入力用!T7,\"\"))","v":""},null,null,null,null,null,null,null,null,null,{"$f":"IF(入力用!D113=\"\",\"\",入力用!D113)","v":""},null,null,null,null,{"$f":"IF(入力用!P113=2,入力用!U6,IF(入力用!P113=3,入力用!U7,\"㏋・㎾\"))","v":"㏋・㎾"},null,null,null,{"$f":"IF(入力用!Q113=0,\"\",入力用!Q113)","v":""},null,null,null,null,"㎾",null,{"$f":"IF(入力用!P115=2,入力用!V6,IF(入力用!P115=3,入力用!V7,IF(入力用!P115=4,入力用!V8,IF(入力用!P115=5,入力用!V9,\"\"))))","v":""},null,null,null,null,{"$f":"IF(入力用!D116=\"\",\"\",入力用!D116)","v":""},null,null,"台",null,"最低使用期間",null,null,null,null,null,null,null,null,null,"通電制御・検知制御割引対象率",null,null,null,null,null,null,null,null,null,null,null,null,null,null,null,null,null,null,null,{"$f":"IF(入力用!S126+入力用!S127=0,\"\",ROUND(入力用!S123/(入力用!S126+入力用!S127),2)*100)","v":""},null,null,null,null,"％"]
[]
[null,null,null,null,null,null,{"$f":"IF(入力用!D117=\"\",\"\",入力用!D117)","v":""},null,null,null,null,null,null,null,null,null,null,{"$f":"IF(入力用!D118=\"\",\"\",入力用!D118)","v":""},null,null,null,null,{"$f":"IF(入力用!D119=\"\",\"\",入力用!D119)","v":""},null,null,null,null,null,null,null,null,null,null,null,null,null,null,{"$f":"IF(入力用!P120=2,入力用!T6,IF(入力用!P120=3,入力用!T7,\"\"))","v":""},null,null,null,null,null,null,null,null,null,{"$f":"IF(入力用!D121=\"\",\"\",入力用!D121)","v":""},null,null,null,null,{"$f":"IF(入力用!P121=2,入力用!U6,IF(入力用!P121=3,入力用!U7,\"㏋・㎾\"))","v":"㏋・㎾"},null,null,null,{"$f":"IF(入力用!Q121=0,\"\",入力用!Q121)","v":""},null,null,null,null,"㎾",null,{"$f":"IF(入力用!P123=2,入力用!V6,IF(入力用!P123=3,入力用!V7,IF(入力用!P123=4,入力用!V8,IF(入力用!P123=5,入力用!V9,\"\"))))","v":""},null,null,null,null,{"$f":"IF(入力用!D124=\"\",\"\",入力用!D124)","v":""},null,null,"台",null,"開始",null,null,null,null,"終了",null,null,null,null,"力率",null,null,null,null,null,"85％",null,null,null,{"$f":"IF(入力用!P99=2,\"超過\",IF(入力用!S107=\"\",\"超過\n未満\",IF(入力用!S107>0.85,\"超過\",IF(入力用!S107=0.85,\"\",\"未満\"))))","v":"超過\n未満"},null,null,null,"契 約\n電 力",null,null,null,null,null,{"$f":"入力用!S121","v":""},null,null,null,null,"kW"]
[]
[null,null,null,null,null,null,{"$f":"IF(入力用!D125=\"\",\"\",入力用!D125)","v":""},null,null,null,null,null,null,null,null,null,null,{"$f":"IF(入力用!D126=\"\",\"\",入力用!D126)","v":""},null,null,null,null,{"$f":"IF(入力用!D127=\"\",\"\",入力用!D127)","v":""},null,null,null,null,null,null,null,null,null,null,null,null,null,null,{"$f":"IF(入力用!P128=2,入力用!T6,IF(入力用!P128=3,入力用!T7,\"\"))","v":""},null,null,null,null,null,null,null,null,null,{"$f":"IF(入力用!D129=\"\",\"\",入力用!D129)","v":""},null,null,null,null,{"$f":"IF(入力用!P129=2,入力用!U6,IF(入力用!P129=3,入力用!U7,\"㏋・㎾\"))","v":"㏋・㎾"},null,null,null,{"$f":"IF(入力用!Q129=0,\"\",入力用!Q129)","v":""},null,null,null,null,"㎾",null,{"$f":"IF(入力用!P131=2,入力用!V6,IF(入力用!P131=3,入力用!V7,IF(入力用!P131=4,入力用!V8,IF(入力用!P131=5,入力用!V9,\"\"))))","v":""},null,null,null,null,{"$f":"IF(入力用!D132=\"\",\"\",入力用!D132)","v":""},null,null,"台",null,{"$f":"IF(入力用!D138=\"\",\"\",入力用!D138)","v":""},null,"月分",null,null,{"$f":"IF(入力用!D138=\"\",\"\",IF(入力用!P97=10,IF(BV79>7,BV79-7,BV79+5),IF(BV79>10,BV79-10,BV79+2)))","v":""},null,"月分"]
[]
[null,"ﾊﾟﾀｰﾝ\n区 分",null,null,null,null,"D",null,null,null,"契約種別",null,null,{"$f":"入力用!R145","v":""},null,null,null,null,null,null,null,null,null,null,null,null,null,null,null,null,null,null,null,null,null,null,null,null,"供給\n電気\n方式",null,null,null,{"$f":"IF(入力用!P142=2,入力用!R6,IF(入力用!P142=3,入力用!R7,IF(入力用!P142=4,入力用!R8,IF(入力用!P142=5,入力用!R9,\"\"))))","v":""},null,null,null,null,null,null,null,null,null,null,null,null,null,"契約決定\n方　　法",null,null,null,null,null,{"$f":"IF(入力用!P143=2,入力用!S6,IF(入力用!P143=3,入力用!S7,\"\"))","v":""},null,null,null,null,null,null,null,null,null,null,"検知制御装置",null,null,null,null,null,null,null,null,null,null,null,null,null,null,null,null,null,"室　　　番　　　号"]
[]
[null,null,null,null,null,null,null,null,null,null,null,null,null,null,null,null,null,null,null,null,null,null,null,null,null,null,null,null,null,null,null,null,null,null,null,null,null,null,null,null,null,null,null,null,null,null,null,null,null,null,null,null,null,null,null,null,null,null,null,null,null,null,null,null,null,null,null,null,null,null,null,null,null,"メーカー",null,null,null,"型　　式",null,null,null,null,null,null,null,null,"種　類",null,null,null,null,{"$f":"IF(入力用!D183=\"\",\"\",入力用!D183)","v":""}]
[]
[null,null,null,null,null,null,null,null,null,null,null,null,null,null,null,null,null,null,null,null,null,null,null,null,null,null,null,null,null,null,null,null,null,null,null,null,null,null,null,null,null,null,null,null,null,null,null,null,null,null,null,null,null,null,null,null,"主開閉器の\n定格電流",null,null,null,null,null,{"$f":"IF(入力用!D144=\"\",\"\",入力用!D144)","v":""},null,null,null,null,null,null,null,null,null,null,{"$f":"IF(入力用!D177=\"\",\"\",入力用!D177)","v":""},null,null,null,{"$f":"IF(入力用!D178=\"\",\"\",入力用!D178)","v":""},null,null,null,null,null,null,null,null,{"$f":"IF(入力用!P179=2,入力用!W6,IF(入力用!P179=3,入力用!W7,IF(入力用!P179=4,入力用!W8,\"\")))","v":""}]
[null,null,null,null,null,null,null,null,null,null,null,null,null,null,null,null,null,null,null,null,null,null,null,null,null,null,null,null,null,null,null,null,null,null,null,null,null,null,null,null,null,null,null,null,null,null,null,null,null,null,null,null,null,null,null,null,null,null,null,null,null,null,null,null,null,null,null,null,null,null,"Ａ"]
[]
[null,null,null,null,null,null,null,null,null,null,null,null,null,null,null,null,null,null,null,null,null,null,null,null,null,null,null,null,null,null,null,null,null,null,null,null,null,null,null,null,null,null,null,null,null,null,null,null,null,null,null,null,null,null,null,null,null,null,null,null,null,null,null,null,null,null,null,null,null,null,null,null,null,"通電遮断パターン"]
[null,"契約\n負荷\n設備\n内訳",null,null,null,null,"機　器　種　別",null,null,null,null,null,null,null,null,null,null,"メーカー",null,null,null,null,"型　　　　式",null,null,null,null,null,null,null,null,null,null,null,null,null,null,"通電制御・検知制御",null,null,null,null,null,null,null,null,null,"出　力",null,null,null,null,null,null,null,null,"入 力",null,null,null,null,null,null,"力率",null,null,null,null,"台数"]
[null,null,null,null,null,null,null,null,null,null,null,null,null,null,null,null,null,null,null,null,null,null,null,null,null,null,null,null,null,null,null,null,null,null,null,null,null,null,null,null,null,null,null,null,null,null,null,null,null,null,null,null,null,null,null,null,null,null,null,null,null,null,null,null,null,null,null,null,null,null,null,null,null,{"$f":"IF(入力用!D180=\"\",\"\",入力用!D180)","v":""},null,"時",null,{"$f":"IF(入力用!F180=\"\",\"\",IF(入力用!F180=\"0\",\"00\",入力用!F180))","v":""},null,"分から",null,null,null,{"$f":"IF(入力用!D181=\"\",\"\",入力用!D181)","v":""},null,{"$f":"IF(入力用!P180=2,入力用!X6,IF(入力用!P180=3,入力用!X7,\"\"))&IF(入力用!P181=2,入力用!Y6,IF(入力用!P181=3,入力用!Y7,\"\"))","v":""}]
[null,null,null,null,null,null,{"$f":"IF(入力用!D145=\"\",\"\",入力用!D145)","v":""},null,null,null,null,null,null,null,null,null,null,{"$f":"IF(入力用!D146=\"\",\"\",入力用!D146)","v":""},null,null,null,null,{"$f":"IF(入力用!D147=\"\",\"\",入力用!D147)","v":""},null,null,null,null,null,null,null,null,null,null,null,null,null,null,{"$f":"IF(入力用!P148=2,入力用!T6,IF(入力用!P148=3,入力用!T7,\"\"))","v":""},null,null,null,null,null,null,null,null,null,{"$f":"IF(入力用!D149=\"\",\"\",入力用!D149)","v":""},null,null,null,null,{"$f":"IF(入力用!P149=2,入力用!U6,IF(入力用!P149=3,入力用!U7,\"㏋・㎾\"))","v":"㏋・㎾"},null,null,null,{"$f":"IF(入力用!Q149=0,\"\",入力用!Q149)","v":""},null,null,null,null,"㎾",null,{"$f":"IF(入力用!P151=2,入力用!V6,IF(入力用!P151=3,入力用!V7,IF(入力用!P151=4,入力用!V8,IF(入力用!P151=5,入力用!V9,\"\"))))","v":""},null,null,null,null,{"$f":"IF(入力用!D152=\"\",\"\",入力用!D152)","v":""},null,null,"台",null,null,null,null,null,null,null,null,null,null,null,null,null,null,null,null,null,null,null,"契 約 口 数 合 計",null,null,null,null,null,null,null,null,null,null,null,null,{"$f":"IF(入力用!D184=\"\",\"\",入力用!D184)","v":""},null,null,null,"口"]
[]
[null,null,null,null,null,null,{"$f":"IF(入力用!D153=\"\",\"\",入力用!D153)","v":""},null,null,null,null,null,null,null,null,null,null,{"$f":"IF(入力用!D154=\"\",\"\",入力用!D154)","v":""},null,null,null,null,{"$f":"IF(入力用!D155=\"\",\"\",入力用!D155)","v":""},null,null,null,null,null,null,null,null,null,null,null,null,null,null,{"$f":"IF(入力用!P156=2,入力用!T6,IF(入力用!P156=3,入力用!T7,\"\"))","v":""},null,null,null,null,null,null,null,null,null,{"$f":"IF(入力用!D157=\"\",\"\",入力用!D157)","v":""},null,null,null,null,{"$f":"IF(入力用!P157=2,入力用!U6,IF(入力用!P157=3,入力用!U7,\"㏋・㎾\"))","v":"㏋・㎾"},null,null,null,{"$f":"IF(入力用!Q157=0,\"\",入力用!Q157)","v":""},null,null,null,null,"㎾",null,{"$f":"IF(入力用!P159=2,入力用!V6,IF(入力用!P159=3,入力用!V7,IF(入力用!P159=4,入力用!V8,IF(入力用!P159=5,入力用!V9,\"\"))))","v":""},null,null,null,null,{"$f":"IF(入力用!D160=\"\",\"\",入力用!D160)","v":""},null,null,"台",null,"最低使用期間",null,null,null,null,null,null,null,null,null,"通電制御・検知制御割引対象率",null,null,null,null,null,null,null,null,null,null,null,null,null,null,null,null,null,null,null,{"$f":"IF(入力用!S170+入力用!S171=0,\"\",ROUND(入力用!S167/(入力用!S170+入力用!S171),2)*100)","v":""},null,null,null,null,"％"]
[]
[null,null,null,null,null,null,{"$f":"IF(入力用!D161=\"\",\"\",入力用!D161)","v":""},null,null,null,null,null,null,null,null,null,null,{"$f":"IF(入力用!D162=\"\",\"\",入力用!D162)","v":""},null,null,null,null,{"$f":"IF(入力用!D163=\"\",\"\",入力用!D163)","v":""},null,null,null,null,null,null,null,null,null,null,null,null,null,null,{"$f":"IF(入力用!P164=2,入力用!T6,IF(入力用!P164=3,入力用!T7,\"\"))","v":""},null,null,null,null,null,null,null,null,null,{"$f":"IF(入力用!D165=\"\",\"\",入力用!D165)","v":""},null,null,null,null,{"$f":"IF(入力用!P165=2,入力用!U6,IF(入力用!P165=3,入力用!U7,\"㏋・㎾\"))","v":"㏋・㎾"},null,null,null,{"$f":"IF(入力用!Q165=0,\"\",入力用!Q165)","v":""},null,null,null,null,"㎾",null,{"$f":"IF(入力用!P167=2,入力用!V6,IF(入力用!P167=3,入力用!V7,IF(入力用!P167=4,入力用!V8,IF(入力用!P167=5,入力用!V9,\"\"))))","v":""},null,null,null,null,{"$f":"IF(入力用!D168=\"\",\"\",入力用!D168)","v":""},null,null,"台",null,"開始",null,null,null,null,"終了",null,null,null,null,"力率",null,null,null,null,null,"85％",null,null,null,{"$f":"IF(入力用!P143=2,\"超過\",IF(入力用!S151=\"\",\"超過\n未満\",IF(入力用!S151>0.85,\"超過\",IF(入力用!S151=0.85,\"\",\"未満\"))))","v":"超過\n未満"},null,null,null,"契 約\n電 力",null,null,null,null,null,{"$f":"入力用!S165","v":""},null,null,null,null,"kW"]
[]
[null,null,null,null,null,null,{"$f":"IF(入力用!D169=\"\",\"\",入力用!D169)","v":""},null,null,null,null,null,null,null,null,null,null,{"$f":"IF(入力用!D170=\"\",\"\",入力用!D170)","v":""},null,null,null,null,{"$f":"IF(入力用!D171=\"\",\"\",入力用!D171)","v":""},null,null,null,null,null,null,null,null,null,null,null,null,null,null,{"$f":"IF(入力用!P172=2,入力用!T6,IF(入力用!P172=3,入力用!T7,\"\"))","v":""},null,null,null,null,null,null,null,null,null,{"$f":"IF(入力用!D173=\"\",\"\",入力用!D173)","v":""},null,null,null,null,{"$f":"IF(入力用!P173=2,入力用!U6,IF(入力用!P173=3,入力用!U7,\"㏋・㎾\"))","v":"㏋・㎾"},null,null,null,{"$f":"IF(入力用!Q173=0,\"\",入力用!Q173)","v":""},null,null,null,null,"㎾",null,{"$f":"IF(入力用!P175=2,入力用!V6,IF(入力用!P175=3,入力用!V7,IF(入力用!P175=4,入力用!V8,IF(入力用!P175=5,入力用!V9,\"\"))))","v":""},null,null,null,null,{"$f":"IF(入力用!D176=\"\",\"\",入力用!D176)","v":""},null,null,"台",null,{"$f":"IF(入力用!D182=\"\",\"\",入力用!D182)","v":""},null,"月分",null,null,{"$f":"IF(入力用!D182=\"\",\"\",IF(入力用!P141=10,IF(BV97>7,BV97-7,BV97+5),IF(BV97>10,BV97-10,BV97+2)))","v":""},null,"月分"]
[]
[null,"ﾊﾟﾀｰﾝ\n区 分",null,null,null,null,"E",null,null,null,"契約種別",null,null,{"$f":"入力用!R189","v":""},null,null,null,null,null,null,null,null,null,null,null,null,null,null,null,null,null,null,null,null,null,null,null,null,"供給\n電気\n方式",null,null,null,{"$f":"IF(入力用!P186=2,入力用!R6,IF(入力用!P186=3,入力用!R7,IF(入力用!P186=4,入力用!R8,IF(入力用!P186=5,入力用!R9,\"\"))))","v":""},null,null,null,null,null,null,null,null,null,null,null,null,null,"契約決定\n方　　法",null,null,null,null,null,{"$f":"IF(入力用!P187=2,入力用!S6,IF(入力用!P187=3,入力用!S7,\"\"))","v":""},null,null,null,null,null,null,null,null,null,null,"検知制御装置",null,null,null,null,null,null,null,null,null,null,null,null,null,null,null,null,null,"室　　　番　　　号"]
[]
[null,null,null,null,null,null,null,null,null,null,null,null,null,null,null,null,null,null,null,null,null,null,null,null,null,null,null,null,null,null,null,null,null,null,null,null,null,null,null,null,null,null,null,null,null,null,null,null,null,null,null,null,null,null,null,null,null,null,null,null,null,null,null,null,null,null,null,null,null,null,null,null,null,"メーカー",null,null,null,"型　　式",null,null,null,null,null,null,null,null,"種　類",null,null,null,null,{"$f":"IF(入力用!D227=\"\",\"\",入力用!D227)","v":""}]
[]
[null,null,null,null,null,null,null,null,null,null,null,null,null,null,null,null,null,null,null,null,null,null,null,null,null,null,null,null,null,null,null,null,null,null,null,null,null,null,null,null,null,null,null,null,null,null,null,null,null,null,null,null,null,null,null,null,"主開閉器の\n定格電流",null,null,null,null,null,{"$f":"IF(入力用!D188=\"\",\"\",入力用!D188)","v":""},null,null,null,null,null,null,null,null,null,null,{"$f":"IF(入力用!D221=\"\",\"\",入力用!D221)","v":""},null,null,null,{"$f":"IF(入力用!D222=\"\",\"\",入力用!D222)","v":""},null,null,null,null,null,null,null,null,{"$f":"IF(入力用!P223=2,入力用!W6,IF(入力用!P223=3,入力用!W7,IF(入力用!P223=4,入力用!W8,\"\")))","v":""}]
[null,null,null,null,null,null,null,null,null,null,null,null,null,null,null,null,null,null,null,null,null,null,null,null,null,null,null,null,null,null,null,null,null,null,null,null,null,null,null,null,null,null,null,null,null,null,null,null,null,null,null,null,null,null,null,null,null,null,null,null,null,null,null,null,null,null,null,null,null,null,"Ａ"]
[]
[null,null,null,null,null,null,null,null,null,null,null,null,null,null,null,null,null,null,null,null,null,null,null,null,null,null,null,null,null,null,null,null,null,null,null,null,null,null,null,null,null,null,null,null,null,null,null,null,null,null,null,null,null,null,null,null,null,null,null,null,null,null,null,null,null,null,null,null,null,null,null,null,null,"通電遮断パターン"]
[null,"契約\n負荷\n設備\n内訳",null,null,null,null,"機　器　種　別",null,null,null,null,null,null,null,null,null,null,"メーカー",null,null,null,null,"型　　　　式",null,null,null,null,null,null,null,null,null,null,null,null,null,null,"通電制御・検知制御",null,null,null,null,null,null,null,null,null,"出　力",null,null,null,null,null,null,null,null,"入 力",null,null,null,null,null,null,"力率",null,null,null,null,"台数"]
[null,null,null,null,null,null,null,null,null,null,null,null,null,null,null,null,null,null,null,null,null,null,null,null,null,null,null,null,null,null,null,null,null,null,null,null,null,null,null,null,null,null,null,null,null,null,null,null,null,null,null,null,null,null,null,null,null,null,null,null,null,null,null,null,null,null,null,null,null,null,null,null,null,{"$f":"IF(入力用!D224=\"\",\"\",入力用!D224)","v":""},null,"時",null,{"$f":"IF(入力用!F224=\"\",\"\",IF(入力用!F224=\"0\",\"00\",入力用!F224))","v":""},null,"分から",null,null,null,{"$f":"IF(入力用!D225=\"\",\"\",入力用!D225)","v":""},null,{"$f":"IF(入力用!P224=2,入力用!X6,IF(入力用!P224=3,入力用!X7,\"\"))&IF(入力用!P225=2,入力用!Y6,IF(入力用!P225=3,入力用!Y7,\"\"))","v":""}]
[null,null,null,null,null,null,{"$f":"IF(入力用!D189=\"\",\"\",入力用!D189)","v":""},null,null,null,null,null,null,null,null,null,null,{"$f":"IF(入力用!D190=\"\",\"\",入力用!D190)","v":""},null,null,null,null,{"$f":"IF(入力用!D191=\"\",\"\",入力用!D191)","v":""},null,null,null,null,null,null,null,null,null,null,null,null,null,null,{"$f":"IF(入力用!P192=2,入力用!T6,IF(入力用!P192=3,入力用!T77,\"\"))","v":""},null,null,null,null,null,null,null,null,null,{"$f":"IF(入力用!D193=\"\",\"\",入力用!D193)","v":""},null,null,null,null,{"$f":"IF(入力用!P193=2,入力用!U6,IF(入力用!P193=3,入力用!U7,\"㏋・㎾\"))","v":"㏋・㎾"},null,null,null,{"$f":"IF(入力用!Q193=0,\"\",入力用!Q193)","v":""},null,null,null,null,"㎾",null,{"$f":"IF(入力用!P195=2,入力用!V6,IF(入力用!P195=3,入力用!V7,IF(入力用!P195=4,入力用!V8,IF(入力用!P195=5,入力用!V9,\"\"))))","v":""},null,null,null,null,{"$f":"IF(入力用!D196=\"\",\"\",入力用!D196)","v":""},null,null,"台",null,null,null,null,null,null,null,null,null,null,null,null,null,null,null,null,null,null,null,"契 約 口 数 合 計",null,null,null,null,null,null,null,null,null,null,null,null,{"$f":"IF(入力用!D228=\"\",\"\",入力用!D228)","v":""},null,null,null,"口"]
[]
[null,null,null,null,null,null,{"$f":"IF(入力用!D197=\"\",\"\",入力用!D197)","v":""},null,null,null,null,null,null,null,null,null,null,{"$f":"IF(入力用!D198=\"\",\"\",入力用!D198)","v":""},null,null,null,null,{"$f":"IF(入力用!D199=\"\",\"\",入力用!D199)","v":""},null,null,null,null,null,null,null,null,null,null,null,null,null,null,{"$f":"IF(入力用!P200=2,入力用!T6,IF(入力用!P200=3,入力用!T7,\"\"))","v":""},null,null,null,null,null,null,null,null,null,{"$f":"IF(入力用!D201=\"\",\"\",入力用!D201)","v":""},null,null,null,null,{"$f":"IF(入力用!P201=2,入力用!U6,IF(入力用!P201=3,入力用!U7,\"㏋・㎾\"))","v":"㏋・㎾"},null,null,null,{"$f":"IF(入力用!Q201=0,\"\",入力用!Q201)","v":""},null,null,null,null,"㎾",null,{"$f":"IF(入力用!P203=2,入力用!V6,IF(入力用!P203=3,入力用!V7,IF(入力用!P203=4,入力用!V8,IF(入力用!P203=5,入力用!V9,\"\"))))","v":""},null,null,null,null,{"$f":"IF(入力用!D204=\"\",\"\",入力用!D204)","v":""},null,null,"台",null,"最低使用期間",null,null,null,null,null,null,null,null,null,"通電制御・検知制御割引対象率",null,null,null,null,null,null,null,null,null,null,null,null,null,null,null,null,null,null,null,{"$f":"IF(入力用!S214+入力用!S215=0,\"\",ROUND(入力用!S211/(入力用!S214+入力用!S215),2)*100)","v":""},null,null,null,null,"％"]
[]
[null,null,null,null,null,null,{"$f":"IF(入力用!D205=\"\",\"\",入力用!D205)","v":""},null,null,null,null,null,null,null,null,null,null,{"$f":"IF(入力用!D206=\"\",\"\",入力用!D206)","v":""},null,null,null,null,{"$f":"IF(入力用!D207=\"\",\"\",入力用!D207)","v":""},null,null,null,null,null,null,null,null,null,null,null,null,null,null,{"$f":"IF(入力用!P208=2,入力用!T6,IF(入力用!P208=3,入力用!T7,\"\"))","v":""},null,null,null,null,null,null,null,null,null,{"$f":"IF(入力用!D209=\"\",\"\",入力用!D209)","v":""},null,null,null,null,{"$f":"IF(入力用!P209=2,入力用!U6,IF(入力用!P209=3,入力用!U7,\"㏋・㎾\"))","v":"㏋・㎾"},null,null,null,{"$f":"IF(入力用!Q209=0,\"\",入力用!Q209)","v":""},null,null,null,null,"㎾",null,{"$f":"IF(入力用!P211=2,入力用!V6,IF(入力用!P211=3,入力用!V7,IF(入力用!P211=4,入力用!V8,IF(入力用!P211=5,入力用!V9,\"\"))))","v":""},null,null,null,null,{"$f":"IF(入力用!D212=\"\",\"\",入力用!D212)","v":""},null,null,"台",null,"開始",null,null,null,null,"終了",null,null,null,null,"力率",null,null,null,null,null,"85％",null,null,null,{"$f":"IF(入力用!P187=2,\"超過\",IF(入力用!S195=\"\",\"超過\n未満\",IF(入力用!S195>0.85,\"超過\",IF(入力用!S195=0.85,\"\",\"未満\"))))","v":"超過\n未満"},null,null,null,"契 約\n電 力",null,null,null,null,null,{"$f":"入力用!S209","v":""},null,null,null,null,"kW"]
[]
[null,null,null,null,null,null,{"$f":"IF(入力用!D213=\"\",\"\",入力用!D213)","v":""},null,null,null,null,null,null,null,null,null,null,{"$f":"IF(入力用!D214=\"\",\"\",入力用!D214)","v":""},null,null,null,null,{"$f":"IF(入力用!D215=\"\",\"\",入力用!D215)","v":""},null,null,null,null,null,null,null,null,null,null,null,null,null,null,{"$f":"IF(入力用!P216=2,入力用!T6,IF(入力用!P216=3,入力用!T7,\"\"))","v":""},null,null,null,null,null,null,null,null,null,{"$f":"IF(入力用!D217=\"\",\"\",入力用!D217)","v":""},null,null,null,null,{"$f":"IF(入力用!P217=2,入力用!U6,IF(入力用!P217=3,入力用!U7,\"㏋・㎾\"))","v":"㏋・㎾"},null,null,null,{"$f":"IF(入力用!Q217=0,\"\",入力用!Q217)","v":""},null,null,null,null,"㎾",null,{"$f":"IF(入力用!P219=2,入力用!V6,IF(入力用!P219=3,入力用!V7,IF(入力用!P219=4,入力用!V8,IF(入力用!P219=5,入力用!V9,\"\"))))","v":""},null,null,null,null,{"$f":"IF(入力用!D220=\"\",\"\",入力用!D220)","v":""},null,null,"台",null,{"$f":"IF(入力用!D226=\"\",\"\",入力用!D226)","v":""},null,"月分",null,null,{"$f":"IF(入力用!D226=\"\",\"\",IF(入力用!P185=10,IF(BV115>7,BV115-7,BV115+5),IF(BV115>10,BV115-10,BV115+2)))","v":""},null,"月分"]
[]
[null,"ﾊﾟﾀｰﾝ\n区 分",null,null,null,null,"F",null,null,null,"契約種別",null,null,{"$f":"入力用!R233","v":""},null,null,null,null,null,null,null,null,null,null,null,null,null,null,null,null,null,null,null,null,null,null,null,null,"供給\n電気\n方式",null,null,null,{"$f":"IF(入力用!P230=2,入力用!R6,IF(入力用!P230=3,入力用!R7,IF(入力用!P230=4,入力用!R8,IF(入力用!P230=5,入力用!R9,\"\"))))","v":""},null,null,null,null,null,null,null,null,null,null,null,null,null,"契約決定\n方　　法",null,null,null,null,null,{"$f":"IF(入力用!P231=2,入力用!S6,IF(入力用!P231=3,入力用!S7,\"\"))","v":""},null,null,null,null,null,null,null,null,null,null,"検知制御装置",null,null,null,null,null,null,null,null,null,null,null,null,null,null,null,null,null,"室　　　番　　　号"]
[]
[null,null,null,null,null,null,null,null,null,null,null,null,null,null,null,null,null,null,null,null,null,null,null,null,null,null,null,null,null,null,null,null,null,null,null,null,null,null,null,null,null,null,null,null,null,null,null,null,null,null,null,null,null,null,null,null,null,null,null,null,null,null,null,null,null,null,null,null,null,null,null,null,null,"メーカー",null,null,null,"型　　式",null,null,null,null,null,null,null,null,"種　類",null,null,null,null,{"$f":"IF(入力用!D271=\"\",\"\",入力用!D271)","v":""}]
[]
[null,null,null,null,null,null,null,null,null,null,null,null,null,null,null,null,null,null,null,null,null,null,null,null,null,null,null,null,null,null,null,null,null,null,null,null,null,null,null,null,null,null,null,null,null,null,null,null,null,null,null,null,null,null,null,null,"主開閉器の\n定格電流",null,null,null,null,null,{"$f":"IF(入力用!D232=\"\",\"\",入力用!D232)","v":""},null,null,null,null,null,null,null,null,null,null,{"$f":"IF(入力用!D265=\"\",\"\",入力用!D265)","v":""},null,null,null,{"$f":"IF(入力用!D266=\"\",\"\",入力用!D266)","v":""},null,null,null,null,null,null,null,null,{"$f":"IF(入力用!P267=2,入力用!W6,IF(入力用!P267=3,入力用!W7,IF(入力用!P267=4,入力用!W8,\"\")))","v":""}]
[null,null,null,null,null,null,null,null,null,null,null,null,null,null,null,null,null,null,null,null,null,null,null,null,null,null,null,null,null,null,null,null,null,null,null,null,null,null,null,null,null,null,null,null,null,null,null,null,null,null,null,null,null,null,null,null,null,null,null,null,null,null,null,null,null,null,null,null,null,null,"Ａ"]
[]
[null,null,null,null,null,null,null,null,null,null,null,null,null,null,null,null,null,null,null,null,null,null,null,null,null,null,null,null,null,null,null,null,null,null,null,null,null,null,null,null,null,null,null,null,null,null,null,null,null,null,null,null,null,null,null,null,null,null,null,null,null,null,null,null,null,null,null,null,null,null,null,null,null,"通電遮断パターン"]
[null,"契約\n負荷\n設備\n内訳",null,null,null,null,"機　器　種　別",null,null,null,null,null,null,null,null,null,null,"メーカー",null,null,null,null,"型　　　　式",null,null,null,null,null,null,null,null,null,null,null,null,null,null,"通電制御・検知制御",null,null,null,null,null,null,null,null,null,"出　力",null,null,null,null,null,null,null,null,"入 力",null,null,null,null,null,null,"力率",null,null,null,null,"台数"]
[null,null,null,null,null,null,null,null,null,null,null,null,null,null,null,null,null,null,null,null,null,null,null,null,null,null,null,null,null,null,null,null,null,null,null,null,null,null,null,null,null,null,null,null,null,null,null,null,null,null,null,null,null,null,null,null,null,null,null,null,null,null,null,null,null,null,null,null,null,null,null,null,null,{"$f":"IF(入力用!D268=\"\",\"\",入力用!D268)","v":""},null,"時",null,{"$f":"IF(入力用!F268=\"\",\"\",IF(入力用!F268=\"0\",\"00\",入力用!F268))","v":""},null,"分から",null,null,null,{"$f":"IF(入力用!D269=\"\",\"\",入力用!D269)","v":""},null,{"$f":"IF(入力用!P268=2,入力用!X6,IF(入力用!P268=3,入力用!X7,\"\"))&IF(入力用!P269=2,入力用!Y6,IF(入力用!P269=3,入力用!Y7,\"\"))","v":""}]
[null,null,null,null,null,null,{"$f":"IF(入力用!D233=\"\",\"\",入力用!D233)","v":""},null,null,null,null,null,null,null,null,null,null,{"$f":"IF(入力用!D234=\"\",\"\",入力用!D234)","v":""},null,null,null,null,{"$f":"IF(入力用!D235=\"\",\"\",入力用!D235)","v":""},null,null,null,null,null,null,null,null,null,null,null,null,null,null,{"$f":"IF(入力用!P236=2,入力用!T6,IF(入力用!P236=3,入力用!T7,\"\"))","v":""},null,null,null,null,null,null,null,null,null,{"$f":"IF(入力用!D237=\"\",\"\",入力用!D237)","v":""},null,null,null,null,{"$f":"IF(入力用!P237=2,入力用!U6,IF(入力用!P237=3,入力用!U7,\"㏋・㎾\"))","v":"㏋・㎾"},null,null,null,{"$f":"IF(入力用!Q237=0,\"\",入力用!Q237)","v":""},null,null,null,null,"㎾",null,{"$f":"IF(入力用!P239=2,入力用!V6,IF(入力用!P239=3,入力用!V7,IF(入力用!P239=4,入力用!V8,IF(入力用!P239=5,入力用!V9,\"\"))))","v":""},null,null,null,null,{"$f":"IF(入力用!D240=\"\",\"\",入力用!D240)","v":""},null,null,"台",null,null,null,null,null,null,null,null,null,null,null,null,null,null,null,null,null,null,null,"契 約 口 数 合 計",null,null,null,null,null,null,null,null,null,null,null,null,{"$f":"IF(入力用!D272=\"\",\"\",入力用!D272)","v":""},null,null,null,"口"]
[]
[null,null,null,null,null,null,{"$f":"IF(入力用!D241=\"\",\"\",入力用!D241)","v":""},null,null,null,null,null,null,null,null,null,null,{"$f":"IF(入力用!D242=\"\",\"\",入力用!D242)","v":""},null,null,null,null,{"$f":"IF(入力用!D243=\"\",\"\",入力用!D243)","v":""},null,null,null,null,null,null,null,null,null,null,null,null,null,null,{"$f":"IF(入力用!P244=2,入力用!T6,IF(入力用!P244=3,入力用!T7,\"\"))","v":""},null,null,null,null,null,null,null,null,null,{"$f":"IF(入力用!D245=\"\",\"\",入力用!D245)","v":""},null,null,null,null,{"$f":"IF(入力用!P245=2,入力用!U6,IF(入力用!P245=3,入力用!U7,\"㏋・㎾\"))","v":"㏋・㎾"},null,null,null,{"$f":"IF(入力用!Q245=0,\"\",入力用!Q245)","v":""},null,null,null,null,"㎾",null,{"$f":"IF(入力用!P247=2,入力用!V6,IF(入力用!P247=3,入力用!V7,IF(入力用!P247=4,入力用!V8,IF(入力用!P247=5,入力用!V9,\"\"))))","v":""},null,null,null,null,{"$f":"IF(入力用!D248=\"\",\"\",入力用!D248)","v":""},null,null,"台",null,"最低使用期間",null,null,null,null,null,null,null,null,null,"通電制御・検知制御割引対象率",null,null,null,null,null,null,null,null,null,null,null,null,null,null,null,null,null,null,null,{"$f":"IF(入力用!S258+入力用!S259=0,\"\",ROUND(入力用!S255/(入力用!S258+入力用!S259),2)*100)","v":""},null,null,null,null,"％"]
[]
[null,null,null,null,null,null,{"$f":"IF(入力用!D249=\"\",\"\",入力用!D249)","v":""},null,null,null,null,null,null,null,null,null,null,{"$f":"IF(入力用!D250=\"\",\"\",入力用!D250)","v":""},null,null,null,null,{"$f":"IF(入力用!D251=\"\",\"\",入力用!D251)","v":""},null,null,null,null,null,null,null,null,null,null,null,null,null,null,{"$f":"IF(入力用!P252=2,入力用!T6,IF(入力用!P252=3,入力用!T7,\"\"))","v":""},null,null,null,null,null,null,null,null,null,{"$f":"IF(入力用!D253=\"\",\"\",入力用!D253)","v":""},null,null,null,null,{"$f":"IF(入力用!P253=2,入力用!U6,IF(入力用!P253=3,入力用!U7,\"㏋・㎾\"))","v":"㏋・㎾"},null,null,null,{"$f":"IF(入力用!Q253=0,\"\",入力用!Q253)","v":""},null,null,null,null,"㎾",null,{"$f":"IF(入力用!P255=2,入力用!V6,IF(入力用!P255=3,入力用!V7,IF(入力用!P255=4,入力用!V8,IF(入力用!P255=5,入力用!V9,\"\"))))","v":""},null,null,null,null,{"$f":"IF(入力用!D256=\"\",\"\",入力用!D256)","v":""},null,null,"台",null,"開始",null,null,null,null,"終了",null,null,null,null,"力率",null,null,null,null,null,"85％",null,null,null,{"$f":"IF(入力用!P231=2,\"超過\",IF(入力用!S239=\"\",\"超過\n未満\",IF(入力用!S239>0.85,\"超過\",IF(入力用!S239=0.85,\"\",\"未満\"))))","v":"超過\n未満"},null,null,null,"契 約\n電 力",null,null,null,null,null,{"$f":"入力用!S253","v":""},null,null,null,null,"kW"]
[]
[null,null,null,null,null,null,{"$f":"IF(入力用!D257=\"\",\"\",入力用!D257)","v":""},null,null,null,null,null,null,null,null,null,null,{"$f":"IF(入力用!D258=\"\",\"\",入力用!D258)","v":""},null,null,null,null,{"$f":"IF(入力用!D259=\"\",\"\",入力用!D259)","v":""},null,null,null,null,null,null,null,null,null,null,null,null,null,null,{"$f":"IF(入力用!P260=2,入力用!T6,IF(入力用!P260=3,入力用!T7,\"\"))","v":""},null,null,null,null,null,null,null,null,null,{"$f":"IF(入力用!D261=\"\",\"\",入力用!D261)","v":""},null,null,null,null,{"$f":"IF(入力用!P261=2,入力用!U6,IF(入力用!P261=3,入力用!U7,\"㏋・㎾\"))","v":"㏋・㎾"},null,null,null,{"$f":"IF(入力用!Q261=0,\"\",入力用!Q261)","v":""},null,null,null,null,"㎾",null,{"$f":"IF(入力用!P263=2,入力用!V6,IF(入力用!P263=3,入力用!V7,IF(入力用!P263=4,入力用!V8,IF(入力用!P263=5,入力用!V9,\"\"))))","v":""},null,null,null,null,{"$f":"IF(入力用!D264=\"\",\"\",入力用!D264)","v":""},null,null,"台",null,{"$f":"IF(入力用!D270=\"\",\"\",入力用!D270)","v":""},null,"月分",null,null,{"$f":"IF(入力用!D270=\"\",\"\",IF(入力用!P229=10,IF(BV133>7,BV133-7,BV133+5),IF(BV133>10,BV133-10,BV133+2)))","v":""},null,"月分"]
[]
[]
[null,"＜備考＞"]
[]
[]
[]
[]
[]
[null,null,null,null,null,null,null,null,null,null,null,null,null,null,null,null,null,null,null,null,null,null,null,null,null,null,null,null,null,null,null,null,null,null,null,null,null,null,null,null,null,null,null,null,null,null,null,null,null,null,null,null,null,null,null,null,null,null,null,null,null,null,null,null,null,null,null,null,null,null,null,null,null,null,null,null,null,null,null,null,null,null,null,null,null,null,null,null,null,null,null,null,null,null,null,"受付",null,null,null,null,null,null,null,"図面照査"]
[]
[]
[]
[]
[]
[]
[]
[]
[]
[]
[null,null,"施設組合印",null,null,null,null,null,null,null,null,null,null,null,null,null,null,null,null,null,null,null,null,"住　　所"]
[]
[]
[]
[null,null,null,null,null,null,null,null,null,null,null,null,null,null,null,null,null,null,null,null,null,null,null,null,null,null,null,null,null,null,null,null,null,null,null,null,null,null,null,null,null,null,null,null,null,null,null,null,null,null,null,null,null,null,null,null,null,null,null,null,null,null,null,null,null,null,null,null,null,null,null,null,null,null,null,null,null,null,null,null,null,null,null,null,null,"北電コード№　　　　　　　　　　　　　　　"]
[null,null,null,null,null,null,null,null,null,null,null,null,null,null,null,null,null,null,null,null,null,null,null,"工　　事\n会 社 名"]
[]
[null,null,null,null,null,null,null,null,null,null,null,null,null,null,null,null,null,null,null,null,null,null,null,null,null,null,null,null,null,null,null,null,null,null,null,null,null,null,null,null,null,null,null,null,null,null,null,null,null,null,null,null,null,null,null,null,null,null,null,null,null,null,null,null,null,null,null,null,null,null,null,null,null,null,null,null,null,null,null,"印",null,null,null,null,null,"ＴＥＬ　　　　　　　　　　　　　　　　　　　　"]
[]
[]
[null,null,null,null,null,null,null,null,null,null,null,null,null,null,null,null,null,null,null,null,null,null,null,null,null,null,null,null,null,null,null,null,null,null,null,null,null,null,null,null,null,null,null,null,null,null,null,null,null,null,null,null,null,null,null,null,null,null,null,null,null,null,null,null,null,null,null,null,null,null,null,null,null,null,null,null,null,null,null,null,null,null,null,null,null,"工事会社連絡箱№　　　　　　　　　　　"]
[null,null,null,null,null,null,null,null,null,null,null,null,null,null,null,null,null,null,null,null,null,null,null,"氏　　名"]
[]
[]
[]
[]
["北　海　道　電　力　ネ　ッ　ト　ワ　ー　ク　株　式　会　社"]