{"text_format":"1","workbook":"xlsx","n_sheets":4,"sheets":["入力用","１枚目","２枚目","３枚目"],"not_rendered":{"charts":0,"images":0,"macros":1,"external_links":0,"defined_names":3,"comments":1,"pivot_tables":0},"unopened":[],"bounds":{"document_bytes":16777216,"sheet_cells":100000,"rows_first":2000,"rows_last":500,"rows_between":2000,"halvings":0,"cell_chars":16384,"cell_head_chars":4096},"cells_cut":0,"cells_raw":0,"read":"whole","date_system":"1900"}

{"sheet":"入力用","index":0,"n_rows":163,"n_cols":25,"rows_kept":163,"cut":false,"hidden":false,"merged":[[1,15,1,18],[2,0,2,2],[2,3,2,11],[2,19,2,24],[3,0,3,2],[3,5,3,6],[3,9,3,10],[13,16,13,17],[14,3,14,4],[14,5,14,6],[14,7,14,11],[6,5,6,6],[15,2,16,2],[16,3,16,4],[4,0,6,1],[4,3,4,11],[5,3,5,11],[7,0,32,0],[7,1,7,2],[8,1,8,2],[9,1,9,2],[10,1,10,2],[11,1,11,2],[16,5,16,6],[16,7,16,11],[17,2,20,2],[18,4,18,7],[19,3,19,4],[19,5,19,11],[11,3,11,11],[12,1,12,2],[13,1,25,1],[13,2,14,2],[26,1,26,2],[26,4,26,5],[27,1,28,1],[28,4,28,5],[29,1,30,1],[30,4,30,5],[19,16,19,17],[20,3,20,4],[20,5,20,11],[21,2,25,2],[23,4,23,7],[24,3,24,4],[24,5,24,11],[25,3,25,4],[25,5,25,11],[31,1,32,1],[32,4,32,5],[33,0,58,0],[33,1,33,2],[34,1,34,2],[34,16,34,17],[35,1,35,2],[36,1,36,2],[37,1,37,2],[37,3,37,11],[38,1,38,2],[39,1,51,1],[39,2,40,2],[40,3,40,4],[40,5,40,6],[40,7,40,11],[46,5,46,11],[47,2,51,2],[49,4,49,7],[50,3,50,4],[50,5,50,11],[51,3,51,4],[51,5,51,11],[52,1,52,2],[52,4,52,5],[53,1,54,1],[54,4,54,5],[40,16,40,17],[41,2,42,2],[42,3,42,4],[42,5,42,6],[42,7,42,11],[43,2,46,2],[44,4,44,7],[45,3,45,4],[45,5,45,11],[46,3,46,4],[55,1,56,1],[55,16,55,17],[56,4,56,5],[57,1,58,1],[58,4,58,5],[59,0,84,0],[59,1,59,2],[60,1,60,2],[61,1,61,2],[61,16,61,17],[62,1,62,2],[63,1,63,2],[63,3,63,11],[64,1,64,2],[65,1,77,1],[65,2,66,2],[66,3,66,4],[66,5,66,6],[66,7,66,11],[67,2,68,2],[76,16,76,17],[77,3,77,4],[77,5,77,11],[68,3,68,4],[68,5,68,6],[68,7,68,11],[69,2,72,2],[70,4,70,7],[71,3,71,4],[71,5,71,11],[72,3,72,4],[72,5,72,11],[78,1,78,2],[78,4,78,5],[79,1,80,1],[80,4,80,5],[81,1,82,1],[82,4,82,5],[73,2,77,2],[75,4,75,7],[76,3,76,4],[76,5,76,11],[82,16,82,17],[83,1,84,1],[84,4,84,5],[85,0,110,0],[85,1,85,2],[86,1,86,2],[87,1,87,2],[88,1,88,2],[89,1,89,2],[89,3,89,11],[95,2,98,2],[96,4,96,7],[97,3,97,4],[97,5,97,11],[104,1,104,2],[104,4,104,5],[105,1,106,1],[106,4,106,5],[107,1,108,1],[108,4,108,5],[97,16,97,17],[98,3,98,4],[98,5,98,11],[90,1,90,2],[91,1,103,1],[91,2,92,2],[92,3,92,4],[92,5,92,6],[92,7,92,11],[93,2,94,2],[94,3,94,4],[94,5,94,6],[94,7,94,11],[103,16,103,17],[99,2,103,2],[101,4,101,7],[102,3,102,4],[102,5,102,11],[103,3,103,4],[103,5,103,11],[118,16,118,17],[119,2,120,2],[120,3,120,4],[120,5,120,6],[120,7,120,11],[109,1,110,1],[110,4,110,5],[111,0,136,0],[111,1,111,2],[112,1,112,2],[113,1,113,2],[114,1,114,2],[115,1,115,2],[115,3,115,11],[116,1,116,2],[130,1,130,2],[130,4,130,5],[131,1,132,1],[132,4,132,5],[133,1,134,1],[134,4,134,5],[124,16,124,17],[125,2,129,2],[127,4,127,7],[128,3,128,4],[128,5,128,11],[129,3,129,4],[129,5,129,11],[121,2,124,2],[122,4,122,7],[123,3,123,4],[123,5,123,11],[124,3,124,4],[124,5,124,11],[117,1,129,1],[117,2,118,2],[118,3,118,4],[118,5,118,6],[118,7,118,11],[135,1,136,1],[136,4,136,5],[137,0,162,0],[137,1,137,2],[138,1,138,2],[139,1,139,2],[140,1,140,2],[141,1,141,2],[141,3,141,11],[142,1,142,2],[148,4,148,7],[149,3,149,4],[149,5,149,11],[150,3,150,4],[150,5,150,11],[151,2,155,2],[153,4,153,7],[154,3,154,4],[154,5,154,11],[155,3,155,4],[147,2,150,2],[161,1,162,1],[162,4,162,5],[155,5,155,11],[156,1,156,2],[156,4,156,5],[157,1,158,1],[158,4,158,5],[159,1,160,1],[160,4,160,5],[143,1,155,1],[143,2,144,2],[144,3,144,4],[144,5,144,6],[144,7,144,11],[145,2,146,2],[146,3,146,4],[146,5,146,6],[146,7,146,11]]}
[]
[null,{"$f":"IF(M2=\"\",\"印刷されましたら，「NW控」の裏面に施設組合印および御社の社印を押印してください。\",\"必要事項をすべて入力すると，右の表示が消えます。\")","v":"必要事項をすべて入力すると，右の表示が消えます。"},null,null,null,null,null,null,null,null,null,null,{"$f":"IF(N2=\"\",\"\",N2)","v":"入力に不備があります。"},{"$f":"IF(COUNTBLANK(N3:N8)+COUNTBLANK(N10:N34)+COUNTBLANK(N36:N60)+COUNTBLANK(N62:N86)+COUNTBLANK(N88:N112)+COUNTBLANK(N114:N138)+COUNTBLANK(N140:N163)=155,\"\",\"入力に不備があります。\")","v":"入力に不備があります。"},null,"ドロップダウンリスト"]
["建物名",null,null,null,null,null,null,null,null,null,null,null,"←入力してください。",{"$f":"IF(D3=\"\",\"←入力してください。\",\"\")","v":"←入力してください。"},null,"契約種別","供給電気方式・供給電圧","契約決定方法","回路契約業種","回路契約計算"]
["受電希望日",null,null,null,"年",null,null,"月",null,"日",null,null,"←入力してください。",{"$f":"IF(OR(D4=\"\",F4=\"\",I4=\"\"),\"←入力してください。\",IF(AND(ISNUMBER(D4),ISNUMBER(F4),ISNUMBER(I4)),IF(OR(D4<1,F4<1,F4>12,I4<1,I4>31),\"←入力内容が不正です。\",\"\"),\"←数字を入力してください。\"))","v":"←入力してください。"},null,null,null,null,null,"～5回路","～10回路","11回路～","内訳１","内訳２","内訳３"]
["電気工事会社",null,"会社名",null,null,null,null,null,null,null,null,null,"←入力してください。",{"$f":"IF(D5=\"\",\"←入力してください。\",\"\")","v":"←入力してください。"},null,"従量電灯Ｂ","単相2線式100Ｖ","ブレーカー契約（ＳＢ）","住宅",970,440,340,{"$f":"IF($D$29<6,T5*$D$29,IF($D$29<11,T5*5+U5*($D$29-5),T5*5+U5*5+V5*($D$29-10)))","v":0},{"$f":"IF($D$31<6,T5*$D$31,IF($D$31<11,T5*5+U5*($D$31-5),T5*5+U5*5+V5*($D$31-10)))","v":0},{"$f":"IF($D$33<6,T5*$D$33,IF($D$33<11,T5*5+U5*($D$33-5),T5*5+U5*5+V5*($D$33-10)))","v":0}]
[null,null,"担当者",null,null,null,null,null,null,null,null,null,"←入力してください。",{"$f":"IF(D6=\"\",\"←入力してください。\",\"\")","v":"←入力してください。"},null,"従量電灯Ｃ","単相2線式200Ｖ","主開閉器契約","アパート・寮",1060,540,460,0,0,0]
[null,null,"工事会社№",null,"-",null,null,null,null,null,null,null,"←入力してください。",{"$f":"IF(OR(D7=\"\",F7=\"\"),\"←入力してください。\",IF(OR(LEN(D7)<>2,LEN(F7)<>3),\"←入力内容が不正です。\",\"\"))","v":"←入力してください。"},null,"ドロップダウンデータ反映列","単相3線式100V・200V","回路契約","商店",1070,540,540,0,0,0]
["Ａパターン","契約種別",null,null,null,null,null,null,null,null,null,null,"←選択してください。",{"$f":"IF(P8=1,\"←選択してください。\",IF(AND(P8=2,R17<=500,R17>6000),\"←従量電灯Ｂの範囲外の容量です。\",IF(AND(P8=3,OR(R17<6,R17>=50)),\"←従量電灯Ｃの範囲外の容量です。\",\"\")))","v":"←選択してください。"},null,1,"3相3線式200V","負荷設備契約","工場",1080,510,510,0,0,0]
[null,"供給電気方式・供給電圧",null,null,null,null,null,null,null,null,null,null,"←選択してください。",{"$f":"IF(P9=1,\"←選択してください。\",IF(P9=5,\"←間違いありませんか？\",\"\"))","v":"←選択してください。"},null,1,"小型機器種別","ブレーカー契約（計器）","事務所",1100,610,480,0,0,0]
[null,"契約決定方法",null,null,null,null,null,null,null,null,null,null,"←選択してください。",{"$f":"IF(P10=1,\"←選択してください。\",IF(AND(OR(P10=2,P10=6),P8=3),\"←ブレーカー契約は選択できません。\",IF(AND(P10=4,P8=2),\"←回路契約は選択できません。\",\"\")))","v":"←選択してください。"},null,1,null,null,"旅館・飲食店",1060,530,530,0,0,0]
[null,"主開閉器・電流制限器の定格電流",null,null,"Ａ",null,null,null,null,null,null,null,"",{"$f":"IF(AND(OR(P10=2,P10=3,P10=6),D11=\"\"),\"←入力してください。\",IF(ISNUMBER(D11),IF(AND(P8=2,OR(P10=2,P10=6),OR(D11<10,D11>60,AND(D11<>15,MOD(D11,10)<>0))),\"←入力内容が不正です。\",\"\"),IF(D11=\"\",\"\",\"←数字を入力してください。\")))","v":""},null,null,"暖房エアコン",null,"学校・病院",1170,600,600,0,0,0]
[null,"室番号",null,null,null,null,null,null,null,null,null,null,"←入力してください。",{"$f":"IF(D12=\"\",\"←入力してください。\",\"\")","v":"←入力してください。"},null,null,"HP温水暖房",null,"劇場・娯楽場",1070,660,660,0,0,0]
[null,"契約口数合計",null,null,"口",null,null,null,null,null,null,null,{"$f":"IF(N13=\"\",\"\",N13)","v":"←入力してください。"},{"$f":"IF(D13=\"\",\"←入力してください。\",\"\")","v":"←入力してください。"},null,null,"その他",null,"その他",1060,540,540,0,0,0]
[null,"契約負荷\n設備内訳","電灯",null,"灯",null,null,null,null,null,null,null,"",{"$f":"IF(OR(D14=\"\",ISNUMBER(D14)),IF(AND(P10=5,D14*D15+D16*D17=0),\"←入力してください。\",\"\"),\"←数字を入力してください。\")","v":""},null,null,"Aパターン契約容量等算定用"]
[null,null,null,null,null,"ＶＡ",null,null,null,null,null,null,"",{"$f":"IF(OR(D15=\"\",ISNUMBER(D15)),IF(AND(P10=5,D14*D15+D16*D17=0),\"←入力してください。\",\"\"),\"←数字を入力してください。\")","v":""},null,null,"回路契約",{"$f":"R23+R25+R27+D15+D17","v":0}]
[null,null,"小型機器",null,"個",null,null,null,null,null,null,null,"",{"$f":"IF(OR(D16=\"\",ISNUMBER(D16)),IF(AND(P10=5,D14*D15+D16*D17=0),\"←入力してください。\",\"\"),\"←数字を入力してください。\")","v":""},null,null,"容量圧縮",{"$f":"IF(OR(P10<4,P10=6),R18,IF(R15<6000,R15*0.95,IF(R15<20000,6000*0.95+(R15-6000)*0.85,IF(R15<50000,6000*0.95+14000*0.85+(R15-20000)*0.75,6000*0.95+14000*0.85+30000*0.75+(R15-50000)*0.65))))","v":""}]
[null,null,null,null,null,"ＶＡ",null,null,null,null,null,null,{"$f":"IF(N17=\"\",\"\",N17)","v":""},{"$f":"IF(OR(D17=\"\",ISNUMBER(D17)),IF(AND(P10=5,D14*D15+D16*D17=0),\"←入力してください。\",\"\"),\"←数字を入力してください。\")","v":""},null,null,"契約算定",{"$f":"IF(R16=\"\",\"\",IF(P8=2,IF(P10=5,\"\",IF(AND(R16>1000,R16<=1500),15,ROUNDUP(R16/1000,0)*10)),IF(P8=3,ROUND(R16/1000,0),ROUND(R18/1000,0))))","v":""}]
[null,null,"小型機器\nのうち，ＩＨ\nクッキング\nヒーター",null,"台",null,null,null,null,null,null,null,"",{"$f":"IF(AND(E19=\"\",F20=\"\",F21=\"\"),\"\",IF(D18=\"\",\"←入力してください。\",IF(OR(D18=\"\",ISNUMBER(D18)),\"\",\"←数字を入力してください。\")))","v":""},null,null,"総容量",{"$f":"IF(OR(OR(P10=2,P10=6),AND(P10=3,P9=2)),D11*100,IF(AND(P10=3,P9>2,P9<5),D11*200,IF(AND(P10=3,P9=5),D11*200*1.732,IF(P10=4,R15,IF(P10=5,D15+D17,\"\")))))","v":""}]
[null,null,null,"合計",null,null,null,null,"ＶＡ",null,null,null,"",{"$f":"IF(AND(D18=\"\",F20=\"\",F21=\"\"),\"\",IF(E19=\"\",\"←入力してください。\",IF(OR(E19=\"\",ISNUMBER(E19)),\"\",\"←数字を入力してください。\")))","v":""}]
[null,null,null,"メーカー",null,null,null,null,null,null,null,null,"",null,null,null,"Aパターン回路契約"]
[null,null,null,"型式",null,null,null,null,null,null,null,null,"",null,null,null,"業種表示用","容量計算用"]
[null,null,"小型機器\nのうち，暖房エアコン等",null,null,null,null,null,null,null,null,null,{"$f":"IF(N22=\"\",\"\",N22)","v":""},{"$f":"IF(AND(P22=1,D23=\"\",E24=\"\",F25=\"\",F26=\"\"),\"\",IF(P22=1,\"←選択してください。\",IF(AND(P22=4,L22=\"\"),\"←具体的な機器種別を入力して下さい。\",\"\")))","v":""},null,1,{"$f":"IF(P28=2,S$5,IF(P28=3,S$6,IF(P28=4,S$7,IF(P28=5,S$8,IF(P28=6,S$9,IF(P28=7,S$10,IF(P28=8,S$11,IF(P28=9,S$12,\"\"))))))))","v":""},{"$f":"IF(P28=2,W$5,IF(P28=3,W$6,IF(P28=4,W$7,IF(P28=5,W$8,IF(P28=6,W$9,IF(P28=7,W$10,IF(P28=8,W$11,IF(P28=9,W$12,0))))))))","v":0}]
[null,null,null,null,"台",null,null,null,null,null,null,null,{"$f":"IF(N23=\"\",\"\",N23)","v":""},{"$f":"IF(AND(P22=1,E24=\"\",F25=\"\",F26=\"\"),\"\",IF(D23=\"\",\"←入力してください。\",IF(OR(D23=\"\",ISNUMBER(D23)),\"\",\"←数字を入力してください。\")))","v":""},null,1,{"$f":"IF(P28=10,S$13,Q22)","v":""},{"$f":"IF(P28=10,W$13,R22)","v":0}]
[null,null,null,"合計",null,null,null,null,"ＶＡ",null,null,null,{"$f":"IF(N24=\"\",\"\",N24)","v":""},{"$f":"IF(AND(P22=1,D23=\"\",F25=\"\",F26=\"\"),\"\",IF(E24=\"\",\"←入力してください。\",IF(OR(E24=\"\",ISNUMBER(E24)),\"\",\"←数字を入力してください。\")))","v":""},null,null,{"$f":"IF(P30=2,S$5,IF(P30=3,S$6,IF(P30=4,S$7,IF(P30=5,S$8,IF(P30=6,S$9,IF(P30=7,S$10,IF(P30=8,S$11,IF(P30=9,S$12,\"\"))))))))","v":""},{"$f":"IF(P30=2,X$5,IF(P30=3,X$6,IF(P30=4,X$7,IF(P30=5,X$8,IF(P30=6,X$9,IF(P30=7,X$10,IF(P30=8,X$11,IF(P30=9,X$12,0))))))))","v":0}]
[null,null,null,"メーカー",null,null,null,null,null,null,null,null,{"$f":"IF(N25=\"\",\"\",N25)","v":""},null,null,1,{"$f":"IF(P30=10,S$13,Q24)","v":""},{"$f":"IF(P30=10,X$13,R24)","v":0}]
[null,null,null,"型式",null,null,null,null,null,null,null,null,{"$f":"IF(N26=\"\",\"\",N26)","v":""},null,null,null,{"$f":"IF(P32=2,S$5,IF(P32=3,S$6,IF(P32=4,S$7,IF(P32=5,S$8,IF(P32=6,S$9,IF(P32=7,S$10,IF(P32=8,S$11,IF(P32=9,S$12,\"\"))))))))","v":""},{"$f":"IF(P32=2,Y$5,IF(P32=3,Y$6,IF(P32=4,Y$7,IF(P32=5,Y$8,IF(P32=6,Y$9,IF(P32=7,Y$10,IF(P32=8,Y$11,IF(P32=9,Y$12,0))))))))","v":0}]
[null,"回路数",null,null,"回路",null,null,null,null,null,null,null,"←入力してください。",{"$f":"IF(D27=\"\",\"←入力してください。\",IF(ISNUMBER(D27),\"\",\"←数字を入力してください。\"))","v":"←入力してください。"},null,1,{"$f":"IF(P32=10,S$13,Q26)","v":""},{"$f":"IF(P32=10,Y$13,R26)","v":0}]
[null,"適用業種別\n回路数内訳１","業種",null,null,null,null,null,null,null,null,null,"",{"$f":"IF(AND(P10<>4,P28<>1),\"←選択できません。\",IF(AND(P10=4,P28=1),\"←選択してください。\",\"\"))","v":""},null,1]
[null,null,"回路数",null,"回路",null,null,null,null,null,null,null,"",{"$f":"IF(P10<>4,IF(D29<>\"\",\"←入力できません。\",\"\"),IF(P28=1,\"\",IF(D29=\"\",\"←入力してください。\",IF(ISNUMBER(D29),\"\",\"←数字を入力してください。\"))))","v":""},null,1]
[null,"適用業種別\n回路数内訳２","業種",null,null,null,null,null,null,null,null,null,"",{"$f":"IF(AND(P10<>4,P30<>1),\"←選択できません。\",IF(AND(P10=4,D31<>\"\",P30=1),\"←選択してください。\",\"\"))","v":""},null,1]
[null,null,"回路数",null,"回路",null,null,null,null,null,null,null,"",{"$f":"IF(P10<>4,IF(D31<>\"\",\"←入力できません。\",\"\"),IF(P30=1,\"\",IF(D31=\"\",\"←入力してください。\",IF(ISNUMBER(D31),\"\",\"←数字を入力してください。\"))))","v":""},null,1]
[null,"適用業種別\n回路数内訳３","業種",null,null,null,null,null,null,null,null,null,"",{"$f":"IF(AND(P10<>4,P32<>1),\"←選択できません。\",IF(AND(P10=4,D33<>\"\",P32=1),\"←選択してください。\",\"\"))","v":""},null,1]
[null,null,"回路数",null,"回路",null,null,null,null,null,null,null,"",{"$f":"IF(P10<>4,IF(D33<>\"\",\"←入力できません。\",\"\"),IF(P32=1,\"\",IF(D33=\"\",\"←入力してください。\",IF(ISNUMBER(D33),\"\",\"←数字を入力してください。\"))))","v":""}]
["Ｂパターン","契約種別",null,null,null,null,null,null,null,null,null,null,"",{"$f":"IF(AND(P34=1,R38<>\"\"),\"←選択してください。\",IF(AND(P34=2,R38<=500,R38>6000),\"←従量電灯Ｂの範囲外の容量です。\",IF(AND(P34=3,OR(R38<6,R38>=50)),\"←従量電灯Ｃの範囲外の容量です。\",\"\")))","v":""},null,1]
[null,"供給電気方式・供給電圧",null,null,null,null,null,null,null,null,null,null,"",{"$f":"IF(AND(P35=1,P34>1),\"←選択してください。\",IF(P35=5,\"←間違いありませんか？\",\"\"))","v":""},null,1,"Ｂパターン契約容量等算定用"]
[null,"契約決定方法",null,null,null,null,null,null,null,null,null,null,"",{"$f":"IF(AND(P34>1,P36=1),\"←選択してください。\",IF(AND(OR(P36=2,P36=6),P34=3),\"←ブレーカー契約は選択できません。\",IF(AND(P36=4,P34=2),\"←回路契約は選択できません。\",\"\")))","v":""},null,1,"回路契約",{"$f":"R44+R46+R48+D41+D43","v":0}]
[null,"主開閉器・電流制限器の定格電流",null,null,"Ａ",null,null,null,null,null,null,null,"",{"$f":"IF(AND(OR(P36=2,P36=3,P36=6),D37=\"\"),\"←入力してください。\",IF(ISNUMBER(D37),IF(AND(P34=2,OR(P36=2,P36=6),OR(D37<10,D37>60,AND(D37<>15,MOD(D37,10)<>0))),\"←入力内容が不正です。\",\"\"),IF(D37=\"\",\"\",\"←数字を入力してください。\")))","v":""},null,null,"容量圧縮",{"$f":"IF(OR(P36<4,P36=6),R39,IF(R36<6000,R36*0.95,IF(R36<20000,6000*0.95+(R36-6000)*0.85,IF(R36<50000,6000*0.95+14000*0.85+(R36-20000)*0.75,6000*0.95+14000*0.85+30000*0.75+(R36-50000)*0.65))))","v":""}]
[null,"室番号",null,null,null,null,null,null,null,null,null,null,"",{"$f":"IF(AND(P34>1,D38=\"\"),\"←入力してください。\",\"\")","v":""},null,null,"契約算定",{"$f":"IF(R37=\"\",\"\",IF(P34=2,IF(P36=5,\"\",IF(AND(R37>1000,R37<=1500),15,ROUNDUP(R37/1000,0)*10)),IF(P34=3,ROUND(R37/1000,0),ROUND(R39/1000,0))))","v":""}]
[null,"契約口数合計",null,null,"口",null,null,null,null,null,null,null,"",{"$f":"IF(AND(P34>1,D39=\"\"),\"←入力してください。\",\"\")","v":""},null,null,"総容量",{"$f":"IF(OR(OR(P36=2,P36=6),AND(P36=3,P35=2)),D37*100,IF(AND(P36=3,P35>2,P35<5),D37*200,IF(AND(P36=3,P35=5),D37*200*1.732,IF(P36=4,R36,IF(P36=5,D41+D43,\"\")))))","v":""}]
[null,"契約負荷\n設備内訳","電灯",null,"灯",null,null,null,null,null,null,null,"",{"$f":"IF(OR(D40=\"\",ISNUMBER(D40)),IF(AND(P36=5,D40*D41+D42*D43=0),\"←入力してください。\",\"\"),\"←数字を入力してください。\")","v":""}]
[null,null,null,null,null,"ＶＡ",null,null,null,null,null,null,"",{"$f":"IF(OR(D41=\"\",ISNUMBER(D41)),IF(AND(P36=5,D40*D41+D42*D43=0),\"←入力してください。\",\"\"),\"←数字を入力してください。\")","v":""},null,null,"Ｂパターン回路契約"]
[null,null,"小型機器",null,"個",null,null,null,null,null,null,null,"",{"$f":"IF(OR(D42=\"\",ISNUMBER(D42)),IF(AND(P36=5,D40*D41+D42*D43=0),\"←入力してください。\",\"\"),\"←数字を入力してください。\")","v":""},null,null,"業種表示用","容量計算用"]
[null,null,null,null,null,"ＶＡ",null,null,null,null,null,null,"",{"$f":"IF(OR(D43=\"\",ISNUMBER(D43)),IF(AND(P36=5,D40*D41+D42*D43=0),\"←入力してください。\",\"\"),\"←数字を入力してください。\")","v":""},null,null,{"$f":"IF(P54=2,S$5,IF(P54=3,S$6,IF(P54=4,S$7,IF(P54=5,S$8,IF(P54=6,S$9,IF(P54=7,S$10,IF(P54=8,S$11,IF(P54=9,S$12,\"\"))))))))","v":""},{"$f":"IF(P54=2,W$5,IF(P54=3,W$6,IF(P54=4,W$7,IF(P54=5,W$8,IF(P54=6,W$9,IF(P54=7,W$10,IF(P54=8,W$11,IF(P54=9,W$12,0))))))))","v":0}]
[null,null,"小型機器\nのうち，ＩＨ\nクッキング\nヒーター",null,"台",null,null,null,null,null,null,null,"",{"$f":"IF(AND(E45=\"\",F46=\"\",F47=\"\"),\"\",IF(D44=\"\",\"←入力してください。\",IF(OR(D44=\"\",ISNUMBER(D44)),\"\",\"←数字を入力してください。\")))","v":""},null,1,{"$f":"IF(P54=10,S$13,Q43)","v":""},{"$f":"IF(P54=10,W$13,R43)","v":0}]
[null,null,null,"合計",null,null,null,null,"ＶＡ",null,null,null,"",{"$f":"IF(AND(D44=\"\",F46=\"\",F47=\"\"),\"\",IF(E45=\"\",\"←入力してください。\",IF(OR(E45=\"\",ISNUMBER(E45)),\"\",\"←数字を入力してください。\")))","v":""},null,null,{"$f":"IF(P56=2,S$5,IF(P56=3,S$6,IF(P56=4,S$7,IF(P56=5,S$8,IF(P56=6,S$9,IF(P56=7,S$10,IF(P56=8,S$11,IF(P56=9,S$12,\"\"))))))))","v":""},{"$f":"IF(P56=2,X$5,IF(P56=3,X$6,IF(P56=4,X$7,IF(P56=5,X$8,IF(P56=6,X$9,IF(P56=7,X$10,IF(P56=8,X$11,IF(P56=9,X$12,0))))))))","v":0}]
[null,null,null,"メーカー",null,null,null,null,null,null,null,null,"",null,null,1,{"$f":"IF(P56=10,S$13,Q45)","v":""},{"$f":"IF(P56=10,X$13,R45)","v":0}]
[null,null,null,"型式",null,null,null,null,null,null,null,null,"",null,null,null,{"$f":"IF(P58=2,S$5,IF(P58=3,S$6,IF(P58=4,S$7,IF(P58=5,S$8,IF(P58=6,S$9,IF(P58=7,S$10,IF(P58=8,S$11,IF(P58=9,S$12,\"\"))))))))","v":""},{"$f":"IF(P58=2,Y$5,IF(P58=3,Y$6,IF(P58=4,Y$7,IF(P58=5,Y$8,IF(P58=6,Y$9,IF(P58=7,Y$10,IF(P58=8,Y$11,IF(P58=9,Y$12,0))))))))","v":0}]
[null,null,"小型機器\nのうち，暖房エアコン等",null,null,null,null,null,null,null,null,null,{"$f":"IF(N48=\"\",\"\",N48)","v":""},{"$f":"IF(AND(P48=1,D49=\"\",E50=\"\",F51=\"\",F52=\"\"),\"\",IF(P48=1,\"←選択してください。\",IF(AND(P48=4,L48=\"\"),\"←具体的な機器種別を入力して下さい。\",\"\")))","v":""},null,1,{"$f":"IF(P58=10,S$13,Q47)","v":""},{"$f":"IF(P58=10,Y$13,R47)","v":0}]
[null,null,null,null,"台",null,null,null,null,null,null,null,{"$f":"IF(N49=\"\",\"\",N49)","v":""},{"$f":"IF(AND(P48=1,E50=\"\",F51=\"\",F52=\"\"),\"\",IF(D49=\"\",\"←入力してください。\",IF(OR(D49=\"\",ISNUMBER(D49)),\"\",\"←数字を入力してください。\")))","v":""}]
[null,null,null,"合計",null,null,null,null,"ＶＡ",null,null,null,{"$f":"IF(N50=\"\",\"\",N50)","v":""},{"$f":"IF(AND(P48=1,D49=\"\",F51=\"\",F52=\"\"),\"\",IF(E50=\"\",\"←入力してください。\",IF(OR(E50=\"\",ISNUMBER(E50)),\"\",\"←数字を入力してください。\")))","v":""},null,1]
[null,null,null,"メーカー",null,null,null,null,null,null,null,null,{"$f":"IF(N51=\"\",\"\",N51)","v":""},null,null,1]
[null,null,null,"型式",null,null,null,null,null,null,null,null,{"$f":"IF(N52=\"\",\"\",N52)","v":""},null,null,1]
[null,"回路数",null,null,"回路",null,null,null,null,null,null,null,"",{"$f":"IF(AND(P34>1,D53=\"\"),\"←入力してください。\",IF(OR(D53=\"\",ISNUMBER(D53)),\"\",\"←数字を入力してください。\"))","v":""}]
[null,"適用業種別\n回路数内訳１","業種",null,null,null,null,null,null,null,null,null,"",{"$f":"IF(AND(P36<>4,P54<>1),\"←選択できません。\",IF(AND(P36=4,P54=1),\"←選択してください。\",\"\"))","v":""},null,1]
[null,null,"回路数",null,"回路",null,null,null,null,null,null,null,"",{"$f":"IF(P36<>4,IF(D55<>\"\",\"←入力できません。\",\"\"),IF(P54=1,\"\",IF(D55=\"\",\"←入力してください。\",IF(ISNUMBER(D55),\"\",\"←数字を入力してください。\"))))","v":""}]
[null,"適用業種別\n回路数内訳２","業種",null,null,null,null,null,null,null,null,null,"",{"$f":"IF(AND(P36<>4,P56<>1),\"←選択できません。\",IF(AND(P36=4,D57<>\"\",P56=1),\"←選択してください。\",\"\"))","v":""},null,1,"Ｃパターン契約容量等算定用"]
[null,null,"回路数",null,"回路",null,null,null,null,null,null,null,"",{"$f":"IF(P36<>4,IF(D57<>\"\",\"←入力できません。\",\"\"),IF(P56=1,\"\",IF(D57=\"\",\"←入力してください。\",IF(ISNUMBER(D57),\"\",\"←数字を入力してください。\"))))","v":""},null,null,"回路契約",{"$f":"R65+R67+R69+D67+D69","v":0}]
[null,"適用業種別\n回路数内訳３","業種",null,null,null,null,null,null,null,null,null,"",{"$f":"IF(AND(P36<>4,P58<>1),\"←選択できません。\",IF(AND(P36=4,D59<>\"\",P58=1),\"←選択してください。\",\"\"))","v":""},null,1,"容量圧縮",{"$f":"IF(OR(P62<4,P62=6),R60,IF(R57<6000,R57*0.95,IF(R57<20000,6000*0.95+(R57-6000)*0.85,IF(R57<50000,6000*0.95+14000*0.85+(R57-20000)*0.75,6000*0.95+14000*0.85+30000*0.75+(R57-50000)*0.65))))","v":""}]
[null,null,"回路数",null,"回路",null,null,null,null,null,null,null,"",{"$f":"IF(P36<>4,IF(D59<>\"\",\"←入力できません。\",\"\"),IF(P58=1,\"\",IF(D59=\"\",\"←入力してください。\",IF(ISNUMBER(D59),\"\",\"←数字を入力してください。\"))))","v":""},null,null,"契約算定",{"$f":"IF(R58=\"\",\"\",IF(P60=2,IF(P62=5,\"\",IF(AND(R58>1000,R58<=1500),15,ROUNDUP(R58/1000,0)*10)),IF(P60=3,ROUND(R58/1000,0),ROUND(R60/1000,0))))","v":""}]
["Ｃパターン","契約種別",null,null,null,null,null,null,null,null,null,null,"",{"$f":"IF(AND(P60=1,R59<>\"\"),\"←選択してください。\",IF(AND(P60=2,R59<=500,R59>6000),\"←従量電灯Ｂの範囲外の容量です。\",IF(AND(P60=3,OR(R59<6,R59>=50)),\"←従量電灯Ｃの範囲外の容量です。\",\"\")))","v":""},null,1,"総容量",{"$f":"IF(OR(OR(P62=2,P62=6),AND(P62=3,P61=2)),D63*100,IF(AND(P62=3,P61>2,P61<5),D63*200,IF(AND(P62=3,P61=5),D63*200*1.732,IF(P62=4,R57,IF(P62=5,D67+D69,\"\")))))","v":""}]
[null,"供給電気方式・供給電圧",null,null,null,null,null,null,null,null,null,null,"",{"$f":"IF(AND(P61=1,P60>1),\"←選択してください。\",IF(P61=5,\"←間違いありませんか？\",\"\"))","v":""},null,1]
[null,"契約決定方法",null,null,null,null,null,null,null,null,null,null,"",{"$f":"IF(AND(P60>1,P62=1),\"←選択してください。\",IF(AND(OR(P62=2,P62=6),P60=3),\"←ブレーカー契約は選択できません。\",IF(AND(P62=4,P60=2),\"←回路契約は選択できません。\",\"\")))","v":""},null,1,"Ｃパターン回路契約"]
[null,"主開閉器・電流制限器の定格電流",null,null,"Ａ",null,null,null,null,null,null,null,"",{"$f":"IF(AND(OR(P62=2,P62=3,P62=6),D63=\"\"),\"←入力してください。\",IF(ISNUMBER(D63),IF(AND(P60=2,OR(P62=2,P62=6),OR(D63<10,D63>60,AND(D63<>15,MOD(D63,10)<>0))),\"←入力内容が不正です。\",\"\"),IF(D63=\"\",\"\",\"←数字を入力してください。\")))","v":""},null,null,"業種表示用","容量計算用"]
[null,"室番号",null,null,null,null,null,null,null,null,null,null,"",{"$f":"IF(AND(P60>1,D64=\"\"),\"←入力してください。\",\"\")","v":""},null,null,{"$f":"IF(P80=2,S$5,IF(P80=3,S$6,IF(P80=4,S$7,IF(P80=5,S$8,IF(P80=6,S$9,IF(P80=7,S$10,IF(P80=8,S$11,IF(P80=9,S$12,\"\"))))))))","v":""},{"$f":"IF(P80=2,W$5,IF(P80=3,W$6,IF(P80=4,W$7,IF(P80=5,W$8,IF(P80=6,W$9,IF(P80=7,W$10,IF(P80=8,W$11,IF(P80=9,W$12,0))))))))","v":0}]
[null,"契約口数合計",null,null,"口",null,null,null,null,null,null,null,"",{"$f":"IF(AND(P60>1,D65=\"\"),\"←入力してください。\",\"\")","v":""},null,1,{"$f":"IF(P80=10,S$13,Q64)","v":""},{"$f":"IF(P80=10,W$13,R64)","v":0}]
[null,"契約負荷\n設備内訳","電灯",null,"灯",null,null,null,null,null,null,null,"",{"$f":"IF(OR(D66=\"\",ISNUMBER(D66)),IF(AND(P62=5,D66*D67+D68*D69=0),\"←入力してください。\",\"\"),\"←数字を入力してください。\")","v":""},null,null,{"$f":"IF(P82=2,S$5,IF(P82=3,S$6,IF(P82=4,S$7,IF(P82=5,S$8,IF(P82=6,S$9,IF(P82=7,S$10,IF(P82=8,S$11,IF(P82=9,S$12,\"\"))))))))","v":""},{"$f":"IF(P82=2,X$5,IF(P82=3,X$6,IF(P82=4,X$7,IF(P82=5,X$8,IF(P82=6,X$9,IF(P82=7,X$10,IF(P82=8,X$11,IF(P82=9,X$12,0))))))))","v":0}]
[null,null,null,null,null,"ＶＡ",null,null,null,null,null,null,"",{"$f":"IF(OR(D67=\"\",ISNUMBER(D67)),IF(AND(P62=5,D66*D67+D68*D69=0),\"←入力してください。\",\"\"),\"←数字を入力してください。\")","v":""},null,1,{"$f":"IF(P82=10,S$13,Q66)","v":""},{"$f":"IF(P82=10,X$13,R66)","v":0}]
[null,null,"小型機器",null,"個",null,null,null,null,null,null,null,"",{"$f":"IF(OR(D68=\"\",ISNUMBER(D68)),IF(AND(P62=5,D66*D67+D68*D69=0),\"←入力してください。\",\"\"),\"←数字を入力してください。\")","v":""},null,null,{"$f":"IF(P84=2,S$5,IF(P84=3,S$6,IF(P84=4,S$7,IF(P84=5,S$8,IF(P84=6,S$9,IF(P84=7,S$10,IF(P84=8,S$11,IF(P84=9,S$12,\"\"))))))))","v":""},{"$f":"IF(P84=2,Y$5,IF(P84=3,Y$6,IF(P84=4,Y$7,IF(P84=5,Y$8,IF(P84=6,Y$9,IF(P84=7,Y$10,IF(P84=8,Y$11,IF(P84=9,Y$12,0))))))))","v":0}]
[null,null,null,null,null,"ＶＡ",null,null,null,null,null,null,"",{"$f":"IF(OR(D69=\"\",ISNUMBER(D69)),IF(AND(P62=5,D66*D67+D68*D69=0),\"←入力してください。\",\"\"),\"←数字を入力してください。\")","v":""},null,1,{"$f":"IF(P84=10,S$13,Q68)","v":""},{"$f":"IF(P84=10,Y$13,R68)","v":0}]
[null,null,"小型機器\nのうち，ＩＨ\nクッキング\nヒーター",null,"台",null,null,null,null,null,null,null,"",{"$f":"IF(AND(E71=\"\",F72=\"\",F73=\"\"),\"\",IF(D70=\"\",\"←入力してください。\",IF(OR(D70=\"\",ISNUMBER(D70)),\"\",\"←数字を入力してください。\")))","v":""}]
[null,null,null,"合計",null,null,null,null,"ＶＡ",null,null,null,"",{"$f":"IF(AND(D70=\"\",F72=\"\",F73=\"\"),\"\",IF(E71=\"\",\"←入力してください。\",IF(OR(E71=\"\",ISNUMBER(E71)),\"\",\"←数字を入力してください。\")))","v":""},null,1]
[null,null,null,"メーカー",null,null,null,null,null,null,null,null,"",null,null,1]
[null,null,null,"型式",null,null,null,null,null,null,null,null,"",null,null,1]
[null,null,"小型機器\nのうち，暖房エアコン等",null,null,null,null,null,null,null,null,null,{"$f":"IF(N74=\"\",\"\",N74)","v":""},{"$f":"IF(AND(P74=1,D75=\"\",E76=\"\",F77=\"\",F78=\"\"),\"\",IF(P74=1,\"←選択してください。\",IF(AND(P74=4,L74=\"\"),\"←具体的な機器種別を入力して下さい。\",\"\")))","v":""},null,1]
[null,null,null,null,"台",null,null,null,null,null,null,null,{"$f":"IF(N75=\"\",\"\",N75)","v":""},{"$f":"IF(AND(P74=1,E76=\"\",F77=\"\",F78=\"\"),\"\",IF(D75=\"\",\"←入力してください。\",IF(OR(D75=\"\",ISNUMBER(D75)),\"\",\"←数字を入力してください。\")))","v":""}]
[null,null,null,"合計",null,null,null,null,"ＶＡ",null,null,null,{"$f":"IF(N76=\"\",\"\",N76)","v":""},{"$f":"IF(AND(P74=1,D75=\"\",F77=\"\",F78=\"\"),\"\",IF(E76=\"\",\"←入力してください。\",IF(OR(E76=\"\",ISNUMBER(E76)),\"\",\"←数字を入力してください。\")))","v":""}]
[null,null,null,"メーカー",null,null,null,null,null,null,null,null,{"$f":"IF(N77=\"\",\"\",N77)","v":""},null,null,null,"Ｄパターン契約容量等算定用"]
[null,null,null,"型式",null,null,null,null,null,null,null,null,{"$f":"IF(N78=\"\",\"\",N78)","v":""},null,null,null,"回路契約",{"$f":"R86+R88+R90+D93+D95","v":0}]
[null,"回路数",null,null,"回路",null,null,null,null,null,null,null,"",{"$f":"IF(AND(P60>1,D79=\"\"),\"←入力してください。\",IF(OR(D79=\"\",ISNUMBER(D79)),\"\",\"←数字を入力してください。\"))","v":""},null,null,"容量圧縮",{"$f":"IF(OR(P88<4,P88=6),R81,IF(R78<6000,R78*0.95,IF(R78<20000,6000*0.95+(R78-6000)*0.85,IF(R78<50000,6000*0.95+14000*0.85+(R78-20000)*0.75,6000*0.95+14000*0.85+30000*0.75+(R78-50000)*0.65))))","v":""}]
[null,"適用業種別\n回路数内訳１","業種",null,null,null,null,null,null,null,null,null,"",{"$f":"IF(AND(P62<>4,P80<>1),\"←選択できません。\",IF(AND(P62=4,P80=1),\"←選択してください。\",\"\"))","v":""},null,1,"契約算定",{"$f":"IF(R79=\"\",\"\",IF(P86=2,IF(P88=5,\"\",IF(AND(R79>1000,R79<=1500),15,ROUNDUP(R79/1000,0)*10)),IF(P86=3,ROUND(R79/1000,0),ROUND(R81/1000,0))))","v":""}]
[null,null,"回路数",null,"回路",null,null,null,null,null,null,null,{"$f":"IF(N81=\"\",\"\",N81)","v":""},{"$f":"IF(P62<>4,IF(D81<>\"\",\"←入力できません。\",\"\"),IF(P80=1,\"\",IF(D81=\"\",\"←入力してください。\",IF(ISNUMBER(D81),\"\",\"←数字を入力してください。\"))))","v":""},null,null,"総容量",{"$f":"IF(OR(OR(P88=2,P88=6),AND(P88=3,P87=2)),D89*100,IF(AND(P88=3,P87>2,P87<5),D89*200,IF(AND(P88=3,P87=5),D89*200*1.732,IF(P88=4,R78,IF(P88=5,D93+D95,\"\")))))","v":""}]
[null,"適用業種別\n回路数内訳２","業種",null,null,null,null,null,null,null,null,null,"",{"$f":"IF(AND(P62<>4,P82<>1),\"←選択できません。\",IF(AND(P62=4,D83<>\"\",P82=1),\"←選択してください。\",\"\"))","v":""},null,1]
[null,null,"回路数",null,"回路",null,null,null,null,null,null,null,"",{"$f":"IF(P62<>4,IF(D83<>\"\",\"←入力できません。\",\"\"),IF(P82=1,\"\",IF(D83=\"\",\"←入力してください。\",IF(ISNUMBER(D83),\"\",\"←数字を入力してください。\"))))","v":""},null,null,"Ｄパターン回路契約"]
[null,"適用業種別\n回路数内訳３","業種",null,null,null,null,null,null,null,null,null,"",{"$f":"IF(AND(P62<>4,P84<>1),\"←選択できません。\",IF(AND(P62=4,D85<>\"\",P84=1),\"←選択してください。\",\"\"))","v":""},null,1,"業種表示用","容量計算用"]
[null,null,"回路数",null,"回路",null,null,null,null,null,null,null,"",{"$f":"IF(P62<>4,IF(D85<>\"\",\"←入力できません。\",\"\"),IF(P84=1,\"\",IF(D85=\"\",\"←入力してください。\",IF(ISNUMBER(D85),\"\",\"←数字を入力してください。\"))))","v":""},null,null,{"$f":"IF(P106=2,S$5,IF(P106=3,S$6,IF(P106=4,S$7,IF(P106=5,S$8,IF(P106=6,S$9,IF(P106=7,S$10,IF(P106=8,S$11,IF(P106=9,S$12,\"\"))))))))","v":""},{"$f":"IF(P106=2,W$5,IF(P106=3,W$6,IF(P106=4,W$7,IF(P106=5,W$8,IF(P106=6,W$9,IF(P106=7,W$10,IF(P106=8,W$11,IF(P106=9,W$12,0))))))))","v":0}]
["Ｄパターン","契約種別",null,null,null,null,null,null,null,null,null,null,"",{"$f":"IF(AND(P86=1,R80<>\"\"),\"←選択してください。\",IF(AND(P86=2,R80<=500,R80>6000),\"←従量電灯Ｂの範囲外の容量です。\",IF(AND(P86=3,OR(R80<6,R80>=50)),\"←従量電灯Ｃの範囲外の容量です。\",\"\")))","v":""},null,1,{"$f":"IF(P106=10,S$13,Q85)","v":""},{"$f":"IF(P106=10,W$13,R85)","v":0}]
[null,"供給電気方式・供給電圧",null,null,null,null,null,null,null,null,null,null,"",{"$f":"IF(AND(P87=1,P86>1),\"←選択してください。\",IF(P87=5,\"←間違いありませんか？\",\"\"))","v":""},null,1,{"$f":"IF(P108=2,S$5,IF(P108=3,S$6,IF(P108=4,S$7,IF(P108=5,S$8,IF(P108=6,S$9,IF(P108=7,S$10,IF(P108=8,S$11,IF(P108=9,S$12,\"\"))))))))","v":""},{"$f":"IF(P108=2,X$5,IF(P108=3,X$6,IF(P108=4,X$7,IF(P108=5,X$8,IF(P108=6,X$9,IF(P108=7,X$10,IF(P108=8,X$11,IF(P108=9,X$12,0))))))))","v":0}]
[null,"契約決定方法",null,null,null,null,null,null,null,null,null,null,"",{"$f":"IF(AND(P86>1,P88=1),\"←選択してください。\",IF(AND(OR(P88=2,P88=6),P86=3),\"←ブレーカー契約は選択できません。\",IF(AND(P88=4,P86=2),\"←回路契約は選択できません。\",\"\")))","v":""},null,1,{"$f":"IF(P108=10,S$13,Q87)","v":""},{"$f":"IF(P108=10,X$13,R87)","v":0}]
[null,"主開閉器・電流制限器の定格電流",null,null,"Ａ",null,null,null,null,null,null,null,"",{"$f":"IF(AND(OR(P88=2,P88=3,P88=6),D89=\"\"),\"←入力してください。\",IF(ISNUMBER(D89),IF(AND(P86=2,OR(P88=2,P88=6),OR(D89<10,D89>60,AND(D89<>15,MOD(D89,10)<>0))),\"←入力内容が不正です。\",\"\"),IF(D89=\"\",\"\",\"←数字を入力してください。\")))","v":""},null,null,{"$f":"IF(P110=2,S$5,IF(P110=3,S$6,IF(P110=4,S$7,IF(P110=5,S$8,IF(P110=6,S$9,IF(P110=7,S$10,IF(P110=8,S$11,IF(P110=9,S$12,\"\"))))))))","v":""},{"$f":"IF(P110=2,Y$5,IF(P110=3,Y$6,IF(P110=4,Y$7,IF(P110=5,Y$8,IF(P110=6,Y$9,IF(P110=7,Y$10,IF(P110=8,Y$11,IF(P110=9,Y$12,0))))))))","v":0}]
[null,"室番号",null,null,null,null,null,null,null,null,null,null,"",{"$f":"IF(AND(P86>1,D90=\"\"),\"←入力してください。\",\"\")","v":""},null,1,{"$f":"IF(P110=10,S$13,Q89)","v":""},{"$f":"IF(P110=10,Y$13,R89)","v":0}]
[null,"契約口数合計",null,null,"口",null,null,null,null,null,null,null,"",{"$f":"IF(AND(P86>1,D91=\"\"),\"←入力してください。\",\"\")","v":""}]
[null,"契約負荷\n設備内訳","電灯",null,"灯",null,null,null,null,null,null,null,"",{"$f":"IF(OR(D92=\"\",ISNUMBER(D92)),IF(AND(P88=5,D92*D93+D94*D95=0),\"←入力してください。\",\"\"),\"←数字を入力してください。\")","v":""},null,1]
[null,null,null,null,null,"ＶＡ",null,null,null,null,null,null,"",{"$f":"IF(OR(D93=\"\",ISNUMBER(D93)),IF(AND(P88=5,D92*D93+D94*D95=0),\"←入力してください。\",\"\"),\"←数字を入力してください。\")","v":""},null,1]
[null,null,"小型機器",null,"個",null,null,null,null,null,null,null,"",{"$f":"IF(OR(D94=\"\",ISNUMBER(D94)),IF(AND(P88=5,D92*D93+D94*D95=0),\"←入力してください。\",\"\"),\"←数字を入力してください。\")","v":""},null,1]
[null,null,null,null,null,"ＶＡ",null,null,null,null,null,null,"",{"$f":"IF(OR(D95=\"\",ISNUMBER(D95)),IF(AND(P88=5,D92*D93+D94*D95=0),\"←入力してください。\",\"\"),\"←数字を入力してください。\")","v":""}]
[null,null,"小型機器\nのうち，ＩＨ\nクッキング\nヒーター",null,"台",null,null,null,null,null,null,null,"",{"$f":"IF(AND(E97=\"\",F98=\"\",F99=\"\"),\"\",IF(D96=\"\",\"←入力してください。\",IF(OR(D96=\"\",ISNUMBER(D96)),\"\",\"←数字を入力してください。\")))","v":""}]
[null,null,null,"合計",null,null,null,null,"ＶＡ",null,null,null,"",{"$f":"IF(AND(D96=\"\",F98=\"\",F99=\"\"),\"\",IF(E97=\"\",\"←入力してください。\",IF(OR(E97=\"\",ISNUMBER(E97)),\"\",\"←数字を入力してください。\")))","v":""}]
[null,null,null,"メーカー",null,null,null,null,null,null,null,null,"",null,null,null,"Ｅパターン契約容量等算定用"]
[null,null,null,"型式",null,null,null,null,null,null,null,null,"",null,null,null,"回路契約",{"$f":"R107+R109+R111+D119+D121","v":0}]
[null,null,"小型機器\nのうち，暖房エアコン等",null,null,null,null,null,null,null,null,null,{"$f":"IF(N100=\"\",\"\",N100)","v":""},{"$f":"IF(AND(P100=1,D101=\"\",E102=\"\",F103=\"\",F104=\"\"),\"\",IF(P100=1,\"←選択してください。\",IF(AND(P100=4,L100=\"\"),\"←具体的な機器種別を入力して下さい。\",\"\")))","v":""},null,1,"容量圧縮",{"$f":"IF(OR(P114<4,P114=6),R102,IF(R99<6000,R99*0.95,IF(R99<20000,6000*0.95+(R99-6000)*0.85,IF(R99<50000,6000*0.95+14000*0.85+(R99-20000)*0.75,6000*0.95+14000*0.85+30000*0.75+(R99-50000)*0.65))))","v":""}]
[null,null,null,null,"台",null,null,null,null,null,null,null,{"$f":"IF(N101=\"\",\"\",N101)","v":""},{"$f":"IF(AND(P100=1,E102=\"\",F103=\"\",F104=\"\"),\"\",IF(D101=\"\",\"←入力してください。\",IF(OR(D101=\"\",ISNUMBER(D101)),\"\",\"←数字を入力してください。\")))","v":""},null,null,"契約算定",{"$f":"IF(R100=\"\",\"\",IF(P112=2,IF(P114=5,\"\",IF(AND(R100>1000,R100<=1500),15,ROUNDUP(R100/1000,0)*10)),IF(P112=3,ROUND(R100/1000,0),ROUND(R102/1000,0))))","v":""}]
[null,null,null,"合計",null,null,null,null,"ＶＡ",null,null,null,{"$f":"IF(N102=\"\",\"\",N102)","v":""},{"$f":"IF(AND(P100=1,D101=\"\",F103=\"\",F104=\"\"),\"\",IF(E102=\"\",\"←入力してください。\",IF(OR(E102=\"\",ISNUMBER(E102)),\"\",\"←数字を入力してください。\")))","v":""},null,null,"総容量",{"$f":"IF(OR(OR(P114=2,P114=6),AND(P114=3,P113=2)),D115*100,IF(AND(P114=3,P113>2,P113<5),D115*200,IF(AND(P114=3,P113=5),D115*200*1.732,IF(P114=4,R99,IF(P114=5,D119+D121,\"\")))))","v":""}]
[null,null,null,"メーカー",null,null,null,null,null,null,null,null,{"$f":"IF(N103=\"\",\"\",N103)","v":""}]
[null,null,null,"型式",null,null,null,null,null,null,null,null,{"$f":"IF(N104=\"\",\"\",N104)","v":""},null,null,null,"Ｅパターン回路契約"]
[null,"回路数",null,null,"回路",null,null,null,null,null,null,null,"",{"$f":"IF(AND(P86>1,D105=\"\"),\"←入力してください。\",IF(OR(D105=\"\",ISNUMBER(D105)),\"\",\"←数字を入力してください。\"))","v":""},null,null,"業種表示用","容量計算用"]
[null,"適用業種別\n回路数内訳１","業種",null,null,null,null,null,null,null,null,null,"",{"$f":"IF(AND(P88<>4,P106<>1),\"←選択できません。\",IF(AND(P88=4,P106=1),\"←選択してください。\",\"\"))","v":""},null,1,{"$f":"IF(P132=2,S$5,IF(P132=3,S$6,IF(P132=4,S$7,IF(P132=5,S$8,IF(P132=6,S$9,IF(P132=7,S$10,IF(P132=8,S$11,IF(P132=9,S$12,\"\"))))))))","v":""},{"$f":"IF(P132=2,W$5,IF(P132=3,W$6,IF(P132=4,W$7,IF(P132=5,W$8,IF(P132=6,W$9,IF(P132=7,W$10,IF(P132=8,W$11,IF(P132=9,W$12,0))))))))","v":0}]
[null,null,"回路数",null,"回路",null,null,null,null,null,null,null,"",{"$f":"IF(P88<>4,IF(D107<>\"\",\"←入力できません。\",\"\"),IF(P106=1,\"\",IF(D107=\"\",\"←入力してください。\",IF(ISNUMBER(D107),\"\",\"←数字を入力してください。\"))))","v":""},null,1,{"$f":"IF(P132=10,S$13,Q106)","v":""},{"$f":"IF(P132=10,W$13,R106)","v":0}]
[null,"適用業種別\n回路数内訳２","業種",null,null,null,null,null,null,null,null,null,"",{"$f":"IF(AND(P88<>4,P108<>1),\"←選択できません。\",IF(AND(P88=4,D109<>\"\",P108=1),\"←選択してください。\",\"\"))","v":""},null,1,{"$f":"IF(P134=2,S$5,IF(P134=3,S$6,IF(P134=4,S$7,IF(P134=5,S$8,IF(P134=6,S$9,IF(P134=7,S$10,IF(P134=8,S$11,IF(P134=9,S$12,\"\"))))))))","v":""},{"$f":"IF(P134=2,X$5,IF(P134=3,X$6,IF(P134=4,X$7,IF(P134=5,X$8,IF(P134=6,X$9,IF(P134=7,X$10,IF(P134=8,X$11,IF(P134=9,X$12,0))))))))","v":0}]
[null,null,"回路数",null,"回路",null,null,null,null,null,null,null,"",{"$f":"IF(P88<>4,IF(D109<>\"\",\"←入力できません。\",\"\"),IF(P108=1,\"\",IF(D109=\"\",\"←入力してください。\",IF(ISNUMBER(D109),\"\",\"←数字を入力してください。\"))))","v":""},null,1,{"$f":"IF(P134=10,S$13,Q108)","v":""},{"$f":"IF(P134=10,X$13,R108)","v":0}]
[null,"適用業種別\n回路数内訳３","業種",null,null,null,null,null,null,null,null,null,"",{"$f":"IF(AND(P88<>4,P110<>1),\"←選択できません。\",IF(AND(P88=4,D111<>\"\",P110=1),\"←選択してください。\",\"\"))","v":""},null,1,{"$f":"IF(P136=2,S$5,IF(P136=3,S$6,IF(P136=4,S$7,IF(P136=5,S$8,IF(P136=6,S$9,IF(P136=7,S$10,IF(P136=8,S$11,IF(P136=9,S$12,\"\"))))))))","v":""},{"$f":"IF(P136=2,Y$5,IF(P136=3,Y$6,IF(P136=4,Y$7,IF(P136=5,Y$8,IF(P136=6,Y$9,IF(P136=7,Y$10,IF(P136=8,Y$11,IF(P136=9,Y$12,0))))))))","v":0}]
[null,null,"回路数",null,"回路",null,null,null,null,null,null,null,"",{"$f":"IF(P88<>4,IF(D111<>\"\",\"←入力できません。\",\"\"),IF(P110=1,\"\",IF(D111=\"\",\"←入力してください。\",IF(ISNUMBER(D111),\"\",\"←数字を入力してください。\"))))","v":""},null,1,{"$f":"IF(P136=10,S$13,Q110)","v":""},{"$f":"IF(P136=10,Y$13,R110)","v":0}]
["Ｅパターン","契約種別",null,null,null,null,null,null,null,null,null,null,"",{"$f":"IF(AND(P112=1,R101<>\"\"),\"←選択してください。\",IF(AND(P112=2,R101<=500,R101>6000),\"←従量電灯Ｂの範囲外の容量です。\",IF(AND(P112=3,OR(R101<6,R101>=50)),\"←従量電灯Ｃの範囲外の容量です。\",\"\")))","v":""},null,1]
[null,"供給電気方式・供給電圧",null,null,null,null,null,null,null,null,null,null,"",{"$f":"IF(AND(P113=1,P112>1),\"←選択してください。\",IF(P113=5,\"←間違いありませんか？\",\"\"))","v":""},null,1]
[null,"契約決定方法",null,null,null,null,null,null,null,null,null,null,"",{"$f":"IF(AND(P112>1,P114=1),\"←選択してください。\",IF(AND(OR(P114=2,P114=6),P112=3),\"←ブレーカー契約は選択できません。\",IF(AND(P114=4,P112=2),\"←回路契約は選択できません。\",\"\")))","v":""},null,1]
[null,"主開閉器・電流制限器の定格電流",null,null,"Ａ",null,null,null,null,null,null,null,"",{"$f":"IF(AND(OR(P114=2,P114=3,P114=6),D115=\"\"),\"←入力してください。\",IF(ISNUMBER(D115),IF(AND(P112=2,OR(P114=2,P114=6),OR(D115<10,D115>60,AND(D115<>15,MOD(D115,10)<>0))),\"←入力内容が不正です。\",\"\"),IF(D115=\"\",\"\",\"←数字を入力してください。\")))","v":""},null,1]
[null,"室番号",null,null,null,null,null,null,null,null,null,null,"",{"$f":"IF(AND(P112>1,D116=\"\"),\"←入力してください。\",\"\")","v":""}]
[null,"契約口数合計",null,null,"口",null,null,null,null,null,null,null,"",{"$f":"IF(AND(P112>1,D117=\"\"),\"←入力してください。\",\"\")","v":""}]
[null,"契約負荷\n設備内訳","電灯",null,"灯",null,null,null,null,null,null,null,"",{"$f":"IF(OR(D118=\"\",ISNUMBER(D118)),IF(AND(P114=5,D118*D119+D120*D121=0),\"←入力してください。\",\"\"),\"←数字を入力してください。\")","v":""}]
[null,null,null,null,null,"ＶＡ",null,null,null,null,null,null,"",{"$f":"IF(OR(D119=\"\",ISNUMBER(D119)),IF(AND(P114=5,D118*D119+D120*D121=0),\"←入力してください。\",\"\"),\"←数字を入力してください。\")","v":""},null,null,"Ｆパターン契約容量等算定用"]
[null,null,"小型機器",null,"個",null,null,null,null,null,null,null,"",{"$f":"IF(OR(D120=\"\",ISNUMBER(D120)),IF(AND(P114=5,D118*D119+D120*D121=0),\"←入力してください。\",\"\"),\"←数字を入力してください。\")","v":""},null,null,"回路契約",{"$f":"R128+R130+R132+D145+D147","v":0}]
[null,null,null,null,null,"ＶＡ",null,null,null,null,null,null,"",{"$f":"IF(OR(D121=\"\",ISNUMBER(D121)),IF(AND(P114=5,D118*D119+D120*D121=0),\"←入力してください。\",\"\"),\"←数字を入力してください。\")","v":""},null,null,"容量圧縮",{"$f":"IF(OR(P140<4,P140=6),R123,IF(R120<6000,R120*0.95,IF(R120<20000,6000*0.95+(R120-6000)*0.85,IF(R120<50000,6000*0.95+14000*0.85+(R120-20000)*0.75,6000*0.95+14000*0.85+30000*0.75+(R120-50000)*0.65))))","v":""}]
[null,null,"小型機器\nのうち，ＩＨ\nクッキング\nヒーター",null,"台",null,null,null,null,null,null,null,"",{"$f":"IF(AND(E123=\"\",F124=\"\",F125=\"\"),\"\",IF(D122=\"\",\"←入力してください。\",IF(OR(D122=\"\",ISNUMBER(D122)),\"\",\"←数字を入力してください。\")))","v":""},null,null,"契約算定",{"$f":"IF(R121=\"\",\"\",IF(P138=2,IF(P140=5,\"\",IF(AND(R121>1000,R121<=1500),15,ROUNDUP(R121/1000,0)*10)),IF(P138=3,ROUND(R121/1000,0),ROUND(R123/1000,0))))","v":""}]
[null,null,null,"合計",null,null,null,null,"ＶＡ",null,null,null,"",{"$f":"IF(AND(D122=\"\",F124=\"\",F125=\"\"),\"\",IF(E123=\"\",\"←入力してください。\",IF(OR(E123=\"\",ISNUMBER(E123)),\"\",\"←数字を入力してください。\")))","v":""},null,null,"総容量",{"$f":"IF(OR(OR(P140=2,P140=6),AND(P140=3,P139=2)),D141*100,IF(AND(P140=3,P139>2,P139<5),D141*200,IF(AND(P140=3,P139=5),D141*200*1.732,IF(P140=4,R120,IF(P140=5,D145+D147,\"\")))))","v":""}]
[null,null,null,"メーカー",null,null,null,null,null,null,null,null,""]
[null,null,null,"型式",null,null,null,null,null,null,null,null,"",null,null,null,"Ｆパターン回路契約"]
[null,null,"小型機器\nのうち，暖房エアコン等",null,null,null,null,null,null,null,null,null,{"$f":"IF(N126=\"\",\"\",N126)","v":""},{"$f":"IF(AND(P126=1,D127=\"\",E128=\"\",F129=\"\",F130=\"\"),\"\",IF(P126=1,\"←選択してください。\",IF(AND(P126=4,L126=\"\"),\"←具体的な機器種別を入力して下さい。\",\"\")))","v":""},null,1,"業種表示用","容量計算用"]
[null,null,null,null,"台",null,null,null,null,null,null,null,{"$f":"IF(N127=\"\",\"\",N127)","v":""},{"$f":"IF(AND(P126=1,E128=\"\",F129=\"\",F130=\"\"),\"\",IF(D127=\"\",\"←入力してください。\",IF(OR(D127=\"\",ISNUMBER(D127)),\"\",\"←数字を入力してください。\")))","v":""},null,null,{"$f":"IF(P158=2,S$5,IF(P158=3,S$6,IF(P158=4,S$7,IF(P158=5,S$8,IF(P158=6,S$9,IF(P158=7,S$10,IF(P158=8,S$11,IF(P158=9,S$12,\"\"))))))))","v":""},{"$f":"IF(P158=2,W$5,IF(P158=3,W$6,IF(P158=4,W$7,IF(P158=5,W$8,IF(P158=6,W$9,IF(P158=7,W$10,IF(P158=8,W$11,IF(P158=9,W$12,0))))))))","v":0}]
[null,null,null,"合計",null,null,null,null,"ＶＡ",null,null,null,{"$f":"IF(N128=\"\",\"\",N128)","v":""},{"$f":"IF(AND(P126=1,D127=\"\",F129=\"\",F130=\"\"),\"\",IF(E128=\"\",\"←入力してください。\",IF(OR(E128=\"\",ISNUMBER(E128)),\"\",\"←数字を入力してください。\")))","v":""},null,1,{"$f":"IF(P158=10,S$13,Q127)","v":""},{"$f":"IF(P158=10,W$13,R127)","v":0}]
[null,null,null,"メーカー",null,null,null,null,null,null,null,null,{"$f":"IF(N129=\"\",\"\",N129)","v":""},null,null,null,{"$f":"IF(P160=2,S$5,IF(P160=3,S$6,IF(P160=4,S$7,IF(P160=5,S$8,IF(P160=6,S$9,IF(P160=7,S$10,IF(P160=8,S$11,IF(P160=9,S$12,\"\"))))))))","v":""},{"$f":"IF(P160=2,X$5,IF(P160=3,X$6,IF(P160=4,X$7,IF(P160=5,X$8,IF(P160=6,X$9,IF(P160=7,X$10,IF(P160=8,X$11,IF(P160=9,X$12,0))))))))","v":0}]
[null,null,null,"型式",null,null,null,null,null,null,null,null,{"$f":"IF(N130=\"\",\"\",N130)","v":""},null,null,1,{"$f":"IF(P160=10,S$13,Q129)","v":""},{"$f":"IF(P160=10,X$13,R129)","v":0}]
[null,"回路数",null,null,"回路",null,null,null,null,null,null,null,"",{"$f":"IF(AND(P112>1,D131=\"\"),\"←入力してください。\",IF(OR(D131=\"\",ISNUMBER(D131)),\"\",\"←数字を入力してください。\"))","v":""},null,null,{"$f":"IF(P162=2,S$5,IF(P162=3,S$6,IF(P162=4,S$7,IF(P162=5,S$8,IF(P162=6,S$9,IF(P162=7,S$10,IF(P162=8,S$11,IF(P162=9,S$12,\"\"))))))))","v":""},{"$f":"IF(P162=2,Y$5,IF(P162=3,Y$6,IF(P162=4,Y$7,IF(P162=5,Y$8,IF(P162=6,Y$9,IF(P162=7,Y$10,IF(P162=8,Y$11,IF(P162=9,Y$12,0))))))))","v":0}]
[null,"適用業種別\n回路数内訳１","業種",null,null,null,null,null,null,null,null,null,"",{"$f":"IF(AND(P114<>4,P132<>1),\"←選択できません。\",IF(AND(P114=4,P132=1),\"←選択してください。\",\"\"))","v":""},null,1,{"$f":"IF(P162=10,S$13,Q131)","v":""},{"$f":"IF(P162=10,Y$13,R131)","v":0}]
[null,null,"回路数",null,"回路",null,null,null,null,null,null,null,"",{"$f":"IF(P114<>4,IF(D133<>\"\",\"←入力できません。\",\"\"),IF(P132=1,\"\",IF(D133=\"\",\"←入力してください。\",IF(ISNUMBER(D133),\"\",\"←数字を入力してください。\"))))","v":""}]
[null,"適用業種別\n回路数内訳２","業種",null,null,null,null,null,null,null,null,null,"",{"$f":"IF(AND(P114<>4,P134<>1),\"←選択できません。\",IF(AND(P114=4,D135<>\"\",P134=1),\"←選択してください。\",\"\"))","v":""},null,1]
[null,null,"回路数",null,"回路",null,null,null,null,null,null,null,"",{"$f":"IF(P114<>4,IF(D135<>\"\",\"←入力できません。\",\"\"),IF(P134=1,\"\",IF(D135=\"\",\"←入力してください。\",IF(ISNUMBER(D135),\"\",\"←数字を入力してください。\"))))","v":""}]
[null,"適用業種別\n回路数内訳３","業種",null,null,null,null,null,null,null,null,null,"",{"$f":"IF(AND(P114<>4,P136<>1),\"←選択できません。\",IF(AND(P114=4,D137<>\"\",P136=1),\"←選択してください。\",\"\"))","v":""},null,1]
[null,null,"回路数",null,"回路",null,null,null,null,null,null,null,"",{"$f":"IF(P114<>4,IF(D137<>\"\",\"←入力できません。\",\"\"),IF(P136=1,\"\",IF(D137=\"\",\"←入力してください。\",IF(ISNUMBER(D137),\"\",\"←数字を入力してください。\"))))","v":""}]
["Ｆパターン","契約種別",null,null,null,null,null,null,null,null,null,null,"",{"$f":"IF(AND(P138=1,R122<>\"\"),\"←選択してください。\",IF(AND(P138=2,R122<=500,R122>6000),\"←従量電灯Ｂの範囲外の容量です。\",IF(AND(P138=3,OR(R122<6,R122>=50)),\"←従量電灯Ｃの範囲外の容量です。\",\"\")))","v":""},null,1]
[null,"供給電気方式・供給電圧",null,null,null,null,null,null,null,null,null,null,"",{"$f":"IF(AND(P139=1,P138>1),\"←選択してください。\",IF(P139=5,\"←間違いありませんか？\",\"\"))","v":""},null,1]
[null,"契約決定方法",null,null,null,null,null,null,null,null,null,null,"",{"$f":"IF(AND(P138>1,P140=1),\"←選択してください。\",IF(AND(OR(P140=2,P140=6),P138=3),\"←ブレーカー契約は選択できません。\",IF(AND(P140=4,P138=2),\"←回路契約は選択できません。\",\"\")))","v":""},null,1]
[null,"主開閉器・電流制限器の定格電流",null,null,"Ａ",null,null,null,null,null,null,null,"",{"$f":"IF(AND(OR(P140=2,P140=3,P140=6),D141=\"\"),\"←入力してください。\",IF(ISNUMBER(D141),IF(AND(P138=2,OR(P140=2,P140=6),OR(D141<10,D141>60,AND(D141<>15,MOD(D141,10)<>0))),\"←入力内容が不正です。\",\"\"),IF(D141=\"\",\"\",\"←数字を入力してください。\")))","v":""}]
[null,"室番号",null,null,null,null,null,null,null,null,null,null,"",{"$f":"IF(AND(P138>1,D142=\"\"),\"←入力してください。\",\"\")","v":""}]
[null,"契約口数合計",null,null,"口",null,null,null,null,null,null,null,"",{"$f":"IF(AND(P138>1,D143=\"\"),\"←入力してください。\",\"\")","v":""}]
[null,"契約負荷\n設備内訳","電灯",null,"灯",null,null,null,null,null,null,null,"",{"$f":"IF(OR(D144=\"\",ISNUMBER(D144)),IF(AND(P140=5,D144*D145+D146*D147=0),\"←入力してください。\",\"\"),\"←数字を入力してください。\")","v":""}]
[null,null,null,null,null,"ＶＡ",null,null,null,null,null,null,"",{"$f":"IF(OR(D145=\"\",ISNUMBER(D145)),IF(AND(P140=5,D144*D145+D146*D147=0),\"←入力してください。\",\"\"),\"←数字を入力してください。\")","v":""}]
[null,null,"小型機器",null,"個",null,null,null,null,null,null,null,"",{"$f":"IF(OR(D146=\"\",ISNUMBER(D146)),IF(AND(P140=5,D144*D145+D146*D147=0),\"←入力してください。\",\"\"),\"←数字を入力してください。\")","v":""}]
[null,null,null,null,null,"ＶＡ",null,null,null,null,null,null,"",{"$f":"IF(OR(D147=\"\",ISNUMBER(D147)),IF(AND(P140=5,D144*D145+D146*D147=0),\"←入力してください。\",\"\"),\"←数字を入力してください。\")","v":""}]
[null,null,"小型機器\nのうち，ＩＨ\nクッキング\nヒーター",null,"台",null,null,null,null,null,null,null,"",{"$f":"IF(AND(E149=\"\",F150=\"\",F151=\"\"),\"\",IF(D148=\"\",\"←入力してください。\",IF(OR(D148=\"\",ISNUMBER(D148)),\"\",\"←数字を入力してください。\")))","v":""}]
[null,null,null,"合計",null,null,null,null,"ＶＡ",null,null,null,"",{"$f":"IF(AND(D148=\"\",F150=\"\",F151=\"\"),\"\",IF(E149=\"\",\"←入力してください。\",IF(OR(E149=\"\",ISNUMBER(E149)),\"\",\"←数字を入力してください。\")))","v":""}]
[null,null,null,"メーカー",null,null,null,null,null,null,null,null,""]
[null,null,null,"型式",null,null,null,null,null,null,null,null,""]
[null,null,"小型機器\nのうち，暖房エアコン等",null,null,null,null,null,null,null,null,null,{"$f":"IF(N152=\"\",\"\",N152)","v":""},{"$f":"IF(AND(P152=1,D153=\"\",E154=\"\",F155=\"\",F156=\"\"),\"\",IF(P152=1,\"←選択してください。\",IF(AND(P152=4,L152=\"\"),\"←具体的な機器種別を入力して下さい。\",\"\")))","v":""},null,1]
[null,null,null,null,"台",null,null,null,null,null,null,null,{"$f":"IF(N153=\"\",\"\",N153)","v":""},{"$f":"IF(AND(P152=1,E154=\"\",F155=\"\",F156=\"\"),\"\",IF(D153=\"\",\"←入力してください。\",IF(OR(D153=\"\",ISNUMBER(D153)),\"\",\"←数字を入力してください。\")))","v":""}]
[null,null,null,"合計",null,null,null,null,"ＶＡ",null,null,null,{"$f":"IF(N154=\"\",\"\",N154)","v":""},{"$f":"IF(AND(P152=1,D153=\"\",F155=\"\",F156=\"\"),\"\",IF(E154=\"\",\"←入力してください。\",IF(OR(E154=\"\",ISNUMBER(E154)),\"\",\"←数字を入力してください。\")))","v":""}]
[null,null,null,"メーカー",null,null,null,null,null,null,null,null,{"$f":"IF(N155=\"\",\"\",N155)","v":""}]
[null,null,null,"型式",null,null,null,null,null,null,null,null,{"$f":"IF(N156=\"\",\"\",N156)","v":""}]
[null,"回路数",null,null,"回路",null,null,null,null,null,null,null,"",{"$f":"IF(AND(P138>1,D157=\"\"),\"←入力してください。\",IF(OR(D157=\"\",ISNUMBER(D157)),\"\",\"←数字を入力してください。\"))","v":""}]
[null,"適用業種別\n回路数内訳１","業種",null,null,null,null,null,null,null,null,null,"",{"$f":"IF(AND(P140<>4,P158<>1),\"←選択できません。\",IF(AND(P140=4,P158=1),\"←選択してください。\",\"\"))","v":""},null,1]
[null,null,"回路数",null,"回路",null,null,null,null,null,null,null,"",{"$f":"IF(P140<>4,IF(D159<>\"\",\"←入力できません。\",\"\"),IF(P158=1,\"\",IF(D159=\"\",\"←入力してください。\",IF(ISNUMBER(D159),\"\",\"←数字を入力してください。\"))))","v":""}]
[null,"適用業種別\n回路数内訳２","業種",null,null,null,null,null,null,null,null,null,{"$f":"IF(N160=\"\",\"\",N160)","v":""},{"$f":"IF(AND(P140<>4,P160<>1),\"←選択できません。\",IF(AND(P140=4,D161<>\"\",P160=1),\"←選択してください。\",\"\"))","v":""},null,1]
[null,null,"回路数",null,"回路",null,null,null,null,null,null,null,{"$f":"IF(N161=\"\",\"\",N161)","v":""},{"$f":"IF(P140<>4,IF(D161<>\"\",\"←入力できません。\",\"\"),IF(P160=1,\"\",IF(D161=\"\",\"←入力してください。\",IF(ISNUMBER(D161),\"\",\"←数字を入力してください。\"))))","v":""}]
[null,"適用業種別\n回路数内訳３","業種",null,null,null,null,null,null,null,null,null,{"$f":"IF(N162=\"\",\"\",N162)","v":""},{"$f":"IF(AND(P140<>4,P162<>1),\"←選択できません。\",IF(AND(P140=4,D163<>\"\",P162=1),\"←選択してください。\",\"\"))","v":""},null,1]
[null,null,"回路数",null,"回路",null,null,null,null,null,null,null,{"$f":"IF(N163=\"\",\"\",N163)","v":""},{"$f":"IF(P140<>4,IF(D163<>\"\",\"←入力できません。\",\"\"),IF(P162=1,\"\",IF(D163=\"\",\"←入力してください。\",IF(ISNUMBER(D163),\"\",\"←数字を入力してください。\"))))","v":""}]

{"sheet":"１枚目","index":1,"n_rows":166,"n_cols":110,"rows_kept":166,"cut":false,"hidden":false,"merged":[[100,66,106,71],[107,66,107,71],[24,48,31,59],[24,66,30,71],[51,85,54,90],[51,91,54,93],[50,66,50,71],[62,72,69,76],[62,66,68,71],[69,66,69,71],[51,63,52,79],[53,63,55,72],[53,73,55,75],[43,72,50,76],[43,77,50,110],[36,107,42,110],[37,76,39,79],[32,80,35,84],[32,85,35,90],[32,91,35,93],[34,73,36,75],[34,76,36,79],[36,80,42,84],[32,63,33,79],[51,80,54,84],[55,94,61,99],[53,76,55,79],[59,73,61,75],[59,76,61,79],[55,100,61,106],[55,107,61,110],[55,80,61,84],[55,85,61,90],[55,91,61,93],[62,29,69,42],[70,63,71,79],[72,39,73,40],[72,41,73,46],[72,47,73,49],[70,50,80,54],[70,55,80,62],[72,1,75,7],[62,48,69,59],[62,43,69,47],[76,1,80,7],[76,8,80,10],[76,11,80,17],[76,18,80,20],[76,21,78,35],[79,21,80,26],[79,27,80,33],[72,8,75,10],[72,11,75,17],[72,18,75,20],[72,21,73,35],[62,60,69,65],[62,77,69,110],[74,107,80,110],[100,77,107,110],[100,72,107,76],[93,21,94,26],[81,15,88,23],[81,29,88,42],[119,43,126,47],[100,60,107,65],[81,1,88,5],[81,48,88,59],[100,29,107,42],[81,43,88,47],[100,43,107,47],[91,39,92,40],[91,41,92,46],[91,47,92,49],[126,66,126,71],[119,29,126,42],[89,11,90,49],[89,50,99,54],[89,55,99,62],[91,1,94,7],[119,60,126,65],[119,77,126,110],[119,72,126,76],[43,1,50,5],[62,1,69,5],[62,6,69,9],[43,6,50,9],[119,6,126,9],[100,24,107,28],[81,24,88,28],[43,24,50,28],[100,6,107,9],[100,10,107,14],[81,6,88,9],[119,15,126,23],[62,10,69,14],[81,10,88,14],[62,15,69,23],[51,1,52,10],[57,1,61,7],[57,8,61,10],[57,11,61,17],[57,18,61,20],[119,1,126,5],[62,24,69,28],[53,1,56,7],[100,15,107,23],[43,43,50,47],[43,60,50,65],[43,29,50,42],[59,63,61,72],[40,63,42,72],[34,63,36,72],[53,8,56,10],[53,11,56,17],[43,66,49,71],[34,1,37,7],[16,6,23,33],[16,64,23,68],[22,61,23,63],[16,75,21,110],[22,69,23,74],[21,56,23,60],[22,100,23,102],[22,103,23,103],[21,39,23,44],[36,34,37,37],[32,1,33,10],[34,21,35,35],[34,36,35,38],[34,39,35,40],[22,45,23,47],[24,15,31,23],[24,29,31,42],[24,43,31,47],[24,72,31,76],[34,41,35,46],[36,94,42,99],[36,100,42,106],[36,85,42,90],[6,0,9,110],[24,1,31,5],[24,6,31,9],[24,10,31,14],[24,24,31,28],[13,64,15,68],[22,104,23,108],[22,109,23,110],[10,1,11,25],[12,1,13,38],[16,1,23,5],[20,34,23,38],[16,69,21,74],[13,69,15,84],[13,85,15,89],[21,48,23,52],[31,66,31,71],[24,60,31,65],[13,90,15,110],[22,75,23,87],[22,88,23,99],[24,77,31,110],[22,53,23,55],[145,1,146,97],[127,1,128,10],[127,11,128,49],[127,50,137,54],[129,1,132,7],[129,8,132,10],[129,11,132,17],[129,18,132,20],[129,21,130,35],[129,36,130,38],[127,80,130,84],[127,85,130,90],[127,91,130,93],[129,73,131,75],[129,76,131,79],[131,80,137,84],[131,85,137,90],[131,91,137,93],[129,47,130,49],[129,63,131,72],[131,38,132,49],[127,55,137,62],[133,47,135,49],[127,63,128,79],[167,0,168,110],[139,101,146,102],[139,103,146,110],[143,1,144,97],[148,1,150,16],[141,1,142,97],[139,1,140,97],[165,0,166,110],[108,55,118,62],[114,47,116,49],[108,1,109,10],[108,11,109,49],[108,80,111,84],[108,85,111,90],[108,91,111,93],[110,73,112,75],[110,76,112,79],[112,80,118,84],[112,85,118,90],[112,91,118,93],[112,107,118,110],[113,63,115,72],[113,73,115,75],[113,76,115,79],[108,63,109,79],[110,63,112,72],[108,50,118,54],[38,47,40,49],[32,11,33,49],[55,38,56,49],[53,47,54,49],[53,21,54,35],[56,63,58,72],[56,73,58,75],[56,76,58,79],[57,21,59,35],[57,36,59,38],[57,39,59,40],[57,41,59,46],[60,21,61,26],[60,27,61,33],[60,34,61,37],[34,47,35,49],[36,38,37,49],[37,63,39,72],[37,73,39,75],[34,18,37,20],[53,18,56,20],[36,91,42,93],[34,8,37,10],[34,11,37,17],[40,73,42,75],[40,76,42,79],[32,50,42,54],[32,55,42,62],[38,21,40,35],[38,36,40,38],[38,39,40,40],[38,41,40,46],[36,21,37,26],[36,27,37,33],[41,21,42,26],[41,27,42,33],[41,34,42,37],[41,38,42,49],[74,85,80,90],[74,91,80,93],[76,41,78,46],[70,80,73,84],[74,21,75,26],[74,27,75,33],[38,1,42,7],[38,8,42,10],[38,11,42,17],[38,18,42,20],[53,36,54,38],[53,39,54,40],[55,21,56,26],[55,27,56,33],[55,34,56,37],[60,38,61,49],[57,47,59,49],[43,48,50,59],[51,11,52,49],[51,50,61,54],[51,55,61,62],[53,41,54,46],[43,15,50,23],[43,10,50,14],[70,1,71,10],[81,60,88,65],[81,66,87,71],[88,66,88,71],[81,72,88,76],[89,63,90,79],[89,80,92,84],[89,85,92,90],[89,91,92,93],[91,73,93,75],[91,76,93,79],[93,80,99,84],[93,85,99,90],[93,91,99,93],[91,63,93,72],[91,8,94,10],[78,73,80,75],[78,76,80,79],[76,36,78,38],[79,34,80,37],[79,38,80,49],[76,47,78,49],[78,63,80,72],[74,34,75,37],[72,36,73,38],[93,94,99,99],[95,21,97,35],[95,36,97,38],[95,39,97,40],[95,41,97,46],[95,47,97,49],[98,21,99,26],[89,1,90,10],[75,63,77,72],[75,73,77,75],[75,76,77,79],[74,38,75,49],[72,63,74,72],[76,39,78,40],[81,77,88,110],[74,94,80,99],[74,100,80,106],[70,85,73,90],[70,91,73,93],[72,73,74,75],[70,11,71,49],[72,76,74,79],[74,80,80,84],[93,100,99,106],[93,107,99,110],[94,63,96,72],[94,73,96,75],[94,76,96,79],[97,63,99,72],[97,73,99,75],[97,76,99,79],[100,1,107,5],[98,27,99,33],[98,34,99,37],[98,38,99,49],[100,48,107,59],[95,1,99,7],[95,8,99,10],[95,11,99,17],[95,18,99,20],[91,11,94,17],[91,18,94,20],[91,21,92,35],[91,36,92,38],[93,27,94,33],[93,34,94,37],[93,38,94,49],[114,1,118,7],[110,47,111,49],[110,21,111,35],[110,36,111,38],[110,1,113,7],[110,8,113,10],[110,11,113,17],[110,18,113,20],[110,39,111,40],[110,41,111,46],[112,94,118,99],[112,100,118,106],[112,21,113,26],[112,27,113,33],[112,34,113,37],[112,38,113,49],[117,21,118,26],[117,27,118,33],[117,34,118,37],[117,38,118,49],[114,21,116,35],[114,36,116,38],[114,39,116,40],[114,41,116,46],[116,63,118,72],[116,73,118,75],[116,76,118,79],[133,41,135,46],[135,63,137,72],[135,73,137,75],[135,76,137,79],[133,1,137,7],[133,8,137,10],[133,11,137,17],[133,18,137,20],[129,39,130,40],[129,41,130,46],[114,8,118,10],[114,11,118,17],[114,18,118,20],[119,66,125,71],[119,48,126,59],[119,10,126,14],[119,24,126,28],[1,93,4,109],[131,107,137,110],[132,63,134,72],[132,73,134,75],[132,76,134,79],[131,94,137,99],[131,100,137,106],[131,27,132,33],[131,34,132,37],[131,21,132,26],[136,21,137,26],[136,27,137,33],[136,34,137,37],[136,38,137,49],[133,21,135,35],[133,36,135,38],[133,39,135,40]]}
[]
[null,null,null,null,null,null,null,null,null,null,null,null,null,null,null,null,null,null,null,null,null,null,null,null,null,null,null,null,null,null,null,null,null,null,null,null,null,null,null,null,null,null,null,null,null,null,null,null,null,null,null,null,null,null,null,null,null,null,null,null,null,null,null,null,null,null,null,null,null,null,null,null,null,null,null,null,null,null,null,null,null,null,null,null,null,null,null,null,null,null,null,null,null,"離島等供給用"]
[]
[]
[]
[]
["（従量制電灯）集合住宅専有部分用電気使用申込書（工事会社様控）"]
[]
[]
[]
[null,"北海道電力ネットワーク株式会社　御中"]
[]
[null,"電気の使用について貴社離島等供給約款[低圧用]を承認のうえ申し込みます。"]
[null,null,null,null,null,null,null,null,null,null,null,null,null,null,null,null,null,null,null,null,null,null,null,null,null,null,null,null,null,null,null,null,null,null,null,null,null,null,null,null,null,null,null,null,null,null,null,null,null,null,null,null,null,null,null,null,null,null,null,null,null,null,null,null,"受付扱所名",null,null,null,null,null,null,null,null,null,null,null,null,null,null,null,null,null,null,null,null,"受付№"]
[]
[]
[null,"建物名",null,null,null,null,{"$f":"IF(入力用!D3=\"\",\"\",入力用!D3)","v":""},null,null,null,null,null,null,null,null,null,null,null,null,null,null,null,null,null,null,null,null,null,null,null,null,null,null,null,null,null,null,null,null,null,null,null,null,null,null,null,null,null,null,null,null,null,null,null,null,null,null,null,null,null,null,null,null,null,"電気\n工事\n会社",null,null,null,null," 会社名",null,null,null,null,null,{"$f":"IF(入力用!D5=\"\",\"\",入力用!D5)","v":""}]
[]
[]
[]
[null,null,null,null,null,null,null,null,null,null,null,null,null,null,null,null,null,null,null,null,null,null,null,null,null,null,null,null,null,null,null,null,null,null,"受　電\n希望日"]
[null,null,null,null,null,null,null,null,null,null,null,null,null,null,null,null,null,null,null,null,null,null,null,null,null,null,null,null,null,null,null,null,null,null,null,null,null,null,null,{"$f":"IF(入力用!D4=\"\",\"\",入力用!D4)","v":""},null,null,null,null,null,null,null,null,{"$f":"IF(入力用!F4=\"\",\"\",入力用!F4)","v":""},null,null,null,null,null,null,null,{"$f":"IF(入力用!I4=\"\",\"\",入力用!I4)","v":""}]
[null,null,null,null,null,null,null,null,null,null,null,null,null,null,null,null,null,null,null,null,null,null,null,null,null,null,null,null,null,null,null,null,null,null,null,null,null,null,null,null,null,null,null,null,null,"年",null,null,null,null,null,null,null,"月",null,null,null,null,null,null,null,"日",null,null,null,null,null,null,null,"(担当者)",null,null,null,null,null,{"$f":"IF(入力用!D6=\"\",\"\",入力用!D6)","v":""},null,null,null,null,null,null,null,null,null,null,null,null,"工事会社№（",null,null,null,null,null,null,null,null,null,null,null,{"$f":"IF(入力用!D7=\"\",\"\",入力用!D7)","v":""},null,null,"-",{"$f":"IF(入力用!F7=\"\",\"\",入力用!F7)","v":""},null,null,null,null,")"]
[]
[null,"ﾊﾟﾀｰﾝ\n区 分",null,null,null,null,"A",null,null,null,"契　約\n種　別",null,null,null,null,{"$f":"IF(入力用!P8=2,入力用!P5,IF(入力用!P8=3,入力用!P6,\"\"))","v":""},null,null,null,null,null,null,null,null,"供　給\n電　気\n方　式",null,null,null,null,{"$f":"IF(入力用!P9=2,入力用!Q5,IF(入力用!P9=3,入力用!Q6,IF(入力用!P9=4,入力用!Q7,IF(入力用!P9=5,入力用!Q8,\"\"))))","v":""},null,null,null,null,null,null,null,null,null,null,null,null,null,"契　約\n決　定\n方　法",null,null,null,null,{"$f":"IF(入力用!P10=2,入力用!R5,IF(入力用!P10=3,入力用!R6,IF(入力用!P10=4,入力用!R7,IF(入力用!P10=5,入力用!R8,IF(入力用!P10=6,入力用!R9,\"\")))))","v":""},null,null,null,null,null,null,null,null,null,null,null,"主開閉器・\n電流制限器\nの定格電流",null,null,null,null,null,{"$f":"IF(入力用!D11=\"\",\"\",入力用!D11)","v":""},null,null,null,null,null,"室番号",null,null,null,null,{"$f":"IF(入力用!D12=\"\",\"\",入力用!D12)","v":""}]
[]
[]
[]
[]
[]
[]
[]
[null,"電　　　　灯",null,null,null,null,null,null,null,null,null,"小　　型　　機　　器　※HPはヒートポンプ",null,null,null,null,null,null,null,null,null,null,null,null,null,null,null,null,null,null,null,null,null,null,null,null,null,null,null,null,null,null,null,null,null,null,null,null,null,null,"回路数",null,null,null,null,{"$f":"IF(入力用!D27=\"\",\"\",入力用!D27)","v":""},null,null,null,null,null,null,null,"適用業種別回路数内訳",null,null,null,null,null,null,null,null,null,null,null,null,null,null,null,null,"契約口\n数合計",null,null,null,null,{"$f":"IF(入力用!D13=\"\",\"\",入力用!D13)","v":""},null,null,null,null,null,"口"]
[]
[null,{"$f":"IF(入力用!D14=\"\",\"\",入力用!D14)","v":""},null,null,null,null,null,null,"灯",null,null,{"$f":"IF(入力用!D16=\"\",\"\",入力用!D16)","v":""},null,null,null,null,null,null,"個",null,null,"うちＩＨクッキングヒーター",null,null,null,null,null,null,null,null,null,null,null,null,null,null,{"$f":"IF(入力用!D18=\"\",\"\",入力用!D18)","v":""},null,null,"台",null,{"$f":"IF(入力用!E19=\"\",\"\",入力用!E19)","v":""},null,null,null,null,null,"ＶＡ",null,null,null,null,null,null,null,null,null,null,null,null,null,null,null,{"$f":"入力用!Q23","v":""},null,null,null,null,null,null,null,null,null,{"$f":"IF(入力用!D29=\"\",\"\",入力用!D29)","v":""},null,null,"回路"]
[]
[null,null,null,null,null,null,null,null,null,null,null,null,null,null,null,null,null,null,null,null,null,"(メーカー)",null,null,null,null,null,{"$f":"IF(入力用!F20=\"\",\"\",入力用!F20)","v":""},null,null,null,null,null,null,"(型式)",null,null,null,{"$f":"IF(入力用!F21=\"\",\"\",入力用!F21)","v":""},null,null,null,null,null,null,null,null,null,null,null,null,null,null,null,null,null,null,null,null,null,null,null,null,null,null,null,null,null,null,null,null,null,null,null,null,null,null,null,null,null,"合計\n容量",null,null,null,null,null,null,null,null,null,null,"ＶＡ",null,null,{"$f":"IF(入力用!P8=2,\"契約電流\",IF(入力用!P8=3,\"契約容量\",\"契約電流\n契約容量\"))","v":"契約電流\n契約容量"},null,null,null,null,null,null,null,null,null,null,null,null,{"$f":"IF(入力用!P8=2,\"Ａ\",IF(入力用!P8=3,\"kVA\",\"Ａ\nkVA\"))","v":"Ａ\nkVA"}]
[null,null,null,null,null,null,null,null,null,null,null,null,null,null,null,null,null,null,null,null,null,null,null,null,null,null,null,null,null,null,null,null,null,null,null,null,null,null,null,null,null,null,null,null,null,null,null,null,null,null,null,null,null,null,null,null,null,null,null,null,null,null,null,{"$f":"入力用!Q25","v":""},null,null,null,null,null,null,null,null,null,{"$f":"IF(入力用!D31=\"\",\"\",入力用!D31)","v":""},null,null,"回路"]
[null,{"$f":"IF(入力用!D15=\"\",\"\",入力用!D15)","v":""},null,null,null,null,null,null,"ＶＡ",null,null,{"$f":"IF(入力用!D17=\"\",\"\",入力用!D17)","v":""},null,null,null,null,null,null,"ＶＡ",null,null,{"$f":"IF(入力用!P22=2,入力用!Q11,IF(入力用!P22=3,入力用!Q12,IF(入力用!P22=4,入力用!L22,\"\")))","v":""},null,null,null,null,null,null,null,null,null,null,null,null,null,null,{"$f":"IF(入力用!D23=\"\",\"\",入力用!D23)","v":""},null,null,"台",null,{"$f":"IF(入力用!E24=\"\",\"\",入力用!E24)","v":""},null,null,null,null,null,"ＶＡ"]
[]
[null,null,null,null,null,null,null,null,null,null,null,null,null,null,null,null,null,null,null,null,null,null,null,null,null,null,null,null,null,null,null,null,null,null,null,null,null,null,null,null,null,null,null,null,null,null,null,null,null,null,null,null,null,null,null,null,null,null,null,null,null,null,null,{"$f":"入力用!Q27","v":""},null,null,null,null,null,null,null,null,null,{"$f":"IF(入力用!D33=\"\",\"\",入力用!D33)","v":""},null,null,"回路"]
[null,null,null,null,null,null,null,null,null,null,null,null,null,null,null,null,null,null,null,null,null,"(メーカー)",null,null,null,null,null,{"$f":"IF(入力用!F25=\"\",\"\",入力用!F25)","v":""},null,null,null,null,null,null,"(型式)",null,null,null,{"$f":"IF(入力用!F26=\"\",\"\",入力用!F26)","v":""}]
[]
[null,"ﾊﾟﾀｰﾝ\n区 分",null,null,null,null,"B",null,null,null,"契　約\n種　別",null,null,null,null,{"$f":"IF(入力用!P34=2,入力用!P5,IF(入力用!P34=3,入力用!P6,\"\"))","v":""},null,null,null,null,null,null,null,null,"供　給\n電　気\n方　式",null,null,null,null,{"$f":"IF(入力用!P35=2,入力用!Q5,IF(入力用!P35=3,入力用!Q6,IF(入力用!P35=4,入力用!Q7,IF(入力用!P35=5,入力用!Q8,\"\"))))","v":""},null,null,null,null,null,null,null,null,null,null,null,null,null,"契　約\n決　定\n方　法",null,null,null,null,{"$f":"IF(入力用!P36=2,入力用!R5,IF(入力用!P36=3,入力用!R6,IF(入力用!P36=4,入力用!R7,IF(入力用!P36=5,入力用!R8,IF(入力用!P36=6,入力用!R9,\"\")))))","v":""},null,null,null,null,null,null,null,null,null,null,null,"主開閉器・\n電流制限器\nの定格電流",null,null,null,null,null,{"$f":"IF(入力用!D37=\"\",\"\",入力用!D37)","v":""},null,null,null,null,null,"室番号",null,null,null,null,{"$f":"IF(入力用!D38=\"\",\"\",入力用!D38)","v":""}]
[]
[]
[]
[]
[]
[]
[]
[null,"電　　　　灯",null,null,null,null,null,null,null,null,null,"小　　型　　機　　器　※HPはヒートポンプ",null,null,null,null,null,null,null,null,null,null,null,null,null,null,null,null,null,null,null,null,null,null,null,null,null,null,null,null,null,null,null,null,null,null,null,null,null,null,"回路数",null,null,null,null,{"$f":"IF(入力用!D53=\"\",\"\",入力用!D53)","v":""},null,null,null,null,null,null,null,"適用業種別回路数内訳",null,null,null,null,null,null,null,null,null,null,null,null,null,null,null,null,"契約口\n数合計",null,null,null,null,{"$f":"IF(入力用!D39=\"\",\"\",入力用!D39)","v":""},null,null,null,null,null,"口"]
[]
[null,{"$f":"IF(入力用!D40=\"\",\"\",入力用!D40)","v":""},null,null,null,null,null,null,"灯",null,null,{"$f":"IF(入力用!D42=\"\",\"\",入力用!D42)","v":""},null,null,null,null,null,null,"個",null,null,"うちＩＨクッキングヒーター",null,null,null,null,null,null,null,null,null,null,null,null,null,null,{"$f":"IF(入力用!D44=\"\",\"\",入力用!D44)","v":""},null,null,"台",null,{"$f":"IF(入力用!E45=\"\",\"\",入力用!E45)","v":""},null,null,null,null,null,"ＶＡ",null,null,null,null,null,null,null,null,null,null,null,null,null,null,null,{"$f":"入力用!Q44","v":""},null,null,null,null,null,null,null,null,null,{"$f":"IF(入力用!D55=\"\",\"\",入力用!D55)","v":""},null,null,"回路"]
[]
[null,null,null,null,null,null,null,null,null,null,null,null,null,null,null,null,null,null,null,null,null,"(メーカー)",null,null,null,null,null,{"$f":"IF(入力用!F46=\"\",\"\",入力用!F46)","v":""},null,null,null,null,null,null,"(型式)",null,null,null,{"$f":"IF(入力用!F47=\"\",\"\",入力用!F47)","v":""},null,null,null,null,null,null,null,null,null,null,null,null,null,null,null,null,null,null,null,null,null,null,null,null,null,null,null,null,null,null,null,null,null,null,null,null,null,null,null,null,null,"合計\n容量",null,null,null,null,null,null,null,null,null,null,"ＶＡ",null,null,{"$f":"IF(入力用!P34=2,\"契約電流\",IF(入力用!P34=3,\"契約容量\",\"契約電流\n契約容量\"))","v":"契約電流\n契約容量"},null,null,null,null,null,null,null,null,null,null,null,null,{"$f":"IF(入力用!P34=2,\"Ａ\",IF(入力用!P34=3,\"kVA\",\"Ａ\nkVA\"))","v":"Ａ\nkVA"}]
[null,null,null,null,null,null,null,null,null,null,null,null,null,null,null,null,null,null,null,null,null,null,null,null,null,null,null,null,null,null,null,null,null,null,null,null,null,null,null,null,null,null,null,null,null,null,null,null,null,null,null,null,null,null,null,null,null,null,null,null,null,null,null,{"$f":"入力用!Q46","v":""},null,null,null,null,null,null,null,null,null,{"$f":"IF(入力用!D57=\"\",\"\",入力用!D57)","v":""},null,null,"回路"]
[null,{"$f":"IF(入力用!D41=\"\",\"\",入力用!D41)","v":""},null,null,null,null,null,null,"ＶＡ",null,null,{"$f":"IF(入力用!D43=\"\",\"\",入力用!D43)","v":""},null,null,null,null,null,null,"ＶＡ",null,null,{"$f":"IF(入力用!P48=2,入力用!Q11,IF(入力用!P48=3,入力用!Q12,IF(入力用!P48=4,入力用!L48,\"\")))","v":""},null,null,null,null,null,null,null,null,null,null,null,null,null,null,{"$f":"IF(入力用!D49=\"\",\"\",入力用!D49)","v":""},null,null,"台",null,{"$f":"IF(入力用!E50=\"\",\"\",入力用!E50)","v":""},null,null,null,null,null,"ＶＡ"]
[]
[null,null,null,null,null,null,null,null,null,null,null,null,null,null,null,null,null,null,null,null,null,null,null,null,null,null,null,null,null,null,null,null,null,null,null,null,null,null,null,null,null,null,null,null,null,null,null,null,null,null,null,null,null,null,null,null,null,null,null,null,null,null,null,{"$f":"入力用!Q48","v":""},null,null,null,null,null,null,null,null,null,{"$f":"IF(入力用!D59=\"\",\"\",入力用!D59)","v":""},null,null,"回路"]
[null,null,null,null,null,null,null,null,null,null,null,null,null,null,null,null,null,null,null,null,null,"(メーカー)",null,null,null,null,null,{"$f":"IF(入力用!F51=\"\",\"\",入力用!F51)","v":""},null,null,null,null,null,null,"(型式)",null,null,null,{"$f":"IF(入力用!F52=\"\",\"\",入力用!F52)","v":""}]
[]
[null,"ﾊﾟﾀｰﾝ\n区 分",null,null,null,null,"C",null,null,null,"契　約\n種　別",null,null,null,null,{"$f":"IF(入力用!P60=2,入力用!P5,IF(入力用!P60=3,入力用!P6,\"\"))","v":""},null,null,null,null,null,null,null,null,"供　給\n電　気\n方　式",null,null,null,null,{"$f":"IF(入力用!P61=2,入力用!Q5,IF(入力用!P61=3,入力用!Q6,IF(入力用!P61=4,入力用!Q7,IF(入力用!P61=5,入力用!Q8,\"\"))))","v":""},null,null,null,null,null,null,null,null,null,null,null,null,null,"契　約\n決　定\n方　法",null,null,null,null,{"$f":"IF(入力用!P62=2,入力用!R5,IF(入力用!P62=3,入力用!R6,IF(入力用!P62=4,入力用!R7,IF(入力用!P62=5,入力用!R8,IF(入力用!P62=6,入力用!R9,\"\")))))","v":""},null,null,null,null,null,null,null,null,null,null,null,"主開閉器・\n電流制限器\nの定格電流",null,null,null,null,null,{"$f":"IF(入力用!D63=\"\",\"\",入力用!D63)","v":""},null,null,null,null,null,"室番号",null,null,null,null,{"$f":"IF(入力用!D64=\"\",\"\",入力用!D64)","v":""}]
[]
[]
[]
[]
[]
[]
[]
[null,"電　　　　灯",null,null,null,null,null,null,null,null,null,"小　　型　　機　　器　※HPはヒートポンプ",null,null,null,null,null,null,null,null,null,null,null,null,null,null,null,null,null,null,null,null,null,null,null,null,null,null,null,null,null,null,null,null,null,null,null,null,null,null,"回路数",null,null,null,null,{"$f":"IF(入力用!D79=\"\",\"\",入力用!D79)","v":""},null,null,null,null,null,null,null,"適用業種別回路数内訳",null,null,null,null,null,null,null,null,null,null,null,null,null,null,null,null,"契約口\n数合計",null,null,null,null,{"$f":"IF(入力用!D65=\"\",\"\",入力用!D65)","v":""},null,null,null,null,null,"口"]
[]
[null,{"$f":"IF(入力用!D66=\"\",\"\",入力用!D66)","v":""},null,null,null,null,null,null,"灯",null,null,{"$f":"IF(入力用!D68=\"\",\"\",入力用!D68)","v":""},null,null,null,null,null,null,"個",null,null,"うちＩＨクッキングヒーター",null,null,null,null,null,null,null,null,null,null,null,null,null,null,{"$f":"IF(入力用!D70=\"\",\"\",入力用!D70)","v":""},null,null,"台",null,{"$f":"IF(入力用!E71=\"\",\"\",入力用!E71)","v":""},null,null,null,null,null,"ＶＡ",null,null,null,null,null,null,null,null,null,null,null,null,null,null,null,{"$f":"入力用!Q65","v":""},null,null,null,null,null,null,null,null,null,{"$f":"IF(入力用!D81=\"\",\"\",入力用!D81)","v":""},null,null,"回路"]
[]
[null,null,null,null,null,null,null,null,null,null,null,null,null,null,null,null,null,null,null,null,null,"(メーカー)",null,null,null,null,null,{"$f":"IF(入力用!F72=\"\",\"\",入力用!F72)","v":""},null,null,null,null,null,null,"(型式)",null,null,null,{"$f":"IF(入力用!F73=\"\",\"\",入力用!F73)","v":""},null,null,null,null,null,null,null,null,null,null,null,null,null,null,null,null,null,null,null,null,null,null,null,null,null,null,null,null,null,null,null,null,null,null,null,null,null,null,null,null,null,"合計\n容量",null,null,null,null,null,null,null,null,null,null,"ＶＡ",null,null,{"$f":"IF(入力用!P60=2,\"契約電流\",IF(入力用!P60=3,\"契約容量\",\"契約電流\n契約容量\"))","v":"契約電流\n契約容量"},null,null,null,null,null,null,null,null,null,null,null,null,{"$f":"IF(入力用!P60=2,\"Ａ\",IF(入力用!P60=3,\"kVA\",\"Ａ\nkVA\"))","v":"Ａ\nkVA"}]
[null,null,null,null,null,null,null,null,null,null,null,null,null,null,null,null,null,null,null,null,null,null,null,null,null,null,null,null,null,null,null,null,null,null,null,null,null,null,null,null,null,null,null,null,null,null,null,null,null,null,null,null,null,null,null,null,null,null,null,null,null,null,null,{"$f":"入力用!Q67","v":""},null,null,null,null,null,null,null,null,null,{"$f":"IF(入力用!D83=\"\",\"\",入力用!D83)","v":""},null,null,"回路"]
[null,{"$f":"IF(入力用!D67=\"\",\"\",入力用!D67)","v":""},null,null,null,null,null,null,"ＶＡ",null,null,{"$f":"IF(入力用!D69=\"\",\"\",入力用!D69)","v":""},null,null,null,null,null,null,"ＶＡ",null,null,{"$f":"IF(入力用!P74=2,入力用!Q11,IF(入力用!P74=3,入力用!Q12,IF(入力用!P74=4,入力用!L74,\"\")))","v":""},null,null,null,null,null,null,null,null,null,null,null,null,null,null,{"$f":"IF(入力用!D75=\"\",\"\",入力用!D75)","v":""},null,null,"台",null,{"$f":"IF(入力用!E76=\"\",\"\",入力用!E76)","v":""},null,null,null,null,null,"ＶＡ"]
[]
[null,null,null,null,null,null,null,null,null,null,null,null,null,null,null,null,null,null,null,null,null,null,null,null,null,null,null,null,null,null,null,null,null,null,null,null,null,null,null,null,null,null,null,null,null,null,null,null,null,null,null,null,null,null,null,null,null,null,null,null,null,null,null,{"$f":"入力用!Q69","v":""},null,null,null,null,null,null,null,null,null,{"$f":"IF(入力用!D85=\"\",\"\",入力用!D85)","v":""},null,null,"回路"]
[null,null,null,null,null,null,null,null,null,null,null,null,null,null,null,null,null,null,null,null,null,"(メーカー)",null,null,null,null,null,{"$f":"IF(入力用!F77=\"\",\"\",入力用!F77)","v":""},null,null,null,null,null,null,"(型式)",null,null,null,{"$f":"IF(入力用!F78=\"\",\"\",入力用!F78)","v":""}]
[]
[null,"ﾊﾟﾀｰﾝ\n区 分",null,null,null,null,"D",null,null,null,"契　約\n種　別",null,null,null,null,{"$f":"IF(入力用!P86=2,入力用!P5,IF(入力用!P86=3,入力用!P6,\"\"))","v":""},null,null,null,null,null,null,null,null,"供　給\n電　気\n方　式",null,null,null,null,{"$f":"IF(入力用!P87=2,入力用!Q5,IF(入力用!P87=3,入力用!Q6,IF(入力用!P87=4,入力用!Q7,IF(入力用!P87=5,入力用!Q8,\"\"))))","v":""},null,null,null,null,null,null,null,null,null,null,null,null,null,"契　約\n決　定\n方　法",null,null,null,null,{"$f":"IF(入力用!P88=2,入力用!R5,IF(入力用!P88=3,入力用!R6,IF(入力用!P88=4,入力用!R7,IF(入力用!P88=5,入力用!R8,IF(入力用!P88=6,入力用!R9,\"\")))))","v":""},null,null,null,null,null,null,null,null,null,null,null,"主開閉器・\n電流制限器\nの定格電流",null,null,null,null,null,{"$f":"IF(入力用!D89=\"\",\"\",入力用!D89)","v":""},null,null,null,null,null,"室番号",null,null,null,null,{"$f":"IF(入力用!D90=\"\",\"\",入力用!D90)","v":""}]
[]
[]
[]
[]
[]
[]
[]
[null,"電　　　　灯",null,null,null,null,null,null,null,null,null,"小　　型　　機　　器　※HPはヒートポンプ",null,null,null,null,null,null,null,null,null,null,null,null,null,null,null,null,null,null,null,null,null,null,null,null,null,null,null,null,null,null,null,null,null,null,null,null,null,null,"回路数",null,null,null,null,{"$f":"IF(入力用!D105=\"\",\"\",入力用!D105)","v":""},null,null,null,null,null,null,null,"適用業種別回路数内訳",null,null,null,null,null,null,null,null,null,null,null,null,null,null,null,null,"契約口\n数合計",null,null,null,null,{"$f":"IF(入力用!D91=\"\",\"\",入力用!D91)","v":""},null,null,null,null,null,"口"]
[]
[null,{"$f":"IF(入力用!D92=\"\",\"\",入力用!D92)","v":""},null,null,null,null,null,null,"灯",null,null,{"$f":"IF(入力用!D94=\"\",\"\",入力用!D94)","v":""},null,null,null,null,null,null,"個",null,null,"うちＩＨクッキングヒーター",null,null,null,null,null,null,null,null,null,null,null,null,null,null,{"$f":"IF(入力用!D96=\"\",\"\",入力用!D96)","v":""},null,null,"台",null,{"$f":"IF(入力用!E97=\"\",\"\",入力用!E97)","v":""},null,null,null,null,null,"ＶＡ",null,null,null,null,null,null,null,null,null,null,null,null,null,null,null,{"$f":"入力用!Q86","v":""},null,null,null,null,null,null,null,null,null,{"$f":"IF(入力用!D107=\"\",\"\",入力用!D107)","v":""},null,null,"回路"]
[]
[null,null,null,null,null,null,null,null,null,null,null,null,null,null,null,null,null,null,null,null,null,"(メーカー)",null,null,null,null,null,{"$f":"IF(入力用!F98=\"\",\"\",入力用!F98)","v":""},null,null,null,null,null,null,"(型式)",null,null,null,{"$f":"IF(入力用!F99=\"\",\"\",入力用!F99)","v":""},null,null,null,null,null,null,null,null,null,null,null,null,null,null,null,null,null,null,null,null,null,null,null,null,null,null,null,null,null,null,null,null,null,null,null,null,null,null,null,null,null,"合計\n容量",null,null,null,null,null,null,null,null,null,null,"ＶＡ",null,null,{"$f":"IF(入力用!P86=2,\"契約電流\",IF(入力用!P86=3,\"契約容量\",\"契約電流\n契約容量\"))","v":"契約電流\n契約容量"},null,null,null,null,null,null,null,null,null,null,null,null,{"$f":"IF(入力用!P86=2,\"Ａ\",IF(入力用!P86=3,\"kVA\",\"Ａ\nkVA\"))","v":"Ａ\nkVA"}]
[null,null,null,null,null,null,null,null,null,null,null,null,null,null,null,null,null,null,null,null,null,null,null,null,null,null,null,null,null,null,null,null,null,null,null,null,null,null,null,null,null,null,null,null,null,null,null,null,null,null,null,null,null,null,null,null,null,null,null,null,null,null,null,{"$f":"入力用!Q88","v":""},null,null,null,null,null,null,null,null,null,{"$f":"IF(入力用!D109=\"\",\"\",入力用!D109)","v":""},null,null,"回路"]
[null,{"$f":"IF(入力用!D93=\"\",\"\",入力用!D93)","v":""},null,null,null,null,null,null,"ＶＡ",null,null,{"$f":"IF(入力用!D95=\"\",\"\",入力用!D95)","v":""},null,null,null,null,null,null,"ＶＡ",null,null,{"$f":"IF(入力用!P100=2,入力用!Q11,IF(入力用!P100=3,入力用!Q12,IF(入力用!P100=4,入力用!L100,\"\")))","v":""},null,null,null,null,null,null,null,null,null,null,null,null,null,null,{"$f":"IF(入力用!D101=\"\",\"\",入力用!D101)","v":""},null,null,"台",null,{"$f":"IF(入力用!E102=\"\",\"\",入力用!E102)","v":""},null,null,null,null,null,"ＶＡ"]
[]
[null,null,null,null,null,null,null,null,null,null,null,null,null,null,null,null,null,null,null,null,null,null,null,null,null,null,null,null,null,null,null,null,null,null,null,null,null,null,null,null,null,null,null,null,null,null,null,null,null,null,null,null,null,null,null,null,null,null,null,null,null,null,null,{"$f":"入力用!Q90","v":""},null,null,null,null,null,null,null,null,null,{"$f":"IF(入力用!D111=\"\",\"\",入力用!D111)","v":""},null,null,"回路"]
[null,null,null,null,null,null,null,null,null,null,null,null,null,null,null,null,null,null,null,null,null,"(メーカー)",null,null,null,null,null,{"$f":"IF(入力用!F103=\"\",\"\",入力用!F103)","v":""},null,null,null,null,null,null,"(型式)",null,null,null,{"$f":"IF(入力用!F104=\"\",\"\",入力用!F104)","v":""}]
[]
[null,"ﾊﾟﾀｰﾝ\n区 分",null,null,null,null,"E",null,null,null,"契　約\n種　別",null,null,null,null,{"$f":"IF(入力用!P112=2,入力用!P5,IF(入力用!P112=3,入力用!P6,\"\"))","v":""},null,null,null,null,null,null,null,null,"供　給\n電　気\n方　式",null,null,null,null,{"$f":"IF(入力用!P113=2,入力用!Q5,IF(入力用!P113=3,入力用!Q6,IF(入力用!P113=4,入力用!Q7,IF(入力用!P113=5,入力用!Q8,\"\"))))","v":""},null,null,null,null,null,null,null,null,null,null,null,null,null,"契　約\n決　定\n方　法",null,null,null,null,{"$f":"IF(入力用!P114=2,入力用!R5,IF(入力用!P114=3,入力用!R6,IF(入力用!P114=4,入力用!R7,IF(入力用!P114=5,入力用!R8,IF(入力用!P114=6,入力用!R9,\"\")))))","v":""},null,null,null,null,null,null,null,null,null,null,null,"主開閉器・\n電流制限器\nの定格電流",null,null,null,null,null,{"$f":"IF(入力用!D115=\"\",\"\",入力用!D115)","v":""},null,null,null,null,null,"室番号",null,null,null,null,{"$f":"IF(入力用!D116=\"\",\"\",入力用!D116)","v":""}]
[]
[]
[]
[]
[]
[]
[]
[null,"電　　　　灯",null,null,null,null,null,null,null,null,null,"小　　型　　機　　器　※HPはヒートポンプ",null,null,null,null,null,null,null,null,null,null,null,null,null,null,null,null,null,null,null,null,null,null,null,null,null,null,null,null,null,null,null,null,null,null,null,null,null,null,"回路数",null,null,null,null,{"$f":"IF(入力用!D131=\"\",\"\",入力用!D131)","v":""},null,null,null,null,null,null,null,"適用業種別回路数内訳",null,null,null,null,null,null,null,null,null,null,null,null,null,null,null,null,"契約口\n数合計",null,null,null,null,{"$f":"IF(入力用!D117=\"\",\"\",入力用!D117)","v":""},null,null,null,null,null,"口"]
[]
[null,{"$f":"IF(入力用!D118=\"\",\"\",入力用!D118)","v":""},null,null,null,null,null,null,"灯",null,null,{"$f":"IF(入力用!D120=\"\",\"\",入力用!D120)","v":""},null,null,null,null,null,null,"個",null,null,"うちＩＨクッキングヒーター",null,null,null,null,null,null,null,null,null,null,null,null,null,null,{"$f":"IF(入力用!D122=\"\",\"\",入力用!D122)","v":""},null,null,"台",null,{"$f":"IF(入力用!E123=\"\",\"\",入力用!E123)","v":""},null,null,null,null,null,"ＶＡ",null,null,null,null,null,null,null,null,null,null,null,null,null,null,null,{"$f":"入力用!Q107","v":""},null,null,null,null,null,null,null,null,null,{"$f":"IF(入力用!D133=\"\",\"\",入力用!D133)","v":""},null,null,"回路"]
[]
[null,null,null,null,null,null,null,null,null,null,null,null,null,null,null,null,null,null,null,null,null,"(メーカー)",null,null,null,null,null,{"$f":"IF(入力用!F124=\"\",\"\",入力用!F124)","v":""},null,null,null,null,null,null,"(型式)",null,null,null,{"$f":"IF(入力用!F125=\"\",\"\",入力用!F125)","v":""},null,null,null,null,null,null,null,null,null,null,null,null,null,null,null,null,null,null,null,null,null,null,null,null,null,null,null,null,null,null,null,null,null,null,null,null,null,null,null,null,null,"合計\n容量",null,null,null,null,null,null,null,null,null,null,"ＶＡ",null,null,{"$f":"IF(入力用!P112=2,\"契約電流\",IF(入力用!P112=3,\"契約容量\",\"契約電流\n契約容量\"))","v":"契約電流\n契約容量"},null,null,null,null,null,null,null,null,null,null,null,null,{"$f":"IF(入力用!P112=2,\"Ａ\",IF(入力用!P112=3,\"kVA\",\"Ａ\nkVA\"))","v":"Ａ\nkVA"}]
[null,null,null,null,null,null,null,null,null,null,null,null,null,null,null,null,null,null,null,null,null,null,null,null,null,null,null,null,null,null,null,null,null,null,null,null,null,null,null,null,null,null,null,null,null,null,null,null,null,null,null,null,null,null,null,null,null,null,null,null,null,null,null,{"$f":"入力用!Q109","v":""},null,null,null,null,null,null,null,null,null,{"$f":"IF(入力用!D135=\"\",\"\",入力用!D135)","v":""},null,null,"回路"]
[null,{"$f":"IF(入力用!D119=\"\",\"\",入力用!D119)","v":""},null,null,null,null,null,null,"ＶＡ",null,null,{"$f":"IF(入力用!D121=\"\",\"\",入力用!D121)","v":""},null,null,null,null,null,null,"ＶＡ",null,null,{"$f":"IF(入力用!P126=2,入力用!Q11,IF(入力用!P126=3,入力用!Q12,IF(入力用!P126=4,入力用!L126,\"\")))","v":""},null,null,null,null,null,null,null,null,null,null,null,null,null,null,{"$f":"IF(入力用!D127=\"\",\"\",入力用!D127)","v":""},null,null,"台",null,{"$f":"IF(入力用!E128=\"\",\"\",入力用!E128)","v":""},null,null,null,null,null,"ＶＡ"]
[]
[null,null,null,null,null,null,null,null,null,null,null,null,null,null,null,null,null,null,null,null,null,null,null,null,null,null,null,null,null,null,null,null,null,null,null,null,null,null,null,null,null,null,null,null,null,null,null,null,null,null,null,null,null,null,null,null,null,null,null,null,null,null,null,{"$f":"入力用!Q111","v":""},null,null,null,null,null,null,null,null,null,{"$f":"IF(入力用!D137=\"\",\"\",入力用!D137)","v":""},null,null,"回路"]
[null,null,null,null,null,null,null,null,null,null,null,null,null,null,null,null,null,null,null,null,null,"(メーカー)",null,null,null,null,null,{"$f":"IF(入力用!F129=\"\",\"\",入力用!F129)","v":""},null,null,null,null,null,null,"(型式)",null,null,null,{"$f":"IF(入力用!F130=\"\",\"\",入力用!F130)","v":""}]
[]
[null,"ﾊﾟﾀｰﾝ\n区 分",null,null,null,null,"F",null,null,null,"契　約\n種　別",null,null,null,null,{"$f":"IF(入力用!P138=2,入力用!P5,IF(入力用!P138=3,入力用!P6,\"\"))","v":""},null,null,null,null,null,null,null,null,"供　給\n電　気\n方　式",null,null,null,null,{"$f":"IF(入力用!P139=2,入力用!Q5,IF(入力用!P139=3,入力用!Q6,IF(入力用!P139=4,入力用!Q7,IF(入力用!P139=5,入力用!Q8,\"\"))))","v":""},null,null,null,null,null,null,null,null,null,null,null,null,null,"契　約\n決　定\n方　法",null,null,null,null,{"$f":"IF(入力用!P140=2,入力用!R5,IF(入力用!P140=3,入力用!R6,IF(入力用!P140=4,入力用!R7,IF(入力用!P140=5,入力用!R8,IF(入力用!P140=6,入力用!R9,\"\")))))","v":""},null,null,null,null,null,null,null,null,null,null,null,"主開閉器・\n電流制限器\nの定格電流",null,null,null,null,null,{"$f":"IF(入力用!D141=\"\",\"\",入力用!D141)","v":""},null,null,null,null,null,"室番号",null,null,null,null,{"$f":"IF(入力用!D142=\"\",\"\",入力用!D142)","v":""}]
[]
[]
[]
[]
[]
[]
[]
[null,"電　　　　灯",null,null,null,null,null,null,null,null,null,"小　　型　　機　　器　※HPはヒートポンプ",null,null,null,null,null,null,null,null,null,null,null,null,null,null,null,null,null,null,null,null,null,null,null,null,null,null,null,null,null,null,null,null,null,null,null,null,null,null,"回路数",null,null,null,null,{"$f":"IF(入力用!D157=\"\",\"\",入力用!D157)","v":""},null,null,null,null,null,null,null,"適用業種別回路数内訳",null,null,null,null,null,null,null,null,null,null,null,null,null,null,null,null,"契約口\n数合計",null,null,null,null,{"$f":"IF(入力用!D143=\"\",\"\",入力用!D143)","v":""},null,null,null,null,null,"口"]
[]
[null,{"$f":"IF(入力用!D144=\"\",\"\",入力用!D144)","v":""},null,null,null,null,null,null,"灯",null,null,{"$f":"IF(入力用!D146=\"\",\"\",入力用!D146)","v":""},null,null,null,null,null,null,"個",null,null,"うちＩＨクッキングヒーター",null,null,null,null,null,null,null,null,null,null,null,null,null,null,{"$f":"IF(入力用!D148=\"\",\"\",入力用!D148)","v":""},null,null,"台",null,{"$f":"IF(入力用!E149=\"\",\"\",入力用!E149)","v":""},null,null,null,null,null,"ＶＡ",null,null,null,null,null,null,null,null,null,null,null,null,null,null,null,{"$f":"入力用!Q128","v":""},null,null,null,null,null,null,null,null,null,{"$f":"IF(入力用!D159=\"\",\"\",入力用!D159)","v":""},null,null,"回路"]
[]
[null,null,null,null,null,null,null,null,null,null,null,null,null,null,null,null,null,null,null,null,null,"(メーカー)",null,null,null,null,null,{"$f":"IF(入力用!F150=\"\",\"\",入力用!F150)","v":""},null,null,null,null,null,null,"(型式)",null,null,null,{"$f":"IF(入力用!F151=\"\",\"\",入力用!F151)","v":""},null,null,null,null,null,null,null,null,null,null,null,null,null,null,null,null,null,null,null,null,null,null,null,null,null,null,null,null,null,null,null,null,null,null,null,null,null,null,null,null,null,"合計\n容量",null,null,null,null,null,null,null,null,null,null,"ＶＡ",null,null,{"$f":"IF(入力用!P138=2,\"契約電流\",IF(入力用!P138=3,\"契約容量\",\"契約電流\n契約容量\"))","v":"契約電流\n契約容量"},null,null,null,null,null,null,null,null,null,null,null,null,{"$f":"IF(入力用!P138=2,\"Ａ\",IF(入力用!P138=3,\"kVA\",\"Ａ\nkVA\"))","v":"Ａ\nkVA"}]
[null,null,null,null,null,null,null,null,null,null,null,null,null,null,null,null,null,null,null,null,null,null,null,null,null,null,null,null,null,null,null,null,null,null,null,null,null,null,null,null,null,null,null,null,null,null,null,null,null,null,null,null,null,null,null,null,null,null,null,null,null,null,null,{"$f":"入力用!Q130","v":""},null,null,null,null,null,null,null,null,null,{"$f":"IF(入力用!D161=\"\",\"\",入力用!D161)","v":""},null,null,"回路"]
[null,{"$f":"IF(入力用!D145=\"\",\"\",入力用!D145)","v":""},null,null,null,null,null,null,"ＶＡ",null,null,{"$f":"IF(入力用!D147=\"\",\"\",入力用!D147)","v":""},null,null,null,null,null,null,"ＶＡ",null,null,{"$f":"IF(入力用!P152=2,入力用!Q11,IF(入力用!P152=3,入力用!Q12,IF(入力用!P152=4,入力用!L152,\"\")))","v":""},null,null,null,null,null,null,null,null,null,null,null,null,null,null,{"$f":"IF(入力用!D153=\"\",\"\",入力用!D153)","v":""},null,null,"台",null,{"$f":"IF(入力用!E154=\"\",\"\",入力用!E154)","v":""},null,null,null,null,null,"ＶＡ"]
[]
[null,null,null,null,null,null,null,null,null,null,null,null,null,null,null,null,null,null,null,null,null,null,null,null,null,null,null,null,null,null,null,null,null,null,null,null,null,null,null,null,null,null,null,null,null,null,null,null,null,null,null,null,null,null,null,null,null,null,null,null,null,null,null,{"$f":"入力用!Q132","v":""},null,null,null,null,null,null,null,null,null,{"$f":"IF(入力用!D163=\"\",\"\",入力用!D163)","v":""},null,null,"回路"]
[null,null,null,null,null,null,null,null,null,null,null,null,null,null,null,null,null,null,null,null,null,"(メーカー)",null,null,null,null,null,{"$f":"IF(入力用!F155=\"\",\"\",入力用!F155)","v":""},null,null,null,null,null,null,"(型式)",null,null,null,{"$f":"IF(入力用!F156=\"\",\"\",入力用!F156)","v":""}]
[]
[]
[null,"　※　本申込書は集合住宅の新設の場合に使用することができます。",null,null,null,null,null,null,null,null,null,null,null,null,null,null,null,null,null,null,null,null,null,null,null,null,null,null,null,null,null,null,null,null,null,null,null,null,null,null,null,null,null,null,null,null,null,null,null,null,null,null,null,null,null,null,null,null,null,null,null,null,null,null,null,null,null,null,null,null,null,null,null,null,null,null,null,null,null,null,null,null,null,null,null,null,null,null,null,null,null,null,null,null,null,null,null,null,null,null,null,"受付"]
[]
[null,"　※　太枠内をご記入願います。"]
[]
[null,"　※　集合住宅共用部分用電気使用申込書をあわせて提出願います。"]
[]
[null,"　※　ご提供いただいた個人情報は，電気事業の範囲内で利用いたします。"]
[]
[]
[null,"＜連絡事項＞"]
[]
[]
[]
[]
[]
[]
[]
[]
[]
[]
[]
[]
[]
[]
[]
[]
["北　海　道　電　力　ネ　ッ　ト　ワ　ー　ク　株　式　会　社"]

{"sheet":"２枚目","index":2,"n_rows":166,"n_cols":110,"rows_kept":166,"cut":false,"hidden":false,"merged":[[70,1,71,10],[70,11,71,49],[62,24,69,28],[62,15,69,23],[62,29,69,42],[62,48,69,59],[57,1,61,7],[74,27,75,33],[74,34,75,37],[74,38,75,49],[72,1,75,7],[72,8,75,10],[72,11,75,17],[72,18,75,20],[74,21,75,26],[13,85,15,89],[16,6,23,33],[21,56,23,60],[21,48,23,52],[21,39,23,44],[22,45,23,47],[22,53,23,55],[22,61,23,63],[16,69,21,74],[16,75,21,110],[22,69,23,74],[22,100,23,102],[22,103,23,103],[22,104,23,108],[22,109,23,110],[13,90,15,110],[22,88,23,99],[22,75,23,87],[89,1,90,10],[89,11,90,49],[76,1,80,7],[76,8,80,10],[76,11,80,17],[76,18,80,20],[79,21,80,26],[81,29,88,42],[81,48,88,59],[81,43,88,47],[76,47,78,49],[79,27,80,33],[79,34,80,37],[79,38,80,49],[100,77,107,110],[81,77,88,110],[100,66,106,71],[107,66,107,71],[81,66,87,71],[88,66,88,71],[43,72,50,76],[43,77,50,110],[62,72,69,76],[62,77,69,110],[51,91,54,93],[55,80,61,84],[55,85,61,90],[55,91,61,93],[56,73,58,75],[56,76,58,79],[56,63,58,72],[59,76,61,79],[72,73,74,75],[72,76,74,79],[59,73,61,75],[53,76,55,79],[55,100,61,106],[74,100,80,106],[100,29,107,42],[53,39,54,40],[57,39,59,40],[57,41,59,46],[57,47,59,49],[53,47,54,49],[53,63,55,72],[55,38,56,49],[100,60,107,65],[100,72,107,76],[100,43,107,47],[62,43,69,47],[53,41,54,46],[57,36,59,38],[55,34,56,37],[57,21,59,35],[60,21,61,26],[60,27,61,33],[81,60,88,65],[81,72,88,76],[76,21,78,35],[76,36,78,38],[76,39,78,40],[76,41,78,46],[55,107,61,110],[51,1,52,10],[53,18,56,20],[53,21,54,35],[51,11,52,49],[53,36,54,38],[55,27,56,33],[55,94,61,99],[62,6,69,9],[53,1,56,7],[53,8,56,10],[53,11,56,17],[62,1,69,5],[62,10,69,14],[55,21,56,26],[57,8,61,10],[57,11,61,17],[57,18,61,20],[53,73,55,75],[60,34,61,37],[60,38,61,49],[59,63,61,72],[6,0,9,110],[13,64,15,68],[43,1,50,5],[16,64,23,68],[24,60,31,65],[24,72,31,76],[24,77,31,110],[16,1,23,5],[16,34,23,38],[24,1,31,5],[24,6,31,9],[24,10,31,14],[38,1,42,7],[38,8,42,10],[38,11,42,17],[24,15,31,23],[34,18,37,20],[34,21,35,35],[24,29,31,42],[43,24,50,28],[43,15,50,23],[43,6,50,9],[43,29,50,42],[13,69,15,84],[165,0,166,110],[81,24,88,28],[148,1,150,16],[81,1,88,5],[81,6,88,9],[81,10,88,14],[100,24,107,28],[119,43,126,47],[119,6,126,9],[119,10,126,14],[100,48,107,59],[139,103,146,110],[145,1,146,97],[143,1,144,97],[141,1,142,97],[139,1,140,97],[139,101,146,102],[100,10,107,14],[119,15,126,23],[119,29,126,42],[100,1,107,5],[81,15,88,23],[100,6,107,9],[100,15,107,23],[24,48,31,59],[24,66,30,71],[31,66,31,71],[24,43,31,47],[167,0,168,110],[69,66,69,71],[119,48,126,59],[119,66,125,71],[126,66,126,71],[24,24,31,28],[43,66,49,71],[51,50,61,54],[51,55,61,62],[43,60,50,65],[50,66,50,71],[62,66,68,71],[62,60,69,65],[34,11,37,17],[34,36,35,38],[36,21,37,26],[36,27,37,33],[43,48,50,59],[43,43,50,47],[34,39,35,40],[34,41,35,46],[34,47,35,49],[43,10,50,14],[36,38,37,49],[32,1,33,10],[32,11,33,49],[32,50,42,54],[32,55,42,62],[34,1,37,7],[36,34,37,37],[38,18,42,20],[38,21,40,35],[34,8,37,10],[38,36,40,38],[38,39,40,40],[41,21,42,26],[41,27,42,33],[41,34,42,37],[41,38,42,49],[38,41,40,46],[38,47,40,49],[32,85,35,90],[32,91,35,93],[34,73,36,75],[34,76,36,79],[36,80,42,84],[36,85,42,90],[36,91,42,93],[32,63,33,79],[32,80,35,84],[34,63,36,72],[70,85,73,90],[70,91,73,93],[72,21,73,35],[72,36,73,38],[72,39,73,40],[72,41,73,46],[72,47,73,49],[36,107,42,110],[37,63,39,72],[37,73,39,75],[37,76,39,79],[40,63,42,72],[40,73,42,75],[40,76,42,79],[36,94,42,99],[36,100,42,106],[51,63,52,79],[51,80,54,84],[51,85,54,90],[70,50,80,54],[70,55,80,62],[70,63,71,79],[70,80,73,84],[72,63,74,72],[74,107,80,110],[75,63,77,72],[75,73,77,75],[75,76,77,79],[78,63,80,72],[78,73,80,75],[78,76,80,79],[74,85,80,90],[74,91,80,93],[74,94,80,99],[74,80,80,84],[89,85,92,90],[89,91,92,93],[91,1,94,7],[91,8,94,10],[91,11,94,17],[91,18,94,20],[91,21,92,35],[91,36,92,38],[91,39,92,40],[91,41,92,46],[91,47,92,49],[91,63,93,72],[91,73,93,75],[91,76,93,79],[89,50,99,54],[89,55,99,62],[89,63,90,79],[95,47,97,49],[97,76,99,79],[95,1,99,7],[95,8,99,10],[95,11,99,17],[95,18,99,20],[89,80,92,84],[93,107,99,110],[94,63,96,72],[94,73,96,75],[94,76,96,79],[93,85,99,90],[93,91,99,93],[98,34,99,37],[98,38,99,49],[95,21,97,35],[95,36,97,38],[95,39,97,40],[95,41,97,46],[93,94,99,99],[93,100,99,106],[97,63,99,72],[97,73,99,75],[93,21,94,26],[93,27,94,33],[93,34,94,37],[93,38,94,49],[98,21,99,26],[98,27,99,33],[93,80,99,84],[116,63,118,72],[108,63,109,79],[108,80,111,84],[108,85,111,90],[108,91,111,93],[110,73,112,75],[110,76,112,79],[112,80,118,84],[112,85,118,90],[112,91,118,93],[127,91,130,93],[112,107,118,110],[113,63,115,72],[113,73,115,75],[113,76,115,79],[112,21,113,26],[110,39,111,40],[110,41,111,46],[110,47,111,49],[110,63,112,72],[112,94,118,99],[112,27,113,33],[112,34,113,37],[112,38,113,49],[114,39,116,40],[112,100,118,106],[116,73,118,75],[116,76,118,79],[114,21,116,35],[114,36,116,38],[108,50,118,54],[108,55,118,62],[110,21,111,35],[110,36,111,38],[131,27,132,33],[127,63,128,79],[131,94,137,99],[114,1,118,7],[114,8,118,10],[114,11,118,17],[114,18,118,20],[117,21,118,26],[117,27,118,33],[117,34,118,37],[117,38,118,49],[114,47,116,49],[114,41,116,46],[119,1,126,5],[119,77,126,110],[119,60,126,65],[119,72,126,76],[131,107,137,110],[132,63,134,72],[132,73,134,75],[132,76,134,79],[131,21,132,26],[127,80,130,84],[127,85,130,90],[129,63,131,72],[10,1,11,25],[12,1,13,38],[136,21,137,26],[136,27,137,33],[136,34,137,37],[136,38,137,49],[133,47,135,49],[133,41,135,46],[129,39,130,40],[129,41,130,46],[133,1,137,7],[133,8,137,10],[133,11,137,17],[133,18,137,20],[119,24,126,28],[127,1,128,10],[129,1,132,7],[129,8,132,10],[129,47,130,49],[127,11,128,49],[129,11,132,17],[129,18,132,20],[129,21,130,35],[1,93,4,109],[108,1,109,10],[108,11,109,49],[110,1,113,7],[110,8,113,10],[110,11,113,17],[110,18,113,20],[131,100,137,106],[135,73,137,75],[135,76,137,79],[133,21,135,35],[133,36,135,38],[129,36,130,38],[129,73,131,75],[129,76,131,79],[131,80,137,84],[131,85,137,90],[135,63,137,72],[131,91,137,93],[127,50,137,54],[127,55,137,62],[131,34,132,37],[131,38,132,49],[133,39,135,40]]}
[]
[null,null,null,null,null,null,null,null,null,null,null,null,null,null,null,null,null,null,null,null,null,null,null,null,null,null,null,null,null,null,null,null,null,null,null,null,null,null,null,null,null,null,null,null,null,null,null,null,null,null,null,null,null,null,null,null,null,null,null,null,null,null,null,null,null,null,null,null,null,null,null,null,null,null,null,null,null,null,null,null,null,null,null,null,null,null,null,null,null,null,null,null,null,"離島等供給用"]
[]
[]
[]
[]
["（従量制電灯）集合住宅専有部分用電気使用申込書（お客さま控）"]
[]
[]
[]
[null,"北海道電力ネットワーク株式会社　御中"]
[]
[null,"電気の使用について貴社離島等供給約款[低圧用]を承認のうえ申し込みます。"]
[null,null,null,null,null,null,null,null,null,null,null,null,null,null,null,null,null,null,null,null,null,null,null,null,null,null,null,null,null,null,null,null,null,null,null,null,null,null,null,null,null,null,null,null,null,null,null,null,null,null,null,null,null,null,null,null,null,null,null,null,null,null,null,null,"受付扱所名",null,null,null,null,null,null,null,null,null,null,null,null,null,null,null,null,null,null,null,null,"受付№"]
[]
[]
[null,"建物名",null,null,null,null,{"$f":"IF(入力用!D3=\"\",\"\",入力用!D3)","v":""},null,null,null,null,null,null,null,null,null,null,null,null,null,null,null,null,null,null,null,null,null,null,null,null,null,null,null,"受　電\n希望日",null,null,null,null,null,null,null,null,null,null,null,null,null,null,null,null,null,null,null,null,null,null,null,null,null,null,null,null,null,"電気\n工事\n会社",null,null,null,null," 会社名",null,null,null,null,null,{"$f":"IF(入力用!D5=\"\",\"\",入力用!D5)","v":""}]
[]
[]
[]
[]
[null,null,null,null,null,null,null,null,null,null,null,null,null,null,null,null,null,null,null,null,null,null,null,null,null,null,null,null,null,null,null,null,null,null,null,null,null,null,null,{"$f":"IF(入力用!D4=\"\",\"\",入力用!D4)","v":""},null,null,null,null,null,null,null,null,{"$f":"IF(入力用!F4=\"\",\"\",入力用!F4)","v":""},null,null,null,null,null,null,null,{"$f":"IF(入力用!I4=\"\",\"\",入力用!I4)","v":""}]
[null,null,null,null,null,null,null,null,null,null,null,null,null,null,null,null,null,null,null,null,null,null,null,null,null,null,null,null,null,null,null,null,null,null,null,null,null,null,null,null,null,null,null,null,null,"年",null,null,null,null,null,null,null,"月",null,null,null,null,null,null,null,"日",null,null,null,null,null,null,null,"(担当者)",null,null,null,null,null,{"$f":"IF(入力用!D6=\"\",\"\",入力用!D6)","v":""},null,null,null,null,null,null,null,null,null,null,null,null,"工事会社№（",null,null,null,null,null,null,null,null,null,null,null,{"$f":"IF(入力用!D7=\"\",\"\",入力用!D7)","v":""},null,null,"-",{"$f":"IF(入力用!F7=\"\",\"\",入力用!F7)","v":""},null,null,null,null,")"]
[]
[null,"ﾊﾟﾀｰﾝ\n区 分",null,null,null,null,"A",null,null,null,"契　約\n種　別",null,null,null,null,{"$f":"IF(入力用!P8=2,入力用!P5,IF(入力用!P8=3,入力用!P6,\"\"))","v":""},null,null,null,null,null,null,null,null,"供　給\n電　気\n方　式",null,null,null,null,{"$f":"IF(入力用!P9=2,入力用!Q5,IF(入力用!P9=3,入力用!Q6,IF(入力用!P9=4,入力用!Q7,IF(入力用!P9=5,入力用!Q8,\"\"))))","v":""},null,null,null,null,null,null,null,null,null,null,null,null,null,"契　約\n決　定\n方　法",null,null,null,null,{"$f":"IF(入力用!P10=2,入力用!R5,IF(入力用!P10=3,入力用!R6,IF(入力用!P10=4,入力用!R7,IF(入力用!P10=5,入力用!R8,IF(入力用!P10=6,入力用!R9,\"\")))))","v":""},null,null,null,null,null,null,null,null,null,null,null,"主開閉器・\n電流制限器\nの定格電流",null,null,null,null,null,{"$f":"IF(入力用!D11=\"\",\"\",入力用!D11)","v":""},null,null,null,null,null,"室番号",null,null,null,null,{"$f":"IF(入力用!D12=\"\",\"\",入力用!D12)","v":""}]
[]
[]
[]
[]
[]
[]
[]
[null,"電　　　　灯",null,null,null,null,null,null,null,null,null,"小　　型　　機　　器　※HPはヒートポンプ",null,null,null,null,null,null,null,null,null,null,null,null,null,null,null,null,null,null,null,null,null,null,null,null,null,null,null,null,null,null,null,null,null,null,null,null,null,null,"回路数",null,null,null,null,{"$f":"IF(入力用!D27=\"\",\"\",入力用!D27)","v":""},null,null,null,null,null,null,null,"適用業種別回路数内訳",null,null,null,null,null,null,null,null,null,null,null,null,null,null,null,null,"契約口\n数合計",null,null,null,null,{"$f":"IF(入力用!D13=\"\",\"\",入力用!D13)","v":""},null,null,null,null,null,"口"]
[]
[null,{"$f":"IF(入力用!D14=\"\",\"\",入力用!D14)","v":""},null,null,null,null,null,null,"灯",null,null,{"$f":"IF(入力用!D16=\"\",\"\",入力用!D16)","v":""},null,null,null,null,null,null,"個",null,null,"うちＩＨクッキングヒーター",null,null,null,null,null,null,null,null,null,null,null,null,null,null,{"$f":"IF(入力用!D18=\"\",\"\",入力用!D18)","v":""},null,null,"台",null,{"$f":"IF(入力用!E19=\"\",\"\",入力用!E19)","v":""},null,null,null,null,null,"ＶＡ",null,null,null,null,null,null,null,null,null,null,null,null,null,null,null,{"$f":"入力用!Q23","v":""},null,null,null,null,null,null,null,null,null,{"$f":"IF(入力用!D29=\"\",\"\",入力用!D29)","v":""},null,null,"回路"]
[]
[null,null,null,null,null,null,null,null,null,null,null,null,null,null,null,null,null,null,null,null,null,"(メーカー)",null,null,null,null,null,{"$f":"IF(入力用!F20=\"\",\"\",入力用!F20)","v":""},null,null,null,null,null,null,"(型式)",null,null,null,{"$f":"IF(入力用!F21=\"\",\"\",入力用!F21)","v":""},null,null,null,null,null,null,null,null,null,null,null,null,null,null,null,null,null,null,null,null,null,null,null,null,null,null,null,null,null,null,null,null,null,null,null,null,null,null,null,null,null,"合計\n容量",null,null,null,null,null,null,null,null,null,null,"ＶＡ",null,null,{"$f":"IF(入力用!P8=2,\"契約電流\",IF(入力用!P8=3,\"契約容量\",\"契約電流\n契約容量\"))","v":"契約電流\n契約容量"},null,null,null,null,null,null,null,null,null,null,null,null,{"$f":"IF(入力用!P8=2,\"Ａ\",IF(入力用!P8=3,\"kVA\",\"Ａ\nkVA\"))","v":"Ａ\nkVA"}]
[null,null,null,null,null,null,null,null,null,null,null,null,null,null,null,null,null,null,null,null,null,null,null,null,null,null,null,null,null,null,null,null,null,null,null,null,null,null,null,null,null,null,null,null,null,null,null,null,null,null,null,null,null,null,null,null,null,null,null,null,null,null,null,{"$f":"入力用!Q25","v":""},null,null,null,null,null,null,null,null,null,{"$f":"IF(入力用!D31=\"\",\"\",入力用!D31)","v":""},null,null,"回路"]
[null,{"$f":"IF(入力用!D15=\"\",\"\",入力用!D15)","v":""},null,null,null,null,null,null,"ＶＡ",null,null,{"$f":"IF(入力用!D17=\"\",\"\",入力用!D17)","v":""},null,null,null,null,null,null,"ＶＡ",null,null,{"$f":"IF(入力用!P22=2,入力用!Q11,IF(入力用!P22=3,入力用!Q12,IF(入力用!P22=4,入力用!L22,\"\")))","v":""},null,null,null,null,null,null,null,null,null,null,null,null,null,null,{"$f":"IF(入力用!D23=\"\",\"\",入力用!D23)","v":""},null,null,"台",null,{"$f":"IF(入力用!E24=\"\",\"\",入力用!E24)","v":""},null,null,null,null,null,"ＶＡ"]
[]
[null,null,null,null,null,null,null,null,null,null,null,null,null,null,null,null,null,null,null,null,null,null,null,null,null,null,null,null,null,null,null,null,null,null,null,null,null,null,null,null,null,null,null,null,null,null,null,null,null,null,null,null,null,null,null,null,null,null,null,null,null,null,null,{"$f":"入力用!Q27","v":""},null,null,null,null,null,null,null,null,null,{"$f":"IF(入力用!D33=\"\",\"\",入力用!D33)","v":""},null,null,"回路"]
[null,null,null,null,null,null,null,null,null,null,null,null,null,null,null,null,null,null,null,null,null,"(メーカー)",null,null,null,null,null,{"$f":"IF(入力用!F25=\"\",\"\",入力用!F25)","v":""},null,null,null,null,null,null,"(型式)",null,null,null,{"$f":"IF(入力用!F26=\"\",\"\",入力用!F26)","v":""}]
[]
[null,"ﾊﾟﾀｰﾝ\n区 分",null,null,null,null,"B",null,null,null,"契　約\n種　別",null,null,null,null,{"$f":"IF(入力用!P34=2,入力用!P5,IF(入力用!P34=3,入力用!P6,\"\"))","v":""},null,null,null,null,null,null,null,null,"供　給\n電　気\n方　式",null,null,null,null,{"$f":"IF(入力用!P35=2,入力用!Q5,IF(入力用!P35=3,入力用!Q6,IF(入力用!P35=4,入力用!Q7,IF(入力用!P35=5,入力用!Q8,\"\"))))","v":""},null,null,null,null,null,null,null,null,null,null,null,null,null,"契　約\n決　定\n方　法",null,null,null,null,{"$f":"IF(入力用!P36=2,入力用!R5,IF(入力用!P36=3,入力用!R6,IF(入力用!P36=4,入力用!R7,IF(入力用!P36=5,入力用!R8,IF(入力用!P36=6,入力用!R9,\"\")))))","v":""},null,null,null,null,null,null,null,null,null,null,null,"主開閉器・\n電流制限器\nの定格電流",null,null,null,null,null,{"$f":"IF(入力用!D37=\"\",\"\",入力用!D37)","v":""},null,null,null,null,null,"室番号",null,null,null,null,{"$f":"IF(入力用!D38=\"\",\"\",入力用!D38)","v":""}]
[]
[]
[]
[]
[]
[]
[]
[null,"電　　　　灯",null,null,null,null,null,null,null,null,null,"小　　型　　機　　器　※HPはヒートポンプ",null,null,null,null,null,null,null,null,null,null,null,null,null,null,null,null,null,null,null,null,null,null,null,null,null,null,null,null,null,null,null,null,null,null,null,null,null,null,"回路数",null,null,null,null,{"$f":"IF(入力用!D53=\"\",\"\",入力用!D53)","v":""},null,null,null,null,null,null,null,"適用業種別回路数内訳",null,null,null,null,null,null,null,null,null,null,null,null,null,null,null,null,"契約口\n数合計",null,null,null,null,{"$f":"IF(入力用!D39=\"\",\"\",入力用!D39)","v":""},null,null,null,null,null,"口"]
[]
[null,{"$f":"IF(入力用!D40=\"\",\"\",入力用!D40)","v":""},null,null,null,null,null,null,"灯",null,null,{"$f":"IF(入力用!D42=\"\",\"\",入力用!D42)","v":""},null,null,null,null,null,null,"個",null,null,"うちＩＨクッキングヒーター",null,null,null,null,null,null,null,null,null,null,null,null,null,null,{"$f":"IF(入力用!D44=\"\",\"\",入力用!D44)","v":""},null,null,"台",null,{"$f":"IF(入力用!E45=\"\",\"\",入力用!E45)","v":""},null,null,null,null,null,"ＶＡ",null,null,null,null,null,null,null,null,null,null,null,null,null,null,null,{"$f":"入力用!Q44","v":""},null,null,null,null,null,null,null,null,null,{"$f":"IF(入力用!D55=\"\",\"\",入力用!D55)","v":""},null,null,"回路"]
[]
[null,null,null,null,null,null,null,null,null,null,null,null,null,null,null,null,null,null,null,null,null,"(メーカー)",null,null,null,null,null,{"$f":"IF(入力用!F46=\"\",\"\",入力用!F46)","v":""},null,null,null,null,null,null,"(型式)",null,null,null,{"$f":"IF(入力用!F47=\"\",\"\",入力用!F47)","v":""},null,null,null,null,null,null,null,null,null,null,null,null,null,null,null,null,null,null,null,null,null,null,null,null,null,null,null,null,null,null,null,null,null,null,null,null,null,null,null,null,null,"合計\n容量",null,null,null,null,null,null,null,null,null,null,"ＶＡ",null,null,{"$f":"IF(入力用!P34=2,\"契約電流\",IF(入力用!P34=3,\"契約容量\",\"契約電流\n契約容量\"))","v":"契約電流\n契約容量"},null,null,null,null,null,null,null,null,null,null,null,null,{"$f":"IF(入力用!P34=2,\"Ａ\",IF(入力用!P34=3,\"kVA\",\"Ａ\nkVA\"))","v":"Ａ\nkVA"}]
[null,null,null,null,null,null,null,null,null,null,null,null,null,null,null,null,null,null,null,null,null,null,null,null,null,null,null,null,null,null,null,null,null,null,null,null,null,null,null,null,null,null,null,null,null,null,null,null,null,null,null,null,null,null,null,null,null,null,null,null,null,null,null,{"$f":"入力用!Q46","v":""},null,null,null,null,null,null,null,null,null,{"$f":"IF(入力用!D57=\"\",\"\",入力用!D57)","v":""},null,null,"回路"]
[null,{"$f":"IF(入力用!D41=\"\",\"\",入力用!D41)","v":""},null,null,null,null,null,null,"ＶＡ",null,null,{"$f":"IF(入力用!D43=\"\",\"\",入力用!D43)","v":""},null,null,null,null,null,null,"ＶＡ",null,null,{"$f":"IF(入力用!P48=2,入力用!Q11,IF(入力用!P48=3,入力用!Q12,IF(入力用!P48=4,入力用!L48,\"\")))","v":""},null,null,null,null,null,null,null,null,null,null,null,null,null,null,{"$f":"IF(入力用!D49=\"\",\"\",入力用!D49)","v":""},null,null,"台",null,{"$f":"IF(入力用!E50=\"\",\"\",入力用!E50)","v":""},null,null,null,null,null,"ＶＡ"]
[]
[null,null,null,null,null,null,null,null,null,null,null,null,null,null,null,null,null,null,null,null,null,null,null,null,null,null,null,null,null,null,null,null,null,null,null,null,null,null,null,null,null,null,null,null,null,null,null,null,null,null,null,null,null,null,null,null,null,null,null,null,null,null,null,{"$f":"入力用!Q48","v":""},null,null,null,null,null,null,null,null,null,{"$f":"IF(入力用!D59=\"\",\"\",入力用!D59)","v":""},null,null,"回路"]
[null,null,null,null,null,null,null,null,null,null,null,null,null,null,null,null,null,null,null,null,null,"(メーカー)",null,null,null,null,null,{"$f":"IF(入力用!F51=\"\",\"\",入力用!F51)","v":""},null,null,null,null,null,null,"(型式)",null,null,null,{"$f":"IF(入力用!F52=\"\",\"\",入力用!F52)","v":""}]
[]
[null,"ﾊﾟﾀｰﾝ\n区 分",null,null,null,null,"C",null,null,null,"契　約\n種　別",null,null,null,null,{"$f":"IF(入力用!P60=2,入力用!P5,IF(入力用!P60=3,入力用!P6,\"\"))","v":""},null,null,null,null,null,null,null,null,"供　給\n電　気\n方　式",null,null,null,null,{"$f":"IF(入力用!P61=2,入力用!Q5,IF(入力用!P61=3,入力用!Q6,IF(入力用!P61=4,入力用!Q7,IF(入力用!P61=5,入力用!Q8,\"\"))))","v":""},null,null,null,null,null,null,null,null,null,null,null,null,null,"契　約\n決　定\n方　法",null,null,null,null,{"$f":"IF(入力用!P62=2,入力用!R5,IF(入力用!P62=3,入力用!R6,IF(入力用!P62=4,入力用!R7,IF(入力用!P62=5,入力用!R8,IF(入力用!P62=6,入力用!R9,\"\")))))","v":""},null,null,null,null,null,null,null,null,null,null,null,"主開閉器・\n電流制限器\nの定格電流",null,null,null,null,null,{"$f":"IF(入力用!D63=\"\",\"\",入力用!D63)","v":""},null,null,null,null,null,"室番号",null,null,null,null,{"$f":"IF(入力用!D64=\"\",\"\",入力用!D64)","v":""}]
[]
[]
[]
[]
[]
[]
[]
[null,"電　　　　灯",null,null,null,null,null,null,null,null,null,"小　　型　　機　　器　※HPはヒートポンプ",null,null,null,null,null,null,null,null,null,null,null,null,null,null,null,null,null,null,null,null,null,null,null,null,null,null,null,null,null,null,null,null,null,null,null,null,null,null,"回路数",null,null,null,null,{"$f":"IF(入力用!D79=\"\",\"\",入力用!D79)","v":""},null,null,null,null,null,null,null,"適用業種別回路数内訳",null,null,null,null,null,null,null,null,null,null,null,null,null,null,null,null,"契約口\n数合計",null,null,null,null,{"$f":"IF(入力用!D65=\"\",\"\",入力用!D65)","v":""},null,null,null,null,null,"口"]
[]
[null,{"$f":"IF(入力用!D66=\"\",\"\",入力用!D66)","v":""},null,null,null,null,null,null,"灯",null,null,{"$f":"IF(入力用!D68=\"\",\"\",入力用!D68)","v":""},null,null,null,null,null,null,"個",null,null,"うちＩＨクッキングヒーター",null,null,null,null,null,null,null,null,null,null,null,null,null,null,{"$f":"IF(入力用!D70=\"\",\"\",入力用!D70)","v":""},null,null,"台",null,{"$f":"IF(入力用!E71=\"\",\"\",入力用!E71)","v":""},null,null,null,null,null,"ＶＡ",null,null,null,null,null,null,null,null,null,null,null,null,null,null,null,{"$f":"入力用!Q65","v":""},null,null,null,null,null,null,null,null,null,{"$f":"IF(入力用!D81=\"\",\"\",入力用!D81)","v":""},null,null,"回路"]
[]
[null,null,null,null,null,null,null,null,null,null,null,null,null,null,null,null,null,null,null,null,null,"(メーカー)",null,null,null,null,null,{"$f":"IF(入力用!F72=\"\",\"\",入力用!F72)","v":""},null,null,null,null,null,null,"(型式)",null,null,null,{"$f":"IF(入力用!F73=\"\",\"\",入力用!F73)","v":""},null,null,null,null,null,null,null,null,null,null,null,null,null,null,null,null,null,null,null,null,null,null,null,null,null,null,null,null,null,null,null,null,null,null,null,null,null,null,null,null,null,"合計\n容量",null,null,null,null,null,null,null,null,null,null,"ＶＡ",null,null,{"$f":"IF(入力用!P60=2,\"契約電流\",IF(入力用!P60=3,\"契約容量\",\"契約電流\n契約容量\"))","v":"契約電流\n契約容量"},null,null,null,null,null,null,null,null,null,null,null,null,{"$f":"IF(入力用!P60=2,\"Ａ\",IF(入力用!P60=3,\"kVA\",\"Ａ\nkVA\"))","v":"Ａ\nkVA"}]
[null,null,null,null,null,null,null,null,null,null,null,null,null,null,null,null,null,null,null,null,null,null,null,null,null,null,null,null,null,null,null,null,null,null,null,null,null,null,null,null,null,null,null,null,null,null,null,null,null,null,null,null,null,null,null,null,null,null,null,null,null,null,null,{"$f":"入力用!Q67","v":""},null,null,null,null,null,null,null,null,null,{"$f":"IF(入力用!D83=\"\",\"\",入力用!D83)","v":""},null,null,"回路"]
[null,{"$f":"IF(入力用!D67=\"\",\"\",入力用!D67)","v":""},null,null,null,null,null,null,"ＶＡ",null,null,{"$f":"IF(入力用!D69=\"\",\"\",入力用!D69)","v":""},null,null,null,null,null,null,"ＶＡ",null,null,{"$f":"IF(入力用!P74=2,入力用!Q11,IF(入力用!P74=3,入力用!Q12,IF(入力用!P74=4,入力用!L74,\"\")))","v":""},null,null,null,null,null,null,null,null,null,null,null,null,null,null,{"$f":"IF(入力用!D75=\"\",\"\",入力用!D75)","v":""},null,null,"台",null,{"$f":"IF(入力用!E76=\"\",\"\",入力用!E76)","v":""},null,null,null,null,null,"ＶＡ"]
[]
[null,null,null,null,null,null,null,null,null,null,null,null,null,null,null,null,null,null,null,null,null,null,null,null,null,null,null,null,null,null,null,null,null,null,null,null,null,null,null,null,null,null,null,null,null,null,null,null,null,null,null,null,null,null,null,null,null,null,null,null,null,null,null,{"$f":"入力用!Q69","v":""},null,null,null,null,null,null,null,null,null,{"$f":"IF(入力用!D85=\"\",\"\",入力用!D85)","v":""},null,null,"回路"]
[null,null,null,null,null,null,null,null,null,null,null,null,null,null,null,null,null,null,null,null,null,"(メーカー)",null,null,null,null,null,{"$f":"IF(入力用!F77=\"\",\"\",入力用!F77)","v":""},null,null,null,null,null,null,"(型式)",null,null,null,{"$f":"IF(入力用!F78=\"\",\"\",入力用!F78)","v":""}]
[]
[null,"ﾊﾟﾀｰﾝ\n区 分",null,null,null,null,"D",null,null,null,"契　約\n種　別",null,null,null,null,{"$f":"IF(入力用!P86=2,入力用!P5,IF(入力用!P86=3,入力用!P6,\"\"))","v":""},null,null,null,null,null,null,null,null,"供　給\n電　気\n方　式",null,null,null,null,{"$f":"IF(入力用!P87=2,入力用!Q5,IF(入力用!P87=3,入力用!Q6,IF(入力用!P87=4,入力用!Q7,IF(入力用!P87=5,入力用!Q8,\"\"))))","v":""},null,null,null,null,null,null,null,null,null,null,null,null,null,"契　約\n決　定\n方　法",null,null,null,null,{"$f":"IF(入力用!P88=2,入力用!R5,IF(入力用!P88=3,入力用!R6,IF(入力用!P88=4,入力用!R7,IF(入力用!P88=5,入力用!R8,IF(入力用!P88=6,入力用!R9,\"\")))))","v":""},null,null,null,null,null,null,null,null,null,null,null,"主開閉器・\n電流制限器\nの定格電流",null,null,null,null,null,{"$f":"IF(入力用!D89=\"\",\"\",入力用!D89)","v":""},null,null,null,null,null,"室番号",null,null,null,null,{"$f":"IF(入力用!D90=\"\",\"\",入力用!D90)","v":""}]
[]
[]
[]
[]
[]
[]
[]
[null,"電　　　　灯",null,null,null,null,null,null,null,null,null,"小　　型　　機　　器　※HPはヒートポンプ",null,null,null,null,null,null,null,null,null,null,null,null,null,null,null,null,null,null,null,null,null,null,null,null,null,null,null,null,null,null,null,null,null,null,null,null,null,null,"回路数",null,null,null,null,{"$f":"IF(入力用!D105=\"\",\"\",入力用!D105)","v":""},null,null,null,null,null,null,null,"適用業種別回路数内訳",null,null,null,null,null,null,null,null,null,null,null,null,null,null,null,null,"契約口\n数合計",null,null,null,null,{"$f":"IF(入力用!D91=\"\",\"\",入力用!D91)","v":""},null,null,null,null,null,"口"]
[]
[null,{"$f":"IF(入力用!D92=\"\",\"\",入力用!D92)","v":""},null,null,null,null,null,null,"灯",null,null,{"$f":"IF(入力用!D94=\"\",\"\",入力用!D94)","v":""},null,null,null,null,null,null,"個",null,null,"うちＩＨクッキングヒーター",null,null,null,null,null,null,null,null,null,null,null,null,null,null,{"$f":"IF(入力用!D96=\"\",\"\",入力用!D96)","v":""},null,null,"台",null,{"$f":"IF(入力用!E97=\"\",\"\",入力用!E97)","v":""},null,null,null,null,null,"ＶＡ",null,null,null,null,null,null,null,null,null,null,null,null,null,null,null,{"$f":"入力用!Q86","v":""},null,null,null,null,null,null,null,null,null,{"$f":"IF(入力用!D107=\"\",\"\",入力用!D107)","v":""},null,null,"回路"]
[]
[null,null,null,null,null,null,null,null,null,null,null,null,null,null,null,null,null,null,null,null,null,"(メーカー)",null,null,null,null,null,{"$f":"IF(入力用!F98=\"\",\"\",入力用!F98)","v":""},null,null,null,null,null,null,"(型式)",null,null,null,{"$f":"IF(入力用!F99=\"\",\"\",入力用!F99)","v":""},null,null,null,null,null,null,null,null,null,null,null,null,null,null,null,null,null,null,null,null,null,null,null,null,null,null,null,null,null,null,null,null,null,null,null,null,null,null,null,null,null,"合計\n容量",null,null,null,null,null,null,null,null,null,null,"ＶＡ",null,null,{"$f":"IF(入力用!P86=2,\"契約電流\",IF(入力用!P86=3,\"契約容量\",\"契約電流\n契約容量\"))","v":"契約電流\n契約容量"},null,null,null,null,null,null,null,null,null,null,null,null,{"$f":"IF(入力用!P86=2,\"Ａ\",IF(入力用!P86=3,\"kVA\",\"Ａ\nkVA\"))","v":"Ａ\nkVA"}]
[null,null,null,null,null,null,null,null,null,null,null,null,null,null,null,null,null,null,null,null,null,null,null,null,null,null,null,null,null,null,null,null,null,null,null,null,null,null,null,null,null,null,null,null,null,null,null,null,null,null,null,null,null,null,null,null,null,null,null,null,null,null,null,{"$f":"入力用!Q88","v":""},null,null,null,null,null,null,null,null,null,{"$f":"IF(入力用!D109=\"\",\"\",入力用!D109)","v":""},null,null,"回路"]
[null,{"$f":"IF(入力用!D93=\"\",\"\",入力用!D93)","v":""},null,null,null,null,null,null,"ＶＡ",null,null,{"$f":"IF(入力用!D95=\"\",\"\",入力用!D95)","v":""},null,null,null,null,null,null,"ＶＡ",null,null,{"$f":"IF(入力用!P100=2,入力用!Q11,IF(入力用!P100=3,入力用!Q12,IF(入力用!P100=4,入力用!L100,\"\")))","v":""},null,null,null,null,null,null,null,null,null,null,null,null,null,null,{"$f":"IF(入力用!D101=\"\",\"\",入力用!D101)","v":""},null,null,"台",null,{"$f":"IF(入力用!E102=\"\",\"\",入力用!E102)","v":""},null,null,null,null,null,"ＶＡ"]
[]
[null,null,null,null,null,null,null,null,null,null,null,null,null,null,null,null,null,null,null,null,null,null,null,null,null,null,null,null,null,null,null,null,null,null,null,null,null,null,null,null,null,null,null,null,null,null,null,null,null,null,null,null,null,null,null,null,null,null,null,null,null,null,null,{"$f":"入力用!Q90","v":""},null,null,null,null,null,null,null,null,null,{"$f":"IF(入力用!D111=\"\",\"\",入力用!D111)","v":""},null,null,"回路"]
[null,null,null,null,null,null,null,null,null,null,null,null,null,null,null,null,null,null,null,null,null,"(メーカー)",null,null,null,null,null,{"$f":"IF(入力用!F103=\"\",\"\",入力用!F103)","v":""},null,null,null,null,null,null,"(型式)",null,null,null,{"$f":"IF(入力用!F104=\"\",\"\",入力用!F104)","v":""}]
[]
[null,"ﾊﾟﾀｰﾝ\n区 分",null,null,null,null,"E",null,null,null,"契　約\n種　別",null,null,null,null,{"$f":"IF(入力用!P112=2,入力用!P5,IF(入力用!P112=3,入力用!P6,\"\"))","v":""},null,null,null,null,null,null,null,null,"供　給\n電　気\n方　式",null,null,null,null,{"$f":"IF(入力用!P113=2,入力用!Q5,IF(入力用!P113=3,入力用!Q6,IF(入力用!P113=4,入力用!Q7,IF(入力用!P113=5,入力用!Q8,\"\"))))","v":""},null,null,null,null,null,null,null,null,null,null,null,null,null,"契　約\n決　定\n方　法",null,null,null,null,{"$f":"IF(入力用!P114=2,入力用!R5,IF(入力用!P114=3,入力用!R6,IF(入力用!P114=4,入力用!R7,IF(入力用!P114=5,入力用!R8,IF(入力用!P114=6,入力用!R9,\"\")))))","v":""},null,null,null,null,null,null,null,null,null,null,null,"主開閉器・\n電流制限器\nの定格電流",null,null,null,null,null,{"$f":"IF(入力用!D115=\"\",\"\",入力用!D115)","v":""},null,null,null,null,null,"室番号",null,null,null,null,{"$f":"IF(入力用!D116=\"\",\"\",入力用!D116)","v":""}]
[]
[]
[]
[]
[]
[]
[]
[null,"電　　　　灯",null,null,null,null,null,null,null,null,null,"小　　型　　機　　器　※HPはヒートポンプ",null,null,null,null,null,null,null,null,null,null,null,null,null,null,null,null,null,null,null,null,null,null,null,null,null,null,null,null,null,null,null,null,null,null,null,null,null,null,"回路数",null,null,null,null,{"$f":"IF(入力用!D131=\"\",\"\",入力用!D131)","v":""},null,null,null,null,null,null,null,"適用業種別回路数内訳",null,null,null,null,null,null,null,null,null,null,null,null,null,null,null,null,"契約口\n数合計",null,null,null,null,{"$f":"IF(入力用!D117=\"\",\"\",入力用!D117)","v":""},null,null,null,null,null,"口"]
[]
[null,{"$f":"IF(入力用!D118=\"\",\"\",入力用!D118)","v":""},null,null,null,null,null,null,"灯",null,null,{"$f":"IF(入力用!D120=\"\",\"\",入力用!D120)","v":""},null,null,null,null,null,null,"個",null,null,"うちＩＨクッキングヒーター",null,null,null,null,null,null,null,null,null,null,null,null,null,null,{"$f":"IF(入力用!D122=\"\",\"\",入力用!D122)","v":""},null,null,"台",null,{"$f":"IF(入力用!E123=\"\",\"\",入力用!E123)","v":""},null,null,null,null,null,"ＶＡ",null,null,null,null,null,null,null,null,null,null,null,null,null,null,null,{"$f":"入力用!Q107","v":""},null,null,null,null,null,null,null,null,null,{"$f":"IF(入力用!D133=\"\",\"\",入力用!D133)","v":""},null,null,"回路"]
[]
[null,null,null,null,null,null,null,null,null,null,null,null,null,null,null,null,null,null,null,null,null,"(メーカー)",null,null,null,null,null,{"$f":"IF(入力用!F124=\"\",\"\",入力用!F124)","v":""},null,null,null,null,null,null,"(型式)",null,null,null,{"$f":"IF(入力用!F125=\"\",\"\",入力用!F125)","v":""},null,null,null,null,null,null,null,null,null,null,null,null,null,null,null,null,null,null,null,null,null,null,null,null,null,null,null,null,null,null,null,null,null,null,null,null,null,null,null,null,null,"合計\n容量",null,null,null,null,null,null,null,null,null,null,"ＶＡ",null,null,{"$f":"IF(入力用!P112=2,\"契約電流\",IF(入力用!P112=3,\"契約容量\",\"契約電流\n契約容量\"))","v":"契約電流\n契約容量"},null,null,null,null,null,null,null,null,null,null,null,null,{"$f":"IF(入力用!P112=2,\"Ａ\",IF(入力用!P112=3,\"kVA\",\"Ａ\nkVA\"))","v":"Ａ\nkVA"}]
[null,null,null,null,null,null,null,null,null,null,null,null,null,null,null,null,null,null,null,null,null,null,null,null,null,null,null,null,null,null,null,null,null,null,null,null,null,null,null,null,null,null,null,null,null,null,null,null,null,null,null,null,null,null,null,null,null,null,null,null,null,null,null,{"$f":"入力用!Q109","v":""},null,null,null,null,null,null,null,null,null,{"$f":"IF(入力用!D135=\"\",\"\",入力用!D135)","v":""},null,null,"回路"]
[null,{"$f":"IF(入力用!D119=\"\",\"\",入力用!D119)","v":""},null,null,null,null,null,null,"ＶＡ",null,null,{"$f":"IF(入力用!D121=\"\",\"\",入力用!D121)","v":""},null,null,null,null,null,null,"ＶＡ",null,null,{"$f":"IF(入力用!P126=2,入力用!Q11,IF(入力用!P126=3,入力用!Q12,IF(入力用!P126=4,入力用!L126,\"\")))","v":""},null,null,null,null,null,null,null,null,null,null,null,null,null,null,{"$f":"IF(入力用!D127=\"\",\"\",入力用!D127)","v":""},null,null,"台",null,{"$f":"IF(入力用!E128=\"\",\"\",入力用!E128)","v":""},null,null,null,null,null,"ＶＡ"]
[]
[null,null,null,null,null,null,null,null,null,null,null,null,null,null,null,null,null,null,null,null,null,null,null,null,null,null,null,null,null,null,null,null,null,null,null,null,null,null,null,null,null,null,null,null,null,null,null,null,null,null,null,null,null,null,null,null,null,null,null,null,null,null,null,{"$f":"入力用!Q111","v":""},null,null,null,null,null,null,null,null,null,{"$f":"IF(入力用!D137=\"\",\"\",入力用!D137)","v":""},null,null,"回路"]
[null,null,null,null,null,null,null,null,null,null,null,null,null,null,null,null,null,null,null,null,null,"(メーカー)",null,null,null,null,null,{"$f":"IF(入力用!F129=\"\",\"\",入力用!F129)","v":""},null,null,null,null,null,null,"(型式)",null,null,null,{"$f":"IF(入力用!F130=\"\",\"\",入力用!F130)","v":""}]
[]
[null,"ﾊﾟﾀｰﾝ\n区 分",null,null,null,null,"F",null,null,null,"契　約\n種　別",null,null,null,null,{"$f":"IF(入力用!P138=2,入力用!P5,IF(入力用!P138=3,入力用!P6,\"\"))","v":""},null,null,null,null,null,null,null,null,"供　給\n電　気\n方　式",null,null,null,null,{"$f":"IF(入力用!P139=2,入力用!Q5,IF(入力用!P139=3,入力用!Q6,IF(入力用!P139=4,入力用!Q7,IF(入力用!P139=5,入力用!Q8,\"\"))))","v":""},null,null,null,null,null,null,null,null,null,null,null,null,null,"契　約\n決　定\n方　法",null,null,null,null,{"$f":"IF(入力用!P140=2,入力用!R5,IF(入力用!P140=3,入力用!R6,IF(入力用!P140=4,入力用!R7,IF(入力用!P140=5,入力用!R8,IF(入力用!P140=6,入力用!R9,\"\")))))","v":""},null,null,null,null,null,null,null,null,null,null,null,"主開閉器・\n電流制限器\nの定格電流",null,null,null,null,null,{"$f":"IF(入力用!D141=\"\",\"\",入力用!D141)","v":""},null,null,null,null,null,"室番号",null,null,null,null,{"$f":"IF(入力用!D142=\"\",\"\",入力用!D142)","v":""}]
[]
[]
[]
[]
[]
[]
[]
[null,"電　　　　灯",null,null,null,null,null,null,null,null,null,"小　　型　　機　　器　※HPはヒートポンプ",null,null,null,null,null,null,null,null,null,null,null,null,null,null,null,null,null,null,null,null,null,null,null,null,null,null,null,null,null,null,null,null,null,null,null,null,null,null,"回路数",null,null,null,null,{"$f":"IF(入力用!D157=\"\",\"\",入力用!D157)","v":""},null,null,null,null,null,null,null,"適用業種別回路数内訳",null,null,null,null,null,null,null,null,null,null,null,null,null,null,null,null,"契約口\n数合計",null,null,null,null,{"$f":"IF(入力用!D143=\"\",\"\",入力用!D143)","v":""},null,null,null,null,null,"口"]
[]
[null,{"$f":"IF(入力用!D144=\"\",\"\",入力用!D144)","v":""},null,null,null,null,null,null,"灯",null,null,{"$f":"IF(入力用!D146=\"\",\"\",入力用!D146)","v":""},null,null,null,null,null,null,"個",null,null,"うちＩＨクッキングヒーター",null,null,null,null,null,null,null,null,null,null,null,null,null,null,{"$f":"IF(入力用!D148=\"\",\"\",入力用!D148)","v":""},null,null,"台",null,{"$f":"IF(入力用!E149=\"\",\"\",入力用!E149)","v":""},null,null,null,null,null,"ＶＡ",null,null,null,null,null,null,null,null,null,null,null,null,null,null,null,{"$f":"入力用!Q128","v":""},null,null,null,null,null,null,null,null,null,{"$f":"IF(入力用!D159=\"\",\"\",入力用!D159)","v":""},null,null,"回路"]
[]
[null,null,null,null,null,null,null,null,null,null,null,null,null,null,null,null,null,null,null,null,null,"(メーカー)",null,null,null,null,null,{"$f":"IF(入力用!F150=\"\",\"\",入力用!F150)","v":""},null,null,null,null,null,null,"(型式)",null,null,null,{"$f":"IF(入力用!F151=\"\",\"\",入力用!F151)","v":""},null,null,null,null,null,null,null,null,null,null,null,null,null,null,null,null,null,null,null,null,null,null,null,null,null,null,null,null,null,null,null,null,null,null,null,null,null,null,null,null,null,"合計\n容量",null,null,null,null,null,null,null,null,null,null,"ＶＡ",null,null,{"$f":"IF(入力用!P138=2,\"契約電流\",IF(入力用!P138=3,\"契約容量\",\"契約電流\n契約容量\"))","v":"契約電流\n契約容量"},null,null,null,null,null,null,null,null,null,null,null,null,{"$f":"IF(入力用!P138=2,\"Ａ\",IF(入力用!P138=3,\"kVA\",\"Ａ\nkVA\"))","v":"Ａ\nkVA"}]
[null,null,null,null,null,null,null,null,null,null,null,null,null,null,null,null,null,null,null,null,null,null,null,null,null,null,null,null,null,null,null,null,null,null,null,null,null,null,null,null,null,null,null,null,null,null,null,null,null,null,null,null,null,null,null,null,null,null,null,null,null,null,null,{"$f":"入力用!Q130","v":""},null,null,null,null,null,null,null,null,null,{"$f":"IF(入力用!D161=\"\",\"\",入力用!D161)","v":""},null,null,"回路"]
[null,{"$f":"IF(入力用!D145=\"\",\"\",入力用!D145)","v":""},null,null,null,null,null,null,"ＶＡ",null,null,{"$f":"IF(入力用!D147=\"\",\"\",入力用!D147)","v":""},null,null,null,null,null,null,"ＶＡ",null,null,{"$f":"IF(入力用!P152=2,入力用!Q11,IF(入力用!P152=3,入力用!Q12,IF(入力用!P152=4,入力用!L152,\"\")))","v":""},null,null,null,null,null,null,null,null,null,null,null,null,null,null,{"$f":"IF(入力用!D153=\"\",\"\",入力用!D153)","v":""},null,null,"台",null,{"$f":"IF(入力用!E154=\"\",\"\",入力用!E154)","v":""},null,null,null,null,null,"ＶＡ"]
[]
[null,null,null,null,null,null,null,null,null,null,null,null,null,null,null,null,null,null,null,null,null,null,null,null,null,null,null,null,null,null,null,null,null,null,null,null,null,null,null,null,null,null,null,null,null,null,null,null,null,null,null,null,null,null,null,null,null,null,null,null,null,null,null,{"$f":"入力用!Q132","v":""},null,null,null,null,null,null,null,null,null,{"$f":"IF(入力用!D163=\"\",\"\",入力用!D163)","v":""},null,null,"回路"]
[null,null,null,null,null,null,null,null,null,null,null,null,null,null,null,null,null,null,null,null,null,"(メーカー)",null,null,null,null,null,{"$f":"IF(入力用!F155=\"\",\"\",入力用!F155)","v":""},null,null,null,null,null,null,"(型式)",null,null,null,{"$f":"IF(入力用!F156=\"\",\"\",入力用!F156)","v":""}]
[]
[]
[null,"　※　本申込書は集合住宅を新設する場合に使用することができます。",null,null,null,null,null,null,null,null,null,null,null,null,null,null,null,null,null,null,null,null,null,null,null,null,null,null,null,null,null,null,null,null,null,null,null,null,null,null,null,null,null,null,null,null,null,null,null,null,null,null,null,null,null,null,null,null,null,null,null,null,null,null,null,null,null,null,null,null,null,null,null,null,null,null,null,null,null,null,null,null,null,null,null,null,null,null,null,null,null,null,null,null,null,null,null,null,null,null,null,"受付"]
[]
[null,"　※　太枠内をご記入願います。"]
[]
[null,"　※　集合住宅共用部分用電気使用申込書をあわせて提出願います。"]
[]
[null,"　※　ご提供いただいた個人情報は，電気事業の範囲内で利用いたします。"]
[]
[]
[null,"＜連絡事項＞"]
[]
[]
[]
[]
[]
[]
[]
[]
[]
[]
[]
[]
[]
[]
[]
[]
["北　海　道　電　力　ネ　ッ　ト　ワ　ー　ク　株　式　会　社"]

{"sheet":"３枚目","index":3,"n_rows":163,"n_cols":110,"rows_kept":163,"cut":false,"hidden":false,"merged":[[22,88,23,99],[22,75,23,87],[81,1,88,5],[81,6,88,9],[91,1,94,7],[91,8,94,10],[89,91,92,93],[91,73,93,75],[91,76,93,79],[93,85,99,90],[93,91,99,93],[93,80,99,84],[89,63,90,79],[89,80,92,84],[89,85,92,90],[93,21,94,26],[70,63,71,79],[75,63,77,72],[75,73,77,75],[75,76,77,79],[78,76,80,79],[72,63,74,72],[70,91,73,93],[74,91,80,93],[62,77,69,110],[69,66,69,71],[119,66,125,71],[126,66,126,71],[107,66,107,71],[72,76,74,79],[74,80,80,84],[78,63,80,72],[78,73,80,75],[70,80,73,84],[62,72,69,76],[74,85,80,90],[74,107,80,110],[74,94,80,99],[74,100,80,106],[70,85,73,90],[81,77,88,110],[119,10,126,14],[119,48,126,59],[119,43,126,47],[100,48,107,59],[93,27,94,33],[119,60,126,65],[100,15,107,23],[89,1,90,10],[81,72,88,76],[119,72,126,76],[93,34,94,37],[95,36,97,38],[89,11,90,49],[81,15,88,23],[81,43,88,47],[81,29,88,42],[81,24,88,28],[89,50,99,54],[89,55,99,62],[91,11,94,17],[91,18,94,20],[91,21,92,35],[91,36,92,38],[95,41,97,46],[91,41,92,46],[91,63,93,72],[91,47,92,49],[114,47,116,49],[116,63,118,72],[114,18,118,20],[116,76,118,79],[119,77,126,110],[81,66,87,71],[162,0,163,110],[100,77,107,110],[24,60,31,65],[62,1,69,5],[151,74,153,99],[146,2,160,6],[146,7,160,22],[91,39,92,40],[100,43,107,47],[110,47,111,49],[62,24,69,28],[81,10,88,14],[93,38,94,49],[95,39,97,40],[43,6,50,9],[43,10,50,14],[53,21,54,35],[53,36,54,38],[51,1,52,10],[51,11,52,49],[146,23,148,33],[151,23,154,33],[157,23,159,33],[36,21,37,26],[6,0,9,110],[13,64,15,68],[13,85,15,89],[13,69,15,84],[32,1,33,10],[119,24,126,28],[34,47,35,49],[62,10,69,14],[62,6,69,9],[70,11,71,49],[55,21,56,26],[55,27,56,33],[43,60,50,65],[43,29,50,42],[81,48,88,59],[100,24,107,28],[57,8,61,10],[119,15,126,23],[119,29,126,42],[100,29,107,42],[16,1,23,5],[81,60,88,65],[88,66,88,71],[36,91,42,93],[24,1,31,5],[24,6,31,9],[22,45,23,47],[24,15,31,23],[24,48,31,59],[16,34,23,38],[43,66,49,71],[51,63,52,79],[34,8,37,10],[34,11,37,17],[34,18,37,20],[34,21,35,35],[16,6,23,33],[21,39,23,44],[24,43,31,47],[24,24,31,28],[24,29,31,42],[24,10,31,14],[21,48,23,52],[21,56,23,60],[43,1,50,5],[32,11,33,49],[41,38,42,49],[57,18,61,20],[22,104,23,108],[16,69,21,74],[16,75,21,110],[22,69,23,74],[22,53,23,55],[22,61,23,63],[24,66,30,71],[31,66,31,71],[43,72,50,76],[32,80,35,84],[32,85,35,90],[32,91,35,93],[34,73,36,75],[34,76,36,79],[36,85,42,90],[36,80,42,84],[36,107,42,110],[37,63,39,72],[37,73,39,75],[37,76,39,79],[40,63,42,72],[40,73,42,75],[36,94,42,99],[112,94,118,99],[62,66,68,71],[22,109,23,110],[100,6,107,9],[22,100,23,102],[22,103,23,103],[24,72,31,76],[16,64,23,68],[41,21,42,26],[62,15,69,23],[62,29,69,42],[62,48,69,59],[51,50,61,54],[57,47,59,49],[53,39,54,40],[51,55,61,62],[32,63,33,79],[34,39,35,40],[62,60,69,65],[24,77,31,110],[34,36,35,38],[36,27,37,33],[41,34,42,37],[38,39,40,40],[32,55,42,62],[32,50,42,54],[43,77,50,110],[164,0,165,110],[100,10,107,14],[100,1,107,5],[119,1,126,5],[119,6,126,9],[100,60,107,65],[100,72,107,76],[100,66,106,71],[139,1,141,16],[117,38,118,49],[108,80,111,84],[110,63,112,72],[110,73,112,75],[110,76,112,79],[112,80,118,84],[117,27,118,33],[117,34,118,37],[108,1,109,10],[108,11,109,49],[114,1,118,7],[114,8,118,10],[60,21,61,26],[57,39,59,40],[55,38,56,49],[40,76,42,79],[36,100,42,106],[34,63,36,72],[38,1,42,7],[38,8,42,10],[38,11,42,17],[38,18,42,20],[43,15,50,23],[51,85,54,90],[41,27,42,33],[34,41,35,46],[38,41,40,46],[38,47,40,49],[36,34,37,37],[34,1,37,7],[38,21,40,35],[38,36,40,38],[43,48,50,59],[43,24,50,28],[43,43,50,47],[36,38,37,49],[50,66,50,71],[55,107,61,110],[56,63,58,72],[56,73,58,75],[56,76,58,79],[53,41,54,46],[53,47,54,49],[53,63,55,72],[51,91,54,93],[53,73,55,75],[55,100,61,106],[55,94,61,99],[57,41,59,46],[60,38,61,49],[59,63,61,72],[59,73,61,75],[53,76,55,79],[55,80,61,84],[59,76,61,79],[57,36,59,38],[55,85,61,90],[55,91,61,93],[51,80,54,84],[62,43,69,47],[72,47,73,49],[72,1,75,7],[72,8,75,10],[72,11,75,17],[72,18,75,20],[72,39,73,40],[72,41,73,46],[74,34,75,37],[70,1,71,10],[72,73,74,75],[57,1,61,7],[60,27,61,33],[60,34,61,37],[55,34,56,37],[53,8,56,10],[53,11,56,17],[57,21,59,35],[57,11,61,17],[53,18,56,20],[53,1,56,7],[76,1,80,7],[76,8,80,10],[76,11,80,17],[76,18,80,20],[74,21,75,26],[74,27,75,33],[76,36,78,38],[76,39,78,40],[76,41,78,46],[76,47,78,49],[70,50,80,54],[70,55,80,62],[72,21,73,35],[72,36,73,38],[76,21,78,35],[74,38,75,49],[79,21,80,26],[79,27,80,33],[79,34,80,37],[79,38,80,49],[93,107,99,110],[94,63,96,72],[94,73,96,75],[94,76,96,79],[97,63,99,72],[97,73,99,75],[97,76,99,79],[93,94,99,99],[93,100,99,106],[95,1,99,7],[95,8,99,10],[95,11,99,17],[95,18,99,20],[95,47,97,49],[98,21,99,26],[98,27,99,33],[98,34,99,37],[98,38,99,49],[95,21,97,35],[112,100,118,106],[114,39,116,40],[114,41,116,46],[117,21,118,26],[108,91,111,93],[110,1,113,7],[110,8,113,10],[110,11,113,17],[110,18,113,20],[110,21,111,35],[110,36,111,38],[110,39,111,40],[110,41,111,46],[108,50,118,54],[112,21,113,26],[112,27,113,33],[112,34,113,37],[112,38,113,49],[108,55,118,62],[108,63,109,79],[114,21,116,35],[114,36,116,38],[114,11,118,17],[108,85,111,90],[129,41,130,46],[127,1,128,10],[127,11,128,49],[127,50,137,54],[127,55,137,62],[129,1,132,7],[129,8,132,10],[129,11,132,17],[129,18,132,20],[131,34,132,37],[131,38,132,49],[129,36,130,38],[129,21,130,35],[133,18,137,20],[131,21,132,26],[131,27,132,33],[136,21,137,26],[136,27,137,33],[129,39,130,40],[116,73,118,75],[10,1,11,25],[12,1,13,38],[154,68,159,73],[154,74,156,99],[157,74,159,99],[133,39,135,40],[133,41,135,46],[133,1,137,7],[133,8,137,10],[133,11,137,17],[133,47,135,49],[135,63,137,72],[135,73,137,75],[135,76,137,79],[132,63,134,72],[127,80,130,84],[127,85,130,90],[127,91,130,93],[129,73,131,75],[129,76,131,79],[131,80,137,84],[131,85,137,90],[131,91,137,93],[1,93,4,109],[13,90,15,110],[147,101,154,102],[147,103,154,110],[136,34,137,37],[136,38,137,49],[131,94,137,99],[131,100,137,106],[133,21,135,35],[133,36,135,38],[131,107,137,110],[139,101,146,102],[139,103,146,110],[129,47,130,49],[129,63,131,72],[127,63,128,79],[132,73,134,75],[132,76,134,79],[112,107,118,110],[113,63,115,72],[113,73,115,75],[113,76,115,79],[112,85,118,90],[112,91,118,93]]}
[]
[null,null,null,null,null,null,null,null,null,null,null,null,null,null,null,null,null,null,null,null,null,null,null,null,null,null,null,null,null,null,null,null,null,null,null,null,null,null,null,null,null,null,null,null,null,null,null,null,null,null,null,null,null,null,null,null,null,null,null,null,null,null,null,null,null,null,null,null,null,null,null,null,null,null,null,null,null,null,null,null,null,null,null,null,null,null,null,null,null,null,null,null,null,"離島等供給用"]
[]
[]
[]
[]
["（従量制電灯）集合住宅専有部分用電気使用申込書（ほくでんNW控）"]
[]
[]
[]
[null,"北海道電力ネットワーク株式会社　御中"]
[]
[null,"電気の使用について貴社離島等供給約款[低圧用]を承認のうえ申し込みます。"]
[null,null,null,null,null,null,null,null,null,null,null,null,null,null,null,null,null,null,null,null,null,null,null,null,null,null,null,null,null,null,null,null,null,null,null,null,null,null,null,null,null,null,null,null,null,null,null,null,null,null,null,null,null,null,null,null,null,null,null,null,null,null,null,null,"受付扱所名",null,null,null,null,null,null,null,null,null,null,null,null,null,null,null,null,null,null,null,null,"受付№"]
[]
[]
[null,"建物名",null,null,null,null,{"$f":"IF(入力用!D3=\"\",\"\",入力用!D3)","v":""},null,null,null,null,null,null,null,null,null,null,null,null,null,null,null,null,null,null,null,null,null,null,null,null,null,null,null,"受　電\n希望日",null,null,null,null,null,null,null,null,null,null,null,null,null,null,null,null,null,null,null,null,null,null,null,null,null,null,null,null,null,"電気\n工事\n会社",null,null,null,null," 会社名",null,null,null,null,null,{"$f":"IF(入力用!D5=\"\",\"\",入力用!D5)","v":""}]
[]
[]
[]
[]
[null,null,null,null,null,null,null,null,null,null,null,null,null,null,null,null,null,null,null,null,null,null,null,null,null,null,null,null,null,null,null,null,null,null,null,null,null,null,null,{"$f":"IF(入力用!D4=\"\",\"\",入力用!D4)","v":""},null,null,null,null,null,null,null,null,{"$f":"IF(入力用!F4=\"\",\"\",入力用!F4)","v":""},null,null,null,null,null,null,null,{"$f":"IF(入力用!I4=\"\",\"\",入力用!I4)","v":""}]
[null,null,null,null,null,null,null,null,null,null,null,null,null,null,null,null,null,null,null,null,null,null,null,null,null,null,null,null,null,null,null,null,null,null,null,null,null,null,null,null,null,null,null,null,null,"年",null,null,null,null,null,null,null,"月",null,null,null,null,null,null,null,"日",null,null,null,null,null,null,null,"(担当者)",null,null,null,null,null,{"$f":"IF(入力用!D6=\"\",\"\",入力用!D6)","v":""},null,null,null,null,null,null,null,null,null,null,null,null,"工事会社№（",null,null,null,null,null,null,null,null,null,null,null,{"$f":"IF(入力用!D7=\"\",\"\",入力用!D7)","v":""},null,null,"-",{"$f":"IF(入力用!F7=\"\",\"\",入力用!F7)","v":""},null,null,null,null,")"]
[]
[null,"ﾊﾟﾀｰﾝ\n区 分",null,null,null,null,"A",null,null,null,"契　約\n種　別",null,null,null,null,{"$f":"IF(入力用!P8=2,入力用!P5,IF(入力用!P8=3,入力用!P6,\"\"))","v":""},null,null,null,null,null,null,null,null,"供　給\n電　気\n方　式",null,null,null,null,{"$f":"IF(入力用!P9=2,入力用!Q5,IF(入力用!P9=3,入力用!Q6,IF(入力用!P9=4,入力用!Q7,IF(入力用!P9=5,入力用!Q8,\"\"))))","v":""},null,null,null,null,null,null,null,null,null,null,null,null,null,"契　約\n決　定\n方　法",null,null,null,null,{"$f":"IF(入力用!P10=2,入力用!R5,IF(入力用!P10=3,入力用!R6,IF(入力用!P10=4,入力用!R7,IF(入力用!P10=5,入力用!R8,IF(入力用!P10=6,入力用!R9,\"\")))))","v":""},null,null,null,null,null,null,null,null,null,null,null,"主開閉器・\n電流制限器\nの定格電流",null,null,null,null,null,{"$f":"IF(入力用!D11=\"\",\"\",入力用!D11)","v":""},null,null,null,null,null,"室番号",null,null,null,null,{"$f":"IF(入力用!D12=\"\",\"\",入力用!D12)","v":""}]
[]
[]
[]
[]
[]
[]
[]
[null,"電　　　　灯",null,null,null,null,null,null,null,null,null,"小　　型　　機　　器　※HPはヒートポンプ",null,null,null,null,null,null,null,null,null,null,null,null,null,null,null,null,null,null,null,null,null,null,null,null,null,null,null,null,null,null,null,null,null,null,null,null,null,null,"回路数",null,null,null,null,{"$f":"IF(入力用!D27=\"\",\"\",入力用!D27)","v":""},null,null,null,null,null,null,null,"適用業種別回路数内訳",null,null,null,null,null,null,null,null,null,null,null,null,null,null,null,null,"契約口\n数合計",null,null,null,null,{"$f":"IF(入力用!D13=\"\",\"\",入力用!D13)","v":""},null,null,null,null,null,"口"]
[]
[null,{"$f":"IF(入力用!D14=\"\",\"\",入力用!D14)","v":""},null,null,null,null,null,null,"灯",null,null,{"$f":"IF(入力用!D16=\"\",\"\",入力用!D16)","v":""},null,null,null,null,null,null,"個",null,null,"うちＩＨクッキングヒーター",null,null,null,null,null,null,null,null,null,null,null,null,null,null,{"$f":"IF(入力用!D18=\"\",\"\",入力用!D18)","v":""},null,null,"台",null,{"$f":"IF(入力用!E19=\"\",\"\",入力用!E19)","v":""},null,null,null,null,null,"ＶＡ",null,null,null,null,null,null,null,null,null,null,null,null,null,null,null,{"$f":"入力用!Q23","v":""},null,null,null,null,null,null,null,null,null,{"$f":"IF(入力用!D29=\"\",\"\",入力用!D29)","v":""},null,null,"回路"]
[]
[null,null,null,null,null,null,null,null,null,null,null,null,null,null,null,null,null,null,null,null,null,"(メーカー)",null,null,null,null,null,{"$f":"IF(入力用!F20=\"\",\"\",入力用!F20)","v":""},null,null,null,null,null,null,"(型式)",null,null,null,{"$f":"IF(入力用!F21=\"\",\"\",入力用!F21)","v":""},null,null,null,null,null,null,null,null,null,null,null,null,null,null,null,null,null,null,null,null,null,null,null,null,null,null,null,null,null,null,null,null,null,null,null,null,null,null,null,null,null,"合計\n容量",null,null,null,null,null,null,null,null,null,null,"ＶＡ",null,null,{"$f":"IF(入力用!P8=2,\"契約電流\",IF(入力用!P8=3,\"契約容量\",\"契約電流\n契約容量\"))","v":"契約電流\n契約容量"},null,null,null,null,null,null,null,null,null,null,null,null,{"$f":"IF(入力用!P8=2,\"Ａ\",IF(入力用!P8=3,\"kVA\",\"Ａ\nkVA\"))","v":"Ａ\nkVA"}]
[null,null,null,null,null,null,null,null,null,null,null,null,null,null,null,null,null,null,null,null,null,null,null,null,null,null,null,null,null,null,null,null,null,null,null,null,null,null,null,null,null,null,null,null,null,null,null,null,null,null,null,null,null,null,null,null,null,null,null,null,null,null,null,{"$f":"入力用!Q25","v":""},null,null,null,null,null,null,null,null,null,{"$f":"IF(入力用!D31=\"\",\"\",入力用!D31)","v":""},null,null,"回路"]
[null,{"$f":"IF(入力用!D15=\"\",\"\",入力用!D15)","v":""},null,null,null,null,null,null,"ＶＡ",null,null,{"$f":"IF(入力用!D17=\"\",\"\",入力用!D17)","v":""},null,null,null,null,null,null,"ＶＡ",null,null,{"$f":"IF(入力用!P22=2,入力用!Q11,IF(入力用!P22=3,入力用!Q12,IF(入力用!P22=4,入力用!L22,\"\")))","v":""},null,null,null,null,null,null,null,null,null,null,null,null,null,null,{"$f":"IF(入力用!D23=\"\",\"\",入力用!D23)","v":""},null,null,"台",null,{"$f":"IF(入力用!E24=\"\",\"\",入力用!E24)","v":""},null,null,null,null,null,"ＶＡ"]
[]
[null,null,null,null,null,null,null,null,null,null,null,null,null,null,null,null,null,null,null,null,null,null,null,null,null,null,null,null,null,null,null,null,null,null,null,null,null,null,null,null,null,null,null,null,null,null,null,null,null,null,null,null,null,null,null,null,null,null,null,null,null,null,null,{"$f":"入力用!Q27","v":""},null,null,null,null,null,null,null,null,null,{"$f":"IF(入力用!D33=\"\",\"\",入力用!D33)","v":""},null,null,"回路"]
[null,null,null,null,null,null,null,null,null,null,null,null,null,null,null,null,null,null,null,null,null,"(メーカー)",null,null,null,null,null,{"$f":"IF(入力用!F25=\"\",\"\",入力用!F25)","v":""},null,null,null,null,null,null,"(型式)",null,null,null,{"$f":"IF(入力用!F26=\"\",\"\",入力用!F26)","v":""}]
[]
[null,"ﾊﾟﾀｰﾝ\n区 分",null,null,null,null,"B",null,null,null,"契　約\n種　別",null,null,null,null,{"$f":"IF(入力用!P34=2,入力用!P5,IF(入力用!P34=3,入力用!P6,\"\"))","v":""},null,null,null,null,null,null,null,null,"供　給\n電　気\n方　式",null,null,null,null,{"$f":"IF(入力用!P35=2,入力用!Q5,IF(入力用!P35=3,入力用!Q6,IF(入力用!P35=4,入力用!Q7,IF(入力用!P35=5,入力用!Q8,\"\"))))","v":""},null,null,null,null,null,null,null,null,null,null,null,null,null,"契　約\n決　定\n方　法",null,null,null,null,{"$f":"IF(入力用!P36=2,入力用!R5,IF(入力用!P36=3,入力用!R6,IF(入力用!P36=4,入力用!R7,IF(入力用!P36=5,入力用!R8,IF(入力用!P36=6,入力用!R9,\"\")))))","v":""},null,null,null,null,null,null,null,null,null,null,null,"主開閉器・\n電流制限器\nの定格電流",null,null,null,null,null,{"$f":"IF(入力用!D37=\"\",\"\",入力用!D37)","v":""},null,null,null,null,null,"室番号",null,null,null,null,{"$f":"IF(入力用!D38=\"\",\"\",入力用!D38)","v":""}]
[]
[]
[]
[]
[]
[]
[]
[null,"電　　　　灯",null,null,null,null,null,null,null,null,null,"小　　型　　機　　器　※HPはヒートポンプ",null,null,null,null,null,null,null,null,null,null,null,null,null,null,null,null,null,null,null,null,null,null,null,null,null,null,null,null,null,null,null,null,null,null,null,null,null,null,"回路数",null,null,null,null,{"$f":"IF(入力用!D53=\"\",\"\",入力用!D53)","v":""},null,null,null,null,null,null,null,"適用業種別回路数内訳",null,null,null,null,null,null,null,null,null,null,null,null,null,null,null,null,"契約口\n数合計",null,null,null,null,{"$f":"IF(入力用!D39=\"\",\"\",入力用!D39)","v":""},null,null,null,null,null,"口"]
[]
[null,{"$f":"IF(入力用!D40=\"\",\"\",入力用!D40)","v":""},null,null,null,null,null,null,"灯",null,null,{"$f":"IF(入力用!D42=\"\",\"\",入力用!D42)","v":""},null,null,null,null,null,null,"個",null,null,"うちＩＨクッキングヒーター",null,null,null,null,null,null,null,null,null,null,null,null,null,null,{"$f":"IF(入力用!D44=\"\",\"\",入力用!D44)","v":""},null,null,"台",null,{"$f":"IF(入力用!E45=\"\",\"\",入力用!E45)","v":""},null,null,null,null,null,"ＶＡ",null,null,null,null,null,null,null,null,null,null,null,null,null,null,null,{"$f":"入力用!Q44","v":""},null,null,null,null,null,null,null,null,null,{"$f":"IF(入力用!D55=\"\",\"\",入力用!D55)","v":""},null,null,"回路"]
[]
[null,null,null,null,null,null,null,null,null,null,null,null,null,null,null,null,null,null,null,null,null,"(メーカー)",null,null,null,null,null,{"$f":"IF(入力用!F46=\"\",\"\",入力用!F46)","v":""},null,null,null,null,null,null,"(型式)",null,null,null,{"$f":"IF(入力用!F47=\"\",\"\",入力用!F47)","v":""},null,null,null,null,null,null,null,null,null,null,null,null,null,null,null,null,null,null,null,null,null,null,null,null,null,null,null,null,null,null,null,null,null,null,null,null,null,null,null,null,null,"合計\n容量",null,null,null,null,null,null,null,null,null,null,"ＶＡ",null,null,{"$f":"IF(入力用!P34=2,\"契約電流\",IF(入力用!P34=3,\"契約容量\",\"契約電流\n契約容量\"))","v":"契約電流\n契約容量"},null,null,null,null,null,null,null,null,null,null,null,null,{"$f":"IF(入力用!P34=2,\"Ａ\",IF(入力用!P34=3,\"kVA\",\"Ａ\nkVA\"))","v":"Ａ\nkVA"}]
[null,null,null,null,null,null,null,null,null,null,null,null,null,null,null,null,null,null,null,null,null,null,null,null,null,null,null,null,null,null,null,null,null,null,null,null,null,null,null,null,null,null,null,null,null,null,null,null,null,null,null,null,null,null,null,null,null,null,null,null,null,null,null,{"$f":"入力用!Q46","v":""},null,null,null,null,null,null,null,null,null,{"$f":"IF(入力用!D57=\"\",\"\",入力用!D57)","v":""},null,null,"回路"]
[null,{"$f":"IF(入力用!D41=\"\",\"\",入力用!D41)","v":""},null,null,null,null,null,null,"ＶＡ",null,null,{"$f":"IF(入力用!D43=\"\",\"\",入力用!D43)","v":""},null,null,null,null,null,null,"ＶＡ",null,null,{"$f":"IF(入力用!P48=2,入力用!Q11,IF(入力用!P48=3,入力用!Q12,IF(入力用!P48=4,入力用!L48,\"\")))","v":""},null,null,null,null,null,null,null,null,null,null,null,null,null,null,{"$f":"IF(入力用!D49=\"\",\"\",入力用!D49)","v":""},null,null,"台",null,{"$f":"IF(入力用!E50=\"\",\"\",入力用!E50)","v":""},null,null,null,null,null,"ＶＡ"]
[]
[null,null,null,null,null,null,null,null,null,null,null,null,null,null,null,null,null,null,null,null,null,null,null,null,null,null,null,null,null,null,null,null,null,null,null,null,null,null,null,null,null,null,null,null,null,null,null,null,null,null,null,null,null,null,null,null,null,null,null,null,null,null,null,{"$f":"入力用!Q48","v":""},null,null,null,null,null,null,null,null,null,{"$f":"IF(入力用!D59=\"\",\"\",入力用!D59)","v":""},null,null,"回路"]
[null,null,null,null,null,null,null,null,null,null,null,null,null,null,null,null,null,null,null,null,null,"(メーカー)",null,null,null,null,null,{"$f":"IF(入力用!F51=\"\",\"\",入力用!F51)","v":""},null,null,null,null,null,null,"(型式)",null,null,null,{"$f":"IF(入力用!F52=\"\",\"\",入力用!F52)","v":""}]
[]
[null,"ﾊﾟﾀｰﾝ\n区 分",null,null,null,null,"C",null,null,null,"契　約\n種　別",null,null,null,null,{"$f":"IF(入力用!P60=2,入力用!P5,IF(入力用!P60=3,入力用!P6,\"\"))","v":""},null,null,null,null,null,null,null,null,"供　給\n電　気\n方　式",null,null,null,null,{"$f":"IF(入力用!P61=2,入力用!Q5,IF(入力用!P61=3,入力用!Q6,IF(入力用!P61=4,入力用!Q7,IF(入力用!P61=5,入力用!Q8,\"\"))))","v":""},null,null,null,null,null,null,null,null,null,null,null,null,null,"契　約\n決　定\n方　法",null,null,null,null,{"$f":"IF(入力用!P62=2,入力用!R5,IF(入力用!P62=3,入力用!R6,IF(入力用!P62=4,入力用!R7,IF(入力用!P62=5,入力用!R8,IF(入力用!P62=6,入力用!R9,\"\")))))","v":""},null,null,null,null,null,null,null,null,null,null,null,"主開閉器・\n電流制限器\nの定格電流",null,null,null,null,null,{"$f":"IF(入力用!D63=\"\",\"\",入力用!D63)","v":""},null,null,null,null,null,"室番号",null,null,null,null,{"$f":"IF(入力用!D64=\"\",\"\",入力用!D64)","v":""}]
[]
[]
[]
[]
[]
[]
[]
[null,"電　　　　灯",null,null,null,null,null,null,null,null,null,"小　　型　　機　　器　※HPはヒートポンプ",null,null,null,null,null,null,null,null,null,null,null,null,null,null,null,null,null,null,null,null,null,null,null,null,null,null,null,null,null,null,null,null,null,null,null,null,null,null,"回路数",null,null,null,null,{"$f":"IF(入力用!D79=\"\",\"\",入力用!D79)","v":""},null,null,null,null,null,null,null,"適用業種別回路数内訳",null,null,null,null,null,null,null,null,null,null,null,null,null,null,null,null,"契約口\n数合計",null,null,null,null,{"$f":"IF(入力用!D65=\"\",\"\",入力用!D65)","v":""},null,null,null,null,null,"口"]
[]
[null,{"$f":"IF(入力用!D66=\"\",\"\",入力用!D66)","v":""},null,null,null,null,null,null,"灯",null,null,{"$f":"IF(入力用!D68=\"\",\"\",入力用!D68)","v":""},null,null,null,null,null,null,"個",null,null,"うちＩＨクッキングヒーター",null,null,null,null,null,null,null,null,null,null,null,null,null,null,{"$f":"IF(入力用!D70=\"\",\"\",入力用!D70)","v":""},null,null,"台",null,{"$f":"IF(入力用!E71=\"\",\"\",入力用!E71)","v":""},null,null,null,null,null,"ＶＡ",null,null,null,null,null,null,null,null,null,null,null,null,null,null,null,{"$f":"入力用!Q65","v":""},null,null,null,null,null,null,null,null,null,{"$f":"IF(入力用!D81=\"\",\"\",入力用!D81)","v":""},null,null,"回路"]
[]
[null,null,null,null,null,null,null,null,null,null,null,null,null,null,null,null,null,null,null,null,null,"(メーカー)",null,null,null,null,null,{"$f":"IF(入力用!F72=\"\",\"\",入力用!F72)","v":""},null,null,null,null,null,null,"(型式)",null,null,null,{"$f":"IF(入力用!F73=\"\",\"\",入力用!F73)","v":""},null,null,null,null,null,null,null,null,null,null,null,null,null,null,null,null,null,null,null,null,null,null,null,null,null,null,null,null,null,null,null,null,null,null,null,null,null,null,null,null,null,"合計\n容量",null,null,null,null,null,null,null,null,null,null,"ＶＡ",null,null,{"$f":"IF(入力用!P60=2,\"契約電流\",IF(入力用!P60=3,\"契約容量\",\"契約電流\n契約容量\"))","v":"契約電流\n契約容量"},null,null,null,null,null,null,null,null,null,null,null,null,{"$f":"IF(入力用!P60=2,\"Ａ\",IF(入力用!P60=3,\"kVA\",\"Ａ\nkVA\"))","v":"Ａ\nkVA"}]
[null,null,null,null,null,null,null,null,null,null,null,null,null,null,null,null,null,null,null,null,null,null,null,null,null,null,null,null,null,null,null,null,null,null,null,null,null,null,null,null,null,null,null,null,null,null,null,null,null,null,null,null,null,null,null,null,null,null,null,null,null,null,null,{"$f":"入力用!Q67","v":""},null,null,null,null,null,null,null,null,null,{"$f":"IF(入力用!D83=\"\",\"\",入力用!D83)","v":""},null,null,"回路"]
[null,{"$f":"IF(入力用!D67=\"\",\"\",入力用!D67)","v":""},null,null,null,null,null,null,"ＶＡ",null,null,{"$f":"IF(入力用!D69=\"\",\"\",入力用!D69)","v":""},null,null,null,null,null,null,"ＶＡ",null,null,{"$f":"IF(入力用!P74=2,入力用!Q11,IF(入力用!P74=3,入力用!Q12,IF(入力用!P74=4,入力用!L74,\"\")))","v":""},null,null,null,null,null,null,null,null,null,null,null,null,null,null,{"$f":"IF(入力用!D75=\"\",\"\",入力用!D75)","v":""},null,null,"台",null,{"$f":"IF(入力用!E76=\"\",\"\",入力用!E76)","v":""},null,null,null,null,null,"ＶＡ"]
[]
[null,null,null,null,null,null,null,null,null,null,null,null,null,null,null,null,null,null,null,null,null,null,null,null,null,null,null,null,null,null,null,null,null,null,null,null,null,null,null,null,null,null,null,null,null,null,null,null,null,null,null,null,null,null,null,null,null,null,null,null,null,null,null,{"$f":"入力用!Q69","v":""},null,null,null,null,null,null,null,null,null,{"$f":"IF(入力用!D85=\"\",\"\",入力用!D85)","v":""},null,null,"回路"]
[null,null,null,null,null,null,null,null,null,null,null,null,null,null,null,null,null,null,null,null,null,"(メーカー)",null,null,null,null,null,{"$f":"IF(入力用!F77=\"\",\"\",入力用!F77)","v":""},null,null,null,null,null,null,"(型式)",null,null,null,{"$f":"IF(入力用!F78=\"\",\"\",入力用!F78)","v":""}]
[]
[null,"ﾊﾟﾀｰﾝ\n区 分",null,null,null,null,"D",null,null,null,"契　約\n種　別",null,null,null,null,{"$f":"IF(入力用!P86=2,入力用!P5,IF(入力用!P86=3,入力用!P6,\"\"))","v":""},null,null,null,null,null,null,null,null,"供　給\n電　気\n方　式",null,null,null,null,{"$f":"IF(入力用!P87=2,入力用!Q5,IF(入力用!P87=3,入力用!Q6,IF(入力用!P87=4,入力用!Q7,IF(入力用!P87=5,入力用!Q8,\"\"))))","v":""},null,null,null,null,null,null,null,null,null,null,null,null,null,"契　約\n決　定\n方　法",null,null,null,null,{"$f":"IF(入力用!P88=2,入力用!R5,IF(入力用!P88=3,入力用!R6,IF(入力用!P88=4,入力用!R7,IF(入力用!P88=5,入力用!R8,IF(入力用!P88=6,入力用!R9,\"\")))))","v":""},null,null,null,null,null,null,null,null,null,null,null,"主開閉器・\n電流制限器\nの定格電流",null,null,null,null,null,{"$f":"IF(入力用!D89=\"\",\"\",入力用!D89)","v":""},null,null,null,null,null,"室番号",null,null,null,null,{"$f":"IF(入力用!D90=\"\",\"\",入力用!D90)","v":""}]
[]
[]
[]
[]
[]
[]
[]
[null,"電　　　　灯",null,null,null,null,null,null,null,null,null,"小　　型　　機　　器　※HPはヒートポンプ",null,null,null,null,null,null,null,null,null,null,null,null,null,null,null,null,null,null,null,null,null,null,null,null,null,null,null,null,null,null,null,null,null,null,null,null,null,null,"回路数",null,null,null,null,{"$f":"IF(入力用!D105=\"\",\"\",入力用!D105)","v":""},null,null,null,null,null,null,null,"適用業種別回路数内訳",null,null,null,null,null,null,null,null,null,null,null,null,null,null,null,null,"契約口\n数合計",null,null,null,null,{"$f":"IF(入力用!D91=\"\",\"\",入力用!D91)","v":""},null,null,null,null,null,"口"]
[]
[null,{"$f":"IF(入力用!D92=\"\",\"\",入力用!D92)","v":""},null,null,null,null,null,null,"灯",null,null,{"$f":"IF(入力用!D94=\"\",\"\",入力用!D94)","v":""},null,null,null,null,null,null,"個",null,null,"うちＩＨクッキングヒーター",null,null,null,null,null,null,null,null,null,null,null,null,null,null,{"$f":"IF(入力用!D96=\"\",\"\",入力用!D96)","v":""},null,null,"台",null,{"$f":"IF(入力用!E97=\"\",\"\",入力用!E97)","v":""},null,null,null,null,null,"ＶＡ",null,null,null,null,null,null,null,null,null,null,null,null,null,null,null,{"$f":"入力用!Q86","v":""},null,null,null,null,null,null,null,null,null,{"$f":"IF(入力用!D107=\"\",\"\",入力用!D107)","v":""},null,null,"回路"]
[]
[null,null,null,null,null,null,null,null,null,null,null,null,null,null,null,null,null,null,null,null,null,"(メーカー)",null,null,null,null,null,{"$f":"IF(入力用!F98=\"\",\"\",入力用!F98)","v":""},null,null,null,null,null,null,"(型式)",null,null,null,{"$f":"IF(入力用!F99=\"\",\"\",入力用!F99)","v":""},null,null,null,null,null,null,null,null,null,null,null,null,null,null,null,null,null,null,null,null,null,null,null,null,null,null,null,null,null,null,null,null,null,null,null,null,null,null,null,null,null,"合計\n容量",null,null,null,null,null,null,null,null,null,null,"ＶＡ",null,null,{"$f":"IF(入力用!P86=2,\"契約電流\",IF(入力用!P86=3,\"契約容量\",\"契約電流\n契約容量\"))","v":"契約電流\n契約容量"},null,null,null,null,null,null,null,null,null,null,null,null,{"$f":"IF(入力用!P86=2,\"Ａ\",IF(入力用!P86=3,\"kVA\",\"Ａ\nkVA\"))","v":"Ａ\nkVA"}]
[null,null,null,null,null,null,null,null,null,null,null,null,null,null,null,null,null,null,null,null,null,null,null,null,null,null,null,null,null,null,null,null,null,null,null,null,null,null,null,null,null,null,null,null,null,null,null,null,null,null,null,null,null,null,null,null,null,null,null,null,null,null,null,{"$f":"入力用!Q88","v":""},null,null,null,null,null,null,null,null,null,{"$f":"IF(入力用!D109=\"\",\"\",入力用!D109)","v":""},null,null,"回路"]
[null,{"$f":"IF(入力用!D93=\"\",\"\",入力用!D93)","v":""},null,null,null,null,null,null,"ＶＡ",null,null,{"$f":"IF(入力用!D95=\"\",\"\",入力用!D95)","v":""},null,null,null,null,null,null,"ＶＡ",null,null,{"$f":"IF(入力用!P100=2,入力用!Q11,IF(入力用!P100=3,入力用!Q12,IF(入力用!P100=4,入力用!L100,\"\")))","v":""},null,null,null,null,null,null,null,null,null,null,null,null,null,null,{"$f":"IF(入力用!D101=\"\",\"\",入力用!D101)","v":""},null,null,"台",null,{"$f":"IF(入力用!E102=\"\",\"\",入力用!E102)","v":""},null,null,null,null,null,"ＶＡ"]
[]
[null,null,null,null,null,null,null,null,null,null,null,null,null,null,null,null,null,null,null,null,null,null,null,null,null,null,null,null,null,null,null,null,null,null,null,null,null,null,null,null,null,null,null,null,null,null,null,null,null,null,null,null,null,null,null,null,null,null,null,null,null,null,null,{"$f":"入力用!Q90","v":""},null,null,null,null,null,null,null,null,null,{"$f":"IF(入力用!D111=\"\",\"\",入力用!D111)","v":""},null,null,"回路"]
[null,null,null,null,null,null,null,null,null,null,null,null,null,null,null,null,null,null,null,null,null,"(メーカー)",null,null,null,null,null,{"$f":"IF(入力用!F103=\"\",\"\",入力用!F103)","v":""},null,null,null,null,null,null,"(型式)",null,null,null,{"$f":"IF(入力用!F104=\"\",\"\",入力用!F104)","v":""}]
[]
[null,"ﾊﾟﾀｰﾝ\n区 分",null,null,null,null,"E",null,null,null,"契　約\n種　別",null,null,null,null,{"$f":"IF(入力用!P112=2,入力用!P5,IF(入力用!P112=3,入力用!P6,\"\"))","v":""},null,null,null,null,null,null,null,null,"供　給\n電　気\n方　式",null,null,null,null,{"$f":"IF(入力用!P113=2,入力用!Q5,IF(入力用!P113=3,入力用!Q6,IF(入力用!P113=4,入力用!Q7,IF(入力用!P113=5,入力用!Q8,\"\"))))","v":""},null,null,null,null,null,null,null,null,null,null,null,null,null,"契　約\n決　定\n方　法",null,null,null,null,{"$f":"IF(入力用!P114=2,入力用!R5,IF(入力用!P114=3,入力用!R6,IF(入力用!P114=4,入力用!R7,IF(入力用!P114=5,入力用!R8,IF(入力用!P114=6,入力用!R9,\"\")))))","v":""},null,null,null,null,null,null,null,null,null,null,null,"主開閉器・\n電流制限器\nの定格電流",null,null,null,null,null,{"$f":"IF(入力用!D115=\"\",\"\",入力用!D115)","v":""},null,null,null,null,null,"室番号",null,null,null,null,{"$f":"IF(入力用!D116=\"\",\"\",入力用!D116)","v":""}]
[]
[]
[]
[]
[]
[]
[]
[null,"電　　　　灯",null,null,null,null,null,null,null,null,null,"小　　型　　機　　器　※HPはヒートポンプ",null,null,null,null,null,null,null,null,null,null,null,null,null,null,null,null,null,null,null,null,null,null,null,null,null,null,null,null,null,null,null,null,null,null,null,null,null,null,"回路数",null,null,null,null,{"$f":"IF(入力用!D131=\"\",\"\",入力用!D131)","v":""},null,null,null,null,null,null,null,"適用業種別回路数内訳",null,null,null,null,null,null,null,null,null,null,null,null,null,null,null,null,"契約口\n数合計",null,null,null,null,{"$f":"IF(入力用!D117=\"\",\"\",入力用!D117)","v":""},null,null,null,null,null,"口"]
[]
[null,{"$f":"IF(入力用!D118=\"\",\"\",入力用!D118)","v":""},null,null,null,null,null,null,"灯",null,null,{"$f":"IF(入力用!D120=\"\",\"\",入力用!D120)","v":""},null,null,null,null,null,null,"個",null,null,"うちＩＨクッキングヒーター",null,null,null,null,null,null,null,null,null,null,null,null,null,null,{"$f":"IF(入力用!D122=\"\",\"\",入力用!D122)","v":""},null,null,"台",null,{"$f":"IF(入力用!E123=\"\",\"\",入力用!E123)","v":""},null,null,null,null,null,"ＶＡ",null,null,null,null,null,null,null,null,null,null,null,null,null,null,null,{"$f":"入力用!Q107","v":""},null,null,null,null,null,null,null,null,null,{"$f":"IF(入力用!D133=\"\",\"\",入力用!D133)","v":""},null,null,"回路"]
[]
[null,null,null,null,null,null,null,null,null,null,null,null,null,null,null,null,null,null,null,null,null,"(メーカー)",null,null,null,null,null,{"$f":"IF(入力用!F124=\"\",\"\",入力用!F124)","v":""},null,null,null,null,null,null,"(型式)",null,null,null,{"$f":"IF(入力用!F125=\"\",\"\",入力用!F125)","v":""},null,null,null,null,null,null,null,null,null,null,null,null,null,null,null,null,null,null,null,null,null,null,null,null,null,null,null,null,null,null,null,null,null,null,null,null,null,null,null,null,null,"合計\n容量",null,null,null,null,null,null,null,null,null,null,"ＶＡ",null,null,{"$f":"IF(入力用!P112=2,\"契約電流\",IF(入力用!P112=3,\"契約容量\",\"契約電流\n契約容量\"))","v":"契約電流\n契約容量"},null,null,null,null,null,null,null,null,null,null,null,null,{"$f":"IF(入力用!P112=2,\"Ａ\",IF(入力用!P112=3,\"kVA\",\"Ａ\nkVA\"))","v":"Ａ\nkVA"}]
[null,null,null,null,null,null,null,null,null,null,null,null,null,null,null,null,null,null,null,null,null,null,null,null,null,null,null,null,null,null,null,null,null,null,null,null,null,null,null,null,null,null,null,null,null,null,null,null,null,null,null,null,null,null,null,null,null,null,null,null,null,null,null,{"$f":"入力用!Q109","v":""},null,null,null,null,null,null,null,null,null,{"$f":"IF(入力用!D135=\"\",\"\",入力用!D135)","v":""},null,null,"回路"]
[null,{"$f":"IF(入力用!D119=\"\",\"\",入力用!D119)","v":""},null,null,null,null,null,null,"ＶＡ",null,null,{"$f":"IF(入力用!D121=\"\",\"\",入力用!D121)","v":""},null,null,null,null,null,null,"ＶＡ",null,null,{"$f":"IF(入力用!P126=2,入力用!Q11,IF(入力用!P126=3,入力用!Q12,IF(入力用!P126=4,入力用!L126,\"\")))","v":""},null,null,null,null,null,null,null,null,null,null,null,null,null,null,{"$f":"IF(入力用!D127=\"\",\"\",入力用!D127)","v":""},null,null,"台",null,{"$f":"IF(入力用!E128=\"\",\"\",入力用!E128)","v":""},null,null,null,null,null,"ＶＡ"]
[]
[null,null,null,null,null,null,null,null,null,null,null,null,null,null,null,null,null,null,null,null,null,null,null,null,null,null,null,null,null,null,null,null,null,null,null,null,null,null,null,null,null,null,null,null,null,null,null,null,null,null,null,null,null,null,null,null,null,null,null,null,null,null,null,{"$f":"入力用!Q111","v":""},null,null,null,null,null,null,null,null,null,{"$f":"IF(入力用!D137=\"\",\"\",入力用!D137)","v":""},null,null,"回路"]
[null,null,null,null,null,null,null,null,null,null,null,null,null,null,null,null,null,null,null,null,null,"(メーカー)",null,null,null,null,null,{"$f":"IF(入力用!F129=\"\",\"\",入力用!F129)","v":""},null,null,null,null,null,null,"(型式)",null,null,null,{"$f":"IF(入力用!F130=\"\",\"\",入力用!F130)","v":""}]
[]
[null,"ﾊﾟﾀｰﾝ\n区 分",null,null,null,null,"F",null,null,null,"契　約\n種　別",null,null,null,null,{"$f":"IF(入力用!P138=2,入力用!P5,IF(入力用!P138=3,入力用!P6,\"\"))","v":""},null,null,null,null,null,null,null,null,"供　給\n電　気\n方　式",null,null,null,null,{"$f":"IF(入力用!P139=2,入力用!Q5,IF(入力用!P139=3,入力用!Q6,IF(入力用!P139=4,入力用!Q7,IF(入力用!P139=5,入力用!Q8,\"\"))))","v":""},null,null,null,null,null,null,null,null,null,null,null,null,null,"契　約\n決　定\n方　法",null,null,null,null,{"$f":"IF(入力用!P140=2,入力用!R5,IF(入力用!P140=3,入力用!R6,IF(入力用!P140=4,入力用!R7,IF(入力用!P140=5,入力用!R8,IF(入力用!P140=6,入力用!R9,\"\")))))","v":""},null,null,null,null,null,null,null,null,null,null,null,"主開閉器・\n電流制限器\nの定格電流",null,null,null,null,null,{"$f":"IF(入力用!D141=\"\",\"\",入力用!D141)","v":""},null,null,null,null,null,"室番号",null,null,null,null,{"$f":"IF(入力用!D142=\"\",\"\",入力用!D142)","v":""}]
[]
[]
[]
[]
[]
[]
[]
[null,"電　　　　灯",null,null,null,null,null,null,null,null,null,"小　　型　　機　　器　※HPはヒートポンプ",null,null,null,null,null,null,null,null,null,null,null,null,null,null,null,null,null,null,null,null,null,null,null,null,null,null,null,null,null,null,null,null,null,null,null,null,null,null,"回路数",null,null,null,null,{"$f":"IF(入力用!D157=\"\",\"\",入力用!D157)","v":""},null,null,null,null,null,null,null,"適用業種別回路数内訳",null,null,null,null,null,null,null,null,null,null,null,null,null,null,null,null,"契約口\n数合計",null,null,null,null,{"$f":"IF(入力用!D143=\"\",\"\",入力用!D143)","v":""},null,null,null,null,null,"口"]
[]
[null,{"$f":"IF(入力用!D144=\"\",\"\",入力用!D144)","v":""},null,null,null,null,null,null,"灯",null,null,{"$f":"IF(入力用!D146=\"\",\"\",入力用!D146)","v":""},null,null,null,null,null,null,"個",null,null,"うちＩＨクッキングヒーター",null,null,null,null,null,null,null,null,null,null,null,null,null,null,{"$f":"IF(入力用!D148=\"\",\"\",入力用!D148)","v":""},null,null,"台",null,{"$f":"IF(入力用!E149=\"\",\"\",入力用!E149)","v":""},null,null,null,null,null,"ＶＡ",null,null,null,null,null,null,null,null,null,null,null,null,null,null,null,{"$f":"入力用!Q128","v":""},null,null,null,null,null,null,null,null,null,{"$f":"IF(入力用!D159=\"\",\"\",入力用!D159)","v":""},null,null,"回路"]
[]
[null,null,null,null,null,null,null,null,null,null,null,null,null,null,null,null,null,null,null,null,null,"(メーカー)",null,null,null,null,null,{"$f":"IF(入力用!F150=\"\",\"\",入力用!F150)","v":""},null,null,null,null,null,null,"(型式)",null,null,null,{"$f":"IF(入力用!F151=\"\",\"\",入力用!F151)","v":""},null,null,null,null,null,null,null,null,null,null,null,null,null,null,null,null,null,null,null,null,null,null,null,null,null,null,null,null,null,null,null,null,null,null,null,null,null,null,null,null,null,"合計\n容量",null,null,null,null,null,null,null,null,null,null,"ＶＡ",null,null,{"$f":"IF(入力用!P138=2,\"契約電流\",IF(入力用!P138=3,\"契約容量\",\"契約電流\n契約容量\"))","v":"契約電流\n契約容量"},null,null,null,null,null,null,null,null,null,null,null,null,{"$f":"IF(入力用!P138=2,\"Ａ\",IF(入力用!P138=3,\"kVA\",\"Ａ\nkVA\"))","v":"Ａ\nkVA"}]
[null,null,null,null,null,null,null,null,null,null,null,null,null,null,null,null,null,null,null,null,null,null,null,null,null,null,null,null,null,null,null,null,null,null,null,null,null,null,null,null,null,null,null,null,null,null,null,null,null,null,null,null,null,null,null,null,null,null,null,null,null,null,null,{"$f":"入力用!Q130","v":""},null,null,null,null,null,null,null,null,null,{"$f":"IF(入力用!D161=\"\",\"\",入力用!D161)","v":""},null,null,"回路"]
[null,{"$f":"IF(入力用!D145=\"\",\"\",入力用!D145)","v":""},null,null,null,null,null,null,"ＶＡ",null,null,{"$f":"IF(入力用!D147=\"\",\"\",入力用!D147)","v":""},null,null,null,null,null,null,"ＶＡ",null,null,{"$f":"IF(入力用!P152=2,入力用!Q11,IF(入力用!P152=3,入力用!Q12,IF(入力用!P152=4,入力用!L152,\"\")))","v":""},null,null,null,null,null,null,null,null,null,null,null,null,null,null,{"$f":"IF(入力用!D153=\"\",\"\",入力用!D153)","v":""},null,null,"台",null,{"$f":"IF(入力用!E154=\"\",\"\",入力用!E154)","v":""},null,null,null,null,null,"ＶＡ"]
[]
[null,null,null,null,null,null,null,null,null,null,null,null,null,null,null,null,null,null,null,null,null,null,null,null,null,null,null,null,null,null,null,null,null,null,null,null,null,null,null,null,null,null,null,null,null,null,null,null,null,null,null,null,null,null,null,null,null,null,null,null,null,null,null,{"$f":"入力用!Q132","v":""},null,null,null,null,null,null,null,null,null,{"$f":"IF(入力用!D163=\"\",\"\",入力用!D163)","v":""},null,null,"回路"]
[null,null,null,null,null,null,null,null,null,null,null,null,null,null,null,null,null,null,null,null,null,"(メーカー)",null,null,null,null,null,{"$f":"IF(入力用!F155=\"\",\"\",入力用!F155)","v":""},null,null,null,null,null,null,"(型式)",null,null,null,{"$f":"IF(入力用!F156=\"\",\"\",入力用!F156)","v":""}]
[]
[]
[null,"＜備考＞",null,null,null,null,null,null,null,null,null,null,null,null,null,null,null,null,null,null,null,null,null,null,null,null,null,null,null,null,null,null,null,null,null,null,null,null,null,null,null,null,null,null,null,null,null,null,null,null,null,null,null,null,null,null,null,null,null,null,null,null,null,null,null,null,null,null,null,null,null,null,null,null,null,null,null,null,null,null,null,null,null,null,null,null,null,null,null,null,null,null,null,null,null,null,null,null,null,null,null,"受付"]
[]
[]
[]
[]
[]
[]
[null,null,"施設組合印",null,null,null,null,null,null,null,null,null,null,null,null,null,null,null,null,null,null,null,null,"住　　所"]
[null,null,null,null,null,null,null,null,null,null,null,null,null,null,null,null,null,null,null,null,null,null,null,null,null,null,null,null,null,null,null,null,null,null,null,null,null,null,null,null,null,null,null,null,null,null,null,null,null,null,null,null,null,null,null,null,null,null,null,null,null,null,null,null,null,null,null,null,null,null,null,null,null,null,null,null,null,null,null,null,null,null,null,null,null,null,null,null,null,null,null,null,null,null,null,null,null,null,null,null,null,"図面照査"]
[]
[]
[]
[null,null,null,null,null,null,null,null,null,null,null,null,null,null,null,null,null,null,null,null,null,null,null,"工　　事\n会 社 名",null,null,null,null,null,null,null,null,null,null,null,null,null,null,null,null,null,null,null,null,null,null,null,null,null,null,null,null,null,null,null,null,null,null,null,null,null,null,null,null,null,null,null,null,null,null,null,null,null,null,"北電コード№　　　　　　　　　　　　　　　"]
[]
[]
[null,null,null,null,null,null,null,null,null,null,null,null,null,null,null,null,null,null,null,null,null,null,null,null,null,null,null,null,null,null,null,null,null,null,null,null,null,null,null,null,null,null,null,null,null,null,null,null,null,null,null,null,null,null,null,null,null,null,null,null,null,null,null,null,null,null,null,null,"印",null,null,null,null,null,"ＴＥＬ　　　　　　　　　　　　　　　　　　　　"]
[]
[]
[null,null,null,null,null,null,null,null,null,null,null,null,null,null,null,null,null,null,null,null,null,null,null,"氏　　名",null,null,null,null,null,null,null,null,null,null,null,null,null,null,null,null,null,null,null,null,null,null,null,null,null,null,null,null,null,null,null,null,null,null,null,null,null,null,null,null,null,null,null,null,null,null,null,null,null,null,"工事会社連絡箱№　　　　　　　　　　　"]
[]
[]
[]
[]
["北　海　道　電　力　ネ　ッ　ト　ワ　ー　ク　株　式　会　社"]