{"text_format":"1","workbook":"xlsx","n_sheets":4,"sheets":["入力用","１枚目","２枚目","３枚目"],"not_rendered":{"charts":0,"images":0,"macros":1,"external_links":0,"defined_names":3,"comments":1,"pivot_tables":0},"unopened":[],"bounds":{"document_bytes":16777216,"sheet_cells":100000,"rows_first":2000,"rows_last":500,"rows_between":2000,"halvings":0,"cell_chars":16384,"cell_head_chars":4096},"cells_cut":0,"cells_raw":0,"read":"whole","date_system":"1900"}

{"sheet":"入力用","index":0,"n_rows":209,"n_cols":38,"rows_kept":209,"cut":false,"hidden":false,"merged":[[201,1,208,2],[201,4,201,12],[202,4,202,12],[203,4,203,12],[204,4,204,5],[204,6,204,7],[205,4,205,5],[205,6,205,7],[207,5,207,6],[193,1,200,2],[193,4,193,12],[194,4,194,12],[195,4,195,12],[196,4,196,5],[196,6,196,7],[197,4,197,5],[197,6,197,7],[199,5,199,6],[185,1,192,2],[185,4,185,12],[186,4,186,12],[187,4,187,12],[188,4,188,5],[188,6,188,7],[189,4,189,5],[189,6,189,7],[191,5,191,6],[171,4,171,12],[172,4,172,5],[172,6,172,7],[173,4,173,5],[173,6,173,7],[175,5,175,6],[177,1,184,2],[177,4,177,12],[178,4,178,12],[179,4,179,12],[180,4,180,5],[180,6,180,7],[181,4,181,5],[181,6,181,7],[183,5,183,6],[165,20,165,21],[166,19,166,37],[166,1,167,3],[166,6,166,7],[167,22,167,25],[167,26,167,29],[167,30,167,33],[167,34,167,37],[159,0,208,0],[159,1,159,3],[160,19,160,21],[160,1,160,3],[161,1,161,3],[162,1,162,3],[162,5,162,6],[163,1,165,2],[163,4,163,12],[164,4,164,12],[168,1,168,3],[168,5,168,7],[169,1,176,2],[169,4,169,12],[170,19,170,20],[170,4,170,12],[151,1,158,2],[151,4,151,12],[152,4,152,12],[153,4,153,12],[154,4,154,5],[154,6,154,7],[155,4,155,5],[155,6,155,7],[157,5,157,6],[143,1,150,2],[143,4,143,12],[144,4,144,12],[145,4,145,12],[146,4,146,5],[146,6,146,7],[147,4,147,5],[147,6,147,7],[149,5,149,6],[135,1,142,2],[135,4,135,12],[136,4,136,12],[137,4,137,12],[138,4,138,5],[138,6,138,7],[139,4,139,5],[139,6,139,7],[141,5,141,6],[121,4,121,12],[122,4,122,5],[122,6,122,7],[123,4,123,5],[123,6,123,7],[125,5,125,6],[127,1,134,2],[127,4,127,12],[128,4,128,12],[129,4,129,12],[130,4,130,5],[130,6,130,7],[131,4,131,5],[131,6,131,7],[133,5,133,6],[115,20,115,21],[116,19,116,37],[116,1,117,3],[116,6,116,7],[117,22,117,25],[117,26,117,29],[117,30,117,33],[117,34,117,37],[109,0,158,0],[109,1,109,3],[110,19,110,21],[110,1,110,3],[111,1,111,3],[112,1,112,3],[112,5,112,6],[113,1,115,2],[113,4,113,12],[114,4,114,12],[118,1,118,3],[118,5,118,7],[119,1,126,2],[119,4,119,12],[120,19,120,20],[120,4,120,12],[104,1,108,2],[104,4,104,12],[105,4,105,5],[105,6,105,7],[106,4,106,5],[106,6,106,7],[108,5,108,6],[99,1,103,2],[99,4,99,12],[100,4,100,5],[100,6,100,7],[101,4,101,5],[101,6,101,7],[103,5,103,6],[90,6,90,7],[91,4,91,5],[91,6,91,7],[92,19,92,20],[93,5,93,6],[94,1,98,2],[94,4,94,12],[95,4,95,5],[95,6,95,7],[96,4,96,5],[96,6,96,7],[98,5,98,6],[85,4,85,5],[85,6,85,7],[86,4,86,5],[86,6,86,7],[87,20,87,21],[88,19,88,37],[80,2,80,3],[80,5,80,6],[81,0,108,0],[81,1,81,3],[82,19,82,21],[82,1,82,3],[83,1,83,3],[83,5,83,6],[84,1,88,2],[84,4,84,12],[88,5,88,6],[89,22,89,25],[89,26,89,29],[89,30,89,33],[89,34,89,37],[89,1,93,2],[89,4,89,12],[90,4,90,5],[77,17,77,18],[77,4,77,5],[77,6,77,7],[78,2,79,3],[79,4,79,5],[79,6,79,7],[72,2,73,3],[72,4,72,6],[73,4,73,6],[73,7,73,8],[73,9,73,10],[74,2,75,3],[74,4,74,6],[75,4,75,6],[75,7,75,8],[75,9,75,10],[69,17,69,18],[69,2,69,3],[69,8,69,12],[70,20,70,26],[70,2,71,3],[70,4,70,6],[71,4,71,6],[71,7,71,8],[71,9,71,10],[63,4,63,12],[64,5,64,6],[66,5,66,6],[67,21,67,22],[67,5,67,6],[68,21,68,22],[53,4,53,12],[54,5,54,6],[56,5,56,6],[57,5,57,6],[58,4,58,12],[59,5,59,6],[61,5,61,6],[62,5,62,6],[44,17,44,21],[44,5,44,6],[46,5,46,6],[47,5,47,6],[48,2,52,2],[49,17,49,21],[49,5,49,6],[51,5,51,6],[52,5,52,6],[34,17,34,21],[34,5,34,6],[36,5,36,6],[37,5,37,6],[38,2,42,2],[39,17,39,21],[39,5,39,6],[41,5,41,6],[42,5,42,6],[31,0,80,0],[31,1,31,3],[32,1,32,3],[33,1,67,1],[33,2,37,2],[43,2,47,2],[53,2,57,2],[63,2,67,2],[68,1,80,1],[58,2,62,2],[68,2,68,3],[76,2,77,3],[24,0,24,3],[25,0,25,3],[26,0,27,2],[26,4,26,12],[27,4,27,12],[28,0,30,2],[28,4,28,7],[29,4,29,12],[30,6,30,7],[30,9,30,10],[21,0,21,3],[21,4,21,12],[22,0,22,3],[22,6,22,7],[22,10,22,11],[23,0,23,3],[23,4,23,12],[16,0,18,2],[16,4,16,12],[17,4,17,12],[18,6,18,7],[18,9,18,10],[19,0,20,2],[19,4,19,7],[20,4,20,12],[11,0,15,2],[11,4,11,12],[12,4,12,12],[13,6,13,7],[14,4,14,12],[15,6,15,7],[15,9,15,10],[8,4,8,12],[9,1,10,2],[9,6,9,7],[9,9,9,10],[10,6,10,7],[10,9,10,10],[2,16,2,31],[3,0,10,0],[3,1,6,2],[3,4,3,12],[3,30,3,31],[4,4,4,12],[5,4,5,12],[6,4,6,12],[7,1,8,2],[7,4,7,7]]}
[]
[null,null,null,null,null,null,null,null,null,null,null,null,null,null,false]
[null,null,{"$f":"IF(N3=\"\",\"印刷されましたら，「NW控」に施設組合印および御社の社印を押印してください。\",\"必要事項をすべて入力すると，右の表示が消えます。\")","v":"必要事項をすべて入力すると，右の表示が消えます。"},null,null,null,null,null,null,null,null,null,null,{"$f":"IF(O3=\"\",\"\",O3)","v":"入力に不備があります。"},{"$f":"IF(COUNTBLANK(O4:O5)+COUNTBLANK(O8:O32)+COUNTBLANK(O34:O81)+COUNTBLANK(O83:O209)=202,\"\",\"入力に不備があります。\")","v":"入力に不備があります。"},null,"ドロップダウンリスト"]
["発注者","発注者名",null,"フリガナ",null,null,null,null,null,null,null,null,null,{"$f":"IF(O4=\"\",\"\",O4)","v":"←入力してください。"},{"$f":"IF(E4=\"\",\"←入力してください。\",\"\")","v":"←入力してください。"},null,"本契約前の臨時契約の有無","共用部分お支払方法","契約種別","供給電気方式・供給電圧","機器種別","力率","契約決定方法","業種","契約決定方法","出力","力率","契約種別","通電制御・検知制御","検知制御装置","通電遮断パターン"]
[null,null,null,"漢字",null,null,null,null,null,null,null,null,null,"←入力してください。",{"$f":"IF(E5=\"\",\"←入力してください。\",\"\")","v":"←入力してください。"}]
[null,null,null,"代表者肩書",null,null,null,null,null,null,null,null,null,"ご契約者が個人名ではない場合は入力してください。",{"$f":"IF(E6=\"\",\"ご契約者が個人名ではない場合は入力してください。\",\"\")","v":"ご契約者が個人名ではない場合は入力してください。"},null,"有","振込用紙","定額電灯","単相2線式100Ｖ","水銀灯","高力率型","ブレーカー契約","住宅","主開閉器契約","㏋",1,"深夜電力Ａ","あり","降雪","時間","連続"]
[null,null,null,"代表者名",null,null,null,null,null,null,null,null,null,"ご契約者が個人名ではない場合は入力してください。",{"$f":"IF(E7=\"\",\"ご契約者が個人名ではない場合は入力してください。\",\"\")","v":"ご契約者が個人名ではない場合は入力してください。"},null,"無","口座振替","従量電灯Ａ","単相2線式200Ｖ","ナトリウム灯","低力率型","主開閉器契約","アパート・寮","負荷設備契約","kW",0.9,"深夜電力Ｂ","なし","屋根","分","断続"]
[null,"住所",null,"郵便番号",null,null,null,null,null,null,null,null,null,"←入力してください。",{"$f":"IF(E8=\"\",\"←入力してください。\",IF(OR(AND(MID(E8,4,1)<>\"-\",LEN(E8)<>7),AND(MID(E8,4,1)=\"-\",LEN(E8)<>8)),\"←入力誤りです。\",\"\"))","v":"←入力してください。"},null,null,"クレジット","従量電灯Ｂ","単相3線式100V・200V","けい光灯",null,"回路契約","商店",null,null,0.85,"深夜電力Ｃ",null,"路面"]
[null,null,null,"住所",null,null,null,null,null,null,null,null,null,"←入力してください。",{"$f":"IF(E9=\"\",\"←入力してください。\",\"\")","v":"←入力してください。"},null,null,null,"従量電灯Ｃ","3相3線式200V","白熱電球",null,"負荷設備契約","工場",null,null,0.8,"深夜電力Ｄ"]
[null,"電話番号",null,"固定",null,"-",null,null,"-",null,null,null,null,"",{"$f":"IF(OR(E10=\"\",G10=\"\",J10=\"\"),\"\",IF(OR(LEN(J10)<>4,LEN(E10)+LEN(G10)+LEN(J10)<>10),\"←入力内容が不正です。\",\"\"))","v":""},null,null,null,null,null,"その他",null,"ブレーカー契約（計器）","事務所",null,null,null,"ホットタイム19"]
[null,null,null,"携帯",null,"-",null,null,"-",null,null,null,null,"",{"$f":"IF(OR(E11=\"\",G11=\"\",M11=\"\"),\"\",IF(OR(LEN(M11)<>4,LEN(E11)+LEN(G11)+LEN(M11)<>11),\"←入力内容が不正です。\",\"\"))","v":""},null,null,null,null,null,null,null,null,"旅館・飲食店",null,null,null,"ホットタイム22"]
["電気工事会社",null,null,"会社名",null,null,null,null,null,null,null,null,null,"←入力してください。",{"$f":"IF(E12=\"\",\"←入力してください。\",\"\")","v":"←入力してください。"},null,null,null,null,null,null,null,null,"学校・病院",null,null,null,"ホットタイム19エコ"]
[null,null,null,"担当者",null,null,null,null,null,null,null,null,null,"←入力してください。",{"$f":"IF(E13=\"\",\"←入力してください。\",\"\")","v":"←入力してください。"},null,null,null,null,null,null,null,null,"劇場・娯楽場",null,null,null,"ホットタイム22エコ"]
[null,null,null,"工事会社№",null,"-",null,null,null,null,null,null,null,"←入力してください。",{"$f":"IF(OR(E14=\"\",G14=\"\"),\"←入力してください。\",IF(OR(LEN(E14)<>2,LEN(G14)<>3),\"←入力内容が不正です。\",\"\"))","v":"←入力してください。"},null,null,null,null,null,null,null,null,"その他",null,null,null,"ホットタイム22ロング"]
[null,null,null,"住所",null,null,null,null,null,null,null,null,null,"←入力してください。",{"$f":"IF(E15=\"\",\"←入力してください。\",\"\")","v":"←入力してください。"}]
[null,null,null,"電話",null,"-",null,null,"-",null,null,null,null,"←入力してください。",{"$f":"IF(AND(E16=\"\",G16=\"\",J16=\"\"),\"←入力してください。\",IF(OR(LEN(J16)<>4,LEN(E16)+LEN(G16)+LEN(J16)<10,LEN(E16)+LEN(G16)+LEN(J16)>11),\"←入力内容が不正です。\",\"\"))","v":"←入力してください。"}]
["建築会社",null,null,"会社名",null,null,null,null,null,null,null,null,null,"",{"$f":"IF(AND(E18=\"\",E19=\"\",G19=\"\",J19=\"\"),\"\",IF(E17=\"\",\"←入力してください。\",\"\"))","v":""}]
[null,null,null,"担当者",null,null,null,null,null,null,null,null,null,"",{"$f":"IF(AND(E17=\"\",E19=\"\",G19=\"\",J19=\"\"),\"\",IF(E18=\"\",\"←入力してください。\",\"\"))","v":""}]
[null,null,null,"電話",null,"-",null,null,"-",null,null,null,null,"",{"$f":"IF(LEN(E19)+LEN(G19)+LEN(J19)=0,\"\",IF(OR(LEN(J19)<>4,LEN(E19)+LEN(G19)+LEN(J19)<10,LEN(E19)+LEN(G19)+LEN(J19)>11),\"←入力内容が不正です。\",\"\"))","v":""}]
["建物住所",null,null,"郵便番号",null,null,null,null,null,null,null,null,null,"",{"$f":"IF(AND(E20=\"\",E21=\"\"),\"\",IF(AND(E20=\"\",E21<>\"同上\"),\"←入力してください。\",IF(E20=\"\",\"\",IF(OR(AND(MID(E20,4,1)<>\"-\",LEN(E20)<>7),AND(MID(E20,4,1)=\"-\",LEN(E20)<>8)),\"←入力誤りです。\",\"\"))))","v":""}]
[null,null,null,"住所",null,null,null,null,null,null,null,null,null,"←入力してください。",{"$f":"IF(E21=\"\",\"←入力してください。\",\"\")","v":"←入力してください。"}]
["建物名",null,null,null,null,null,null,null,null,null,null,null,null,"←入力してください。",{"$f":"IF(E22=\"\",\"←入力してください。\",\"\")","v":"←入力してください。"}]
["受電希望日",null,null,null,null,"年",null,null,"月",null,"日",null,null,"←入力してください。",{"$f":"IF(OR(E23=\"\",G23=\"\",J23=\"\"),\"←入力してください。\",IF(AND(ISNUMBER(E23),ISNUMBER(G23),ISNUMBER(J23)),IF(OR(E23<1,G23<1,G23>12,J23<1,J23>31),\"←入力内容が不正です。\",\"\"),\"←数字を入力してください。\"))","v":"←入力してください。"}]
["フリーエリア計器払出事業所名",null,null,null,null,null,null,null,null,null,null,null,null,"←希望がなければ「なし」と入力してください。",{"$f":"IF(E24=\"\",\"←希望がなければ「なし」と入力してください。\",\"\")","v":"←希望がなければ「なし」と入力してください。"},null,1]
["本契約前の臨時契約の有無",null,null,null,null,null,null,null,null,null,null,null,null,"←選択してください。",{"$f":"IF(Q25=1,\"←選択してください。\",\"\")","v":"←選択してください。"},null,1]
["共用部分お支払方法",null,null,null,null,null,null,null,null,null,null,null,null,"←選択してください。",{"$f":"IF(Q26=1,\"←選択してください。\",\"\")","v":"←選択してください。"},null,1]
["共用部分\n支払者名",null,null,"フリガナ",null,null,null,null,null,null,null,null,null,"",{"$f":"IF(AND(E27=\"\",E28=\"\"),\"\",IF(AND(E27=\"\",E28<>\"同上\"),\"←入力してください。\",IF(LEN(ASC(E27))>40,\"←「゛」「゜」を含め，40文字以内としてください。\",\"\")))","v":""}]
[null,null,null,"漢字",null,null,null,null,null,null,null,null,null,"←入力してください。",{"$f":"IF(E28=\"\",\"←入力してください。\",\"\")","v":"←入力してください。"}]
["共用部分\n請求書送付先",null,null,"郵便番号",null,null,null,null,null,null,null,null,null,"",{"$f":"IF(AND(E29=\"\",E30=\"\"),\"\",IF(AND(E29=\"\",E30<>\"同上\"),\"←入力してください。\",IF(E29=\"\",\"\",IF(OR(AND(MID(E29,4,1)<>\"-\",LEN(E29)<>7),AND(MID(E29,4,1)=\"-\",LEN(E29)<>8)),\"←入力誤りです。\",\"\"))))","v":""}]
[null,null,null,"住所",null,null,null,null,null,null,null,null,null,"←入力してください。",{"$f":"IF(E30=\"\",\"←入力してください。\",\"\")","v":"←入力してください。"}]
[null,null,null,"電話",null,"-",null,null,"-",null,null,null,null,"",{"$f":"IF(AND(E30=\"\",E31=\"\",G31=\"\",J31=\"\"),\"\",IF(OR(E30=\"同上\",E30=\"同左\"),\"\",IF(AND(E31=\"\",G31=\"\",J31=\"\"),\"←入力してください。\",IF(OR(LEN(J31)<>4,LEN(E31)+LEN(G31)+LEN(J31)<10,LEN(E31)+LEN(G31)+LEN(J31)>11),\"←入力内容が不正です。\",\"\"))))","v":""},null,1]
["電灯需要","契約種別",null,null,null,null,null,null,null,null,null,null,null,"←選択してください。",{"$f":"IF(Q32=1,\"←選択してください。\",\"\")","v":"←選択してください。"},null,1]
[null,"供給電気方式・供給電圧",null,null,null,null,null,null,null,null,null,null,null,"",{"$f":"IF(Q33=5,\"←間違いありませんか？\",\"\")","v":""},null,1]
[null,"定額電灯の場合","契約\n負荷\n設備\n内訳\n電灯１","機器種別",null,null,null,null,null,null,null,null,null,"",{"$f":"IF(AND(Q34>1,Q$32>2),\"←定額電灯以外の場合，選択できません。\",IF(AND(Q$32=2,Q34=1,OR(E35<>\"\",Q36>1,E37<>\"\",E38<>\"\")),\"←選択してください。\",IF(AND(M34=\"\",Q34=6),\"←具体的な機器種別を入力してください。\",\"\")))","v":""},null,1]
[null,null,null,"出力",null,"W",null,null,null,null,null,null,null,"",{"$f":"IF(AND(Q$32>2,E35<>\"\"),\"←定額電灯以外の場合，入力できません。\",IF(OR(E35=\"\",ISNUMBER(E35)),IF(AND(Q32=2,V69>400),\"定額電灯の総容量の上限400VAを超えています。\",IF(AND(Q34<>1,V69=0),\"負荷設備内訳を入力してください。\",\"\")),\"←数字を入力してください。\"))","v":""},null,1,"入力値算定"]
[null,null,null,"力率",null,null,null,null,null,null,null,null,null,"",{"$f":"IF(AND(Q$32>2,Q36>1),\"←定額電灯以外の場合，選択できません。\",IF(AND(E37=\"\",E35<>\"\",Q34<>5,Q36=1),\"←選択してください。\",\"\"))","v":""},null,1,"水銀灯",{"$f":"IF(Q36=2,IF(E35<=40,60,IF(E35<=60,80,IF(E35<=80,100,IF(E35<=100,150,IF(E35<=125,160,IF(E35<=200,250,IF(E35<=250,300,\"\"))))))),\"\")","v":""},{"$f":"IF(Q36=2,IF(E35<=250,S36,IF(E35<=300,350,IF(E35<=400,500,IF(E35<=700,800,IF(E35<=1000,1200,\"\"))))),\"\")","v":""},{"$f":"IF(Q36=3,IF(E35<=40,130,IF(E35<=60,170,IF(E35<=80,190,IF(E35<=100,200,IF(E35<=125,290,IF(E35<=200,400,IF(E35<=250,500,\"\"))))))),T36)","v":""},{"$f":"IF(Q36=3,IF(E35<=250,U36,IF(E35<=300,550,IF(E35<=400,750,IF(E35<=700,1200,IF(E35<=1000,1750,\"\"))))),T36)","v":""}]
[null,null,null,"入力",null,"VA",null,null,null,null,null,null,null,"",{"$f":"IF(AND(Q$32>2,E37<>\"\"),\"←入力できません。\",IF(AND(Q$32=2,Q34>1,E35=\"\",E37=\"\"),\"←入力してください。\",IF(OR(E37=\"\",ISNUMBER(E37)),\"\",\"←数字を入力してください。\")))","v":""},null,1,"ナトリウム灯",{"$f":"IF(Q36=2,IF(E35=150,190,IF(E35=250,300,IF(E35=400,500,IF(E35=700,840,\"\")))),IF(Q36=3,ROUND(E35*1.4,0),\"\"))","v":""}]
[null,null,null,"灯数",null,"灯",null,null,null,null,null,null,null,"",{"$f":"IF(AND(Q$32>2,E38<>\"\"),\"←定額電灯以外の場合，入力できません。\",IF(AND(Q$32=2,Q34>1,E38=\"\"),\"←入力してください。\",IF(OR(E38=\"\",ISNUMBER(E38)),\"\",\"←数字を入力してください。\")))","v":""},null,1,"けい光灯",{"$f":"IF(Q36=2,ROUND(E35*1.5,0),IF(Q36=3,E35*2,\"\"))","v":""}]
[null,null,"契約\n負荷\n設備\n内訳\n電灯２","機器種別",null,null,null,null,null,null,null,null,null,"",{"$f":"IF(AND(Q39>1,Q$32>2),\"←定額電灯以外の場合，選択できません。\",IF(AND(Q$32=2,Q39=1,OR(E40<>\"\",Q41>1,E42<>\"\",E43<>\"\")),\"←選択してください。\",IF(AND(M39=\"\",Q39=6),\"←具体的な機器種別を入力してください。\",\"\")))","v":""},null,1,"結果",{"$f":"IF(E37<>\"\",E37,IF(E35=\"\",0,IF(OR(Q34=2,M34=\"メタルハライドランプ\"),V36,IF(Q34=3,S37,IF(Q34=4,S38,IF(OR(Q35=5,M34=\"ハロゲンランプ\"),E35,\"\"))))))","v":0}]
[null,null,null,"出力",null,"W",null,null,null,null,null,null,null,"",{"$f":"IF(AND(Q$32>2,E40<>\"\"),\"←定額電灯以外の場合，入力できません。\",IF(AND(Q$32=2,Q39>1,E40=\"\",E42=\"\"),\"←入力してください。\",IF(OR(E40=\"\",ISNUMBER(E40)),\"\",\"←数字を入力してください。\")))","v":""},null,1,"入力値算定"]
[null,null,null,"力率",null,null,null,null,null,null,null,null,null,"",{"$f":"IF(AND(Q$32>2,Q41>1),\"←定額電灯以外の場合，選択できません。\",IF(AND(E42=\"\",E40<>\"\",Q39<>5,Q41=1),\"←選択してください。\",\"\"))","v":""},null,1,"水銀灯",{"$f":"IF(Q41=2,IF(E40<=40,60,IF(E40<=60,80,IF(E40<=80,100,IF(E40<=100,150,IF(E40<=125,160,IF(E40<=200,250,IF(E40<=250,300,\"\"))))))),\"\")","v":""},{"$f":"IF(Q41=2,IF(E40<=250,S41,IF(E40<=300,350,IF(E40<=400,500,IF(E40<=700,800,IF(E40<=1000,1200,\"\"))))),\"\")","v":""},{"$f":"IF(Q41=3,IF(E40<=40,130,IF(E40<=60,170,IF(E40<=80,190,IF(E40<=100,200,IF(E40<=125,290,IF(E40<=200,400,IF(E40<=250,500,\"\"))))))),T41)","v":""},{"$f":"IF(Q41=3,IF(E40<=250,U41,IF(E40<=300,550,IF(E40<=400,750,IF(E40<=700,1200,IF(E40<=1000,1750,\"\"))))),T41)","v":""}]
[null,null,null,"入力",null,"VA",null,null,null,null,null,null,null,"",{"$f":"IF(AND(Q$32>2,E42<>\"\"),\"←入力できません。\",IF(AND(Q$32=2,Q39>1,E40=\"\",E42=\"\"),\"←入力してください。\",IF(OR(E42=\"\",ISNUMBER(E42)),\"\",\"←数字を入力してください。\")))","v":""},null,1,"ナトリウム灯",{"$f":"IF(Q41=2,IF(E40=150,190,IF(E40=250,300,IF(E40=400,500,IF(E40=700,840,\"\")))),IF(Q41=3,ROUND(E40*1.4,0),\"\"))","v":""}]
[null,null,null,"灯数",null,"灯",null,null,null,null,null,null,null,"",{"$f":"IF(AND(Q$32>2,E43<>\"\"),\"←定額電灯以外の場合，入力できません。\",IF(AND(Q$32=2,Q39>1,E43=\"\"),\"←入力してください。\",IF(OR(E43=\"\",ISNUMBER(E43)),\"\",\"←数字を入力してください。\")))","v":""},null,1,"けい光灯",{"$f":"IF(Q41=2,ROUND(E40*1.5,0),IF(Q41=3,E40*2,\"\"))","v":""}]
[null,null,"契約\n負荷\n設備\n内訳\n電灯３","機器種別",null,null,null,null,null,null,null,null,null,"",{"$f":"IF(AND(Q44>1,Q$32>2),\"←定額電灯以外の場合，選択できません。\",IF(AND(Q$32=2,Q44=1,OR(E45<>\"\",Q46>1,E47<>\"\",E48<>\"\")),\"←選択してください。\",IF(AND(M44=\"\",Q44=6),\"←具体的な機器種別を入力してください。\",\"\")))","v":""},null,1,"結果",{"$f":"IF(E42<>\"\",E42,IF(E40=\"\",0,IF(OR(Q39=2,M39=\"メタルハライドランプ\"),V41,IF(Q39=3,S42,IF(Q39=4,S43,IF(OR(Q40=5,M39=\"ハロゲンランプ\"),E40,\"\"))))))","v":0}]
[null,null,null,"出力",null,"W",null,null,null,null,null,null,null,"",{"$f":"IF(AND(Q$32>2,E45<>\"\"),\"←定額電灯以外の場合，入力できません。\",IF(AND(Q$32=2,Q44>1,E45=\"\",E47=\"\"),\"←入力してください。\",IF(OR(E45=\"\",ISNUMBER(E45)),\"\",\"←数字を入力してください。\")))","v":""},null,1,"入力値算定"]
[null,null,null,"力率",null,null,null,null,null,null,null,null,null,"",{"$f":"IF(AND(Q$32>2,Q46>1),\"←定額電灯以外の場合，選択できません。\",IF(AND(E47=\"\",E45<>\"\",Q44<>5,Q46=1),\"←選択してください。\",\"\"))","v":""},null,1,"水銀灯",{"$f":"IF(Q46=2,IF(E45<=40,60,IF(E45<=60,80,IF(E45<=80,100,IF(E45<=100,150,IF(E45<=125,160,IF(E45<=200,250,IF(E45<=250,300,\"\"))))))),\"\")","v":""},{"$f":"IF(Q46=2,IF(E45<=250,S46,IF(E45<=300,350,IF(E45<=400,500,IF(E45<=700,800,IF(E45<=1000,1200,\"\"))))),\"\")","v":""},{"$f":"IF(Q46=3,IF(E45<=40,130,IF(E45<=60,170,IF(E45<=80,190,IF(E45<=100,200,IF(E45<=125,290,IF(E45<=200,400,IF(E45<=250,500,\"\"))))))),T46)","v":""},{"$f":"IF(Q46=3,IF(E45<=250,U46,IF(E45<=300,550,IF(E45<=400,750,IF(E45<=700,1200,IF(E45<=1000,1750,\"\"))))),T46)","v":""}]
[null,null,null,"入力",null,"VA",null,null,null,null,null,null,null,"",{"$f":"IF(AND(Q$32>2,E47<>\"\"),\"←入力できません。\",IF(AND(Q$32=2,Q44>1,E45=\"\",E47=\"\"),\"←入力してください。\",IF(OR(E47=\"\",ISNUMBER(E47)),\"\",\"←数字を入力してください。\")))","v":""},null,1,"ナトリウム灯",{"$f":"IF(Q46=2,IF(E45=150,190,IF(E45=250,300,IF(E45=400,500,IF(E45=700,840,\"\")))),IF(Q46=3,ROUND(E45*1.4,0),\"\"))","v":""}]
[null,null,null,"灯数",null,"灯",null,null,null,null,null,null,null,"",{"$f":"IF(AND(Q$32>2,E48<>\"\"),\"←定額電灯以外の場合，入力できません。\",IF(AND(Q$32=2,Q44>1,E48=\"\"),\"←入力してください。\",IF(OR(E48=\"\",ISNUMBER(E48)),\"\",\"←数字を入力してください。\")))","v":""},null,1,"けい光灯",{"$f":"IF(Q46=2,ROUND(E45*1.5,0),IF(Q46=3,E45*2,\"\"))","v":""}]
[null,null,"契約\n負荷\n設備\n内訳\n電灯４","機器種別",null,null,null,null,null,null,null,null,null,"",{"$f":"IF(AND(Q49>1,Q$32>2),\"←定額電灯以外の場合，選択できません。\",IF(AND(Q$32=2,Q49=1,OR(E50<>\"\",Q51>1,E52<>\"\",E53<>\"\")),\"←選択してください。\",IF(AND(M49=\"\",Q49=6),\"←具体的な機器種別を入力してください。\",\"\")))","v":""},null,1,"結果",{"$f":"IF(E47<>\"\",E47,IF(E45=\"\",0,IF(OR(Q44=2,M44=\"メタルハライドランプ\"),V46,IF(Q44=3,S47,IF(Q44=4,S48,IF(OR(Q45=5,M44=\"ハロゲンランプ\"),E45,\"\"))))))","v":0}]
[null,null,null,"出力",null,"W",null,null,null,null,null,null,null,"",{"$f":"IF(AND(Q$32>2,E50<>\"\"),\"←定額電灯以外の場合，入力できません。\",IF(AND(Q$32=2,Q49>1,E50=\"\",E52=\"\"),\"←入力してください。\",IF(OR(E50=\"\",ISNUMBER(E50)),\"\",\"←数字を入力してください。\")))","v":""},null,1,"入力値算定"]
[null,null,null,"力率",null,null,null,null,null,null,null,null,null,"",{"$f":"IF(AND(Q$32>2,Q51>1),\"←定額電灯以外の場合，選択できません。\",IF(AND(E52=\"\",E50<>\"\",Q49<>5,Q51=1),\"←選択してください。\",\"\"))","v":""},null,1,"水銀灯",{"$f":"IF(Q51=2,IF(E50<=40,60,IF(E50<=60,80,IF(E50<=80,100,IF(E50<=100,150,IF(E50<=125,160,IF(E50<=200,250,IF(E50<=250,300,\"\"))))))),\"\")","v":""},{"$f":"IF(Q51=2,IF(E50<=250,S51,IF(E50<=300,350,IF(E50<=400,500,IF(E50<=700,800,IF(E50<=1000,1200,\"\"))))),\"\")","v":""},{"$f":"IF(Q51=3,IF(E50<=40,130,IF(E50<=60,170,IF(E50<=80,190,IF(E50<=100,200,IF(E50<=125,290,IF(E50<=200,400,IF(E50<=250,500,\"\"))))))),T51)","v":""},{"$f":"IF(Q51=3,IF(E50<=250,U51,IF(E50<=300,550,IF(E50<=400,750,IF(E50<=700,1200,IF(E50<=1000,1750,\"\"))))),T51)","v":""}]
[null,null,null,"入力",null,null,null,null,null,null,null,null,null,"",{"$f":"IF(AND(Q$32>2,E52<>\"\"),\"←入力できません。\",IF(AND(Q$32=2,Q49>1,E50=\"\",E52=\"\"),\"←入力してください。\",IF(OR(E52=\"\",ISNUMBER(E52)),\"\",\"←数字を入力してください。\")))","v":""},null,null,"ナトリウム灯",{"$f":"IF(Q51=2,IF(E50=150,190,IF(E50=250,300,IF(E50=400,500,IF(E50=700,840,\"\")))),IF(Q51=3,ROUND(E50*1.4,0),\"\"))","v":""}]
[null,null,null,"灯数",null,"灯",null,null,null,null,null,null,null,"",{"$f":"IF(AND(Q$32>2,E53<>\"\"),\"←定額電灯以外の場合，入力できません。\",IF(AND(Q$32=2,Q49>1,E53=\"\"),\"←入力してください。\",IF(OR(E53=\"\",ISNUMBER(E53)),\"\",\"←数字を入力してください。\")))","v":""},null,null,"けい光灯",{"$f":"IF(Q51=2,ROUND(E50*1.5,0),IF(Q51=3,E50*2,\"\"))","v":""}]
[null,null,"契約負\n荷設備\n内　訳\n小　型\n機器１","機器種別",null,null,null,null,null,null,null,null,null,"",{"$f":"IF(AND(Q54>1,Q$32>2),\"←定額電灯以外の場合，選択できません。\",IF(AND(Q$32=2,Q54=1,OR(E55<>\"\",Q56>1,E57<>\"\",E58<>\"\")),\"←選択してください。\",IF(AND(M54=\"\",Q54=6),\"←具体的な機器種別を入力してください。\",\"\")))","v":""},null,1,"結果",{"$f":"IF(E52<>\"\",E52,IF(E50=\"\",0,IF(OR(Q49=2,M49=\"メタルハライドランプ\"),V51,IF(Q49=3,S52,IF(Q49=4,S53,IF(OR(Q50=5,M49=\"ハロゲンランプ\"),E50,\"\"))))))","v":0}]
[null,null,null,"出力",null,"W",null,null,null,null,null,null,null,"",{"$f":"IF(AND(Q$32>2,E55<>\"\"),\"←定額電灯以外の場合，入力できません。\",IF(AND(Q$32=2,Q54>1,E55=\"\",E57=\"\"),\"←入力してください。\",IF(OR(E55=\"\",ISNUMBER(E55)),\"\",\"←数字を入力してください。\")))","v":""},null,1]
[null,null,null,"力率",null,null,null,null,null,null,null,null,null,null,{"$f":"IF(AND(Q$32>2,Q56>1),\"←定額電灯以外の場合，選択できません。\",IF(AND(E57=\"\",E55<>\"\",Q54<>5,Q56=1),\"←選択してください。\",\"\"))","v":""},null,1]
[null,null,null,"入力",null,null,null,null,null,null,null,null,null,"",{"$f":"IF(AND(Q$32>2,E57<>\"\"),\"←入力できません。\",IF(AND(Q$32=2,Q54>1,E55=\"\",E57=\"\"),\"←入力してください。\",IF(OR(E57=\"\",ISNUMBER(E57)),\"\",\"←数字を入力してください。\")))","v":""},null,null,"入力・出力データチェック"]
[null,null,null,"個数",null,"個",null,null,null,null,null,null,null,"",{"$f":"IF(AND(Q$32>2,E58<>\"\"),\"←定額電灯以外の場合，入力できません。\",IF(AND(Q$32=2,Q54>1,E58=\"\"),\"←入力してください。\",IF(OR(E58=\"\",ISNUMBER(E58)),\"\",\"←数字を入力してください。\")))","v":""},null,null,{"$f":"IF(E57=\"\",IF(E55=\"\",0,\"\"),E57)","v":0}]
[null,null,"契約負\n荷設備\n内　訳\n小　型\n機器２","機器種別",null,null,null,null,null,null,null,null,null,"",{"$f":"IF(AND(Q59>1,Q$32>2),\"←定額電灯以外の場合，選択できません。\",IF(AND(Q$32=2,Q59=1,OR(E60<>\"\",Q61>1,E62<>\"\",E63<>\"\")),\"←選択してください。\",IF(AND(M59=\"\",Q59=6),\"←具体的な機器種別を入力してください。\",\"\")))","v":""},null,1]
[null,null,null,"出力",null,"W",null,null,null,null,null,null,null,"",{"$f":"IF(AND(Q$32>2,E60<>\"\"),\"←定額電灯以外の場合，入力できません。\",IF(AND(Q$32=2,Q59>1,E60=\"\",E62=\"\"),\"←入力してください。\",IF(OR(E60=\"\",ISNUMBER(E60)),\"\",\"←数字を入力してください。\")))","v":""},null,1]
[null,null,null,"力率",null,null,null,null,null,null,null,null,null,null,{"$f":"IF(AND(Q$32>2,Q61>1),\"←定額電灯以外の場合，選択できません。\",IF(AND(E62=\"\",E60<>\"\",Q59<>5,Q61=1),\"←選択してください。\",\"\"))","v":""},null,1]
[null,null,null,"入力",null,null,null,null,null,null,null,null,null,"",{"$f":"IF(AND(Q$32>2,E62<>\"\"),\"←入力できません。\",IF(AND(Q$32=2,Q59>1,E60=\"\",E62=\"\"),\"←入力してください。\",IF(OR(E62=\"\",ISNUMBER(E62)),\"\",\"←数字を入力してください。\")))","v":""},null,null,"入力・出力データチェック"]
[null,null,null,"個数",null,"個",null,null,null,null,null,null,null,"",{"$f":"IF(AND(Q$32>2,E63<>\"\"),\"←定額電灯以外の場合，入力できません。\",IF(AND(Q$32=2,Q59>1,E63=\"\"),\"←入力してください。\",IF(OR(E63=\"\",ISNUMBER(E63)),\"\",\"←数字を入力してください。\")))","v":""},null,null,{"$f":"IF(E62=\"\",IF(E60=\"\",0,\"\"),E62)","v":0}]
[null,null,"契約負\n荷設備\n内　訳\n小　型\n機器３","機器種別",null,null,null,null,null,null,null,null,null,"",{"$f":"IF(AND(Q64>1,Q$32>2),\"←定額電灯以外の場合，選択できません。\",IF(AND(Q$32=2,Q64=1,OR(E65<>\"\",Q66>1,E67<>\"\",E68<>\"\")),\"←選択してください。\",IF(AND(M64=\"\",Q64=6),\"←具体的な機器種別を入力してください。\",\"\")))","v":""},null,1]
[null,null,null,"出力",null,"W",null,null,null,null,null,null,null,"",{"$f":"IF(AND(Q$32>2,E65<>\"\"),\"←定額電灯以外の場合，入力できません。\",IF(AND(Q$32=2,Q64>1,E65=\"\",E67=\"\"),\"←入力してください。\",IF(OR(E65=\"\",ISNUMBER(E65)),\"\",\"←数字を入力してください。\")))","v":""},null,1]
[null,null,null,"力率",null,null,null,null,null,null,null,null,null,null,{"$f":"IF(AND(Q$32>2,Q66>1),\"←定額電灯以外の場合，選択できません。\",IF(AND(E67=\"\",E65<>\"\",Q64<>5,Q66=1),\"←選択してください。\",\"\"))","v":""},null,1]
[null,null,null,"入力",null,"VA",null,null,null,null,null,null,null,{"$f":"IF(O67=\"\",\"\",O67)","v":""},{"$f":"IF(AND(Q$32>2,E67<>\"\"),\"←入力できません。\",IF(AND(Q$32=2,Q64>1,E65=\"\",E67=\"\"),\"←入力してください。\",IF(OR(E67=\"\",ISNUMBER(E67)),\"\",\"←数字を入力してください。\")))","v":""},null,1,"入力・出力データチェック"]
[null,null,null,"個数",null,"個",null,null,null,null,null,null,null,"",{"$f":"IF(AND(Q$32>2,E68<>\"\"),\"←定額電灯以外の場合，入力できません。\",IF(AND(Q$32=2,Q64>1,E68=\"\"),\"←入力してください。\",IF(OR(E68=\"\",ISNUMBER(E68)),\"\",\"←数字を入力してください。\")))","v":""},null,1,{"$f":"IF(E67=\"\",IF(E65=\"\",0,\"\"),E67)","v":0},null,null,"入力値合計","容量チェック用"]
[null,"従量電灯の場合","契約決定方法",null,null,null,null,null,null,null,null,null,null,"",{"$f":"IF(AND(Q32=2,Q69>1),\"←定額電灯の場合，選択できません。\",IF(AND(Q32>2,Q69=1),\"←選択してください。\",IF(AND(Q32=3,OR(Q69=2,Q69=4,Q69=6)),\"←従量電灯Ａの場合，主開閉器契約または負荷設備契約を選択してください。\",IF(AND(Q32=4,Q69=4),\"←従量電灯Ｂの場合，回路契約は選択できません。\",IF(AND(Q32=5,OR(Q69=2,Q69=6)),\"←従量電灯Ｃの場合，ブレーカー契約は選択できません。\",\"\")))))","v":""},1,1,null,null,null,{"$f":"IF(OR(S39=\"\",S44=\"\",S49=\"\",S54=\"\",R58=\"\",R63=\"\",R68=\"\"),\"\",S39*E38+S44*E43+S49*E48+S54*E53+R58*E58+R63*E63+R68*E68)","v":0},{"$f":"MAX(E35,E37)*E38+MAX(E40,E42)*E43+MAX(E45,E47)*E48+MAX(E50,E52)*E53+MAX(E55,E57)*E58+MAX(E60,E62)*E63+MAX(E65,E67)*E68","v":0}]
[null,null,"主開閉器・電流制限器の定格電流",null,null,"Ａ",null,null,null,null,null,null,null,"",{"$f":"IF(AND(OR(Q69=2,Q69=3,Q69=6),E70=\"\"),\"←入力してください。\",IF(ISNUMBER(E70),IF(AND(Q32=2,E70<>5),\"←「５」と入力してください。\",IF(AND(Q32=3,OR(Q69<4,Q69=6),OR(E70<10,E70>60,AND(E70<>15,MOD(E70,10)<>0))),\"←入力内容が不正です。\",\"\")),IF(E70=\"\",\"\",\"←数字を入力してください。\")))","v":""},false,1,"回路契約"]
[null,null,"適用業種別\n回路数内訳１",null,"業種",null,null,null,null,null,null,null,null,"",{"$f":"IF(AND(Q$69<>4,Q71>1),\"←回路契約以外の場合，選択できません。\",IF(AND(Q$32=5,Q$69=4,Q71=1),\"←選択してください。\",\"\"))","v":""},null,1,"業種表示用","容量計算用",null,"回路契約計算"]
[null,null,null,null,"回路数",null,null,null,null,"回路",null,null,null,"",{"$f":"IF(AND(Q$69<>4,H72<>\"\"),\"←回路契約以外の場合，入力できません。\",IF(AND(Q$32=5,Q$69=4,H72=\"\"),\"←入力してください。\",\"\"))","v":""},null,1,{"$f":"IF(Q71=2,$X$6,IF(Q71=3,$X$7,IF(Q71=4,$X$8,IF(Q71=5,$X$9,IF(Q71=6,$X$10,IF(Q71=7,$X$11,IF(Q71=8,$X$12,IF(Q71=9,$X$13,\"\"))))))))","v":""},{"$f":"IF(Q71=2,Y73,IF(Q71=3,Y74,IF(Q71=4,Y75,IF(Q71=5,Y76,IF(Q71=6,Y77,IF(Q71=7,Y78,IF(Q71=8,Y79,IF(Q71=9,Y80,0))))))))","v":0},null,null,"～5回路","～10回路","11回路～","内訳１","内訳２","内訳３"]
[null,null,"適用業種別\n回路数内訳２",null,"業種",null,null,null,null,null,null,null,null,"",{"$f":"IF(AND(Q$69<>4,Q73>1),\"←回路契約以外の場合，選択できません。\",IF(AND(Q$32=5,Q$69=4,Q73=1,H74<>\"\"),\"←選択してください。\",\"\"))","v":""},null,1,{"$f":"IF(Q71=10,$X$14,R72)","v":""},{"$f":"IF(Q71=10,Y81,S72)","v":0},null,"住宅",970,440,340,{"$f":"IF($H$72<6,V73*$H$72,IF($H$72<11,V73*5+W73*($H$72-5),V73*5+W73*5+X73*($H$72-10)))","v":0},{"$f":"IF($H$74<6,V73*$H$74,IF($H$74<11,V73*5+W73*($H$74-5),V73*5+W73*5+X73*($H$74-10)))","v":0},{"$f":"IF($H$76<6,V73*$H$76,IF($H$76<11,V73*5+W73*($H$76-5),V73*5+W73*5+X73*($H$76-10)))","v":0}]
[null,null,null,null,"回路数",null,null,null,null,"回路",null,null,null,"",{"$f":"IF(AND(Q$69<>4,H74<>\"\"),\"←回路契約以外の場合，入力できません。\",IF(AND(Q$32=5,Q$69=4,H74=\"\",Q73>1),\"←入力してください。\",\"\"))","v":""},null,1,{"$f":"IF(Q73=2,$X$6,IF(Q73=3,$X$7,IF(Q73=4,$X$8,IF(Q73=5,$X$9,IF(Q73=6,$X$10,IF(Q73=7,$X$11,IF(Q73=8,$X$12,IF(Q73=9,$X$13,\"\"))))))))","v":""},{"$f":"IF(Q73=2,Z73,IF(Q73=3,Z74,IF(Q73=4,Z75,IF(Q73=5,Z76,IF(Q73=6,Z77,IF(Q73=7,Z78,IF(Q73=8,Z79,IF(Q73=9,Z80,0))))))))","v":0},null,"アパート・寮",1060,540,460,0,0,0]
[null,null,"適用業種別\n回路数内訳３",null,null,null,null,null,null,null,null,null,null,"",{"$f":"IF(AND(Q$69<>4,Q75>1),\"←回路契約以外の場合，選択できません。\",IF(AND(Q$32=5,Q$69=4,Q75=1,H76<>\"\"),\"←選択してください。\",\"\"))","v":""},null,1,{"$f":"IF(Q73=10,$X$14,R74)","v":""},{"$f":"IF(Q73=10,Z81,S74)","v":0},null,"商店",1070,540,540,0,0,0]
[null,null,null,null,null,null,null,null,null,"回路",null,null,null,"",{"$f":"IF(AND(Q$69<>4,H76<>\"\"),\"←回路契約以外の場合，入力できません。\",IF(AND(Q$32=5,Q$69=4,H76=\"\",Q75>1),\"←入力してください。\",\"\"))","v":""},null,null,{"$f":"IF(Q75=2,$X$6,IF(Q75=3,$X$7,IF(Q75=4,$X$8,IF(Q75=5,$X$9,IF(Q75=6,$X$10,IF(Q75=7,$X$11,IF(Q75=8,$X$12,IF(Q75=9,$X$13,\"\"))))))))","v":""},{"$f":"IF(Q75=2,AA73,IF(Q75=3,AA74,IF(Q75=4,AA75,IF(Q75=5,AA76,IF(Q75=6,AA77,IF(Q75=7,AA78,IF(Q75=8,AA79,IF(Q75=9,AA80,0))))))))","v":0},null,"工場",1080,510,510,0,0,0]
[null,null,"電灯",null,null,"灯",null,null,null,null,null,null,null,"",{"$f":"IF(AND(Q$32=2,E77<>\"\"),\"←臨時電力の場合，入力できません。\",IF(AND(Q$32>2,Q$69=5,E77=\"\",OR(E79=\"\",E78<>\"\")),\"←入力してください。\",IF(OR(E77=\"\",ISNUMBER(E77)),\"\",\"←数字を入力してください。\")))","v":""},null,null,{"$f":"IF(Q75=10,$X$14,R76)","v":""},{"$f":"IF(Q75=10,AA81,S76)","v":0},null,"事務所",1100,610,480,0,0,0]
[null,null,null,null,null,null,"ＶＡ",null,null,null,null,null,null,"",{"$f":"IF(AND(Q$32=2,E78<>\"\"),\"←臨時電力の場合，入力できません。\",IF(AND(Q$32>2,Q$69=5,E78=\"\",OR(E80=\"\",E77<>\"\")),\"←入力してください。\",IF(OR(E78=\"\",ISNUMBER(E78)),\"\",\"←数字を入力してください。\")))","v":""},null,null,"契約容量等算定用",null,null,"旅館・飲食店",1060,530,530,0,0,0]
[null,null,"小型機器",null,null,"個",null,null,null,null,null,null,null,"",{"$f":"IF(AND(Q$32=2,E79<>\"\"),\"←臨時電力の場合，入力できません。\",IF(AND(Q$32>2,Q$69=5,E79=\"\",OR(E77=\"\",E80<>\"\")),\"←入力してください。\",IF(OR(E79=\"\",ISNUMBER(E79)),\"\",\"←数字を入力してください。\")))","v":""},null,null,"回路契約",{"$f":"S73+S75+S77+E78+E80","v":0},null,"学校・病院",1170,600,600,0,0,0]
[null,null,null,null,null,null,"ＶＡ",null,null,null,null,null,null,"",{"$f":"IF(AND(Q$32=2,E80<>\"\"),\"←臨時電力の場合，入力できません。\",IF(AND(Q$32>2,Q$69=5,E80=\"\",OR(E78=\"\",E79<>\"\")),\"←入力してください。\",IF(OR(E80=\"\",ISNUMBER(E80)),\"\",\"←数字を入力してください。\")))","v":""},null,1,"容量圧縮",{"$f":"IF(OR(Q69<4,Q69=6),S82,IF(S79<6000,S79*0.95,IF(S79<20000,6000*0.95+(S79-6000)*0.85,IF(S79<50000,6000*0.95+14000*0.85+(S79-20000)*0.75,6000*0.95+14000*0.85+30000*0.75+(S79-50000)*0.65))))","v":""},null,"劇場・娯楽場",1070,660,660,0,0,0]
[null,null,"回路数",null,null,"回路",null,null,null,null,null,null,null,"",{"$f":"IF(AND(Q$32=2,E81<>\"\"),\"←臨時電力の場合，入力できません。\",IF(AND(Q$32>2,E81=\"\"),\"←入力してください。\",IF(OR(E81=\"\",ISNUMBER(E81)),\"\",\"←数字を入力してください。\")))","v":""},null,1,"契約算定",{"$f":"IF(S80=\"\",\"\",IF(Q32=3,5,IF(Q32=4,IF(Q69=5,\"\",IF(AND(S80>1000,S80<=1500),15,ROUNDUP(S80/1000,0)*10)),IF(Q32=5,ROUND(S80/1000,0),ROUND(S82/1000,0)))))","v":""},null,"その他",1060,540,540,0,0,0]
["電力需要","供給電気方式・供給電圧",null,null,null,null,null,null,null,null,null,null,null,"",{"$f":"IF(AND(Q82>1,Q82<5),\"←間違いありませんか？\",\"\")","v":""},null,1,"総容量",{"$f":"IF(OR(Q69=2,Q69=6,AND(Q69=3,Q33=2)),E70*100,IF(AND(Q69=3,Q33>2,Q33<5),E70*200,IF(AND(Q69=3,Q33=5),E70*200*1.732,IF(Q69=4,S79,IF(Q69=5,E78+E80,\"\")))))","v":""}]
[null,"契約決定方法",null,null,null,null,null,null,null,null,null,null,null,"",{"$f":"IF(AND(Q82>1,Q83=1),\"←選択してください。\",\"\")","v":""},null,1,null,null,"加重平均力率の算定"]
[null,"主開閉器の定格電流",null,null,null,"A",null,null,null,null,null,null,null,"",{"$f":"IF(AND(E84=\"\",Q83=2),\"←入力してください。\",IF(OR(E84=\"\",ISNUMBER(E84)),\"\",\"←数字を入力してください。\"))","v":""},null,1,null,null,1,{"$f":"IF(Q88=2,R89,0)+IF(Q93=2,R94,0)+IF(Q98=2,R99,0)+IF(Q103=2,R104,0)+IF(Q108=2,R109,0)","v":0},{"$f":"U84*1","v":0}]
[null,"契約負荷\n設備内訳１",null,"機器種別",null,null,null,null,null,null,null,null,null,"",{"$f":"IF(AND(Q82>1,E89=\"\",E94=\"\",E99=\"\",E104=\"\",E109=\"\",E114=\"\",E119=\"\",E124=\"\",E129=\"\",E134=\"\",E139=\"\",E144=\"\",E149=\"\",E154=\"\",E159=\"\",E164=\"\",E170=\"\",E176=\"\"),\"契約負荷設備の内訳を入力してください。\",\"\")","v":""},null,1,null,null,0.9,{"$f":"IF(Q88=3,R89,0)+IF(Q93=3,R94,0)+IF(Q98=3,R99,0)+IF(Q103=3,R104,0)+IF(Q108=3,R109,0)","v":0},{"$f":"ROUND(U85*0.9,3)","v":0}]
[null,null,null,"出力",null,null,null,null,null,null,null,null,null,"",{"$f":"IF(E86=\"\",\"\",IF(ISNUMBER(E86),IF(Q86=1,\"←単位を選択してください。\",IF(AND(Q86=2,Q88=2),\"←単位または力率が間違っています。\",\"\")),\"←数字を入力してください。\"))","v":""},null,1,null,null,0.85,{"$f":"IF(Q88=4,R89,0)+IF(Q93=4,R94,0)+IF(Q98=4,R99,0)+IF(Q103=4,R104,0)+IF(Q108=4,R109,0)","v":0},{"$f":"ROUND(U86*0.85,3)","v":0}]
[null,null,null,"入力",null,null,"kW",null,null,null,null,null,null,"",{"$f":"IF(OR(E87=\"\",ISNUMBER(E87)),\"\",\"←数字を入力してください。\")","v":""},null,1,"入力値算定",null,0.8,{"$f":"IF(Q88=5,R89,0)+IF(Q93=5,R94,0)+IF(Q98=5,R99,0)+IF(Q103=5,R104,0)+IF(Q108=5,R109,0)","v":0},{"$f":"ROUND(U87*0.8,3)","v":0}]
[null,null,null,"力率",null,null,null,null,null,null,null,null,null,"",{"$f":"IF(AND(E85<>\"\",Q88=1),\"←選択してください。\",\"\")","v":""},null,1,{"$f":"IF(E87<>\"\",E87,IF(Q88=2,E86,IF(Q86=2,ROUND(E86*0.933,3),0)))","v":0},null,"合計",{"$f":"IF(SUM(U84:U87)=0,\"\",ROUND(SUM(V84:V87)/SUM(U84:U87),2))","v":""}]
[null,null,null,"台数",null,"台",null,null,null,null,null,null,null,"",{"$f":"IF(AND(E85<>\"\",E89=\"\"),\"←入力してください。\",IF(OR(E89=\"\",ISNUMBER(E89)),\"\",\"←数字を入力してください。\"))","v":""},null,1,{"$f":"IF(R88*E89=0,\"\",R88*E89)","v":""},null,"台数圧縮"]
[null,"契約負荷\n設備内訳２",null,"機器種別",null,null,null,null,null,null,null,null,null,"",null,null,1,null,null,"最初の2台",{"$f":"IF(X91>1,W91*2,W91+AA91)","v":0},{"$f":"ROUND(U90*1,3)","v":0},"1番目",null,null,null,"2番目",null,null,null,"3番目",null,null,null,"4番目"]
[null,null,null,"出力",null,null,null,null,null,null,null,null,null,"",{"$f":"IF(E91=\"\",\"\",IF(ISNUMBER(E91),IF(Q91=1,\"←単位を選択してください。\",IF(AND(Q91=2,Q93=2),\"←単位または力率が間違っています。\",\"\")),\"←数字を入力してください。\"))","v":""},null,1,null,null,"次の２台",{"$f":"IF(X91>3,W91*2,IF(X91=3,W91+AA91,IF(X91=2,IF(AB91>1,AA91*2,AA91+AE91),IF(AB91>2,AA91*2,IF(AB91=2,AA91+AE91,IF(AB91=1,IF(AF91>1,AE91*2,AE91+AI91)))))))","v":0},{"$f":"ROUND(U91*0.95,3)","v":0},{"$f":"MAX(W92:Z96)","v":0},{"$f":"COUNTIF(W92:Z96,W91)","v":20},null,null,{"$f":"MAX(AA92:AD96)+W91","v":-100},{"$f":"COUNTIF(AA92:AD96,AA91-W91)","v":20},null,null,{"$f":"MAX(AE92:AH96)+AA91","v":-200},{"$f":"COUNTIF(AE92:AH96,AE91-AA91)","v":20},null,null,{"$f":"MAX(AI92:AL96)+AE91","v":-300},{"$f":"COUNTIF(AI92:AL96,AI91-AE91)","v":20}]
[null,null,null,"入力",null,null,"kW",null,null,null,null,null,null,"",{"$f":"IF(OR(E92=\"\",ISNUMBER(E92)),\"\",\"←数字を入力してください。\")","v":""},null,1,"入力値算定",null,"残り",{"$f":"U104-U90-U91","v":0},{"$f":"ROUND(U92*0.9,3)","v":0},{"$f":"R88","v":0},{"$f":"IF(E89>1,R88,0)","v":0},{"$f":"IF(E89>2,R88,0)","v":0},{"$f":"IF(E89>3,R88,0)","v":0},{"$f":"IF(W92-$W$91=0,-100,W92-$W$91)","v":-100},{"$f":"IF(X92-$W$91=0,-100,X92-$W$91)","v":-100},-100,-100,{"$f":"IF(AA92-$AA$91+$W$91=0,-100,AA92-$AA$91+$W$91)","v":-100},{"$f":"IF(AB92-$AA$91+$W$91=0,-100,AB92-$AA$91+$W$91)","v":-100},-100,-100,{"$f":"IF(AE92-$AE$91+$AA$91=0,-100,AE92-$AE$91+$AA$91)","v":-100},{"$f":"IF(AF92-$AE$91+$AA$91=0,-100,AF92-$AE$91+$AA$91)","v":-100},-100,-100]
[null,null,null,"力率",null,null,null,null,null,null,null,null,null,"",{"$f":"IF(AND(E90<>\"\",Q93=1),\"←選択してください。\",\"\")","v":""},null,1,{"$f":"IF(E92<>\"\",E92,IF(Q93=2,E91,IF(Q91=2,ROUND(E91*0.933,3),0)))","v":0},null,"合計",null,{"$f":"SUM(V90:V92)","v":0},{"$f":"R93","v":0},{"$f":"IF(E94>1,R93,0)","v":0},{"$f":"IF(E94>2,R93,0)","v":0},{"$f":"IF(E94>3,R93,0)","v":0},{"$f":"IF(W93-$W$91=0,-100,W93-$W$91)","v":-100},-100,-100,-100,{"$f":"IF(AA93-$AA$91+$W$91=0,-100,AA93-$AA$91+$W$91)","v":-100},-100,-100,-100,{"$f":"IF(AE93-$AE$91+$AA$91=0,-100,AE93-$AE$91+$AA$91)","v":-100},-100,-100,-100]
[null,null,null,"台数",null,"台",null,null,null,null,null,null,null,"",{"$f":"IF(AND(E90<>\"\",E94=\"\"),\"←入力してください。\",IF(OR(E94=\"\",ISNUMBER(E94)),\"\",\"←数字を入力してください。\"))","v":""},null,1,{"$f":"IF(R93*E94=0,\"\",R93*E94)","v":""},null,null,null,null,{"$f":"R98","v":0},{"$f":"IF(E99>1,R98,0)","v":0},{"$f":"IF(E99>2,R98,0)","v":0},{"$f":"IF(E99>3,R98,0)","v":0},{"$f":"IF(W94-$W$91=0,-100,W94-$W$91)","v":-100},-100,-100,-100,{"$f":"IF(AA94-$AA$91+$W$91=0,-100,AA94-$AA$91+$W$91)","v":-100},-100,-100,-100,{"$f":"IF(AE94-$AE$91+$AA$91=0,-100,AE94-$AE$91+$AA$91)","v":-100},-100,-100,-100]
[null,"契約負荷\n設備内訳３",null,"機器種別",null,null,null,null,null,null,null,null,null,"",null,null,1,null,null,"容量圧縮",{"$f":"IF(V93<6,V93,IF(V93<20,(V93-6)*0.9+6,IF(V93<50,(V93-20)*0.8+6+14*0.9,(V93-50)*0.7+6+14*0.9+30*0.8)))","v":0},null,{"$f":"R103","v":0},{"$f":"IF(E104>1,R103,0)","v":0},{"$f":"IF(E104>2,R103,0)","v":0},{"$f":"IF(E104>3,R103,0)","v":0},{"$f":"IF(W95-$W$91=0,-100,W95-$W$91)","v":-100},-100,-100,-100,{"$f":"IF(AA95-$AA$91+$W$91=0,-100,AA95-$AA$91+$W$91)","v":-100},-100,-100,-100,{"$f":"IF(AE95-$AE$91+$AA$91=0,-100,AE95-$AE$91+$AA$91)","v":-100},-100,-100,-100]
[null,null,null,"出力",null,null,null,null,null,null,null,null,null,"",{"$f":"IF(E96=\"\",\"\",IF(ISNUMBER(E96),IF(Q96=1,\"←単位を選択してください。\",IF(AND(Q96=2,Q98=2),\"←単位または力率が間違っています。\",\"\")),\"←数字を入力してください。\"))","v":""},null,1,null,null,null,null,null,{"$f":"R108","v":0},{"$f":"IF(E109>1,R108,0)","v":0},{"$f":"IF(E109>2,R108,0)","v":0},{"$f":"IF(E109>3,R108,0)","v":0},{"$f":"IF(W96-$W$91=0,-100,W96-$W$91)","v":-100},-100,-100,-100,{"$f":"IF(AA96-$AA$91+$W$91=0,-100,AA96-$AA$91+$W$91)","v":-100},-100,-100,-100,{"$f":"IF(AE96-$AE$91+$AA$91=0,-100,AE96-$AE$91+$AA$91)","v":-100},-100,-100,-100]
[null,null,null,"入力",null,null,"kW",null,null,null,null,null,null,"",{"$f":"IF(OR(E97=\"\",ISNUMBER(E97)),\"\",\"←数字を入力してください。\")","v":""},null,1,"入力値算定",null,"主開閉器契約",{"$f":"IF(Q82=2,E84*100/1000,IF(OR(Q82=3,Q82=4),E84*200/1000,IF(Q82=5,E84*200*1.732/1000,0)))","v":0}]
[null,null,null,"力率",null,null,null,null,null,null,null,null,null,"",{"$f":"IF(AND(E95<>\"\",Q98=1),\"←選択してください。\",\"\")","v":""},null,1,{"$f":"IF(E97<>\"\",E97,IF(Q98=2,E96,IF(Q96=2,ROUND(E96*0.933,3),0)))","v":0}]
[null,null,null,"台数",null,"台",null,null,null,null,null,null,null,"",{"$f":"IF(AND(E95<>\"\",E99=\"\"),\"←入力してください。\",IF(OR(E99=\"\",ISNUMBER(E99)),\"\",\"←数字を入力してください。\"))","v":""},null,1,{"$f":"IF(R98*E99=0,\"\",R98*E99)","v":""},null,"負荷設備契約自動計算可否確認",{"$f":"IF(OR(AND(R88=0,E89<>\"\"),AND(R93=0,E94<>\"\"),AND(R98=0,E99<>\"\"),AND(R103=0,E104<>\"\"),AND(R108=0,E109<>\"\")),\"\",U95)","v":0}]
[null,"契約負荷\n設備内訳４",null,"機器種別",null,null,null,null,null,null,null,null,null,"",null,null,1,null,null,"加重平均力率自動計算可否確認",{"$f":"IF(OR(AND(Q88>1,R88=0),AND(Q93>1,R93=0),AND(Q98>1,R98=0),AND(Q103>1,R103=0),AND(Q108>1,R108=0)),\"\",U88)","v":""}]
[null,null,null,"出力",null,null,null,null,null,null,null,null,null,"",{"$f":"IF(E101=\"\",\"\",IF(ISNUMBER(E101),IF(Q101=1,\"←単位を選択してください。\",IF(AND(Q101=2,Q103=2),\"←単位または力率が間違っています。\",\"\")),\"←数字を入力してください。\"))","v":""},null,1]
[null,null,null,"入力",null,null,"kW",null,null,null,null,null,null,"",{"$f":"IF(OR(E102=\"\",ISNUMBER(E102)),\"\",\"←数字を入力してください。\")","v":""},null,1,"入力値算定",null,"契約電力確定",{"$f":"IF(Q83=2,IF(AND(U97>0,U97<=0.5),0.5,ROUND(U97,0)),IF(Q83=3,IF(AND(U99>0,U99<=0.5),0.5,ROUND(U99,0)),\"\"))","v":""}]
[null,null,null,"力率",null,null,null,null,null,null,null,null,null,"",{"$f":"IF(AND(E100<>\"\",Q103=1),\"←選択してください。\",\"\")","v":""},null,1,{"$f":"IF(E102<>\"\",E102,IF(Q103=2,E101,IF(Q101=2,ROUND(E101*0.933,3),0)))","v":0}]
[null,null,null,"台数",null,"台",null,null,null,null,null,null,null,"",{"$f":"IF(AND(E100<>\"\",E104=\"\"),\"←入力してください。\",IF(OR(E104=\"\",ISNUMBER(E104)),\"\",\"←数字を入力してください。\"))","v":""},null,1,{"$f":"IF(R103*E104=0,\"\",R103*E104)","v":""},null,"入力合計",{"$f":"IF(OR(AND(R88=0,E89<>\"\"),AND(R93=0,E94<>\"\"),AND(R98=0,E99<>\"\"),AND(R103=0,E104<>\"\"),AND(R108=0,E109<>\"\")),\"\",SUM(R89,R94,R99,R104,R109))","v":0}]
[null,"契約負荷\n設備内訳５",null,"機器種別",null,null,null,null,null,null,null,null,null,"",null,null,1]
[null,null,null,"出力",null,null,null,null,null,null,null,null,null,"",{"$f":"IF(E106=\"\",\"\",IF(ISNUMBER(E106),IF(Q106=1,\"←単位を選択してください。\",IF(AND(Q106=2,Q108=2),\"←単位または力率が間違っています。\",\"\")),\"←数字を入力してください。\"))","v":""},null,1]
[null,null,null,"入力",null,null,"kW",null,null,null,null,null,null,"",{"$f":"IF(OR(E107=\"\",ISNUMBER(E107)),\"\",\"←数字を入力してください。\")","v":""},null,1,"入力値算定"]
[null,null,null,"力率",null,null,null,null,null,null,null,null,null,"",{"$f":"IF(AND(E105<>\"\",Q108=1),\"←選択してください。\",\"\")","v":""},null,1,{"$f":"IF(E107<>\"\",E107,IF(Q108=2,E106,IF(Q106=2,ROUND(E106*0.933,3),0)))","v":0}]
[null,null,null,"台数",null,"台",null,null,null,null,null,null,null,"",{"$f":"IF(AND(E105<>\"\",E109=\"\"),\"←入力してください。\",IF(OR(E109=\"\",ISNUMBER(E109)),\"\",\"←数字を入力してください。\"))","v":""},null,1,{"$f":"IF(R108*E109=0,\"\",R108*E109)","v":""}]
["選択約款①","契約種別",null,null,null,null,null,null,null,null,null,null,null,"",{"$f":"IF(AND(Q110=1,E120<>\"\"),\"←選択してください。\",\"\")","v":""},null,1]
[null,"供給電気方式・供給電圧",null,null,null,null,null,null,null,null,null,null,null,"",{"$f":"IF(AND(Q110>1,Q111=1),\"←選択してください。\",\"\")","v":""},null,1,"種別表示用",null,"加重平均力率の算定"]
[null,"契約決定方法",null,null,null,null,null,null,null,null,null,null,null,"",{"$f":"IF(AND(Q110>1,Q112=1),\"←選択してください。\",\"\")","v":""},null,1,{"$f":"IF(Q110=2,AB6,IF(Q110=3,AB7,IF(Q110=4,AB8,IF(Q110=5,AB9,IF(Q110=6,AB10,IF(Q110=7,AB11,IF(Q110=8,AB12,IF(Q110=9,AB13,\"\"))))))))","v":""},null,1,{"$f":"IF(Q125=2,R126,0)+IF(Q133=2,R134,0)+IF(Q141=2,R142,0)+IF(Q149=2,R150,0)+IF(Q157=2,R158,0)","v":0},{"$f":"U112*1","v":0}]
[null,"主開閉器の定格電流",null,null,null,"Ａ",null,null,null,null,null,null,null,"",{"$f":"IF(AND(E113=\"\",Q112=2),\"←入力してください。\",IF(OR(E113=\"\",ISNUMBER(E113)),\"\",\"←数字を入力してください。\"))","v":""},null,null,{"$f":"IF(Q110=10,AB14,R112)","v":""},null,0.9,{"$f":"IF(Q125=3,R126,0)+IF(Q133=3,R134,0)+IF(Q141=3,R142,0)+IF(Q149=3,R150,0)+IF(Q157=3,R158,0)","v":0},{"$f":"ROUND(U113*0.9,3)","v":0}]
[null,"検知制御\n装置",null,"メーカー",null,null,null,null,null,null,null,null,null,"",{"$f":"IF(OR(Q110=2,Q110=3,Q110=4,Q110=5,Q110=10),IF(E114<>\"\",\"←入力できません。\",\"\"),IF(AND(E115<>\"\",E114=\"\"),\"←入力してください。\",\"\"))","v":""},null,1,null,null,0.85,{"$f":"IF(Q125=4,R126,0)+IF(Q133=4,R134,0)+IF(Q141=4,R142,0)+IF(Q149=4,R150,0)+IF(Q157=4,R158,0)","v":0},{"$f":"ROUND(U114*0.85,3)","v":0}]
[null,null,null,"型式",null,null,null,null,null,null,null,null,null,"",{"$f":"IF(OR(Q110=2,Q110=3,Q110=4,Q110=5,Q110=10),IF(E115<>\"\",\"←入力できません。\",\"\"),IF(AND(E114<>\"\",E115=\"\"),\"←入力してください。\",\"\"))","v":""},null,1,null,null,0.8,{"$f":"IF(Q125=5,R126,0)+IF(Q133=5,R134,0)+IF(Q141=5,R142,0)+IF(Q149=5,R150,0)+IF(Q157=5,R158,0)","v":0},{"$f":"ROUND(U115*0.8,3)","v":0}]
[null,null,null,"種類",null,null,null,null,null,null,null,null,null,"",{"$f":"IF(AND(OR(Q110=2,Q110=3,Q110=4,Q110=5,Q110=10),Q116>1),\"←選択できません。\",IF(AND(E114<>\"\",Q116=1),\"←選択してください。\",\"\"))","v":""},null,1,null,null,"合計",{"$f":"IF(SUM(U112:U115)=0,\"\",ROUND(SUM(V112:V115)/SUM(U112:U115),2))","v":""}]
[null,"通電遮断パターン",null,null,null,"時",null,null,"分から",null,null,null,null,"",{"$f":"IF(AND(OR(Q110=7,Q110>8),OR(E117=\"\",G117=\"\")),\"←入力してください。\",IF(OR(E117=\"\",G117=\"\"),\"\",IF(AND(ISNUMBER(E117),ISNUMBER(G117)),IF(OR(E117<4,AND(E117>7,E117<15),E117>19,MOD(G117,15)<>0,G117<0,G117>59),\"←入力内容が不正です。\",\"\"),\"←数字を入力してください。\")))","v":""},null,1,null,null,"台数圧縮"]
[null,null,null,null,null,null,null,null,null,null,null,null,null,"",{"$f":"IF(AND(OR(Q110=7,Q110>8),E118=\"\"),\"←入力してください。\",IF(E118=\"\",\"\",IF(ISNUMBER(E118),IF(OR(E118=15,E118=30,E118=1,E118=2),IF(OR(AND(E118=2,Q118=3),AND(E118<>2,Q118=2),AND(E118>2,Q117=2),AND(E118<3,Q117=3)),\"←入力・選択内容が不正です。\",\"\"),\"←入力内容が不正です。\"),\"←数字を入力してください。\")))","v":""},null,1,null,null,"最初の2台",{"$f":"IF(X119>1,W119*2,W119+AA119)","v":0},{"$f":"ROUND(U118*1,3)","v":0},"1番目",null,null,null,"2番目",null,null,null,"3番目",null,null,null,"4番目"]
[null,"最低使用期間開始月",null,null,null,null,null,null,null,null,null,null,null,"",{"$f":"IF(AND(Q110>5,E119=\"\"),\"←入力してください。\",IF(E119=\"\",\"\",IF(ISNUMBER(E119),IF(OR(E119<1,E119>12),\"←入力内容が不正です。\",\"\"),\"←数字を入力してください。\")))","v":""},null,null,null,null,"次の２台",{"$f":"IF(X119>3,W119*2,IF(X119=3,W119+AA119,IF(X119=2,IF(AB119>1,AA119*2,AA119+AE119),IF(AB119>2,AA119*2,IF(AB119=2,AA119+AE119,IF(AB119=1,IF(AF119>1,AE119*2,AE119+AI119)))))))","v":0},{"$f":"ROUND(U119*0.95,3)","v":0},{"$f":"MAX(W120:Z124)","v":0},{"$f":"COUNTIF(W120:Z124,W119)","v":20},null,null,{"$f":"MAX(AA120:AD124)+W119","v":-100},{"$f":"COUNTIF(AA120:AD124,AA119-W119)","v":20},null,null,{"$f":"MAX(AE120:AH124)+AA119","v":-200},{"$f":"COUNTIF(AE120:AH124,AE119-AA119)","v":20},null,null,{"$f":"MAX(AI120:AL124)+AE119","v":-300},{"$f":"COUNTIF(AI120:AL124,AI119-AE119)","v":20}]
[null,"契約負荷\n設備内訳１",null,"機器種別",null,null,null,null,null,null,null,null,null,"",{"$f":"IF(AND(Q110>1,E126=\"\",E134=\"\",E142=\"\",E150=\"\",E158=\"\"),\"←契約負荷設備の内訳を入力してください。\",\"\")","v":""},null,null,null,null,"残り",{"$f":"U136-U118-U119","v":0},{"$f":"ROUND(U120*0.9,3)","v":0},{"$f":"IF(Q125>2,R125,0)","v":0},{"$f":"IF(E126>1,W120,0)","v":0},{"$f":"IF(E126>2,W120,0)","v":0},{"$f":"IF(E126>3,W120,0)","v":0},{"$f":"IF(W120-$W$119=0,-100,W120-$W$119)","v":-100},{"$f":"IF(X120-$W$119=0,-100,X120-$W$119)","v":-100},-100,-100,{"$f":"IF(AA120-$AA$119+$W$119=0,-100,AA120-$AA$119+$W$119)","v":-100},{"$f":"IF(AB120-$AA$119+$W$119=0,-100,AB120-$AA$119+$W$119)","v":-100},-100,-100,{"$f":"IF(AE120-$AE$119+$AA$119=0,-100,AE120-$AE$119+$AA$119)","v":-100},{"$f":"IF(AF120-$AE$119+$AA$119=0,-100,AF120-$AE$119+$AA$119)","v":-100},-100,-100]
[null,null,null,"メーカー",null,null,null,null,null,null,null,null,null,"",{"$f":"IF(AND(E120<>\"\",E121=\"\"),\"←入力してください。\",\"\")","v":""},null,1,null,null,"合計",null,{"$f":"SUM(V118:V120)","v":0},{"$f":"IF(Q133>2,R133,0)","v":0},{"$f":"IF(E134>1,W121,0)","v":0},{"$f":"IF(E134>2,W121,0)","v":0},{"$f":"IF(E134>3,W121,0)","v":0},{"$f":"IF(W121-$W$119=0,-100,W121-$W$119)","v":-100},-100,-100,-100,{"$f":"IF(AA121-$AA$119+$W$119=0,-100,AA121-$AA$119+$W$119)","v":-100},-100,-100,-100,{"$f":"IF(AE121-$AE$119+$AA$119=0,-100,AE121-$AE$119+$AA$119)","v":-100},-100,-100,-100]
[null,null,null,"型式",null,null,null,null,null,null,null,null,null,"",{"$f":"IF(AND(E120<>\"\",E122=\"\"),\"←入力してください。\",\"\")","v":""},null,1,null,null,null,null,null,{"$f":"IF(Q141>2,R141,0)","v":0},{"$f":"IF(E142>1,W122,0)","v":0},{"$f":"IF(E142>2,W122,0)","v":0},{"$f":"IF(E142>3,W122,0)","v":0},{"$f":"IF(W122-$W$119=0,-100,W122-$W$119)","v":-100},-100,-100,-100,{"$f":"IF(AA122-$AA$119+$W$119=0,-100,AA122-$AA$119+$W$119)","v":-100},-100,-100,-100,{"$f":"IF(AE122-$AE$119+$AA$119=0,-100,AE122-$AE$119+$AA$119)","v":-100},-100,-100,-100]
[null,null,null,"出力",null,null,null,null,null,null,null,null,null,"",{"$f":"IF(E123=\"\",\"\",IF(ISNUMBER(E123),IF(Q123=1,\"←単位を選択してください。\",IF(AND(Q123=2,Q125=2),\"←単位または力率が間違っています。\",\"\")),\"←数字を入力してください。\"))","v":""},null,1,null,null,"容量圧縮",{"$f":"ROUND(IF(V121<6,V121,IF(V121<20,(V121-6)*0.9+6,IF(V121<50,(V121-20)*0.8+6+14*0.9,(V121-50)*0.7+6+14*0.9+30*0.8))),3)+U135","v":0},null,{"$f":"IF(Q149>2,R149,0)","v":0},{"$f":"IF(E150>1,W123,0)","v":0},{"$f":"IF(E150>2,W123,0)","v":0},{"$f":"IF(E150>3,W123,0)","v":0},{"$f":"IF(W123-$W$119=0,-100,W123-$W$119)","v":-100},-100,-100,-100,{"$f":"IF(AA123-$AA$119+$W$119=0,-100,AA123-$AA$119+$W$119)","v":-100},-100,-100,-100,{"$f":"IF(AE123-$AE$119+$AA$119=0,-100,AE123-$AE$119+$AA$119)","v":-100},-100,-100,-100]
[null,null,null,"入力",null,null,"kW",null,null,null,null,null,null,"",{"$f":"IF(OR(E124=\"\",ISNUMBER(E124)),\"\",\"←数字を入力してください。\")","v":""},null,1,"入力値算定",null,null,null,null,{"$f":"IF(Q157>2,R157,0)","v":0},{"$f":"IF(E158>1,W124,0)","v":0},{"$f":"IF(E158>2,W124,0)","v":0},{"$f":"IF(E158>3,W124,0)","v":0},{"$f":"IF(W124-$W$119=0,-100,W124-$W$119)","v":-100},-100,-100,-100,{"$f":"IF(AA124-$AA$119+$W$119=0,-100,AA124-$AA$119+$W$119)","v":-100},-100,-100,-100,{"$f":"IF(AE124-$AE$119+$AA$119=0,-100,AE124-$AE$119+$AA$119)","v":-100},-100,-100,-100]
[null,null,null,"力率",null,null,null,null,null,null,null,null,null,"",{"$f":"IF(AND(E120<>\"\",Q125=1),\"←選択してください。\",\"\")","v":""},null,1,{"$f":"IF(E124<>\"\",E124,IF(Q125=2,E123,IF(Q123=2,ROUND(E123*0.933,3),0)))","v":0},null,"主開閉器契約",{"$f":"IF(Q111=2,E113*100/1000,IF(OR(Q111=3,Q111=4),E113*200/1000,IF(Q111=5,E113*200*1.732/1000,0)))","v":0}]
[null,null,null,"台数",null,null,null,null,null,null,null,null,null,"",{"$f":"IF(AND(E120<>\"\",E126=\"\"),\"←入力してください。\",IF(OR(E126=\"\",ISNUMBER(E126)),\"\",\"←数字を入力してください。\"))","v":""},null,1,{"$f":"IF(R125*E126=0,\"\",R125*E126)","v":""}]
[null,null,null,"通電制御・検知制御",null,null,null,null,null,null,null,null,null,"",{"$f":"IF(AND(E120<>\"\",Q127=1),\"←選択してください。\",\"\")","v":""},null,1,null,null,"負荷設備契約自動計算可否確認",{"$f":"IF(U134=1,\"\",U123)","v":0}]
[null,"契約負荷\n設備内訳２",null,"機器種別",null,null,null,null,null,null,null,null,null,"",null,null,null,null,null,"加重平均力率自動計算可否確認",{"$f":"IF(OR(AND(Q125>1,R125=0),AND(Q133>1,R133=0),AND(Q141>1,R141=0),AND(Q149>1,R149=0),AND(Q157>1,R157=0)),\"\",U116)","v":""}]
[null,null,null,"メーカー",null,null,null,null,null,null,null,null,null,"",{"$f":"IF(AND(E128<>\"\",E129=\"\"),\"←入力してください。\",\"\")","v":""},null,1]
[null,null,null,"型式",null,null,null,null,null,null,null,null,null,"",{"$f":"IF(AND(E128<>\"\",E130=\"\"),\"←入力してください。\",\"\")","v":""},null,1,null,null,"契約電力確定",{"$f":"IF(Q112=2,IF(AND(U125>0,U125<=0.5),0.5,ROUND(U125,0)),IF(Q112=3,IF(AND(U123>0,U123<0.5),0.5,ROUND(U123,0)),\"\"))","v":""}]
[null,null,null,"出力",null,null,null,null,null,null,null,null,null,"",{"$f":"IF(E131=\"\",\"\",IF(ISNUMBER(E131),IF(Q131=1,\"←単位を選択してください。\",IF(AND(Q131=2,Q133=2),\"←単位または力率が間違っています。\",\"\")),\"←数字を入力してください。\"))","v":""},null,1]
[null,null,null,"入力",null,null,"kW",null,null,null,null,null,null,"",{"$f":"IF(OR(E132=\"\",ISNUMBER(E132)),\"\",\"←数字を入力してください。\")","v":""},null,1,"入力値算定",null,"通電制御・検知制御対象率（分子）",{"$f":"IF(Q127=2,R126,0)+IF(Q135=2,R134,0)+IF(Q143=2,R142,0)+IF(Q151=2,R150,0)+IF(Q159=2,R158,0)","v":0}]
[null,null,null,"力率",null,null,null,null,null,null,null,null,null,"",{"$f":"IF(AND(E128<>\"\",Q133=1),\"←選択してください。\",\"\")","v":""},null,1,{"$f":"IF(E132<>\"\",E132,IF(Q133=2,E131,IF(Q131=2,ROUND(E131*0.933,3),0)))","v":0}]
[null,null,null,"台数",null,null,null,null,null,null,null,null,null,{"$f":"IF(O134=\"\",\"\",O134)","v":""},{"$f":"IF(AND(E128<>\"\",E134=\"\"),\"←入力してください。\",IF(OR(E134=\"\",ISNUMBER(E134)),\"\",\"←数字を入力してください。\"))","v":""},null,1,{"$f":"IF(R133*E134=0,\"\",R133*E134)","v":""},null,"出力・入力データチェック",{"$f":"IF(OR(AND(R125=0,E126<>\"\"),AND(R133=0,E134<>\"\"),AND(R141=0,E142<>\"\"),AND(R149=0,E150<>\"\"),AND(R157=0,E158<>\"\")),1,\"\")","v":""}]
[null,null,null,"通電制御・検知制御",null,null,null,null,null,null,null,null,null,"",{"$f":"IF(AND(E128<>\"\",Q135=1),\"←選択してください。\",\"\")","v":""},null,1,null,null,"電熱器総容量",{"$f":"IF(U134=1,0,IF(Q125=2,R126,0)+IF(Q133=2,R134,0)+IF(Q141=2,R142,0)+IF(Q149=2,R150,0)+IF(Q157=2,R158,0))","v":0}]
[null,"契約負荷\n設備内訳３",null,"機器種別",null,null,null,null,null,null,null,null,null,"",null,null,null,null,null,"電熱器以外総容量",{"$f":"IF(U134=1,0,IF(Q125>2,R126,0)+IF(Q133>2,R134,0)+IF(Q141>2,R142,0)+IF(Q149>2,R150,0)+IF(Q157>2,R158,0))","v":0}]
[null,null,null,"メーカー",null,null,null,null,null,null,null,null,null,"",{"$f":"IF(AND(E136<>\"\",E137=\"\"),\"←入力してください。\",\"\")","v":""},null,1]
[null,null,null,"型式",null,null,null,null,null,null,null,null,null,"",{"$f":"IF(AND(E136<>\"\",E138=\"\"),\"←入力してください。\",\"\")","v":""},null,1]
[null,null,null,"出力",null,null,null,null,null,null,null,null,null,"",{"$f":"IF(E139=\"\",\"\",IF(ISNUMBER(E139),IF(Q139=1,\"←単位を選択してください。\",IF(AND(Q139=2,Q141=2),\"←単位または力率が間違っています。\",\"\")),\"←数字を入力してください。\"))","v":""},null,1]
[null,null,null,"入力",null,null,"kW",null,null,null,null,null,null,"",{"$f":"IF(OR(E140=\"\",ISNUMBER(E140)),\"\",\"←数字を入力してください。\")","v":""},null,1,"入力値算定"]
[null,null,null,"力率",null,null,null,null,null,null,null,null,null,"",{"$f":"IF(AND(E136<>\"\",Q141=1),\"←選択してください。\",\"\")","v":""},null,1,{"$f":"IF(E140<>\"\",E140,IF(Q141=2,E139,IF(Q139=2,ROUND(E139*0.933,3),0)))","v":0}]
[null,null,null,"台数",null,null,null,null,null,null,null,null,null,"",{"$f":"IF(AND(E136<>\"\",E142=\"\"),\"←入力してください。\",IF(OR(E142=\"\",ISNUMBER(E142)),\"\",\"←数字を入力してください。\"))","v":""},null,1,{"$f":"IF(R141*E142=0,\"\",R141*E142)","v":""}]
[null,null,null,"通電制御・検知制御",null,null,null,null,null,null,null,null,null,"",{"$f":"IF(AND(E136<>\"\",Q143=1),\"←選択してください。\",\"\")","v":""},null,1]
[null,"契約負荷\n設備内訳４",null,"機器種別",null,null,null,null,null,null,null,null,null,""]
[null,null,null,"メーカー",null,null,null,null,null,null,null,null,null,"",{"$f":"IF(AND(E144<>\"\",E145=\"\"),\"←入力してください。\",\"\")","v":""},null,1]
[null,null,null,"型式",null,null,null,null,null,null,null,null,null,"",{"$f":"IF(AND(E144<>\"\",E146=\"\"),\"←入力してください。\",\"\")","v":""},null,1]
[null,null,null,"出力",null,null,null,null,null,null,null,null,null,"",{"$f":"IF(E147=\"\",\"\",IF(ISNUMBER(E147),IF(Q147=1,\"←単位を選択してください。\",IF(AND(Q147=2,Q149=2),\"←単位または力率が間違っています。\",\"\")),\"←数字を入力してください。\"))","v":""},null,1]
[null,null,null,"入力",null,null,"kW",null,null,null,null,null,null,"",{"$f":"IF(OR(E148=\"\",ISNUMBER(E148)),\"\",\"←数字を入力してください。\")","v":""},null,1,"入力値算定"]
[null,null,null,"力率",null,null,null,null,null,null,null,null,null,"",{"$f":"IF(AND(E144<>\"\",Q149=1),\"←選択してください。\",\"\")","v":""},null,1,{"$f":"IF(E148<>\"\",E148,IF(Q149=2,E147,IF(Q147=2,ROUND(E147*0.933,3),0)))","v":0}]
[null,null,null,"台数",null,null,null,null,null,null,null,null,null,"",{"$f":"IF(AND(E144<>\"\",E150=\"\"),\"←入力してください。\",IF(OR(E150=\"\",ISNUMBER(E150)),\"\",\"←数字を入力してください。\"))","v":""},null,1,{"$f":"IF(R149*E150=0,\"\",R149*E150)","v":""}]
[null,null,null,"通電制御・検知制御",null,null,null,null,null,null,null,null,null,"",{"$f":"IF(AND(E144<>\"\",Q151=1),\"←選択してください。\",\"\")","v":""},null,1]
[null,"契約負荷\n設備内訳５",null,"機器種別",null,null,null,null,null,null,null,null,null,""]
[null,null,null,"メーカー",null,null,null,null,null,null,null,null,null,"",{"$f":"IF(AND(E152<>\"\",E153=\"\"),\"←入力してください。\",\"\")","v":""},null,1]
[null,null,null,"型式",null,null,null,null,null,null,null,null,null,"",{"$f":"IF(AND(E152<>\"\",E154=\"\"),\"←入力してください。\",\"\")","v":""},null,1]
[null,null,null,"出力",null,null,null,null,null,null,null,null,null,"",{"$f":"IF(E155=\"\",\"\",IF(ISNUMBER(E155),IF(Q155=1,\"←単位を選択してください。\",IF(AND(Q155=2,Q157=2),\"←単位または力率が間違っています。\",\"\")),\"←数字を入力してください。\"))","v":""},null,1]
[null,null,null,"入力",null,null,"kW",null,null,null,null,null,null,"",{"$f":"IF(OR(E156=\"\",ISNUMBER(E156)),\"\",\"←数字を入力してください。\")","v":""},null,1,"入力値算定"]
[null,null,null,"力率",null,null,null,null,null,null,null,null,null,"",{"$f":"IF(AND(E152<>\"\",Q157=1),\"←選択してください。\",\"\")","v":""},null,1,{"$f":"IF(E156<>\"\",E156,IF(Q157=2,E155,IF(Q155=2,ROUND(E155*0.933,3),0)))","v":0}]
[null,null,null,"台数",null,"台",null,null,null,null,null,null,null,"",{"$f":"IF(AND(E152<>\"\",E158=\"\"),\"←入力してください。\",IF(OR(E158=\"\",ISNUMBER(E158)),\"\",\"←数字を入力してください。\"))","v":""},null,1,{"$f":"IF(R157*E158=0,\"\",R157*E158)","v":""}]
[null,null,null,"通電制御・検知制御",null,null,null,null,null,null,null,null,null,"",{"$f":"IF(AND(E152<>\"\",Q159=1),\"←選択してください。\",\"\")","v":""},null,1]
["選択約款②","契約種別",null,null,null,null,null,null,null,null,null,null,null,"",{"$f":"IF(AND(Q160=Q110,Q160>1),\"←選択約款①と同じ種別は選択できません。\",IF(AND(Q160=1,E170<>\"\"),\"←選択してください。\",\"\"))","v":""},null,1]
[null,"供給電気方式・供給電圧",null,null,null,null,null,null,null,null,null,null,null,"",{"$f":"IF(AND(Q160>1,Q161=1),\"←選択してください。\",\"\")","v":""},null,1,"種別表示用",null,"加重平均力率の算定"]
[null,"契約決定方法",null,null,null,null,null,null,null,null,null,null,null,"",{"$f":"IF(AND(Q160>1,Q162=1),\"←選択してください。\",\"\")","v":""},null,1,{"$f":"IF(Q160=2,AB6,IF(Q160=3,AB7,IF(Q160=4,AB8,IF(Q160=5,AB9,IF(Q160=6,AB10,IF(Q160=7,AB11,IF(Q160=8,AB12,IF(Q160=9,AB13,\"\"))))))))","v":""},null,1,{"$f":"IF(Q175=2,R176,0)+IF(Q183=2,R184,0)+IF(Q191=2,R192,0)+IF(Q199=2,R200,0)+IF(Q207=2,R208,0)","v":0},{"$f":"U162*1","v":0}]
[null,"主開閉器の定格電流",null,null,null,null,null,null,null,null,null,null,null,"",{"$f":"IF(AND(E163=\"\",Q162=2),\"←入力してください。\",IF(OR(E163=\"\",ISNUMBER(E163)),\"\",\"←数字を入力してください。\"))","v":""},null,null,{"$f":"IF(Q160=10,AB14,R162)","v":""},null,0.9,{"$f":"IF(Q175=3,R176,0)+IF(Q183=3,R184,0)+IF(Q191=3,R192,0)+IF(Q199=3,R200,0)+IF(Q207=3,R208,0)","v":0},{"$f":"ROUND(U163*0.9,3)","v":0}]
[null,"検知制御\n装置",null,"メーカー",null,null,null,null,null,null,null,null,null,"",{"$f":"IF(OR(Q160=2,Q160=3,Q160=4,Q160=5,Q160=10),IF(E164<>\"\",\"←入力できません。\",\"\"),IF(AND(E165<>\"\",E164=\"\"),\"←入力してください。\",\"\"))","v":""},null,1,null,null,0.85,{"$f":"IF(Q175=4,R176,0)+IF(Q183=4,R184,0)+IF(Q191=4,R192,0)+IF(Q199=4,R200,0)+IF(Q207=4,R208,0)","v":0},{"$f":"ROUND(U164*0.85,3)","v":0}]
[null,null,null,"型式",null,null,null,null,null,null,null,null,null,"",{"$f":"IF(OR(Q160=2,Q160=3,Q160=4,Q160=5,Q160=10),IF(E165<>\"\",\"←入力できません。\",\"\"),IF(AND(E164<>\"\",E165=\"\"),\"←入力してください。\",\"\"))","v":""},null,1,null,null,0.8,{"$f":"IF(Q175=5,R176,0)+IF(Q183=5,R184,0)+IF(Q191=5,R192,0)+IF(Q199=5,R200,0)+IF(Q207=5,R208,0)","v":0},{"$f":"ROUND(U165*0.8,3)","v":0}]
[null,null,null,"種類",null,null,null,null,null,null,null,null,null,"",{"$f":"IF(AND(OR(Q160=2,Q160=3,Q160=4,Q160=5,Q160=10),Q166>1),\"←選択できません。\",IF(AND(E164<>\"\",Q166=1),\"←選択してください。\",\"\"))","v":""},null,1,null,null,"合計",{"$f":"IF(SUM(U162:U165)=0,\"\",ROUND(SUM(V162:V165)/SUM(U162:U165),2))","v":""}]
[null,"通電遮断パターン",null,null,null,"時",null,null,"分から",null,null,null,null,"",{"$f":"IF(AND(OR(Q160=7,Q160>8),OR(E167=\"\",G167=\"\")),\"←入力してください。\",IF(OR(E167=\"\",G167=\"\"),\"\",IF(AND(ISNUMBER(E167),ISNUMBER(G167)),IF(OR(E167<4,AND(E167>7,E167<16),E167>19,MOD(G167,15)<>0,G167<0,G167>59),\"←入力内容が不正です。\",\"\"),\"←数字を入力してください。\")))","v":""},null,1,null,null,"台数圧縮"]
[null,null,null,null,null,null,null,null,null,null,null,null,null,"",{"$f":"IF(AND(OR(Q160=7,Q160>8),E168=\"\"),\"←入力してください。\",IF(E168=\"\",\"\",IF(ISNUMBER(E168),IF(OR(E168=15,E168=30,E168=1,E168=2),IF(OR(AND(E168=2,Q168=3),AND(E168<>2,Q168=2),AND(E168>2,Q167=2),AND(E168<3,Q167=3)),\"←入力・選択内容が不正です。\",\"\"),\"←入力内容が不正です。\"),\"←数字を入力してください。\")))","v":""},null,1,null,null,"最初の2台",{"$f":"IF(X169>1,W169*2,W169+AA169)","v":0},{"$f":"ROUND(U168*1,3)","v":0},"1番目",null,null,null,"2番目",null,null,null,"3番目",null,null,null,"4番目"]
[null,"最低使用期間開始月",null,null,null,null,null,null,null,null,null,null,null,"",{"$f":"IF(AND(Q160>5,E169=\"\"),\"←入力してください。\",IF(E169=\"\",\"\",IF(ISNUMBER(E169),IF(OR(E169<1,E169>12),\"←入力内容が不正です。\",\"\"),\"←数字を入力してください。\")))","v":""},null,null,null,null,"次の２台",{"$f":"IF(X169>3,W169*2,IF(X169=3,W169+AA169,IF(X169=2,IF(AB169>1,AA169*2,AA169+AE169),IF(AB169>2,AA169*2,IF(AB169=2,AA169+AE169,IF(AB169=1,IF(AF169>1,AE169*2,AE169+AI169)))))))","v":0},{"$f":"ROUND(U169*0.95,3)","v":0},{"$f":"MAX(W170:Z174)","v":0},{"$f":"COUNTIF(W170:Z174,W169)","v":20},null,null,{"$f":"MAX(AA170:AD174)+W169","v":-100},{"$f":"COUNTIF(AA170:AD174,AA169-W169)","v":20},null,null,{"$f":"MAX(AE170:AH174)+AA169","v":-200},{"$f":"COUNTIF(AE170:AH174,AE169-AA169)","v":20},null,null,{"$f":"MAX(AI170:AL174)+AE169","v":-300},{"$f":"COUNTIF(AI170:AL174,AI169-AE169)","v":20}]
[null,"契約負荷\n設備内訳１",null,"機器種別",null,null,null,null,null,null,null,null,null,"",{"$f":"IF(AND(Q160>1,E176=\"\",E184=\"\",E192=\"\",E200=\"\",E208=\"\"),\"←契約負荷設備の内訳を入力してください。\",\"\")","v":""},null,null,null,null,"残り",{"$f":"U186-U168-U169","v":0},{"$f":"ROUND(U170*0.9,3)","v":0},{"$f":"IF(Q175>2,R175,0)","v":0},{"$f":"IF(E176>1,W170,0)","v":0},{"$f":"IF(E176>2,W170,0)","v":0},{"$f":"IF(E176>3,W170,0)","v":0},{"$f":"IF(W170-$W$169=0,-100,W170-$W$169)","v":-100},{"$f":"IF(X170-$W$169=0,-100,X170-$W$169)","v":-100},-100,-100,{"$f":"IF(AA170-$AA$169+$W$169=0,-100,AA170-$AA$169+$W$169)","v":-100},{"$f":"IF(AB170-$AA$169+$W$169=0,-100,AB170-$AA$169+$W$169)","v":-100},-100,-100,{"$f":"IF(AE170-$AE$169+$AA$169=0,-100,AE170-$AE$169+$AA$169)","v":-100},{"$f":"IF(AF170-$AE$169+$AA$169=0,-100,AF170-$AE$169+$AA$169)","v":-100},-100,-100]
[null,null,null,"メーカー",null,null,null,null,null,null,null,null,null,"",{"$f":"IF(AND(E170<>\"\",E171=\"\"),\"←入力してください。\",\"\")","v":""},null,1,null,null,"合計",null,{"$f":"SUM(V168:V170)","v":0},{"$f":"IF(Q183>2,R183,0)","v":0},{"$f":"IF(E184>1,W171,0)","v":0},{"$f":"IF(E184>2,W171,0)","v":0},{"$f":"IF(E184>3,W171,0)","v":0},{"$f":"IF(W171-$W$169=0,-100,W171-$W$169)","v":-100},-100,-100,-100,{"$f":"IF(AA171-$AA$169+$W$169=0,-100,AA171-$AA$169+$W$169)","v":-100},-100,-100,-100,{"$f":"IF(AE171-$AE$169+$AA$169=0,-100,AE171-$AE$169+$AA$169)","v":-100},-100,-100,-100]
[null,null,null,"型式",null,null,null,null,null,null,null,null,null,"",{"$f":"IF(AND(E170<>\"\",E172=\"\"),\"←入力してください。\",\"\")","v":""},null,1,null,null,null,null,null,{"$f":"IF(Q191>2,R191,0)","v":0},{"$f":"IF(E192>1,W172,0)","v":0},{"$f":"IF(E192>2,W172,0)","v":0},{"$f":"IF(E192>3,W172,0)","v":0},{"$f":"IF(W172-$W$169=0,-100,W172-$W$169)","v":-100},-100,-100,-100,{"$f":"IF(AA172-$AA$169+$W$169=0,-100,AA172-$AA$169+$W$169)","v":-100},-100,-100,-100,{"$f":"IF(AE172-$AE$169+$AA$169=0,-100,AE172-$AE$169+$AA$169)","v":-100},-100,-100,-100]
[null,null,null,"出力",null,null,null,null,null,null,null,null,null,"",{"$f":"IF(E173=\"\",\"\",IF(ISNUMBER(E173),IF(Q173=1,\"←単位を選択してください。\",IF(AND(Q173=2,Q175=2),\"←単位または力率が間違っています。\",\"\")),\"←数字を入力してください。\"))","v":""},null,1,null,null,"容量圧縮",{"$f":"ROUND(IF(V171<6,V171,IF(V171<20,(V171-6)*0.9+6,IF(V171<50,(V171-20)*0.8+6+14*0.9,(V171-50)*0.7+6+14*0.9+30*0.8))),3)+U185","v":0},null,{"$f":"IF(Q199>2,R199,0)","v":0},{"$f":"IF(E200>1,W173,0)","v":0},{"$f":"IF(E200>2,W173,0)","v":0},{"$f":"IF(E200>3,W173,0)","v":0},{"$f":"IF(W173-$W$169=0,-100,W173-$W$169)","v":-100},-100,-100,-100,{"$f":"IF(AA173-$AA$169+$W$169=0,-100,AA173-$AA$169+$W$169)","v":-100},-100,-100,-100,{"$f":"IF(AE173-$AE$169+$AA$169=0,-100,AE173-$AE$169+$AA$169)","v":-100},-100,-100,-100]
[null,null,null,"入力",null,null,"kW",null,null,null,null,null,null,"",{"$f":"IF(OR(E174=\"\",ISNUMBER(E174)),\"\",\"←数字を入力してください。\")","v":""},null,1,"入力値算定",null,null,null,null,{"$f":"IF(Q207>2,R207,0)","v":0},{"$f":"IF(E208>1,W174,0)","v":0},{"$f":"IF(E208>2,W174,0)","v":0},{"$f":"IF(E208>3,W174,0)","v":0},{"$f":"IF(W174-$W$169=0,-100,W174-$W$169)","v":-100},-100,-100,-100,{"$f":"IF(AA174-$AA$169+$W$169=0,-100,AA174-$AA$169+$W$169)","v":-100},-100,-100,-100,{"$f":"IF(AE174-$AE$169+$AA$169=0,-100,AE174-$AE$169+$AA$169)","v":-100},-100,-100,-100]
[null,null,null,"力率",null,null,null,null,null,null,null,null,null,"",{"$f":"IF(AND(E170<>\"\",Q175=1),\"←選択してください。\",\"\")","v":""},null,1,{"$f":"IF(E174<>\"\",E174,IF(Q175=2,E173,IF(Q173=2,ROUND(E173*0.933,3),0)))","v":0},null,"主開閉器契約",{"$f":"IF(Q161=2,E163*100/1000,IF(OR(Q161=3,Q161=4),E163*200/1000,IF(Q161=5,E163*200*1.732/1000,0)))","v":0}]
[null,null,null,"台数",null,null,null,null,null,null,null,null,null,"",{"$f":"IF(AND(E170<>\"\",E176=\"\"),\"←入力してください。\",IF(OR(E176=\"\",ISNUMBER(E176)),\"\",\"←数字を入力してください。\"))","v":""},null,1,{"$f":"IF(R175*E176=0,\"\",R175*E176)","v":""}]
[null,null,null,"通電制御・検知制御",null,null,null,null,null,null,null,null,null,"",{"$f":"IF(AND(E170<>\"\",Q177=1),\"←選択してください。\",\"\")","v":""},null,1,null,null,"負荷設備契約自動計算可否確認",{"$f":"IF(U184=1,\"\",U173)","v":0}]
[null,"契約負荷\n設備内訳２",null,"機器種別",null,null,null,null,null,null,null,null,null,"",null,null,null,null,null,"加重平均力率自動計算可否確認",{"$f":"IF(OR(AND(Q175>1,R175=0),AND(Q183>1,R183=0),AND(Q191>1,R191=0),AND(Q199>1,R199=0),AND(Q207>1,R207=0)),\"\",U166)","v":""}]
[null,null,null,"メーカー",null,null,null,null,null,null,null,null,null,"",{"$f":"IF(AND(E178<>\"\",E179=\"\"),\"←入力してください。\",\"\")","v":""},null,1]
[null,null,null,"型式",null,null,null,null,null,null,null,null,null,"",{"$f":"IF(AND(E178<>\"\",E180=\"\"),\"←入力してください。\",\"\")","v":""},null,1,null,null,"契約電力確定",{"$f":"IF(Q162=2,IF(AND(U175>0,U175<=0.5),0.5,ROUND(U175,0)),IF(Q162=3,IF(AND(U173>0,U173<=0.5),0.5,ROUND(U173,0)),\"\"))","v":""}]
[null,null,null,"出力",null,null,null,null,null,null,null,null,null,"",{"$f":"IF(E181=\"\",\"\",IF(ISNUMBER(E181),IF(Q181=1,\"←単位を選択してください。\",IF(AND(Q181=2,Q183=2),\"←単位または力率が間違っています。\",\"\")),\"←数字を入力してください。\"))","v":""},null,1]
[null,null,null,"入力",null,null,"kW",null,null,null,null,null,null,"",{"$f":"IF(OR(E182=\"\",ISNUMBER(E182)),\"\",\"←数字を入力してください。\")","v":""},null,1,"入力値算定",null,"通電制御・検知制御対象率（分子）",{"$f":"IF(Q177=2,R176,0)+IF(Q185=2,R184,0)+IF(Q193=2,R192,0)+IF(Q201=2,R200,0)+IF(Q209=2,R208,0)","v":0}]
[null,null,null,"力率",null,null,null,null,null,null,null,null,null,"",{"$f":"IF(AND(E178<>\"\",Q183=1),\"←選択してください。\",\"\")","v":""},null,1,{"$f":"IF(E182<>\"\",E182,IF(Q183=2,E181,IF(Q181=2,ROUND(E181*0.933,3),0)))","v":0}]
[null,null,null,"台数",null,null,null,null,null,null,null,null,null,"",{"$f":"IF(AND(E178<>\"\",E184=\"\"),\"←入力してください。\",IF(OR(E184=\"\",ISNUMBER(E184)),\"\",\"←数字を入力してください。\"))","v":""},null,1,{"$f":"IF(R183*E184=0,\"\",R183*E184)","v":""},null,"出力・入力データチェック",{"$f":"IF(OR(AND(R175=0,E176<>\"\"),AND(R183=0,E184<>\"\"),AND(R191=0,E192<>\"\"),AND(R199=0,E200<>\"\"),AND(R207=0,E208<>\"\")),1,\"\")","v":""}]
[null,null,null,"通電制御・検知制御",null,null,null,null,null,null,null,null,null,"",{"$f":"IF(AND(E178<>\"\",Q185=1),\"←選択してください。\",\"\")","v":""},null,1,null,null,"電熱器総容量",{"$f":"IF(U184=1,0,IF(Q175=2,R176,0)+IF(Q183=2,R184,0)+IF(Q191=2,R192,0)+IF(Q199=2,R200,0)+IF(Q207=2,R208,0))","v":0}]
[null,"契約負荷\n設備内訳３",null,"機器種別",null,null,null,null,null,null,null,null,null,"",null,null,null,null,null,"電熱器以外総容量",{"$f":"IF(U184=1,0,IF(Q175>2,R176,0)+IF(Q183>2,R184,0)+IF(Q191>2,R192,0)+IF(Q199>2,R200,0)+IF(Q207>2,R208,0))","v":0}]
[null,null,null,"メーカー",null,null,null,null,null,null,null,null,null,"",{"$f":"IF(AND(E186<>\"\",E187=\"\"),\"←入力してください。\",\"\")","v":""},null,1]
[null,null,null,"型式",null,null,null,null,null,null,null,null,null,"",{"$f":"IF(AND(E186<>\"\",E188=\"\"),\"←入力してください。\",\"\")","v":""},null,1]
[null,null,null,"出力",null,null,null,null,null,null,null,null,null,"",{"$f":"IF(E189=\"\",\"\",IF(ISNUMBER(E189),IF(Q189=1,\"←単位を選択してください。\",IF(AND(Q189=2,Q191=2),\"←単位または力率が間違っています。\",\"\")),\"←数字を入力してください。\"))","v":""},null,1]
[null,null,null,"入力",null,null,"kW",null,null,null,null,null,null,"",{"$f":"IF(OR(E190=\"\",ISNUMBER(E190)),\"\",\"←数字を入力してください。\")","v":""},null,1,"入力値算定"]
[null,null,null,"力率",null,null,null,null,null,null,null,null,null,"",{"$f":"IF(AND(E186<>\"\",Q191=1),\"←選択してください。\",\"\")","v":""},null,1,{"$f":"IF(E190<>\"\",E190,IF(Q191=2,E189,IF(Q189=2,ROUND(E189*0.933,3),0)))","v":0}]
[null,null,null,"台数",null,null,null,null,null,null,null,null,null,"",{"$f":"IF(AND(E186<>\"\",E192=\"\"),\"←入力してください。\",IF(OR(E192=\"\",ISNUMBER(E192)),\"\",\"←数字を入力してください。\"))","v":""},null,1,{"$f":"IF(R191*E192=0,\"\",R191*E192)","v":""}]
[null,null,null,"通電制御・検知制御",null,null,null,null,null,null,null,null,null,"",{"$f":"IF(AND(E186<>\"\",Q193=1),\"←選択してください。\",\"\")","v":""},null,1]
[null,"契約負荷\n設備内訳４",null,"機器種別",null,null,null,null,null,null,null,null,null,""]
[null,null,null,"メーカー",null,null,null,null,null,null,null,null,null,"",{"$f":"IF(AND(E194<>\"\",E195=\"\"),\"←入力してください。\",\"\")","v":""},null,1]
[null,null,null,"型式",null,null,null,null,null,null,null,null,null,"",{"$f":"IF(AND(E194<>\"\",E196=\"\"),\"←入力してください。\",\"\")","v":""},null,1]
[null,null,null,"出力",null,null,null,null,null,null,null,null,null,"",{"$f":"IF(E197=\"\",\"\",IF(ISNUMBER(E197),IF(Q197=1,\"←単位を選択してください。\",IF(AND(Q197=2,Q199=2),\"←単位または力率が間違っています。\",\"\")),\"←数字を入力してください。\"))","v":""},null,1]
[null,null,null,"入力",null,null,"kW",null,null,null,null,null,null,{"$f":"IF(O198=\"\",\"\",O198)","v":""},{"$f":"IF(OR(E198=\"\",ISNUMBER(E198)),\"\",\"←数字を入力してください。\")","v":""},null,1,"入力値算定"]
[null,null,null,"力率",null,null,null,null,null,null,null,null,null,"",{"$f":"IF(AND(E194<>\"\",Q199=1),\"←選択してください。\",\"\")","v":""},null,1,{"$f":"IF(E198<>\"\",E198,IF(Q199=2,E197,IF(Q197=2,ROUND(E197*0.933,3),0)))","v":0}]
[null,null,null,"台数",null,null,null,null,null,null,null,null,null,"",{"$f":"IF(AND(E194<>\"\",E200=\"\"),\"←入力してください。\",IF(OR(E200=\"\",ISNUMBER(E200)),\"\",\"←数字を入力してください。\"))","v":""},null,1,{"$f":"IF(R199*E200=0,\"\",R199*E200)","v":""}]
[null,null,null,"通電制御・検知制御",null,null,null,null,null,null,null,null,null,"",{"$f":"IF(AND(E194<>\"\",Q201=1),\"←選択してください。\",\"\")","v":""},null,1]
[null,"契約負荷\n設備内訳５",null,"機器種別",null,null,null,null,null,null,null,null,null,""]
[null,null,null,"メーカー",null,null,null,null,null,null,null,null,null,"",{"$f":"IF(AND(E202<>\"\",E203=\"\"),\"←入力してください。\",\"\")","v":""},null,1]
[null,null,null,"型式",null,null,null,null,null,null,null,null,null,"",{"$f":"IF(AND(E202<>\"\",E204=\"\"),\"←入力してください。\",\"\")","v":""},null,1]
[null,null,null,"出力",null,null,null,null,null,null,null,null,null,"",{"$f":"IF(E205=\"\",\"\",IF(ISNUMBER(E205),IF(Q205=1,\"←単位を選択してください。\",IF(AND(Q205=2,Q207=2),\"←単位または力率が間違っています。\",\"\")),\"←数字を入力してください。\"))","v":""},null,1]
[null,null,null,"入力",null,null,"kW",null,null,null,null,null,null,"",{"$f":"IF(OR(E206=\"\",ISNUMBER(E206)),\"\",\"←数字を入力してください。\")","v":""},null,1,"入力値算定"]
[null,null,null,"力率",null,null,null,null,null,null,null,null,null,"",{"$f":"IF(AND(E202<>\"\",Q207=1),\"←選択してください。\",\"\")","v":""},null,1,{"$f":"IF(E206<>\"\",E206,IF(Q207=2,E205,IF(Q205=2,ROUND(E205*0.933,3),0)))","v":0}]
[null,null,null,"台数",null,"台",null,null,null,null,null,null,null,"",{"$f":"IF(AND(E202<>\"\",E208=\"\"),\"←入力してください。\",IF(OR(E208=\"\",ISNUMBER(E208)),\"\",\"←数字を入力してください。\"))","v":""},null,1,{"$f":"IF(R207*E208=0,\"\",R207*E208)","v":""}]
[null,null,null,"通電制御・検知制御",null,null,null,null,null,null,null,null,null,"",{"$f":"IF(AND(E202<>\"\",Q209=1),\"←選択してください。\",\"\")","v":""},null,1]

{"sheet":"１枚目","index":1,"n_rows":164,"n_cols":111,"rows_kept":164,"cut":false,"hidden":false,"merged":[[1,93,5,109],[44,55,45,64],[44,65,50,67],[44,68,46,71],[44,72,46,74],[44,75,46,76],[44,77,46,79],[44,80,46,84],[44,85,46,87],[44,88,46,92],[46,43,48,64],[47,68,50,71],[47,72,50,74],[47,75,50,76],[47,77,50,79],[47,80,50,84],[47,85,50,87],[47,88,50,92],[49,43,50,46],[49,47,50,51],[49,52,50,52],[49,53,50,57],[49,58,50,58],[49,59,50,63],[49,64,50,64],[44,20,45,20],[44,38,50,42],[44,43,45,44],[44,45,45,47],[44,48,45,48],[46,18,47,18],[46,19,47,19],[46,20,47,20],[48,18,50,37],[44,37,45,37],[46,30,47,30],[46,31,47,31],[46,32,47,32],[111,21,113,25],[95,21,110,25],[11,1,12,25],[13,1,14,38],[23,20,24,38],[25,11,27,12],[25,13,27,15],[19,11,22,63],[23,11,24,19],[40,11,43,50],[70,61,72,63],[67,43,69,46],[70,43,72,46],[34,23,36,50],[37,11,39,50],[34,11,36,12],[34,21,36,22],[55,47,57,48],[80,52,82,60],[34,51,36,80],[76,1,94,5],[76,6,77,10],[97,41,98,48],[105,41,107,48],[116,41,117,48],[121,32,123,36],[116,32,117,36],[105,53,107,54],[102,37,104,40],[99,55,101,58],[99,59,101,60],[111,49,113,52],[118,55,120,58],[118,49,120,52],[118,53,120,54],[108,41,110,48],[105,37,107,40],[121,55,123,58],[77,107,80,110],[65,70,69,74],[78,64,79,75],[78,76,79,83],[165,0,166,110],[130,53,132,54],[130,55,132,58],[130,59,132,60],[130,32,132,36],[129,93,132,98],[134,2,135,98],[127,41,129,48],[125,93,128,98],[136,2,137,98],[163,0,164,110],[114,6,128,10],[125,105,128,110],[125,99,128,104],[158,3,160,109],[134,101,141,102],[121,49,123,52],[121,53,123,54],[134,103,141,110],[124,59,126,60],[70,107,75,110],[70,93,75,98],[65,108,69,110],[65,96,69,99],[65,88,69,90],[73,59,75,60],[73,61,75,63],[67,61,69,63],[61,104,62,106],[65,100,69,101],[70,99,75,106],[6,0,9,110],[44,102,46,104],[114,26,129,31],[102,32,104,36],[116,37,117,40],[127,37,129,40],[111,30,113,31],[124,32,126,36],[121,37,123,40],[108,32,110,36],[111,32,113,36],[111,37,113,40],[121,41,123,48],[34,13,36,15],[34,16,36,16],[34,17,36,20],[89,61,91,63],[86,61,88,63],[89,73,91,75],[89,64,91,72],[63,70,64,110],[67,64,69,65],[70,59,72,60],[76,11,77,21],[31,6,33,10],[34,6,39,10],[34,1,43,5],[51,11,62,21],[90,11,94,19],[17,1,33,5],[31,11,33,13],[90,6,94,10],[78,6,83,10],[84,6,89,10],[25,21,27,22],[31,21,33,27],[90,20,94,21],[83,22,85,51],[58,49,60,54],[63,6,75,10],[40,6,43,10],[78,22,79,51],[17,18,18,63],[28,11,30,63],[46,21,47,21],[46,22,47,22],[46,23,47,23],[51,1,75,5],[14,64,16,68],[25,6,30,10],[20,75,21,89],[22,69,23,74],[22,75,23,110],[25,16,27,16],[25,17,27,20],[14,69,16,84],[17,6,24,10],[17,11,18,17],[17,64,27,68],[14,85,16,89],[26,89,27,92],[26,69,27,88],[17,75,19,110],[20,109,21,110],[20,104,21,108],[20,90,21,99],[26,104,27,104],[26,99,27,103],[20,103,21,103],[26,98,27,98],[26,93,27,97],[24,69,25,110],[110,6,113,10],[80,22,82,51],[70,47,72,48],[73,47,75,48],[70,26,72,42],[61,43,63,46],[61,47,63,48],[97,37,98,40],[105,32,107,36],[89,22,91,51],[86,22,88,51],[73,26,75,42],[51,22,75,25],[53,26,54,42],[53,43,54,48],[67,26,69,42],[55,49,57,54],[78,11,83,21],[84,11,89,21],[110,11,113,20],[95,26,110,31],[111,26,113,29],[67,47,69,48],[73,43,75,46],[46,25,47,25],[46,26,47,26],[46,27,47,27],[46,28,47,28],[46,29,47,29],[51,6,62,10],[58,47,60,48],[64,43,66,46],[99,32,101,36],[99,41,101,48],[92,22,94,51],[63,11,75,21],[51,26,52,65],[83,61,85,63],[58,59,60,60],[95,6,109,10],[95,11,109,20],[64,55,66,58],[67,59,69,60],[97,32,98,36],[44,6,50,12],[44,13,50,17],[44,18,45,18],[44,19,45,19],[47,96,50,98],[47,108,50,110],[44,93,46,95],[47,93,50,95],[44,105,46,107],[44,1,50,5],[73,55,75,58],[55,26,57,42],[58,26,60,42],[55,43,57,46],[58,43,60,46],[64,47,66,48],[46,33,47,33],[46,34,47,34],[46,35,47,35],[46,36,47,36],[46,37,47,37],[70,49,72,54],[73,49,75,54],[67,55,69,58],[70,55,72,58],[53,55,54,60],[61,55,63,58],[61,59,63,60],[57,107,58,110],[54,109,56,110],[55,55,57,58],[64,59,66,60],[61,49,63,54],[64,49,66,54],[58,55,60,58],[61,61,63,63],[65,102,69,107],[65,91,69,95],[61,94,62,103],[51,94,56,108],[57,104,58,106],[53,61,54,65],[55,64,57,65],[78,84,79,92],[80,64,82,72],[80,73,82,75],[80,84,82,89],[80,90,82,92],[61,64,63,65],[64,64,66,65],[78,52,79,63],[80,76,82,83],[85,105,89,110],[89,90,91,92],[90,107,94,110],[86,76,88,83],[86,90,88,92],[86,52,88,60],[83,64,85,72],[86,64,88,72],[86,84,88,89],[86,73,88,75],[83,73,85,75],[83,84,85,89],[83,52,85,60],[83,76,85,83],[89,52,91,60],[81,107,84,110],[83,90,85,92],[85,99,89,104],[85,93,89,98],[89,76,91,83],[90,99,94,106],[90,93,94,98],[89,84,91,89],[80,61,82,63],[77,99,80,106],[77,93,80,98],[81,99,84,106],[81,93,84,98],[51,75,62,87],[65,75,69,78],[65,79,69,80],[76,22,77,92],[61,26,63,42],[64,26,66,42],[72,89,75,92],[67,49,69,54],[70,80,71,92],[65,81,69,87],[51,66,75,69],[51,70,62,74],[73,64,75,65],[70,70,75,74],[72,80,75,88],[70,64,72,65],[70,75,75,79],[64,61,66,63],[58,61,60,63],[55,61,57,63],[108,61,110,65],[108,66,110,67],[99,70,101,74],[92,52,94,60],[99,49,101,52],[97,49,98,54],[97,55,98,60],[99,61,101,65],[99,66,101,67],[95,70,98,74],[95,32,96,69],[92,61,94,63],[97,66,98,69],[99,68,101,69],[97,61,98,65],[105,70,107,74],[99,37,101,40],[155,3,157,109],[152,3,154,109],[114,1,132,5],[129,6,132,10],[138,2,139,98],[127,32,129,36],[124,37,126,40],[121,102,122,103],[129,11,132,20],[129,84,130,92],[123,87,126,92],[121,70,123,74],[123,79,126,80],[127,61,129,65],[127,66,129,67],[127,68,129,69],[127,75,128,92],[129,75,130,83],[130,66,132,67],[115,99,117,106],[114,75,115,92],[116,88,117,92],[121,109,122,110],[118,107,120,110],[95,1,113,5],[115,93,117,98],[118,93,120,98],[123,99,124,106],[146,3,148,109],[149,3,151,109],[142,2,143,98],[140,2,141,98],[121,104,122,105],[121,66,123,67],[121,68,123,69],[130,21,132,25],[123,107,124,110],[114,21,129,25],[114,11,128,20],[124,53,126,54],[127,49,129,52],[127,53,129,54],[127,55,129,58],[121,61,123,65],[121,75,122,92],[115,107,117,110],[127,70,129,74],[118,59,120,60],[118,99,120,106],[118,68,120,69],[108,53,110,54],[108,49,110,52],[111,59,113,60],[102,70,104,74],[108,70,110,74],[102,68,104,69],[105,66,107,67],[105,68,107,69],[105,59,107,60],[102,61,104,65],[116,55,117,60],[111,55,113,58],[106,93,109,98],[111,68,113,69],[116,75,117,78],[116,79,117,87],[114,70,117,74],[108,68,110,69],[108,55,110,58],[102,55,104,58],[102,59,104,60],[105,61,107,65],[53,49,54,54],[44,96,46,98],[47,102,50,104],[47,99,50,101],[31,56,33,63],[28,64,33,68],[32,75,33,88],[40,51,43,56],[44,49,45,52],[44,53,45,54],[28,75,31,110],[37,73,39,77],[37,65,39,69],[47,105,50,107],[32,110,33,110],[38,62,39,64],[37,51,39,55],[37,56,39,61],[40,105,42,109],[40,110,42,110],[44,108,46,110],[43,98,43,110],[40,98,42,104],[44,99,46,101],[26,110,27,110],[26,105,27,109],[20,100,21,102],[28,69,31,74],[20,69,21,74],[17,69,19,74],[25,23,27,63],[31,14,33,19],[31,20,33,20],[23,39,24,46],[23,47,24,63],[31,28,33,28],[31,29,33,35],[31,46,33,46],[31,39,33,45],[31,36,33,38],[31,47,33,54],[31,55,33,55],[32,69,33,74],[32,89,33,92],[32,93,33,97],[32,104,33,104],[110,99,113,106],[104,107,105,110],[112,80,113,83],[38,78,39,80],[40,57,43,71],[40,72,43,76],[40,77,43,80],[32,105,33,109],[38,70,39,72],[32,98,33,98],[32,99,33,103],[99,93,101,98],[55,59,57,60],[58,64,60,65],[51,88,56,93],[57,88,62,93],[61,107,62,110],[59,107,60,110],[57,94,58,103],[59,104,60,106],[59,94,60,103],[99,88,101,92],[92,76,94,83],[99,79,101,87],[92,64,94,72],[99,53,101,54],[96,99,98,106],[96,107,98,110],[97,75,98,78],[97,79,98,87],[97,88,98,92],[96,93,98,98],[95,75,96,92],[99,75,101,78],[99,107,101,110],[99,99,101,106],[92,73,94,75],[92,84,94,89],[92,90,94,92],[112,75,113,79],[112,84,113,88],[112,89,113,92],[104,99,105,106],[110,107,113,110],[106,105,109,110],[102,93,105,98],[110,93,113,98],[104,87,107,92],[104,75,107,76],[104,77,107,78],[104,79,107,80],[104,81,107,84],[102,104,103,105],[102,109,103,110],[102,99,103,101],[102,102,103,103],[102,75,103,92],[108,75,109,92],[110,84,111,92],[110,75,111,83],[102,106,103,108],[106,99,109,104],[104,85,107,86],[129,99,132,106],[129,107,132,110],[131,84,132,88],[131,89,132,92],[123,85,126,86],[131,80,132,83],[121,99,122,101],[121,93,124,98],[121,106,122,108],[123,81,126,84],[123,75,126,76],[123,77,126,78],[131,75,132,79],[124,66,126,67],[124,70,126,74],[118,75,120,78],[118,66,120,67],[116,49,117,54],[127,59,129,60],[124,49,126,52],[124,55,126,58],[130,61,132,65],[130,68,132,69],[130,70,132,74],[118,70,120,74],[121,59,123,60],[130,26,132,29],[130,30,132,31],[130,49,132,52],[102,66,104,67],[108,37,110,40],[102,41,104,48],[124,61,126,65],[124,68,126,69],[118,61,120,65],[124,41,126,48],[130,37,132,40],[130,41,132,48],[116,61,117,65],[116,66,117,69],[111,66,113,67],[114,32,115,69],[111,41,113,48],[118,37,120,40],[118,32,120,36],[118,41,120,48],[102,49,104,52],[108,59,110,60],[105,55,107,58],[102,53,104,54],[111,70,113,74],[111,61,113,65],[105,49,107,52],[111,53,113,54],[118,88,120,92],[118,79,120,87],[14,90,16,110],[44,21,45,21],[44,22,45,22],[44,23,45,23],[44,24,45,24],[44,25,45,25],[44,26,45,26],[44,27,45,27],[44,28,45,28],[44,29,45,29],[44,30,45,30],[44,31,45,31],[44,32,45,32],[44,33,45,33],[44,34,45,34],[44,35,45,35],[44,36,45,36],[46,24,47,24]]}
[]
[null,null,null,null,null,null,null,null,null,null,null,null,null,null,null,null,null,null,null,null,null,null,null,null,null,null,null,null,null,null,null,null,null,null,null,null,null,null,null,null,null,null,null,null,null,null,null,null,null,null,null,null,null,null,null,null,null,null,null,null,null,null,null,null,null,null,null,null,null,null,null,null,null,null,null,null,null,null,null,null,null,null,null,null,null,null,null,null,null,null,null,null,null,"離島等供給用"]
[]
[]
[]
[]
["集合住宅共用部分用電気使用申込書（工事会社様控）"]
[]
[]
[]
[]
[null,"北海道電力ネットワーク株式会社　御中"]
[]
[null,"電気の使用について貴社離島等供給約款[低圧用]を承認のうえ申し込みます。"]
[null,null,null,null,null,null,null,null,null,null,null,null,null,null,null,null,null,null,null,null,null,null,null,null,null,null,null,null,null,null,null,null,null,null,null,null,null,null,null,null,null,null,null,null,null,null,null,null,null,null,null,null,null,null,null,null,null,null,null,null,null,null,null,null,"受付扱所名",null,null,null,null,null,null,null,null,null,null,null,null,null,null,null,null,null,null,null,null,"受付№"]
[]
[]
[null,"お客さま",null,null,null,null,"発注者名",null,null,null,null,"（フリガナ）",null,null,null,null,null,null,{"$f":"IF(入力用!E4=\"\",\"\",入力用!E4)","v":""},null,null,null,null,null,null,null,null,null,null,null,null,null,null,null,null,null,null,null,null,null,null,null,null,null,null,null,null,null,null,null,null,null,null,null,null,null,null,null,null,null,null,null,null,null,"電気工事会社",null,null,null,null," 会社名",null,null,null,null,null,{"$f":"IF(入力用!E12=\"\",\"\",入力用!E12)","v":""}]
[]
[null,null,null,null,null,null,null,null,null,null,null,{"$f":"IF(入力用!E5=\"\",\"\",入力用!E5)","v":""}]
[null,null,null,null,null,null,null,null,null,null,null,null,null,null,null,null,null,null,null,null,null,null,null,null,null,null,null,null,null,null,null,null,null,null,null,null,null,null,null,null,null,null,null,null,null,null,null,null,null,null,null,null,null,null,null,null,null,null,null,null,null,null,null,null,null,null,null,null,null,"(担当者)",null,null,null,null,null,{"$f":"IF(入力用!E13=\"\",\"\",入力用!E13)","v":""},null,null,null,null,null,null,null,null,null,null,null,null,null,null,"工事会社№（",null,null,null,null,null,null,null,null,null,{"$f":"IF(入力用!E14=\"\",\"\",入力用!E14)","v":""},null,null,"-",{"$f":"IF(入力用!G14=\"\",\"\",入力用!G14)","v":""},null,null,null,null,")"]
[]
[null,null,null,null,null,null,null,null,null,null,null,null,null,null,null,null,null,null,null,null,null,null,null,null,null,null,null,null,null,null,null,null,null,null,null,null,null,null,null,null,null,null,null,null,null,null,null,null,null,null,null,null,null,null,null,null,null,null,null,null,null,null,null,null,null,null,null,null,null," 住　所",null,null,null,null,null,{"$f":"LEFT(入力用!E15,24)","v":""}]
[null,null,null,null,null,null,null,null,null,null,null,"（代表者肩書）",null,null,null,null,null,null,null,null,{"$f":"IF(入力用!E6=\"\",\"\",入力用!E6)","v":""},null,null,null,null,null,null,null,null,null,null,null,null,null,null,null,null,null,null,"（代表者名）",null,null,null,null,null,null,null,{"$f":"IF(入力用!E7=\"\",\"\",入力用!E7)","v":""}]
[null,null,null,null,null,null,null,null,null,null,null,null,null,null,null,null,null,null,null,null,null,null,null,null,null,null,null,null,null,null,null,null,null,null,null,null,null,null,null,null,null,null,null,null,null,null,null,null,null,null,null,null,null,null,null,null,null,null,null,null,null,null,null,null,null,null,null,null,null,{"$f":"MID(入力用!E15,25,28)","v":""}]
[null,null,null,null,null,null,"発注者\n住　所",null,null,null,null,"(〒",null,{"$f":"LEFT(入力用!E8,3)","v":""},null,null,"-",{"$f":"RIGHT(入力用!E8,4)","v":""},null,null,null,")",null,{"$f":"LEFT(入力用!E9,25)","v":""}]
[null,null,null,null,null,null,null,null,null,null,null,null,null,null,null,null,null,null,null,null,null,null,null,null,null,null,null,null,null,null,null,null,null,null,null,null,null,null,null,null,null,null,null,null,null,null,null,null,null,null,null,null,null,null,null,null,null,null,null,null,null,null,null,null,null,null,null,null,null,{"$f":"MID(入力用!E15,53,12)","v":""},null,null,null,null,null,null,null,null,null,null,null,null,null,null,null,null,null,null,null,"電話(",null,null,null,{"$f":"IF(入力用!E16=\"\",\"\",入力用!E16)","v":""},null,null,null,null,"-",{"$f":"IF(入力用!G16=\"\",\"\",入力用!G16)","v":""},null,null,null,null,"-",{"$f":"IF(入力用!J16=\"\",\"\",入力用!J16)","v":""},null,null,null,null,")"]
[]
[null,null,null,null,null,null,null,null,null,null,null,{"$f":"MID(入力用!E9,26,33)","v":""},null,null,null,null,null,null,null,null,null,null,null,null,null,null,null,null,null,null,null,null,null,null,null,null,null,null,null,null,null,null,null,null,null,null,null,null,null,null,null,null,null,null,null,null,null,null,null,null,null,null,null,null,"建築会社",null,null,null,null," 会社名",null,null,null,null,null,{"$f":"IF(入力用!E17=\"\",\"\",入力用!E17)","v":""}]
[]
[]
[null,null,null,null,null,null,"電話番号",null,null,null,null,"固定",null,null,{"$f":"IF(入力用!E10=\"\",\"\",入力用!E10)","v":""},null,null,null,null,null,"-",{"$f":"IF(入力用!G10=\"\",\"\",入力用!G10)","v":""},null,null,null,null,null,null,"-",{"$f":"IF(入力用!J10=\"\",\"\",入力用!J10)","v":""},null,null,null,null,null,null,"携帯",null,null,{"$f":"IF(入力用!E11=\"\",\"\",入力用!E11)","v":""},null,null,null,null,null,null,"-",{"$f":"IF(入力用!G11=\"\",\"\",入力用!G11)","v":""},null,null,null,null,null,null,null,"-",{"$f":"IF(入力用!J11=\"\",\"\",入力用!J11)","v":""}]
[null,null,null,null,null,null,null,null,null,null,null,null,null,null,null,null,null,null,null,null,null,null,null,null,null,null,null,null,null,null,null,null,null,null,null,null,null,null,null,null,null,null,null,null,null,null,null,null,null,null,null,null,null,null,null,null,null,null,null,null,null,null,null,null,null,null,null,null,null,"(担当者)",null,null,null,null,null,{"$f":"IF(入力用!E18=\"\",\"\",入力用!E18)","v":""},null,null,null,null,null,null,null,null,null,null,null,null,null,"電話(",null,null,null,{"$f":"IF(入力用!E19=\"\",\"\",入力用!E19)","v":""},null,null,null,null,"-",{"$f":"IF(入力用!G19=\"\",\"\",入力用!G19)","v":""},null,null,null,null,"-",{"$f":"IF(入力用!J19=\"\",\"\",入力用!J19)","v":""},null,null,null,null,")"]
[]
[null,"建物情報",null,null,null,null,"建物\n住所",null,null,null,null,"(〒",null,{"$f":"LEFT(入力用!E20,3)","v":""},null,null,"-",{"$f":"RIGHT(入力用!E20,4)","v":""},null,null,null,")",null,{"$f":"LEFT(入力用!E21,17)","v":""}]
[]
[]
[null,null,null,null,null,null,null,null,null,null,null,{"$f":"MID(入力用!E21,18,25)","v":""},null,null,null,null,null,null,null,null,null,null,null,null,null,null,null,null,null,null,null,null,null,null,null,null,null,null,null,null,null,null,null,null,null,null,null,null,null,null,null,"受　 電\n希望日",null,null,null,null,{"$f":"IF(入力用!E23=\"\",\"\",入力用!E23)","v":""},null,null,null,null,null,null,null,null,{"$f":"IF(入力用!G23=\"\",\"\",入力用!G23)","v":""},null,null,null,null,null,null,null,{"$f":"IF(入力用!J23=\"\",\"\",入力用!J23)","v":""}]
[null,null,null,null,null,null,null,null,null,null,null,null,null,null,null,null,null,null,null,null,null,null,null,null,null,null,null,null,null,null,null,null,null,null,null,null,null,null,null,null,null,null,null,null,null,null,null,null,null,null,null,null,null,null,null,null,null,null,null,null,null,null,"年",null,null,null,null,null,null,null,"月",null,null,null,null,null,null,null,"日"]
[]
[null,null,null,null,null,null,"建物名",null,null,null,null,{"$f":"IF(入力用!E22=\"\",\"\",入力用!E22)","v":""},null,null,null,null,null,null,null,null,null,null,null,null,null,null,null,null,null,null,null,null,null,null,null,null,null,null,null,null,null,null,null,null,null,null,null,null,null,null,null,"ﾌﾘｰｴﾘｱ\n計器払出希\n望事業所名",null,null,null,null,null,{"$f":"IF(入力用!E24=\"\",\"\",入力用!E24)","v":""},null,null,null,null,null,null,null,null,null,null,null,null,null,null,"本契約前\nの臨時契\n約の有無",null,null,null,null,{"$f":"IF(入力用!Q25=2,入力用!Q6,IF(入力用!Q25=3,入力用!Q7,\"\"))","v":""},null,null,null,null,null,null,null,null,null,null,null,null,null,null,null,null,null,null,null,null,"臨時受付№(",null,null,null,null,null,null,null,null,null,null,null,")"]
[]
[]
[]
[null,"共用部\n分お支\n払方法",null,null,null,null,{"$f":"IF(入力用!Q26=2,入力用!R6,IF(入力用!Q26=3,入力用!R7,IF(入力用!Q26=4,入力用!R8,\"\")))","v":""},null,null,null,null,null,null,"支　払\n者　名",null,null,null,null,{"$f":"DBCS(MID(ASC(入力用!E27),1,1))","v":""},{"$f":"DBCS(MID(ASC(入力用!E27),2,1))","v":""},{"$f":"DBCS(MID(ASC(入力用!E27),3,1))","v":""},{"$f":"DBCS(MID(ASC(入力用!E27),4,1))","v":""},{"$f":"DBCS(MID(ASC(入力用!E27),5,1))","v":""},{"$f":"DBCS(MID(ASC(入力用!E27),6,1))","v":""},{"$f":"DBCS(MID(ASC(入力用!E27),7,1))","v":""},{"$f":"DBCS(MID(ASC(入力用!E27),8,1))","v":""},{"$f":"DBCS(MID(ASC(入力用!E27),9,1))","v":""},{"$f":"DBCS(MID(ASC(入力用!E27),10,1))","v":""},{"$f":"DBCS(MID(ASC(入力用!E27),11,1))","v":""},{"$f":"DBCS(MID(ASC(入力用!E27),12,1))","v":""},{"$f":"DBCS(MID(ASC(入力用!E27),13,1))","v":""},{"$f":"DBCS(MID(ASC(入力用!E27),14,1))","v":""},{"$f":"DBCS(MID(ASC(入力用!E27),15,1))","v":""},{"$f":"DBCS(MID(ASC(入力用!E27),16,1))","v":""},{"$f":"DBCS(MID(ASC(入力用!E27),17,1))","v":""},{"$f":"DBCS(MID(ASC(入力用!E27),18,1))","v":""},{"$f":"DBCS(MID(ASC(入力用!E27),19,1))","v":""},{"$f":"DBCS(MID(ASC(入力用!E27),20,1))","v":""},"請求書\n送付先",null,null,null,null,"(〒",null,{"$f":"LEFT(入力用!E29,3)","v":""},null,null,"-",{"$f":"RIGHT(入力用!E29,4)","v":""},null,null,null,")",null,{"$f":"IF(入力用!E30=\"同上\",\"\",LEFT(入力用!E30,9))","v":""},null,null,null,null,null,null,null,null,null,"供給地点特定番号",null,null,null,null,null,null,"発行\n回数",null,null,"支店",null,"ﾌﾞﾛｯｸ",null,null,"住所",null,null,null,null,"街区",null,null,"契約№",null,null,null,null,"枝番",null,null,"種別",null,null,"種別",null,null,"種別",null,null,"種別"]
[]
[null,null,null,null,null,null,null,null,null,null,null,null,null,null,null,null,null,null,{"$f":"DBCS(MID(ASC(入力用!E27),21,1))","v":""},{"$f":"DBCS(MID(ASC(入力用!E27),22,1))","v":""},{"$f":"DBCS(MID(ASC(入力用!E27),23,1))","v":""},{"$f":"DBCS(MID(ASC(入力用!E27),24,1))","v":""},{"$f":"DBCS(MID(ASC(入力用!E27),25,1))","v":""},{"$f":"DBCS(MID(ASC(入力用!E27),26,1))","v":""},{"$f":"DBCS(MID(ASC(入力用!E27),27,1))","v":""},{"$f":"DBCS(MID(ASC(入力用!E27),28,1))","v":""},{"$f":"DBCS(MID(ASC(入力用!E27),29,1))","v":""},{"$f":"DBCS(MID(ASC(入力用!E27),30,1))","v":""},{"$f":"DBCS(MID(ASC(入力用!E27),31,1))","v":""},{"$f":"DBCS(MID(ASC(入力用!E27),32,1))","v":""},{"$f":"DBCS(MID(ASC(入力用!E27),33,1))","v":""},{"$f":"DBCS(MID(ASC(入力用!E27),34,1))","v":""},{"$f":"DBCS(MID(ASC(入力用!E27),35,1))","v":""},{"$f":"DBCS(MID(ASC(入力用!E27),36,1))","v":""},{"$f":"DBCS(MID(ASC(入力用!E27),37,1))","v":""},{"$f":"DBCS(MID(ASC(入力用!E27),38,1))","v":""},{"$f":"DBCS(MID(ASC(入力用!E27),39,1))","v":""},{"$f":"DBCS(MID(ASC(入力用!E27),40,1))","v":""},null,null,null,null,null,{"$f":"IF(入力用!E30=\"同上\",入力用!E30,MID(入力用!E30,10,17))","v":""}]
[null,null,null,null,null,null,null,null,null,null,null,null,null,null,null,null,null,null,null,null,null,null,null,null,null,null,null,null,null,null,null,null,null,null,null,null,null,null,null,null,null,null,null,null,null,null,null,null,null,null,null,null,null,null,null,null,null,null,null,null,null,null,null,null,null,null,null,null,"010",null,null,null,null,null,null,null,null,null,null,null,null,null,null,null,null,null,null,null,null,null,null,null,null,null,null,null,{"$f":"IF(入力用!Q32=2,\"01\",IF(入力用!Q32=3,\"11\",IF(入力用!Q32=4,\"21\",IF(入力用!Q32=5,\"31\",\"\"))))","v":""},null,null,{"$f":"IF(入力用!Q82>1,\"51\",\"\")","v":""},null,null,{"$f":"IF(入力用!Q110=2,\"91\",IF(入力用!Q110=3,\"92\",IF(入力用!Q110=4,\"94\",IF(入力用!Q110=5,\"93\",IF(OR(入力用!Q110=6,入力用!Q110=8),\"96\",IF(OR(入力用!Q110=7,入力用!Q110>8),\"97\",\"\"))))))","v":""},null,null,{"$f":"IF(入力用!Q160=2,\"91\",IF(入力用!Q160=3,\"92\",IF(入力用!Q160=4,\"94\",IF(入力用!Q160=5,\"93\",IF(OR(入力用!Q160=6,入力用!Q160=8),\"96\",IF(OR(入力用!Q160=7,入力用!Q160>8),\"97\",\"\"))))))","v":""},null,null,"00"]
[null,null,null,null,null,null,null,null,null,null,null,null,null,null,null,null,null,null,{"$f":"IF(入力用!E28=\"\",\"\",入力用!E28)","v":""}]
[null,null,null,null,null,null,null,null,null,null,null,null,null,null,null,null,null,null,null,null,null,null,null,null,null,null,null,null,null,null,null,null,null,null,null,null,null,null,null,null,null,null,null,"電話(",null,null,null,{"$f":"IF(入力用!E31=\"\",\"\",入力用!E31)","v":""},null,null,null,null,"-",{"$f":"IF(入力用!G31=\"\",\"\",入力用!G31)","v":""},null,null,null,null,"-",{"$f":"IF(入力用!J31=\"\",\"\",入力用!J31)","v":""},null,null,null,null,")"]
[]
[null,"電灯需要",null,null,null,null,"契約種別",null,null,null,null,{"$f":"IF(入力用!Q32=2,入力用!S6,IF(入力用!Q32=3,入力用!S7,IF(入力用!Q32=4,入力用!S8,IF(入力用!Q32=5,入力用!S9,\"\"))))","v":""},null,null,null,null,null,null,null,null,null,null,"定額電灯の場合",null,null,null,"契　約　負　荷　設　備　内　訳",null,null,null,null,null,null,null,null,null,null,null,null,null,null,null,null,null,null,null,null,null,null,null,null,null,null,null,null,null,null,null,null,null,null,null,null,null,null,null,"従量電灯の場合",null,null,null,"契約\n決定\n方法",null,null,null,null,{"$f":"IF(入力用!Q69=2,入力用!W6,IF(入力用!Q69=3,入力用!W7,IF(入力用!Q69=4,入力用!W8,IF(入力用!Q69=5,入力用!W9,IF(入力用!Q69=6,入力用!W10,\"\")))))","v":""},null,null,null,null,null,null,null,null,null,null,null,null,"主開閉器・\n電流制限器\nの定格電流",null,null,null,null,null,{"$f":"IF(入力用!E70=\"\",\"\",入力用!E70)","v":""}]
[]
[null,null,null,null,null,null,null,null,null,null,null,null,null,null,null,null,null,null,null,null,null,null,null,null,null,null,"機　　器　　種　　別",null,null,null,null,null,null,null,null,null,null,null,null,null,null,null,null,"出　力",null,null,null,null,null,"力　率",null,null,null,null,null,"入　力",null,null,null,null,null,"灯個数"]
[null,null,null,null,null,null,null,null,null,null,null,null,null,null,null,null,null,null,null,null,null,null,null,null,null,null,null,null,null,null,null,null,null,null,null,null,null,null,null,null,null,null,null,null,null,null,null,null,null,null,null,null,null,null,null,null,null,null,null,null,null,null,null,null,null,null,null,null,null,null,null,null,null,null,null,null,null,null,null,null,null,null,null,null,null,null,null,null,null,null,null,null,null,null,null,null,null,null,null,null,null,null,null,null,null,null,null,null,null,"Ａ"]
[null,null,null,null,null,null,null,null,null,null,null,null,null,null,null,null,null,null,null,null,null,null,null,null,null,null,{"$f":"IF(入力用!Q34=2,入力用!U6,IF(入力用!Q34=3,入力用!U7,IF(入力用!Q34=4,入力用!U8,IF(入力用!Q34=5,入力用!U9,IF(入力用!Q34=6,入力用!M34,\"\")))))","v":""},null,null,null,null,null,null,null,null,null,null,null,null,null,null,null,null,{"$f":"IF(入力用!E35=\"\",\"\",入力用!E35)","v":""},null,null,null,"W",null,{"$f":"IF(入力用!Q36=2,入力用!V6,IF(入力用!Q36=3,入力用!V7,\"\"))","v":""},null,null,null,null,null,{"$f":"IF(入力用!E37=\"\",\"\",入力用!E37)","v":""},null,null,null,"VA",null,{"$f":"IF(入力用!E38=\"\",\"\",入力用!E38)","v":""},null,null,"灯"]
[]
[null,null,null,null,null,null,null,null,null,null,null,null,null,null,null,null,null,null,null,null,null,null,null,null,null,null,null,null,null,null,null,null,null,null,null,null,null,null,null,null,null,null,null,null,null,null,null,null,null,null,null,null,null,null,null,null,null,null,null,null,null,null,null,null,null,null,null,null,null,null,null,null,null,null,null,null,null,null,null,null,null,null,null,null,null,null,null,null,"適用業種別\n回路数内訳",null,null,null,null,null,{"$f":"入力用!R73","v":""},null,null,null,null,null,null,null,null,null,{"$f":"IF(入力用!H72=\"\",\"\",入力用!H72)","v":""},null,null,"回路"]
[null,null,null,null,null,null,null,null,null,null,null,null,null,null,null,null,null,null,null,null,null,null,null,null,null,null,{"$f":"IF(入力用!Q39=2,入力用!U6,IF(入力用!Q39=3,入力用!U7,IF(入力用!Q39=4,入力用!U8,IF(入力用!Q39=5,入力用!U9,IF(入力用!Q39=6,入力用!M39,\"\")))))","v":""},null,null,null,null,null,null,null,null,null,null,null,null,null,null,null,null,{"$f":"IF(入力用!E40=\"\",\"\",入力用!E40)","v":""},null,null,null,"W",null,{"$f":"IF(入力用!Q41=2,入力用!V6,IF(入力用!Q41=3,入力用!V7,\"\"))","v":""},null,null,null,null,null,{"$f":"IF(入力用!E42=\"\",\"\",入力用!E42)","v":""},null,null,null,"VA",null,{"$f":"IF(入力用!E43=\"\",\"\",入力用!E43)","v":""},null,null,"灯"]
[null,null,null,null,null,null,null,null,null,null,null,null,null,null,null,null,null,null,null,null,null,null,null,null,null,null,null,null,null,null,null,null,null,null,null,null,null,null,null,null,null,null,null,null,null,null,null,null,null,null,null,null,null,null,null,null,null,null,null,null,null,null,null,null,null,null,null,null,null,null,null,null,null,null,null,null,null,null,null,null,null,null,null,null,null,null,null,null,null,null,null,null,null,null,{"$f":"入力用!R75","v":""},null,null,null,null,null,null,null,null,null,{"$f":"IF(入力用!H74=\"\",\"\",入力用!H74)","v":""},null,null,"回路"]
[]
[null,null,null,null,null,null,null,null,null,null,null,null,null,null,null,null,null,null,null,null,null,null,null,null,null,null,{"$f":"IF(入力用!Q44=2,入力用!U6,IF(入力用!Q44=3,入力用!U7,IF(入力用!Q44=4,入力用!U8,IF(入力用!Q44=5,入力用!U9,IF(入力用!Q44=6,入力用!M44,\"\")))))","v":""},null,null,null,null,null,null,null,null,null,null,null,null,null,null,null,null,{"$f":"IF(入力用!E45=\"\",\"\",入力用!E45)","v":""},null,null,null,"W",null,{"$f":"IF(入力用!Q46=2,入力用!V6,IF(入力用!Q46=3,入力用!V7,\"\"))","v":""},null,null,null,null,null,{"$f":"IF(入力用!E47=\"\",\"\",入力用!E47)","v":""},null,null,null,"VA",null,{"$f":"IF(入力用!E48=\"\",\"\",入力用!E48)","v":""},null,null,"灯",null,null,null,null,null,null,null,null,null,null,null,null,null,null,null,null,null,null,null,null,null,null,null,null,null,null,null,null,null,{"$f":"入力用!R77","v":""},null,null,null,null,null,null,null,null,null,{"$f":"IF(入力用!H76=\"\",\"\",入力用!H76)","v":""},null,null,"回路"]
[]
[null,null,null,null,null,null,"供給電気\n方 式 ・\n供給電圧",null,null,null,null,{"$f":"IF(入力用!Q33=2,入力用!T6,IF(入力用!Q33=3,入力用!T7,IF(入力用!Q33=4,\"単相3線式\n100V・200V\",IF(入力用!Q33=5,入力用!T9,\"\"))))","v":""},null,null,null,null,null,null,null,null,null,null,null,null,null,null,null,null,null,null,null,null,null,null,null,null,null,null,null,null,null,null,null,null,null,null,null,null,null,null,null,null,null,null,null,null,null,null,null,null,null,null,null,null,null,null,null,null,null,null,"契　約　負　荷　設　備　内　訳"]
[null,null,null,null,null,null,null,null,null,null,null,null,null,null,null,null,null,null,null,null,null,null,null,null,null,null,{"$f":"IF(入力用!Q49=2,入力用!U6,IF(入力用!Q49=3,入力用!U7,IF(入力用!Q49=4,入力用!U8,IF(入力用!Q49=5,入力用!U9,IF(入力用!Q49=6,入力用!M49,\"\")))))","v":""},null,null,null,null,null,null,null,null,null,null,null,null,null,null,null,null,{"$f":"IF(入力用!E50=\"\",\"\",入力用!E50)","v":""},null,null,null,"W",null,{"$f":"IF(入力用!Q51=2,入力用!V6,IF(入力用!Q51=3,入力用!V7,\"\"))","v":""},null,null,null,null,null,{"$f":"IF(入力用!E52=\"\",\"\",入力用!E52)","v":""},null,null,null,"VA",null,{"$f":"IF(入力用!E53=\"\",\"\",入力用!E53)","v":""},null,null,"灯"]
[null,null,null,null,null,null,null,null,null,null,null,null,null,null,null,null,null,null,null,null,null,null,null,null,null,null,null,null,null,null,null,null,null,null,null,null,null,null,null,null,null,null,null,null,null,null,null,null,null,null,null,null,null,null,null,null,null,null,null,null,null,null,null,null,null,null,null,null,null,null,"電灯",null,null,null,null,{"$f":"IF(入力用!E77=\"\",\"\",入力用!E77)","v":""},null,null,null,"灯",null,{"$f":"IF(入力用!E78=\"\",\"\",入力用!E78)","v":""},null,null,null,null,null,null,"VA",null,null,"小型\n機器",null,null,null,null,{"$f":"IF(入力用!E79=\"\",\"\",入力用!E79)","v":""},null,null,null,"個",null,{"$f":"IF(入力用!E80=\"\",\"\",入力用!E80)","v":""},null,null,null,null,null,"VA"]
[]
[null,null,null,null,null,null,null,null,null,null,null,null,null,null,null,null,null,null,null,null,null,null,null,null,null,null,{"$f":"IF(入力用!E54=\"\",\"\",入力用!E54)","v":""},null,null,null,null,null,null,null,null,null,null,null,null,null,null,null,null,{"$f":"IF(入力用!E55=\"\",\"\",入力用!E55)","v":""},null,null,null,"W",null,{"$f":"IF(入力用!Q56=2,入力用!V6,IF(入力用!Q56=3,入力用!V7,\"\"))","v":""},null,null,null,null,null,{"$f":"IF(入力用!E57=\"\",\"\",入力用!E57)","v":""},null,null,null,"VA",null,{"$f":"IF(入力用!E58=\"\",\"\",入力用!E58)","v":""},null,null,"個"]
[]
[]
[null,null,null,null,null,null,null,null,null,null,null,null,null,null,null,null,null,null,null,null,null,null,null,null,null,null,{"$f":"IF(入力用!E59=\"\",\"\",入力用!E59)","v":""},null,null,null,null,null,null,null,null,null,null,null,null,null,null,null,null,{"$f":"IF(入力用!E60=\"\",\"\",入力用!E60)","v":""},null,null,null,"W",null,{"$f":"IF(入力用!Q61=2,入力用!V6,IF(入力用!Q61=3,入力用!V7,\"\"))","v":""},null,null,null,null,null,{"$f":"IF(入力用!E62=\"\",\"\",入力用!E62)","v":""},null,null,null,"VA",null,{"$f":"IF(入力用!E63=\"\",\"\",入力用!E63)","v":""},null,null,"個",null,null,null,null,null,"回路数",null,null,null,null,{"$f":"IF(入力用!E81=\"\",\"\",入力用!E81)","v":""},null,null,null,null,"合　計　容　量",null,null,null,null,null,null,null,null,null,null,null,null,{"$f":"IF(OR(入力用!Q32=3,入力用!Q32=4),\"契約電流\",IF(入力用!Q32=5,\"契約容量\",\"契約電流\n契約容量\"))","v":"契約電流\n契約容量"},null,null,null,null,null,{"$f":"IF(入力用!Q70=1,\"\",IF(入力用!S81=0,\"\",入力用!S81))","v":""},null,null,null,null,null,null,null,{"$f":"IF(OR(入力用!Q32=3,入力用!Q32=4),\"A\",IF(入力用!Q32=5,\"kVA\",\"A\nkVA\"))","v":"A\nkVA"}]
[]
[null,null,null,null,null,null,null,null,null,null,null,null,null,null,null,null,null,null,null,null,null,null,null,null,null,null,null,null,null,null,null,null,null,null,null,null,null,null,null,null,null,null,null,null,null,null,null,null,null,null,null,null,null,null,null,null,null,null,null,null,null,null,null,null,null,null,null,null,null,null,null,null,null,null,null,null,null,null,null,null,{"$f":"IF(OR(入力用!Q69<4,入力用!Q69=6,入力用!Q70=1,入力用!S82=0),\"\",入力用!S82)","v":""},null,null,null,null,null,null,null,null,"ＶＡ"]
[null,null,null,null,null,null,null,null,null,null,null,null,null,null,null,null,null,null,null,null,null,null,null,null,null,null,{"$f":"IF(入力用!E64=\"\",\"\",入力用!E64)","v":""},null,null,null,null,null,null,null,null,null,null,null,null,null,null,null,null,{"$f":"IF(入力用!E65=\"\",\"\",入力用!E65)","v":""},null,null,null,"W",null,{"$f":"IF(入力用!Q66=2,入力用!V6,IF(入力用!Q66=3,入力用!V7,\"\"))","v":""},null,null,null,null,null,{"$f":"IF(入力用!E67=\"\",\"\",入力用!E67)","v":""},null,null,null,"VA",null,{"$f":"IF(入力用!E68=\"\",\"\",入力用!E68)","v":""},null,null,"個"]
[]
[]
[null,"電力需要",null,null,null,null,"契約種別",null,null,null,null,{"$f":"IF(入力用!Q82>1,\"低圧電力\",\"\")","v":""},null,null,null,null,null,null,null,null,null,null,"契　約　負　荷　設　備　内　訳"]
[null,null,null,null,null,null,null,null,null,null,null,null,null,null,null,null,null,null,null,null,null,null,null,null,null,null,null,null,null,null,null,null,null,null,null,null,null,null,null,null,null,null,null,null,null,null,null,null,null,null,null,null,null,null,null,null,null,null,null,null,null,null,null,null,null,null,null,null,null,null,null,null,null,null,null,null,null,null,null,null,null,null,null,null,null,null,null,null,null,null,null,null,null,"入力合計",null,null,null,null,null,{"$f":"IF(入力用!U104=0,\"\",入力用!U104)","v":""},null,null,null,null,null,null,null,"ｋＷ"]
[null,null,null,null,null,null,"供給電気\n方 式 ・\n供給電圧",null,null,null,null,{"$f":"IF(入力用!Q82=2,入力用!T6,IF(入力用!Q82=3,入力用!T7,IF(入力用!Q82=4,\"単相3線式\n100V・200V\",IF(入力用!Q82=5,入力用!T9,\"\"))))","v":""},null,null,null,null,null,null,null,null,null,null,"機　　　　　　器　　　　　　種　　　　　　別",null,null,null,null,null,null,null,null,null,null,null,null,null,null,null,null,null,null,null,null,null,null,null,null,null,null,null,null,null,"出　力",null,null,null,null,null,null,null,null,null,null,null,"入　力",null,null,null,null,null,null,null,null,null,null,null,"力　率",null,null,null,null,null,null,null,"台　数"]
[]
[null,null,null,null,null,null,null,null,null,null,null,null,null,null,null,null,null,null,null,null,null,null,{"$f":"IF(入力用!E85=\"\",\"\",入力用!E85)","v":""},null,null,null,null,null,null,null,null,null,null,null,null,null,null,null,null,null,null,null,null,null,null,null,null,null,null,null,null,null,{"$f":"IF(入力用!E86=\"\",\"\",入力用!E86)","v":""},null,null,null,null,null,null,null,null,{"$f":"IF(入力用!Q86=2,入力用!Z6,IF(入力用!Q86=3,入力用!Y7,\"㏋\nkW\"))","v":"㏋\nkW"},null,null,{"$f":"IF(入力用!E87=\"\",\"\",入力用!E87)","v":""},null,null,null,null,null,null,null,null,"kW",null,null,{"$f":"IF(入力用!Q88=2,入力用!AA6,IF(入力用!Q88=3,入力用!AA7,IF(入力用!Q88=4,入力用!AA8,IF(入力用!Q88=5,入力用!AA9,\"\"))))","v":""},null,null,null,null,null,null,null,{"$f":"IF(入力用!E89=\"\",\"\",入力用!E89)","v":""},null,null,null,null,null,"台"]
[null,null,null,null,null,null,null,null,null,null,null,null,null,null,null,null,null,null,null,null,null,null,null,null,null,null,null,null,null,null,null,null,null,null,null,null,null,null,null,null,null,null,null,null,null,null,null,null,null,null,null,null,null,null,null,null,null,null,null,null,null,null,null,null,null,null,null,null,null,null,null,null,null,null,null,null,null,null,null,null,null,null,null,null,null,null,null,null,null,null,null,null,null,"合計台数",null,null,null,null,null,{"$f":"IF(SUM(CG81:CL95)=0,\"\",SUM(CG81:CL95))","v":""},null,null,null,null,null,null,null,"台"]
[]
[null,null,null,null,null,null,null,null,null,null,null,null,null,null,null,null,null,null,null,null,null,null,{"$f":"IF(入力用!E90=\"\",\"\",入力用!E90)","v":""},null,null,null,null,null,null,null,null,null,null,null,null,null,null,null,null,null,null,null,null,null,null,null,null,null,null,null,null,null,{"$f":"IF(入力用!E91=\"\",\"\",入力用!E91)","v":""},null,null,null,null,null,null,null,null,{"$f":"IF(入力用!Q91=2,入力用!Z6,IF(入力用!Q91=3,入力用!Y7,\"㏋\nkW\"))","v":"㏋\nkW"},null,null,{"$f":"IF(入力用!E92=\"\",\"\",入力用!E92)","v":""},null,null,null,null,null,null,null,null,"kW",null,null,{"$f":"IF(入力用!Q93=2,入力用!AA6,IF(入力用!Q93=3,入力用!AA7,IF(入力用!Q93=4,入力用!AA8,IF(入力用!Q93=5,入力用!AA9,\"\"))))","v":""},null,null,null,null,null,null,null,{"$f":"IF(入力用!E94=\"\",\"\",入力用!E94)","v":""},null,null,null,null,null,"台"]
[null,null,null,null,null,null,"契約決定\n方　　法",null,null,null,null,{"$f":"IF(入力用!Q83=2,入力用!Y6,IF(入力用!Q83=3,入力用!Y7,\"\"))","v":""}]
[null,null,null,null,null,null,null,null,null,null,null,null,null,null,null,null,null,null,null,null,null,null,null,null,null,null,null,null,null,null,null,null,null,null,null,null,null,null,null,null,null,null,null,null,null,null,null,null,null,null,null,null,null,null,null,null,null,null,null,null,null,null,null,null,null,null,null,null,null,null,null,null,null,null,null,null,null,null,null,null,null,null,null,null,null,null,null,null,null,null,null,null,null,"力　　率",null,null,null,null,null,"85％",null,null,null,null,null,{"$f":"IF(入力用!Q83=2,\"超過\",IF(入力用!U88=\"\",\"超過\n未満\",IF(入力用!U88>0.85,\"超過\",IF(入力用!U88<0.85,\"未満\",\"\"))))","v":"超過\n未満"}]
[null,null,null,null,null,null,null,null,null,null,null,null,null,null,null,null,null,null,null,null,null,null,{"$f":"IF(入力用!E95=\"\",\"\",入力用!E95)","v":""},null,null,null,null,null,null,null,null,null,null,null,null,null,null,null,null,null,null,null,null,null,null,null,null,null,null,null,null,null,{"$f":"IF(入力用!E96=\"\",\"\",入力用!E96)","v":""},null,null,null,null,null,null,null,null,{"$f":"IF(入力用!Q96=2,入力用!Z6,IF(入力用!Q96=3,入力用!Y7,\"㏋\nkW\"))","v":"㏋\nkW"},null,null,{"$f":"IF(入力用!E97=\"\",\"\",入力用!E97)","v":""},null,null,null,null,null,null,null,null,"kW",null,null,{"$f":"IF(入力用!Q98=2,入力用!AA6,IF(入力用!Q98=3,入力用!AA7,IF(入力用!Q98=4,入力用!AA8,IF(入力用!Q98=5,入力用!AA9,\"\"))))","v":""},null,null,null,null,null,null,null,{"$f":"IF(入力用!E99=\"\",\"\",入力用!E99)","v":""},null,null,null,null,null,"台"]
[]
[]
[null,null,null,null,null,null,null,null,null,null,null,null,null,null,null,null,null,null,null,null,null,null,{"$f":"IF(入力用!E100=\"\",\"\",入力用!E100)","v":""},null,null,null,null,null,null,null,null,null,null,null,null,null,null,null,null,null,null,null,null,null,null,null,null,null,null,null,null,null,{"$f":"IF(入力用!E101=\"\",\"\",入力用!E101)","v":""},null,null,null,null,null,null,null,null,{"$f":"IF(入力用!Q101=2,入力用!Z6,IF(入力用!Q101=3,入力用!Y7,\"㏋\nkW\"))","v":"㏋\nkW"},null,null,{"$f":"IF(入力用!E102=\"\",\"\",入力用!E102)","v":""},null,null,null,null,null,null,null,null,"kW",null,null,{"$f":"IF(入力用!Q103=2,入力用!AA6,IF(入力用!Q103=3,入力用!AA7,IF(入力用!Q103=4,入力用!AA8,IF(入力用!Q103=5,入力用!AA9,\"\"))))","v":""},null,null,null,null,null,null,null,{"$f":"IF(入力用!E104=\"\",\"\",入力用!E104)","v":""},null,null,null,null,null,"台"]
[null,null,null,null,null,null,"主開閉\n器の定\n格電流",null,null,null,null,{"$f":"IF(入力用!E84=\"\",\"\",入力用!E84)","v":""},null,null,null,null,null,null,null,null,"Ａ",null,null,null,null,null,null,null,null,null,null,null,null,null,null,null,null,null,null,null,null,null,null,null,null,null,null,null,null,null,null,null,null,null,null,null,null,null,null,null,null,null,null,null,null,null,null,null,null,null,null,null,null,null,null,null,null,null,null,null,null,null,null,null,null,null,null,null,null,null,null,null,null,"契約電力",null,null,null,null,null,{"$f":"IF(入力用!U102=0,\"\",入力用!U102)","v":""},null,null,null,null,null,null,null,"ｋＷ"]
[]
[null,null,null,null,null,null,null,null,null,null,null,null,null,null,null,null,null,null,null,null,null,null,{"$f":"IF(入力用!E105=\"\",\"\",入力用!E105)","v":""},null,null,null,null,null,null,null,null,null,null,null,null,null,null,null,null,null,null,null,null,null,null,null,null,null,null,null,null,null,{"$f":"IF(入力用!E106=\"\",\"\",入力用!E106)","v":""},null,null,null,null,null,null,null,null,{"$f":"IF(入力用!Q106=2,入力用!Z6,IF(入力用!Q106=3,入力用!Y7,\"㏋\nkW\"))","v":"㏋\nkW"},null,null,{"$f":"IF(入力用!E107=\"\",\"\",入力用!E107)","v":""},null,null,null,null,null,null,null,null,"kW",null,null,{"$f":"IF(入力用!Q108=2,入力用!AA6,IF(入力用!Q108=3,入力用!AA7,IF(入力用!Q108=4,入力用!AA8,IF(入力用!Q108=5,入力用!AA9,\"\"))))","v":""},null,null,null,null,null,null,null,{"$f":"IF(入力用!E109=\"\",\"\",入力用!E109)","v":""},null,null,null,null,null,"台"]
[]
[]
[null,"選択約款①",null,null,null,null,"契約種別",null,null,null,null,{"$f":"入力用!R113","v":""},null,null,null,null,null,null,null,null,null,"供給電気\n方 式 ・\n供給電圧",null,null,null,null,{"$f":"IF(入力用!Q111=2,\"単相2線式\n　　100V\",IF(入力用!Q111=3,\"単相2線式\n　　200V\",IF(入力用!Q111=4,\"単相\n　　3線式\n100V\n　　･200V\",IF(入力用!Q111=5,\"3相3線式\n200V\",\"\"))))","v":""},null,null,null,null,null,"契　約　負　荷　設　備　内　訳",null,null,null,null,null,null,null,null,null,null,null,null,null,null,null,null,null,null,null,null,null,null,null,null,null,null,null,null,null,null,null,null,null,null,null,null,null,"通電制御・\n検知制御",null,null,null,null,"検知制御装置"]
[null,null,null,null,null,null,null,null,null,null,null,null,null,null,null,null,null,null,null,null,null,null,null,null,null,null,null,null,null,null,null,null,null,null,null,null,null,null,null,null,null,null,null,null,null,null,null,null,null,null,null,null,null,null,null,null,null,null,null,null,null,null,null,null,null,null,null,null,null,null,null,null,null,null,null,null,null,null,null,null,null,null,null,null,null,null,null,null,null,null,null,null,null,"入力合計",null,null,null,null,null,{"$f":"IF(入力用!U135+入力用!U136=0,\"\",入力用!U135+入力用!U136)","v":""},null,null,null,null,null,null,null,"ｋＷ"]
[null,null,null,null,null,null,null,null,null,null,null,null,null,null,null,null,null,null,null,null,null,null,null,null,null,null,null,null,null,null,null,null,"機器種別",null,null,null,null,"ﾒｰｶｰ",null,null,null,"型　　式",null,null,null,null,null,null,null,"出　力",null,null,null,null,null,"入　力",null,null,null,null,null,"力　率",null,null,null,null,"台数",null,null,null,null,null,null,null,null,"メーカー",null,null,null,"型　式",null,null,null,null,null,null,null,null,"種　類"]
[]
[null,null,null,null,null,null,null,null,null,null,null,null,null,null,null,null,null,null,null,null,null,null,null,null,null,null,null,null,null,null,null,null,{"$f":"IF(入力用!E120=\"\",\"\",入力用!E120)","v":""},null,null,null,null,{"$f":"IF(入力用!E121=\"\",\"\",入力用!E121)","v":""},null,null,null,{"$f":"IF(入力用!E122=\"\",\"\",入力用!E122)","v":""},null,null,null,null,null,null,null,{"$f":"IF(入力用!E123=\"\",\"\",入力用!E123)","v":""},null,null,null,{"$f":"IF(入力用!Q123=2,入力用!Z6,IF(入力用!Q123=3,入力用!Z7,\"㏋\n㎾\"))","v":"㏋\n㎾"},null,{"$f":"IF(入力用!E124=\"\",\"\",入力用!E124)","v":""},null,null,null,"kW",null,{"$f":"IF(入力用!Q125=2,入力用!AA6,IF(入力用!Q125=3,入力用!AA7,IF(入力用!Q125=4,入力用!AA8,IF(入力用!Q125=5,入力用!AA9,\"\"))))","v":""},null,null,null,null,{"$f":"IF(入力用!E126=\"\",\"\",入力用!E126)","v":""},null,"\n台",null,{"$f":"IF(入力用!Q127=2,入力用!AC6,IF(入力用!Q127=3,入力用!AC7,\"\"))","v":""},null,null,null,null,{"$f":"IF(入力用!E114=\"\",\"\",入力用!E114)","v":""},null,null,null,{"$f":"IF(入力用!E115=\"\",\"\",入力用!E115)","v":""},null,null,null,null,null,null,null,null,{"$f":"IF(入力用!Q116=2,入力用!AD6,IF(入力用!Q116=3,入力用!AD7,IF(入力用!Q116=4,入力用!AD8,\"\")))","v":""},null,null,null,null,"合計台数",null,null,null,null,null,{"$f":"IF(SUM(BO100:BP114)=0,\"\",SUM(BO100:BP114))","v":""},null,null,null,null,null,null,null,"台"]
[]
[]
[null,null,null,null,null,null,null,null,null,null,null,null,null,null,null,null,null,null,null,null,null,null,null,null,null,null,null,null,null,null,null,null,{"$f":"IF(入力用!E128=\"\",\"\",入力用!E128)","v":""},null,null,null,null,{"$f":"IF(入力用!E129=\"\",\"\",入力用!E129)","v":""},null,null,null,{"$f":"IF(入力用!E130=\"\",\"\",入力用!E130)","v":""},null,null,null,null,null,null,null,{"$f":"IF(入力用!E131=\"\",\"\",入力用!E131)","v":""},null,null,null,{"$f":"IF(入力用!Q131=2,入力用!Z6,IF(入力用!Q131=3,入力用!Z7,\"㏋\n㎾\"))","v":"㏋\n㎾"},null,{"$f":"IF(入力用!E132=\"\",\"\",入力用!E132)","v":""},null,null,null,"kW",null,{"$f":"IF(入力用!Q133=2,入力用!AA6,IF(入力用!Q133=3,入力用!AA7,IF(入力用!Q133=4,入力用!AA8,IF(入力用!Q133=5,入力用!AA9,\"\"))))","v":""},null,null,null,null,{"$f":"IF(入力用!E134=\"\",\"\",入力用!E134)","v":""},null,"\n台",null,{"$f":"IF(入力用!Q135=2,入力用!AC6,IF(入力用!Q135=3,入力用!AC7,\"\"))","v":""},null,null,null,null,"通電遮断パターン",null,null,null,null,null,null,null,null,null,null,null,null,null,null,null,null,null,"通電制御 ・\n検 知 制 御\n割引対象率",null,null,null,null,null,{"$f":"IF(AND(DC103=\"\",入力用!U132=0),\"\",入力用!U132)","v":""},null,null,"kW",null,"/",null,{"$f":"CV97","v":""},null,null,"kW"]
[]
[null,null,null,null,null,null,null,null,null,null,null,null,null,null,null,null,null,null,null,null,null,null,null,null,null,null,null,null,null,null,null,null,null,null,null,null,null,null,null,null,null,null,null,null,null,null,null,null,null,null,null,null,null,null,null,null,null,null,null,null,null,null,null,null,null,null,null,null,null,null,null,null,null,null,null,{"$f":"IF(入力用!E117=\"\",\"\",入力用!E117)","v":""},null,"時",null,{"$f":"IF(入力用!G117=\"\",\"\",入力用!G117)","v":""},null,"分から",null,null,null,{"$f":"IF(入力用!E118=\"\",\"\",入力用!E118)","v":""},null,{"$f":"IF(入力用!Q117=2,入力用!AE6,IF(入力用!Q117=3,入力用!AE7,\"\"))&IF(入力用!Q118=2,入力用!AF6,IF(入力用!Q118=3,入力用!AF7,\"\"))","v":""},null,null,null,null,null,null,null,null,null,null,null,{"$f":"IF(ISERR(CV103/DC103),\"\",ROUND(CV103/DC103,2)*100)","v":""},null,null,null,null,null,null,null,"％"]
[null,null,null,null,null,null,null,null,null,null,null,null,null,null,null,null,null,null,null,null,null,null,null,null,null,null,null,null,null,null,null,null,{"$f":"IF(入力用!E136=\"\",\"\",入力用!E136)","v":""},null,null,null,null,{"$f":"IF(入力用!E137=\"\",\"\",入力用!E137)","v":""},null,null,null,{"$f":"IF(入力用!E138=\"\",\"\",入力用!E138)","v":""},null,null,null,null,null,null,null,{"$f":"IF(入力用!E139=\"\",\"\",入力用!E139)","v":""},null,null,null,{"$f":"IF(入力用!Q139=2,入力用!Z6,IF(入力用!Q139=3,入力用!Z7,\"㏋\n㎾\"))","v":"㏋\n㎾"},null,{"$f":"IF(入力用!E140=\"\",\"\",入力用!E140)","v":""},null,null,null,"kW",null,{"$f":"IF(入力用!Q141=2,入力用!AA6,IF(入力用!Q141=3,入力用!AA7,IF(入力用!Q141=4,入力用!AA8,IF(入力用!Q141=5,入力用!AA9,\"\"))))","v":""},null,null,null,null,{"$f":"IF(入力用!E142=\"\",\"\",入力用!E142)","v":""},null,"\n台",null,{"$f":"IF(入力用!Q143=2,入力用!AC6,IF(入力用!Q143=3,入力用!AC7,\"\"))","v":""}]
[null,null,null,null,null,null,null,null,null,null,null,null,null,null,null,null,null,null,null,null,null,null,null,null,null,null,null,null,null,null,null,null,null,null,null,null,null,null,null,null,null,null,null,null,null,null,null,null,null,null,null,null,null,null,null,null,null,null,null,null,null,null,null,null,null,null,null,null,null,null,null,null,null,null,null,null,null,null,null,null,null,null,null,null,null,null,null,null,null,null,null,null,null,"力　　率",null,null,null,null,null,"85％",null,null,null,null,null,{"$f":"IF(入力用!Q112=2,\"超過\",IF(入力用!U116=\"\",\"超過\n未満\",IF(入力用!U116>0.85,\"超過\",IF(入力用!U116=0.85,\"\",IF(入力用!U116<0.85,\"未満\")))))","v":"超過\n未満"}]
[]
[null,null,null,null,null,null,null,null,null,null,null,null,null,null,null,null,null,null,null,null,null,null,null,null,null,null,null,null,null,null,null,null,{"$f":"IF(入力用!E144=\"\",\"\",入力用!E144)","v":""},null,null,null,null,{"$f":"IF(入力用!E145=\"\",\"\",入力用!E145)","v":""},null,null,null,{"$f":"IF(入力用!E146=\"\",\"\",入力用!E146)","v":""},null,null,null,null,null,null,null,{"$f":"IF(入力用!E147=\"\",\"\",入力用!E147)","v":""},null,null,null,{"$f":"IF(入力用!Q147=2,入力用!Z6,IF(入力用!Q147=3,入力用!Z7,\"㏋\n㎾\"))","v":"㏋\n㎾"},null,{"$f":"IF(入力用!E148=\"\",\"\",入力用!E148)","v":""},null,null,null,"kW",null,{"$f":"IF(入力用!Q149=2,入力用!AA6,IF(入力用!Q149=3,入力用!AA7,IF(入力用!Q149=4,入力用!AA8,IF(入力用!Q149=5,入力用!AA9,\"\"))))","v":""},null,null,null,null,{"$f":"IF(入力用!E150=\"\",\"\",入力用!E150)","v":""},null,"\n台",null,{"$f":"IF(入力用!Q151=2,入力用!AC6,IF(入力用!Q151=3,入力用!AC7,\"\"))","v":""},null,null,null,null,"最低使用期間"]
[]
[null,null,null,null,null,null,"契約決定\n方　　法",null,null,null,null,{"$f":"IF(入力用!Q112=2,入力用!Y6,IF(入力用!Q112=3,入力用!Y7,\"\"))","v":""},null,null,null,null,null,null,null,null,null,null,null,null,null,null,null,null,null,null,null,null,null,null,null,null,null,null,null,null,null,null,null,null,null,null,null,null,null,null,null,null,null,null,null,null,null,null,null,null,null,null,null,null,null,null,null,null,null,null,null,null,null,null,null,"開始月",null,null,null,null,null,null,null,null,"終了月",null,null,null,null,null,null,null,null,"契約電力",null,null,null,null,null,{"$f":"IF(入力用!U130=0,\"\",入力用!U130)","v":""},null,null,null,null,null,null,null,"ｋＷ"]
[null,null,null,null,null,null,null,null,null,null,null,null,null,null,null,null,null,null,null,null,null,"主開閉器\n定格電流",null,null,null,null,{"$f":"IF(入力用!E113=\"\",\"\",入力用!E113)","v":""},null,null,null,"Ａ",null,{"$f":"IF(入力用!E152=\"\",\"\",入力用!E152)","v":""},null,null,null,null,{"$f":"IF(入力用!E153=\"\",\"\",入力用!E153)","v":""},null,null,null,{"$f":"IF(入力用!E154=\"\",\"\",入力用!E154)","v":""},null,null,null,null,null,null,null,{"$f":"IF(入力用!E155=\"\",\"\",入力用!E155)","v":""},null,null,null,{"$f":"IF(入力用!Q155=2,入力用!Z6,IF(入力用!Q155=3,入力用!Z7,\"㏋\n㎾\"))","v":"㏋\n㎾"},null,{"$f":"IF(入力用!E156=\"\",\"\",入力用!E156)","v":""},null,null,null,"kW",null,{"$f":"IF(入力用!Q157=2,入力用!AA6,IF(入力用!Q157=3,入力用!AA7,IF(入力用!Q157=4,入力用!AA8,IF(入力用!Q157=5,入力用!AA9,\"\"))))","v":""},null,null,null,null,{"$f":"IF(入力用!E158=\"\",\"\",入力用!E158)","v":""},null,"\n台",null,{"$f":"IF(入力用!Q159=2,入力用!AC6,IF(入力用!Q159=3,入力用!AC7,\"\"))","v":""}]
[null,null,null,null,null,null,null,null,null,null,null,null,null,null,null,null,null,null,null,null,null,null,null,null,null,null,null,null,null,null,null,null,null,null,null,null,null,null,null,null,null,null,null,null,null,null,null,null,null,null,null,null,null,null,null,null,null,null,null,null,null,null,null,null,null,null,null,null,null,null,null,null,null,null,null,{"$f":"IF(入力用!E119=\"\",\"\",入力用!E119)","v":""},null,null,null,null,"月分",null,null,null,{"$f":"IF(入力用!E119=\"\",\"\",IF(AND(入力用!Q110>5,入力用!Q110<10),IF(BX113>10,BX113-10,BX113+2),IF(入力用!Q110=10,IF(BX113>7,BX113-7,BX113+5),\"\")))","v":""},null,null,null,null,"月分"]
[]
[null,"選択約款②",null,null,null,null,"契約種別",null,null,null,null,{"$f":"入力用!R163","v":""},null,null,null,null,null,null,null,null,null,"供給電気\n方 式 ・\n供給電圧",null,null,null,null,{"$f":"IF(入力用!Q161=2,\"単相2線式\n　　100V\",IF(入力用!Q161=3,\"単相2線式\n　　200V\",IF(入力用!Q161=4,\"単相\n　　3線式\n100V\n　　･200V\",IF(入力用!Q161=5,\"3相3線式\n200V\",\"\"))))","v":""},null,null,null,null,null,"契　約　負　荷　設　備　内　訳",null,null,null,null,null,null,null,null,null,null,null,null,null,null,null,null,null,null,null,null,null,null,null,null,null,null,null,null,null,null,null,null,null,null,null,null,null,"通電制御・\n検知制御",null,null,null,null,"検知制御装置"]
[null,null,null,null,null,null,null,null,null,null,null,null,null,null,null,null,null,null,null,null,null,null,null,null,null,null,null,null,null,null,null,null,null,null,null,null,null,null,null,null,null,null,null,null,null,null,null,null,null,null,null,null,null,null,null,null,null,null,null,null,null,null,null,null,null,null,null,null,null,null,null,null,null,null,null,null,null,null,null,null,null,null,null,null,null,null,null,null,null,null,null,null,null,"入力合計",null,null,null,null,null,{"$f":"IF(入力用!U185+入力用!U186=0,\"\",入力用!U185+入力用!U186)","v":""},null,null,null,null,null,null,null,"ｋＷ"]
[null,null,null,null,null,null,null,null,null,null,null,null,null,null,null,null,null,null,null,null,null,null,null,null,null,null,null,null,null,null,null,null,"機器種別",null,null,null,null,"ﾒｰｶｰ",null,null,null,"型　　式",null,null,null,null,null,null,null,"出　力",null,null,null,null,null,"入　力",null,null,null,null,null,"力　率",null,null,null,null,"台数",null,null,null,null,null,null,null,null,"メーカー",null,null,null,"型　式",null,null,null,null,null,null,null,null,"種　類"]
[]
[null,null,null,null,null,null,null,null,null,null,null,null,null,null,null,null,null,null,null,null,null,null,null,null,null,null,null,null,null,null,null,null,{"$f":"IF(入力用!E170=\"\",\"\",入力用!E170)","v":""},null,null,null,null,{"$f":"IF(入力用!E171=\"\",\"\",入力用!E171)","v":""},null,null,null,{"$f":"IF(入力用!E172=\"\",\"\",入力用!E172)","v":""},null,null,null,null,null,null,null,{"$f":"IF(入力用!E173=\"\",\"\",入力用!E173)","v":""},null,null,null,{"$f":"IF(入力用!Q173=2,入力用!Z6,IF(入力用!Q173=3,入力用!Z7,\"㏋\n㎾\"))","v":"㏋\n㎾"},null,{"$f":"IF(入力用!E174=\"\",\"\",入力用!E174)","v":""},null,null,null,"kW",null,{"$f":"IF(入力用!Q175=2,入力用!AA6,IF(入力用!Q175=3,入力用!AA7,IF(入力用!Q175=4,入力用!AA8,IF(入力用!Q175=5,入力用!AA9,\"\"))))","v":""},null,null,null,null,{"$f":"IF(入力用!E176=\"\",\"\",入力用!E176)","v":""},null,"\n台",null,{"$f":"IF(入力用!Q177=2,入力用!AC6,IF(入力用!Q177=3,入力用!AC7,\"\"))","v":""},null,null,null,null,{"$f":"IF(入力用!E164=\"\",\"\",入力用!E164)","v":""},null,null,null,{"$f":"IF(入力用!E165=\"\",\"\",入力用!E165)","v":""},null,null,null,null,null,null,null,null,{"$f":"IF(入力用!Q166=2,入力用!AD6,IF(入力用!Q166=3,入力用!AD7,IF(入力用!Q166=4,入力用!AD8,\"\")))","v":""},null,null,null,null,"合計台数",null,null,null,null,null,{"$f":"IF(SUM(BO119:BP133)=0,\"\",SUM(BO119:BP133))","v":""},null,null,null,null,null,null,null,"台"]
[]
[]
[null,null,null,null,null,null,null,null,null,null,null,null,null,null,null,null,null,null,null,null,null,null,null,null,null,null,null,null,null,null,null,null,{"$f":"IF(入力用!E178=\"\",\"\",入力用!E178)","v":""},null,null,null,null,{"$f":"IF(入力用!E179=\"\",\"\",入力用!E179)","v":""},null,null,null,{"$f":"IF(入力用!E180=\"\",\"\",入力用!E180)","v":""},null,null,null,null,null,null,null,{"$f":"IF(入力用!E181=\"\",\"\",入力用!E181)","v":""},null,null,null,{"$f":"IF(入力用!Q181=2,入力用!Z6,IF(入力用!Q181=3,入力用!Z7,\"㏋\n㎾\"))","v":"㏋\n㎾"},null,{"$f":"IF(入力用!E182=\"\",\"\",入力用!E182)","v":""},null,null,null,"kW",null,{"$f":"IF(入力用!Q183=2,入力用!AA6,IF(入力用!Q183=3,入力用!AA7,IF(入力用!Q183=4,入力用!AA8,IF(入力用!Q183=5,入力用!AA9,\"\"))))","v":""},null,null,null,null,{"$f":"IF(入力用!E184=\"\",\"\",入力用!E184)","v":""},null,"\n台",null,{"$f":"IF(入力用!Q185=2,入力用!AC6,IF(入力用!Q185=3,入力用!AC7,\"\"))","v":""},null,null,null,null,"通電遮断パターン",null,null,null,null,null,null,null,null,null,null,null,null,null,null,null,null,null,"通電制御 ・\n検 知 制 御\n割引対象率",null,null,null,null,null,{"$f":"IF(AND(DC122=\"\",入力用!U182=0),\"\",入力用!U182)","v":""},null,null,"kW",null,"/",null,{"$f":"CV116","v":""},null,null,"kW"]
[]
[null,null,null,null,null,null,null,null,null,null,null,null,null,null,null,null,null,null,null,null,null,null,null,null,null,null,null,null,null,null,null,null,null,null,null,null,null,null,null,null,null,null,null,null,null,null,null,null,null,null,null,null,null,null,null,null,null,null,null,null,null,null,null,null,null,null,null,null,null,null,null,null,null,null,null,{"$f":"IF(入力用!E167=\"\",\"\",入力用!E167)","v":""},null,"時",null,{"$f":"IF(入力用!G167=\"\",\"\",入力用!G167)","v":""},null,"分から",null,null,null,{"$f":"IF(入力用!E168=\"\",\"\",入力用!E168)","v":""},null,{"$f":"IF(入力用!Q167=2,入力用!AE6,IF(入力用!Q167=3,入力用!AE7,\"\"))&IF(入力用!Q168=2,入力用!AF6,IF(入力用!Q168=3,入力用!AF7,\"\"))","v":""},null,null,null,null,null,null,null,null,null,null,null,{"$f":"IF(ISERR(CV122/DC122),\"\",ROUND(CV122/DC122,2)*100)","v":""},null,null,null,null,null,null,null,"％"]
[null,null,null,null,null,null,null,null,null,null,null,null,null,null,null,null,null,null,null,null,null,null,null,null,null,null,null,null,null,null,null,null,{"$f":"IF(入力用!E186=\"\",\"\",入力用!E186)","v":""},null,null,null,null,{"$f":"IF(入力用!E187=\"\",\"\",入力用!E187)","v":""},null,null,null,{"$f":"IF(入力用!E188=\"\",\"\",入力用!E188)","v":""},null,null,null,null,null,null,null,{"$f":"IF(入力用!E189=\"\",\"\",入力用!E189)","v":""},null,null,null,{"$f":"IF(入力用!Q189=2,入力用!Z6,IF(入力用!Q189=3,入力用!Z7,\"㏋\n㎾\"))","v":"㏋\n㎾"},null,{"$f":"IF(入力用!E190=\"\",\"\",入力用!E190)","v":""},null,null,null,"kW",null,{"$f":"IF(入力用!Q191=2,入力用!AA6,IF(入力用!Q191=3,入力用!AA7,IF(入力用!Q191=4,入力用!AA8,IF(入力用!Q191=5,入力用!AA9,\"\"))))","v":""},null,null,null,null,{"$f":"IF(入力用!E192=\"\",\"\",入力用!E192)","v":""},null,"\n台",null,{"$f":"IF(入力用!Q193=2,入力用!AC6,IF(入力用!Q193=3,入力用!AC7,\"\"))","v":""}]
[null,null,null,null,null,null,null,null,null,null,null,null,null,null,null,null,null,null,null,null,null,null,null,null,null,null,null,null,null,null,null,null,null,null,null,null,null,null,null,null,null,null,null,null,null,null,null,null,null,null,null,null,null,null,null,null,null,null,null,null,null,null,null,null,null,null,null,null,null,null,null,null,null,null,null,null,null,null,null,null,null,null,null,null,null,null,null,null,null,null,null,null,null,"力　　率",null,null,null,null,null,"85％",null,null,null,null,null,{"$f":"IF(入力用!Q162=2,\"超過\",IF(入力用!U166=\"\",\"超過\n未満\",IF(入力用!U166>0.85,\"超過\",IF(入力用!U166=0.85,\"\",IF(入力用!U166<0.85,\"未満\")))))","v":"超過\n未満"}]
[]
[null,null,null,null,null,null,null,null,null,null,null,null,null,null,null,null,null,null,null,null,null,null,null,null,null,null,null,null,null,null,null,null,{"$f":"IF(入力用!E194=\"\",\"\",入力用!E194)","v":""},null,null,null,null,{"$f":"IF(入力用!E195=\"\",\"\",入力用!E195)","v":""},null,null,null,{"$f":"IF(入力用!E196=\"\",\"\",入力用!E196)","v":""},null,null,null,null,null,null,null,{"$f":"IF(入力用!E197=\"\",\"\",入力用!E197)","v":""},null,null,null,{"$f":"IF(入力用!Q197=2,入力用!Z6,IF(入力用!Q197=3,入力用!Z7,\"㏋\n㎾\"))","v":"㏋\n㎾"},null,{"$f":"IF(入力用!E198=\"\",\"\",入力用!E198)","v":""},null,null,null,"kW",null,{"$f":"IF(入力用!Q199=2,入力用!AA6,IF(入力用!Q199=3,入力用!AA7,IF(入力用!Q199=4,入力用!AA8,IF(入力用!Q199=5,入力用!AA9,\"\"))))","v":""},null,null,null,null,{"$f":"IF(入力用!E200=\"\",\"\",入力用!E200)","v":""},null,"\n台",null,{"$f":"IF(入力用!Q201=2,入力用!AC6,IF(入力用!Q201=3,入力用!AC7,\"\"))","v":""},null,null,null,null,"最低使用期間"]
[]
[null,null,null,null,null,null,"契約決定\n方　　法",null,null,null,null,{"$f":"IF(入力用!Q162=2,入力用!Y6,IF(入力用!Q162=3,入力用!Y7,\"\"))","v":""},null,null,null,null,null,null,null,null,null,null,null,null,null,null,null,null,null,null,null,null,null,null,null,null,null,null,null,null,null,null,null,null,null,null,null,null,null,null,null,null,null,null,null,null,null,null,null,null,null,null,null,null,null,null,null,null,null,null,null,null,null,null,null,"開始月",null,null,null,null,null,null,null,null,"終了月",null,null,null,null,null,null,null,null,"契約電力",null,null,null,null,null,{"$f":"IF(入力用!U180=0,\"\",入力用!U180)","v":""},null,null,null,null,null,null,null,"ｋＷ"]
[null,null,null,null,null,null,null,null,null,null,null,null,null,null,null,null,null,null,null,null,null,"主開閉器\n定格電流",null,null,null,null,{"$f":"IF(入力用!E163=\"\",\"\",入力用!E163)","v":""},null,null,null,"Ａ",null,{"$f":"IF(入力用!E202=\"\",\"\",入力用!E202)","v":""},null,null,null,null,{"$f":"IF(入力用!E203=\"\",\"\",入力用!E203)","v":""},null,null,null,{"$f":"IF(入力用!E204=\"\",\"\",入力用!E204)","v":""},null,null,null,null,null,null,null,{"$f":"IF(入力用!E205=\"\",\"\",入力用!E205)","v":""},null,null,null,{"$f":"IF(入力用!Q205=2,入力用!Z6,IF(入力用!Q205=3,入力用!Z7,\"㏋\n㎾\"))","v":"㏋\n㎾"},null,{"$f":"IF(入力用!E206=\"\",\"\",入力用!E206)","v":""},null,null,null,"kW",null,{"$f":"IF(入力用!Q207=2,入力用!AA6,IF(入力用!Q207=3,入力用!AA7,IF(入力用!Q207=4,入力用!AA8,IF(入力用!Q207=5,入力用!AA9,\"\"))))","v":""},null,null,null,null,{"$f":"IF(入力用!E208=\"\",\"\",入力用!E208)","v":""},null,"\n台",null,{"$f":"IF(入力用!Q209=2,入力用!AC6,IF(入力用!Q209=3,入力用!AC7,\"\"))","v":""}]
[null,null,null,null,null,null,null,null,null,null,null,null,null,null,null,null,null,null,null,null,null,null,null,null,null,null,null,null,null,null,null,null,null,null,null,null,null,null,null,null,null,null,null,null,null,null,null,null,null,null,null,null,null,null,null,null,null,null,null,null,null,null,null,null,null,null,null,null,null,null,null,null,null,null,null,{"$f":"IF(入力用!E169=\"\",\"\",入力用!E169)","v":""},null,null,null,null,"月分",null,null,null,{"$f":"IF(入力用!E169=\"\",\"\",IF(AND(入力用!Q160>5,入力用!Q160<10),IF(BX132>10,BX132-10,BX132+2),IF(入力用!Q160=10,IF(BX132>7,BX132-7,BX132+5),\"\")))","v":""},null,null,null,null,"月分"]
[]
[]
[null,null,"　※　本申込書は集合住宅を新設する場合に使用することができます。",null,null,null,null,null,null,null,null,null,null,null,null,null,null,null,null,null,null,null,null,null,null,null,null,null,null,null,null,null,null,null,null,null,null,null,null,null,null,null,null,null,null,null,null,null,null,null,null,null,null,null,null,null,null,null,null,null,null,null,null,null,null,null,null,null,null,null,null,null,null,null,null,null,null,null,null,null,null,null,null,null,null,null,null,null,null,null,null,null,null,null,null,null,null,null,null,null,null,"受付"]
[]
[null,null,"　※　太枠内をご記入願います。"]
[]
[null,null,"　※　発注者さまが法人の場合は，代表者肩書および代表者名をあわせてご記入願います。"]
[]
[null,null,"　※　共用部分がない場合または共用部分を高圧で受電する場合には，お客さま情報および建物情報のみ記入し，集合住宅専有部分用電気使用申込書をあわせて提出願います。"]
[]
[null,null,"　※　ご提供いただいた個人情報は，電気事業の範囲内で利用いたします。"]
[]
[]
[]
[null,null,null,"拝啓　平素は弊社事業に格別のお引き立てを賜り，厚くお礼申し上げます。５６７８９０"]
[]
[]
[null,null,null,"　さて，御社よりお申込みをいただきました上記お客さまの電気のご使用につきまして，"]
[]
[]
[null,null,null,"本内容および別添の集合住宅専有部分用電気使用申込書の内容にて受付させていただきま"]
[]
[]
[null,null,null,"したことをお知らせいたします。６７８９０１２３４５６７８９０１２３４５６７８９０"]
[]
[]
[null,null,null,"１２３４５６７８９０１２３４５６７８９０１２３４５６７８９０１２３４５６７敬具０"]
[]
[]
[]
[]
["北　海　道　電　力　ネ　ッ　ト　ワ　ー　ク　株　式　会　社"]

{"sheet":"２枚目","index":2,"n_rows":164,"n_cols":111,"rows_kept":164,"cut":false,"hidden":false,"merged":[[1,93,5,109],[44,65,50,67],[44,68,46,71],[44,72,46,74],[44,75,46,76],[44,77,46,79],[44,80,46,84],[44,85,46,87],[44,88,46,92],[46,43,48,64],[47,68,50,71],[47,72,50,74],[47,75,50,76],[47,77,50,79],[47,80,50,84],[47,85,50,87],[47,88,50,92],[49,43,50,46],[49,47,50,51],[49,52,50,52],[49,53,50,57],[49,58,50,58],[49,59,50,63],[49,64,50,64],[165,0,166,110],[124,59,126,60],[127,32,129,36],[127,37,129,40],[127,41,129,48],[67,64,69,65],[121,53,123,54],[105,53,107,54],[116,55,117,60],[127,53,129,54],[127,55,129,58],[86,61,88,63],[89,52,91,60],[89,61,91,63],[89,64,91,72],[67,47,69,48],[67,49,69,54],[70,93,75,98],[138,1,139,99],[130,26,132,29],[130,30,132,31],[130,32,132,36],[83,52,85,60],[83,61,85,63],[67,55,69,58],[83,64,85,72],[70,64,72,65],[78,52,79,63],[73,49,75,54],[70,49,72,54],[70,55,72,58],[70,61,72,63],[70,59,72,60],[78,22,79,51],[80,22,82,51],[80,52,82,60],[73,55,75,58],[97,61,98,65],[99,55,101,58],[105,68,107,69],[105,66,107,67],[130,41,132,48],[70,47,72,48],[114,11,128,20],[136,1,137,97],[129,6,132,10],[130,53,132,54],[99,66,101,67],[118,55,120,58],[121,66,123,67],[108,59,110,60],[121,55,123,58],[121,59,123,60],[116,61,117,65],[102,61,104,65],[99,61,101,65],[105,59,107,60],[99,59,101,60],[102,66,104,67],[118,59,120,60],[110,6,113,10],[102,70,104,74],[102,75,103,92],[104,81,107,84],[111,21,113,25],[110,11,113,20],[99,49,101,52],[163,0,164,110],[157,2,159,110],[160,2,162,110],[95,1,113,5],[95,6,109,10],[95,11,109,20],[95,21,110,25],[76,1,94,5],[84,6,89,10],[90,6,94,10],[90,20,94,21],[78,6,83,10],[90,11,94,19],[84,11,89,21],[89,22,91,51],[92,52,94,60],[102,55,104,58],[142,1,143,97],[114,26,129,31],[124,68,126,69],[121,49,123,52],[116,66,117,69],[121,41,123,48],[115,93,117,98],[80,73,82,75],[73,59,75,60],[73,61,75,63],[73,64,75,65],[92,61,94,63],[97,66,98,69],[97,32,98,36],[63,6,75,10],[86,22,88,51],[76,22,77,92],[86,73,88,75],[83,76,85,83],[83,22,85,51],[86,52,88,60],[86,64,88,72],[72,80,75,88],[70,80,71,92],[67,43,69,46],[73,47,75,48],[97,75,98,78],[97,55,98,60],[73,43,75,46],[70,43,72,46],[89,84,91,89],[97,79,98,87],[95,70,98,74],[99,79,101,87],[95,75,96,92],[89,73,91,75],[97,88,98,92],[92,84,94,89],[92,90,94,92],[99,88,101,92],[92,64,94,72],[95,32,96,69],[92,22,94,51],[99,68,101,69],[6,0,9,110],[31,36,33,38],[14,64,16,68],[14,85,16,89],[17,64,27,68],[31,11,33,13],[28,11,30,63],[11,1,12,25],[14,69,16,84],[25,6,30,10],[31,6,33,10],[17,18,18,63],[17,11,18,17],[17,1,33,5],[17,6,24,10],[13,1,14,38],[22,69,23,74],[31,20,33,20],[20,104,21,108],[22,75,23,110],[24,69,25,110],[26,104,27,104],[31,39,33,45],[31,46,33,46],[31,21,33,27],[20,103,21,103],[20,69,21,74],[37,56,39,61],[37,65,39,69],[34,51,39,55],[31,55,33,55],[31,56,33,63],[38,70,39,72],[28,69,31,74],[32,89,33,92],[20,75,21,89],[20,90,21,99],[31,14,33,19],[34,21,36,22],[34,16,36,16],[46,37,47,37],[46,28,47,28],[46,29,47,29],[46,30,47,30],[46,31,47,31],[46,32,47,32],[46,33,47,33],[31,28,33,28],[31,29,33,35],[44,13,50,17],[44,18,45,18],[44,19,45,19],[44,20,45,20],[46,18,47,18],[46,19,47,19],[46,20,47,20],[48,18,50,37],[46,21,47,21],[46,22,47,22],[46,23,47,23],[46,24,47,24],[53,61,54,65],[78,11,83,21],[51,1,75,5],[53,55,54,60],[58,47,60,48],[61,43,63,46],[61,47,63,48],[38,62,39,64],[58,55,60,58],[53,43,54,48],[55,61,57,63],[55,64,57,65],[51,6,62,10],[40,51,43,56],[40,57,43,71],[58,64,60,65],[37,11,39,50],[40,11,43,50],[44,49,45,52],[44,53,45,54],[76,6,77,10],[76,11,77,21],[80,61,82,63],[55,47,57,48],[105,55,107,58],[99,53,101,54],[102,49,104,52],[34,1,43,5],[34,6,39,10],[40,6,43,10],[34,11,36,12],[34,13,36,15],[44,1,50,5],[34,17,36,20],[34,23,36,50],[58,43,60,46],[44,6,50,12],[44,38,50,42],[44,43,45,44],[44,45,45,47],[44,48,45,48],[46,25,47,25],[46,26,47,26],[46,27,47,27],[46,34,47,34],[46,35,47,35],[46,36,47,36],[44,55,45,64],[118,41,120,48],[116,32,117,36],[116,41,117,48],[116,37,117,40],[111,41,113,48],[111,32,113,36],[118,32,120,36],[130,49,132,52],[129,93,132,98],[124,66,126,67],[125,93,128,98],[124,70,126,74],[114,70,117,74],[111,70,113,74],[111,66,113,67],[111,68,113,69],[130,55,132,58],[121,68,123,69],[129,84,130,92],[127,49,129,52],[118,66,120,67],[114,32,115,69],[127,68,129,69],[131,89,132,92],[121,102,122,103],[121,70,123,74],[123,75,126,76],[127,61,129,65],[130,37,132,40],[130,61,132,65],[121,61,123,65],[124,55,126,58],[124,61,126,65],[127,59,129,60],[124,53,126,54],[124,49,126,52],[118,61,120,65],[118,49,120,52],[118,53,120,54],[116,49,117,54],[118,37,120,40],[124,32,126,36],[124,37,126,40],[124,41,126,48],[121,109,122,110],[121,104,122,105],[118,107,120,110],[118,99,120,106],[130,59,132,60],[129,107,132,110],[116,75,117,78],[115,107,117,110],[114,6,128,10],[129,11,132,20],[115,99,117,106],[130,70,132,74],[118,68,120,69],[125,99,128,104],[118,88,120,92],[123,77,126,78],[123,79,126,80],[127,75,128,92],[131,84,132,88],[114,21,129,25],[127,66,129,67],[121,75,122,92],[123,87,126,92],[130,68,132,69],[44,93,46,95],[47,93,50,95],[32,93,33,97],[32,98,33,98],[34,92,39,94],[34,100,39,102],[34,103,39,107],[32,75,33,88],[134,101,141,102],[134,1,135,97],[130,21,132,25],[129,99,132,106],[134,103,141,110],[130,66,132,67],[140,1,141,97],[131,75,132,79],[131,80,132,83],[127,70,129,74],[125,105,128,110],[114,1,132,5],[123,99,124,106],[123,107,124,110],[118,93,120,98],[121,93,124,98],[121,99,122,101],[123,81,126,84],[123,85,126,86],[121,106,122,108],[110,75,111,83],[114,75,115,92],[116,88,117,92],[116,79,117,87],[112,75,113,79],[112,84,113,88],[112,89,113,92],[118,75,120,78],[28,64,33,68],[32,69,33,74],[31,47,33,54],[37,73,39,77],[28,75,31,110],[32,99,33,103],[32,104,33,104],[32,110,33,110],[38,78,39,80],[32,105,33,109],[26,105,27,109],[26,110,27,110],[26,99,27,103],[17,69,19,74],[17,75,19,110],[40,72,43,76],[40,77,43,80],[34,81,39,85],[34,86,39,91],[20,100,21,102],[26,98,27,98],[26,69,27,88],[26,89,27,92],[26,93,27,97],[23,20,24,38],[19,11,22,63],[25,11,27,12],[25,13,27,15],[25,16,27,16],[25,17,27,20],[25,21,27,22],[23,11,24,19],[25,23,27,63],[23,39,24,46],[23,47,24,63],[47,105,50,107],[47,108,50,110],[40,110,42,110],[47,102,50,104],[47,96,50,98],[43,98,43,110],[44,108,46,110],[44,105,46,107],[47,99,50,101],[40,105,42,109],[44,99,46,101],[51,88,56,93],[51,94,56,108],[57,104,58,106],[59,94,60,103],[59,104,60,106],[65,91,69,95],[57,107,58,110],[57,88,62,93],[57,94,58,103],[65,108,69,110],[54,109,56,110],[111,26,113,29],[111,30,113,31],[111,55,113,58],[111,61,113,65],[111,59,113,60],[95,26,110,31],[111,37,113,40],[108,49,110,52],[99,32,101,36],[105,32,107,36],[97,37,98,40],[97,41,98,48],[99,41,101,48],[102,41,104,48],[102,53,104,54],[105,61,107,65],[102,32,104,36],[105,37,107,40],[99,37,101,40],[105,41,107,48],[108,61,110,65],[108,37,110,40],[108,41,110,48],[97,49,98,54],[108,32,110,36],[111,49,113,52],[111,53,113,54],[108,53,110,54],[108,55,110,58],[63,11,75,21],[51,26,52,65],[67,26,69,42],[70,26,72,42],[55,49,57,54],[64,49,66,54],[61,49,63,54],[61,55,63,58],[64,55,66,58],[58,49,60,54],[64,43,66,46],[64,47,66,48],[53,26,54,42],[64,26,66,42],[53,49,54,54],[51,11,62,21],[51,22,75,25],[61,61,63,63],[61,64,63,65],[51,75,62,87],[99,99,101,106],[102,104,103,105],[104,75,107,76],[99,70,101,74],[99,93,101,98],[99,75,101,78],[102,99,103,101],[102,37,104,40],[105,49,107,52],[67,59,69,60],[67,61,69,63],[58,59,60,60],[58,61,60,63],[55,59,57,60],[55,55,57,58],[61,59,63,60],[51,70,62,74],[61,104,62,106],[65,79,69,80],[65,81,69,87],[63,70,64,110],[61,94,62,103],[65,88,69,90],[64,61,66,63],[112,80,113,83],[90,107,94,110],[92,73,94,75],[85,93,89,98],[92,76,94,83],[86,84,88,89],[86,90,88,92],[89,90,91,92],[90,93,94,98],[89,76,91,83],[85,105,89,110],[85,99,89,104],[90,99,94,106],[83,73,85,75],[65,96,69,99],[64,64,66,65],[104,77,107,78],[102,68,104,69],[108,66,110,67],[108,68,110,69],[105,70,107,74],[104,87,107,92],[96,93,98,98],[104,107,105,110],[106,93,109,98],[104,99,105,106],[102,93,105,98],[102,102,103,103],[102,106,103,108],[104,79,107,80],[104,85,107,86],[108,70,110,74],[108,75,109,92],[106,99,109,104],[106,105,109,110],[110,99,113,106],[110,107,113,110],[110,93,113,98],[110,84,111,92],[58,26,60,42],[61,26,63,42],[59,107,60,110],[61,107,62,110],[64,59,66,60],[96,107,98,110],[83,90,85,92],[80,90,82,92],[80,76,82,83],[86,76,88,83],[78,64,79,75],[70,70,75,74],[80,64,82,72],[51,66,75,69],[65,70,69,74],[65,75,69,78],[70,107,75,110],[72,89,75,92],[70,75,75,79],[65,100,69,101],[77,99,80,106],[55,26,57,42],[73,26,75,42],[55,43,57,46],[70,99,75,106],[65,102,69,107],[81,93,84,98],[77,107,80,110],[154,2,156,110],[78,84,79,92],[78,76,79,83],[83,84,85,89],[80,84,82,89],[81,99,84,106],[121,37,123,40],[118,70,120,74],[118,79,120,87],[96,99,98,106],[148,2,150,110],[151,2,153,110],[77,93,80,98],[81,107,84,110],[145,2,147,110],[129,75,130,83],[121,32,123,36],[102,59,104,60],[102,109,103,110],[99,107,101,110],[14,90,16,110],[44,21,45,21],[44,22,45,22],[44,23,45,23],[44,24,45,24],[44,25,45,25],[44,26,45,26],[44,27,45,27],[44,28,45,28],[44,29,45,29],[44,30,45,30],[44,31,45,31],[44,32,45,32],[44,33,45,33],[44,34,45,34],[44,35,45,35],[44,36,45,36],[44,37,45,37],[44,102,46,104],[44,96,46,98],[34,95,39,99],[40,98,42,104],[34,108,39,110],[20,109,21,110]]}
[]
[null,null,null,null,null,null,null,null,null,null,null,null,null,null,null,null,null,null,null,null,null,null,null,null,null,null,null,null,null,null,null,null,null,null,null,null,null,null,null,null,null,null,null,null,null,null,null,null,null,null,null,null,null,null,null,null,null,null,null,null,null,null,null,null,null,null,null,null,null,null,null,null,null,null,null,null,null,null,null,null,null,null,null,null,null,null,null,null,null,null,null,null,null,"離島等供給用"]
[]
[]
[]
[]
["集合住宅共用部分用電気使用申込書（お客さま控）"]
[]
[]
[]
[]
[null,"北海道電力ネットワーク株式会社　御中"]
[]
[null,"電気の使用について貴社離島等供給約款[低圧用]を承認のうえ申し込みます。"]
[null,null,null,null,null,null,null,null,null,null,null,null,null,null,null,null,null,null,null,null,null,null,null,null,null,null,null,null,null,null,null,null,null,null,null,null,null,null,null,null,null,null,null,null,null,null,null,null,null,null,null,null,null,null,null,null,null,null,null,null,null,null,null,null,"受付扱所名",null,null,null,null,null,null,null,null,null,null,null,null,null,null,null,null,null,null,null,null,"受付№"]
[]
[]
[null,"お客さま",null,null,null,null,"発注者名",null,null,null,null,"（フリガナ）",null,null,null,null,null,null,{"$f":"IF(入力用!E4=\"\",\"\",入力用!E4)","v":""},null,null,null,null,null,null,null,null,null,null,null,null,null,null,null,null,null,null,null,null,null,null,null,null,null,null,null,null,null,null,null,null,null,null,null,null,null,null,null,null,null,null,null,null,null,"電気工事会社",null,null,null,null," 会社名",null,null,null,null,null,{"$f":"IF(入力用!E12=\"\",\"\",入力用!E12)","v":""}]
[]
[null,null,null,null,null,null,null,null,null,null,null,{"$f":"IF(入力用!E5=\"\",\"\",入力用!E5)","v":""}]
[null,null,null,null,null,null,null,null,null,null,null,null,null,null,null,null,null,null,null,null,null,null,null,null,null,null,null,null,null,null,null,null,null,null,null,null,null,null,null,null,null,null,null,null,null,null,null,null,null,null,null,null,null,null,null,null,null,null,null,null,null,null,null,null,null,null,null,null,null,"(担当者)",null,null,null,null,null,{"$f":"IF(入力用!E13=\"\",\"\",入力用!E13)","v":""},null,null,null,null,null,null,null,null,null,null,null,null,null,null,"工事会社№（",null,null,null,null,null,null,null,null,null,{"$f":"IF(入力用!E14=\"\",\"\",入力用!E14)","v":""},null,null,"-",{"$f":"IF(入力用!G14=\"\",\"\",入力用!G14)","v":""},null,null,null,null,")"]
[]
[null,null,null,null,null,null,null,null,null,null,null,null,null,null,null,null,null,null,null,null,null,null,null,null,null,null,null,null,null,null,null,null,null,null,null,null,null,null,null,null,null,null,null,null,null,null,null,null,null,null,null,null,null,null,null,null,null,null,null,null,null,null,null,null,null,null,null,null,null," 住　所",null,null,null,null,null,{"$f":"LEFT(入力用!E15,24)","v":""}]
[null,null,null,null,null,null,null,null,null,null,null,"（代表者肩書）",null,null,null,null,null,null,null,null,{"$f":"IF(入力用!E6=\"\",\"\",入力用!E6)","v":""},null,null,null,null,null,null,null,null,null,null,null,null,null,null,null,null,null,null,"（代表者名）",null,null,null,null,null,null,null,{"$f":"IF(入力用!E7=\"\",\"\",入力用!E7)","v":""}]
[null,null,null,null,null,null,null,null,null,null,null,null,null,null,null,null,null,null,null,null,null,null,null,null,null,null,null,null,null,null,null,null,null,null,null,null,null,null,null,null,null,null,null,null,null,null,null,null,null,null,null,null,null,null,null,null,null,null,null,null,null,null,null,null,null,null,null,null,null,{"$f":"MID(入力用!E15,25,28)","v":""}]
[null,null,null,null,null,null,"発注者\n住　所",null,null,null,null,"(〒",null,{"$f":"LEFT(入力用!E8,3)","v":""},null,null,"-",{"$f":"RIGHT(入力用!E8,4)","v":""},null,null,null,")",null,{"$f":"LEFT(入力用!E9,25)","v":""}]
[null,null,null,null,null,null,null,null,null,null,null,null,null,null,null,null,null,null,null,null,null,null,null,null,null,null,null,null,null,null,null,null,null,null,null,null,null,null,null,null,null,null,null,null,null,null,null,null,null,null,null,null,null,null,null,null,null,null,null,null,null,null,null,null,null,null,null,null,null,{"$f":"MID(入力用!E15,53,12)","v":""},null,null,null,null,null,null,null,null,null,null,null,null,null,null,null,null,null,null,null,"電話(",null,null,null,{"$f":"IF(入力用!E16=\"\",\"\",入力用!E16)","v":""},null,null,null,null,"-",{"$f":"IF(入力用!G16=\"\",\"\",入力用!G16)","v":""},null,null,null,null,"-",{"$f":"IF(入力用!J16=\"\",\"\",入力用!J16)","v":""},null,null,null,null,")"]
[]
[null,null,null,null,null,null,null,null,null,null,null,{"$f":"MID(入力用!E9,26,33)","v":""},null,null,null,null,null,null,null,null,null,null,null,null,null,null,null,null,null,null,null,null,null,null,null,null,null,null,null,null,null,null,null,null,null,null,null,null,null,null,null,null,null,null,null,null,null,null,null,null,null,null,null,null,"建築会社",null,null,null,null," 会社名",null,null,null,null,null,{"$f":"IF(入力用!E17=\"\",\"\",入力用!E17)","v":""}]
[]
[]
[null,null,null,null,null,null,"電話番号",null,null,null,null,"固定",null,null,{"$f":"IF(入力用!E10=\"\",\"\",入力用!E10)","v":""},null,null,null,null,null,"-",{"$f":"IF(入力用!G10=\"\",\"\",入力用!G10)","v":""},null,null,null,null,null,null,"-",{"$f":"IF(入力用!J10=\"\",\"\",入力用!J10)","v":""},null,null,null,null,null,null,"携帯",null,null,{"$f":"IF(入力用!E11=\"\",\"\",入力用!E11)","v":""},null,null,null,null,null,null,"-",{"$f":"IF(入力用!G11=\"\",\"\",入力用!G11)","v":""},null,null,null,null,null,null,null,"-",{"$f":"IF(入力用!J11=\"\",\"\",入力用!J11)","v":""}]
[null,null,null,null,null,null,null,null,null,null,null,null,null,null,null,null,null,null,null,null,null,null,null,null,null,null,null,null,null,null,null,null,null,null,null,null,null,null,null,null,null,null,null,null,null,null,null,null,null,null,null,null,null,null,null,null,null,null,null,null,null,null,null,null,null,null,null,null,null,"(担当者)",null,null,null,null,null,{"$f":"IF(入力用!E18=\"\",\"\",入力用!E18)","v":""},null,null,null,null,null,null,null,null,null,null,null,null,null,"電話(",null,null,null,{"$f":"IF(入力用!E19=\"\",\"\",入力用!E19)","v":""},null,null,null,null,"-",{"$f":"IF(入力用!G19=\"\",\"\",入力用!G19)","v":""},null,null,null,null,"-",{"$f":"IF(入力用!J19=\"\",\"\",入力用!J19)","v":""},null,null,null,null,")"]
[]
[null,"建物情報",null,null,null,null,"建物\n住所",null,null,null,null,"(〒",null,{"$f":"LEFT(入力用!E20,3)","v":""},null,null,"-",{"$f":"RIGHT(入力用!E20,4)","v":""},null,null,null,")",null,{"$f":"LEFT(入力用!E21,17)","v":""},null,null,null,null,null,null,null,null,null,null,null,null,null,null,null,null,null,null,null,null,null,null,null,null,null,null,null,"受　 電\n希望日",null,null,null,null,null,null,null,null,null,null,null,null,null,null,null,null,null,null,null,null,null,null,null,null,null,null,null,null,null,"ご契約\n開始日\n(送電日)",null,null,null,null,null,null,null,null,null,null,"年",null,null,null,null,null,null,null,"月",null,null,null,null,null,null,null,"日"]
[]
[]
[null,null,null,null,null,null,null,null,null,null,null,{"$f":"MID(入力用!E21,18,25)","v":""},null,null,null,null,null,null,null,null,null,null,null,null,null,null,null,null,null,null,null,null,null,null,null,null,null,null,null,null,null,null,null,null,null,null,null,null,null,null,null,null,null,null,null,null,{"$f":"IF(入力用!E23=\"\",\"\",入力用!E23)","v":""},null,null,null,null,null,null,null,null,{"$f":"IF(入力用!G23=\"\",\"\",入力用!G23)","v":""},null,null,null,null,null,null,null,{"$f":"IF(入力用!J23=\"\",\"\",入力用!J23)","v":""}]
[null,null,null,null,null,null,null,null,null,null,null,null,null,null,null,null,null,null,null,null,null,null,null,null,null,null,null,null,null,null,null,null,null,null,null,null,null,null,null,null,null,null,null,null,null,null,null,null,null,null,null,null,null,null,null,null,null,null,null,null,null,null,"年",null,null,null,null,null,null,null,"月",null,null,null,null,null,null,null,"日"]
[]
[null,null,null,null,null,null,"建物名",null,null,null,null,{"$f":"IF(入力用!E22=\"\",\"\",入力用!E22)","v":""},null,null,null,null,null,null,null,null,null,null,null,null,null,null,null,null,null,null,null,null,null,null,null,null,null,null,null,null,null,null,null,null,null,null,null,null,null,null,null,"ﾌﾘｰｴﾘｱ\n計器払出希\n望事業所名",null,null,null,null,null,{"$f":"IF(入力用!E24=\"\",\"\",入力用!E24)","v":""},null,null,null,null,null,null,null,null,null,null,null,null,null,null,"本契約前\nの臨時契\n約の有無",null,null,null,null,{"$f":"IF(入力用!Q25=2,入力用!Q6,IF(入力用!Q25=3,入力用!Q7,\"\"))","v":""},null,null,null,null,null,null,null,null,null,null,null,null,null,null,null,null,null,null,null,null,"臨時受付№(",null,null,null,null,null,null,null,null,null,null,null,")"]
[]
[]
[]
[null,"共用部\n分お支\n払方法",null,null,null,null,{"$f":"IF(入力用!Q26=2,入力用!R6,IF(入力用!Q26=3,入力用!R7,IF(入力用!Q26=4,入力用!R8,\"\")))","v":""},null,null,null,null,null,null,"支　払\n者　名",null,null,null,null,{"$f":"DBCS(MID(ASC(入力用!E27),1,1))","v":""},{"$f":"DBCS(MID(ASC(入力用!E27),2,1))","v":""},{"$f":"DBCS(MID(ASC(入力用!E27),3,1))","v":""},{"$f":"DBCS(MID(ASC(入力用!E27),4,1))","v":""},{"$f":"DBCS(MID(ASC(入力用!E27),5,1))","v":""},{"$f":"DBCS(MID(ASC(入力用!E27),6,1))","v":""},{"$f":"DBCS(MID(ASC(入力用!E27),7,1))","v":""},{"$f":"DBCS(MID(ASC(入力用!E27),8,1))","v":""},{"$f":"DBCS(MID(ASC(入力用!E27),9,1))","v":""},{"$f":"DBCS(MID(ASC(入力用!E27),10,1))","v":""},{"$f":"DBCS(MID(ASC(入力用!E27),11,1))","v":""},{"$f":"DBCS(MID(ASC(入力用!E27),12,1))","v":""},{"$f":"DBCS(MID(ASC(入力用!E27),13,1))","v":""},{"$f":"DBCS(MID(ASC(入力用!E27),14,1))","v":""},{"$f":"DBCS(MID(ASC(入力用!E27),15,1))","v":""},{"$f":"DBCS(MID(ASC(入力用!E27),16,1))","v":""},{"$f":"DBCS(MID(ASC(入力用!E27),17,1))","v":""},{"$f":"DBCS(MID(ASC(入力用!E27),18,1))","v":""},{"$f":"DBCS(MID(ASC(入力用!E27),19,1))","v":""},{"$f":"DBCS(MID(ASC(入力用!E27),20,1))","v":""},"請求書\n送付先",null,null,null,null,"(〒",null,{"$f":"LEFT(入力用!E29,3)","v":""},null,null,"-",{"$f":"RIGHT(入力用!E29,4)","v":""},null,null,null,")",null,{"$f":"IF(入力用!E30=\"同上\",\"\",LEFT(入力用!E30,9))","v":""},null,null,null,null,null,null,null,null,null,"供給地点特定番号",null,null,null,null,null,null,"発行\n回数",null,null,"支店",null,"ﾌﾞﾛｯｸ",null,null,"住所",null,null,null,null,"街区",null,null,"契約№",null,null,null,null,"枝番",null,null,"種別",null,null,"種別",null,null,"種別",null,null,"種別"]
[]
[null,null,null,null,null,null,null,null,null,null,null,null,null,null,null,null,null,null,{"$f":"DBCS(MID(ASC(入力用!E27),21,1))","v":""},{"$f":"DBCS(MID(ASC(入力用!E27),22,1))","v":""},{"$f":"DBCS(MID(ASC(入力用!E27),23,1))","v":""},{"$f":"DBCS(MID(ASC(入力用!E27),24,1))","v":""},{"$f":"DBCS(MID(ASC(入力用!E27),25,1))","v":""},{"$f":"DBCS(MID(ASC(入力用!E27),26,1))","v":""},{"$f":"DBCS(MID(ASC(入力用!E27),27,1))","v":""},{"$f":"DBCS(MID(ASC(入力用!E27),28,1))","v":""},{"$f":"DBCS(MID(ASC(入力用!E27),29,1))","v":""},{"$f":"DBCS(MID(ASC(入力用!E27),30,1))","v":""},{"$f":"DBCS(MID(ASC(入力用!E27),31,1))","v":""},{"$f":"DBCS(MID(ASC(入力用!E27),32,1))","v":""},{"$f":"DBCS(MID(ASC(入力用!E27),33,1))","v":""},{"$f":"DBCS(MID(ASC(入力用!E27),34,1))","v":""},{"$f":"DBCS(MID(ASC(入力用!E27),35,1))","v":""},{"$f":"DBCS(MID(ASC(入力用!E27),36,1))","v":""},{"$f":"DBCS(MID(ASC(入力用!E27),37,1))","v":""},{"$f":"DBCS(MID(ASC(入力用!E27),38,1))","v":""},{"$f":"DBCS(MID(ASC(入力用!E27),39,1))","v":""},{"$f":"DBCS(MID(ASC(入力用!E27),40,1))","v":""},null,null,null,null,null,{"$f":"IF(入力用!E30=\"同上\",入力用!E30,MID(入力用!E30,10,17))","v":""}]
[null,null,null,null,null,null,null,null,null,null,null,null,null,null,null,null,null,null,null,null,null,null,null,null,null,null,null,null,null,null,null,null,null,null,null,null,null,null,null,null,null,null,null,null,null,null,null,null,null,null,null,null,null,null,null,null,null,null,null,null,null,null,null,null,null,null,null,null,"010",null,null,null,null,null,null,null,null,null,null,null,null,null,null,null,null,null,null,null,null,null,null,null,null,null,null,null,{"$f":"IF(入力用!Q32=2,\"01\",IF(入力用!Q32=3,\"11\",IF(入力用!Q32=4,\"21\",IF(入力用!Q32=5,\"31\",\"\"))))","v":""},null,null,{"$f":"IF(入力用!Q82>1,\"51\",\"\")","v":""},null,null,{"$f":"IF(入力用!Q110=2,\"91\",IF(入力用!Q110=3,\"92\",IF(入力用!Q110=4,\"94\",IF(入力用!Q110=5,\"93\",IF(OR(入力用!Q110=6,入力用!Q110=8),\"96\",IF(OR(入力用!Q110=7,入力用!Q110>8),\"97\",\"\"))))))","v":""},null,null,{"$f":"IF(入力用!Q160=2,\"91\",IF(入力用!Q160=3,\"92\",IF(入力用!Q160=4,\"94\",IF(入力用!Q160=5,\"93\",IF(OR(入力用!Q160=6,入力用!Q160=8),\"96\",IF(OR(入力用!Q160=7,入力用!Q160>8),\"97\",\"\"))))))","v":""},null,null,"00"]
[null,null,null,null,null,null,null,null,null,null,null,null,null,null,null,null,null,null,{"$f":"IF(入力用!E28=\"\",\"\",入力用!E28)","v":""}]
[null,null,null,null,null,null,null,null,null,null,null,null,null,null,null,null,null,null,null,null,null,null,null,null,null,null,null,null,null,null,null,null,null,null,null,null,null,null,null,null,null,null,null,"電話(",null,null,null,{"$f":"IF(入力用!E31=\"\",\"\",入力用!E31)","v":""},null,null,null,null,"-",{"$f":"IF(入力用!G31=\"\",\"\",入力用!G31)","v":""},null,null,null,null,"-",{"$f":"IF(入力用!J31=\"\",\"\",入力用!J31)","v":""},null,null,null,null,")"]
[]
[null,"電灯需要",null,null,null,null,"契約種別",null,null,null,null,{"$f":"IF(入力用!Q32=2,入力用!S6,IF(入力用!Q32=3,入力用!S7,IF(入力用!Q32=4,入力用!S8,IF(入力用!Q32=5,入力用!S9,\"\"))))","v":""},null,null,null,null,null,null,null,null,null,null,"定額電灯の場合",null,null,null,"契　約　負　荷　設　備　内　訳",null,null,null,null,null,null,null,null,null,null,null,null,null,null,null,null,null,null,null,null,null,null,null,null,null,null,null,null,null,null,null,null,null,null,null,null,null,null,null,"従量電灯の場合",null,null,null,"契約\n決定\n方法",null,null,null,null,{"$f":"IF(入力用!Q69=2,入力用!W6,IF(入力用!Q69=3,入力用!W7,IF(入力用!Q69=4,入力用!W8,IF(入力用!Q69=5,入力用!W9,IF(入力用!Q69=6,入力用!W10,\"\")))))","v":""},null,null,null,null,null,null,null,null,null,null,null,null,"主開閉器・\n電流制限器\nの定格電流",null,null,null,null,null,{"$f":"IF(入力用!E70=\"\",\"\",入力用!E70)","v":""}]
[]
[null,null,null,null,null,null,null,null,null,null,null,null,null,null,null,null,null,null,null,null,null,null,null,null,null,null,"機　　器　　種　　別",null,null,null,null,null,null,null,null,null,null,null,null,null,null,null,null,"出　力",null,null,null,null,null,"力　率",null,null,null,null,null,"入　力",null,null,null,null,null,"灯個数"]
[null,null,null,null,null,null,null,null,null,null,null,null,null,null,null,null,null,null,null,null,null,null,null,null,null,null,null,null,null,null,null,null,null,null,null,null,null,null,null,null,null,null,null,null,null,null,null,null,null,null,null,null,null,null,null,null,null,null,null,null,null,null,null,null,null,null,null,null,null,null,null,null,null,null,null,null,null,null,null,null,null,null,null,null,null,null,null,null,null,null,null,null,null,null,null,null,null,null,null,null,null,null,null,null,null,null,null,null,null,"Ａ"]
[null,null,null,null,null,null,null,null,null,null,null,null,null,null,null,null,null,null,null,null,null,null,null,null,null,null,{"$f":"IF(入力用!Q34=2,入力用!U6,IF(入力用!Q34=3,入力用!U7,IF(入力用!Q34=4,入力用!U8,IF(入力用!Q34=5,入力用!U9,IF(入力用!Q34=6,入力用!M34,\"\")))))","v":""},null,null,null,null,null,null,null,null,null,null,null,null,null,null,null,null,{"$f":"IF(入力用!E35=\"\",\"\",入力用!E35)","v":""},null,null,null,"W",null,{"$f":"IF(入力用!Q36=2,入力用!V6,IF(入力用!Q36=3,入力用!V7,\"\"))","v":""},null,null,null,null,null,{"$f":"IF(入力用!E37=\"\",\"\",入力用!E37)","v":""},null,null,null,"VA",null,{"$f":"IF(入力用!E38=\"\",\"\",入力用!E38)","v":""},null,null,"灯"]
[]
[null,null,null,null,null,null,null,null,null,null,null,null,null,null,null,null,null,null,null,null,null,null,null,null,null,null,null,null,null,null,null,null,null,null,null,null,null,null,null,null,null,null,null,null,null,null,null,null,null,null,null,null,null,null,null,null,null,null,null,null,null,null,null,null,null,null,null,null,null,null,null,null,null,null,null,null,null,null,null,null,null,null,null,null,null,null,null,null,"適用業種別\n回路数内訳",null,null,null,null,null,{"$f":"入力用!R73","v":""},null,null,null,null,null,null,null,null,null,{"$f":"IF(入力用!H72=\"\",\"\",入力用!H72)","v":""},null,null,"回路"]
[null,null,null,null,null,null,null,null,null,null,null,null,null,null,null,null,null,null,null,null,null,null,null,null,null,null,{"$f":"IF(入力用!Q39=2,入力用!U6,IF(入力用!Q39=3,入力用!U7,IF(入力用!Q39=4,入力用!U8,IF(入力用!Q39=5,入力用!U9,IF(入力用!Q39=6,入力用!M39,\"\")))))","v":""},null,null,null,null,null,null,null,null,null,null,null,null,null,null,null,null,{"$f":"IF(入力用!E40=\"\",\"\",入力用!E40)","v":""},null,null,null,"W",null,{"$f":"IF(入力用!Q41=2,入力用!V6,IF(入力用!Q41=3,入力用!V7,\"\"))","v":""},null,null,null,null,null,{"$f":"IF(入力用!E42=\"\",\"\",入力用!E42)","v":""},null,null,null,"VA",null,{"$f":"IF(入力用!E43=\"\",\"\",入力用!E43)","v":""},null,null,"灯"]
[null,null,null,null,null,null,null,null,null,null,null,null,null,null,null,null,null,null,null,null,null,null,null,null,null,null,null,null,null,null,null,null,null,null,null,null,null,null,null,null,null,null,null,null,null,null,null,null,null,null,null,null,null,null,null,null,null,null,null,null,null,null,null,null,null,null,null,null,null,null,null,null,null,null,null,null,null,null,null,null,null,null,null,null,null,null,null,null,null,null,null,null,null,null,{"$f":"入力用!R75","v":""},null,null,null,null,null,null,null,null,null,{"$f":"IF(入力用!H74=\"\",\"\",入力用!H74)","v":""},null,null,"回路"]
[]
[null,null,null,null,null,null,null,null,null,null,null,null,null,null,null,null,null,null,null,null,null,null,null,null,null,null,{"$f":"IF(入力用!Q44=2,入力用!U6,IF(入力用!Q44=3,入力用!U7,IF(入力用!Q44=4,入力用!U8,IF(入力用!Q44=5,入力用!U9,IF(入力用!Q44=6,入力用!M44,\"\")))))","v":""},null,null,null,null,null,null,null,null,null,null,null,null,null,null,null,null,{"$f":"IF(入力用!E45=\"\",\"\",入力用!E45)","v":""},null,null,null,"W",null,{"$f":"IF(入力用!Q46=2,入力用!V6,IF(入力用!Q46=3,入力用!V7,\"\"))","v":""},null,null,null,null,null,{"$f":"IF(入力用!E47=\"\",\"\",入力用!E47)","v":""},null,null,null,"VA",null,{"$f":"IF(入力用!E48=\"\",\"\",入力用!E48)","v":""},null,null,"灯",null,null,null,null,null,null,null,null,null,null,null,null,null,null,null,null,null,null,null,null,null,null,null,null,null,null,null,null,null,{"$f":"入力用!R77","v":""},null,null,null,null,null,null,null,null,null,{"$f":"IF(入力用!H76=\"\",\"\",入力用!H76)","v":""},null,null,"回路"]
[]
[null,null,null,null,null,null,"供給電気\n方 式 ・\n供給電圧",null,null,null,null,{"$f":"IF(入力用!Q33=2,入力用!T6,IF(入力用!Q33=3,入力用!T7,IF(入力用!Q33=4,\"単相3線式\n100V・200V\",IF(入力用!Q33=5,入力用!T9,\"\"))))","v":""},null,null,null,null,null,null,null,null,null,null,null,null,null,null,null,null,null,null,null,null,null,null,null,null,null,null,null,null,null,null,null,null,null,null,null,null,null,null,null,null,null,null,null,null,null,null,null,null,null,null,null,null,null,null,null,null,null,null,"契　約　負　荷　設　備　内　訳"]
[null,null,null,null,null,null,null,null,null,null,null,null,null,null,null,null,null,null,null,null,null,null,null,null,null,null,{"$f":"IF(入力用!Q49=2,入力用!U6,IF(入力用!Q49=3,入力用!U7,IF(入力用!Q49=4,入力用!U8,IF(入力用!Q49=5,入力用!U9,IF(入力用!Q49=6,入力用!M49,\"\")))))","v":""},null,null,null,null,null,null,null,null,null,null,null,null,null,null,null,null,{"$f":"IF(入力用!E50=\"\",\"\",入力用!E50)","v":""},null,null,null,"W",null,{"$f":"IF(入力用!Q51=2,入力用!V6,IF(入力用!Q51=3,入力用!V7,\"\"))","v":""},null,null,null,null,null,{"$f":"IF(入力用!E52=\"\",\"\",入力用!E52)","v":""},null,null,null,"VA",null,{"$f":"IF(入力用!E53=\"\",\"\",入力用!E53)","v":""},null,null,"灯"]
[null,null,null,null,null,null,null,null,null,null,null,null,null,null,null,null,null,null,null,null,null,null,null,null,null,null,null,null,null,null,null,null,null,null,null,null,null,null,null,null,null,null,null,null,null,null,null,null,null,null,null,null,null,null,null,null,null,null,null,null,null,null,null,null,null,null,null,null,null,null,"電灯",null,null,null,null,{"$f":"IF(入力用!E77=\"\",\"\",入力用!E77)","v":""},null,null,null,"灯",null,{"$f":"IF(入力用!E78=\"\",\"\",入力用!E78)","v":""},null,null,null,null,null,null,"VA",null,null,"小型\n機器",null,null,null,null,{"$f":"IF(入力用!E79=\"\",\"\",入力用!E79)","v":""},null,null,null,"個",null,{"$f":"IF(入力用!E80=\"\",\"\",入力用!E80)","v":""},null,null,null,null,null,"VA"]
[]
[null,null,null,null,null,null,null,null,null,null,null,null,null,null,null,null,null,null,null,null,null,null,null,null,null,null,{"$f":"IF(入力用!E54=\"\",\"\",入力用!E54)","v":""},null,null,null,null,null,null,null,null,null,null,null,null,null,null,null,null,{"$f":"IF(入力用!E55=\"\",\"\",入力用!E55)","v":""},null,null,null,"W",null,{"$f":"IF(入力用!Q56=2,入力用!V6,IF(入力用!Q56=3,入力用!V7,\"\"))","v":""},null,null,null,null,null,{"$f":"IF(入力用!E57=\"\",\"\",入力用!E57)","v":""},null,null,null,"VA",null,{"$f":"IF(入力用!E58=\"\",\"\",入力用!E58)","v":""},null,null,"個"]
[]
[]
[null,null,null,null,null,null,null,null,null,null,null,null,null,null,null,null,null,null,null,null,null,null,null,null,null,null,{"$f":"IF(入力用!E59=\"\",\"\",入力用!E59)","v":""},null,null,null,null,null,null,null,null,null,null,null,null,null,null,null,null,{"$f":"IF(入力用!E60=\"\",\"\",入力用!E60)","v":""},null,null,null,"W",null,{"$f":"IF(入力用!Q61=2,入力用!V6,IF(入力用!Q61=3,入力用!V7,\"\"))","v":""},null,null,null,null,null,{"$f":"IF(入力用!E62=\"\",\"\",入力用!E62)","v":""},null,null,null,"VA",null,{"$f":"IF(入力用!E63=\"\",\"\",入力用!E63)","v":""},null,null,"個",null,null,null,null,null,"回路数",null,null,null,null,{"$f":"IF(入力用!E81=\"\",\"\",入力用!E81)","v":""},null,null,null,null,"合　計　容　量",null,null,null,null,null,null,null,null,null,null,null,null,{"$f":"IF(OR(入力用!Q32=3,入力用!Q32=4),\"契約電流\",IF(入力用!Q32=5,\"契約容量\",\"契約電流\n契約容量\"))","v":"契約電流\n契約容量"},null,null,null,null,null,{"$f":"IF(入力用!Q70=1,\"\",IF(入力用!S81=0,\"\",入力用!S81))","v":""},null,null,null,null,null,null,null,{"$f":"IF(OR(入力用!Q32=3,入力用!Q32=4),\"A\",IF(入力用!Q32=5,\"kVA\",\"A\nkVA\"))","v":"A\nkVA"}]
[]
[null,null,null,null,null,null,null,null,null,null,null,null,null,null,null,null,null,null,null,null,null,null,null,null,null,null,null,null,null,null,null,null,null,null,null,null,null,null,null,null,null,null,null,null,null,null,null,null,null,null,null,null,null,null,null,null,null,null,null,null,null,null,null,null,null,null,null,null,null,null,null,null,null,null,null,null,null,null,null,null,{"$f":"IF(OR(入力用!Q69<4,入力用!Q69=6,入力用!Q70=1,入力用!S82=0),\"\",入力用!S82)","v":""},null,null,null,null,null,null,null,null,"ＶＡ"]
[null,null,null,null,null,null,null,null,null,null,null,null,null,null,null,null,null,null,null,null,null,null,null,null,null,null,{"$f":"IF(入力用!E64=\"\",\"\",入力用!E64)","v":""},null,null,null,null,null,null,null,null,null,null,null,null,null,null,null,null,{"$f":"IF(入力用!E65=\"\",\"\",入力用!E65)","v":""},null,null,null,"W",null,{"$f":"IF(入力用!Q66=2,入力用!V6,IF(入力用!Q66=3,入力用!V7,\"\"))","v":""},null,null,null,null,null,{"$f":"IF(入力用!E67=\"\",\"\",入力用!E67)","v":""},null,null,null,"VA",null,{"$f":"IF(入力用!E68=\"\",\"\",入力用!E68)","v":""},null,null,"個"]
[]
[]
[null,"電力需要",null,null,null,null,"契約種別",null,null,null,null,{"$f":"IF(入力用!Q82>1,\"低圧電力\",\"\")","v":""},null,null,null,null,null,null,null,null,null,null,"契　約　負　荷　設　備　内　訳"]
[null,null,null,null,null,null,null,null,null,null,null,null,null,null,null,null,null,null,null,null,null,null,null,null,null,null,null,null,null,null,null,null,null,null,null,null,null,null,null,null,null,null,null,null,null,null,null,null,null,null,null,null,null,null,null,null,null,null,null,null,null,null,null,null,null,null,null,null,null,null,null,null,null,null,null,null,null,null,null,null,null,null,null,null,null,null,null,null,null,null,null,null,null,"入力合計",null,null,null,null,null,{"$f":"IF(入力用!U104=0,\"\",入力用!U104)","v":""},null,null,null,null,null,null,null,"ｋＷ"]
[null,null,null,null,null,null,"供給電気\n方 式 ・\n供給電圧",null,null,null,null,{"$f":"IF(入力用!Q82=2,入力用!T6,IF(入力用!Q82=3,入力用!T7,IF(入力用!Q82=4,\"単相3線式\n100V・200V\",IF(入力用!Q82=5,入力用!T9,\"\"))))","v":""},null,null,null,null,null,null,null,null,null,null,"機　　　　　　器　　　　　　種　　　　　　別",null,null,null,null,null,null,null,null,null,null,null,null,null,null,null,null,null,null,null,null,null,null,null,null,null,null,null,null,null,"出　力",null,null,null,null,null,null,null,null,null,null,null,"入　力",null,null,null,null,null,null,null,null,null,null,null,"力　率",null,null,null,null,null,null,null,"台　数"]
[]
[null,null,null,null,null,null,null,null,null,null,null,null,null,null,null,null,null,null,null,null,null,null,{"$f":"IF(入力用!E85=\"\",\"\",入力用!E85)","v":""},null,null,null,null,null,null,null,null,null,null,null,null,null,null,null,null,null,null,null,null,null,null,null,null,null,null,null,null,null,{"$f":"IF(入力用!E86=\"\",\"\",入力用!E86)","v":""},null,null,null,null,null,null,null,null,{"$f":"IF(入力用!Q86=2,入力用!Z6,IF(入力用!Q86=3,入力用!Y7,\"㏋\nkW\"))","v":"㏋\nkW"},null,null,{"$f":"IF(入力用!E87=\"\",\"\",入力用!E87)","v":""},null,null,null,null,null,null,null,null,"kW",null,null,{"$f":"IF(入力用!Q88=2,入力用!AA6,IF(入力用!Q88=3,入力用!AA7,IF(入力用!Q88=4,入力用!AA8,IF(入力用!Q88=5,入力用!AA9,\"\"))))","v":""},null,null,null,null,null,null,null,{"$f":"IF(入力用!E89=\"\",\"\",入力用!E89)","v":""},null,null,null,null,null,"台"]
[null,null,null,null,null,null,null,null,null,null,null,null,null,null,null,null,null,null,null,null,null,null,null,null,null,null,null,null,null,null,null,null,null,null,null,null,null,null,null,null,null,null,null,null,null,null,null,null,null,null,null,null,null,null,null,null,null,null,null,null,null,null,null,null,null,null,null,null,null,null,null,null,null,null,null,null,null,null,null,null,null,null,null,null,null,null,null,null,null,null,null,null,null,"合計台数",null,null,null,null,null,{"$f":"IF(SUM(CG81:CL95)=0,\"\",SUM(CG81:CL95))","v":""},null,null,null,null,null,null,null,"台"]
[]
[null,null,null,null,null,null,null,null,null,null,null,null,null,null,null,null,null,null,null,null,null,null,{"$f":"IF(入力用!E90=\"\",\"\",入力用!E90)","v":""},null,null,null,null,null,null,null,null,null,null,null,null,null,null,null,null,null,null,null,null,null,null,null,null,null,null,null,null,null,{"$f":"IF(入力用!E91=\"\",\"\",入力用!E91)","v":""},null,null,null,null,null,null,null,null,{"$f":"IF(入力用!Q91=2,入力用!Z6,IF(入力用!Q91=3,入力用!Y7,\"㏋\nkW\"))","v":"㏋\nkW"},null,null,{"$f":"IF(入力用!E92=\"\",\"\",入力用!E92)","v":""},null,null,null,null,null,null,null,null,"kW",null,null,{"$f":"IF(入力用!Q93=2,入力用!AA6,IF(入力用!Q93=3,入力用!AA7,IF(入力用!Q93=4,入力用!AA8,IF(入力用!Q93=5,入力用!AA9,\"\"))))","v":""},null,null,null,null,null,null,null,{"$f":"IF(入力用!E94=\"\",\"\",入力用!E94)","v":""},null,null,null,null,null,"台"]
[null,null,null,null,null,null,"契約決定\n方　　法",null,null,null,null,{"$f":"IF(入力用!Q83=2,入力用!Y6,IF(入力用!Q83=3,入力用!Y7,\"\"))","v":""}]
[null,null,null,null,null,null,null,null,null,null,null,null,null,null,null,null,null,null,null,null,null,null,null,null,null,null,null,null,null,null,null,null,null,null,null,null,null,null,null,null,null,null,null,null,null,null,null,null,null,null,null,null,null,null,null,null,null,null,null,null,null,null,null,null,null,null,null,null,null,null,null,null,null,null,null,null,null,null,null,null,null,null,null,null,null,null,null,null,null,null,null,null,null,"力　　率",null,null,null,null,null,"85％",null,null,null,null,null,{"$f":"IF(入力用!Q83=2,\"超過\",IF(入力用!U88=\"\",\"超過\n未満\",IF(入力用!U88>0.85,\"超過\",IF(入力用!U88<0.85,\"未満\",\"\"))))","v":"超過\n未満"}]
[null,null,null,null,null,null,null,null,null,null,null,null,null,null,null,null,null,null,null,null,null,null,{"$f":"IF(入力用!E95=\"\",\"\",入力用!E95)","v":""},null,null,null,null,null,null,null,null,null,null,null,null,null,null,null,null,null,null,null,null,null,null,null,null,null,null,null,null,null,{"$f":"IF(入力用!E96=\"\",\"\",入力用!E96)","v":""},null,null,null,null,null,null,null,null,{"$f":"IF(入力用!Q96=2,入力用!Z6,IF(入力用!Q96=3,入力用!Y7,\"㏋\nkW\"))","v":"㏋\nkW"},null,null,{"$f":"IF(入力用!E97=\"\",\"\",入力用!E97)","v":""},null,null,null,null,null,null,null,null,"kW",null,null,{"$f":"IF(入力用!Q98=2,入力用!AA6,IF(入力用!Q98=3,入力用!AA7,IF(入力用!Q98=4,入力用!AA8,IF(入力用!Q98=5,入力用!AA9,\"\"))))","v":""},null,null,null,null,null,null,null,{"$f":"IF(入力用!E99=\"\",\"\",入力用!E99)","v":""},null,null,null,null,null,"台"]
[]
[]
[null,null,null,null,null,null,null,null,null,null,null,null,null,null,null,null,null,null,null,null,null,null,{"$f":"IF(入力用!E100=\"\",\"\",入力用!E100)","v":""},null,null,null,null,null,null,null,null,null,null,null,null,null,null,null,null,null,null,null,null,null,null,null,null,null,null,null,null,null,{"$f":"IF(入力用!E101=\"\",\"\",入力用!E101)","v":""},null,null,null,null,null,null,null,null,{"$f":"IF(入力用!Q101=2,入力用!Z6,IF(入力用!Q101=3,入力用!Y7,\"㏋\nkW\"))","v":"㏋\nkW"},null,null,{"$f":"IF(入力用!E102=\"\",\"\",入力用!E102)","v":""},null,null,null,null,null,null,null,null,"kW",null,null,{"$f":"IF(入力用!Q103=2,入力用!AA6,IF(入力用!Q103=3,入力用!AA7,IF(入力用!Q103=4,入力用!AA8,IF(入力用!Q103=5,入力用!AA9,\"\"))))","v":""},null,null,null,null,null,null,null,{"$f":"IF(入力用!E104=\"\",\"\",入力用!E104)","v":""},null,null,null,null,null,"台"]
[null,null,null,null,null,null,"主開閉\n器の定\n格電流",null,null,null,null,{"$f":"IF(入力用!E84=\"\",\"\",入力用!E84)","v":""},null,null,null,null,null,null,null,null,"Ａ",null,null,null,null,null,null,null,null,null,null,null,null,null,null,null,null,null,null,null,null,null,null,null,null,null,null,null,null,null,null,null,null,null,null,null,null,null,null,null,null,null,null,null,null,null,null,null,null,null,null,null,null,null,null,null,null,null,null,null,null,null,null,null,null,null,null,null,null,null,null,null,null,"契約電力",null,null,null,null,null,{"$f":"IF(入力用!U102=0,\"\",入力用!U102)","v":""},null,null,null,null,null,null,null,"ｋＷ"]
[]
[null,null,null,null,null,null,null,null,null,null,null,null,null,null,null,null,null,null,null,null,null,null,{"$f":"IF(入力用!E105=\"\",\"\",入力用!E105)","v":""},null,null,null,null,null,null,null,null,null,null,null,null,null,null,null,null,null,null,null,null,null,null,null,null,null,null,null,null,null,{"$f":"IF(入力用!E106=\"\",\"\",入力用!E106)","v":""},null,null,null,null,null,null,null,null,{"$f":"IF(入力用!Q106=2,入力用!Z6,IF(入力用!Q106=3,入力用!Y7,\"㏋\nkW\"))","v":"㏋\nkW"},null,null,{"$f":"IF(入力用!E107=\"\",\"\",入力用!E107)","v":""},null,null,null,null,null,null,null,null,"kW",null,null,{"$f":"IF(入力用!Q108=2,入力用!AA6,IF(入力用!Q108=3,入力用!AA7,IF(入力用!Q108=4,入力用!AA8,IF(入力用!Q108=5,入力用!AA9,\"\"))))","v":""},null,null,null,null,null,null,null,{"$f":"IF(入力用!E109=\"\",\"\",入力用!E109)","v":""},null,null,null,null,null,"台"]
[]
[]
[null,"選択約款①",null,null,null,null,"契約種別",null,null,null,null,{"$f":"入力用!R113","v":""},null,null,null,null,null,null,null,null,null,"供給電気\n方 式 ・\n供給電圧",null,null,null,null,{"$f":"IF(入力用!Q111=2,\"単相2線式\n　　100V\",IF(入力用!Q111=3,\"単相2線式\n　　200V\",IF(入力用!Q111=4,\"単相\n　　3線式\n100V\n　　･200V\",IF(入力用!Q111=5,\"3相3線式\n200V\",\"\"))))","v":""},null,null,null,null,null,"契　約　負　荷　設　備　内　訳",null,null,null,null,null,null,null,null,null,null,null,null,null,null,null,null,null,null,null,null,null,null,null,null,null,null,null,null,null,null,null,null,null,null,null,null,null,"通電制御・\n検知制御",null,null,null,null,"検知制御装置"]
[null,null,null,null,null,null,null,null,null,null,null,null,null,null,null,null,null,null,null,null,null,null,null,null,null,null,null,null,null,null,null,null,null,null,null,null,null,null,null,null,null,null,null,null,null,null,null,null,null,null,null,null,null,null,null,null,null,null,null,null,null,null,null,null,null,null,null,null,null,null,null,null,null,null,null,null,null,null,null,null,null,null,null,null,null,null,null,null,null,null,null,null,null,"入力合計",null,null,null,null,null,{"$f":"IF(入力用!U135+入力用!U136=0,\"\",入力用!U135+入力用!U136)","v":""},null,null,null,null,null,null,null,"ｋＷ"]
[null,null,null,null,null,null,null,null,null,null,null,null,null,null,null,null,null,null,null,null,null,null,null,null,null,null,null,null,null,null,null,null,"機器種別",null,null,null,null,"ﾒｰｶｰ",null,null,null,"型　　式",null,null,null,null,null,null,null,"出　力",null,null,null,null,null,"入　力",null,null,null,null,null,"力　率",null,null,null,null,"台数",null,null,null,null,null,null,null,null,"メーカー",null,null,null,"型　式",null,null,null,null,null,null,null,null,"種　類"]
[]
[null,null,null,null,null,null,null,null,null,null,null,null,null,null,null,null,null,null,null,null,null,null,null,null,null,null,null,null,null,null,null,null,{"$f":"IF(入力用!E120=\"\",\"\",入力用!E120)","v":""},null,null,null,null,{"$f":"IF(入力用!E121=\"\",\"\",入力用!E121)","v":""},null,null,null,{"$f":"IF(入力用!E122=\"\",\"\",入力用!E122)","v":""},null,null,null,null,null,null,null,{"$f":"IF(入力用!E123=\"\",\"\",入力用!E123)","v":""},null,null,null,{"$f":"IF(入力用!Q123=2,入力用!Z6,IF(入力用!Q123=3,入力用!Z7,\"㏋\n㎾\"))","v":"㏋\n㎾"},null,{"$f":"IF(入力用!E124=\"\",\"\",入力用!E124)","v":""},null,null,null,"kW",null,{"$f":"IF(入力用!Q125=2,入力用!AA6,IF(入力用!Q125=3,入力用!AA7,IF(入力用!Q125=4,入力用!AA8,IF(入力用!Q125=5,入力用!AA9,\"\"))))","v":""},null,null,null,null,{"$f":"IF(入力用!E126=\"\",\"\",入力用!E126)","v":""},null,"\n台",null,{"$f":"IF(入力用!Q127=2,入力用!AC6,IF(入力用!Q127=3,入力用!AC7,\"\"))","v":""},null,null,null,null,{"$f":"IF(入力用!E114=\"\",\"\",入力用!E114)","v":""},null,null,null,{"$f":"IF(入力用!E115=\"\",\"\",入力用!E115)","v":""},null,null,null,null,null,null,null,null,{"$f":"IF(入力用!Q116=2,入力用!AD6,IF(入力用!Q116=3,入力用!AD7,IF(入力用!Q116=4,入力用!AD8,\"\")))","v":""},null,null,null,null,"合計台数",null,null,null,null,null,{"$f":"IF(SUM(BO100:BP114)=0,\"\",SUM(BO100:BP114))","v":""},null,null,null,null,null,null,null,"台"]
[]
[]
[null,null,null,null,null,null,null,null,null,null,null,null,null,null,null,null,null,null,null,null,null,null,null,null,null,null,null,null,null,null,null,null,{"$f":"IF(入力用!E128=\"\",\"\",入力用!E128)","v":""},null,null,null,null,{"$f":"IF(入力用!E129=\"\",\"\",入力用!E129)","v":""},null,null,null,{"$f":"IF(入力用!E130=\"\",\"\",入力用!E130)","v":""},null,null,null,null,null,null,null,{"$f":"IF(入力用!E131=\"\",\"\",入力用!E131)","v":""},null,null,null,{"$f":"IF(入力用!Q131=2,入力用!Z6,IF(入力用!Q131=3,入力用!Z7,\"㏋\n㎾\"))","v":"㏋\n㎾"},null,{"$f":"IF(入力用!E132=\"\",\"\",入力用!E132)","v":""},null,null,null,"kW",null,{"$f":"IF(入力用!Q133=2,入力用!AA6,IF(入力用!Q133=3,入力用!AA7,IF(入力用!Q133=4,入力用!AA8,IF(入力用!Q133=5,入力用!AA9,\"\"))))","v":""},null,null,null,null,{"$f":"IF(入力用!E134=\"\",\"\",入力用!E134)","v":""},null,"\n台",null,{"$f":"IF(入力用!Q135=2,入力用!AC6,IF(入力用!Q135=3,入力用!AC7,\"\"))","v":""},null,null,null,null,"通電遮断パターン",null,null,null,null,null,null,null,null,null,null,null,null,null,null,null,null,null,"通電制御 ・\n検 知 制 御\n割引対象率",null,null,null,null,null,{"$f":"IF(AND(DC103=\"\",入力用!U132=0),\"\",入力用!U132)","v":""},null,null,"kW",null,"/",null,{"$f":"CV97","v":""},null,null,"kW"]
[]
[null,null,null,null,null,null,null,null,null,null,null,null,null,null,null,null,null,null,null,null,null,null,null,null,null,null,null,null,null,null,null,null,null,null,null,null,null,null,null,null,null,null,null,null,null,null,null,null,null,null,null,null,null,null,null,null,null,null,null,null,null,null,null,null,null,null,null,null,null,null,null,null,null,null,null,{"$f":"IF(入力用!E117=\"\",\"\",入力用!E117)","v":""},null,"時",null,{"$f":"IF(入力用!G117=\"\",\"\",入力用!G117)","v":""},null,"分から",null,null,null,{"$f":"IF(入力用!E118=\"\",\"\",入力用!E118)","v":""},null,{"$f":"IF(入力用!Q117=2,入力用!AE6,IF(入力用!Q117=3,入力用!AE7,\"\"))&IF(入力用!Q118=2,入力用!AF6,IF(入力用!Q118=3,入力用!AF7,\"\"))","v":""},null,null,null,null,null,null,null,null,null,null,null,{"$f":"IF(ISERR(CV103/DC103),\"\",ROUND(CV103/DC103,2)*100)","v":""},null,null,null,null,null,null,null,"％"]
[null,null,null,null,null,null,null,null,null,null,null,null,null,null,null,null,null,null,null,null,null,null,null,null,null,null,null,null,null,null,null,null,{"$f":"IF(入力用!E136=\"\",\"\",入力用!E136)","v":""},null,null,null,null,{"$f":"IF(入力用!E137=\"\",\"\",入力用!E137)","v":""},null,null,null,{"$f":"IF(入力用!E138=\"\",\"\",入力用!E138)","v":""},null,null,null,null,null,null,null,{"$f":"IF(入力用!E139=\"\",\"\",入力用!E139)","v":""},null,null,null,{"$f":"IF(入力用!Q139=2,入力用!Z6,IF(入力用!Q139=3,入力用!Z7,\"㏋\n㎾\"))","v":"㏋\n㎾"},null,{"$f":"IF(入力用!E140=\"\",\"\",入力用!E140)","v":""},null,null,null,"kW",null,{"$f":"IF(入力用!Q141=2,入力用!AA6,IF(入力用!Q141=3,入力用!AA7,IF(入力用!Q141=4,入力用!AA8,IF(入力用!Q141=5,入力用!AA9,\"\"))))","v":""},null,null,null,null,{"$f":"IF(入力用!E142=\"\",\"\",入力用!E142)","v":""},null,"\n台",null,{"$f":"IF(入力用!Q143=2,入力用!AC6,IF(入力用!Q143=3,入力用!AC7,\"\"))","v":""}]
[null,null,null,null,null,null,null,null,null,null,null,null,null,null,null,null,null,null,null,null,null,null,null,null,null,null,null,null,null,null,null,null,null,null,null,null,null,null,null,null,null,null,null,null,null,null,null,null,null,null,null,null,null,null,null,null,null,null,null,null,null,null,null,null,null,null,null,null,null,null,null,null,null,null,null,null,null,null,null,null,null,null,null,null,null,null,null,null,null,null,null,null,null,"力　　率",null,null,null,null,null,"85％",null,null,null,null,null,{"$f":"IF(入力用!Q112=2,\"超過\",IF(入力用!U116=\"\",\"超過\n未満\",IF(入力用!U116>0.85,\"超過\",IF(入力用!U116=0.85,\"\",IF(入力用!U116<0.85,\"未満\")))))","v":"超過\n未満"}]
[]
[null,null,null,null,null,null,null,null,null,null,null,null,null,null,null,null,null,null,null,null,null,null,null,null,null,null,null,null,null,null,null,null,{"$f":"IF(入力用!E144=\"\",\"\",入力用!E144)","v":""},null,null,null,null,{"$f":"IF(入力用!E145=\"\",\"\",入力用!E145)","v":""},null,null,null,{"$f":"IF(入力用!E146=\"\",\"\",入力用!E146)","v":""},null,null,null,null,null,null,null,{"$f":"IF(入力用!E147=\"\",\"\",入力用!E147)","v":""},null,null,null,{"$f":"IF(入力用!Q147=2,入力用!Z6,IF(入力用!Q147=3,入力用!Z7,\"㏋\n㎾\"))","v":"㏋\n㎾"},null,{"$f":"IF(入力用!E148=\"\",\"\",入力用!E148)","v":""},null,null,null,"kW",null,{"$f":"IF(入力用!Q149=2,入力用!AA6,IF(入力用!Q149=3,入力用!AA7,IF(入力用!Q149=4,入力用!AA8,IF(入力用!Q149=5,入力用!AA9,\"\"))))","v":""},null,null,null,null,{"$f":"IF(入力用!E150=\"\",\"\",入力用!E150)","v":""},null,"\n台",null,{"$f":"IF(入力用!Q151=2,入力用!AC6,IF(入力用!Q151=3,入力用!AC7,\"\"))","v":""},null,null,null,null,"最低使用期間"]
[]
[null,null,null,null,null,null,"契約決定\n方　　法",null,null,null,null,{"$f":"IF(入力用!Q112=2,入力用!Y6,IF(入力用!Q112=3,入力用!Y7,\"\"))","v":""},null,null,null,null,null,null,null,null,null,null,null,null,null,null,null,null,null,null,null,null,null,null,null,null,null,null,null,null,null,null,null,null,null,null,null,null,null,null,null,null,null,null,null,null,null,null,null,null,null,null,null,null,null,null,null,null,null,null,null,null,null,null,null,"開始月",null,null,null,null,null,null,null,null,"終了月",null,null,null,null,null,null,null,null,"契約電力",null,null,null,null,null,{"$f":"IF(入力用!U130=0,\"\",入力用!U130)","v":""},null,null,null,null,null,null,null,"ｋＷ"]
[null,null,null,null,null,null,null,null,null,null,null,null,null,null,null,null,null,null,null,null,null,"主開閉器\n定格電流",null,null,null,null,{"$f":"IF(入力用!E113=\"\",\"\",入力用!E113)","v":""},null,null,null,"Ａ",null,{"$f":"IF(入力用!E152=\"\",\"\",入力用!E152)","v":""},null,null,null,null,{"$f":"IF(入力用!E153=\"\",\"\",入力用!E153)","v":""},null,null,null,{"$f":"IF(入力用!E154=\"\",\"\",入力用!E154)","v":""},null,null,null,null,null,null,null,{"$f":"IF(入力用!E155=\"\",\"\",入力用!E155)","v":""},null,null,null,{"$f":"IF(入力用!Q155=2,入力用!Z6,IF(入力用!Q155=3,入力用!Z7,\"㏋\n㎾\"))","v":"㏋\n㎾"},null,{"$f":"IF(入力用!E156=\"\",\"\",入力用!E156)","v":""},null,null,null,"kW",null,{"$f":"IF(入力用!Q157=2,入力用!AA6,IF(入力用!Q157=3,入力用!AA7,IF(入力用!Q157=4,入力用!AA8,IF(入力用!Q157=5,入力用!AA9,\"\"))))","v":""},null,null,null,null,{"$f":"IF(入力用!E158=\"\",\"\",入力用!E158)","v":""},null,"\n台",null,{"$f":"IF(入力用!Q159=2,入力用!AC6,IF(入力用!Q159=3,入力用!AC7,\"\"))","v":""}]
[null,null,null,null,null,null,null,null,null,null,null,null,null,null,null,null,null,null,null,null,null,null,null,null,null,null,null,null,null,null,null,null,null,null,null,null,null,null,null,null,null,null,null,null,null,null,null,null,null,null,null,null,null,null,null,null,null,null,null,null,null,null,null,null,null,null,null,null,null,null,null,null,null,null,null,{"$f":"IF(入力用!E119=\"\",\"\",入力用!E119)","v":""},null,null,null,null,"月分",null,null,null,{"$f":"IF(入力用!E119=\"\",\"\",IF(AND(入力用!Q110>5,入力用!Q110<10),IF(BX113>10,BX113-10,BX113+2),IF(入力用!Q110=10,IF(BX113>7,BX113-7,BX113+5),\"\")))","v":""},null,null,null,null,"月分"]
[]
[null,"選択約款②",null,null,null,null,"契約種別",null,null,null,null,{"$f":"入力用!R163","v":""},null,null,null,null,null,null,null,null,null,"供給電気\n方 式 ・\n供給電圧",null,null,null,null,{"$f":"IF(入力用!Q161=2,\"単相2線式\n　　100V\",IF(入力用!Q161=3,\"単相2線式\n　　200V\",IF(入力用!Q161=4,\"単相\n　　3線式\n100V\n　　･200V\",IF(入力用!Q161=5,\"3相3線式\n200V\",\"\"))))","v":""},null,null,null,null,null,"契　約　負　荷　設　備　内　訳",null,null,null,null,null,null,null,null,null,null,null,null,null,null,null,null,null,null,null,null,null,null,null,null,null,null,null,null,null,null,null,null,null,null,null,null,null,"通電制御・\n検知制御",null,null,null,null,"検知制御装置"]
[null,null,null,null,null,null,null,null,null,null,null,null,null,null,null,null,null,null,null,null,null,null,null,null,null,null,null,null,null,null,null,null,null,null,null,null,null,null,null,null,null,null,null,null,null,null,null,null,null,null,null,null,null,null,null,null,null,null,null,null,null,null,null,null,null,null,null,null,null,null,null,null,null,null,null,null,null,null,null,null,null,null,null,null,null,null,null,null,null,null,null,null,null,"入力合計",null,null,null,null,null,{"$f":"IF(入力用!U185+入力用!U186=0,\"\",入力用!U185+入力用!U186)","v":""},null,null,null,null,null,null,null,"ｋＷ"]
[null,null,null,null,null,null,null,null,null,null,null,null,null,null,null,null,null,null,null,null,null,null,null,null,null,null,null,null,null,null,null,null,"機器種別",null,null,null,null,"ﾒｰｶｰ",null,null,null,"型　　式",null,null,null,null,null,null,null,"出　力",null,null,null,null,null,"入　力",null,null,null,null,null,"力　率",null,null,null,null,"台数",null,null,null,null,null,null,null,null,"メーカー",null,null,null,"型　式",null,null,null,null,null,null,null,null,"種　類"]
[]
[null,null,null,null,null,null,null,null,null,null,null,null,null,null,null,null,null,null,null,null,null,null,null,null,null,null,null,null,null,null,null,null,{"$f":"IF(入力用!E170=\"\",\"\",入力用!E170)","v":""},null,null,null,null,{"$f":"IF(入力用!E171=\"\",\"\",入力用!E171)","v":""},null,null,null,{"$f":"IF(入力用!E172=\"\",\"\",入力用!E172)","v":""},null,null,null,null,null,null,null,{"$f":"IF(入力用!E173=\"\",\"\",入力用!E173)","v":""},null,null,null,{"$f":"IF(入力用!Q173=2,入力用!Z6,IF(入力用!Q173=3,入力用!Z7,\"㏋\n㎾\"))","v":"㏋\n㎾"},null,{"$f":"IF(入力用!E174=\"\",\"\",入力用!E174)","v":""},null,null,null,"kW",null,{"$f":"IF(入力用!Q175=2,入力用!AA6,IF(入力用!Q175=3,入力用!AA7,IF(入力用!Q175=4,入力用!AA8,IF(入力用!Q175=5,入力用!AA9,\"\"))))","v":""},null,null,null,null,{"$f":"IF(入力用!E176=\"\",\"\",入力用!E176)","v":""},null,"\n台",null,{"$f":"IF(入力用!Q177=2,入力用!AC6,IF(入力用!Q177=3,入力用!AC7,\"\"))","v":""},null,null,null,null,{"$f":"IF(入力用!E164=\"\",\"\",入力用!E164)","v":""},null,null,null,{"$f":"IF(入力用!E165=\"\",\"\",入力用!E165)","v":""},null,null,null,null,null,null,null,null,{"$f":"IF(入力用!Q166=2,入力用!AD6,IF(入力用!Q166=3,入力用!AD7,IF(入力用!Q166=4,入力用!AD8,\"\")))","v":""},null,null,null,null,"合計台数",null,null,null,null,null,{"$f":"IF(SUM(BO119:BP133)=0,\"\",SUM(BO119:BP133))","v":""},null,null,null,null,null,null,null,"台"]
[]
[]
[null,null,null,null,null,null,null,null,null,null,null,null,null,null,null,null,null,null,null,null,null,null,null,null,null,null,null,null,null,null,null,null,{"$f":"IF(入力用!E178=\"\",\"\",入力用!E178)","v":""},null,null,null,null,{"$f":"IF(入力用!E179=\"\",\"\",入力用!E179)","v":""},null,null,null,{"$f":"IF(入力用!E180=\"\",\"\",入力用!E180)","v":""},null,null,null,null,null,null,null,{"$f":"IF(入力用!E181=\"\",\"\",入力用!E181)","v":""},null,null,null,{"$f":"IF(入力用!Q181=2,入力用!Z6,IF(入力用!Q181=3,入力用!Z7,\"㏋\n㎾\"))","v":"㏋\n㎾"},null,{"$f":"IF(入力用!E182=\"\",\"\",入力用!E182)","v":""},null,null,null,"kW",null,{"$f":"IF(入力用!Q183=2,入力用!AA6,IF(入力用!Q183=3,入力用!AA7,IF(入力用!Q183=4,入力用!AA8,IF(入力用!Q183=5,入力用!AA9,\"\"))))","v":""},null,null,null,null,{"$f":"IF(入力用!E184=\"\",\"\",入力用!E184)","v":""},null,"\n台",null,{"$f":"IF(入力用!Q185=2,入力用!AC6,IF(入力用!Q185=3,入力用!AC7,\"\"))","v":""},null,null,null,null,"通電遮断パターン",null,null,null,null,null,null,null,null,null,null,null,null,null,null,null,null,null,"通電制御 ・\n検 知 制 御\n割引対象率",null,null,null,null,null,{"$f":"IF(AND(DC122=\"\",入力用!U182=0),\"\",入力用!U182)","v":""},null,null,"kW",null,"/",null,{"$f":"CV116","v":""},null,null,"kW"]
[]
[null,null,null,null,null,null,null,null,null,null,null,null,null,null,null,null,null,null,null,null,null,null,null,null,null,null,null,null,null,null,null,null,null,null,null,null,null,null,null,null,null,null,null,null,null,null,null,null,null,null,null,null,null,null,null,null,null,null,null,null,null,null,null,null,null,null,null,null,null,null,null,null,null,null,null,{"$f":"IF(入力用!E167=\"\",\"\",入力用!E167)","v":""},null,"時",null,{"$f":"IF(入力用!G167=\"\",\"\",入力用!G167)","v":""},null,"分から",null,null,null,{"$f":"IF(入力用!E168=\"\",\"\",入力用!E168)","v":""},null,{"$f":"IF(入力用!Q167=2,入力用!AE6,IF(入力用!Q167=3,入力用!AE7,\"\"))&IF(入力用!Q168=2,入力用!AF6,IF(入力用!Q168=3,入力用!AF7,\"\"))","v":""},null,null,null,null,null,null,null,null,null,null,null,{"$f":"IF(ISERR(CV122/DC122),\"\",ROUND(CV122/DC122,2)*100)","v":""},null,null,null,null,null,null,null,"％"]
[null,null,null,null,null,null,null,null,null,null,null,null,null,null,null,null,null,null,null,null,null,null,null,null,null,null,null,null,null,null,null,null,{"$f":"IF(入力用!E186=\"\",\"\",入力用!E186)","v":""},null,null,null,null,{"$f":"IF(入力用!E187=\"\",\"\",入力用!E187)","v":""},null,null,null,{"$f":"IF(入力用!E188=\"\",\"\",入力用!E188)","v":""},null,null,null,null,null,null,null,{"$f":"IF(入力用!E189=\"\",\"\",入力用!E189)","v":""},null,null,null,{"$f":"IF(入力用!Q189=2,入力用!Z6,IF(入力用!Q189=3,入力用!Z7,\"㏋\n㎾\"))","v":"㏋\n㎾"},null,{"$f":"IF(入力用!E190=\"\",\"\",入力用!E190)","v":""},null,null,null,"kW",null,{"$f":"IF(入力用!Q191=2,入力用!AA6,IF(入力用!Q191=3,入力用!AA7,IF(入力用!Q191=4,入力用!AA8,IF(入力用!Q191=5,入力用!AA9,\"\"))))","v":""},null,null,null,null,{"$f":"IF(入力用!E192=\"\",\"\",入力用!E192)","v":""},null,"\n台",null,{"$f":"IF(入力用!Q193=2,入力用!AC6,IF(入力用!Q193=3,入力用!AC7,\"\"))","v":""}]
[null,null,null,null,null,null,null,null,null,null,null,null,null,null,null,null,null,null,null,null,null,null,null,null,null,null,null,null,null,null,null,null,null,null,null,null,null,null,null,null,null,null,null,null,null,null,null,null,null,null,null,null,null,null,null,null,null,null,null,null,null,null,null,null,null,null,null,null,null,null,null,null,null,null,null,null,null,null,null,null,null,null,null,null,null,null,null,null,null,null,null,null,null,"力　　率",null,null,null,null,null,"85％",null,null,null,null,null,{"$f":"IF(入力用!Q162=2,\"超過\",IF(入力用!U166=\"\",\"超過\n未満\",IF(入力用!U166>0.85,\"超過\",IF(入力用!U166=0.85,\"\",IF(入力用!U166<0.85,\"未満\")))))","v":"超過\n未満"}]
[]
[null,null,null,null,null,null,null,null,null,null,null,null,null,null,null,null,null,null,null,null,null,null,null,null,null,null,null,null,null,null,null,null,{"$f":"IF(入力用!E194=\"\",\"\",入力用!E194)","v":""},null,null,null,null,{"$f":"IF(入力用!E195=\"\",\"\",入力用!E195)","v":""},null,null,null,{"$f":"IF(入力用!E196=\"\",\"\",入力用!E196)","v":""},null,null,null,null,null,null,null,{"$f":"IF(入力用!E197=\"\",\"\",入力用!E197)","v":""},null,null,null,{"$f":"IF(入力用!Q197=2,入力用!Z6,IF(入力用!Q197=3,入力用!Z7,\"㏋\n㎾\"))","v":"㏋\n㎾"},null,{"$f":"IF(入力用!E198=\"\",\"\",入力用!E198)","v":""},null,null,null,"kW",null,{"$f":"IF(入力用!Q199=2,入力用!AA6,IF(入力用!Q199=3,入力用!AA7,IF(入力用!Q199=4,入力用!AA8,IF(入力用!Q199=5,入力用!AA9,\"\"))))","v":""},null,null,null,null,{"$f":"IF(入力用!E200=\"\",\"\",入力用!E200)","v":""},null,"\n台",null,{"$f":"IF(入力用!Q201=2,入力用!AC6,IF(入力用!Q201=3,入力用!AC7,\"\"))","v":""},null,null,null,null,"最低使用期間"]
[]
[null,null,null,null,null,null,"契約決定\n方　　法",null,null,null,null,{"$f":"IF(入力用!Q162=2,入力用!Y6,IF(入力用!Q162=3,入力用!Y7,\"\"))","v":""},null,null,null,null,null,null,null,null,null,null,null,null,null,null,null,null,null,null,null,null,null,null,null,null,null,null,null,null,null,null,null,null,null,null,null,null,null,null,null,null,null,null,null,null,null,null,null,null,null,null,null,null,null,null,null,null,null,null,null,null,null,null,null,"開始月",null,null,null,null,null,null,null,null,"終了月",null,null,null,null,null,null,null,null,"契約電力",null,null,null,null,null,{"$f":"IF(入力用!U180=0,\"\",入力用!U180)","v":""},null,null,null,null,null,null,null,"ｋＷ"]
[null,null,null,null,null,null,null,null,null,null,null,null,null,null,null,null,null,null,null,null,null,"主開閉器\n定格電流",null,null,null,null,{"$f":"IF(入力用!E163=\"\",\"\",入力用!E163)","v":""},null,null,null,"Ａ",null,{"$f":"IF(入力用!E202=\"\",\"\",入力用!E202)","v":""},null,null,null,null,{"$f":"IF(入力用!E203=\"\",\"\",入力用!E203)","v":""},null,null,null,{"$f":"IF(入力用!E204=\"\",\"\",入力用!E204)","v":""},null,null,null,null,null,null,null,{"$f":"IF(入力用!E205=\"\",\"\",入力用!E205)","v":""},null,null,null,{"$f":"IF(入力用!Q205=2,入力用!Z6,IF(入力用!Q205=3,入力用!Z7,\"㏋\n㎾\"))","v":"㏋\n㎾"},null,{"$f":"IF(入力用!E206=\"\",\"\",入力用!E206)","v":""},null,null,null,"kW",null,{"$f":"IF(入力用!Q207=2,入力用!AA6,IF(入力用!Q207=3,入力用!AA7,IF(入力用!Q207=4,入力用!AA8,IF(入力用!Q207=5,入力用!AA9,\"\"))))","v":""},null,null,null,null,{"$f":"IF(入力用!E208=\"\",\"\",入力用!E208)","v":""},null,"\n台",null,{"$f":"IF(入力用!Q209=2,入力用!AC6,IF(入力用!Q209=3,入力用!AC7,\"\"))","v":""}]
[null,null,null,null,null,null,null,null,null,null,null,null,null,null,null,null,null,null,null,null,null,null,null,null,null,null,null,null,null,null,null,null,null,null,null,null,null,null,null,null,null,null,null,null,null,null,null,null,null,null,null,null,null,null,null,null,null,null,null,null,null,null,null,null,null,null,null,null,null,null,null,null,null,null,null,{"$f":"IF(入力用!E169=\"\",\"\",入力用!E169)","v":""},null,null,null,null,"月分",null,null,null,{"$f":"IF(入力用!E169=\"\",\"\",IF(AND(入力用!Q160>5,入力用!Q160<10),IF(BX132>10,BX132-10,BX132+2),IF(入力用!Q160=10,IF(BX132>7,BX132-7,BX132+5),\"\")))","v":""},null,null,null,null,"月分"]
[]
[]
[null,"　※　本申込書は集合住宅を新設する場合に使用することができます。",null,null,null,null,null,null,null,null,null,null,null,null,null,null,null,null,null,null,null,null,null,null,null,null,null,null,null,null,null,null,null,null,null,null,null,null,null,null,null,null,null,null,null,null,null,null,null,null,null,null,null,null,null,null,null,null,null,null,null,null,null,null,null,null,null,null,null,null,null,null,null,null,null,null,null,null,null,null,null,null,null,null,null,null,null,null,null,null,null,null,null,null,null,null,null,null,null,null,null,"受付"]
[]
[null,"　※　太枠内をご記入願います。"]
[]
[null,"　※　ご契約名義，お支払方法またはアンペア変更をご希望の場合は，カスタマーサービスセンター（0120-680-340）までご連絡ください。"]
[]
[null,"　※　共用部分がない場合または共用部分を高圧で受電する場合には，お客さま情報および建物情報のみ記入し，集合住宅専有部分用電気使用申込書をあわせて提出願います。"]
[]
[null,"　※　ご提供いただいた個人情報は，電気事業の範囲内で利用いたします。"]
[]
[]
[null,null,"拝啓　平素は弊社事業に格別のお引き立てを賜り，厚くお礼申し上げます。０１２３４５６７８９０１２３４５６７８９０１２３４５６"]
[]
[]
[null,null,"　さて，この度お客さまの電気ご使用につきまして，本申込書記載の内容にてご契約させていただきましたことをお知らせいたします。"]
[]
[]
[null,null,"　なお，上記契約負荷設備は，申込書記載の電気工事会社様によって最終確認いただいておりますが，機器種別および容量等の相違によ"]
[]
[]
[null,null,"り，お客さまおよび弊社の各設備に悪影響を及ぼす恐れがあり，また電気料金が変更となる場合がございますので，大変お手数ではござ"]
[]
[]
[null,null,"いますが，内容をご確認いただきますようお願いいたします。０１２３４５６７８９０１２３４５６７８９０１２３４５６７８９０１２"]
[]
[]
[null,null,"０１２３４５６７８９０１２３４５６７８９０１２３４５６７８９０１２３４５６７８９０１２３４５６７８９０１２３４５６７敬具８"]
[]
[]
["北　海　道　電　力　ネ　ッ　ト　ワ　ー　ク　株　式　会　社"]

{"sheet":"３枚目","index":3,"n_rows":168,"n_cols":111,"rows_kept":168,"cut":false,"hidden":false,"merged":[[1,93,5,109],[44,108,46,110],[47,108,50,110],[12,69,13,110],[11,1,12,25],[13,1,14,38],[40,11,43,50],[40,51,43,56],[14,85,16,89],[28,11,30,63],[31,39,33,45],[31,56,33,63],[31,47,33,54],[31,36,33,38],[44,26,45,26],[44,27,45,27],[44,28,45,28],[44,29,45,29],[44,30,45,30],[44,31,45,31],[44,32,45,32],[44,1,50,5],[46,21,47,21],[46,22,47,22],[49,43,50,46],[15,1,16,38],[28,64,33,68],[14,69,16,84],[28,69,31,74],[31,14,33,19],[31,20,33,20],[25,6,30,10],[17,6,24,10],[64,26,66,42],[34,6,39,10],[58,49,60,54],[61,49,63,54],[64,49,66,54],[55,49,57,54],[53,49,54,54],[17,18,18,63],[25,13,27,15],[51,11,62,21],[63,11,75,21],[31,21,33,27],[31,28,33,28],[31,29,33,35],[169,0,170,110],[130,37,132,40],[130,41,132,48],[130,49,132,52],[130,53,132,54],[129,93,132,98],[127,49,129,52],[136,1,138,12],[138,52,139,68],[127,32,129,36],[136,78,137,93],[136,69,137,77],[142,78,143,93],[142,69,143,77],[140,69,141,77],[138,69,139,77],[140,78,141,93],[144,69,145,77],[144,78,145,93],[138,78,139,93],[167,0,168,110],[127,37,129,40],[130,32,132,36],[150,23,152,33],[92,76,94,83],[92,64,94,72],[92,73,94,75],[97,61,98,65],[99,66,101,67],[99,70,101,74],[83,76,85,83],[92,52,94,60],[92,61,94,63],[86,76,88,83],[97,55,98,60],[97,49,98,54],[97,66,98,69],[83,61,85,63],[99,53,101,54],[95,70,98,74],[89,76,91,83],[83,22,85,51],[86,22,88,51],[97,41,98,48],[95,75,96,92],[99,61,101,65],[99,68,101,69],[89,64,91,72],[80,64,82,72],[61,61,63,63],[61,55,63,58],[51,70,62,74],[55,64,57,65],[51,26,52,65],[67,64,69,65],[67,59,69,60],[70,43,72,46],[70,47,72,48],[55,55,57,58],[58,64,60,65],[73,26,75,42],[73,43,75,46],[53,43,54,48],[55,43,57,46],[73,61,75,63],[70,49,72,54],[58,47,60,48],[51,66,75,69],[67,49,69,54],[92,22,94,51],[97,32,98,36],[95,21,110,25],[108,49,110,52],[89,52,91,60],[111,32,113,36],[97,37,98,40],[95,32,96,69],[105,59,107,60],[105,55,107,58],[108,61,110,65],[108,68,110,69],[108,55,110,58],[111,55,113,58],[111,59,113,60],[105,61,107,65],[102,66,104,67],[102,68,104,69],[108,53,110,54],[105,66,107,67],[111,53,113,54],[99,49,101,52],[111,49,113,52],[111,41,113,48],[105,53,107,54],[102,55,104,58],[102,59,104,60],[108,59,110,60],[102,53,104,54],[99,41,101,48],[99,32,101,36],[99,37,101,40],[102,32,104,36],[102,37,104,40],[102,41,104,48],[108,37,110,40],[105,32,107,36],[105,37,107,40],[105,41,107,48],[108,41,110,48],[108,32,110,36],[51,22,75,25],[55,47,57,48],[44,6,50,12],[31,46,33,46],[55,26,57,42],[61,64,63,65],[65,100,69,101],[65,96,69,99],[116,37,117,40],[58,55,60,58],[37,73,39,77],[38,62,39,64],[34,23,36,50],[110,11,113,20],[110,6,113,10],[111,21,113,25],[95,26,110,31],[95,11,109,20],[111,30,113,31],[114,26,129,31],[111,26,113,29],[95,6,109,10],[73,55,75,58],[34,11,36,12],[124,41,126,48],[102,93,105,98],[112,80,113,83],[111,68,113,69],[111,37,113,40],[70,26,72,42],[86,52,88,60],[89,61,91,63],[64,55,66,58],[89,22,91,51],[73,59,75,60],[80,52,82,60],[73,47,75,48],[105,49,107,52],[99,55,101,58],[67,26,69,42],[102,49,104,52],[64,61,66,63],[99,59,101,60],[121,37,123,40],[118,49,120,52],[118,68,120,69],[118,41,120,48],[114,21,129,25],[51,1,75,5],[90,20,94,21],[84,6,89,10],[76,6,77,10],[78,11,83,21],[84,11,89,21],[63,6,75,10],[90,6,94,10],[78,6,83,10],[76,11,77,21],[90,11,94,19],[76,1,94,5],[34,51,39,55],[37,11,39,50],[44,18,45,18],[44,19,45,19],[44,20,45,20],[44,21,45,21],[44,22,45,22],[44,23,45,23],[44,24,45,24],[44,25,45,25],[44,13,50,17],[44,38,50,42],[44,55,45,64],[46,43,48,64],[49,58,50,58],[44,48,45,48],[46,36,47,36],[46,37,47,37],[48,18,50,37],[46,18,47,18],[46,19,47,19],[46,20,47,20],[46,23,47,23],[28,75,31,110],[32,75,33,88],[20,104,21,108],[26,110,27,110],[26,69,27,88],[26,89,27,92],[26,93,27,97],[22,75,23,110],[24,69,25,110],[20,75,21,89],[20,90,21,99],[32,105,33,109],[32,89,33,92],[130,21,132,25],[136,40,145,44],[140,45,141,51],[130,30,132,31],[130,55,132,58],[130,59,132,60],[130,66,132,67],[17,1,33,5],[17,64,27,68],[31,6,33,10],[37,56,39,61],[34,17,36,20],[31,11,33,13],[31,55,33,55],[34,21,36,22],[34,13,36,15],[34,16,36,16],[34,1,43,5],[40,6,43,10],[44,49,45,52],[44,53,45,54],[44,43,45,44],[121,66,123,67],[49,47,50,51],[157,79,162,84],[157,85,159,110],[160,85,162,110],[154,85,156,110],[121,70,123,74],[130,68,132,69],[140,52,141,68],[142,52,143,68],[144,52,145,68],[127,55,129,58],[127,59,129,60],[127,53,129,54],[121,55,123,58],[121,59,123,60],[130,61,132,65],[123,107,124,110],[129,107,132,110],[131,84,132,88],[131,80,132,83],[131,89,132,92],[121,49,123,52],[121,53,123,54],[121,104,122,105],[136,45,137,51],[150,2,164,6],[150,7,164,22],[129,6,132,10],[114,6,128,10],[142,45,143,51],[144,45,145,51],[114,11,128,20],[129,11,132,20],[116,32,117,36],[124,32,126,36],[121,32,123,36],[124,49,126,52],[121,41,123,48],[155,23,158,33],[161,23,163,33],[138,45,139,51],[136,52,137,68],[127,68,129,69],[127,66,129,67],[124,55,126,58],[124,59,126,60],[121,68,123,69],[124,53,126,54],[124,37,126,40],[110,107,113,110],[118,107,120,110],[118,99,120,106],[121,99,122,101],[114,1,132,5],[130,26,132,29],[130,70,132,74],[127,61,129,65],[114,32,115,69],[116,41,117,48],[116,49,117,54],[116,55,117,60],[118,32,120,36],[127,70,129,74],[115,93,117,98],[118,70,120,74],[111,70,113,74],[110,93,113,98],[118,55,120,58],[118,53,120,54],[118,59,120,60],[95,1,113,5],[118,37,120,40],[127,41,129,48],[99,75,101,78],[97,75,98,78],[106,93,109,98],[99,93,101,98],[96,93,98,98],[106,99,109,104],[102,75,103,92],[104,75,107,76],[104,77,107,78],[99,79,101,87],[97,88,98,92],[104,81,107,84],[102,99,103,101],[99,88,101,92],[97,79,98,87],[99,99,101,106],[106,105,109,110],[102,109,103,110],[102,104,103,105],[104,99,105,106],[14,64,16,68],[25,16,27,16],[25,17,27,20],[25,21,27,22],[25,23,27,63],[26,105,27,109],[17,69,19,74],[17,75,19,110],[20,69,21,74],[26,98,27,98],[26,99,27,103],[26,104,27,104],[22,69,23,74],[19,11,22,63],[23,11,24,19],[23,20,24,38],[23,39,24,46],[23,47,24,63],[20,109,21,110],[20,100,21,102],[20,103,21,103],[25,11,27,12],[14,90,16,110],[17,11,18,17],[34,81,39,85],[38,70,39,72],[34,100,39,102],[32,98,33,98],[32,99,33,103],[32,104,33,104],[43,98,43,110],[40,98,42,104],[40,110,42,110],[38,78,39,80],[40,105,42,109],[32,93,33,97],[32,69,33,74],[34,108,39,110],[32,110,33,110],[34,95,39,99],[34,103,39,107],[40,77,43,80],[40,57,43,71],[34,92,39,94],[34,86,39,91],[40,72,43,76],[121,106,122,108],[85,105,89,110],[89,84,91,89],[89,90,91,92],[81,93,84,98],[81,107,84,110],[83,84,85,89],[57,107,58,110],[61,104,62,106],[61,107,62,110],[57,104,58,106],[57,88,62,93],[61,94,62,103],[57,94,58,103],[86,84,88,89],[80,84,82,89],[70,93,75,98],[102,102,103,103],[96,99,98,106],[102,106,103,108],[99,107,101,110],[96,107,98,110],[110,99,113,106],[90,93,94,98],[78,84,79,92],[70,107,75,110],[90,107,94,110],[90,99,94,106],[85,93,89,98],[70,99,75,106],[65,91,69,95],[129,99,132,106],[125,99,128,104],[125,105,128,110],[115,99,117,106],[115,107,117,110],[125,93,128,98],[121,93,124,98],[121,102,122,103],[118,93,120,98],[116,79,117,87],[118,79,120,87],[121,75,122,92],[123,85,126,86],[116,88,117,92],[116,75,117,78],[121,109,122,110],[104,107,105,110],[86,61,88,63],[67,61,69,63],[49,64,50,64],[78,64,79,75],[70,70,75,74],[63,70,64,110],[65,81,69,87],[81,99,84,106],[85,99,89,104],[47,88,50,92],[47,99,50,101],[47,96,50,98],[51,88,56,93],[47,85,50,87],[47,93,50,95],[47,105,50,107],[47,102,50,104],[44,65,50,67],[83,73,85,75],[86,73,88,75],[83,64,85,72],[86,64,88,72],[54,109,56,110],[65,102,69,107],[44,105,46,107],[47,80,50,84],[92,90,94,92],[77,107,80,110],[77,99,80,106],[86,90,88,92],[92,84,94,89],[77,93,80,98],[76,22,77,92],[72,80,75,88],[89,73,91,75],[80,73,82,75],[65,108,69,110],[44,102,46,104],[44,77,46,79],[49,52,50,52],[49,53,50,57],[47,72,50,74],[49,59,50,63],[55,59,57,60],[70,61,72,63],[58,61,60,63],[58,59,60,60],[58,43,60,46],[65,88,69,90],[72,89,75,92],[47,75,50,76],[44,99,46,101],[44,85,46,87],[44,72,46,74],[44,93,46,95],[44,80,46,84],[44,96,46,98],[44,88,46,92],[70,75,75,79],[51,75,62,87],[47,77,50,79],[59,94,60,103],[51,94,56,108],[59,104,60,106],[59,107,60,110],[58,26,60,42],[61,26,63,42],[53,61,54,65],[55,61,57,63],[53,26,54,42],[61,59,63,60],[61,47,63,48],[53,55,54,60],[83,90,85,92],[64,59,66,60],[70,64,72,65],[73,64,75,65],[65,70,69,74],[83,52,85,60],[73,49,75,54],[67,55,69,58],[70,55,72,58],[80,76,82,83],[78,76,79,83],[78,52,79,63],[80,90,82,92],[80,61,82,63],[65,75,69,78],[78,22,79,51],[80,22,82,51],[70,80,71,92],[70,59,72,60],[67,43,69,46],[67,47,69,48],[64,43,66,46],[64,47,66,48],[65,79,69,80],[116,66,117,69],[105,70,107,74],[114,75,115,92],[118,61,120,65],[124,70,126,74],[104,79,107,80],[110,75,111,83],[110,84,111,92],[104,87,107,92],[112,89,113,92],[112,75,113,79],[112,84,113,88],[104,85,107,86],[111,61,113,65],[111,66,113,67],[123,77,126,78],[118,75,120,78],[105,68,107,69],[118,66,120,67],[121,61,123,65],[124,61,126,65],[136,95,137,102],[136,103,137,110],[127,75,128,92],[123,75,126,76],[129,75,130,83],[129,84,130,92],[131,75,132,79],[51,6,62,10],[61,43,63,46],[102,70,104,74],[124,66,126,67],[124,68,126,69],[123,87,126,92],[118,88,120,92],[123,99,124,106],[64,64,66,65],[116,61,117,65],[108,66,110,67],[114,70,117,74],[108,70,110,74],[102,61,104,65],[123,79,126,80],[123,81,126,84],[108,75,109,92],[46,24,47,24],[46,25,47,25],[46,26,47,26],[46,27,47,27],[46,28,47,28],[46,29,47,29],[46,30,47,30],[46,31,47,31],[6,1,9,110],[10,66,11,110],[37,65,39,69],[44,33,45,33],[44,68,46,71],[47,68,50,71],[44,34,45,34],[44,35,45,35],[44,36,45,36],[44,37,45,37],[44,45,45,47],[44,75,46,76],[46,32,47,32],[46,33,47,33],[46,34,47,34],[46,35,47,35]]}
[]
[null,null,null,null,null,null,null,null,null,null,null,null,null,null,null,null,null,null,null,null,null,null,null,null,null,null,null,null,null,null,null,null,null,null,null,null,null,null,null,null,null,null,null,null,null,null,null,null,null,null,null,null,null,null,null,null,null,null,null,null,null,null,null,null,null,null,null,null,null,null,null,null,null,null,null,null,null,null,null,null,null,null,null,null,null,null,null,null,null,null,null,null,null,"離島等供給用"]
[]
[]
[]
[]
[null,"集合住宅共用部分用電気使用申込書（ほくでんNW控）"]
[]
[]
[]
[]
[null,"北海道電力ネットワーク株式会社　御中"]
[]
[null,"電気の使用について貴社離島等供給約款[低圧用]を承認のうえ申し込みます。"]
[null,null,null,null,null,null,null,null,null,null,null,null,null,null,null,null,null,null,null,null,null,null,null,null,null,null,null,null,null,null,null,null,null,null,null,null,null,null,null,null,null,null,null,null,null,null,null,null,null,null,null,null,null,null,null,null,null,null,null,null,null,null,null,null,"受付扱所名",null,null,null,null,null,null,null,null,null,null,null,null,null,null,null,null,null,null,null,null,"受付№"]
[]
[]
[null,"お客さま",null,null,null,null,"発注者名",null,null,null,null,"（フリガナ）",null,null,null,null,null,null,{"$f":"IF(入力用!E4=\"\",\"\",入力用!E4)","v":""},null,null,null,null,null,null,null,null,null,null,null,null,null,null,null,null,null,null,null,null,null,null,null,null,null,null,null,null,null,null,null,null,null,null,null,null,null,null,null,null,null,null,null,null,null,"電気工事会社",null,null,null,null," 会社名",null,null,null,null,null,{"$f":"IF(入力用!E12=\"\",\"\",入力用!E12)","v":""}]
[]
[null,null,null,null,null,null,null,null,null,null,null,{"$f":"IF(入力用!E5=\"\",\"\",入力用!E5)","v":""}]
[null,null,null,null,null,null,null,null,null,null,null,null,null,null,null,null,null,null,null,null,null,null,null,null,null,null,null,null,null,null,null,null,null,null,null,null,null,null,null,null,null,null,null,null,null,null,null,null,null,null,null,null,null,null,null,null,null,null,null,null,null,null,null,null,null,null,null,null,null,"(担当者)",null,null,null,null,null,{"$f":"IF(入力用!E13=\"\",\"\",入力用!E13)","v":""},null,null,null,null,null,null,null,null,null,null,null,null,null,null,"工事会社№（",null,null,null,null,null,null,null,null,null,{"$f":"IF(入力用!E14=\"\",\"\",入力用!E14)","v":""},null,null,"-",{"$f":"IF(入力用!G14=\"\",\"\",入力用!G14)","v":""},null,null,null,null,")"]
[]
[null,null,null,null,null,null,null,null,null,null,null,null,null,null,null,null,null,null,null,null,null,null,null,null,null,null,null,null,null,null,null,null,null,null,null,null,null,null,null,null,null,null,null,null,null,null,null,null,null,null,null,null,null,null,null,null,null,null,null,null,null,null,null,null,null,null,null,null,null," 住　所",null,null,null,null,null,{"$f":"LEFT(入力用!E15,24)","v":""}]
[null,null,null,null,null,null,null,null,null,null,null,"（代表者肩書）",null,null,null,null,null,null,null,null,{"$f":"IF(入力用!E6=\"\",\"\",入力用!E6)","v":""},null,null,null,null,null,null,null,null,null,null,null,null,null,null,null,null,null,null,"（代表者名）",null,null,null,null,null,null,null,{"$f":"IF(入力用!E7=\"\",\"\",入力用!E7)","v":""}]
[null,null,null,null,null,null,null,null,null,null,null,null,null,null,null,null,null,null,null,null,null,null,null,null,null,null,null,null,null,null,null,null,null,null,null,null,null,null,null,null,null,null,null,null,null,null,null,null,null,null,null,null,null,null,null,null,null,null,null,null,null,null,null,null,null,null,null,null,null,{"$f":"MID(入力用!E15,25,28)","v":""}]
[null,null,null,null,null,null,"発注者\n住　所",null,null,null,null,"(〒",null,{"$f":"LEFT(入力用!E8,3)","v":""},null,null,"-",{"$f":"RIGHT(入力用!E8,4)","v":""},null,null,null,")",null,{"$f":"LEFT(入力用!E9,25)","v":""}]
[null,null,null,null,null,null,null,null,null,null,null,null,null,null,null,null,null,null,null,null,null,null,null,null,null,null,null,null,null,null,null,null,null,null,null,null,null,null,null,null,null,null,null,null,null,null,null,null,null,null,null,null,null,null,null,null,null,null,null,null,null,null,null,null,null,null,null,null,null,{"$f":"MID(入力用!E15,53,12)","v":""},null,null,null,null,null,null,null,null,null,null,null,null,null,null,null,null,null,null,null,"電話(",null,null,null,{"$f":"IF(入力用!E16=\"\",\"\",入力用!E16)","v":""},null,null,null,null,"-",{"$f":"IF(入力用!G16=\"\",\"\",入力用!G16)","v":""},null,null,null,null,"-",{"$f":"IF(入力用!J16=\"\",\"\",入力用!J16)","v":""},null,null,null,null,")"]
[]
[null,null,null,null,null,null,null,null,null,null,null,{"$f":"MID(入力用!E9,26,33)","v":""},null,null,null,null,null,null,null,null,null,null,null,null,null,null,null,null,null,null,null,null,null,null,null,null,null,null,null,null,null,null,null,null,null,null,null,null,null,null,null,null,null,null,null,null,null,null,null,null,null,null,null,null,"建築会社",null,null,null,null," 会社名",null,null,null,null,null,{"$f":"IF(入力用!E17=\"\",\"\",入力用!E17)","v":""}]
[]
[]
[null,null,null,null,null,null,"電話番号",null,null,null,null,"固定",null,null,{"$f":"IF(入力用!E10=\"\",\"\",入力用!E10)","v":""},null,null,null,null,null,"-",{"$f":"IF(入力用!G10=\"\",\"\",入力用!G10)","v":""},null,null,null,null,null,null,"-",{"$f":"IF(入力用!J10=\"\",\"\",入力用!J10)","v":""},null,null,null,null,null,null,"携帯",null,null,{"$f":"IF(入力用!E11=\"\",\"\",入力用!E11)","v":""},null,null,null,null,null,null,"-",{"$f":"IF(入力用!G11=\"\",\"\",入力用!G11)","v":""},null,null,null,null,null,null,null,"-",{"$f":"IF(入力用!J11=\"\",\"\",入力用!J11)","v":""}]
[null,null,null,null,null,null,null,null,null,null,null,null,null,null,null,null,null,null,null,null,null,null,null,null,null,null,null,null,null,null,null,null,null,null,null,null,null,null,null,null,null,null,null,null,null,null,null,null,null,null,null,null,null,null,null,null,null,null,null,null,null,null,null,null,null,null,null,null,null,"(担当者)",null,null,null,null,null,{"$f":"IF(入力用!E18=\"\",\"\",入力用!E18)","v":""},null,null,null,null,null,null,null,null,null,null,null,null,null,"電話(",null,null,null,{"$f":"IF(入力用!E19=\"\",\"\",入力用!E19)","v":""},null,null,null,null,"-",{"$f":"IF(入力用!G19=\"\",\"\",入力用!G19)","v":""},null,null,null,null,"-",{"$f":"IF(入力用!J19=\"\",\"\",入力用!J19)","v":""},null,null,null,null,")"]
[]
[null,"建物情報",null,null,null,null,"建物\n住所",null,null,null,null,"(〒",null,{"$f":"LEFT(入力用!E20,3)","v":""},null,null,"-",{"$f":"RIGHT(入力用!E20,4)","v":""},null,null,null,")",null,{"$f":"LEFT(入力用!E21,17)","v":""},null,null,null,null,null,null,null,null,null,null,null,null,null,null,null,null,null,null,null,null,null,null,null,null,null,null,null,"受　 電\n希望日",null,null,null,null,null,null,null,null,null,null,null,null,null,null,null,null,null,null,null,null,null,null,null,null,null,null,null,null,null,"送電日\n(異動日)",null,null,null,null,null,null,null,null,null,null,"年",null,null,null,null,null,null,null,"月",null,null,null,null,null,null,null,"日"]
[]
[]
[null,null,null,null,null,null,null,null,null,null,null,{"$f":"MID(入力用!E21,18,25)","v":""},null,null,null,null,null,null,null,null,null,null,null,null,null,null,null,null,null,null,null,null,null,null,null,null,null,null,null,null,null,null,null,null,null,null,null,null,null,null,null,null,null,null,null,null,{"$f":"IF(入力用!E23=\"\",\"\",入力用!E23)","v":""},null,null,null,null,null,null,null,null,{"$f":"IF(入力用!G23=\"\",\"\",入力用!G23)","v":""},null,null,null,null,null,null,null,{"$f":"IF(入力用!J23=\"\",\"\",入力用!J23)","v":""}]
[null,null,null,null,null,null,null,null,null,null,null,null,null,null,null,null,null,null,null,null,null,null,null,null,null,null,null,null,null,null,null,null,null,null,null,null,null,null,null,null,null,null,null,null,null,null,null,null,null,null,null,null,null,null,null,null,null,null,null,null,null,null,"年",null,null,null,null,null,null,null,"月",null,null,null,null,null,null,null,"日"]
[]
[null,null,null,null,null,null,"建物名",null,null,null,null,{"$f":"IF(入力用!E22=\"\",\"\",入力用!E22)","v":""},null,null,null,null,null,null,null,null,null,null,null,null,null,null,null,null,null,null,null,null,null,null,null,null,null,null,null,null,null,null,null,null,null,null,null,null,null,null,null,"ﾌﾘｰｴﾘｱ\n計器払出希\n望事業所名",null,null,null,null,null,{"$f":"IF(入力用!E24=\"\",\"\",入力用!E24)","v":""},null,null,null,null,null,null,null,null,null,null,null,null,null,null,"本契約前\nの臨時契\n約の有無",null,null,null,null,{"$f":"IF(入力用!Q25=2,入力用!Q6,IF(入力用!Q25=3,入力用!Q7,\"\"))","v":""},null,null,null,null,null,null,null,null,null,null,null,null,null,null,null,null,null,null,null,null,"臨時受付№(",null,null,null,null,null,null,null,null,null,null,null,")"]
[]
[]
[]
[null,"共用部\n分お支\n払方法",null,null,null,null,{"$f":"IF(入力用!Q26=2,入力用!R6,IF(入力用!Q26=3,入力用!R7,IF(入力用!Q26=4,入力用!R8,\"\")))","v":""},null,null,null,null,null,null,"支　払\n者　名",null,null,null,null,{"$f":"DBCS(MID(ASC(入力用!E27),1,1))","v":""},{"$f":"DBCS(MID(ASC(入力用!E27),2,1))","v":""},{"$f":"DBCS(MID(ASC(入力用!E27),3,1))","v":""},{"$f":"DBCS(MID(ASC(入力用!E27),4,1))","v":""},{"$f":"DBCS(MID(ASC(入力用!E27),5,1))","v":""},{"$f":"DBCS(MID(ASC(入力用!E27),6,1))","v":""},{"$f":"DBCS(MID(ASC(入力用!E27),7,1))","v":""},{"$f":"DBCS(MID(ASC(入力用!E27),8,1))","v":""},{"$f":"DBCS(MID(ASC(入力用!E27),9,1))","v":""},{"$f":"DBCS(MID(ASC(入力用!E27),10,1))","v":""},{"$f":"DBCS(MID(ASC(入力用!E27),11,1))","v":""},{"$f":"DBCS(MID(ASC(入力用!E27),12,1))","v":""},{"$f":"DBCS(MID(ASC(入力用!E27),13,1))","v":""},{"$f":"DBCS(MID(ASC(入力用!E27),14,1))","v":""},{"$f":"DBCS(MID(ASC(入力用!E27),15,1))","v":""},{"$f":"DBCS(MID(ASC(入力用!E27),16,1))","v":""},{"$f":"DBCS(MID(ASC(入力用!E27),17,1))","v":""},{"$f":"DBCS(MID(ASC(入力用!E27),18,1))","v":""},{"$f":"DBCS(MID(ASC(入力用!E27),19,1))","v":""},{"$f":"DBCS(MID(ASC(入力用!E27),20,1))","v":""},"請求書\n送付先",null,null,null,null,"(〒",null,{"$f":"LEFT(入力用!E29,3)","v":""},null,null,"-",{"$f":"RIGHT(入力用!E29,4)","v":""},null,null,null,")",null,{"$f":"IF(入力用!E30=\"同上\",\"\",LEFT(入力用!E30,9))","v":""},null,null,null,null,null,null,null,null,null,"供給地点特定番号",null,null,null,null,null,null,"発行\n回数",null,null,"支店",null,"ﾌﾞﾛｯｸ",null,null,"住所",null,null,null,null,"街区",null,null,"契約№",null,null,null,null,"枝番",null,null,"種別",null,null,"種別",null,null,"種別",null,null,"種別"]
[]
[null,null,null,null,null,null,null,null,null,null,null,null,null,null,null,null,null,null,{"$f":"DBCS(MID(ASC(入力用!E27),21,1))","v":""},{"$f":"DBCS(MID(ASC(入力用!E27),22,1))","v":""},{"$f":"DBCS(MID(ASC(入力用!E27),23,1))","v":""},{"$f":"DBCS(MID(ASC(入力用!E27),24,1))","v":""},{"$f":"DBCS(MID(ASC(入力用!E27),25,1))","v":""},{"$f":"DBCS(MID(ASC(入力用!E27),26,1))","v":""},{"$f":"DBCS(MID(ASC(入力用!E27),27,1))","v":""},{"$f":"DBCS(MID(ASC(入力用!E27),28,1))","v":""},{"$f":"DBCS(MID(ASC(入力用!E27),29,1))","v":""},{"$f":"DBCS(MID(ASC(入力用!E27),30,1))","v":""},{"$f":"DBCS(MID(ASC(入力用!E27),31,1))","v":""},{"$f":"DBCS(MID(ASC(入力用!E27),32,1))","v":""},{"$f":"DBCS(MID(ASC(入力用!E27),33,1))","v":""},{"$f":"DBCS(MID(ASC(入力用!E27),34,1))","v":""},{"$f":"DBCS(MID(ASC(入力用!E27),35,1))","v":""},{"$f":"DBCS(MID(ASC(入力用!E27),36,1))","v":""},{"$f":"DBCS(MID(ASC(入力用!E27),37,1))","v":""},{"$f":"DBCS(MID(ASC(入力用!E27),38,1))","v":""},{"$f":"DBCS(MID(ASC(入力用!E27),39,1))","v":""},{"$f":"DBCS(MID(ASC(入力用!E27),40,1))","v":""},null,null,null,null,null,{"$f":"IF(入力用!E30=\"同上\",入力用!E30,MID(入力用!E30,10,17))","v":""}]
[null,null,null,null,null,null,null,null,null,null,null,null,null,null,null,null,null,null,null,null,null,null,null,null,null,null,null,null,null,null,null,null,null,null,null,null,null,null,null,null,null,null,null,null,null,null,null,null,null,null,null,null,null,null,null,null,null,null,null,null,null,null,null,null,null,null,null,null,"010",null,null,null,null,null,null,null,null,null,null,null,null,null,null,null,null,null,null,null,null,null,null,null,null,null,null,null,{"$f":"IF(入力用!Q32=2,\"01\",IF(入力用!Q32=3,\"11\",IF(入力用!Q32=4,\"21\",IF(入力用!Q32=5,\"31\",\"\"))))","v":""},null,null,{"$f":"IF(入力用!Q82>1,\"51\",\"\")","v":""},null,null,{"$f":"IF(入力用!Q110=2,\"91\",IF(入力用!Q110=3,\"92\",IF(入力用!Q110=4,\"94\",IF(入力用!Q110=5,\"93\",IF(OR(入力用!Q110=6,入力用!Q110=8),\"96\",IF(OR(入力用!Q110=7,入力用!Q110>8),\"97\",\"\"))))))","v":""},null,null,{"$f":"IF(入力用!Q160=2,\"91\",IF(入力用!Q160=3,\"92\",IF(入力用!Q160=4,\"94\",IF(入力用!Q160=5,\"93\",IF(OR(入力用!Q160=6,入力用!Q160=8),\"96\",IF(OR(入力用!Q160=7,入力用!Q160>8),\"97\",\"\"))))))","v":""},null,null,"00"]
[null,null,null,null,null,null,null,null,null,null,null,null,null,null,null,null,null,null,{"$f":"IF(入力用!E28=\"\",\"\",入力用!E28)","v":""}]
[null,null,null,null,null,null,null,null,null,null,null,null,null,null,null,null,null,null,null,null,null,null,null,null,null,null,null,null,null,null,null,null,null,null,null,null,null,null,null,null,null,null,null,"電話(",null,null,null,{"$f":"IF(入力用!E31=\"\",\"\",入力用!E31)","v":""},null,null,null,null,"-",{"$f":"IF(入力用!G31=\"\",\"\",入力用!G31)","v":""},null,null,null,null,"-",{"$f":"IF(入力用!J31=\"\",\"\",入力用!J31)","v":""},null,null,null,null,")"]
[]
[null,"電灯需要",null,null,null,null,"契約種別",null,null,null,null,{"$f":"IF(入力用!Q32=2,入力用!S6,IF(入力用!Q32=3,入力用!S7,IF(入力用!Q32=4,入力用!S8,IF(入力用!Q32=5,入力用!S9,\"\"))))","v":""},null,null,null,null,null,null,null,null,null,null,"定額電灯の場合",null,null,null,"契　約　負　荷　設　備　内　訳",null,null,null,null,null,null,null,null,null,null,null,null,null,null,null,null,null,null,null,null,null,null,null,null,null,null,null,null,null,null,null,null,null,null,null,null,null,null,null,"従量電灯の場合",null,null,null,"契約\n決定\n方法",null,null,null,null,{"$f":"IF(入力用!Q69=2,入力用!W6,IF(入力用!Q69=3,入力用!W7,IF(入力用!Q69=4,入力用!W8,IF(入力用!Q69=5,入力用!W9,IF(入力用!Q69=6,入力用!W10,\"\")))))","v":""},null,null,null,null,null,null,null,null,null,null,null,null,"主開閉器・\n電流制限器\nの定格電流",null,null,null,null,null,{"$f":"IF(入力用!E70=\"\",\"\",入力用!E70)","v":""}]
[]
[null,null,null,null,null,null,null,null,null,null,null,null,null,null,null,null,null,null,null,null,null,null,null,null,null,null,"機　　器　　種　　別",null,null,null,null,null,null,null,null,null,null,null,null,null,null,null,null,"出　力",null,null,null,null,null,"力　率",null,null,null,null,null,"入　力",null,null,null,null,null,"灯個数"]
[null,null,null,null,null,null,null,null,null,null,null,null,null,null,null,null,null,null,null,null,null,null,null,null,null,null,null,null,null,null,null,null,null,null,null,null,null,null,null,null,null,null,null,null,null,null,null,null,null,null,null,null,null,null,null,null,null,null,null,null,null,null,null,null,null,null,null,null,null,null,null,null,null,null,null,null,null,null,null,null,null,null,null,null,null,null,null,null,null,null,null,null,null,null,null,null,null,null,null,null,null,null,null,null,null,null,null,null,null,"Ａ"]
[null,null,null,null,null,null,null,null,null,null,null,null,null,null,null,null,null,null,null,null,null,null,null,null,null,null,{"$f":"IF(入力用!Q34=2,入力用!U6,IF(入力用!Q34=3,入力用!U7,IF(入力用!Q34=4,入力用!U8,IF(入力用!Q34=5,入力用!U9,IF(入力用!Q34=6,入力用!M34,\"\")))))","v":""},null,null,null,null,null,null,null,null,null,null,null,null,null,null,null,null,{"$f":"IF(入力用!E35=\"\",\"\",入力用!E35)","v":""},null,null,null,"W",null,{"$f":"IF(入力用!Q36=2,入力用!V6,IF(入力用!Q36=3,入力用!V7,\"\"))","v":""},null,null,null,null,null,{"$f":"IF(入力用!E37=\"\",\"\",入力用!E37)","v":""},null,null,null,"VA",null,{"$f":"IF(入力用!E38=\"\",\"\",入力用!E38)","v":""},null,null,"灯"]
[]
[null,null,null,null,null,null,null,null,null,null,null,null,null,null,null,null,null,null,null,null,null,null,null,null,null,null,null,null,null,null,null,null,null,null,null,null,null,null,null,null,null,null,null,null,null,null,null,null,null,null,null,null,null,null,null,null,null,null,null,null,null,null,null,null,null,null,null,null,null,null,null,null,null,null,null,null,null,null,null,null,null,null,null,null,null,null,null,null,"適用業種別\n回路数内訳",null,null,null,null,null,{"$f":"入力用!R73","v":""},null,null,null,null,null,null,null,null,null,{"$f":"IF(入力用!H72=\"\",\"\",入力用!H72)","v":""},null,null,"回路"]
[null,null,null,null,null,null,null,null,null,null,null,null,null,null,null,null,null,null,null,null,null,null,null,null,null,null,{"$f":"IF(入力用!Q39=2,入力用!U6,IF(入力用!Q39=3,入力用!U7,IF(入力用!Q39=4,入力用!U8,IF(入力用!Q39=5,入力用!U9,IF(入力用!Q39=6,入力用!M39,\"\")))))","v":""},null,null,null,null,null,null,null,null,null,null,null,null,null,null,null,null,{"$f":"IF(入力用!E40=\"\",\"\",入力用!E40)","v":""},null,null,null,"W",null,{"$f":"IF(入力用!Q41=2,入力用!V6,IF(入力用!Q41=3,入力用!V7,\"\"))","v":""},null,null,null,null,null,{"$f":"IF(入力用!E42=\"\",\"\",入力用!E42)","v":""},null,null,null,"VA",null,{"$f":"IF(入力用!E43=\"\",\"\",入力用!E43)","v":""},null,null,"灯"]
[null,null,null,null,null,null,null,null,null,null,null,null,null,null,null,null,null,null,null,null,null,null,null,null,null,null,null,null,null,null,null,null,null,null,null,null,null,null,null,null,null,null,null,null,null,null,null,null,null,null,null,null,null,null,null,null,null,null,null,null,null,null,null,null,null,null,null,null,null,null,null,null,null,null,null,null,null,null,null,null,null,null,null,null,null,null,null,null,null,null,null,null,null,null,{"$f":"入力用!R75","v":""},null,null,null,null,null,null,null,null,null,{"$f":"IF(入力用!H74=\"\",\"\",入力用!H74)","v":""},null,null,"回路"]
[]
[null,null,null,null,null,null,null,null,null,null,null,null,null,null,null,null,null,null,null,null,null,null,null,null,null,null,{"$f":"IF(入力用!Q44=2,入力用!U6,IF(入力用!Q44=3,入力用!U7,IF(入力用!Q44=4,入力用!U8,IF(入力用!Q44=5,入力用!U9,IF(入力用!Q44=6,入力用!M44,\"\")))))","v":""},null,null,null,null,null,null,null,null,null,null,null,null,null,null,null,null,{"$f":"IF(入力用!E45=\"\",\"\",入力用!E45)","v":""},null,null,null,"W",null,{"$f":"IF(入力用!Q46=2,入力用!V6,IF(入力用!Q46=3,入力用!V7,\"\"))","v":""},null,null,null,null,null,{"$f":"IF(入力用!E47=\"\",\"\",入力用!E47)","v":""},null,null,null,"VA",null,{"$f":"IF(入力用!E48=\"\",\"\",入力用!E48)","v":""},null,null,"灯",null,null,null,null,null,null,null,null,null,null,null,null,null,null,null,null,null,null,null,null,null,null,null,null,null,null,null,null,null,{"$f":"入力用!R77","v":""},null,null,null,null,null,null,null,null,null,{"$f":"IF(入力用!H76=\"\",\"\",入力用!H76)","v":""},null,null,"回路"]
[]
[null,null,null,null,null,null,"供給電気\n方 式 ・\n供給電圧",null,null,null,null,{"$f":"IF(入力用!Q33=2,入力用!T6,IF(入力用!Q33=3,入力用!T7,IF(入力用!Q33=4,\"単相3線式\n100V・200V\",IF(入力用!Q33=5,入力用!T9,\"\"))))","v":""},null,null,null,null,null,null,null,null,null,null,null,null,null,null,null,null,null,null,null,null,null,null,null,null,null,null,null,null,null,null,null,null,null,null,null,null,null,null,null,null,null,null,null,null,null,null,null,null,null,null,null,null,null,null,null,null,null,null,"契　約　負　荷　設　備　内　訳"]
[null,null,null,null,null,null,null,null,null,null,null,null,null,null,null,null,null,null,null,null,null,null,null,null,null,null,{"$f":"IF(入力用!Q49=2,入力用!U6,IF(入力用!Q49=3,入力用!U7,IF(入力用!Q49=4,入力用!U8,IF(入力用!Q49=5,入力用!U9,IF(入力用!Q49=6,入力用!M49,\"\")))))","v":""},null,null,null,null,null,null,null,null,null,null,null,null,null,null,null,null,{"$f":"IF(入力用!E50=\"\",\"\",入力用!E50)","v":""},null,null,null,"W",null,{"$f":"IF(入力用!Q51=2,入力用!V6,IF(入力用!Q51=3,入力用!V7,\"\"))","v":""},null,null,null,null,null,{"$f":"IF(入力用!E52=\"\",\"\",入力用!E52)","v":""},null,null,null,"VA",null,{"$f":"IF(入力用!E53=\"\",\"\",入力用!E53)","v":""},null,null,"灯"]
[null,null,null,null,null,null,null,null,null,null,null,null,null,null,null,null,null,null,null,null,null,null,null,null,null,null,null,null,null,null,null,null,null,null,null,null,null,null,null,null,null,null,null,null,null,null,null,null,null,null,null,null,null,null,null,null,null,null,null,null,null,null,null,null,null,null,null,null,null,null,"電灯",null,null,null,null,{"$f":"IF(入力用!E77=\"\",\"\",入力用!E77)","v":""},null,null,null,"灯",null,{"$f":"IF(入力用!E78=\"\",\"\",入力用!E78)","v":""},null,null,null,null,null,null,"VA",null,null,"小型\n機器",null,null,null,null,{"$f":"IF(入力用!E79=\"\",\"\",入力用!E79)","v":""},null,null,null,"個",null,{"$f":"IF(入力用!E80=\"\",\"\",入力用!E80)","v":""},null,null,null,null,null,"VA"]
[]
[null,null,null,null,null,null,null,null,null,null,null,null,null,null,null,null,null,null,null,null,null,null,null,null,null,null,{"$f":"IF(入力用!E54=\"\",\"\",入力用!E54)","v":""},null,null,null,null,null,null,null,null,null,null,null,null,null,null,null,null,{"$f":"IF(入力用!E55=\"\",\"\",入力用!E55)","v":""},null,null,null,"W",null,{"$f":"IF(入力用!Q56=2,入力用!V6,IF(入力用!Q56=3,入力用!V7,\"\"))","v":""},null,null,null,null,null,{"$f":"IF(入力用!E57=\"\",\"\",入力用!E57)","v":""},null,null,null,"VA",null,{"$f":"IF(入力用!E58=\"\",\"\",入力用!E58)","v":""},null,null,"個"]
[]
[]
[null,null,null,null,null,null,null,null,null,null,null,null,null,null,null,null,null,null,null,null,null,null,null,null,null,null,{"$f":"IF(入力用!E59=\"\",\"\",入力用!E59)","v":""},null,null,null,null,null,null,null,null,null,null,null,null,null,null,null,null,{"$f":"IF(入力用!E60=\"\",\"\",入力用!E60)","v":""},null,null,null,"W",null,{"$f":"IF(入力用!Q61=2,入力用!V6,IF(入力用!Q61=3,入力用!V7,\"\"))","v":""},null,null,null,null,null,{"$f":"IF(入力用!E62=\"\",\"\",入力用!E62)","v":""},null,null,null,"VA",null,{"$f":"IF(入力用!E63=\"\",\"\",入力用!E63)","v":""},null,null,"個",null,null,null,null,null,"回路数",null,null,null,null,{"$f":"IF(入力用!E81=\"\",\"\",入力用!E81)","v":""},null,null,null,null,"合　計　容　量",null,null,null,null,null,null,null,null,null,null,null,null,{"$f":"IF(OR(入力用!Q32=3,入力用!Q32=4),\"契約電流\",IF(入力用!Q32=5,\"契約容量\",\"契約電流\n契約容量\"))","v":"契約電流\n契約容量"},null,null,null,null,null,{"$f":"IF(入力用!Q70=1,\"\",IF(入力用!S81=0,\"\",入力用!S81))","v":""},null,null,null,null,null,null,null,{"$f":"IF(OR(入力用!Q32=3,入力用!Q32=4),\"A\",IF(入力用!Q32=5,\"kVA\",\"A\nkVA\"))","v":"A\nkVA"}]
[]
[null,null,null,null,null,null,null,null,null,null,null,null,null,null,null,null,null,null,null,null,null,null,null,null,null,null,null,null,null,null,null,null,null,null,null,null,null,null,null,null,null,null,null,null,null,null,null,null,null,null,null,null,null,null,null,null,null,null,null,null,null,null,null,null,null,null,null,null,null,null,null,null,null,null,null,null,null,null,null,null,{"$f":"IF(OR(入力用!Q69<4,入力用!Q69=6,入力用!Q70=1,入力用!S82=0),\"\",入力用!S82)","v":""},null,null,null,null,null,null,null,null,"ＶＡ"]
[null,null,null,null,null,null,null,null,null,null,null,null,null,null,null,null,null,null,null,null,null,null,null,null,null,null,{"$f":"IF(入力用!E64=\"\",\"\",入力用!E64)","v":""},null,null,null,null,null,null,null,null,null,null,null,null,null,null,null,null,{"$f":"IF(入力用!E65=\"\",\"\",入力用!E65)","v":""},null,null,null,"W",null,{"$f":"IF(入力用!Q66=2,入力用!V6,IF(入力用!Q66=3,入力用!V7,\"\"))","v":""},null,null,null,null,null,{"$f":"IF(入力用!E67=\"\",\"\",入力用!E67)","v":""},null,null,null,"VA",null,{"$f":"IF(入力用!E68=\"\",\"\",入力用!E68)","v":""},null,null,"個"]
[]
[]
[null,"電力需要",null,null,null,null,"契約種別",null,null,null,null,{"$f":"IF(入力用!Q82>1,\"低圧電力\",\"\")","v":""},null,null,null,null,null,null,null,null,null,null,"契　約　負　荷　設　備　内　訳"]
[null,null,null,null,null,null,null,null,null,null,null,null,null,null,null,null,null,null,null,null,null,null,null,null,null,null,null,null,null,null,null,null,null,null,null,null,null,null,null,null,null,null,null,null,null,null,null,null,null,null,null,null,null,null,null,null,null,null,null,null,null,null,null,null,null,null,null,null,null,null,null,null,null,null,null,null,null,null,null,null,null,null,null,null,null,null,null,null,null,null,null,null,null,"入力合計",null,null,null,null,null,{"$f":"IF(入力用!U104=0,\"\",入力用!U104)","v":""},null,null,null,null,null,null,null,"ｋＷ"]
[null,null,null,null,null,null,"供給電気\n方 式 ・\n供給電圧",null,null,null,null,{"$f":"IF(入力用!Q82=2,入力用!T6,IF(入力用!Q82=3,入力用!T7,IF(入力用!Q82=4,\"単相3線式\n100V・200V\",IF(入力用!Q82=5,入力用!T9,\"\"))))","v":""},null,null,null,null,null,null,null,null,null,null,"機　　　　　　器　　　　　　種　　　　　　別",null,null,null,null,null,null,null,null,null,null,null,null,null,null,null,null,null,null,null,null,null,null,null,null,null,null,null,null,null,"出　力",null,null,null,null,null,null,null,null,null,null,null,"入　力",null,null,null,null,null,null,null,null,null,null,null,"力　率",null,null,null,null,null,null,null,"台　数"]
[]
[null,null,null,null,null,null,null,null,null,null,null,null,null,null,null,null,null,null,null,null,null,null,{"$f":"IF(入力用!E85=\"\",\"\",入力用!E85)","v":""},null,null,null,null,null,null,null,null,null,null,null,null,null,null,null,null,null,null,null,null,null,null,null,null,null,null,null,null,null,{"$f":"IF(入力用!E86=\"\",\"\",入力用!E86)","v":""},null,null,null,null,null,null,null,null,{"$f":"IF(入力用!Q86=2,入力用!Z6,IF(入力用!Q86=3,入力用!Y7,\"㏋\nkW\"))","v":"㏋\nkW"},null,null,{"$f":"IF(入力用!E87=\"\",\"\",入力用!E87)","v":""},null,null,null,null,null,null,null,null,"kW",null,null,{"$f":"IF(入力用!Q88=2,入力用!AA6,IF(入力用!Q88=3,入力用!AA7,IF(入力用!Q88=4,入力用!AA8,IF(入力用!Q88=5,入力用!AA9,\"\"))))","v":""},null,null,null,null,null,null,null,{"$f":"IF(入力用!E89=\"\",\"\",入力用!E89)","v":""},null,null,null,null,null,"台"]
[null,null,null,null,null,null,null,null,null,null,null,null,null,null,null,null,null,null,null,null,null,null,null,null,null,null,null,null,null,null,null,null,null,null,null,null,null,null,null,null,null,null,null,null,null,null,null,null,null,null,null,null,null,null,null,null,null,null,null,null,null,null,null,null,null,null,null,null,null,null,null,null,null,null,null,null,null,null,null,null,null,null,null,null,null,null,null,null,null,null,null,null,null,"合計台数",null,null,null,null,null,{"$f":"IF(SUM(CG81:CL95)=0,\"\",SUM(CG81:CL95))","v":""},null,null,null,null,null,null,null,"台"]
[]
[null,null,null,null,null,null,null,null,null,null,null,null,null,null,null,null,null,null,null,null,null,null,{"$f":"IF(入力用!E90=\"\",\"\",入力用!E90)","v":""},null,null,null,null,null,null,null,null,null,null,null,null,null,null,null,null,null,null,null,null,null,null,null,null,null,null,null,null,null,{"$f":"IF(入力用!E91=\"\",\"\",入力用!E91)","v":""},null,null,null,null,null,null,null,null,{"$f":"IF(入力用!Q91=2,入力用!Z6,IF(入力用!Q91=3,入力用!Y7,\"㏋\nkW\"))","v":"㏋\nkW"},null,null,{"$f":"IF(入力用!E92=\"\",\"\",入力用!E92)","v":""},null,null,null,null,null,null,null,null,"kW",null,null,{"$f":"IF(入力用!Q93=2,入力用!AA6,IF(入力用!Q93=3,入力用!AA7,IF(入力用!Q93=4,入力用!AA8,IF(入力用!Q93=5,入力用!AA9,\"\"))))","v":""},null,null,null,null,null,null,null,{"$f":"IF(入力用!E94=\"\",\"\",入力用!E94)","v":""},null,null,null,null,null,"台"]
[null,null,null,null,null,null,"契約決定\n方　　法",null,null,null,null,{"$f":"IF(入力用!Q83=2,入力用!Y6,IF(入力用!Q83=3,入力用!Y7,\"\"))","v":""}]
[null,null,null,null,null,null,null,null,null,null,null,null,null,null,null,null,null,null,null,null,null,null,null,null,null,null,null,null,null,null,null,null,null,null,null,null,null,null,null,null,null,null,null,null,null,null,null,null,null,null,null,null,null,null,null,null,null,null,null,null,null,null,null,null,null,null,null,null,null,null,null,null,null,null,null,null,null,null,null,null,null,null,null,null,null,null,null,null,null,null,null,null,null,"力　　率",null,null,null,null,null,"85％",null,null,null,null,null,{"$f":"IF(入力用!Q83=2,\"超過\",IF(入力用!U88=\"\",\"超過\n未満\",IF(入力用!U88>0.85,\"超過\",IF(入力用!U88<0.85,\"未満\",\"\"))))","v":"超過\n未満"}]
[null,null,null,null,null,null,null,null,null,null,null,null,null,null,null,null,null,null,null,null,null,null,{"$f":"IF(入力用!E95=\"\",\"\",入力用!E95)","v":""},null,null,null,null,null,null,null,null,null,null,null,null,null,null,null,null,null,null,null,null,null,null,null,null,null,null,null,null,null,{"$f":"IF(入力用!E96=\"\",\"\",入力用!E96)","v":""},null,null,null,null,null,null,null,null,{"$f":"IF(入力用!Q96=2,入力用!Z6,IF(入力用!Q96=3,入力用!Y7,\"㏋\nkW\"))","v":"㏋\nkW"},null,null,{"$f":"IF(入力用!E97=\"\",\"\",入力用!E97)","v":""},null,null,null,null,null,null,null,null,"kW",null,null,{"$f":"IF(入力用!Q98=2,入力用!AA6,IF(入力用!Q98=3,入力用!AA7,IF(入力用!Q98=4,入力用!AA8,IF(入力用!Q98=5,入力用!AA9,\"\"))))","v":""},null,null,null,null,null,null,null,{"$f":"IF(入力用!E99=\"\",\"\",入力用!E99)","v":""},null,null,null,null,null,"台"]
[]
[]
[null,null,null,null,null,null,null,null,null,null,null,null,null,null,null,null,null,null,null,null,null,null,{"$f":"IF(入力用!E100=\"\",\"\",入力用!E100)","v":""},null,null,null,null,null,null,null,null,null,null,null,null,null,null,null,null,null,null,null,null,null,null,null,null,null,null,null,null,null,{"$f":"IF(入力用!E101=\"\",\"\",入力用!E101)","v":""},null,null,null,null,null,null,null,null,{"$f":"IF(入力用!Q101=2,入力用!Z6,IF(入力用!Q101=3,入力用!Y7,\"㏋\nkW\"))","v":"㏋\nkW"},null,null,{"$f":"IF(入力用!E102=\"\",\"\",入力用!E102)","v":""},null,null,null,null,null,null,null,null,"kW",null,null,{"$f":"IF(入力用!Q103=2,入力用!AA6,IF(入力用!Q103=3,入力用!AA7,IF(入力用!Q103=4,入力用!AA8,IF(入力用!Q103=5,入力用!AA9,\"\"))))","v":""},null,null,null,null,null,null,null,{"$f":"IF(入力用!E104=\"\",\"\",入力用!E104)","v":""},null,null,null,null,null,"台"]
[null,null,null,null,null,null,"主開閉\n器の定\n格電流",null,null,null,null,{"$f":"IF(入力用!E84=\"\",\"\",入力用!E84)","v":""},null,null,null,null,null,null,null,null,"Ａ",null,null,null,null,null,null,null,null,null,null,null,null,null,null,null,null,null,null,null,null,null,null,null,null,null,null,null,null,null,null,null,null,null,null,null,null,null,null,null,null,null,null,null,null,null,null,null,null,null,null,null,null,null,null,null,null,null,null,null,null,null,null,null,null,null,null,null,null,null,null,null,null,"契約電力",null,null,null,null,null,{"$f":"IF(入力用!U102=0,\"\",入力用!U102)","v":""},null,null,null,null,null,null,null,"ｋＷ"]
[]
[null,null,null,null,null,null,null,null,null,null,null,null,null,null,null,null,null,null,null,null,null,null,{"$f":"IF(入力用!E105=\"\",\"\",入力用!E105)","v":""},null,null,null,null,null,null,null,null,null,null,null,null,null,null,null,null,null,null,null,null,null,null,null,null,null,null,null,null,null,{"$f":"IF(入力用!E106=\"\",\"\",入力用!E106)","v":""},null,null,null,null,null,null,null,null,{"$f":"IF(入力用!Q106=2,入力用!Z6,IF(入力用!Q106=3,入力用!Y7,\"㏋\nkW\"))","v":"㏋\nkW"},null,null,{"$f":"IF(入力用!E107=\"\",\"\",入力用!E107)","v":""},null,null,null,null,null,null,null,null,"kW",null,null,{"$f":"IF(入力用!Q108=2,入力用!AA6,IF(入力用!Q108=3,入力用!AA7,IF(入力用!Q108=4,入力用!AA8,IF(入力用!Q108=5,入力用!AA9,\"\"))))","v":""},null,null,null,null,null,null,null,{"$f":"IF(入力用!E109=\"\",\"\",入力用!E109)","v":""},null,null,null,null,null,"台"]
[]
[]
[null,"選択約款①",null,null,null,null,"契約種別",null,null,null,null,{"$f":"入力用!R113","v":""},null,null,null,null,null,null,null,null,null,"供給電気\n方 式 ・\n供給電圧",null,null,null,null,{"$f":"IF(入力用!Q111=2,\"単相2線式\n　　100V\",IF(入力用!Q111=3,\"単相2線式\n　　200V\",IF(入力用!Q111=4,\"単相\n　　3線式\n100V\n　　･200V\",IF(入力用!Q111=5,\"3相3線式\n200V\",\"\"))))","v":""},null,null,null,null,null,"契　約　負　荷　設　備　内　訳",null,null,null,null,null,null,null,null,null,null,null,null,null,null,null,null,null,null,null,null,null,null,null,null,null,null,null,null,null,null,null,null,null,null,null,null,null,"通電制御・\n検知制御",null,null,null,null,"検知制御装置"]
[null,null,null,null,null,null,null,null,null,null,null,null,null,null,null,null,null,null,null,null,null,null,null,null,null,null,null,null,null,null,null,null,null,null,null,null,null,null,null,null,null,null,null,null,null,null,null,null,null,null,null,null,null,null,null,null,null,null,null,null,null,null,null,null,null,null,null,null,null,null,null,null,null,null,null,null,null,null,null,null,null,null,null,null,null,null,null,null,null,null,null,null,null,"入力合計",null,null,null,null,null,{"$f":"IF(入力用!U135+入力用!U136=0,\"\",入力用!U135+入力用!U136)","v":""},null,null,null,null,null,null,null,"ｋＷ"]
[null,null,null,null,null,null,null,null,null,null,null,null,null,null,null,null,null,null,null,null,null,null,null,null,null,null,null,null,null,null,null,null,"機器種別",null,null,null,null,"ﾒｰｶｰ",null,null,null,"型　　式",null,null,null,null,null,null,null,"出　力",null,null,null,null,null,"入　力",null,null,null,null,null,"力　率",null,null,null,null,"台数",null,null,null,null,null,null,null,null,"メーカー",null,null,null,"型　式",null,null,null,null,null,null,null,null,"種　類"]
[]
[null,null,null,null,null,null,null,null,null,null,null,null,null,null,null,null,null,null,null,null,null,null,null,null,null,null,null,null,null,null,null,null,{"$f":"IF(入力用!E120=\"\",\"\",入力用!E120)","v":""},null,null,null,null,{"$f":"IF(入力用!E121=\"\",\"\",入力用!E121)","v":""},null,null,null,{"$f":"IF(入力用!E122=\"\",\"\",入力用!E122)","v":""},null,null,null,null,null,null,null,{"$f":"IF(入力用!E123=\"\",\"\",入力用!E123)","v":""},null,null,null,{"$f":"IF(入力用!Q123=2,入力用!Z6,IF(入力用!Q123=3,入力用!Z7,\"㏋\n㎾\"))","v":"㏋\n㎾"},null,{"$f":"IF(入力用!E124=\"\",\"\",入力用!E124)","v":""},null,null,null,"kW",null,{"$f":"IF(入力用!Q125=2,入力用!AA6,IF(入力用!Q125=3,入力用!AA7,IF(入力用!Q125=4,入力用!AA8,IF(入力用!Q125=5,入力用!AA9,\"\"))))","v":""},null,null,null,null,{"$f":"IF(入力用!E126=\"\",\"\",入力用!E126)","v":""},null,"\n台",null,{"$f":"IF(入力用!Q127=2,入力用!AC6,IF(入力用!Q127=3,入力用!AC7,\"\"))","v":""},null,null,null,null,{"$f":"IF(入力用!E114=\"\",\"\",入力用!E114)","v":""},null,null,null,{"$f":"IF(入力用!E115=\"\",\"\",入力用!E115)","v":""},null,null,null,null,null,null,null,null,{"$f":"IF(入力用!Q116=2,入力用!AD6,IF(入力用!Q116=3,入力用!AD7,IF(入力用!Q116=4,入力用!AD8,\"\")))","v":""},null,null,null,null,"合計台数",null,null,null,null,null,{"$f":"IF(SUM(BO100:BP114)=0,\"\",SUM(BO100:BP114))","v":""},null,null,null,null,null,null,null,"台"]
[]
[]
[null,null,null,null,null,null,null,null,null,null,null,null,null,null,null,null,null,null,null,null,null,null,null,null,null,null,null,null,null,null,null,null,{"$f":"IF(入力用!E128=\"\",\"\",入力用!E128)","v":""},null,null,null,null,{"$f":"IF(入力用!E129=\"\",\"\",入力用!E129)","v":""},null,null,null,{"$f":"IF(入力用!E130=\"\",\"\",入力用!E130)","v":""},null,null,null,null,null,null,null,{"$f":"IF(入力用!E131=\"\",\"\",入力用!E131)","v":""},null,null,null,{"$f":"IF(入力用!Q131=2,入力用!Z6,IF(入力用!Q131=3,入力用!Z7,\"㏋\n㎾\"))","v":"㏋\n㎾"},null,{"$f":"IF(入力用!E132=\"\",\"\",入力用!E132)","v":""},null,null,null,"kW",null,{"$f":"IF(入力用!Q133=2,入力用!AA6,IF(入力用!Q133=3,入力用!AA7,IF(入力用!Q133=4,入力用!AA8,IF(入力用!Q133=5,入力用!AA9,\"\"))))","v":""},null,null,null,null,{"$f":"IF(入力用!E134=\"\",\"\",入力用!E134)","v":""},null,"\n台",null,{"$f":"IF(入力用!Q135=2,入力用!AC6,IF(入力用!Q135=3,入力用!AC7,\"\"))","v":""},null,null,null,null,"通電遮断パターン",null,null,null,null,null,null,null,null,null,null,null,null,null,null,null,null,null,"通電制御 ・\n検 知 制 御\n割引対象率",null,null,null,null,null,{"$f":"IF(AND(DC103=\"\",入力用!U132=0),\"\",入力用!U132)","v":""},null,null,"kW",null,"/",null,{"$f":"CV97","v":""},null,null,"kW"]
[]
[null,null,null,null,null,null,null,null,null,null,null,null,null,null,null,null,null,null,null,null,null,null,null,null,null,null,null,null,null,null,null,null,null,null,null,null,null,null,null,null,null,null,null,null,null,null,null,null,null,null,null,null,null,null,null,null,null,null,null,null,null,null,null,null,null,null,null,null,null,null,null,null,null,null,null,{"$f":"IF(入力用!E117=\"\",\"\",入力用!E117)","v":""},null,"時",null,{"$f":"IF(入力用!G117=\"\",\"\",入力用!G117)","v":""},null,"分から",null,null,null,{"$f":"IF(入力用!E118=\"\",\"\",入力用!E118)","v":""},null,{"$f":"IF(入力用!Q117=2,入力用!AE6,IF(入力用!Q117=3,入力用!AE7,\"\"))&IF(入力用!Q118=2,入力用!AF6,IF(入力用!Q118=3,入力用!AF7,\"\"))","v":""},null,null,null,null,null,null,null,null,null,null,null,{"$f":"IF(ISERR(CV103/DC103),\"\",ROUND(CV103/DC103,2)*100)","v":""},null,null,null,null,null,null,null,"％"]
[null,null,null,null,null,null,null,null,null,null,null,null,null,null,null,null,null,null,null,null,null,null,null,null,null,null,null,null,null,null,null,null,{"$f":"IF(入力用!E136=\"\",\"\",入力用!E136)","v":""},null,null,null,null,{"$f":"IF(入力用!E137=\"\",\"\",入力用!E137)","v":""},null,null,null,{"$f":"IF(入力用!E138=\"\",\"\",入力用!E138)","v":""},null,null,null,null,null,null,null,{"$f":"IF(入力用!E139=\"\",\"\",入力用!E139)","v":""},null,null,null,{"$f":"IF(入力用!Q139=2,入力用!Z6,IF(入力用!Q139=3,入力用!Z7,\"㏋\n㎾\"))","v":"㏋\n㎾"},null,{"$f":"IF(入力用!E140=\"\",\"\",入力用!E140)","v":""},null,null,null,"kW",null,{"$f":"IF(入力用!Q141=2,入力用!AA6,IF(入力用!Q141=3,入力用!AA7,IF(入力用!Q141=4,入力用!AA8,IF(入力用!Q141=5,入力用!AA9,\"\"))))","v":""},null,null,null,null,{"$f":"IF(入力用!E142=\"\",\"\",入力用!E142)","v":""},null,"\n台",null,{"$f":"IF(入力用!Q143=2,入力用!AC6,IF(入力用!Q143=3,入力用!AC7,\"\"))","v":""}]
[null,null,null,null,null,null,null,null,null,null,null,null,null,null,null,null,null,null,null,null,null,null,null,null,null,null,null,null,null,null,null,null,null,null,null,null,null,null,null,null,null,null,null,null,null,null,null,null,null,null,null,null,null,null,null,null,null,null,null,null,null,null,null,null,null,null,null,null,null,null,null,null,null,null,null,null,null,null,null,null,null,null,null,null,null,null,null,null,null,null,null,null,null,"力　　率",null,null,null,null,null,"85％",null,null,null,null,null,{"$f":"IF(入力用!Q112=2,\"超過\",IF(入力用!U116=\"\",\"超過\n未満\",IF(入力用!U116>0.85,\"超過\",IF(入力用!U116=0.85,\"\",IF(入力用!U116<0.85,\"未満\")))))","v":"超過\n未満"}]
[]
[null,null,null,null,null,null,null,null,null,null,null,null,null,null,null,null,null,null,null,null,null,null,null,null,null,null,null,null,null,null,null,null,{"$f":"IF(入力用!E144=\"\",\"\",入力用!E144)","v":""},null,null,null,null,{"$f":"IF(入力用!E145=\"\",\"\",入力用!E145)","v":""},null,null,null,{"$f":"IF(入力用!E146=\"\",\"\",入力用!E146)","v":""},null,null,null,null,null,null,null,{"$f":"IF(入力用!E147=\"\",\"\",入力用!E147)","v":""},null,null,null,{"$f":"IF(入力用!Q147=2,入力用!Z6,IF(入力用!Q147=3,入力用!Z7,\"㏋\n㎾\"))","v":"㏋\n㎾"},null,{"$f":"IF(入力用!E148=\"\",\"\",入力用!E148)","v":""},null,null,null,"kW",null,{"$f":"IF(入力用!Q149=2,入力用!AA6,IF(入力用!Q149=3,入力用!AA7,IF(入力用!Q149=4,入力用!AA8,IF(入力用!Q149=5,入力用!AA9,\"\"))))","v":""},null,null,null,null,{"$f":"IF(入力用!E150=\"\",\"\",入力用!E150)","v":""},null,"\n台",null,{"$f":"IF(入力用!Q151=2,入力用!AC6,IF(入力用!Q151=3,入力用!AC7,\"\"))","v":""},null,null,null,null,"最低使用期間"]
[]
[null,null,null,null,null,null,"契約決定\n方　　法",null,null,null,null,{"$f":"IF(入力用!Q112=2,入力用!Y6,IF(入力用!Q112=3,入力用!Y7,\"\"))","v":""},null,null,null,null,null,null,null,null,null,null,null,null,null,null,null,null,null,null,null,null,null,null,null,null,null,null,null,null,null,null,null,null,null,null,null,null,null,null,null,null,null,null,null,null,null,null,null,null,null,null,null,null,null,null,null,null,null,null,null,null,null,null,null,"開始月",null,null,null,null,null,null,null,null,"終了月",null,null,null,null,null,null,null,null,"契約電力",null,null,null,null,null,{"$f":"IF(入力用!U130=0,\"\",入力用!U130)","v":""},null,null,null,null,null,null,null,"ｋＷ"]
[null,null,null,null,null,null,null,null,null,null,null,null,null,null,null,null,null,null,null,null,null,"主開閉器\n定格電流",null,null,null,null,{"$f":"IF(入力用!E113=\"\",\"\",入力用!E113)","v":""},null,null,null,"Ａ",null,{"$f":"IF(入力用!E152=\"\",\"\",入力用!E152)","v":""},null,null,null,null,{"$f":"IF(入力用!E153=\"\",\"\",入力用!E153)","v":""},null,null,null,{"$f":"IF(入力用!E154=\"\",\"\",入力用!E154)","v":""},null,null,null,null,null,null,null,{"$f":"IF(入力用!E155=\"\",\"\",入力用!E155)","v":""},null,null,null,{"$f":"IF(入力用!Q155=2,入力用!Z6,IF(入力用!Q155=3,入力用!Z7,\"㏋\n㎾\"))","v":"㏋\n㎾"},null,{"$f":"IF(入力用!E156=\"\",\"\",入力用!E156)","v":""},null,null,null,"kW",null,{"$f":"IF(入力用!Q157=2,入力用!AA6,IF(入力用!Q157=3,入力用!AA7,IF(入力用!Q157=4,入力用!AA8,IF(入力用!Q157=5,入力用!AA9,\"\"))))","v":""},null,null,null,null,{"$f":"IF(入力用!E158=\"\",\"\",入力用!E158)","v":""},null,"\n台",null,{"$f":"IF(入力用!Q159=2,入力用!AC6,IF(入力用!Q159=3,入力用!AC7,\"\"))","v":""}]
[null,null,null,null,null,null,null,null,null,null,null,null,null,null,null,null,null,null,null,null,null,null,null,null,null,null,null,null,null,null,null,null,null,null,null,null,null,null,null,null,null,null,null,null,null,null,null,null,null,null,null,null,null,null,null,null,null,null,null,null,null,null,null,null,null,null,null,null,null,null,null,null,null,null,null,{"$f":"IF(入力用!E119=\"\",\"\",入力用!E119)","v":""},null,null,null,null,"月分",null,null,null,{"$f":"IF(入力用!E119=\"\",\"\",IF(AND(入力用!Q110>5,入力用!Q110<10),IF(BX113>10,BX113-10,BX113+2),IF(入力用!Q110=10,IF(BX113>7,BX113-7,BX113+5),\"\")))","v":""},null,null,null,null,"月分"]
[]
[null,"選択約款②",null,null,null,null,"契約種別",null,null,null,null,{"$f":"入力用!R163","v":""},null,null,null,null,null,null,null,null,null,"供給電気\n方 式 ・\n供給電圧",null,null,null,null,{"$f":"IF(入力用!Q161=2,\"単相2線式\n　　100V\",IF(入力用!Q161=3,\"単相2線式\n　　200V\",IF(入力用!Q161=4,\"単相\n　　3線式\n100V\n　　･200V\",IF(入力用!Q161=5,\"3相3線式\n200V\",\"\"))))","v":""},null,null,null,null,null,"契　約　負　荷　設　備　内　訳",null,null,null,null,null,null,null,null,null,null,null,null,null,null,null,null,null,null,null,null,null,null,null,null,null,null,null,null,null,null,null,null,null,null,null,null,null,"通電制御・\n検知制御",null,null,null,null,"検知制御装置"]
[null,null,null,null,null,null,null,null,null,null,null,null,null,null,null,null,null,null,null,null,null,null,null,null,null,null,null,null,null,null,null,null,null,null,null,null,null,null,null,null,null,null,null,null,null,null,null,null,null,null,null,null,null,null,null,null,null,null,null,null,null,null,null,null,null,null,null,null,null,null,null,null,null,null,null,null,null,null,null,null,null,null,null,null,null,null,null,null,null,null,null,null,null,"入力合計",null,null,null,null,null,{"$f":"IF(入力用!U185+入力用!U186=0,\"\",入力用!U185+入力用!U186)","v":""},null,null,null,null,null,null,null,"ｋＷ"]
[null,null,null,null,null,null,null,null,null,null,null,null,null,null,null,null,null,null,null,null,null,null,null,null,null,null,null,null,null,null,null,null,"機器種別",null,null,null,null,"ﾒｰｶｰ",null,null,null,"型　　式",null,null,null,null,null,null,null,"出　力",null,null,null,null,null,"入　力",null,null,null,null,null,"力　率",null,null,null,null,"台数",null,null,null,null,null,null,null,null,"メーカー",null,null,null,"型　式",null,null,null,null,null,null,null,null,"種　類"]
[]
[null,null,null,null,null,null,null,null,null,null,null,null,null,null,null,null,null,null,null,null,null,null,null,null,null,null,null,null,null,null,null,null,{"$f":"IF(入力用!E170=\"\",\"\",入力用!E170)","v":""},null,null,null,null,{"$f":"IF(入力用!E171=\"\",\"\",入力用!E171)","v":""},null,null,null,{"$f":"IF(入力用!E172=\"\",\"\",入力用!E172)","v":""},null,null,null,null,null,null,null,{"$f":"IF(入力用!E173=\"\",\"\",入力用!E173)","v":""},null,null,null,{"$f":"IF(入力用!Q173=2,入力用!Z6,IF(入力用!Q173=3,入力用!Z7,\"㏋\n㎾\"))","v":"㏋\n㎾"},null,{"$f":"IF(入力用!E174=\"\",\"\",入力用!E174)","v":""},null,null,null,"kW",null,{"$f":"IF(入力用!Q175=2,入力用!AA6,IF(入力用!Q175=3,入力用!AA7,IF(入力用!Q175=4,入力用!AA8,IF(入力用!Q175=5,入力用!AA9,\"\"))))","v":""},null,null,null,null,{"$f":"IF(入力用!E176=\"\",\"\",入力用!E176)","v":""},null,"\n台",null,{"$f":"IF(入力用!Q177=2,入力用!AC6,IF(入力用!Q177=3,入力用!AC7,\"\"))","v":""},null,null,null,null,{"$f":"IF(入力用!E164=\"\",\"\",入力用!E164)","v":""},null,null,null,{"$f":"IF(入力用!E165=\"\",\"\",入力用!E165)","v":""},null,null,null,null,null,null,null,null,{"$f":"IF(入力用!Q166=2,入力用!AD6,IF(入力用!Q166=3,入力用!AD7,IF(入力用!Q166=4,入力用!AD8,\"\")))","v":""},null,null,null,null,"合計台数",null,null,null,null,null,{"$f":"IF(SUM(BO119:BP133)=0,\"\",SUM(BO119:BP133))","v":""},null,null,null,null,null,null,null,"台"]
[]
[]
[null,null,null,null,null,null,null,null,null,null,null,null,null,null,null,null,null,null,null,null,null,null,null,null,null,null,null,null,null,null,null,null,{"$f":"IF(入力用!E178=\"\",\"\",入力用!E178)","v":""},null,null,null,null,{"$f":"IF(入力用!E179=\"\",\"\",入力用!E179)","v":""},null,null,null,{"$f":"IF(入力用!E180=\"\",\"\",入力用!E180)","v":""},null,null,null,null,null,null,null,{"$f":"IF(入力用!E181=\"\",\"\",入力用!E181)","v":""},null,null,null,{"$f":"IF(入力用!Q181=2,入力用!Z6,IF(入力用!Q181=3,入力用!Z7,\"㏋\n㎾\"))","v":"㏋\n㎾"},null,{"$f":"IF(入力用!E182=\"\",\"\",入力用!E182)","v":""},null,null,null,"kW",null,{"$f":"IF(入力用!Q183=2,入力用!AA6,IF(入力用!Q183=3,入力用!AA7,IF(入力用!Q183=4,入力用!AA8,IF(入力用!Q183=5,入力用!AA9,\"\"))))","v":""},null,null,null,null,{"$f":"IF(入力用!E184=\"\",\"\",入力用!E184)","v":""},null,"\n台",null,{"$f":"IF(入力用!Q185=2,入力用!AC6,IF(入力用!Q185=3,入力用!AC7,\"\"))","v":""},null,null,null,null,"通電遮断パターン",null,null,null,null,null,null,null,null,null,null,null,null,null,null,null,null,null,"通電制御 ・\n検 知 制 御\n割引対象率",null,null,null,null,null,{"$f":"IF(AND(DC122=\"\",入力用!U182=0),\"\",入力用!U182)","v":""},null,null,"kW",null,"/",null,{"$f":"CV116","v":""},null,null,"kW"]
[]
[null,null,null,null,null,null,null,null,null,null,null,null,null,null,null,null,null,null,null,null,null,null,null,null,null,null,null,null,null,null,null,null,null,null,null,null,null,null,null,null,null,null,null,null,null,null,null,null,null,null,null,null,null,null,null,null,null,null,null,null,null,null,null,null,null,null,null,null,null,null,null,null,null,null,null,{"$f":"IF(入力用!E167=\"\",\"\",入力用!E167)","v":""},null,"時",null,{"$f":"IF(入力用!G167=\"\",\"\",入力用!G167)","v":""},null,"分から",null,null,null,{"$f":"IF(入力用!E168=\"\",\"\",入力用!E168)","v":""},null,{"$f":"IF(入力用!Q167=2,入力用!AE6,IF(入力用!Q167=3,入力用!AE7,\"\"))&IF(入力用!Q168=2,入力用!AF6,IF(入力用!Q168=3,入力用!AF7,\"\"))","v":""},null,null,null,null,null,null,null,null,null,null,null,{"$f":"IF(ISERR(CV122/DC122),\"\",ROUND(CV122/DC122,2)*100)","v":""},null,null,null,null,null,null,null,"％"]
[null,null,null,null,null,null,null,null,null,null,null,null,null,null,null,null,null,null,null,null,null,null,null,null,null,null,null,null,null,null,null,null,{"$f":"IF(入力用!E186=\"\",\"\",入力用!E186)","v":""},null,null,null,null,{"$f":"IF(入力用!E187=\"\",\"\",入力用!E187)","v":""},null,null,null,{"$f":"IF(入力用!E188=\"\",\"\",入力用!E188)","v":""},null,null,null,null,null,null,null,{"$f":"IF(入力用!E189=\"\",\"\",入力用!E189)","v":""},null,null,null,{"$f":"IF(入力用!Q189=2,入力用!Z6,IF(入力用!Q189=3,入力用!Z7,\"㏋\n㎾\"))","v":"㏋\n㎾"},null,{"$f":"IF(入力用!E190=\"\",\"\",入力用!E190)","v":""},null,null,null,"kW",null,{"$f":"IF(入力用!Q191=2,入力用!AA6,IF(入力用!Q191=3,入力用!AA7,IF(入力用!Q191=4,入力用!AA8,IF(入力用!Q191=5,入力用!AA9,\"\"))))","v":""},null,null,null,null,{"$f":"IF(入力用!E192=\"\",\"\",入力用!E192)","v":""},null,"\n台",null,{"$f":"IF(入力用!Q193=2,入力用!AC6,IF(入力用!Q193=3,入力用!AC7,\"\"))","v":""}]
[null,null,null,null,null,null,null,null,null,null,null,null,null,null,null,null,null,null,null,null,null,null,null,null,null,null,null,null,null,null,null,null,null,null,null,null,null,null,null,null,null,null,null,null,null,null,null,null,null,null,null,null,null,null,null,null,null,null,null,null,null,null,null,null,null,null,null,null,null,null,null,null,null,null,null,null,null,null,null,null,null,null,null,null,null,null,null,null,null,null,null,null,null,"力　　率",null,null,null,null,null,"85％",null,null,null,null,null,{"$f":"IF(入力用!Q162=2,\"超過\",IF(入力用!U166=\"\",\"超過\n未満\",IF(入力用!U166>0.85,\"超過\",IF(入力用!U166=0.85,\"\",IF(入力用!U166<0.85,\"未満\")))))","v":"超過\n未満"}]
[]
[null,null,null,null,null,null,null,null,null,null,null,null,null,null,null,null,null,null,null,null,null,null,null,null,null,null,null,null,null,null,null,null,{"$f":"IF(入力用!E194=\"\",\"\",入力用!E194)","v":""},null,null,null,null,{"$f":"IF(入力用!E195=\"\",\"\",入力用!E195)","v":""},null,null,null,{"$f":"IF(入力用!E196=\"\",\"\",入力用!E196)","v":""},null,null,null,null,null,null,null,{"$f":"IF(入力用!E197=\"\",\"\",入力用!E197)","v":""},null,null,null,{"$f":"IF(入力用!Q197=2,入力用!Z6,IF(入力用!Q197=3,入力用!Z7,\"㏋\n㎾\"))","v":"㏋\n㎾"},null,{"$f":"IF(入力用!E198=\"\",\"\",入力用!E198)","v":""},null,null,null,"kW",null,{"$f":"IF(入力用!Q199=2,入力用!AA6,IF(入力用!Q199=3,入力用!AA7,IF(入力用!Q199=4,入力用!AA8,IF(入力用!Q199=5,入力用!AA9,\"\"))))","v":""},null,null,null,null,{"$f":"IF(入力用!E200=\"\",\"\",入力用!E200)","v":""},null,"\n台",null,{"$f":"IF(入力用!Q201=2,入力用!AC6,IF(入力用!Q201=3,入力用!AC7,\"\"))","v":""},null,null,null,null,"最低使用期間"]
[]
[null,null,null,null,null,null,"契約決定\n方　　法",null,null,null,null,{"$f":"IF(入力用!Q162=2,入力用!Y6,IF(入力用!Q162=3,入力用!Y7,\"\"))","v":""},null,null,null,null,null,null,null,null,null,null,null,null,null,null,null,null,null,null,null,null,null,null,null,null,null,null,null,null,null,null,null,null,null,null,null,null,null,null,null,null,null,null,null,null,null,null,null,null,null,null,null,null,null,null,null,null,null,null,null,null,null,null,null,"開始月",null,null,null,null,null,null,null,null,"終了月",null,null,null,null,null,null,null,null,"契約電力",null,null,null,null,null,{"$f":"IF(入力用!U180=0,\"\",入力用!U180)","v":""},null,null,null,null,null,null,null,"ｋＷ"]
[null,null,null,null,null,null,null,null,null,null,null,null,null,null,null,null,null,null,null,null,null,"主開閉器\n定格電流",null,null,null,null,{"$f":"IF(入力用!E163=\"\",\"\",入力用!E163)","v":""},null,null,null,"Ａ",null,{"$f":"IF(入力用!E202=\"\",\"\",入力用!E202)","v":""},null,null,null,null,{"$f":"IF(入力用!E203=\"\",\"\",入力用!E203)","v":""},null,null,null,{"$f":"IF(入力用!E204=\"\",\"\",入力用!E204)","v":""},null,null,null,null,null,null,null,{"$f":"IF(入力用!E205=\"\",\"\",入力用!E205)","v":""},null,null,null,{"$f":"IF(入力用!Q205=2,入力用!Z6,IF(入力用!Q205=3,入力用!Z7,\"㏋\n㎾\"))","v":"㏋\n㎾"},null,{"$f":"IF(入力用!E206=\"\",\"\",入力用!E206)","v":""},null,null,null,"kW",null,{"$f":"IF(入力用!Q207=2,入力用!AA6,IF(入力用!Q207=3,入力用!AA7,IF(入力用!Q207=4,入力用!AA8,IF(入力用!Q207=5,入力用!AA9,\"\"))))","v":""},null,null,null,null,{"$f":"IF(入力用!E208=\"\",\"\",入力用!E208)","v":""},null,"\n台",null,{"$f":"IF(入力用!Q209=2,入力用!AC6,IF(入力用!Q209=3,入力用!AC7,\"\"))","v":""}]
[null,null,null,null,null,null,null,null,null,null,null,null,null,null,null,null,null,null,null,null,null,null,null,null,null,null,null,null,null,null,null,null,null,null,null,null,null,null,null,null,null,null,null,null,null,null,null,null,null,null,null,null,null,null,null,null,null,null,null,null,null,null,null,null,null,null,null,null,null,null,null,null,null,null,null,{"$f":"IF(入力用!E169=\"\",\"\",入力用!E169)","v":""},null,null,null,null,"月分",null,null,null,{"$f":"IF(入力用!E169=\"\",\"\",IF(AND(入力用!Q160>5,入力用!Q160<10),IF(BX132>10,BX132-10,BX132+2),IF(入力用!Q160=10,IF(BX132>7,BX132-7,BX132+5),\"\")))","v":""},null,null,null,null,"月分"]
[]
[]
[]
[]
[null,"＜備考＞",null,null,null,null,null,null,null,null,null,null,null,null,null,null,null,null,null,null,null,null,null,null,null,null,null,null,null,null,null,null,null,null,null,null,null,null,null,null,"個 別\n部 分\n契 約\n内 容\n合 計",null,null,null,null,"従量電灯Ｂ",null,null,null,null,null,null,"Ａ　　口，　  Ａ　　口",null,null,null,null,null,null,null,null,null,null,null,null,null,null,null,null,"ﾎ ｯ ﾄ ﾀ ｲ ﾑ 1 9",null,null,null,null,null,null,null,null,"kW　　口，　 kW　　口",null,null,null,null,null,null,null,null,null,null,null,null,null,null,null,null,"受付",null,null,null,null,null,null,null,"図面照査"]
[]
[null,null,null,null,null,null,null,null,null,null,null,null,null,null,null,null,null,null,null,null,null,null,null,null,null,null,null,null,null,null,null,null,null,null,null,null,null,null,null,null,null,null,null,null,null,"従量電灯Ｃ",null,null,null,null,null,null,"kVA　　口，　 kVA　　口",null,null,null,null,null,null,null,null,null,null,null,null,null,null,null,null,"ﾎ ｯ ﾄ ﾀ ｲ ﾑ 2 2",null,null,null,null,null,null,null,null,"kW　　口，　 kW　　口"]
[]
[null,null,null,null,null,null,null,null,null,null,null,null,null,null,null,null,null,null,null,null,null,null,null,null,null,null,null,null,null,null,null,null,null,null,null,null,null,null,null,null,null,null,null,null,null,"ドリーム８",null,null,null,null,null,null,"kVA　　口，　 kVA　　口",null,null,null,null,null,null,null,null,null,null,null,null,null,null,null,null,"ﾎ ｯ ﾄ ﾀ ｲ ﾑ 1 9 ｴ ｺ",null,null,null,null,null,null,null,null,"kW　　口，　 kW　　口"]
[]
[null,null,null,null,null,null,null,null,null,null,null,null,null,null,null,null,null,null,null,null,null,null,null,null,null,null,null,null,null,null,null,null,null,null,null,null,null,null,null,null,null,null,null,null,null,"ｅタイム３",null,null,null,null,null,null,"kVA　　口，　 kVA　　口",null,null,null,null,null,null,null,null,null,null,null,null,null,null,null,null,"ﾎ ｯ ﾄ ﾀ ｲ ﾑ 2 2 ｴ ｺ",null,null,null,null,null,null,null,null,"kW　　口，　 kW　　口"]
[]
[null,null,null,null,null,null,null,null,null,null,null,null,null,null,null,null,null,null,null,null,null,null,null,null,null,null,null,null,null,null,null,null,null,null,null,null,null,null,null,null,null,null,null,null,null,null,null,null,null,null,null,null,null,null,null,null,null,null,null,null,null,null,null,null,null,null,null,null,null,"ﾎｯﾄﾀｲﾑ22ﾛﾝｸﾞ",null,null,null,null,null,null,null,null,"kW　　口，　 kW　　口"]
[]
[]
[]
[]
[]
[null,null,"施設組合印",null,null,null,null,null,null,null,null,null,null,null,null,null,null,null,null,null,null,null,null,"住　　所"]
[]
[]
[]
[null,null,null,null,null,null,null,null,null,null,null,null,null,null,null,null,null,null,null,null,null,null,null,null,null,null,null,null,null,null,null,null,null,null,null,null,null,null,null,null,null,null,null,null,null,null,null,null,null,null,null,null,null,null,null,null,null,null,null,null,null,null,null,null,null,null,null,null,null,null,null,null,null,null,null,null,null,null,null,null,null,null,null,null,null,"北電コード№　　　　　　　　　　　　　　　"]
[null,null,null,null,null,null,null,null,null,null,null,null,null,null,null,null,null,null,null,null,null,null,null,"工　　事\n会 社 名"]
[]
[null,null,null,null,null,null,null,null,null,null,null,null,null,null,null,null,null,null,null,null,null,null,null,null,null,null,null,null,null,null,null,null,null,null,null,null,null,null,null,null,null,null,null,null,null,null,null,null,null,null,null,null,null,null,null,null,null,null,null,null,null,null,null,null,null,null,null,null,null,null,null,null,null,null,null,null,null,null,null,"印",null,null,null,null,null,"ＴＥＬ　　　　　　　　　　　　　　　　　　　　"]
[]
[]
[null,null,null,null,null,null,null,null,null,null,null,null,null,null,null,null,null,null,null,null,null,null,null,null,null,null,null,null,null,null,null,null,null,null,null,null,null,null,null,null,null,null,null,null,null,null,null,null,null,null,null,null,null,null,null,null,null,null,null,null,null,null,null,null,null,null,null,null,null,null,null,null,null,null,null,null,null,null,null,null,null,null,null,null,null,"工事会社連絡箱№　　　　　　　　　　　"]
[null,null,null,null,null,null,null,null,null,null,null,null,null,null,null,null,null,null,null,null,null,null,null,"氏　　名"]
[]
[]
[]
[]
[]
["北　海　道　電　力　ネ　ッ　ト　ワ　ー　ク　株　式　会　社"]