{"text_format":"1","workbook":"xlsx","n_sheets":4,"sheets":["入力用","１枚目","２枚目","３枚目"],"not_rendered":{"charts":0,"images":0,"macros":1,"external_links":0,"defined_names":4,"comments":1,"pivot_tables":0},"unopened":[],"bounds":{"document_bytes":16777216,"sheet_cells":100000,"rows_first":2000,"rows_last":500,"rows_between":2000,"halvings":0,"cell_chars":16384,"cell_head_chars":4096},"cells_cut":0,"cells_raw":0,"read":"whole","date_system":"1900"}

{"sheet":"入力用","index":0,"n_rows":225,"n_cols":22,"rows_kept":225,"cut":false,"hidden":false,"merged":[[202,20,202,21],[207,16,207,20],[208,4,208,5],[210,4,210,5],[219,1,224,1],[219,16,219,20],[220,4,220,5],[222,4,222,5],[222,20,222,21],[223,4,223,5],[223,20,223,21],[211,4,211,5],[213,1,218,1],[213,16,213,20],[214,4,214,5],[216,4,216,5],[217,4,217,5],[190,4,190,5],[191,4,191,5],[200,4,200,5],[185,0,204,0],[205,0,224,0],[205,1,205,2],[205,3,205,11],[206,1,206,2],[206,3,206,11],[207,1,212,1],[202,4,202,5],[183,4,183,5],[183,20,183,21],[171,4,171,5],[173,1,178,1],[173,16,173,20],[174,4,174,5],[176,4,176,5],[177,4,177,5],[199,16,199,20],[185,1,185,2],[185,3,185,11],[186,1,186,2],[186,3,186,11],[187,1,192,1],[193,1,198,1],[199,1,204,1],[203,4,203,5],[203,20,203,21],[193,16,193,20],[194,4,194,5],[196,4,196,5],[197,4,197,5],[187,16,187,20],[188,4,188,5],[163,20,163,21],[165,0,184,0],[165,1,165,2],[165,3,165,11],[166,1,166,2],[166,3,166,11],[167,1,172,1],[167,16,167,20],[168,4,168,5],[170,4,170,5],[145,0,164,0],[145,1,145,2],[145,3,145,11],[146,1,146,2],[146,3,146,11],[147,1,152,1],[153,1,158,1],[159,1,164,1],[163,4,163,5],[179,1,184,1],[179,16,179,20],[180,4,180,5],[182,4,182,5],[182,20,182,21],[160,4,160,5],[162,4,162,5],[162,20,162,21],[153,16,153,20],[154,4,154,5],[156,4,156,5],[157,4,157,5],[147,16,147,20],[148,4,148,5],[150,4,150,5],[151,4,151,5],[143,4,143,5],[143,20,143,21],[131,4,131,5],[133,1,138,1],[133,16,133,20],[134,4,134,5],[136,4,136,5],[137,4,137,5],[159,16,159,20],[123,20,123,21],[125,0,144,0],[125,1,125,2],[125,3,125,11],[126,1,126,2],[126,3,126,11],[127,1,132,1],[127,16,127,20],[128,4,128,5],[130,4,130,5],[105,0,124,0],[105,1,105,2],[105,3,105,11],[106,1,106,2],[106,3,106,11],[107,1,112,1],[113,1,118,1],[119,1,124,1],[123,4,123,5],[139,1,144,1],[139,16,139,20],[140,4,140,5],[142,4,142,5],[142,20,142,21],[120,4,120,5],[122,4,122,5],[122,20,122,21],[113,16,113,20],[114,4,114,5],[116,4,116,5],[117,4,117,5],[107,16,107,20],[108,4,108,5],[110,4,110,5],[111,4,111,5],[103,4,103,5],[103,20,103,21],[91,4,91,5],[93,1,98,1],[93,16,93,20],[94,4,94,5],[96,4,96,5],[97,4,97,5],[119,16,119,20],[83,20,83,21],[85,0,104,0],[85,1,85,2],[85,3,85,11],[86,1,86,2],[86,3,86,11],[87,1,92,1],[87,16,87,20],[88,4,88,5],[90,4,90,5],[65,0,84,0],[65,1,65,2],[65,3,65,11],[66,1,66,2],[66,3,66,11],[67,1,72,1],[73,1,78,1],[79,1,84,1],[83,4,83,5],[99,1,104,1],[99,16,99,20],[100,4,100,5],[102,4,102,5],[102,20,102,21],[79,16,79,20],[80,4,80,5],[82,4,82,5],[82,20,82,21],[73,16,73,20],[74,4,74,5],[76,4,76,5],[77,4,77,5],[67,16,67,20],[68,4,68,5],[70,4,70,5],[71,4,71,5],[43,20,43,21],[45,0,64,0],[45,1,45,2],[45,3,45,11],[46,1,46,2],[46,3,46,11],[47,1,52,1],[47,16,47,20],[48,4,48,5],[50,4,50,5],[59,1,64,1],[59,16,59,20],[60,4,60,5],[62,4,62,5],[62,20,62,21],[63,4,63,5],[63,20,63,21],[51,4,51,5],[53,1,58,1],[53,16,53,20],[54,4,54,5],[56,4,56,5],[57,4,57,5],[25,0,44,0],[39,16,39,20],[40,4,40,5],[42,4,42,5],[42,20,42,21],[33,16,33,20],[34,4,34,5],[36,4,36,5],[37,4,37,5],[27,16,27,20],[28,4,28,5],[30,4,30,5],[31,4,31,5],[25,1,25,2],[25,3,25,11],[26,1,26,2],[26,3,26,11],[18,3,18,11],[27,1,32,1],[33,1,38,1],[39,1,44,1],[43,4,43,5],[22,0,22,2],[23,0,23,2],[24,0,24,2],[24,5,24,6],[19,0,21,1],[19,3,19,6],[20,3,20,11],[21,5,21,6],[21,8,21,9],[16,0,16,2],[17,0,18,1],[17,3,17,11],[24,9,24,10],[13,0,15,1],[13,3,13,11],[14,3,14,11],[15,5,15,6],[15,8,15,9],[8,0,12,1],[8,3,8,11],[9,3,9,11],[10,5,10,6],[11,3,11,11],[1,15,1,21],[2,0,4,1],[2,3,2,11],[3,3,3,11],[4,3,4,11],[12,5,12,6],[12,8,12,9],[5,0,7,1],[5,3,5,11],[6,3,6,11],[7,5,7,6],[7,8,7,9]]}
[]
[null,{"$f":"IF(M2=\"\",\"印刷されましたら，「NW控」に施設組合印および御社の社印を押印してください。\",\"必要事項をすべて入力すると，右の表示が消えます。\")","v":"必要事項をすべて入力すると，右の表示が消えます。"},null,null,null,null,null,null,null,null,null,null,{"$f":"IF(N2=\"\",\"\",N2)","v":"入力に不備があります。"},{"$f":"IF(COUNTBLANK(N3:N3)+COUNTBLANK(N6:N23)+COUNTBLANK(N25:N225)=220,\"\",\"入力に不備があります。\")","v":"入力に不備があります。"},null,"ドロップダウンリスト"]
["ご契約名義",null,"漢字",null,null,null,null,null,null,null,null,null,"←入力してください。",{"$f":"IF(D3=\"\",\"←入力してください。\",\"\")","v":"←入力してください。"},null,"支払方法","契約種別","供給電気方式・供給電圧","機器種別","力率","灯個","電灯取付位置"]
[null,null,"代表者肩書",null,null,null,null,null,null,null,null,null,"ご契約者が個人名ではない場合は入力してください。",{"$f":"IF(D4=\"\",\"ご契約者が個人名ではない場合は入力してください。\",\"\")","v":"ご契約者が個人名ではない場合は入力してください。"}]
[null,null,"代表者名",null,null,null,null,null,null,null,null,null,"ご契約者が個人名ではない場合は入力してください。",{"$f":"IF(D5=\"\",\"ご契約者が個人名ではない場合は入力してください。\",\"\")","v":"ご契約者が個人名ではない場合は入力してください。"},null,"振込用紙","定額電灯","単相2線式100V","水銀灯","高力率型","灯","ほくでん柱"]
["街路灯\n管理責任者",null,"氏名",null,null,null,null,null,null,null,null,null,{"$f":"IF(N6=\"\",\"\",N6)","v":""},{"$f":"IF(AND(D6=\"\",P23=3),\"←入力してください。\",\"\")","v":""},null,"口座振替","公衆街路灯Ａ","単相2線式200Ｖ","ナトリウム灯","低力率型","個","ＮＴＴ柱"]
[null,null,"住所",null,null,null,null,null,null,null,null,null,{"$f":"IF(N7=\"\",\"\",N7)","v":""},{"$f":"IF(AND(D7=\"\",P23=3),\"←入力してください。\",\"\")","v":""},null,"クレジット",null,"単相3線式100V・200V","けい光灯",null,null,"お客さま柱"]
[null,null,"電話",null,"-",null,null,"-",null,null,null,null,{"$f":"IF(N8=\"\",\"\",N8)","v":""},{"$f":"IF(OR(D8=\"\",F8=\"\",I8=\"\"),\"\",IF(OR(LEN(I8)<>4,LEN(D8)+LEN(F8)+LEN(I8)<>10),\"←入力内容が不正です。\",\"\"))","v":""},null,null,null,null,"白熱電球",null,null,"その他"]
["電気工事会社",null,"会社名",null,null,null,null,null,null,null,null,null,"←入力してください。",{"$f":"IF(D9=\"\",\"←入力してください。\",\"\")","v":"←入力してください。"},null,null,null,null,"その他"]
[null,null,"担当者",null,null,null,null,null,null,null,null,null,"←入力してください。",{"$f":"IF(D10=\"\",\"←入力してください。\",\"\")","v":"←入力してください。"}]
[null,null,"工事会社№",null,"-",null,null,null,null,null,null,null,"←入力してください。",{"$f":"IF(OR(D11=\"\",F11=\"\"),\"←入力してください。\",IF(OR(LEN(D11)<>2,LEN(F11)<>3),\"←入力内容が不正です。\",\"\"))","v":"←入力してください。"}]
[null,null,"住所",null,null,null,null,null,null,null,null,null,"←入力してください。",{"$f":"IF(D12=\"\",\"←入力してください。\",\"\")","v":"←入力してください。"}]
[null,null,"電話",null,"-",null,null,"-",null,null,null,null,"←入力してください。",{"$f":"IF(AND(D13=\"\",F13=\"\",I13=\"\"),\"←入力してください。\",IF(OR(LEN(I13)<>4,LEN(D13)+LEN(F13)+LEN(I13)<10,LEN(D13)+LEN(F13)+LEN(I13)>11),\"←入力内容が不正です。\",\"\"))","v":"←入力してください。"},null,"ドロップダウンデータ反映列"]
["建築会社",null,"会社名",null,null,null,null,null,null,null,null,null,"",{"$f":"IF(AND(D15=\"\",D16=\"\",F16=\"\",I16=\"\"),\"\",IF(D14=\"\",\"←入力してください。\",\"\"))","v":""}]
[null,null,"担当者",null,null,null,null,null,null,null,null,null,"",{"$f":"IF(AND(D14=\"\",D16=\"\",F16=\"\",I16=\"\"),\"\",IF(D15=\"\",\"←入力してください。\",\"\"))","v":""}]
[null,null,"電話",null,"-",null,null,"-",null,null,null,null,"",{"$f":"IF(LEN(D16)+LEN(F16)+LEN(I16)=0,\"\",IF(OR(LEN(I16)<>4,LEN(D16)+LEN(F16)+LEN(I16)<10,LEN(D16)+LEN(F16)+LEN(I16)>11),\"←入力内容が不正です。\",\"\"))","v":""}]
["お支払方法",null,null,null,null,null,null,null,null,null,null,null,"←選択してください。",{"$f":"IF(P17=1,\"←選択してください。\",\"\")","v":"←選択してください。"},null,1]
["支払者名",null,"フリガナ",null,null,null,null,null,null,null,null,null,"",{"$f":"IF(AND(D18=\"\",D19=\"\"),\"\",IF(AND(D18=\"\",D19<>\"同上\"),\"←入力してください。\",IF(LEN(ASC(D18))>40,\"←「゛」「゜」を含め，40文字以内としてください。\",\"\")))","v":""}]
[null,null,"漢字",null,null,null,null,null,null,null,null,null,"←入力してください。",{"$f":"IF(D19=\"\",\"←入力してください。\",\"\")","v":"←入力してください。"}]
["請求書送付先",null,"郵便番号",null,null,null,null,null,null,null,null,null,"",{"$f":"IF(AND(D20=\"\",D21=\"\"),\"\",IF(AND(D20=\"\",D21<>\"同上\"),\"←入力してください。\",IF(D20=\"\",\"\",IF(OR(AND(MID(D20,4,1)<>\"-\",LEN(D20)<>7),AND(MID(D20,4,1)=\"-\",LEN(D20)<>8)),\"←入力誤りです。\",\"\"))))","v":""}]
[null,null,"住所",null,null,null,null,null,null,null,null,null,"←入力してください。",{"$f":"IF(D21=\"\",\"←入力してください。\",\"\")","v":"←入力してください。"}]
[null,null,"電話",null,"-",null,null,"-",null,null,null,null,"",{"$f":"IF(AND(D21=\"\",D22=\"\",F22=\"\",I22=\"\"),\"\",IF(D21=\"同上\",\"\",IF(AND(D22=\"\",F22=\"\",I22=\"\"),\"←入力してください。\",IF(OR(LEN(I22)<>4,LEN(D22)+LEN(F22)+LEN(I22)<10,LEN(D22)+LEN(F22)+LEN(I22)>11),\"←入力内容が不正です。\",\"\"))))","v":""}]
["契約種別",null,null,null,null,null,null,null,null,null,null,null,{"$f":"IF(N23=\"\",\"\",N23)","v":"←選択してください。"},{"$f":"IF(P23=1,\"←選択してください。\",\"\")","v":"←選択してください。"},null,1]
["供給電気方式・供給電圧",null,null,null,null,null,null,null,null,null,null,null,{"$f":"IF(N24=\"\",\"\",N24)","v":"←選択してください。"},{"$f":"IF(P24=1,\"←選択してください。\",IF(P24=5,\"←間違いありませんか？\",\"\"))","v":"←選択してください。"},null,1]
["受電希望日",null,null,null,"年",null,null,"月",null,"日",null,null,"←入力してください。",{"$f":"IF(OR(D25=\"\",F25=\"\",I25=\"\"),\"←入力してください。\",IF(AND(ISNUMBER(D25),ISNUMBER(F25),ISNUMBER(I25)),IF(OR(D25<1,F25<1,F25>12,I25<1,I25>31),\"←入力内容が不正です。\",\"\"),\"←数字を入力してください。\"))","v":"←入力してください。"}]
["１引込目","ご使用場所",null,null,null,null,null,null,null,null,null,null,"←入力してください。",{"$f":"IF(D26=\"\",\"←入力してください。\",\"\")","v":"←入力してください。"}]
[null,"ご契約名義（カナ）",null,null,null,null,null,null,null,null,null,null,"←入力してください。",{"$f":"IF(D27=\"\",\"←入力してください。\",IF(LEN(ASC(D27))>40,\"←「゛」「゜」を含め，40文字以内としてください。\",\"\"))","v":"←入力してください。"}]
[null,"機器１","機器種別",null,null,null,null,null,null,null,null,null,"←選択してください。",{"$f":"IF(P28=1,\"←選択してください。\",IF(AND(L28=\"\",P28=6),\"←具体的な機器種別を入力してください。\",\"\"))","v":"←選択してください。"},null,1,"入力値算定"]
[null,null,"出力",null,"W",null,null,null,null,null,null,null,"",{"$f":"IF(OR(D29=\"\",ISNUMBER(D29)),IF(AND(P$23=2,U44>400),\"定額電灯の総容量の上限400VAを超えています。\",IF(AND(P$23=3,U44>999),\"公衆街路灯Ａの総容量の上限999VAを超えています。\",IF(AND(OR(P$23=2,P$23=3),U44=0),\"負荷設備内訳を入力してください。\",\"\"))),\"←数字を入力してください。\")","v":""},null,null,"水銀灯",{"$f":"IF(P30=2,IF(D29<=40,60,IF(D29<=60,80,IF(D29<=80,100,IF(D29<=100,150,IF(D29<=125,160,IF(D29<=200,250,IF(D29<=250,300,\"\"))))))),\"\")","v":""},{"$f":"IF(P30=2,IF(D29<=250,R29,IF(D29<=300,350,IF(D29<=400,500,IF(D29<=700,800,IF(D29<=1000,1200,\"\"))))),\"\")","v":""},{"$f":"IF(P30=3,IF(D29<=40,130,IF(D29<=60,170,IF(D29<=80,190,IF(D29<=100,200,IF(D29<=125,290,IF(D29<=200,400,IF(D29<=250,500,\"\"))))))),S29)","v":""},{"$f":"IF(P30=3,IF(D29<=250,T29,IF(D29<=300,550,IF(D29<=400,750,IF(D29<=700,1200,IF(D29<=1000,1750,\"\"))))),S29)","v":""}]
[null,null,"力率",null,null,null,null,null,null,null,null,null,"",{"$f":"IF(AND(D31=\"\",D29<>\"\",P28<>5,P30=1),\"←選択してください。\",\"\")","v":""},null,1,"ナトリウム灯",{"$f":"IF(P30=2,IF(D29=150,190,IF(D29=250,300,IF(D29=400,500,IF(D29=700,840,\"\")))),IF(P30=3,ROUND(D29*1.4,0),\"\"))","v":""}]
[null,null,"入力",null,"VA",null,null,null,null,null,null,null,"",{"$f":"IF(OR(D31=\"\",ISNUMBER(D31)),\"\",\"←数字を入力してください。\")","v":""},null,null,"けい光灯",{"$f":"IF(P30=2,ROUND(D29*1.5,0),IF(P30=3,D29*2,\"\"))","v":""}]
[null,null,"灯個数",null,null,null,null,null,null,null,null,null,"",{"$f":"IF(OR(D32=\"\",ISNUMBER(D32)),\"\",\"←数字を入力してください。\")","v":""},null,1,"結果",{"$f":"IF(D31<>\"\",D31,IF(D29=\"\",0,IF(OR(P28=2,L28=\"メタルハライドランプ\"),U29,IF(P28=3,R30,IF(P28=4,R31,IF(OR(P29=5,L28=\"ハロゲンランプ\"),D29,\"\"))))))","v":0}]
[null,null,"取付位置",null,null,null,null,null,null,null,null,null,"",{"$f":"IF(AND(L33=\"\",P33=5),\"←具体的な取付位置を入力してください。\",\"\")","v":""},null,1]
[null,"機器２","機器種別",null,null,null,null,null,null,null,null,null,"",{"$f":"IF(AND(P34=1,R38>0),\"←選択してください。\",IF(AND(L34=\"\",P34=6),\"←具体的な機器種別を入力してください。\",\"\"))","v":""},null,1,"入力値算定"]
[null,null,"出力",null,"W",null,null,null,null,null,null,null,"",{"$f":"IF(OR(D35=\"\",ISNUMBER(D35)),\"\",\"←数字を入力してください。\")","v":""},null,null,"水銀灯",{"$f":"IF(P36=2,IF(D35<=40,60,IF(D35<=60,80,IF(D35<=80,100,IF(D35<=100,150,IF(D35<=125,160,IF(D35<=200,250,IF(D35<=250,300,\"\"))))))),\"\")","v":""},{"$f":"IF(P36=2,IF(D35<=250,R35,IF(D35<=300,350,IF(D35<=400,500,IF(D35<=700,800,IF(D35<=1000,1200,\"\"))))),\"\")","v":""},{"$f":"IF(P36=3,IF(D35<=40,130,IF(D35<=60,170,IF(D35<=80,190,IF(D35<=100,200,IF(D35<=125,290,IF(D35<=200,400,IF(D35<=250,500,\"\"))))))),S35)","v":""},{"$f":"IF(P36=3,IF(D35<=250,T35,IF(D35<=300,550,IF(D35<=400,750,IF(D35<=700,1200,IF(D35<=1000,1750,\"\"))))),S35)","v":""}]
[null,null,"力率",null,null,null,null,null,null,null,null,null,"",{"$f":"IF(AND(D37=\"\",D35<>\"\",P36=1),\"←選択してください。\",\"\")","v":""},null,1,"ナトリウム灯",{"$f":"IF(P36=2,IF(D35=150,190,IF(D35=250,300,IF(D35=400,500,IF(D35=700,840,\"\")))),IF(P36=3,ROUND(D35*1.4,0),\"\"))","v":""}]
[null,null,"入力",null,"VA",null,null,null,null,null,null,null,"",{"$f":"IF(OR(D37=\"\",ISNUMBER(D37)),\"\",\"←数字を入力してください。\")","v":""},null,null,"けい光灯",{"$f":"IF(P36=2,ROUND(D35*1.5,0),IF(P36=3,D35*2,\"\"))","v":""}]
[null,null,"灯個数",null,null,null,null,null,null,null,null,null,"",{"$f":"IF(OR(D38=\"\",ISNUMBER(D38)),IF(AND(P38=3,P28>1,P28<6),\"←選択内容が不正です。\",\"\"),\"←数字を入力してください。\")","v":""},null,1,"結果",{"$f":"IF(D37<>\"\",D37,IF(D35=\"\",0,IF(OR(P34=2,L34=\"メタルハライドランプ\"),U35,IF(P34=3,R36,IF(P34=4,R37,IF(OR(P35=5,L34=\"ハロゲンランプ\"),D35,\"\"))))))","v":0}]
[null,null,"取付位置",null,null,null,null,null,null,null,null,null,"",{"$f":"IF(AND(L39=\"\",P39=5),\"←具体的な取付位置を入力してください。\",\"\")","v":""},null,1]
[null,"機器３","機器種別",null,null,null,null,null,null,null,null,null,"",{"$f":"IF(AND(P40=1,R44>0),\"←選択してください。\",IF(AND(L40=\"\",P40=6),\"←具体的な機器種別を入力してください。\",\"\"))","v":""},null,1,"入力値算定"]
[null,null,"出力",null,"W",null,null,null,null,null,null,null,"",{"$f":"IF(OR(D41=\"\",ISNUMBER(D41)),\"\",\"←数字を入力してください。\")","v":""},null,null,"水銀灯",{"$f":"IF(P42=2,IF(D41<=40,60,IF(D41<=60,80,IF(D41<=80,100,IF(D41<=100,150,IF(D41<=125,160,IF(D41<=200,250,IF(D41<=250,300,\"\"))))))),\"\")","v":""},{"$f":"IF(P42=2,IF(D41<=250,R41,IF(D41<=300,350,IF(D41<=400,500,IF(D41<=700,800,IF(D41<=1000,1200,\"\"))))),\"\")","v":""},{"$f":"IF(P42=3,IF(D41<=40,130,IF(D41<=60,170,IF(D41<=80,190,IF(D41<=100,200,IF(D41<=125,290,IF(D41<=200,400,IF(D41<=250,500,\"\"))))))),S41)","v":""},{"$f":"IF(P42=3,IF(D41<=250,T41,IF(D41<=300,550,IF(D41<=400,750,IF(D41<=700,1200,IF(D41<=1000,1750,\"\"))))),S41)","v":""}]
[null,null,"力率",null,null,null,null,null,null,null,null,null,"",{"$f":"IF(AND(D43=\"\",D41<>\"\",P42=1),\"←選択してください。\",\"\")","v":""},null,1,"ナトリウム灯",{"$f":"IF(P42=2,IF(D41=150,190,IF(D41=250,300,IF(D41=400,500,IF(D41=700,840,\"\")))),IF(P42=3,ROUND(D41*1.4,0),\"\"))","v":""}]
[null,null,"入力",null,"VA",null,null,null,null,null,null,null,"",{"$f":"IF(OR(D43=\"\",ISNUMBER(D43)),\"\",\"←数字を入力してください。\")","v":""},null,null,"けい光灯",{"$f":"IF(P42=2,ROUND(D41*1.5,0),IF(P42=3,D41*2,\"\"))","v":""},null,"入力値合計","種別ごとの容量チェック用"]
[null,null,"灯個数",null,null,null,null,null,null,null,null,null,"",{"$f":"IF(OR(D44=\"\",ISNUMBER(D44)),\"\",\"←数字を入力してください。\")","v":""},null,1,"結果",{"$f":"IF(D43<>\"\",D43,IF(D41=\"\",0,IF(OR(P40=2,L40=\"メタルハライドランプ\"),U41,IF(P40=3,R42,IF(P40=4,R43,IF(OR(P41=5,L40=\"ハロゲンランプ\"),D41,\"\"))))))","v":0},null,{"$f":"IF(OR(R32=\"\",R38=\"\",R44=\"\"),\"\",R32*D32+R38*D38+R44*D44)","v":0},{"$f":"MAX(D29,D31)*D32+MAX(D35,D37)*D38+MAX(D41,D43)*D44","v":0}]
[null,null,"取付位置",null,null,null,null,null,null,null,null,null,"",{"$f":"IF(AND(L45=\"\",P45=5),\"←具体的な取付位置を入力してください。\",\"\")","v":""},null,1]
["２引込目","ご使用場所",null,null,null,null,null,null,null,null,null,null,""]
[null,"ご契約名義（カナ）",null,null,null,null,null,null,null,null,null,null,"",{"$f":"IF(LEN(ASC(D47))>40,\"←「゛」「゜」を含め，40文字以内としてください。\",\"\")","v":""}]
[null,"機器１","機器種別",null,null,null,null,null,null,null,null,null,"",{"$f":"IF(AND(P48=1,R52>0),\"←選択してください。\",IF(AND(L48=\"\",P48=6),\"←具体的な機器種別を入力してください。\",\"\"))","v":""},null,1,"入力値算定"]
[null,null,"出力",null,"W",null,null,null,null,null,null,null,"",{"$f":"IF(OR(D49=\"\",ISNUMBER(D49)),IF(AND(P$23=2,U64>400),\"定額電灯の総容量の上限400VAを超えています。\",IF(AND(P$23=3,U64>999),\"公衆街路灯Ａの総容量の上限999VAを超えています。\",IF(AND(OR(P$23=2,P$23=3),D46<>\"\",U64=0),\"負荷設備内訳を入力してください。\",\"\"))),\"←数字を入力してください。\")","v":""},null,null,"水銀灯",{"$f":"IF(P50=2,IF(D49<=40,60,IF(D49<=60,80,IF(D49<=80,100,IF(D49<=100,150,IF(D49<=125,160,IF(D49<=200,250,IF(D49<=250,300,\"\"))))))),\"\")","v":""},{"$f":"IF(P50=2,IF(D49<=250,R49,IF(D49<=300,350,IF(D49<=400,500,IF(D49<=700,800,IF(D49<=1000,1200,\"\"))))),\"\")","v":""},{"$f":"IF(P50=3,IF(D49<=40,130,IF(D49<=60,170,IF(D49<=80,190,IF(D49<=100,200,IF(D49<=125,290,IF(D49<=200,400,IF(D49<=250,500,\"\"))))))),S49)","v":""},{"$f":"IF(P50=3,IF(D49<=250,T49,IF(D49<=300,550,IF(D49<=400,750,IF(D49<=700,1200,IF(D49<=1000,1750,\"\"))))),S49)","v":""}]
[null,null,"力率",null,null,null,null,null,null,null,null,null,"",{"$f":"IF(AND(D51=\"\",D49<>\"\",P48<>5,P50=1),\"←選択してください。\",\"\")","v":""},null,1,"ナトリウム灯",{"$f":"IF(P50=2,IF(D49=150,190,IF(D49=250,300,IF(D49=400,500,IF(D49=700,840,\"\")))),IF(P50=3,ROUND(D49*1.4,0),\"\"))","v":""}]
[null,null,"入力",null,"VA",null,null,null,null,null,null,null,"",{"$f":"IF(OR(D51=\"\",ISNUMBER(D51)),\"\",\"←数字を入力してください。\")","v":""},null,null,"けい光灯",{"$f":"IF(P50=2,ROUND(D49*1.5,0),IF(P50=3,D49*2,\"\"))","v":""}]
[null,null,"灯個数",null,null,null,null,null,null,null,null,null,"",{"$f":"IF(OR(D52=\"\",ISNUMBER(D52)),\"\",\"←数字を入力してください。\")","v":""},null,1,"結果",{"$f":"IF(D51<>\"\",D51,IF(D49=\"\",0,IF(OR(P48=2,L48=\"メタルハライドランプ\"),U49,IF(P48=3,R50,IF(P48=4,R51,IF(OR(P49=5,L48=\"ハロゲンランプ\"),D49,\"\"))))))","v":0}]
[null,null,"取付位置",null,null,null,null,null,null,null,null,null,"",{"$f":"IF(AND(L53=\"\",P53=5),\"←具体的な取付位置を入力してください。\",\"\")","v":""},null,1]
[null,"機器２","機器種別",null,null,null,null,null,null,null,null,null,"",{"$f":"IF(AND(P54=1,R58>0),\"←選択してください。\",IF(AND(L54=\"\",P54=6),\"←具体的な機器種別を入力してください。\",\"\"))","v":""},null,1,"入力値算定"]
[null,null,"出力",null,"W",null,null,null,null,null,null,null,"",{"$f":"IF(OR(D55=\"\",ISNUMBER(D55)),\"\",\"←数字を入力してください。\")","v":""},null,null,"水銀灯",{"$f":"IF(P56=2,IF(D55<=40,60,IF(D55<=60,80,IF(D55<=80,100,IF(D55<=100,150,IF(D55<=125,160,IF(D55<=200,250,IF(D55<=250,300,\"\"))))))),\"\")","v":""},{"$f":"IF(P56=2,IF(D55<=250,R55,IF(D55<=300,350,IF(D55<=400,500,IF(D55<=700,800,IF(D55<=1000,1200,\"\"))))),\"\")","v":""},{"$f":"IF(P56=3,IF(D55<=40,130,IF(D55<=60,170,IF(D55<=80,190,IF(D55<=100,200,IF(D55<=125,290,IF(D55<=200,400,IF(D55<=250,500,\"\"))))))),S55)","v":""},{"$f":"IF(P56=3,IF(D55<=250,T55,IF(D55<=300,550,IF(D55<=400,750,IF(D55<=700,1200,IF(D55<=1000,1750,\"\"))))),S55)","v":""}]
[null,null,"力率",null,null,null,null,null,null,null,null,null,"",{"$f":"IF(AND(D57=\"\",D55<>\"\",P56=1),\"←選択してください。\",\"\")","v":""},null,1,"ナトリウム灯",{"$f":"IF(P56=2,IF(D55=150,190,IF(D55=250,300,IF(D55=400,500,IF(D55=700,840,\"\")))),IF(P56=3,ROUND(D55*1.4,0),\"\"))","v":""}]
[null,null,"入力",null,"VA",null,null,null,null,null,null,null,"",{"$f":"IF(OR(D57=\"\",ISNUMBER(D57)),\"\",\"←数字を入力してください。\")","v":""},null,null,"けい光灯",{"$f":"IF(P56=2,ROUND(D55*1.5,0),IF(P56=3,D55*2,\"\"))","v":""}]
[null,null,"灯個数",null,null,null,null,null,null,null,null,null,"",{"$f":"IF(OR(D58=\"\",ISNUMBER(D58)),\"\",\"←数字を入力してください。\")","v":""},null,1,"結果",{"$f":"IF(D57<>\"\",D57,IF(D55=\"\",0,IF(OR(P54=2,L54=\"メタルハライドランプ\"),U55,IF(P54=3,R56,IF(P54=4,R57,IF(OR(P55=5,L54=\"ハロゲンランプ\"),D55,\"\"))))))","v":0}]
[null,null,"取付位置",null,null,null,null,null,null,null,null,null,"",{"$f":"IF(AND(L59=\"\",P59=5),\"←具体的な取付位置を入力してください。\",\"\")","v":""},null,1]
[null,"機器３","機器種別",null,null,null,null,null,null,null,null,null,"",{"$f":"IF(AND(P60=1,R64>0),\"←選択してください。\",IF(AND(L60=\"\",P60=6),\"←具体的な機器種別を入力してください。\",\"\"))","v":""},null,1,"入力値算定"]
[null,null,"出力",null,"W",null,null,null,null,null,null,null,"",{"$f":"IF(OR(D61=\"\",ISNUMBER(D61)),\"\",\"←数字を入力してください。\")","v":""},null,null,"水銀灯",{"$f":"IF(P62=2,IF(D61<=40,60,IF(D61<=60,80,IF(D61<=80,100,IF(D61<=100,150,IF(D61<=125,160,IF(D61<=200,250,IF(D61<=250,300,\"\"))))))),\"\")","v":""},{"$f":"IF(P62=2,IF(D61<=250,R61,IF(D61<=300,350,IF(D61<=400,500,IF(D61<=700,800,IF(D61<=1000,1200,\"\"))))),\"\")","v":""},{"$f":"IF(P62=3,IF(D61<=40,130,IF(D61<=60,170,IF(D61<=80,190,IF(D61<=100,200,IF(D61<=125,290,IF(D61<=200,400,IF(D61<=250,500,\"\"))))))),S61)","v":""},{"$f":"IF(P62=3,IF(D61<=250,T61,IF(D61<=300,550,IF(D61<=400,750,IF(D61<=700,1200,IF(D61<=1000,1750,\"\"))))),S61)","v":""}]
[null,null,"力率",null,null,null,null,null,null,null,null,null,"",{"$f":"IF(AND(D63=\"\",D61<>\"\",P62=1),\"←選択してください。\",\"\")","v":""},null,1,"ナトリウム灯",{"$f":"IF(P62=2,IF(D61=150,190,IF(D61=250,300,IF(D61=400,500,IF(D61=700,840,\"\")))),IF(P62=3,ROUND(D61*1.4,0),\"\"))","v":""}]
[null,null,"入力",null,"VA",null,null,null,null,null,null,null,"",{"$f":"IF(OR(D63=\"\",ISNUMBER(D63)),\"\",\"←数字を入力してください。\")","v":""},null,null,"けい光灯",{"$f":"IF(P62=2,ROUND(D61*1.5,0),IF(P62=3,D61*2,\"\"))","v":""},null,"入力値合計","種別ごとの容量チェック用"]
[null,null,"灯個数",null,null,null,null,null,null,null,null,null,"",{"$f":"IF(OR(D64=\"\",ISNUMBER(D64)),\"\",\"←数字を入力してください。\")","v":""},null,1,"結果",{"$f":"IF(D63<>\"\",D63,IF(D61=\"\",0,IF(OR(P60=2,L60=\"メタルハライドランプ\"),U61,IF(P60=3,R62,IF(P60=4,R63,IF(OR(P61=5,L60=\"ハロゲンランプ\"),D61,\"\"))))))","v":0},null,{"$f":"IF(OR(R52=\"\",R58=\"\",R64=\"\"),\"\",R52*D52+R58*D58+R64*D64)","v":0},{"$f":"MAX(D49,D51)*D52+MAX(D55,D57)*D58+MAX(D61,D63)*D64","v":0}]
[null,null,"取付位置",null,null,null,null,null,null,null,null,null,"",{"$f":"IF(AND(L65=\"\",P65=5),\"←具体的な取付位置を入力してください。\",\"\")","v":""},null,1]
["３引込目","ご使用場所",null,null,null,null,null,null,null,null,null,null,{"$f":"IF(N66=\"\",\"\",N66)","v":""}]
[null,"ご契約名義（カナ）",null,null,null,null,null,null,null,null,null,null,"",{"$f":"IF(LEN(ASC(D67))>40,\"←「゛」「゜」を含め，40文字以内としてください。\",\"\")","v":""}]
[null,"機器１","機器種別",null,null,null,null,null,null,null,null,null,"",{"$f":"IF(AND(P68=1,R72>0),\"←選択してください。\",IF(AND(L68=\"\",P68=6),\"←具体的な機器種別を入力してください。\",\"\"))","v":""},null,1,"入力値算定"]
[null,null,"出力",null,"W",null,null,null,null,null,null,null,"",{"$f":"IF(OR(D69=\"\",ISNUMBER(D69)),IF(AND(P$23=2,U84>400),\"定額電灯の総容量の上限400VAを超えています。\",IF(AND(P$23=3,U84>999),\"公衆街路灯Ａの総容量の上限999VAを超えています。\",IF(AND(OR(P$23=2,P$23=3),D66<>\"\",U84=0),\"負荷設備内訳を入力してください。\",\"\"))),\"←数字を入力してください。\")","v":""},null,null,"水銀灯",{"$f":"IF(P70=2,IF(D69<=40,60,IF(D69<=60,80,IF(D69<=80,100,IF(D69<=100,150,IF(D69<=125,160,IF(D69<=200,250,IF(D69<=250,300,\"\"))))))),\"\")","v":""},{"$f":"IF(P70=2,IF(D69<=250,R69,IF(D69<=300,350,IF(D69<=400,500,IF(D69<=700,800,IF(D69<=1000,1200,\"\"))))),\"\")","v":""},{"$f":"IF(P70=3,IF(D69<=40,130,IF(D69<=60,170,IF(D69<=80,190,IF(D69<=100,200,IF(D69<=125,290,IF(D69<=200,400,IF(D69<=250,500,\"\"))))))),S69)","v":""},{"$f":"IF(P70=3,IF(D69<=250,T69,IF(D69<=300,550,IF(D69<=400,750,IF(D69<=700,1200,IF(D69<=1000,1750,\"\"))))),S69)","v":""}]
[null,null,"力率",null,null,null,null,null,null,null,null,null,"",{"$f":"IF(AND(D71=\"\",D69<>\"\",P68<>5,P70=1),\"←選択してください。\",\"\")","v":""},null,1,"ナトリウム灯",{"$f":"IF(P70=2,IF(D69=150,190,IF(D69=250,300,IF(D69=400,500,IF(D69=700,840,\"\")))),IF(P70=3,ROUND(D69*1.4,0),\"\"))","v":""}]
[null,null,"入力",null,"VA",null,null,null,null,null,null,null,"",{"$f":"IF(OR(D71=\"\",ISNUMBER(D71)),\"\",\"←数字を入力してください。\")","v":""},null,null,"けい光灯",{"$f":"IF(P70=2,ROUND(D69*1.5,0),IF(P70=3,D69*2,\"\"))","v":""}]
[null,null,"灯個数",null,null,null,null,null,null,null,null,null,"",{"$f":"IF(OR(D72=\"\",ISNUMBER(D72)),\"\",\"←数字を入力してください。\")","v":""},null,1,"結果",{"$f":"IF(D71<>\"\",D71,IF(D69=\"\",0,IF(OR(P68=2,L68=\"メタルハライドランプ\"),U69,IF(P68=3,R70,IF(P68=4,R71,IF(OR(P69=5,L68=\"ハロゲンランプ\"),D69,\"\"))))))","v":0}]
[null,null,"取付位置",null,null,null,null,null,null,null,null,null,"",{"$f":"IF(AND(L73=\"\",P73=5),\"←具体的な取付位置を入力してください。\",\"\")","v":""},null,1]
[null,"機器２","機器種別",null,null,null,null,null,null,null,null,null,"",{"$f":"IF(AND(P74=1,R78>0),\"←選択してください。\",IF(AND(L74=\"\",P74=6),\"←具体的な機器種別を入力してください。\",\"\"))","v":""},null,1,"入力値算定"]
[null,null,"出力",null,"W",null,null,null,null,null,null,null,"",{"$f":"IF(OR(D75=\"\",ISNUMBER(D75)),\"\",\"←数字を入力してください。\")","v":""},null,null,"水銀灯",{"$f":"IF(P76=2,IF(D75<=40,60,IF(D75<=60,80,IF(D75<=80,100,IF(D75<=100,150,IF(D75<=125,160,IF(D75<=200,250,IF(D75<=250,300,\"\"))))))),\"\")","v":""},{"$f":"IF(P76=2,IF(D75<=250,R75,IF(D75<=300,350,IF(D75<=400,500,IF(D75<=700,800,IF(D75<=1000,1200,\"\"))))),\"\")","v":""},{"$f":"IF(P76=3,IF(D75<=40,130,IF(D75<=60,170,IF(D75<=80,190,IF(D75<=100,200,IF(D75<=125,290,IF(D75<=200,400,IF(D75<=250,500,\"\"))))))),S75)","v":""},{"$f":"IF(P76=3,IF(D75<=250,T75,IF(D75<=300,550,IF(D75<=400,750,IF(D75<=700,1200,IF(D75<=1000,1750,\"\"))))),S75)","v":""}]
[null,null,"力率",null,null,null,null,null,null,null,null,null,"",{"$f":"IF(AND(D77=\"\",D75<>\"\",P76=1),\"←選択してください。\",\"\")","v":""},null,1,"ナトリウム灯",{"$f":"IF(P76=2,IF(D75=150,190,IF(D75=250,300,IF(D75=400,500,IF(D75=700,840,\"\")))),IF(P76=3,ROUND(D75*1.4,0),\"\"))","v":""}]
[null,null,"入力",null,"VA",null,null,null,null,null,null,null,"",{"$f":"IF(OR(D77=\"\",ISNUMBER(D77)),\"\",\"←数字を入力してください。\")","v":""},null,null,"けい光灯",{"$f":"IF(P76=2,ROUND(D75*1.5,0),IF(P76=3,D75*2,\"\"))","v":""}]
[null,null,"灯個数",null,null,null,null,null,null,null,null,null,"",{"$f":"IF(OR(D78=\"\",ISNUMBER(D78)),\"\",\"←数字を入力してください。\")","v":""},null,1,"結果",{"$f":"IF(D77<>\"\",D77,IF(D75=\"\",0,IF(OR(P74=2,L74=\"メタルハライドランプ\"),U75,IF(P74=3,R76,IF(P74=4,R77,IF(OR(P75=5,L74=\"ハロゲンランプ\"),D75,\"\"))))))","v":0}]
[null,null,"取付位置",null,null,null,null,null,null,null,null,null,"",{"$f":"IF(AND(L79=\"\",P79=5),\"←具体的な取付位置を入力してください。\",\"\")","v":""},null,1]
[null,"機器３","機器種別",null,null,null,null,null,null,null,null,null,"",{"$f":"IF(AND(P80=1,R84>0),\"←選択してください。\",IF(AND(L80=\"\",P80=6),\"←具体的な機器種別を入力してください。\",\"\"))","v":""},null,1,"入力値算定"]
[null,null,"出力",null,"W",null,null,null,null,null,null,null,"",{"$f":"IF(OR(D81=\"\",ISNUMBER(D81)),\"\",\"←数字を入力してください。\")","v":""},null,null,"水銀灯",{"$f":"IF(P82=2,IF(D81<=40,60,IF(D81<=60,80,IF(D81<=80,100,IF(D81<=100,150,IF(D81<=125,160,IF(D81<=200,250,IF(D81<=250,300,\"\"))))))),\"\")","v":""},{"$f":"IF(P82=2,IF(D81<=250,R81,IF(D81<=300,350,IF(D81<=400,500,IF(D81<=700,800,IF(D81<=1000,1200,\"\"))))),\"\")","v":""},{"$f":"IF(P82=3,IF(D81<=40,130,IF(D81<=60,170,IF(D81<=80,190,IF(D81<=100,200,IF(D81<=125,290,IF(D81<=200,400,IF(D81<=250,500,\"\"))))))),S81)","v":""},{"$f":"IF(P82=3,IF(D81<=250,T81,IF(D81<=300,550,IF(D81<=400,750,IF(D81<=700,1200,IF(D81<=1000,1750,\"\"))))),S81)","v":""}]
[null,null,"力率",null,null,null,null,null,null,null,null,null,"",{"$f":"IF(AND(D83=\"\",D81<>\"\",P82=1),\"←選択してください。\",\"\")","v":""},null,1,"ナトリウム灯",{"$f":"IF(P82=2,IF(D81=150,190,IF(D81=250,300,IF(D81=400,500,IF(D81=700,840,\"\")))),IF(P82=3,ROUND(D81*1.4,0),\"\"))","v":""}]
[null,null,"入力",null,"VA",null,null,null,null,null,null,null,"",{"$f":"IF(OR(D83=\"\",ISNUMBER(D83)),\"\",\"←数字を入力してください。\")","v":""},null,null,"けい光灯",{"$f":"IF(P82=2,ROUND(D81*1.5,0),IF(P82=3,D81*2,\"\"))","v":""},null,"入力値合計","種別ごとの容量チェック用"]
[null,null,"灯個数",null,null,null,null,null,null,null,null,null,"",{"$f":"IF(OR(D84=\"\",ISNUMBER(D84)),\"\",\"←数字を入力してください。\")","v":""},null,1,"結果",{"$f":"IF(D83<>\"\",D83,IF(D81=\"\",0,IF(OR(P80=2,L80=\"メタルハライドランプ\"),U81,IF(P80=3,R82,IF(P80=4,R83,IF(OR(P81=5,L80=\"ハロゲンランプ\"),D81,\"\"))))))","v":0},null,{"$f":"IF(OR(R72=\"\",R78=\"\",R84=\"\"),\"\",R72*D72+R78*D78+R84*D84)","v":0},{"$f":"MAX(D69,D71)*D72+MAX(D75,D77)*D78+MAX(D81,D83)*D84","v":0}]
[null,null,"取付位置",null,null,null,null,null,null,null,null,null,"",{"$f":"IF(AND(L85=\"\",P85=5),\"←具体的な取付位置を入力してください。\",\"\")","v":""},null,1]
["４引込目","ご使用場所",null,null,null,null,null,null,null,null,null,null,""]
[null,"ご契約名義（カナ）",null,null,null,null,null,null,null,null,null,null,"",{"$f":"IF(LEN(ASC(D87))>40,\"←「゛」「゜」を含め，40文字以内としてください。\",\"\")","v":""}]
[null,"機器１","機器種別",null,null,null,null,null,null,null,null,null,"",{"$f":"IF(AND(P88=1,R92>0),\"←選択してください。\",IF(AND(L88=\"\",P88=6),\"←具体的な機器種別を入力してください。\",\"\"))","v":""},null,1,"入力値算定"]
[null,null,"出力",null,"W",null,null,null,null,null,null,null,"",{"$f":"IF(OR(D89=\"\",ISNUMBER(D89)),IF(AND(P$23=2,U104>400),\"定額電灯の総容量の上限400VAを超えています。\",IF(AND(P$23=3,U104>999),\"公衆街路灯Ａの総容量の上限999VAを超えています。\",IF(AND(OR(P$23=2,P$23=3),D86<>\"\",U104=0),\"負荷設備内訳を入力してください。\",\"\"))),\"←数字を入力してください。\")","v":""},null,null,"水銀灯",{"$f":"IF(P90=2,IF(D89<=40,60,IF(D89<=60,80,IF(D89<=80,100,IF(D89<=100,150,IF(D89<=125,160,IF(D89<=200,250,IF(D89<=250,300,\"\"))))))),\"\")","v":""},{"$f":"IF(P90=2,IF(D89<=250,R89,IF(D89<=300,350,IF(D89<=400,500,IF(D89<=700,800,IF(D89<=1000,1200,\"\"))))),\"\")","v":""},{"$f":"IF(P90=3,IF(D89<=40,130,IF(D89<=60,170,IF(D89<=80,190,IF(D89<=100,200,IF(D89<=125,290,IF(D89<=200,400,IF(D89<=250,500,\"\"))))))),S89)","v":""},{"$f":"IF(P90=3,IF(D89<=250,T89,IF(D89<=300,550,IF(D89<=400,750,IF(D89<=700,1200,IF(D89<=1000,1750,\"\"))))),S89)","v":""}]
[null,null,"力率",null,null,null,null,null,null,null,null,null,"",{"$f":"IF(AND(D91=\"\",D89<>\"\",P88<>5,P90=1),\"←選択してください。\",\"\")","v":""},null,1,"ナトリウム灯",{"$f":"IF(P90=2,IF(D89=150,190,IF(D89=250,300,IF(D89=400,500,IF(D89=700,840,\"\")))),IF(P90=3,ROUND(D89*1.4,0),\"\"))","v":""}]
[null,null,"入力",null,"VA",null,null,null,null,null,null,null,"",{"$f":"IF(OR(D91=\"\",ISNUMBER(D91)),\"\",\"←数字を入力してください。\")","v":""},null,null,"けい光灯",{"$f":"IF(P90=2,ROUND(D89*1.5,0),IF(P90=3,D89*2,\"\"))","v":""}]
[null,null,"灯個数",null,null,null,null,null,null,null,null,null,"",{"$f":"IF(OR(D92=\"\",ISNUMBER(D92)),\"\",\"←数字を入力してください。\")","v":""},null,1,"結果",{"$f":"IF(D91<>\"\",D91,IF(D89=\"\",0,IF(OR(P88=2,L88=\"メタルハライドランプ\"),U89,IF(P88=3,R90,IF(P88=4,R91,IF(OR(P89=5,L88=\"ハロゲンランプ\"),D89,\"\"))))))","v":0}]
[null,null,"取付位置",null,null,null,null,null,null,null,null,null,"",{"$f":"IF(AND(L93=\"\",P93=5),\"←具体的な取付位置を入力してください。\",\"\")","v":""},null,1]
[null,"機器２","機器種別",null,null,null,null,null,null,null,null,null,"",{"$f":"IF(AND(P94=1,R98>0),\"←選択してください。\",IF(AND(L94=\"\",P94=6),\"←具体的な機器種別を入力してください。\",\"\"))","v":""},null,1,"入力値算定"]
[null,null,"出力",null,"W",null,null,null,null,null,null,null,"",{"$f":"IF(OR(D95=\"\",ISNUMBER(D95)),\"\",\"←数字を入力してください。\")","v":""},null,null,"水銀灯",{"$f":"IF(P96=2,IF(D95<=40,60,IF(D95<=60,80,IF(D95<=80,100,IF(D95<=100,150,IF(D95<=125,160,IF(D95<=200,250,IF(D95<=250,300,\"\"))))))),\"\")","v":""},{"$f":"IF(P96=2,IF(D95<=250,R95,IF(D95<=300,350,IF(D95<=400,500,IF(D95<=700,800,IF(D95<=1000,1200,\"\"))))),\"\")","v":""},{"$f":"IF(P96=3,IF(D95<=40,130,IF(D95<=60,170,IF(D95<=80,190,IF(D95<=100,200,IF(D95<=125,290,IF(D95<=200,400,IF(D95<=250,500,\"\"))))))),S95)","v":""},{"$f":"IF(P96=3,IF(D95<=250,T95,IF(D95<=300,550,IF(D95<=400,750,IF(D95<=700,1200,IF(D95<=1000,1750,\"\"))))),S95)","v":""}]
[null,null,"力率",null,null,null,null,null,null,null,null,null,"",{"$f":"IF(AND(D97=\"\",D95<>\"\",P96=1),\"←選択してください。\",\"\")","v":""},null,1,"ナトリウム灯",{"$f":"IF(P96=2,IF(D95=150,190,IF(D95=250,300,IF(D95=400,500,IF(D95=700,840,\"\")))),IF(P96=3,ROUND(D95*1.4,0),\"\"))","v":""}]
[null,null,"入力",null,"VA",null,null,null,null,null,null,null,"",{"$f":"IF(OR(D97=\"\",ISNUMBER(D97)),\"\",\"←数字を入力してください。\")","v":""},null,null,"けい光灯",{"$f":"IF(P96=2,ROUND(D95*1.5,0),IF(P96=3,D95*2,\"\"))","v":""}]
[null,null,"灯個数",null,null,null,null,null,null,null,null,null,"",{"$f":"IF(OR(D98=\"\",ISNUMBER(D98)),\"\",\"←数字を入力してください。\")","v":""},null,1,"結果",{"$f":"IF(D97<>\"\",D97,IF(D95=\"\",0,IF(OR(P94=2,L94=\"メタルハライドランプ\"),U95,IF(P94=3,R96,IF(P94=4,R97,IF(OR(P95=5,L94=\"ハロゲンランプ\"),D95,\"\"))))))","v":0}]
[null,null,"取付位置",null,null,null,null,null,null,null,null,null,"",{"$f":"IF(AND(L99=\"\",P99=5),\"←具体的な取付位置を入力してください。\",\"\")","v":""},null,1]
[null,"機器３","機器種別",null,null,null,null,null,null,null,null,null,"",{"$f":"IF(AND(P100=1,R104>0),\"←選択してください。\",IF(AND(L100=\"\",P100=6),\"←具体的な機器種別を入力してください。\",\"\"))","v":""},null,1,"入力値算定"]
[null,null,"出力",null,"W",null,null,null,null,null,null,null,"",{"$f":"IF(OR(D101=\"\",ISNUMBER(D101)),\"\",\"←数字を入力してください。\")","v":""},null,null,"水銀灯",{"$f":"IF(P102=2,IF(D101<=40,60,IF(D101<=60,80,IF(D101<=80,100,IF(D101<=100,150,IF(D101<=125,160,IF(D101<=200,250,IF(D101<=250,300,\"\"))))))),\"\")","v":""},{"$f":"IF(P102=2,IF(D101<=250,R101,IF(D101<=300,350,IF(D101<=400,500,IF(D101<=700,800,IF(D101<=1000,1200,\"\"))))),\"\")","v":""},{"$f":"IF(P102=3,IF(D101<=40,130,IF(D101<=60,170,IF(D101<=80,190,IF(D101<=100,200,IF(D101<=125,290,IF(D101<=200,400,IF(D101<=250,500,\"\"))))))),S101)","v":""},{"$f":"IF(P102=3,IF(D101<=250,T101,IF(D101<=300,550,IF(D101<=400,750,IF(D101<=700,1200,IF(D101<=1000,1750,\"\"))))),S101)","v":""}]
[null,null,"力率",null,null,null,null,null,null,null,null,null,"",{"$f":"IF(AND(D103=\"\",D101<>\"\",P102=1),\"←選択してください。\",\"\")","v":""},null,1,"ナトリウム灯",{"$f":"IF(P102=2,IF(D101=150,190,IF(D101=250,300,IF(D101=400,500,IF(D101=700,840,\"\")))),IF(P102=3,ROUND(D101*1.4,0),\"\"))","v":""}]
[null,null,"入力",null,"VA",null,null,null,null,null,null,null,"",{"$f":"IF(OR(D103=\"\",ISNUMBER(D103)),\"\",\"←数字を入力してください。\")","v":""},null,null,"けい光灯",{"$f":"IF(P102=2,ROUND(D101*1.5,0),IF(P102=3,D101*2,\"\"))","v":""},null,"入力値合計","種別ごとの容量チェック用"]
[null,null,"灯個数",null,null,null,null,null,null,null,null,null,"",{"$f":"IF(OR(D104=\"\",ISNUMBER(D104)),\"\",\"←数字を入力してください。\")","v":""},null,1,"結果",{"$f":"IF(D103<>\"\",D103,IF(D101=\"\",0,IF(OR(P100=2,L100=\"メタルハライドランプ\"),U101,IF(P100=3,R102,IF(P100=4,R103,IF(OR(P101=5,L100=\"ハロゲンランプ\"),D101,\"\"))))))","v":0},null,{"$f":"IF(OR(R92=\"\",R98=\"\",R104=\"\"),\"\",R92*D92+R98*D98+R104*D104)","v":0},{"$f":"MAX(D89,D91)*D92+MAX(D95,D97)*D98+MAX(D101,D103)*D104","v":0}]
[null,null,"取付位置",null,null,null,null,null,null,null,null,null,"",{"$f":"IF(AND(L105=\"\",P105=5),\"←具体的な取付位置を入力してください。\",\"\")","v":""},null,1]
["５引込目","ご使用場所",null,null,null,null,null,null,null,null,null,null,""]
[null,"ご契約名義（カナ）",null,null,null,null,null,null,null,null,null,null,"",{"$f":"IF(LEN(ASC(D107))>40,\"←「゛」「゜」を含め，40文字以内としてください。\",\"\")","v":""}]
[null,"機器１","機器種別",null,null,null,null,null,null,null,null,null,"",{"$f":"IF(AND(P108=1,R112>0),\"←選択してください。\",IF(AND(L108=\"\",P108=6),\"←具体的な機器種別を入力してください。\",\"\"))","v":""},null,1,"入力値算定"]
[null,null,"出力",null,"W",null,null,null,null,null,null,null,"",{"$f":"IF(OR(D109=\"\",ISNUMBER(D109)),IF(AND(P$23=2,U124>400),\"定額電灯の総容量の上限400VAを超えています。\",IF(AND(P$23=3,U124>999),\"公衆街路灯Ａの総容量の上限999VAを超えています。\",IF(AND(OR(P$23=2,P$23=3),D106<>\"\",U124=0),\"負荷設備内訳を入力してください。\",\"\"))),\"←数字を入力してください。\")","v":""},null,null,"水銀灯",{"$f":"IF(P110=2,IF(D109<=40,60,IF(D109<=60,80,IF(D109<=80,100,IF(D109<=100,150,IF(D109<=125,160,IF(D109<=200,250,IF(D109<=250,300,\"\"))))))),\"\")","v":""},{"$f":"IF(P110=2,IF(D109<=250,R109,IF(D109<=300,350,IF(D109<=400,500,IF(D109<=700,800,IF(D109<=1000,1200,\"\"))))),\"\")","v":""},{"$f":"IF(P110=3,IF(D109<=40,130,IF(D109<=60,170,IF(D109<=80,190,IF(D109<=100,200,IF(D109<=125,290,IF(D109<=200,400,IF(D109<=250,500,\"\"))))))),S109)","v":""},{"$f":"IF(P110=3,IF(D109<=250,T109,IF(D109<=300,550,IF(D109<=400,750,IF(D109<=700,1200,IF(D109<=1000,1750,\"\"))))),S109)","v":""}]
[null,null,"力率",null,null,null,null,null,null,null,null,null,"",{"$f":"IF(AND(D111=\"\",D109<>\"\",P108<>5,P110=1),\"←選択してください。\",\"\")","v":""},null,1,"ナトリウム灯",{"$f":"IF(P110=2,IF(D109=150,190,IF(D109=250,300,IF(D109=400,500,IF(D109=700,840,\"\")))),IF(P110=3,ROUND(D109*1.4,0),\"\"))","v":""}]
[null,null,"入力",null,"VA",null,null,null,null,null,null,null,"",{"$f":"IF(OR(D111=\"\",ISNUMBER(D111)),\"\",\"←数字を入力してください。\")","v":""},null,null,"けい光灯",{"$f":"IF(P110=2,ROUND(D109*1.5,0),IF(P110=3,D109*2,\"\"))","v":""}]
[null,null,"灯個数",null,null,null,null,null,null,null,null,null,"",{"$f":"IF(OR(D112=\"\",ISNUMBER(D112)),\"\",\"←数字を入力してください。\")","v":""},null,1,"結果",{"$f":"IF(D111<>\"\",D111,IF(D109=\"\",0,IF(OR(P108=2,L108=\"メタルハライドランプ\"),U109,IF(P108=3,R110,IF(P108=4,R111,IF(OR(P109=5,L108=\"ハロゲンランプ\"),D109,\"\"))))))","v":0}]
[null,null,"取付位置",null,null,null,null,null,null,null,null,null,"",{"$f":"IF(AND(L113=\"\",P113=5),\"←具体的な取付位置を入力してください。\",\"\")","v":""},null,1]
[null,"機器２","機器種別",null,null,null,null,null,null,null,null,null,"",{"$f":"IF(AND(P114=1,R118>0),\"←選択してください。\",IF(AND(L114=\"\",P114=6),\"←具体的な機器種別を入力してください。\",\"\"))","v":""},null,1,"入力値算定"]
[null,null,"出力",null,"W",null,null,null,null,null,null,null,"",{"$f":"IF(OR(D115=\"\",ISNUMBER(D115)),\"\",\"←数字を入力してください。\")","v":""},null,null,"水銀灯",{"$f":"IF(P116=2,IF(D115<=40,60,IF(D115<=60,80,IF(D115<=80,100,IF(D115<=100,150,IF(D115<=125,160,IF(D115<=200,250,IF(D115<=250,300,\"\"))))))),\"\")","v":""},{"$f":"IF(P116=2,IF(D115<=250,R115,IF(D115<=300,350,IF(D115<=400,500,IF(D115<=700,800,IF(D115<=1000,1200,\"\"))))),\"\")","v":""},{"$f":"IF(P116=3,IF(D115<=40,130,IF(D115<=60,170,IF(D115<=80,190,IF(D115<=100,200,IF(D115<=125,290,IF(D115<=200,400,IF(D115<=250,500,\"\"))))))),S115)","v":""},{"$f":"IF(P116=3,IF(D115<=250,T115,IF(D115<=300,550,IF(D115<=400,750,IF(D115<=700,1200,IF(D115<=1000,1750,\"\"))))),S115)","v":""}]
[null,null,"力率",null,null,null,null,null,null,null,null,null,"",{"$f":"IF(AND(D117=\"\",D115<>\"\",P116=1),\"←選択してください。\",\"\")","v":""},null,1,"ナトリウム灯",{"$f":"IF(P116=2,IF(D115=150,190,IF(D115=250,300,IF(D115=400,500,IF(D115=700,840,\"\")))),IF(P116=3,ROUND(D115*1.4,0),\"\"))","v":""}]
[null,null,"入力",null,"VA",null,null,null,null,null,null,null,"",{"$f":"IF(OR(D117=\"\",ISNUMBER(D117)),\"\",\"←数字を入力してください。\")","v":""},null,null,"けい光灯",{"$f":"IF(P116=2,ROUND(D115*1.5,0),IF(P116=3,D115*2,\"\"))","v":""}]
[null,null,"灯個数",null,null,null,null,null,null,null,null,null,"",{"$f":"IF(OR(D118=\"\",ISNUMBER(D118)),\"\",\"←数字を入力してください。\")","v":""},null,1,"結果",{"$f":"IF(D117<>\"\",D117,IF(D115=\"\",0,IF(OR(P114=2,L114=\"メタルハライドランプ\"),U115,IF(P114=3,R116,IF(P114=4,R117,IF(OR(P115=5,L114=\"ハロゲンランプ\"),D115,\"\"))))))","v":0}]
[null,null,"取付位置",null,null,null,null,null,null,null,null,null,"",{"$f":"IF(AND(L119=\"\",P119=5),\"←具体的な取付位置を入力してください。\",\"\")","v":""},null,1]
[null,"機器３","機器種別",null,null,null,null,null,null,null,null,null,"",{"$f":"IF(AND(P120=1,R124>0),\"←選択してください。\",IF(AND(L120=\"\",P120=6),\"←具体的な機器種別を入力してください。\",\"\"))","v":""},null,1,"入力値算定"]
[null,null,"出力",null,"W",null,null,null,null,null,null,null,"",{"$f":"IF(OR(D121=\"\",ISNUMBER(D121)),\"\",\"←数字を入力してください。\")","v":""},null,null,"水銀灯",{"$f":"IF(P122=2,IF(D121<=40,60,IF(D121<=60,80,IF(D121<=80,100,IF(D121<=100,150,IF(D121<=125,160,IF(D121<=200,250,IF(D121<=250,300,\"\"))))))),\"\")","v":""},{"$f":"IF(P122=2,IF(D121<=250,R121,IF(D121<=300,350,IF(D121<=400,500,IF(D121<=700,800,IF(D121<=1000,1200,\"\"))))),\"\")","v":""},{"$f":"IF(P122=3,IF(D121<=40,130,IF(D121<=60,170,IF(D121<=80,190,IF(D121<=100,200,IF(D121<=125,290,IF(D121<=200,400,IF(D121<=250,500,\"\"))))))),S121)","v":""},{"$f":"IF(P122=3,IF(D121<=250,T121,IF(D121<=300,550,IF(D121<=400,750,IF(D121<=700,1200,IF(D121<=1000,1750,\"\"))))),S121)","v":""}]
[null,null,"力率",null,null,null,null,null,null,null,null,null,"",{"$f":"IF(AND(D123=\"\",D121<>\"\",P122=1),\"←選択してください。\",\"\")","v":""},null,1,"ナトリウム灯",{"$f":"IF(P122=2,IF(D121=150,190,IF(D121=250,300,IF(D121=400,500,IF(D121=700,840,\"\")))),IF(P122=3,ROUND(D121*1.4,0),\"\"))","v":""}]
[null,null,"入力",null,"VA",null,null,null,null,null,null,null,"",{"$f":"IF(OR(D123=\"\",ISNUMBER(D123)),\"\",\"←数字を入力してください。\")","v":""},null,null,"けい光灯",{"$f":"IF(P122=2,ROUND(D121*1.5,0),IF(P122=3,D121*2,\"\"))","v":""},null,"入力値合計","種別ごとの容量チェック用"]
[null,null,"灯個数",null,null,null,null,null,null,null,null,null,"",{"$f":"IF(OR(D124=\"\",ISNUMBER(D124)),\"\",\"←数字を入力してください。\")","v":""},null,1,"結果",{"$f":"IF(D123<>\"\",D123,IF(D121=\"\",0,IF(OR(P120=2,L120=\"メタルハライドランプ\"),U121,IF(P120=3,R122,IF(P120=4,R123,IF(OR(P121=5,L120=\"ハロゲンランプ\"),D121,\"\"))))))","v":0},null,{"$f":"IF(OR(R112=\"\",R118=\"\",R124=\"\"),\"\",R112*D112+R118*D118+R124*D124)","v":0},{"$f":"MAX(D109,D111)*D112+MAX(D115,D117)*D118+MAX(D121,D123)*D124","v":0}]
[null,null,"取付位置",null,null,null,null,null,null,null,null,null,"",{"$f":"IF(AND(L125=\"\",P125=5),\"←具体的な取付位置を入力してください。\",\"\")","v":""},null,1]
["６引込目","ご使用場所",null,null,null,null,null,null,null,null,null,null,""]
[null,"ご契約名義（カナ）",null,null,null,null,null,null,null,null,null,null,"",{"$f":"IF(LEN(ASC(D127))>40,\"←「゛」「゜」を含め，40文字以内としてください。\",\"\")","v":""}]
[null,"機器１","機器種別",null,null,null,null,null,null,null,null,null,"",{"$f":"IF(AND(P128=1,R132>0),\"←選択してください。\",IF(AND(L128=\"\",P128=6),\"←具体的な機器種別を入力してください。\",\"\"))","v":""},null,1,"入力値算定"]
[null,null,"出力",null,"W",null,null,null,null,null,null,null,"",{"$f":"IF(OR(D129=\"\",ISNUMBER(D129)),IF(AND(P$23=2,U144>400),\"定額電灯の総容量の上限400VAを超えています。\",IF(AND(P$23=3,U144>999),\"公衆街路灯Ａの総容量の上限999VAを超えています。\",IF(AND(OR(P$23=2,P$23=3),D126<>\"\",U144=0),\"負荷設備内訳を入力してください。\",\"\"))),\"←数字を入力してください。\")","v":""},null,null,"水銀灯",{"$f":"IF(P130=2,IF(D129<=40,60,IF(D129<=60,80,IF(D129<=80,100,IF(D129<=100,150,IF(D129<=125,160,IF(D129<=200,250,IF(D129<=250,300,\"\"))))))),\"\")","v":""},{"$f":"IF(P130=2,IF(D129<=250,R129,IF(D129<=300,350,IF(D129<=400,500,IF(D129<=700,800,IF(D129<=1000,1200,\"\"))))),\"\")","v":""},{"$f":"IF(P130=3,IF(D129<=40,130,IF(D129<=60,170,IF(D129<=80,190,IF(D129<=100,200,IF(D129<=125,290,IF(D129<=200,400,IF(D129<=250,500,\"\"))))))),S129)","v":""},{"$f":"IF(P130=3,IF(D129<=250,T129,IF(D129<=300,550,IF(D129<=400,750,IF(D129<=700,1200,IF(D129<=1000,1750,\"\"))))),S129)","v":""}]
[null,null,"力率",null,null,null,null,null,null,null,null,null,{"$f":"IF(N130=\"\",\"\",N130)","v":""},{"$f":"IF(AND(D131=\"\",D129<>\"\",P128<>5,P130=1),\"←選択してください。\",\"\")","v":""},null,1,"ナトリウム灯",{"$f":"IF(P130=2,IF(D129=150,190,IF(D129=250,300,IF(D129=400,500,IF(D129=700,840,\"\")))),IF(P130=3,ROUND(D129*1.4,0),\"\"))","v":""}]
[null,null,"入力",null,"VA",null,null,null,null,null,null,null,"",{"$f":"IF(OR(D131=\"\",ISNUMBER(D131)),\"\",\"←数字を入力してください。\")","v":""},null,null,"けい光灯",{"$f":"IF(P130=2,ROUND(D129*1.5,0),IF(P130=3,D129*2,\"\"))","v":""}]
[null,null,"灯個数",null,null,null,null,null,null,null,null,null,"",{"$f":"IF(OR(D132=\"\",ISNUMBER(D132)),\"\",\"←数字を入力してください。\")","v":""},null,1,"結果",{"$f":"IF(D131<>\"\",D131,IF(D129=\"\",0,IF(OR(P128=2,L128=\"メタルハライドランプ\"),U129,IF(P128=3,R130,IF(P128=4,R131,IF(OR(P129=5,L128=\"ハロゲンランプ\"),D129,\"\"))))))","v":0}]
[null,null,"取付位置",null,null,null,null,null,null,null,null,null,"",{"$f":"IF(AND(L133=\"\",P133=5),\"←具体的な取付位置を入力してください。\",\"\")","v":""},null,1]
[null,"機器２","機器種別",null,null,null,null,null,null,null,null,null,"",{"$f":"IF(AND(P134=1,R138>0),\"←選択してください。\",IF(AND(L134=\"\",P134=6),\"←具体的な機器種別を入力してください。\",\"\"))","v":""},null,1,"入力値算定"]
[null,null,"出力",null,"W",null,null,null,null,null,null,null,"",{"$f":"IF(OR(D135=\"\",ISNUMBER(D135)),\"\",\"←数字を入力してください。\")","v":""},null,null,"水銀灯",{"$f":"IF(P136=2,IF(D135<=40,60,IF(D135<=60,80,IF(D135<=80,100,IF(D135<=100,150,IF(D135<=125,160,IF(D135<=200,250,IF(D135<=250,300,\"\"))))))),\"\")","v":""},{"$f":"IF(P136=2,IF(D135<=250,R135,IF(D135<=300,350,IF(D135<=400,500,IF(D135<=700,800,IF(D135<=1000,1200,\"\"))))),\"\")","v":""},{"$f":"IF(P136=3,IF(D135<=40,130,IF(D135<=60,170,IF(D135<=80,190,IF(D135<=100,200,IF(D135<=125,290,IF(D135<=200,400,IF(D135<=250,500,\"\"))))))),S135)","v":""},{"$f":"IF(P136=3,IF(D135<=250,T135,IF(D135<=300,550,IF(D135<=400,750,IF(D135<=700,1200,IF(D135<=1000,1750,\"\"))))),S135)","v":""}]
[null,null,"力率",null,null,null,null,null,null,null,null,null,"",{"$f":"IF(AND(D137=\"\",D135<>\"\",P136=1),\"←選択してください。\",\"\")","v":""},null,1,"ナトリウム灯",{"$f":"IF(P136=2,IF(D135=150,190,IF(D135=250,300,IF(D135=400,500,IF(D135=700,840,\"\")))),IF(P136=3,ROUND(D135*1.4,0),\"\"))","v":""}]
[null,null,"入力",null,"VA",null,null,null,null,null,null,null,"",{"$f":"IF(OR(D137=\"\",ISNUMBER(D137)),\"\",\"←数字を入力してください。\")","v":""},null,null,"けい光灯",{"$f":"IF(P136=2,ROUND(D135*1.5,0),IF(P136=3,D135*2,\"\"))","v":""}]
[null,null,"灯個数",null,null,null,null,null,null,null,null,null,"",{"$f":"IF(OR(D138=\"\",ISNUMBER(D138)),\"\",\"←数字を入力してください。\")","v":""},null,1,"結果",{"$f":"IF(D137<>\"\",D137,IF(D135=\"\",0,IF(OR(P134=2,L134=\"メタルハライドランプ\"),U135,IF(P134=3,R136,IF(P134=4,R137,IF(OR(P135=5,L134=\"ハロゲンランプ\"),D135,\"\"))))))","v":0}]
[null,null,"取付位置",null,null,null,null,null,null,null,null,null,"",{"$f":"IF(AND(L139=\"\",P139=5),\"←具体的な取付位置を入力してください。\",\"\")","v":""},null,1]
[null,"機器３","機器種別",null,null,null,null,null,null,null,null,null,"",{"$f":"IF(AND(P140=1,R144>0),\"←選択してください。\",IF(AND(L140=\"\",P140=6),\"←具体的な機器種別を入力してください。\",\"\"))","v":""},null,1,"入力値算定"]
[null,null,"出力",null,"W",null,null,null,null,null,null,null,"",{"$f":"IF(OR(D141=\"\",ISNUMBER(D141)),\"\",\"←数字を入力してください。\")","v":""},null,null,"水銀灯",{"$f":"IF(P142=2,IF(D141<=40,60,IF(D141<=60,80,IF(D141<=80,100,IF(D141<=100,150,IF(D141<=125,160,IF(D141<=200,250,IF(D141<=250,300,\"\"))))))),\"\")","v":""},{"$f":"IF(P142=2,IF(D141<=250,R141,IF(D141<=300,350,IF(D141<=400,500,IF(D141<=700,800,IF(D141<=1000,1200,\"\"))))),\"\")","v":""},{"$f":"IF(P142=3,IF(D141<=40,130,IF(D141<=60,170,IF(D141<=80,190,IF(D141<=100,200,IF(D141<=125,290,IF(D141<=200,400,IF(D141<=250,500,\"\"))))))),S141)","v":""},{"$f":"IF(P142=3,IF(D141<=250,T141,IF(D141<=300,550,IF(D141<=400,750,IF(D141<=700,1200,IF(D141<=1000,1750,\"\"))))),S141)","v":""}]
[null,null,"力率",null,null,null,null,null,null,null,null,null,"",{"$f":"IF(AND(D143=\"\",D141<>\"\",P142=1),\"←選択してください。\",\"\")","v":""},null,1,"ナトリウム灯",{"$f":"IF(P142=2,IF(D141=150,190,IF(D141=250,300,IF(D141=400,500,IF(D141=700,840,\"\")))),IF(P142=3,ROUND(D141*1.4,0),\"\"))","v":""}]
[null,null,"入力",null,"VA",null,null,null,null,null,null,null,"",{"$f":"IF(OR(D143=\"\",ISNUMBER(D143)),\"\",\"←数字を入力してください。\")","v":""},null,null,"けい光灯",{"$f":"IF(P142=2,ROUND(D141*1.5,0),IF(P142=3,D141*2,\"\"))","v":""},null,"入力値合計","種別ごとの容量チェック用"]
[null,null,"灯個数",null,null,null,null,null,null,null,null,null,"",{"$f":"IF(OR(D144=\"\",ISNUMBER(D144)),\"\",\"←数字を入力してください。\")","v":""},null,1,"結果",{"$f":"IF(D143<>\"\",D143,IF(D141=\"\",0,IF(OR(P140=2,L140=\"メタルハライドランプ\"),U141,IF(P140=3,R142,IF(P140=4,R143,IF(OR(P141=5,L140=\"ハロゲンランプ\"),D141,\"\"))))))","v":0},null,{"$f":"IF(OR(R132=\"\",R138=\"\",R144=\"\"),\"\",R132*D132+R138*D138+R144*D144)","v":0},{"$f":"MAX(D129,D131)*D132+MAX(D135,D137)*D138+MAX(D141,D143)*D144","v":0}]
[null,null,"取付位置",null,null,null,null,null,null,null,null,null,"",{"$f":"IF(AND(L145=\"\",P145=5),\"←具体的な取付位置を入力してください。\",\"\")","v":""},null,1]
["７引込目","ご使用場所",null,null,null,null,null,null,null,null,null,null,""]
[null,"ご契約名義（カナ）",null,null,null,null,null,null,null,null,null,null,"",{"$f":"IF(LEN(ASC(D147))>40,\"←「゛」「゜」を含め，40文字以内としてください。\",\"\")","v":""}]
[null,"機器１","機器種別",null,null,null,null,null,null,null,null,null,"",{"$f":"IF(AND(P148=1,R152>0),\"←選択してください。\",IF(AND(L148=\"\",P148=6),\"←具体的な機器種別を入力してください。\",\"\"))","v":""},null,1,"入力値算定"]
[null,null,"出力",null,"W",null,null,null,null,null,null,null,"",{"$f":"IF(OR(D149=\"\",ISNUMBER(D149)),IF(AND(P$23=2,U164>400),\"定額電灯の総容量の上限400VAを超えています。\",IF(AND(P$23=3,U164>999),\"公衆街路灯Ａの総容量の上限999VAを超えています。\",IF(AND(OR(P$23=2,P$23=3),D146<>\"\",U164=0),\"負荷設備内訳を入力してください。\",\"\"))),\"←数字を入力してください。\")","v":""},null,null,"水銀灯",{"$f":"IF(P150=2,IF(D149<=40,60,IF(D149<=60,80,IF(D149<=80,100,IF(D149<=100,150,IF(D149<=125,160,IF(D149<=200,250,IF(D149<=250,300,\"\"))))))),\"\")","v":""},{"$f":"IF(P150=2,IF(D149<=250,R149,IF(D149<=300,350,IF(D149<=400,500,IF(D149<=700,800,IF(D149<=1000,1200,\"\"))))),\"\")","v":""},{"$f":"IF(P150=3,IF(D149<=40,130,IF(D149<=60,170,IF(D149<=80,190,IF(D149<=100,200,IF(D149<=125,290,IF(D149<=200,400,IF(D149<=250,500,\"\"))))))),S149)","v":""},{"$f":"IF(P150=3,IF(D149<=250,T149,IF(D149<=300,550,IF(D149<=400,750,IF(D149<=700,1200,IF(D149<=1000,1750,\"\"))))),S149)","v":""}]
[null,null,"力率",null,null,null,null,null,null,null,null,null,"",{"$f":"IF(AND(D151=\"\",D149<>\"\",P148<>5,P150=1),\"←選択してください。\",\"\")","v":""},null,1,"ナトリウム灯",{"$f":"IF(P150=2,IF(D149=150,190,IF(D149=250,300,IF(D149=400,500,IF(D149=700,840,\"\")))),IF(P150=3,ROUND(D149*1.4,0),\"\"))","v":""}]
[null,null,"入力",null,"VA",null,null,null,null,null,null,null,"",{"$f":"IF(OR(D151=\"\",ISNUMBER(D151)),\"\",\"←数字を入力してください。\")","v":""},null,null,"けい光灯",{"$f":"IF(P150=2,ROUND(D149*1.5,0),IF(P150=3,D149*2,\"\"))","v":""}]
[null,null,"灯個数",null,null,null,null,null,null,null,null,null,"",{"$f":"IF(OR(D152=\"\",ISNUMBER(D152)),\"\",\"←数字を入力してください。\")","v":""},null,1,"結果",{"$f":"IF(D151<>\"\",D151,IF(D149=\"\",0,IF(OR(P148=2,L148=\"メタルハライドランプ\"),U149,IF(P148=3,R150,IF(P148=4,R151,IF(OR(P149=5,L148=\"ハロゲンランプ\"),D149,\"\"))))))","v":0}]
[null,null,"取付位置",null,null,null,null,null,null,null,null,null,"",{"$f":"IF(AND(L153=\"\",P153=5),\"←具体的な取付位置を入力してください。\",\"\")","v":""},null,1]
[null,"機器２","機器種別",null,null,null,null,null,null,null,null,null,"",{"$f":"IF(AND(P154=1,R158>0),\"←選択してください。\",IF(AND(L154=\"\",P154=6),\"←具体的な機器種別を入力してください。\",\"\"))","v":""},null,1,"入力値算定"]
[null,null,"出力",null,"W",null,null,null,null,null,null,null,"",{"$f":"IF(OR(D155=\"\",ISNUMBER(D155)),\"\",\"←数字を入力してください。\")","v":""},null,null,"水銀灯",{"$f":"IF(P156=2,IF(D155<=40,60,IF(D155<=60,80,IF(D155<=80,100,IF(D155<=100,150,IF(D155<=125,160,IF(D155<=200,250,IF(D155<=250,300,\"\"))))))),\"\")","v":""},{"$f":"IF(P156=2,IF(D155<=250,R155,IF(D155<=300,350,IF(D155<=400,500,IF(D155<=700,800,IF(D155<=1000,1200,\"\"))))),\"\")","v":""},{"$f":"IF(P156=3,IF(D155<=40,130,IF(D155<=60,170,IF(D155<=80,190,IF(D155<=100,200,IF(D155<=125,290,IF(D155<=200,400,IF(D155<=250,500,\"\"))))))),S155)","v":""},{"$f":"IF(P156=3,IF(D155<=250,T155,IF(D155<=300,550,IF(D155<=400,750,IF(D155<=700,1200,IF(D155<=1000,1750,\"\"))))),S155)","v":""}]
[null,null,"力率",null,null,null,null,null,null,null,null,null,"",{"$f":"IF(AND(D157=\"\",D155<>\"\",P156=1),\"←選択してください。\",\"\")","v":""},null,1,"ナトリウム灯",{"$f":"IF(P156=2,IF(D155=150,190,IF(D155=250,300,IF(D155=400,500,IF(D155=700,840,\"\")))),IF(P156=3,ROUND(D155*1.4,0),\"\"))","v":""}]
[null,null,"入力",null,"VA",null,null,null,null,null,null,null,"",{"$f":"IF(OR(D157=\"\",ISNUMBER(D157)),\"\",\"←数字を入力してください。\")","v":""},null,null,"けい光灯",{"$f":"IF(P156=2,ROUND(D155*1.5,0),IF(P156=3,D155*2,\"\"))","v":""}]
[null,null,"灯個数",null,null,null,null,null,null,null,null,null,"",{"$f":"IF(OR(D158=\"\",ISNUMBER(D158)),\"\",\"←数字を入力してください。\")","v":""},null,1,"結果",{"$f":"IF(D157<>\"\",D157,IF(D155=\"\",0,IF(OR(P154=2,L154=\"メタルハライドランプ\"),U155,IF(P154=3,R156,IF(P154=4,R157,IF(OR(P155=5,L154=\"ハロゲンランプ\"),D155,\"\"))))))","v":0}]
[null,null,"取付位置",null,null,null,null,null,null,null,null,null,"",{"$f":"IF(AND(L159=\"\",P159=5),\"←具体的な取付位置を入力してください。\",\"\")","v":""},null,1]
[null,"機器３","機器種別",null,null,null,null,null,null,null,null,null,"",{"$f":"IF(AND(P160=1,R164>0),\"←選択してください。\",IF(AND(L160=\"\",P160=6),\"←具体的な機器種別を入力してください。\",\"\"))","v":""},null,1,"入力値算定"]
[null,null,"出力",null,"W",null,null,null,null,null,null,null,"",{"$f":"IF(OR(D161=\"\",ISNUMBER(D161)),\"\",\"←数字を入力してください。\")","v":""},null,null,"水銀灯",{"$f":"IF(P162=2,IF(D161<=40,60,IF(D161<=60,80,IF(D161<=80,100,IF(D161<=100,150,IF(D161<=125,160,IF(D161<=200,250,IF(D161<=250,300,\"\"))))))),\"\")","v":""},{"$f":"IF(P162=2,IF(D161<=250,R161,IF(D161<=300,350,IF(D161<=400,500,IF(D161<=700,800,IF(D161<=1000,1200,\"\"))))),\"\")","v":""},{"$f":"IF(P162=3,IF(D161<=40,130,IF(D161<=60,170,IF(D161<=80,190,IF(D161<=100,200,IF(D161<=125,290,IF(D161<=200,400,IF(D161<=250,500,\"\"))))))),S161)","v":""},{"$f":"IF(P162=3,IF(D161<=250,T161,IF(D161<=300,550,IF(D161<=400,750,IF(D161<=700,1200,IF(D161<=1000,1750,\"\"))))),S161)","v":""}]
[null,null,"力率",null,null,null,null,null,null,null,null,null,"",{"$f":"IF(AND(D163=\"\",D161<>\"\",P162=1),\"←選択してください。\",\"\")","v":""},null,1,"ナトリウム灯",{"$f":"IF(P162=2,IF(D161=150,190,IF(D161=250,300,IF(D161=400,500,IF(D161=700,840,\"\")))),IF(P162=3,ROUND(D161*1.4,0),\"\"))","v":""}]
[null,null,"入力",null,"VA",null,null,null,null,null,null,null,"",{"$f":"IF(OR(D163=\"\",ISNUMBER(D163)),\"\",\"←数字を入力してください。\")","v":""},null,null,"けい光灯",{"$f":"IF(P162=2,ROUND(D161*1.5,0),IF(P162=3,D161*2,\"\"))","v":""},null,"入力値合計","種別ごとの容量チェック用"]
[null,null,"灯個数",null,null,null,null,null,null,null,null,null,"",{"$f":"IF(OR(D164=\"\",ISNUMBER(D164)),\"\",\"←数字を入力してください。\")","v":""},null,1,"結果",{"$f":"IF(D163<>\"\",D163,IF(D161=\"\",0,IF(OR(P160=2,L160=\"メタルハライドランプ\"),U161,IF(P160=3,R162,IF(P160=4,R163,IF(OR(P161=5,L160=\"ハロゲンランプ\"),D161,\"\"))))))","v":0},null,{"$f":"IF(OR(R152=\"\",R158=\"\",R164=\"\"),\"\",R152*D152+R158*D158+R164*D164)","v":0},{"$f":"MAX(D149,D151)*D152+MAX(D155,D157)*D158+MAX(D161,D163)*D164","v":0}]
[null,null,"取付位置",null,null,null,null,null,null,null,null,null,"",{"$f":"IF(AND(L165=\"\",P165=5),\"←具体的な取付位置を入力してください。\",\"\")","v":""},null,1]
["８引込目","ご使用場所",null,null,null,null,null,null,null,null,null,null,""]
[null,"ご契約名義（カナ）",null,null,null,null,null,null,null,null,null,null,"",{"$f":"IF(LEN(ASC(D167))>40,\"←「゛」「゜」を含め，40文字以内としてください。\",\"\")","v":""}]
[null,"機器１","機器種別",null,null,null,null,null,null,null,null,null,"",{"$f":"IF(AND(P168=1,R172>0),\"←選択してください。\",IF(AND(L168=\"\",P168=6),\"←具体的な機器種別を入力してください。\",\"\"))","v":""},null,1,"入力値算定"]
[null,null,"出力",null,"W",null,null,null,null,null,null,null,"",{"$f":"IF(OR(D169=\"\",ISNUMBER(D169)),IF(AND(P$23=2,U184>400),\"定額電灯の総容量の上限400VAを超えています。\",IF(AND(P$23=3,U184>999),\"公衆街路灯Ａの総容量の上限999VAを超えています。\",IF(AND(OR(P$23=2,P$23=3),D166<>\"\",U184=0),\"負荷設備内訳を入力してください。\",\"\"))),\"←数字を入力してください。\")","v":""},null,null,"水銀灯",{"$f":"IF(P170=2,IF(D169<=40,60,IF(D169<=60,80,IF(D169<=80,100,IF(D169<=100,150,IF(D169<=125,160,IF(D169<=200,250,IF(D169<=250,300,\"\"))))))),\"\")","v":""},{"$f":"IF(P170=2,IF(D169<=250,R169,IF(D169<=300,350,IF(D169<=400,500,IF(D169<=700,800,IF(D169<=1000,1200,\"\"))))),\"\")","v":""},{"$f":"IF(P170=3,IF(D169<=40,130,IF(D169<=60,170,IF(D169<=80,190,IF(D169<=100,200,IF(D169<=125,290,IF(D169<=200,400,IF(D169<=250,500,\"\"))))))),S169)","v":""},{"$f":"IF(P170=3,IF(D169<=250,T169,IF(D169<=300,550,IF(D169<=400,750,IF(D169<=700,1200,IF(D169<=1000,1750,\"\"))))),S169)","v":""}]
[null,null,"力率",null,null,null,null,null,null,null,null,null,"",{"$f":"IF(AND(D171=\"\",D169<>\"\",P168<>5,P170=1),\"←選択してください。\",\"\")","v":""},null,1,"ナトリウム灯",{"$f":"IF(P170=2,IF(D169=150,190,IF(D169=250,300,IF(D169=400,500,IF(D169=700,840,\"\")))),IF(P170=3,ROUND(D169*1.4,0),\"\"))","v":""}]
[null,null,"入力",null,"VA",null,null,null,null,null,null,null,"",{"$f":"IF(OR(D171=\"\",ISNUMBER(D171)),\"\",\"←数字を入力してください。\")","v":""},null,null,"けい光灯",{"$f":"IF(P170=2,ROUND(D169*1.5,0),IF(P170=3,D169*2,\"\"))","v":""}]
[null,null,"灯個数",null,null,null,null,null,null,null,null,null,"",{"$f":"IF(OR(D172=\"\",ISNUMBER(D172)),\"\",\"←数字を入力してください。\")","v":""},null,1,"結果",{"$f":"IF(D171<>\"\",D171,IF(D169=\"\",0,IF(OR(P168=2,L168=\"メタルハライドランプ\"),U169,IF(P168=3,R170,IF(P168=4,R171,IF(OR(P169=5,L168=\"ハロゲンランプ\"),D169,\"\"))))))","v":0}]
[null,null,"取付位置",null,null,null,null,null,null,null,null,null,"",{"$f":"IF(AND(L173=\"\",P173=5),\"←具体的な取付位置を入力してください。\",\"\")","v":""},null,1]
[null,"機器２","機器種別",null,null,null,null,null,null,null,null,null,"",{"$f":"IF(AND(P174=1,R178>0),\"←選択してください。\",IF(AND(L174=\"\",P174=6),\"←具体的な機器種別を入力してください。\",\"\"))","v":""},null,1,"入力値算定"]
[null,null,"出力",null,"W",null,null,null,null,null,null,null,"",{"$f":"IF(OR(D175=\"\",ISNUMBER(D175)),\"\",\"←数字を入力してください。\")","v":""},null,null,"水銀灯",{"$f":"IF(P176=2,IF(D175<=40,60,IF(D175<=60,80,IF(D175<=80,100,IF(D175<=100,150,IF(D175<=125,160,IF(D175<=200,250,IF(D175<=250,300,\"\"))))))),\"\")","v":""},{"$f":"IF(P176=2,IF(D175<=250,R175,IF(D175<=300,350,IF(D175<=400,500,IF(D175<=700,800,IF(D175<=1000,1200,\"\"))))),\"\")","v":""},{"$f":"IF(P176=3,IF(D175<=40,130,IF(D175<=60,170,IF(D175<=80,190,IF(D175<=100,200,IF(D175<=125,290,IF(D175<=200,400,IF(D175<=250,500,\"\"))))))),S175)","v":""},{"$f":"IF(P176=3,IF(D175<=250,T175,IF(D175<=300,550,IF(D175<=400,750,IF(D175<=700,1200,IF(D175<=1000,1750,\"\"))))),S175)","v":""}]
[null,null,"力率",null,null,null,null,null,null,null,null,null,"",{"$f":"IF(AND(D177=\"\",D175<>\"\",P176=1),\"←選択してください。\",\"\")","v":""},null,1,"ナトリウム灯",{"$f":"IF(P176=2,IF(D175=150,190,IF(D175=250,300,IF(D175=400,500,IF(D175=700,840,\"\")))),IF(P176=3,ROUND(D175*1.4,0),\"\"))","v":""}]
[null,null,"入力",null,"VA",null,null,null,null,null,null,null,"",{"$f":"IF(OR(D177=\"\",ISNUMBER(D177)),\"\",\"←数字を入力してください。\")","v":""},null,null,"けい光灯",{"$f":"IF(P176=2,ROUND(D175*1.5,0),IF(P176=3,D175*2,\"\"))","v":""}]
[null,null,"灯個数",null,null,null,null,null,null,null,null,null,"",{"$f":"IF(OR(D178=\"\",ISNUMBER(D178)),\"\",\"←数字を入力してください。\")","v":""},null,1,"結果",{"$f":"IF(D177<>\"\",D177,IF(D175=\"\",0,IF(OR(P174=2,L174=\"メタルハライドランプ\"),U175,IF(P174=3,R176,IF(P174=4,R177,IF(OR(P175=5,L174=\"ハロゲンランプ\"),D175,\"\"))))))","v":0}]
[null,null,"取付位置",null,null,null,null,null,null,null,null,null,"",{"$f":"IF(AND(L179=\"\",P179=5),\"←具体的な取付位置を入力してください。\",\"\")","v":""},null,1]
[null,"機器３","機器種別",null,null,null,null,null,null,null,null,null,"",{"$f":"IF(AND(P180=1,R184>0),\"←選択してください。\",IF(AND(L180=\"\",P180=6),\"←具体的な機器種別を入力してください。\",\"\"))","v":""},null,1,"入力値算定"]
[null,null,"出力",null,"W",null,null,null,null,null,null,null,"",{"$f":"IF(OR(D181=\"\",ISNUMBER(D181)),\"\",\"←数字を入力してください。\")","v":""},null,null,"水銀灯",{"$f":"IF(P182=2,IF(D181<=40,60,IF(D181<=60,80,IF(D181<=80,100,IF(D181<=100,150,IF(D181<=125,160,IF(D181<=200,250,IF(D181<=250,300,\"\"))))))),\"\")","v":""},{"$f":"IF(P182=2,IF(D181<=250,R181,IF(D181<=300,350,IF(D181<=400,500,IF(D181<=700,800,IF(D181<=1000,1200,\"\"))))),\"\")","v":""},{"$f":"IF(P182=3,IF(D181<=40,130,IF(D181<=60,170,IF(D181<=80,190,IF(D181<=100,200,IF(D181<=125,290,IF(D181<=200,400,IF(D181<=250,500,\"\"))))))),S181)","v":""},{"$f":"IF(P182=3,IF(D181<=250,T181,IF(D181<=300,550,IF(D181<=400,750,IF(D181<=700,1200,IF(D181<=1000,1750,\"\"))))),S181)","v":""}]
[null,null,"力率",null,null,null,null,null,null,null,null,null,"",{"$f":"IF(AND(D183=\"\",D181<>\"\",P182=1),\"←選択してください。\",\"\")","v":""},null,1,"ナトリウム灯",{"$f":"IF(P182=2,IF(D181=150,190,IF(D181=250,300,IF(D181=400,500,IF(D181=700,840,\"\")))),IF(P182=3,ROUND(D181*1.4,0),\"\"))","v":""}]
[null,null,"入力",null,"VA",null,null,null,null,null,null,null,"",{"$f":"IF(OR(D183=\"\",ISNUMBER(D183)),\"\",\"←数字を入力してください。\")","v":""},null,null,"けい光灯",{"$f":"IF(P182=2,ROUND(D181*1.5,0),IF(P182=3,D181*2,\"\"))","v":""},null,"入力値合計","種別ごとの容量チェック用"]
[null,null,"灯個数",null,null,null,null,null,null,null,null,null,"",{"$f":"IF(OR(D184=\"\",ISNUMBER(D184)),\"\",\"←数字を入力してください。\")","v":""},null,1,"結果",{"$f":"IF(D183<>\"\",D183,IF(D181=\"\",0,IF(OR(P180=2,L180=\"メタルハライドランプ\"),U181,IF(P180=3,R182,IF(P180=4,R183,IF(OR(P181=5,L180=\"ハロゲンランプ\"),D181,\"\"))))))","v":0},null,{"$f":"IF(OR(R172=\"\",R178=\"\",R184=\"\"),\"\",R172*D172+R178*D178+R184*D184)","v":0},{"$f":"MAX(D169,D171)*D172+MAX(D175,D177)*D178+MAX(D181,D183)*D184","v":0}]
[null,null,"取付位置",null,null,null,null,null,null,null,null,null,"",{"$f":"IF(AND(L185=\"\",P185=5),\"←具体的な取付位置を入力してください。\",\"\")","v":""},null,1]
["９引込目","ご使用場所",null,null,null,null,null,null,null,null,null,null,""]
[null,"ご契約名義（カナ）",null,null,null,null,null,null,null,null,null,null,"",{"$f":"IF(LEN(ASC(D187))>40,\"←「゛」「゜」を含め，40文字以内としてください。\",\"\")","v":""}]
[null,"機器１","機器種別",null,null,null,null,null,null,null,null,null,"",{"$f":"IF(AND(P188=1,R192>0),\"←選択してください。\",IF(AND(L188=\"\",P188=6),\"←具体的な機器種別を入力してください。\",\"\"))","v":""},null,1,"入力値算定"]
[null,null,"出力",null,"W",null,null,null,null,null,null,null,"",{"$f":"IF(OR(D189=\"\",ISNUMBER(D189)),IF(AND(P$23=2,U204>400),\"定額電灯の総容量の上限400VAを超えています。\",IF(AND(P$23=3,U204>999),\"公衆街路灯Ａの総容量の上限999VAを超えています。\",IF(AND(OR(P$23=2,P$23=3),D186<>\"\",U204=0),\"負荷設備内訳を入力してください。\",\"\"))),\"←数字を入力してください。\")","v":""},null,null,"水銀灯",{"$f":"IF(P190=2,IF(D189<=40,60,IF(D189<=60,80,IF(D189<=80,100,IF(D189<=100,150,IF(D189<=125,160,IF(D189<=200,250,IF(D189<=250,300,\"\"))))))),\"\")","v":""},{"$f":"IF(P190=2,IF(D189<=250,R189,IF(D189<=300,350,IF(D189<=400,500,IF(D189<=700,800,IF(D189<=1000,1200,\"\"))))),\"\")","v":""},{"$f":"IF(P190=3,IF(D189<=40,130,IF(D189<=60,170,IF(D189<=80,190,IF(D189<=100,200,IF(D189<=125,290,IF(D189<=200,400,IF(D189<=250,500,\"\"))))))),S189)","v":""},{"$f":"IF(P190=3,IF(D189<=250,T189,IF(D189<=300,550,IF(D189<=400,750,IF(D189<=700,1200,IF(D189<=1000,1750,\"\"))))),S189)","v":""}]
[null,null,"力率",null,null,null,null,null,null,null,null,null,"",{"$f":"IF(AND(D191=\"\",D189<>\"\",P188<>5,P190=1),\"←選択してください。\",\"\")","v":""},null,1,"ナトリウム灯",{"$f":"IF(P190=2,IF(D189=150,190,IF(D189=250,300,IF(D189=400,500,IF(D189=700,840,\"\")))),IF(P190=3,ROUND(D189*1.4,0),\"\"))","v":""}]
[null,null,"入力",null,"VA",null,null,null,null,null,null,null,"",{"$f":"IF(OR(D191=\"\",ISNUMBER(D191)),\"\",\"←数字を入力してください。\")","v":""},null,null,"けい光灯",{"$f":"IF(P190=2,ROUND(D189*1.5,0),IF(P190=3,D189*2,\"\"))","v":""}]
[null,null,"灯個数",null,null,null,null,null,null,null,null,null,"",{"$f":"IF(OR(D192=\"\",ISNUMBER(D192)),\"\",\"←数字を入力してください。\")","v":""},null,1,"結果",{"$f":"IF(D191<>\"\",D191,IF(D189=\"\",0,IF(OR(P188=2,L188=\"メタルハライドランプ\"),U189,IF(P188=3,R190,IF(P188=4,R191,IF(OR(P189=5,L188=\"ハロゲンランプ\"),D189,\"\"))))))","v":0}]
[null,null,"取付位置",null,null,null,null,null,null,null,null,null,"",{"$f":"IF(AND(L193=\"\",P193=5),\"←具体的な取付位置を入力してください。\",\"\")","v":""},null,1]
[null,"機器２","機器種別",null,null,null,null,null,null,null,null,null,{"$f":"IF(N194=\"\",\"\",N194)","v":""},{"$f":"IF(AND(P194=1,R198>0),\"←選択してください。\",IF(AND(L194=\"\",P194=6),\"←具体的な機器種別を入力してください。\",\"\"))","v":""},null,1,"入力値算定"]
[null,null,"出力",null,"W",null,null,null,null,null,null,null,"",{"$f":"IF(OR(D195=\"\",ISNUMBER(D195)),\"\",\"←数字を入力してください。\")","v":""},null,null,"水銀灯",{"$f":"IF(P196=2,IF(D195<=40,60,IF(D195<=60,80,IF(D195<=80,100,IF(D195<=100,150,IF(D195<=125,160,IF(D195<=200,250,IF(D195<=250,300,\"\"))))))),\"\")","v":""},{"$f":"IF(P196=2,IF(D195<=250,R195,IF(D195<=300,350,IF(D195<=400,500,IF(D195<=700,800,IF(D195<=1000,1200,\"\"))))),\"\")","v":""},{"$f":"IF(P196=3,IF(D195<=40,130,IF(D195<=60,170,IF(D195<=80,190,IF(D195<=100,200,IF(D195<=125,290,IF(D195<=200,400,IF(D195<=250,500,\"\"))))))),S195)","v":""},{"$f":"IF(P196=3,IF(D195<=250,T195,IF(D195<=300,550,IF(D195<=400,750,IF(D195<=700,1200,IF(D195<=1000,1750,\"\"))))),S195)","v":""}]
[null,null,"力率",null,null,null,null,null,null,null,null,null,"",{"$f":"IF(AND(D197=\"\",D195<>\"\",P196=1),\"←選択してください。\",\"\")","v":""},null,1,"ナトリウム灯",{"$f":"IF(P196=2,IF(D195=150,190,IF(D195=250,300,IF(D195=400,500,IF(D195=700,840,\"\")))),IF(P196=3,ROUND(D195*1.4,0),\"\"))","v":""}]
[null,null,"入力",null,"VA",null,null,null,null,null,null,null,"",{"$f":"IF(OR(D197=\"\",ISNUMBER(D197)),\"\",\"←数字を入力してください。\")","v":""},null,null,"けい光灯",{"$f":"IF(P196=2,ROUND(D195*1.5,0),IF(P196=3,D195*2,\"\"))","v":""}]
[null,null,"灯個数",null,null,null,null,null,null,null,null,null,"",{"$f":"IF(OR(D198=\"\",ISNUMBER(D198)),\"\",\"←数字を入力してください。\")","v":""},null,1,"結果",{"$f":"IF(D197<>\"\",D197,IF(D195=\"\",0,IF(OR(P194=2,L194=\"メタルハライドランプ\"),U195,IF(P194=3,R196,IF(P194=4,R197,IF(OR(P195=5,L194=\"ハロゲンランプ\"),D195,\"\"))))))","v":0}]
[null,null,"取付位置",null,null,null,null,null,null,null,null,null,"",{"$f":"IF(AND(L199=\"\",P199=5),\"←具体的な取付位置を入力してください。\",\"\")","v":""},null,1]
[null,"機器３","機器種別",null,null,null,null,null,null,null,null,null,"",{"$f":"IF(AND(P200=1,R204>0),\"←選択してください。\",IF(AND(L200=\"\",P200=6),\"←具体的な機器種別を入力してください。\",\"\"))","v":""},null,1,"入力値算定"]
[null,null,"出力",null,"W",null,null,null,null,null,null,null,"",{"$f":"IF(OR(D201=\"\",ISNUMBER(D201)),\"\",\"←数字を入力してください。\")","v":""},null,null,"水銀灯",{"$f":"IF(P202=2,IF(D201<=40,60,IF(D201<=60,80,IF(D201<=80,100,IF(D201<=100,150,IF(D201<=125,160,IF(D201<=200,250,IF(D201<=250,300,\"\"))))))),\"\")","v":""},{"$f":"IF(P202=2,IF(D201<=250,R201,IF(D201<=300,350,IF(D201<=400,500,IF(D201<=700,800,IF(D201<=1000,1200,\"\"))))),\"\")","v":""},{"$f":"IF(P202=3,IF(D201<=40,130,IF(D201<=60,170,IF(D201<=80,190,IF(D201<=100,200,IF(D201<=125,290,IF(D201<=200,400,IF(D201<=250,500,\"\"))))))),S201)","v":""},{"$f":"IF(P202=3,IF(D201<=250,T201,IF(D201<=300,550,IF(D201<=400,750,IF(D201<=700,1200,IF(D201<=1000,1750,\"\"))))),S201)","v":""}]
[null,null,"力率",null,null,null,null,null,null,null,null,null,"",{"$f":"IF(AND(D203=\"\",D201<>\"\",P202=1),\"←選択してください。\",\"\")","v":""},null,1,"ナトリウム灯",{"$f":"IF(P202=2,IF(D201=150,190,IF(D201=250,300,IF(D201=400,500,IF(D201=700,840,\"\")))),IF(P202=3,ROUND(D201*1.4,0),\"\"))","v":""}]
[null,null,"入力",null,"VA",null,null,null,null,null,null,null,"",{"$f":"IF(OR(D203=\"\",ISNUMBER(D203)),\"\",\"←数字を入力してください。\")","v":""},null,null,"けい光灯",{"$f":"IF(P202=2,ROUND(D201*1.5,0),IF(P202=3,D201*2,\"\"))","v":""},null,"入力値合計","種別ごとの容量チェック用"]
[null,null,"灯個数",null,null,null,null,null,null,null,null,null,"",{"$f":"IF(OR(D204=\"\",ISNUMBER(D204)),\"\",\"←数字を入力してください。\")","v":""},null,1,"結果",{"$f":"IF(D203<>\"\",D203,IF(D201=\"\",0,IF(OR(P200=2,L200=\"メタルハライドランプ\"),U201,IF(P200=3,R202,IF(P200=4,R203,IF(OR(P201=5,L200=\"ハロゲンランプ\"),D201,\"\"))))))","v":0},null,{"$f":"IF(OR(R192=\"\",R198=\"\",R204=\"\"),\"\",R192*D192+R198*D198+R204*D204)","v":0},{"$f":"MAX(D189,D191)*D192+MAX(D195,D197)*D198+MAX(D201,D203)*D204","v":0}]
[null,null,"取付位置",null,null,null,null,null,null,null,null,null,"",{"$f":"IF(AND(L205=\"\",P205=5),\"←具体的な取付位置を入力してください。\",\"\")","v":""},null,1]
["１０引込目","ご使用場所",null,null,null,null,null,null,null,null,null,null,""]
[null,"ご契約名義（カナ）",null,null,null,null,null,null,null,null,null,null,"",{"$f":"IF(LEN(ASC(D207))>40,\"←「゛」「゜」を含め，40文字以内としてください。\",\"\")","v":""}]
[null,"機器１","機器種別",null,null,null,null,null,null,null,null,null,"",{"$f":"IF(AND(P208=1,R212>0),\"←選択してください。\",IF(AND(L208=\"\",P208=6),\"←具体的な機器種別を入力してください。\",\"\"))","v":""},null,1,"入力値算定"]
[null,null,"出力",null,"W",null,null,null,null,null,null,null,"",{"$f":"IF(OR(D209=\"\",ISNUMBER(D209)),IF(AND(P$23=2,U224>400),\"定額電灯の総容量の上限400VAを超えています。\",IF(AND(P$23=3,U224>999),\"公衆街路灯Ａの総容量の上限999VAを超えています。\",IF(AND(OR(P$23=2,P$23=3),D206<>\"\",U224=0),\"負荷設備内訳を入力してください。\",\"\"))),\"←数字を入力してください。\")","v":""},null,null,"水銀灯",{"$f":"IF(P210=2,IF(D209<=40,60,IF(D209<=60,80,IF(D209<=80,100,IF(D209<=100,150,IF(D209<=125,160,IF(D209<=200,250,IF(D209<=250,300,\"\"))))))),\"\")","v":""},{"$f":"IF(P210=2,IF(D209<=250,R209,IF(D209<=300,350,IF(D209<=400,500,IF(D209<=700,800,IF(D209<=1000,1200,\"\"))))),\"\")","v":""},{"$f":"IF(P210=3,IF(D209<=40,130,IF(D209<=60,170,IF(D209<=80,190,IF(D209<=100,200,IF(D209<=125,290,IF(D209<=200,400,IF(D209<=250,500,\"\"))))))),S209)","v":""},{"$f":"IF(P210=3,IF(D209<=250,T209,IF(D209<=300,550,IF(D209<=400,750,IF(D209<=700,1200,IF(D209<=1000,1750,\"\"))))),S209)","v":""}]
[null,null,"力率",null,null,null,null,null,null,null,null,null,"",{"$f":"IF(AND(D211=\"\",D209<>\"\",P208<>5,P210=1),\"←選択してください。\",\"\")","v":""},null,1,"ナトリウム灯",{"$f":"IF(P210=2,IF(D209=150,190,IF(D209=250,300,IF(D209=400,500,IF(D209=700,840,\"\")))),IF(P210=3,ROUND(D209*1.4,0),\"\"))","v":""}]
[null,null,"入力",null,"VA",null,null,null,null,null,null,null,"",{"$f":"IF(OR(D211=\"\",ISNUMBER(D211)),\"\",\"←数字を入力してください。\")","v":""},null,null,"けい光灯",{"$f":"IF(P210=2,ROUND(D209*1.5,0),IF(P210=3,D209*2,\"\"))","v":""}]
[null,null,"灯個数",null,null,null,null,null,null,null,null,null,"",{"$f":"IF(OR(D212=\"\",ISNUMBER(D212)),\"\",\"←数字を入力してください。\")","v":""},null,1,"結果",{"$f":"IF(D211<>\"\",D211,IF(D209=\"\",0,IF(OR(P208=2,L208=\"メタルハライドランプ\"),U209,IF(P208=3,R210,IF(P208=4,R211,IF(OR(P209=5,L208=\"ハロゲンランプ\"),D209,\"\"))))))","v":0}]
[null,null,"取付位置",null,null,null,null,null,null,null,null,null,"",{"$f":"IF(AND(L213=\"\",P213=5),\"←具体的な取付位置を入力してください。\",\"\")","v":""},null,1]
[null,"機器２","機器種別",null,null,null,null,null,null,null,null,null,"",{"$f":"IF(AND(P214=1,R218>0),\"←選択してください。\",IF(AND(L214=\"\",P214=6),\"←具体的な機器種別を入力してください。\",\"\"))","v":""},null,1,"入力値算定"]
[null,null,"出力",null,"W",null,null,null,null,null,null,null,"",{"$f":"IF(OR(D215=\"\",ISNUMBER(D215)),\"\",\"←数字を入力してください。\")","v":""},null,null,"水銀灯",{"$f":"IF(P216=2,IF(D215<=40,60,IF(D215<=60,80,IF(D215<=80,100,IF(D215<=100,150,IF(D215<=125,160,IF(D215<=200,250,IF(D215<=250,300,\"\"))))))),\"\")","v":""},{"$f":"IF(P216=2,IF(D215<=250,R215,IF(D215<=300,350,IF(D215<=400,500,IF(D215<=700,800,IF(D215<=1000,1200,\"\"))))),\"\")","v":""},{"$f":"IF(P216=3,IF(D215<=40,130,IF(D215<=60,170,IF(D215<=80,190,IF(D215<=100,200,IF(D215<=125,290,IF(D215<=200,400,IF(D215<=250,500,\"\"))))))),S215)","v":""},{"$f":"IF(P216=3,IF(D215<=250,T215,IF(D215<=300,550,IF(D215<=400,750,IF(D215<=700,1200,IF(D215<=1000,1750,\"\"))))),S215)","v":""}]
[null,null,"力率",null,null,null,null,null,null,null,null,null,"",{"$f":"IF(AND(D217=\"\",D215<>\"\",P216=1),\"←選択してください。\",\"\")","v":""},null,1,"ナトリウム灯",{"$f":"IF(P216=2,IF(D215=150,190,IF(D215=250,300,IF(D215=400,500,IF(D215=700,840,\"\")))),IF(P216=3,ROUND(D215*1.4,0),\"\"))","v":""}]
[null,null,"入力",null,"VA",null,null,null,null,null,null,null,"",{"$f":"IF(OR(D217=\"\",ISNUMBER(D217)),\"\",\"←数字を入力してください。\")","v":""},null,null,"けい光灯",{"$f":"IF(P216=2,ROUND(D215*1.5,0),IF(P216=3,D215*2,\"\"))","v":""}]
[null,null,"灯個数",null,null,null,null,null,null,null,null,null,"",{"$f":"IF(OR(D218=\"\",ISNUMBER(D218)),\"\",\"←数字を入力してください。\")","v":""},null,1,"結果",{"$f":"IF(D217<>\"\",D217,IF(D215=\"\",0,IF(OR(P214=2,L214=\"メタルハライドランプ\"),U215,IF(P214=3,R216,IF(P214=4,R217,IF(OR(P215=5,L214=\"ハロゲンランプ\"),D215,\"\"))))))","v":0}]
[null,null,"取付位置",null,null,null,null,null,null,null,null,null,"",{"$f":"IF(AND(L219=\"\",P219=5),\"←具体的な取付位置を入力してください。\",\"\")","v":""},null,1]
[null,"機器３","機器種別",null,null,null,null,null,null,null,null,null,"",{"$f":"IF(AND(P220=1,R224>0),\"←選択してください。\",IF(AND(L220=\"\",P220=6),\"←具体的な機器種別を入力してください。\",\"\"))","v":""},null,1,"入力値算定"]
[null,null,"出力",null,"W",null,null,null,null,null,null,null,"",{"$f":"IF(OR(D221=\"\",ISNUMBER(D221)),\"\",\"←数字を入力してください。\")","v":""},null,null,"水銀灯",{"$f":"IF(P222=2,IF(D221<=40,60,IF(D221<=60,80,IF(D221<=80,100,IF(D221<=100,150,IF(D221<=125,160,IF(D221<=200,250,IF(D221<=250,300,\"\"))))))),\"\")","v":""},{"$f":"IF(P222=2,IF(D221<=250,R221,IF(D221<=300,350,IF(D221<=400,500,IF(D221<=700,800,IF(D221<=1000,1200,\"\"))))),\"\")","v":""},{"$f":"IF(P222=3,IF(D221<=40,130,IF(D221<=60,170,IF(D221<=80,190,IF(D221<=100,200,IF(D221<=125,290,IF(D221<=200,400,IF(D221<=250,500,\"\"))))))),S221)","v":""},{"$f":"IF(P222=3,IF(D221<=250,T221,IF(D221<=300,550,IF(D221<=400,750,IF(D221<=700,1200,IF(D221<=1000,1750,\"\"))))),S221)","v":""}]
[null,null,"力率",null,null,null,null,null,null,null,null,null,"",{"$f":"IF(AND(D223=\"\",D221<>\"\",P222=1),\"←選択してください。\",\"\")","v":""},null,1,"ナトリウム灯",{"$f":"IF(P222=2,IF(D221=150,190,IF(D221=250,300,IF(D221=400,500,IF(D221=700,840,\"\")))),IF(P222=3,ROUND(D221*1.4,0),\"\"))","v":""}]
[null,null,"入力",null,"VA",null,null,null,null,null,null,null,"",{"$f":"IF(OR(D223=\"\",ISNUMBER(D223)),\"\",\"←数字を入力してください。\")","v":""},null,null,"けい光灯",{"$f":"IF(P222=2,ROUND(D221*1.5,0),IF(P222=3,D221*2,\"\"))","v":""},null,"入力値合計","種別ごとの容量チェック用"]
[null,null,"灯個数",null,null,null,null,null,null,null,null,null,"",{"$f":"IF(OR(D224=\"\",ISNUMBER(D224)),\"\",\"←数字を入力してください。\")","v":""},null,1,"結果",{"$f":"IF(D223<>\"\",D223,IF(D221=\"\",0,IF(OR(P220=2,L220=\"メタルハライドランプ\"),U221,IF(P220=3,R222,IF(P220=4,R223,IF(OR(P221=5,L220=\"ハロゲンランプ\"),D221,\"\"))))))","v":0},null,{"$f":"IF(OR(R212=\"\",R218=\"\",R224=\"\"),\"\",R212*D212+R218*D218+R224*D224)","v":0},{"$f":"MAX(D209,D211)*D212+MAX(D215,D217)*D218+MAX(D221,D223)*D224","v":0}]
[null,null,"取付位置",null,null,null,null,null,null,null,null,null,"",{"$f":"IF(AND(L225=\"\",P225=5),\"←具体的な取付位置を入力してください。\",\"\")","v":""},null,1]

{"sheet":"１枚目","index":1,"n_rows":163,"n_cols":111,"rows_kept":163,"cut":false,"hidden":false,"merged":[[1,93,5,109],[127,102,135,104],[130,25,132,37],[130,38,132,43],[130,44,132,45],[130,46,132,51],[130,52,132,57],[130,58,132,59],[130,60,132,64],[130,65,132,66],[130,67,132,78],[133,25,135,37],[133,38,135,43],[133,44,135,45],[133,46,135,51],[133,52,135,57],[133,58,135,59],[133,60,135,64],[133,65,135,66],[133,67,135,78],[127,60,129,64],[127,65,129,66],[127,67,129,78],[127,79,135,82],[127,83,135,85],[127,86,135,87],[127,88,135,90],[127,91,135,94],[127,95,135,97],[125,5,126,5],[127,1,135,4],[127,5,131,24],[127,25,129,37],[127,38,129,43],[127,44,129,45],[127,46,129,51],[127,52,129,57],[127,58,129,59],[132,5,133,5],[134,5,135,5],[118,1,126,4],[118,5,122,24],[118,25,120,37],[118,38,120,43],[118,44,120,45],[118,46,120,51],[118,52,120,57],[118,58,120,59],[118,60,120,64],[118,65,120,66],[118,67,120,78],[118,79,126,82],[118,83,126,85],[118,86,126,87],[118,88,126,90],[118,91,126,94],[118,95,126,97],[118,98,126,101],[121,65,123,66],[121,67,123,78],[124,65,126,66],[124,67,126,78],[121,25,123,37],[121,38,123,43],[121,44,123,45],[121,46,123,51],[121,52,123,57],[121,58,123,59],[121,60,123,64],[123,5,124,5],[124,25,126,37],[124,38,126,43],[124,44,126,45],[124,46,126,51],[124,52,126,57],[124,58,126,59],[124,60,126,64],[123,6,124,6],[123,7,124,7],[123,8,124,8],[123,9,124,9],[123,10,124,10],[123,11,124,11],[123,12,124,12],[123,13,124,13],[123,14,124,14],[109,86,117,87],[109,88,117,90],[109,91,117,94],[109,95,117,97],[109,98,117,101],[109,102,117,104],[112,25,114,37],[112,38,114,43],[112,44,114,45],[112,46,114,51],[112,52,114,57],[112,58,114,59],[112,60,114,64],[112,65,114,66],[112,67,114,78],[115,25,117,37],[115,38,117,43],[115,44,117,45],[115,46,117,51],[115,52,117,57],[115,58,117,59],[115,60,117,64],[115,65,117,66],[115,67,117,78],[107,5,108,5],[109,1,117,4],[109,5,113,24],[109,25,111,37],[109,38,111,43],[109,44,111,45],[109,46,111,51],[109,52,111,57],[109,58,111,59],[114,5,115,5],[116,5,117,5],[100,1,108,4],[100,5,104,24],[100,25,102,37],[100,38,102,43],[100,44,102,45],[100,46,102,51],[100,52,102,57],[100,58,102,59],[114,6,115,6],[114,7,115,7],[114,8,115,8],[114,9,115,9],[114,10,115,10],[100,65,102,66],[100,67,102,78],[100,79,108,82],[100,83,108,85],[100,86,108,87],[100,88,108,90],[100,91,108,94],[100,95,108,97],[100,98,108,101],[103,65,105,66],[103,67,105,78],[106,65,108,66],[106,67,108,78],[100,60,102,64],[103,25,105,37],[103,38,105,43],[103,44,105,45],[103,46,105,51],[103,52,105,57],[103,58,105,59],[103,60,105,64],[105,5,106,5],[106,25,108,37],[106,38,108,43],[106,44,108,45],[106,46,108,51],[106,52,108,57],[106,58,108,59],[106,60,108,64],[107,16,108,16],[107,17,108,17],[107,18,108,18],[107,19,108,19],[107,20,108,20],[107,21,108,21],[107,22,108,22],[107,6,108,6],[91,86,99,87],[91,88,99,90],[91,91,99,94],[91,95,99,97],[91,98,99,101],[91,102,99,104],[94,25,96,37],[94,38,96,43],[94,44,96,45],[94,46,96,51],[94,52,96,57],[94,58,96,59],[94,60,96,64],[94,65,96,66],[94,67,96,78],[97,25,99,37],[97,38,99,43],[97,44,99,45],[97,46,99,51],[97,52,99,57],[97,58,99,59],[97,60,99,64],[97,65,99,66],[97,67,99,78],[89,5,90,5],[91,1,99,4],[91,5,95,24],[91,25,93,37],[91,38,93,43],[91,44,93,45],[91,46,93,51],[91,52,93,57],[91,58,93,59],[96,5,97,5],[98,5,99,5],[82,1,90,4],[82,5,86,24],[82,25,84,37],[82,38,84,43],[82,44,84,45],[82,46,84,51],[82,52,84,57],[82,58,84,59],[98,7,99,7],[98,8,99,8],[98,9,99,9],[98,10,99,10],[98,11,99,11],[82,65,84,66],[82,67,84,78],[82,79,90,82],[82,83,90,85],[82,86,90,87],[82,88,90,90],[82,91,90,94],[82,95,90,97],[82,98,90,101],[85,65,87,66],[85,67,87,78],[88,65,90,66],[88,67,90,78],[82,60,84,64],[85,25,87,37],[85,38,87,43],[85,44,87,45],[85,46,87,51],[85,52,87,57],[85,58,87,59],[85,60,87,64],[87,5,88,5],[88,25,90,37],[88,38,90,43],[88,44,90,45],[88,46,90,51],[88,52,90,57],[88,58,90,59],[88,60,90,64],[89,6,90,6],[89,7,90,7],[89,8,90,8],[89,9,90,9],[89,10,90,10],[89,11,90,11],[89,12,90,12],[89,13,90,13],[78,5,79,5],[79,25,81,37],[79,38,81,43],[79,44,81,45],[79,46,81,51],[79,52,81,57],[79,58,81,59],[79,60,81,64],[79,65,81,66],[80,5,81,5],[80,11,81,11],[80,12,81,12],[80,13,81,13],[80,14,81,14],[80,15,81,15],[80,16,81,16],[80,17,81,17],[80,18,81,18],[80,19,81,19],[80,20,81,20],[80,21,81,21],[73,1,81,4],[73,5,77,24],[73,25,75,37],[73,38,75,43],[73,44,75,45],[73,46,75,51],[73,52,75,57],[73,58,75,59],[73,60,75,64],[76,25,78,37],[76,38,78,43],[76,44,78,45],[76,46,78,51],[76,52,78,57],[76,58,78,59],[76,60,78,64],[78,17,79,17],[78,18,79,18],[78,19,79,19],[78,20,79,20],[78,21,79,21],[78,22,79,22],[78,23,79,23],[78,24,79,24],[64,98,72,101],[64,102,72,104],[67,25,69,37],[67,38,69,43],[67,44,69,45],[67,46,69,51],[67,52,69,57],[67,58,69,59],[67,60,69,64],[67,65,69,66],[67,67,69,78],[70,25,72,37],[70,38,72,43],[70,44,72,45],[70,46,72,51],[70,52,72,57],[70,58,72,59],[70,60,72,64],[70,65,72,66],[70,67,72,78],[64,1,72,4],[64,5,68,24],[64,25,66,37],[64,38,66,43],[64,44,66,45],[64,46,66,51],[64,52,66,57],[64,58,66,59],[64,60,66,64],[69,5,70,5],[71,5,72,5],[71,6,72,6],[69,16,70,16],[69,17,70,17],[69,18,70,18],[69,19,70,19],[69,20,70,20],[69,21,70,21],[69,22,70,22],[69,23,70,23],[69,24,70,24],[71,19,72,19],[71,20,72,20],[71,21,72,21],[55,102,63,104],[58,25,60,37],[58,38,60,43],[58,44,60,45],[58,46,60,51],[58,52,60,57],[58,58,60,59],[58,60,60,64],[58,65,60,66],[58,67,60,78],[61,25,63,37],[61,38,63,43],[61,44,63,45],[61,46,63,51],[61,52,63,57],[61,58,63,59],[61,60,63,64],[61,65,63,66],[61,67,63,78],[55,98,63,101],[55,1,63,4],[55,5,59,24],[55,25,57,37],[55,38,57,43],[55,44,57,45],[55,46,57,51],[55,52,57,57],[55,58,57,59],[55,60,57,64],[60,5,61,5],[62,5,63,5],[60,16,61,16],[60,17,61,17],[60,18,61,18],[60,19,61,19],[60,21,61,21],[60,22,61,22],[60,23,61,23],[60,24,61,24],[62,6,63,6],[62,7,63,7],[62,8,63,8],[62,9,63,9],[62,10,63,10],[46,102,54,104],[49,25,51,37],[49,38,51,43],[49,44,51,45],[49,46,51,51],[49,52,51,57],[49,58,51,59],[49,60,51,64],[49,65,51,66],[49,67,51,78],[52,25,54,37],[52,38,54,43],[52,44,54,45],[52,46,54,51],[52,52,54,57],[52,58,54,59],[52,60,54,64],[52,65,54,66],[52,67,54,78],[53,6,54,6],[53,7,54,7],[53,8,54,8],[53,9,54,9],[46,86,54,87],[46,88,54,90],[46,91,54,94],[46,95,54,97],[46,98,54,101],[44,83,45,85],[44,86,45,87],[44,88,45,90],[44,91,45,94],[44,95,45,97],[44,98,45,101],[44,102,45,104],[46,1,54,4],[46,5,50,24],[46,25,48,37],[46,38,48,43],[46,44,48,45],[46,46,48,51],[46,52,48,57],[46,58,48,59],[46,60,48,64],[51,5,52,5],[53,5,54,5],[51,6,52,6],[51,7,52,7],[51,8,52,8],[51,9,52,9],[51,10,52,10],[51,11,52,11],[143,50,144,52],[143,58,144,60],[141,39,144,43],[142,44,144,49],[142,53,144,57],[143,1,144,38],[141,1,142,38],[137,101,144,102],[34,56,36,56],[40,51,41,58],[40,63,41,67],[40,59,41,62],[34,96,41,100],[40,68,41,68],[34,81,41,85],[40,80,41,80],[40,69,41,73],[37,51,39,80],[42,1,45,4],[42,5,43,24],[42,25,43,78],[42,79,43,110],[44,5,45,24],[44,25,45,37],[91,108,99,110],[100,105,108,107],[100,108,108,110],[109,108,117,110],[118,105,126,107],[118,108,126,110],[109,105,117,107],[82,102,90,104],[100,102,108,104],[118,102,126,104],[116,10,117,10],[31,16,33,41],[82,108,90,110],[46,108,54,110],[44,105,45,107],[46,105,54,107],[64,108,72,110],[64,105,72,107],[44,108,45,110],[55,108,63,110],[55,105,63,107],[34,51,36,52],[34,53,36,55],[98,16,99,16],[98,17,99,17],[98,18,99,18],[98,19,99,19],[98,20,99,20],[114,20,115,20],[114,21,115,21],[114,22,115,22],[98,21,99,21],[98,22,99,22],[82,105,90,107],[23,6,33,10],[34,6,41,10],[34,11,41,20],[21,39,22,46],[34,21,41,25],[23,11,27,15],[23,16,27,63],[28,11,33,15],[20,100,21,102],[28,64,33,68],[32,63,33,63],[32,99,33,103],[32,89,33,92],[32,93,33,97],[32,98,33,98],[32,69,33,74],[6,0,9,110],[13,85,15,89],[13,64,15,68],[21,47,22,63],[21,11,22,19],[21,20,22,38],[13,69,15,84],[20,109,21,110],[20,90,21,99],[16,6,22,10],[16,1,41,5],[22,69,23,74],[22,75,23,110],[60,20,61,20],[28,16,30,63],[34,86,41,95],[34,101,41,110],[32,42,33,45],[32,51,33,51],[32,52,33,56],[32,57,33,57],[32,58,33,62],[60,6,61,6],[60,7,61,7],[60,8,61,8],[60,9,61,9],[60,10,61,10],[60,11,61,11],[60,12,61,12],[60,13,61,13],[60,14,61,14],[60,15,61,15],[38,26,41,45],[34,46,41,50],[73,108,81,110],[73,105,81,107],[80,6,81,6],[80,7,81,7],[80,8,81,8],[80,9,81,9],[80,10,81,10],[91,105,99,107],[96,15,97,15],[96,16,97,16],[73,98,81,101],[73,102,81,104],[91,83,99,85],[78,6,79,6],[78,7,79,7],[78,8,79,8],[78,9,79,9],[78,10,79,10],[78,11,79,11],[78,12,79,12],[78,13,79,13],[78,14,79,14],[78,15,79,15],[78,16,79,16],[109,83,117,85],[114,11,115,11],[114,14,115,14],[114,15,115,15],[114,16,115,16],[114,17,115,17],[114,18,115,18],[114,19,115,19],[114,23,115,23],[114,24,115,24],[91,60,93,64],[91,65,93,66],[91,67,93,78],[91,79,99,82],[40,75,41,79],[116,6,117,6],[116,7,117,7],[116,8,117,8],[116,9,117,9],[109,60,111,64],[109,65,111,66],[109,67,111,78],[109,79,117,82],[96,22,97,22],[96,23,97,23],[96,24,97,24],[98,12,99,12],[98,13,99,13],[98,14,99,14],[98,15,99,15],[96,17,97,17],[96,18,97,18],[96,19,97,19],[96,20,97,20],[34,63,36,80],[16,11,20,63],[32,46,33,50],[40,74,41,74],[46,65,48,66],[46,67,48,78],[46,79,54,82],[64,65,66,66],[64,67,66,78],[64,79,72,82],[16,64,27,68],[44,38,45,45],[44,46,45,51],[44,52,45,59],[44,60,45,66],[44,67,45,78],[44,79,45,82],[51,12,52,12],[51,13,52,13],[51,14,52,14],[16,69,19,74],[20,75,21,89],[26,110,27,110],[28,75,31,110],[32,75,33,88],[26,104,27,104],[26,98,27,98],[26,99,27,103],[26,105,27,109],[26,93,27,97],[20,104,21,108],[26,89,27,92],[24,69,25,110],[26,69,27,88],[32,110,33,110],[28,69,31,74],[16,75,19,110],[20,69,21,74],[20,103,21,103],[32,105,33,109],[32,104,33,104],[46,83,54,85],[55,65,57,66],[55,67,57,78],[55,79,63,82],[55,83,63,85],[55,86,63,87],[55,88,63,90],[55,91,63,94],[55,95,63,97],[64,83,72,85],[73,65,75,66],[73,67,75,78],[73,79,81,82],[73,83,81,85],[73,86,81,87],[73,88,81,90],[73,91,81,94],[73,95,81,97],[64,86,72,87],[64,88,72,90],[64,91,72,94],[64,95,72,97],[76,65,78,66],[76,67,78,78],[79,67,81,78],[164,0,165,110],[143,66,144,68],[146,4,148,110],[162,0,163,110],[149,4,151,110],[152,4,154,110],[155,4,157,110],[132,9,133,9],[132,10,133,10],[132,11,133,11],[132,12,133,12],[132,13,133,13],[132,14,133,14],[132,6,133,6],[132,7,133,7],[132,8,133,8],[136,39,140,68],[139,1,140,38],[137,1,138,38],[127,98,135,101],[137,103,144,110],[127,105,135,107],[127,108,135,110],[142,61,144,65],[10,1,11,25],[12,1,13,38],[34,57,36,60],[34,61,36,62],[34,37,35,37],[34,38,35,38],[34,39,35,39],[34,40,35,40],[34,41,35,41],[34,42,35,42],[34,43,35,43],[34,26,35,26],[34,27,35,27],[34,28,35,28],[34,29,35,29],[34,30,35,30],[34,31,35,31],[34,32,35,32],[34,33,35,33],[34,34,35,34],[34,44,35,44],[34,45,35,45],[36,26,37,26],[36,27,37,27],[36,37,37,37],[36,38,37,38],[36,39,37,39],[36,40,37,40],[36,41,37,41],[36,42,37,42],[36,43,37,43],[36,44,37,44],[36,45,37,45],[34,35,35,35],[34,36,35,36],[51,17,52,17],[51,18,52,18],[51,19,52,19],[51,20,52,20],[51,21,52,21],[51,22,52,22],[51,23,52,23],[51,24,52,24],[36,28,37,28],[36,29,37,29],[36,30,37,30],[36,31,37,31],[36,32,37,32],[36,33,37,33],[36,34,37,34],[36,35,37,35],[36,36,37,36],[53,10,54,10],[53,11,54,11],[53,12,54,12],[53,13,54,13],[53,14,54,14],[53,15,54,15],[53,16,54,16],[53,17,54,17],[53,18,54,18],[53,19,54,19],[53,20,54,20],[53,21,54,21],[53,22,54,22],[53,23,54,23],[53,24,54,24],[51,15,52,15],[51,16,52,16],[62,18,63,18],[62,19,63,19],[62,20,63,20],[62,21,63,21],[62,22,63,22],[62,23,63,23],[62,24,63,24],[62,16,63,16],[62,17,63,17],[62,11,63,11],[62,12,63,12],[62,13,63,13],[62,14,63,14],[62,15,63,15],[69,6,70,6],[69,7,70,7],[69,8,70,8],[69,9,70,9],[69,10,70,10],[69,11,70,11],[69,12,70,12],[69,13,70,13],[69,14,70,14],[69,15,70,15],[71,22,72,22],[71,23,72,23],[71,24,72,24],[71,7,72,7],[71,8,72,8],[71,9,72,9],[71,10,72,10],[71,11,72,11],[71,12,72,12],[71,13,72,13],[71,14,72,14],[71,15,72,15],[71,16,72,16],[71,17,72,17],[71,18,72,18],[80,22,81,22],[80,23,81,23],[80,24,81,24],[87,6,88,6],[87,7,88,7],[87,8,88,8],[87,9,88,9],[87,10,88,10],[87,11,88,11],[87,12,88,12],[87,13,88,13],[87,14,88,14],[87,15,88,15],[87,16,88,16],[87,17,88,17],[87,18,88,18],[87,19,88,19],[87,20,88,20],[87,21,88,21],[87,22,88,22],[87,23,88,23],[87,24,88,24],[89,23,90,23],[89,24,90,24],[96,6,97,6],[96,7,97,7],[96,8,97,8],[96,9,97,9],[96,10,97,10],[96,11,97,11],[96,12,97,12],[96,13,97,13],[96,14,97,14],[89,14,90,14],[89,15,90,15],[89,16,90,16],[89,17,90,17],[89,18,90,18],[89,19,90,19],[89,20,90,20],[89,21,90,21],[89,22,90,22],[96,21,97,21],[98,23,99,23],[98,24,99,24],[105,6,106,6],[105,7,106,7],[105,8,106,8],[105,9,106,9],[105,10,106,10],[105,11,106,11],[105,12,106,12],[105,13,106,13],[105,14,106,14],[105,15,106,15],[105,16,106,16],[105,17,106,17],[105,18,106,18],[105,19,106,19],[105,20,106,20],[105,21,106,21],[105,22,106,22],[105,23,106,23],[105,24,106,24],[98,6,99,6],[107,7,108,7],[107,8,108,8],[107,9,108,9],[107,10,108,10],[107,11,108,11],[107,12,108,12],[107,13,108,13],[107,14,108,14],[107,23,108,23],[107,24,108,24],[116,11,117,11],[116,12,117,12],[116,13,117,13],[116,14,117,14],[116,15,117,15],[116,16,117,16],[116,17,117,17],[116,18,117,18],[116,19,117,19],[116,20,117,20],[116,21,117,21],[116,22,117,22],[116,23,117,23],[116,24,117,24],[114,12,115,12],[114,13,115,13],[107,15,108,15],[125,6,126,6],[125,7,126,7],[125,8,126,8],[125,9,126,9],[125,10,126,10],[125,11,126,11],[125,12,126,12],[125,13,126,13],[125,14,126,14],[132,23,133,23],[123,24,124,24],[123,18,124,18],[123,19,124,19],[123,20,124,20],[123,21,124,21],[123,22,124,22],[123,23,124,23],[125,15,126,15],[125,16,126,16],[125,17,126,17],[125,18,126,18],[125,19,126,19],[125,20,126,20],[125,21,126,21],[125,22,126,22],[125,23,126,23],[123,16,124,16],[123,17,124,17],[132,16,133,16],[132,17,133,17],[132,18,133,18],[132,19,133,19],[132,20,133,20],[132,21,133,21],[132,22,133,22],[13,90,15,110],[132,24,133,24],[134,6,135,6],[134,7,135,7],[134,8,135,8],[134,9,135,9],[134,10,135,10],[134,11,135,11],[134,12,135,12],[134,13,135,13],[134,14,135,14],[134,15,135,15],[134,16,135,16],[134,17,135,17],[134,18,135,18],[134,19,135,19],[134,20,135,20],[134,21,135,21],[134,22,135,22],[134,23,135,23],[134,24,135,24],[132,15,133,15],[125,24,126,24],[123,15,124,15]]}
[]
[null,null,null,null,null,null,null,null,null,null,null,null,null,null,null,null,null,null,null,null,null,null,null,null,null,null,null,null,null,null,null,null,null,null,null,null,null,null,null,null,null,null,null,null,null,null,null,null,null,null,null,null,null,null,null,null,null,null,null,null,null,null,null,null,null,null,null,null,null,null,null,null,null,null,null,null,null,null,null,null,null,null,null,null,null,null,null,null,null,null,null,null,null,"離島等供給用"]
[]
[]
[]
[]
["定額制一括電気使用申込書（工事会社様控）"]
[]
[]
[]
[null,"北海道電力ネットワーク株式会社　御中"]
[]
[null,"電気の使用について貴社離島等供給約款[低圧用]を承認のうえ申し込みます。"]
[null,null,null,null,null,null,null,null,null,null,null,null,null,null,null,null,null,null,null,null,null,null,null,null,null,null,null,null,null,null,null,null,null,null,null,null,null,null,null,null,null,null,null,null,null,null,null,null,null,null,null,null,null,null,null,null,null,null,null,null,null,null,null,null,"受付扱所名",null,null,null,null,null,null,null,null,null,null,null,null,null,null,null,null,null,null,null,null,"受付№"]
[]
[]
[null,"お 客 さ ま",null,null,null,null,"ご契約\n名　義",null,null,null,null,{"$f":"IF(入力用!D3=\"\",\"\",入力用!D3)","v":""},null,null,null,null,null,null,null,null,null,null,null,null,null,null,null,null,null,null,null,null,null,null,null,null,null,null,null,null,null,null,null,null,null,null,null,null,null,null,null,null,null,null,null,null,null,null,null,null,null,null,null,null,"電気工事会社",null,null,null,null," 会社名",null,null,null,null,null,{"$f":"IF(入力用!D9=\"\",\"\",入力用!D9)","v":""}]
[]
[]
[]
[null,null,null,null,null,null,null,null,null,null,null,null,null,null,null,null,null,null,null,null,null,null,null,null,null,null,null,null,null,null,null,null,null,null,null,null,null,null,null,null,null,null,null,null,null,null,null,null,null,null,null,null,null,null,null,null,null,null,null,null,null,null,null,null,null,null,null,null,null,"(担当者)",null,null,null,null,null,{"$f":"IF(入力用!D10=\"\",\"\",入力用!D10)","v":""},null,null,null,null,null,null,null,null,null,null,null,null,null,null,"工事会社№（",null,null,null,null,null,null,null,null,null,{"$f":"IF(入力用!D11=\"\",\"\",入力用!D11)","v":""},null,null,"-",{"$f":"IF(入力用!F11=\"\",\"\",入力用!F11)","v":""},null,null,null,null,")"]
[null,null,null,null,null,null,null,null,null,null,null,"（代表者肩書）",null,null,null,null,null,null,null,null,{"$f":"IF(入力用!D4=\"\",\"\",入力用!D4)","v":""},null,null,null,null,null,null,null,null,null,null,null,null,null,null,null,null,null,null,"（代表者名）",null,null,null,null,null,null,null,{"$f":"IF(入力用!D5=\"\",\"\",入力用!D5)","v":""}]
[null,null,null,null,null,null,null,null,null,null,null,null,null,null,null,null,null,null,null,null,null,null,null,null,null,null,null,null,null,null,null,null,null,null,null,null,null,null,null,null,null,null,null,null,null,null,null,null,null,null,null,null,null,null,null,null,null,null,null,null,null,null,null,null,null,null,null,null,null," 住　所",null,null,null,null,null,{"$f":"LEFT(入力用!D12,23)","v":""}]
[null,null,null,null,null,null,"街路灯\n管　理\n責任者",null,null,null,null,"氏　名",null,null,null,null,{"$f":"IF(入力用!D6=\"\",\"\",入力用!D6)","v":""}]
[null,null,null,null,null,null,null,null,null,null,null,null,null,null,null,null,null,null,null,null,null,null,null,null,null,null,null,null,null,null,null,null,null,null,null,null,null,null,null,null,null,null,null,null,null,null,null,null,null,null,null,null,null,null,null,null,null,null,null,null,null,null,null,null,null,null,null,null,null,{"$f":"MID(入力用!D12,24,27)","v":""}]
[]
[null,null,null,null,null,null,null,null,null,null,null,null,null,null,null,null,null,null,null,null,null,null,null,null,null,null,null,null,null,null,null,null,null,null,null,null,null,null,null,null,null,null,null,null,null,null,null,null,null,null,null,null,null,null,null,null,null,null,null,null,null,null,null,null,null,null,null,null,null,{"$f":"MID(入力用!D12,51,13)","v":""},null,null,null,null,null,null,null,null,null,null,null,null,null,null,null,null,null,null,null,"電話(",null,null,null,{"$f":"IF(入力用!D13=\"\",\"\",入力用!D13)","v":""},null,null,null,null,"-",{"$f":"IF(入力用!F13=\"\",\"\",入力用!F13)","v":""},null,null,null,null,"-",{"$f":"IF(入力用!I13=\"\",\"\",入力用!I13)","v":""},null,null,null,null,")"]
[]
[null,null,null,null,null,null,null,null,null,null,null,"住　所",null,null,null,null,{"$f":"LEFT(入力用!D7,31)","v":""},null,null,null,null,null,null,null,null,null,null,null,null,null,null,null,null,null,null,null,null,null,null,null,null,null,null,null,null,null,null,null,null,null,null,null,null,null,null,null,null,null,null,null,null,null,null,null,"建築会社",null,null,null,null," 会社名",null,null,null,null,null,{"$f":"IF(入力用!D14=\"\",\"\",入力用!D14)","v":""}]
[]
[]
[null,null,null,null,null,null,null,null,null,null,null,null,null,null,null,null,{"$f":"MID(入力用!D7,32,17)","v":""}]
[null,null,null,null,null,null,null,null,null,null,null,null,null,null,null,null,null,null,null,null,null,null,null,null,null,null,null,null,null,null,null,null,null,null,null,null,null,null,null,null,null,null,"電話(",null,null,null,{"$f":"IF(入力用!D8=\"\",\"\",入力用!D8)","v":""},null,null,null,null,"-",{"$f":"IF(入力用!F8=\"\",\"\",入力用!F8)","v":""},null,null,null,null,"-",{"$f":"IF(入力用!I8=\"\",\"\",入力用!I8)","v":""},null,null,null,null,")",null,null,null,null,null,"(担当者)",null,null,null,null,null,{"$f":"IF(入力用!D15=\"\",\"\",入力用!D15)","v":""},null,null,null,null,null,null,null,null,null,null,null,null,null,"電話(",null,null,null,{"$f":"IF(入力用!D16=\"\",\"\",入力用!D16)","v":""},null,null,null,null,"-",{"$f":"IF(入力用!F16=\"\",\"\",入力用!F16)","v":""},null,null,null,null,"-",{"$f":"IF(入力用!I16=\"\",\"\",入力用!I16)","v":""},null,null,null,null,")"]
[]
[null,null,null,null,null,null,"お支払\n方　法",null,null,null,null,{"$f":"IF(入力用!P17=2,入力用!P5,IF(入力用!P17=3,入力用!P6,IF(入力用!P17=4,入力用!P7,\"\")))","v":""},null,null,null,null,null,null,null,null,null,"支　払\n者　名",null,null,null,null,{"$f":"MID(入力用!$D$18,1,1)","v":""},{"$f":"MID(入力用!$D$18,2,1)","v":""},{"$f":"MID(入力用!$D$18,3,1)","v":""},{"$f":"MID(入力用!$D$18,4,1)","v":""},{"$f":"MID(入力用!$D$18,5,1)","v":""},{"$f":"MID(入力用!$D$18,6,1)","v":""},{"$f":"MID(入力用!$D$18,7,1)","v":""},{"$f":"MID(入力用!$D$18,8,1)","v":""},{"$f":"MID(入力用!$D$18,9,1)","v":""},{"$f":"MID(入力用!$D$18,10,1)","v":""},{"$f":"MID(入力用!$D$18,11,1)","v":""},{"$f":"MID(入力用!$D$18,12,1)","v":""},{"$f":"MID(入力用!$D$18,13,1)","v":""},{"$f":"MID(入力用!$D$18,14,1)","v":""},{"$f":"MID(入力用!$D$18,15,1)","v":""},{"$f":"MID(入力用!$D$18,16,1)","v":""},{"$f":"MID(入力用!$D$18,17,1)","v":""},{"$f":"MID(入力用!$D$18,18,1)","v":""},{"$f":"MID(入力用!$D$18,19,1)","v":""},{"$f":"MID(入力用!$D$18,20,1)","v":""},"請求書\n送付先",null,null,null,null,"(〒",null,{"$f":"LEFT(入力用!D20,3)","v":""},null,null,"-",{"$f":"RIGHT(入力用!D20,4)","v":""},null,null,null,")",null,{"$f":"IF(入力用!D21=\"同上\",\"\",LEFT(入力用!D21,11))","v":""},null,null,null,null,null,null,null,null,null,null,null,null,null,null,null,null,null,"契約種別",null,null,null,null,{"$f":"IF(入力用!P23=2,入力用!Q5,IF(入力用!P23=3,入力用!Q6,\"\"))","v":""},null,null,null,null,null,null,null,null,null,"供給電気\n方 式 ・\n供給電圧",null,null,null,null,{"$f":"IF(入力用!P24=2,入力用!R5,IF(入力用!P24=3,入力用!R6,IF(入力用!P24=4,入力用!R7,\"\")))","v":""}]
[]
[null,null,null,null,null,null,null,null,null,null,null,null,null,null,null,null,null,null,null,null,null,null,null,null,null,null,{"$f":"MID(入力用!$D$18,21,1)","v":""},{"$f":"MID(入力用!$D$18,22,1)","v":""},{"$f":"MID(入力用!$D$18,23,1)","v":""},{"$f":"MID(入力用!$D$18,24,1)","v":""},{"$f":"MID(入力用!$D$18,25,1)","v":""},{"$f":"MID(入力用!$D$18,26,1)","v":""},{"$f":"MID(入力用!$D$18,27,1)","v":""},{"$f":"MID(入力用!$D$18,28,1)","v":""},{"$f":"MID(入力用!$D$18,29,1)","v":""},{"$f":"MID(入力用!$D$18,30,1)","v":""},{"$f":"MID(入力用!$D$18,31,1)","v":""},{"$f":"MID(入力用!$D$18,32,1)","v":""},{"$f":"MID(入力用!$D$18,33,1)","v":""},{"$f":"MID(入力用!$D$18,34,1)","v":""},{"$f":"MID(入力用!$D$18,35,1)","v":""},{"$f":"MID(入力用!$D$18,36,1)","v":""},{"$f":"MID(入力用!$D$18,37,1)","v":""},{"$f":"MID(入力用!$D$18,38,1)","v":""},{"$f":"MID(入力用!$D$18,39,1)","v":""},{"$f":"MID(入力用!$D$18,40,1)","v":""}]
[null,null,null,null,null,null,null,null,null,null,null,null,null,null,null,null,null,null,null,null,null,null,null,null,null,null,null,null,null,null,null,null,null,null,null,null,null,null,null,null,null,null,null,null,null,null,null,null,null,null,null,{"$f":"IF(入力用!D21=\"同上\",入力用!D21,MID(入力用!D21,12,19))","v":""}]
[null,null,null,null,null,null,null,null,null,null,null,null,null,null,null,null,null,null,null,null,null,null,null,null,null,null,{"$f":"IF(入力用!D19=\"\",\"\",入力用!D19)","v":""}]
[]
[null,null,null,null,null,null,null,null,null,null,null,null,null,null,null,null,null,null,null,null,null,null,null,null,null,null,null,null,null,null,null,null,null,null,null,null,null,null,null,null,null,null,null,null,null,null,null,null,null,null,null,{"$f":"MID(入力用!D21,31,5)","v":""},null,null,null,null,null,null,null,"電話(",null,null,null,{"$f":"IF(入力用!D22=\"\",\"\",入力用!D22)","v":""},null,null,null,null,"-",{"$f":"IF(入力用!F22=\"\",\"\",入力用!F22)","v":""},null,null,null,null,"-",{"$f":"IF(入力用!I22=\"\",\"\",入力用!I22)","v":""},null,null,null,null,")"]
[]
[null,"受付№\n枝番",null,null,null,"　（上段）ご　使　用　場　所",null,null,null,null,null,null,null,null,null,null,null,null,null,null,null,null,null,null,null,"契　　　約　　　負　　　荷　　　設　　　備　　　内　　　訳",null,null,null,null,null,null,null,null,null,null,null,null,null,null,null,null,null,null,null,null,null,null,null,null,null,null,null,null,null,null,null,null,null,null,null,null,null,null,null,null,null,null,null,null,null,null,null,null,null,null,null,null,null,"供給地点特定番号"]
[]
[null,null,null,null,null,"　（下段）ご契約名義（カナ）",null,null,null,null,null,null,null,null,null,null,null,null,null,null,null,null,null,null,null,"機　　器　　種　　別",null,null,null,null,null,null,null,null,null,null,null,null,"出　力",null,null,null,null,null,null,null,"力　率",null,null,null,null,null,"入　力",null,null,null,null,null,null,null,"灯 個 数",null,null,null,null,null,null,"取　付　位　置",null,null,null,null,null,null,null,null,null,null,null,null,null,null,null,"発行\n回数",null,null,"支店",null,"ﾌﾞﾛｯｸ",null,null,"住所",null,null,null,"街区",null,null,"契約№",null,null,null,"枝番",null,null,"種別"]
[]
[null,0,null,null,null,{"$f":"IF(入力用!D26=\"\",\"\",入力用!D26)","v":""},null,null,null,null,null,null,null,null,null,null,null,null,null,null,null,null,null,null,null,{"$f":"IF(入力用!P28=2,入力用!S5,IF(入力用!P28=3,入力用!S6,IF(入力用!P28=4,入力用!S7,IF(入力用!P28=5,入力用!S8,IF(入力用!P28=6,入力用!L28,\"\")))))","v":""},null,null,null,null,null,null,null,null,null,null,null,null,{"$f":"IF(入力用!D29=\"\",\"\",入力用!D29)","v":""},null,null,null,null,null,"W",null,{"$f":"IF(入力用!P30=2,入力用!T5,IF(入力用!P30=3,入力用!T6,\"\"))","v":""},null,null,null,null,null,{"$f":"IF(入力用!D31=\"\",\"\",入力用!D31)","v":""},null,null,null,null,null,"VA",null,{"$f":"IF(入力用!D32=\"\",\"\",入力用!D32)","v":""},null,null,null,null,{"$f":"IF(入力用!P32=2,入力用!U5,IF(入力用!P32=3,入力用!U6,\"\"))","v":""},null,{"$f":"IF(入力用!P33=2,入力用!V5,IF(入力用!P33=3,入力用!V6,IF(入力用!P33=4,入力用!V7,IF(入力用!P33=5,入力用!L33,\"\"))))","v":""},null,null,null,null,null,null,null,null,null,null,null,"010",null,null,null,null,null,null,null,null,null,null,null,null,null,null,null,null,null,null,null,null,null,null,null,null,null,null,null,null,"00"]
[]
[]
[null,null,null,null,null,null,null,null,null,null,null,null,null,null,null,null,null,null,null,null,null,null,null,null,null,{"$f":"IF(入力用!P34=2,入力用!S5,IF(入力用!P34=3,入力用!S6,IF(入力用!P34=4,入力用!S7,IF(入力用!P34=5,入力用!S8,IF(入力用!P34=6,入力用!L34,\"\")))))","v":""},null,null,null,null,null,null,null,null,null,null,null,null,{"$f":"IF(入力用!D35=\"\",\"\",入力用!D35)","v":""},null,null,null,null,null,"W",null,{"$f":"IF(入力用!P36=2,入力用!T5,IF(入力用!P36=3,入力用!T6,\"\"))","v":""},null,null,null,null,null,{"$f":"IF(入力用!D37=\"\",\"\",入力用!D37)","v":""},null,null,null,null,null,"VA",null,{"$f":"IF(入力用!D38=\"\",\"\",入力用!D38)","v":""},null,null,null,null,{"$f":"IF(入力用!P38=2,入力用!U5,IF(入力用!P38=3,入力用!U6,\"\"))","v":""},null,{"$f":"IF(入力用!P39=2,入力用!V5,IF(入力用!P39=3,入力用!V6,IF(入力用!P39=4,入力用!V7,IF(入力用!P39=5,入力用!L39,\"\"))))","v":""}]
[]
[null,null,null,null,null,{"$f":"MID(入力用!$D$27,1,1)","v":""},{"$f":"MID(入力用!$D$27,2,1)","v":""},{"$f":"MID(入力用!$D$27,3,1)","v":""},{"$f":"MID(入力用!$D$27,4,1)","v":""},{"$f":"MID(入力用!$D$27,5,1)","v":""},{"$f":"MID(入力用!$D$27,6,1)","v":""},{"$f":"MID(入力用!$D$27,7,1)","v":""},{"$f":"MID(入力用!$D$27,8,1)","v":""},{"$f":"MID(入力用!$D$27,9,1)","v":""},{"$f":"MID(入力用!$D$27,10,1)","v":""},{"$f":"MID(入力用!$D$27,11,1)","v":""},{"$f":"MID(入力用!$D$27,12,1)","v":""},{"$f":"MID(入力用!$D$27,13,1)","v":""},{"$f":"MID(入力用!$D$27,14,1)","v":""},{"$f":"MID(入力用!$D$27,15,1)","v":""},{"$f":"MID(入力用!$D$27,16,1)","v":""},{"$f":"MID(入力用!$D$27,17,1)","v":""},{"$f":"MID(入力用!$D$27,18,1)","v":""},{"$f":"MID(入力用!$D$27,19,1)","v":""},{"$f":"MID(入力用!$D$27,20,1)","v":""}]
[null,null,null,null,null,null,null,null,null,null,null,null,null,null,null,null,null,null,null,null,null,null,null,null,null,{"$f":"IF(入力用!P40=2,入力用!S5,IF(入力用!P40=3,入力用!S6,IF(入力用!P40=4,入力用!S7,IF(入力用!P40=5,入力用!S8,IF(入力用!P40=6,入力用!L40,\"\")))))","v":""},null,null,null,null,null,null,null,null,null,null,null,null,{"$f":"IF(入力用!D41=\"\",\"\",入力用!D41)","v":""},null,null,null,null,null,"W",null,{"$f":"IF(入力用!P42=2,入力用!T5,IF(入力用!P42=3,入力用!T6,\"\"))","v":""},null,null,null,null,null,{"$f":"IF(入力用!D43=\"\",\"\",入力用!D43)","v":""},null,null,null,null,null,"VA",null,{"$f":"IF(入力用!D44=\"\",\"\",入力用!D44)","v":""},null,null,null,null,{"$f":"IF(入力用!P44=2,入力用!U5,IF(入力用!P44=3,入力用!U6,\"\"))","v":""},null,{"$f":"IF(入力用!P45=2,入力用!V5,IF(入力用!P45=3,入力用!V6,IF(入力用!P45=4,入力用!V7,IF(入力用!P45=5,入力用!L45,\"\"))))","v":""}]
[null,null,null,null,null,{"$f":"MID(入力用!$D$27,21,1)","v":""},{"$f":"MID(入力用!$D$27,22,1)","v":""},{"$f":"MID(入力用!$D$27,23,1)","v":""},{"$f":"MID(入力用!$D$27,24,1)","v":""},{"$f":"MID(入力用!$D$27,25,1)","v":""},{"$f":"MID(入力用!$D$27,26,1)","v":""},{"$f":"MID(入力用!$D$27,27,1)","v":""},{"$f":"MID(入力用!$D$27,28,1)","v":""},{"$f":"MID(入力用!$D$27,29,1)","v":""},{"$f":"MID(入力用!$D$27,30,1)","v":""},{"$f":"MID(入力用!$D$27,31,1)","v":""},{"$f":"MID(入力用!$D$27,32,1)","v":""},{"$f":"MID(入力用!$D$27,33,1)","v":""},{"$f":"MID(入力用!$D$27,34,1)","v":""},{"$f":"MID(入力用!$D$27,35,1)","v":""},{"$f":"MID(入力用!$D$27,36,1)","v":""},{"$f":"MID(入力用!$D$27,37,1)","v":""},{"$f":"MID(入力用!$D$27,38,1)","v":""},{"$f":"MID(入力用!$D$27,39,1)","v":""},{"$f":"MID(入力用!$D$27,40,1)","v":""}]
[]
[null,1,null,null,null,{"$f":"IF(入力用!D46=\"\",\"\",入力用!D46)","v":""},null,null,null,null,null,null,null,null,null,null,null,null,null,null,null,null,null,null,null,{"$f":"IF(入力用!P48=2,入力用!S5,IF(入力用!P48=3,入力用!S6,IF(入力用!P48=4,入力用!S7,IF(入力用!P48=5,入力用!S8,IF(入力用!P48=6,入力用!L48,\"\")))))","v":""},null,null,null,null,null,null,null,null,null,null,null,null,{"$f":"IF(入力用!D49=\"\",\"\",入力用!D49)","v":""},null,null,null,null,null,"W",null,{"$f":"IF(入力用!P50=2,入力用!T5,IF(入力用!P50=3,入力用!T6,\"\"))","v":""},null,null,null,null,null,{"$f":"IF(入力用!D51=\"\",\"\",入力用!D51)","v":""},null,null,null,null,null,"VA",null,{"$f":"IF(入力用!D52=\"\",\"\",入力用!D52)","v":""},null,null,null,null,{"$f":"IF(入力用!P52=2,入力用!U5,IF(入力用!P52=3,入力用!U6,\"\"))","v":""},null,{"$f":"IF(入力用!P53=2,入力用!V5,IF(入力用!P53=3,入力用!V6,IF(入力用!P53=4,入力用!V7,IF(入力用!P53=5,入力用!L53,\"\"))))","v":""},null,null,null,null,null,null,null,null,null,null,null,"010",null,null,null,null,null,null,null,null,null,null,null,null,null,null,null,null,null,null,null,null,null,null,null,null,null,null,null,null,"00"]
[]
[]
[null,null,null,null,null,null,null,null,null,null,null,null,null,null,null,null,null,null,null,null,null,null,null,null,null,{"$f":"IF(入力用!P54=2,入力用!S5,IF(入力用!P54=3,入力用!S6,IF(入力用!P54=4,入力用!S7,IF(入力用!P54=5,入力用!S8,IF(入力用!P54=6,入力用!L54,\"\")))))","v":""},null,null,null,null,null,null,null,null,null,null,null,null,{"$f":"IF(入力用!D55=\"\",\"\",入力用!D55)","v":""},null,null,null,null,null,"W",null,{"$f":"IF(入力用!P56=2,入力用!T5,IF(入力用!P56=3,入力用!T6,\"\"))","v":""},null,null,null,null,null,{"$f":"IF(入力用!D57=\"\",\"\",入力用!D57)","v":""},null,null,null,null,null,"VA",null,{"$f":"IF(入力用!D58=\"\",\"\",入力用!D58)","v":""},null,null,null,null,{"$f":"IF(入力用!P58=2,入力用!U5,IF(入力用!P58=3,入力用!U6,\"\"))","v":""},null,{"$f":"IF(入力用!P59=2,入力用!V5,IF(入力用!P59=3,入力用!V6,IF(入力用!P59=4,入力用!V7,IF(入力用!P59=5,入力用!L59,\"\"))))","v":""}]
[]
[null,null,null,null,null,{"$f":"MID(入力用!$D$47,1,1)","v":""},{"$f":"MID(入力用!$D$47,2,1)","v":""},{"$f":"MID(入力用!$D$47,3,1)","v":""},{"$f":"MID(入力用!$D$47,4,1)","v":""},{"$f":"MID(入力用!$D$47,5,1)","v":""},{"$f":"MID(入力用!$D$47,6,1)","v":""},{"$f":"MID(入力用!$D$47,7,1)","v":""},{"$f":"MID(入力用!$D$47,8,1)","v":""},{"$f":"MID(入力用!$D$47,9,1)","v":""},{"$f":"MID(入力用!$D$47,10,1)","v":""},{"$f":"MID(入力用!$D$47,11,1)","v":""},{"$f":"MID(入力用!$D$47,12,1)","v":""},{"$f":"MID(入力用!$D$47,13,1)","v":""},{"$f":"MID(入力用!$D$47,14,1)","v":""},{"$f":"MID(入力用!$D$47,15,1)","v":""},{"$f":"MID(入力用!$D$47,16,1)","v":""},{"$f":"MID(入力用!$D$47,17,1)","v":""},{"$f":"MID(入力用!$D$47,18,1)","v":""},{"$f":"MID(入力用!$D$47,19,1)","v":""},{"$f":"MID(入力用!$D$47,20,1)","v":""}]
[null,null,null,null,null,null,null,null,null,null,null,null,null,null,null,null,null,null,null,null,null,null,null,null,null,{"$f":"IF(入力用!P60=2,入力用!S5,IF(入力用!P60=3,入力用!S6,IF(入力用!P60=4,入力用!S7,IF(入力用!P60=5,入力用!S8,IF(入力用!P60=6,入力用!L60,\"\")))))","v":""},null,null,null,null,null,null,null,null,null,null,null,null,{"$f":"IF(入力用!D61=\"\",\"\",入力用!D61)","v":""},null,null,null,null,null,"W",null,{"$f":"IF(入力用!P62=2,入力用!T5,IF(入力用!P62=3,入力用!T6,\"\"))","v":""},null,null,null,null,null,{"$f":"IF(入力用!D63=\"\",\"\",入力用!D63)","v":""},null,null,null,null,null,"VA",null,{"$f":"IF(入力用!D64=\"\",\"\",入力用!D64)","v":""},null,null,null,null,{"$f":"IF(入力用!P64=2,入力用!U5,IF(入力用!P64=3,入力用!U6,\"\"))","v":""},null,{"$f":"IF(入力用!P65=2,入力用!V5,IF(入力用!P65=3,入力用!V6,IF(入力用!P65=4,入力用!V7,IF(入力用!P65=5,入力用!L65,\"\"))))","v":""}]
[null,null,null,null,null,{"$f":"MID(入力用!$D$47,21,1)","v":""},{"$f":"MID(入力用!$D$47,22,1)","v":""},{"$f":"MID(入力用!$D$47,23,1)","v":""},{"$f":"MID(入力用!$D$47,24,1)","v":""},{"$f":"MID(入力用!$D$47,25,1)","v":""},{"$f":"MID(入力用!$D$47,26,1)","v":""},{"$f":"MID(入力用!$D$47,27,1)","v":""},{"$f":"MID(入力用!$D$47,28,1)","v":""},{"$f":"MID(入力用!$D$47,29,1)","v":""},{"$f":"MID(入力用!$D$47,30,1)","v":""},{"$f":"MID(入力用!$D$47,31,1)","v":""},{"$f":"MID(入力用!$D$47,32,1)","v":""},{"$f":"MID(入力用!$D$47,33,1)","v":""},{"$f":"MID(入力用!$D$47,34,1)","v":""},{"$f":"MID(入力用!$D$47,35,1)","v":""},{"$f":"MID(入力用!$D$47,36,1)","v":""},{"$f":"MID(入力用!$D$47,37,1)","v":""},{"$f":"MID(入力用!$D$47,38,1)","v":""},{"$f":"MID(入力用!$D$47,39,1)","v":""},{"$f":"MID(入力用!$D$47,40,1)","v":""}]
[]
[null,2,null,null,null,{"$f":"IF(入力用!D66=\"\",\"\",入力用!D66)","v":""},null,null,null,null,null,null,null,null,null,null,null,null,null,null,null,null,null,null,null,{"$f":"IF(入力用!P68=2,入力用!S5,IF(入力用!P68=3,入力用!S6,IF(入力用!P68=4,入力用!S7,IF(入力用!P68=5,入力用!S8,IF(入力用!P68=6,入力用!L68,\"\")))))","v":""},null,null,null,null,null,null,null,null,null,null,null,null,{"$f":"IF(入力用!D69=\"\",\"\",入力用!D69)","v":""},null,null,null,null,null,"W",null,{"$f":"IF(入力用!P70=2,入力用!T5,IF(入力用!P70=3,入力用!T6,\"\"))","v":""},null,null,null,null,null,{"$f":"IF(入力用!D71=\"\",\"\",入力用!D71)","v":""},null,null,null,null,null,"VA",null,{"$f":"IF(入力用!D72=\"\",\"\",入力用!D72)","v":""},null,null,null,null,{"$f":"IF(入力用!P72=2,入力用!U5,IF(入力用!P72=3,入力用!U6,\"\"))","v":""},null,{"$f":"IF(入力用!P73=2,入力用!V5,IF(入力用!P73=3,入力用!V6,IF(入力用!P73=4,入力用!V7,IF(入力用!P73=5,入力用!L73,\"\"))))","v":""},null,null,null,null,null,null,null,null,null,null,null,"010",null,null,null,null,null,null,null,null,null,null,null,null,null,null,null,null,null,null,null,null,null,null,null,null,null,null,null,null,"00"]
[]
[]
[null,null,null,null,null,null,null,null,null,null,null,null,null,null,null,null,null,null,null,null,null,null,null,null,null,{"$f":"IF(入力用!P74=2,入力用!S5,IF(入力用!P74=3,入力用!S6,IF(入力用!P74=4,入力用!S7,IF(入力用!P74=5,入力用!S8,IF(入力用!P74=6,入力用!L74,\"\")))))","v":""},null,null,null,null,null,null,null,null,null,null,null,null,{"$f":"IF(入力用!D75=\"\",\"\",入力用!D75)","v":""},null,null,null,null,null,"W",null,{"$f":"IF(入力用!P76=2,入力用!T5,IF(入力用!P76=3,入力用!T6,\"\"))","v":""},null,null,null,null,null,{"$f":"IF(入力用!D77=\"\",\"\",入力用!D77)","v":""},null,null,null,null,null,"VA",null,{"$f":"IF(入力用!D78=\"\",\"\",入力用!D78)","v":""},null,null,null,null,{"$f":"IF(入力用!P78=2,入力用!U5,IF(入力用!P78=3,入力用!U6,\"\"))","v":""},null,{"$f":"IF(入力用!P79=2,入力用!V5,IF(入力用!P79=3,入力用!V6,IF(入力用!P79=4,入力用!V7,IF(入力用!P79=5,入力用!L79,\"\"))))","v":""}]
[]
[null,null,null,null,null,{"$f":"MID(入力用!$D$67,1,1)","v":""},{"$f":"MID(入力用!$D$67,2,1)","v":""},{"$f":"MID(入力用!$D$67,3,1)","v":""},{"$f":"MID(入力用!$D$67,4,1)","v":""},{"$f":"MID(入力用!$D$67,5,1)","v":""},{"$f":"MID(入力用!$D$67,6,1)","v":""},{"$f":"MID(入力用!$D$67,7,1)","v":""},{"$f":"MID(入力用!$D$67,8,1)","v":""},{"$f":"MID(入力用!$D$67,9,1)","v":""},{"$f":"MID(入力用!$D$67,10,1)","v":""},{"$f":"MID(入力用!$D$67,11,1)","v":""},{"$f":"MID(入力用!$D$67,12,1)","v":""},{"$f":"MID(入力用!$D$67,13,1)","v":""},{"$f":"MID(入力用!$D$67,14,1)","v":""},{"$f":"MID(入力用!$D$67,15,1)","v":""},{"$f":"MID(入力用!$D$67,16,1)","v":""},{"$f":"MID(入力用!$D$67,17,1)","v":""},{"$f":"MID(入力用!$D$67,18,1)","v":""},{"$f":"MID(入力用!$D$67,19,1)","v":""},{"$f":"MID(入力用!$D$67,20,1)","v":""}]
[null,null,null,null,null,null,null,null,null,null,null,null,null,null,null,null,null,null,null,null,null,null,null,null,null,{"$f":"IF(入力用!P80=2,入力用!S5,IF(入力用!P80=3,入力用!S6,IF(入力用!P80=4,入力用!S7,IF(入力用!P80=5,入力用!S8,IF(入力用!P80=6,入力用!L80,\"\")))))","v":""},null,null,null,null,null,null,null,null,null,null,null,null,{"$f":"IF(入力用!D81=\"\",\"\",入力用!D81)","v":""},null,null,null,null,null,"W",null,{"$f":"IF(入力用!P82=2,入力用!T5,IF(入力用!P82=3,入力用!T6,\"\"))","v":""},null,null,null,null,null,{"$f":"IF(入力用!D83=\"\",\"\",入力用!D83)","v":""},null,null,null,null,null,"VA",null,{"$f":"IF(入力用!D84=\"\",\"\",入力用!D84)","v":""},null,null,null,null,{"$f":"IF(入力用!P84=2,入力用!U5,IF(入力用!P84=3,入力用!U6,\"\"))","v":""},null,{"$f":"IF(入力用!P85=2,入力用!V5,IF(入力用!P85=3,入力用!V6,IF(入力用!P85=4,入力用!V7,IF(入力用!P85=5,入力用!L85,\"\"))))","v":""}]
[null,null,null,null,null,{"$f":"MID(入力用!$D$67,21,1)","v":""},{"$f":"MID(入力用!$D$67,22,1)","v":""},{"$f":"MID(入力用!$D$67,23,1)","v":""},{"$f":"MID(入力用!$D$67,24,1)","v":""},{"$f":"MID(入力用!$D$67,25,1)","v":""},{"$f":"MID(入力用!$D$67,26,1)","v":""},{"$f":"MID(入力用!$D$67,27,1)","v":""},{"$f":"MID(入力用!$D$67,28,1)","v":""},{"$f":"MID(入力用!$D$67,29,1)","v":""},{"$f":"MID(入力用!$D$67,30,1)","v":""},{"$f":"MID(入力用!$D$67,31,1)","v":""},{"$f":"MID(入力用!$D$67,32,1)","v":""},{"$f":"MID(入力用!$D$67,33,1)","v":""},{"$f":"MID(入力用!$D$67,34,1)","v":""},{"$f":"MID(入力用!$D$67,35,1)","v":""},{"$f":"MID(入力用!$D$67,36,1)","v":""},{"$f":"MID(入力用!$D$67,37,1)","v":""},{"$f":"MID(入力用!$D$67,38,1)","v":""},{"$f":"MID(入力用!$D$67,39,1)","v":""},{"$f":"MID(入力用!$D$67,40,1)","v":""}]
[]
[null,3,null,null,null,{"$f":"IF(入力用!D86=\"\",\"\",入力用!D86)","v":""},null,null,null,null,null,null,null,null,null,null,null,null,null,null,null,null,null,null,null,{"$f":"IF(入力用!P88=2,入力用!S5,IF(入力用!P88=3,入力用!S6,IF(入力用!P88=4,入力用!S7,IF(入力用!P88=5,入力用!S8,IF(入力用!P88=6,入力用!L88,\"\")))))","v":""},null,null,null,null,null,null,null,null,null,null,null,null,{"$f":"IF(入力用!D89=\"\",\"\",入力用!D89)","v":""},null,null,null,null,null,"W",null,{"$f":"IF(入力用!P90=2,入力用!T5,IF(入力用!P90=3,入力用!T6,\"\"))","v":""},null,null,null,null,null,{"$f":"IF(入力用!D91=\"\",\"\",入力用!D91)","v":""},null,null,null,null,null,"VA",null,{"$f":"IF(入力用!D92=\"\",\"\",入力用!D92)","v":""},null,null,null,null,{"$f":"IF(入力用!P92=2,入力用!U5,IF(入力用!P92=3,入力用!U6,\"\"))","v":""},null,{"$f":"IF(入力用!P93=2,入力用!V5,IF(入力用!P93=3,入力用!V6,IF(入力用!P93=4,入力用!V7,IF(入力用!P93=5,入力用!L93,\"\"))))","v":""},null,null,null,null,null,null,null,null,null,null,null,"010",null,null,null,null,null,null,null,null,null,null,null,null,null,null,null,null,null,null,null,null,null,null,null,null,null,null,null,null,"00"]
[]
[]
[null,null,null,null,null,null,null,null,null,null,null,null,null,null,null,null,null,null,null,null,null,null,null,null,null,{"$f":"IF(入力用!P94=2,入力用!S5,IF(入力用!P94=3,入力用!S6,IF(入力用!P94=4,入力用!S7,IF(入力用!P94=5,入力用!S8,IF(入力用!P94=6,入力用!L94,\"\")))))","v":""},null,null,null,null,null,null,null,null,null,null,null,null,{"$f":"IF(入力用!D95=\"\",\"\",入力用!D95)","v":""},null,null,null,null,null,"W",null,{"$f":"IF(入力用!P96=2,入力用!T5,IF(入力用!P96=3,入力用!T6,\"\"))","v":""},null,null,null,null,null,{"$f":"IF(入力用!D97=\"\",\"\",入力用!D97)","v":""},null,null,null,null,null,"VA",null,{"$f":"IF(入力用!D98=\"\",\"\",入力用!D98)","v":""},null,null,null,null,{"$f":"IF(入力用!P98=2,入力用!U5,IF(入力用!P98=3,入力用!U6,\"\"))","v":""},null,{"$f":"IF(入力用!P99=2,入力用!V5,IF(入力用!P99=3,入力用!V6,IF(入力用!P99=4,入力用!V7,IF(入力用!P99=5,入力用!L99,\"\"))))","v":""}]
[]
[null,null,null,null,null,{"$f":"MID(入力用!$D$87,1,1)","v":""},{"$f":"MID(入力用!$D$87,2,1)","v":""},{"$f":"MID(入力用!$D$87,3,1)","v":""},{"$f":"MID(入力用!$D$87,4,1)","v":""},{"$f":"MID(入力用!$D$87,5,1)","v":""},{"$f":"MID(入力用!$D$87,6,1)","v":""},{"$f":"MID(入力用!$D$87,7,1)","v":""},{"$f":"MID(入力用!$D$87,8,1)","v":""},{"$f":"MID(入力用!$D$87,9,1)","v":""},{"$f":"MID(入力用!$D$87,10,1)","v":""},{"$f":"MID(入力用!$D$87,11,1)","v":""},{"$f":"MID(入力用!$D$87,12,1)","v":""},{"$f":"MID(入力用!$D$87,13,1)","v":""},{"$f":"MID(入力用!$D$87,14,1)","v":""},{"$f":"MID(入力用!$D$87,15,1)","v":""},{"$f":"MID(入力用!$D$87,16,1)","v":""},{"$f":"MID(入力用!$D$87,17,1)","v":""},{"$f":"MID(入力用!$D$87,18,1)","v":""},{"$f":"MID(入力用!$D$87,19,1)","v":""},{"$f":"MID(入力用!$D$87,20,1)","v":""}]
[null,null,null,null,null,null,null,null,null,null,null,null,null,null,null,null,null,null,null,null,null,null,null,null,null,{"$f":"IF(入力用!P100=2,入力用!S5,IF(入力用!P100=3,入力用!S6,IF(入力用!P100=4,入力用!S7,IF(入力用!P100=5,入力用!S8,IF(入力用!P100=6,入力用!L100,\"\")))))","v":""},null,null,null,null,null,null,null,null,null,null,null,null,{"$f":"IF(入力用!D101=\"\",\"\",入力用!D101)","v":""},null,null,null,null,null,"W",null,{"$f":"IF(入力用!P102=2,入力用!T5,IF(入力用!P102=3,入力用!T6,\"\"))","v":""},null,null,null,null,null,{"$f":"IF(入力用!D103=\"\",\"\",入力用!D103)","v":""},null,null,null,null,null,"VA",null,{"$f":"IF(入力用!D104=\"\",\"\",入力用!D104)","v":""},null,null,null,null,{"$f":"IF(入力用!P104=2,入力用!U5,IF(入力用!P104=3,入力用!U6,\"\"))","v":""},null,{"$f":"IF(入力用!P105=2,入力用!V5,IF(入力用!P105=3,入力用!V6,IF(入力用!P105=4,入力用!V7,IF(入力用!P105=5,入力用!L105,\"\"))))","v":""}]
[null,null,null,null,null,{"$f":"MID(入力用!$D$87,21,1)","v":""},{"$f":"MID(入力用!$D$87,22,1)","v":""},{"$f":"MID(入力用!$D$87,23,1)","v":""},{"$f":"MID(入力用!$D$87,24,1)","v":""},{"$f":"MID(入力用!$D$87,25,1)","v":""},{"$f":"MID(入力用!$D$87,26,1)","v":""},{"$f":"MID(入力用!$D$87,27,1)","v":""},{"$f":"MID(入力用!$D$87,28,1)","v":""},{"$f":"MID(入力用!$D$87,29,1)","v":""},{"$f":"MID(入力用!$D$87,30,1)","v":""},{"$f":"MID(入力用!$D$87,31,1)","v":""},{"$f":"MID(入力用!$D$87,32,1)","v":""},{"$f":"MID(入力用!$D$87,33,1)","v":""},{"$f":"MID(入力用!$D$87,34,1)","v":""},{"$f":"MID(入力用!$D$87,35,1)","v":""},{"$f":"MID(入力用!$D$87,36,1)","v":""},{"$f":"MID(入力用!$D$87,37,1)","v":""},{"$f":"MID(入力用!$D$87,38,1)","v":""},{"$f":"MID(入力用!$D$87,39,1)","v":""},{"$f":"MID(入力用!$D$87,40,1)","v":""}]
[]
[null,4,null,null,null,{"$f":"IF(入力用!D106=\"\",\"\",入力用!D106)","v":""},null,null,null,null,null,null,null,null,null,null,null,null,null,null,null,null,null,null,null,{"$f":"IF(入力用!P108=2,入力用!S5,IF(入力用!P108=3,入力用!S6,IF(入力用!P108=4,入力用!S7,IF(入力用!P108=5,入力用!S8,IF(入力用!P108=6,入力用!L108,\"\")))))","v":""},null,null,null,null,null,null,null,null,null,null,null,null,{"$f":"IF(入力用!D109=\"\",\"\",入力用!D109)","v":""},null,null,null,null,null,"W",null,{"$f":"IF(入力用!P110=2,入力用!T5,IF(入力用!P110=3,入力用!T6,\"\"))","v":""},null,null,null,null,null,{"$f":"IF(入力用!D111=\"\",\"\",入力用!D111)","v":""},null,null,null,null,null,"VA",null,{"$f":"IF(入力用!D112=\"\",\"\",入力用!D112)","v":""},null,null,null,null,{"$f":"IF(入力用!P112=2,入力用!U5,IF(入力用!P112=3,入力用!U6,\"\"))","v":""},null,{"$f":"IF(入力用!P113=2,入力用!V5,IF(入力用!P113=3,入力用!V6,IF(入力用!P113=4,入力用!V7,IF(入力用!P113=5,入力用!L113,\"\"))))","v":""},null,null,null,null,null,null,null,null,null,null,null,"010",null,null,null,null,null,null,null,null,null,null,null,null,null,null,null,null,null,null,null,null,null,null,null,null,null,null,null,null,"00"]
[]
[]
[null,null,null,null,null,null,null,null,null,null,null,null,null,null,null,null,null,null,null,null,null,null,null,null,null,{"$f":"IF(入力用!P114=2,入力用!S5,IF(入力用!P114=3,入力用!S6,IF(入力用!P114=4,入力用!S7,IF(入力用!P114=5,入力用!S8,IF(入力用!P114=6,入力用!L114,\"\")))))","v":""},null,null,null,null,null,null,null,null,null,null,null,null,{"$f":"IF(入力用!D115=\"\",\"\",入力用!D115)","v":""},null,null,null,null,null,"W",null,{"$f":"IF(入力用!P116=2,入力用!T5,IF(入力用!P116=3,入力用!T6,\"\"))","v":""},null,null,null,null,null,{"$f":"IF(入力用!D117=\"\",\"\",入力用!D117)","v":""},null,null,null,null,null,"VA",null,{"$f":"IF(入力用!D118=\"\",\"\",入力用!D118)","v":""},null,null,null,null,{"$f":"IF(入力用!P118=2,入力用!U5,IF(入力用!P118=3,入力用!U6,\"\"))","v":""},null,{"$f":"IF(入力用!P119=2,入力用!V5,IF(入力用!P119=3,入力用!V6,IF(入力用!P119=4,入力用!V7,IF(入力用!P119=5,入力用!L119,\"\"))))","v":""}]
[]
[null,null,null,null,null,{"$f":"MID(入力用!$D$107,1,1)","v":""},{"$f":"MID(入力用!$D$107,2,1)","v":""},{"$f":"MID(入力用!$D$107,3,1)","v":""},{"$f":"MID(入力用!$D$107,4,1)","v":""},{"$f":"MID(入力用!$D$107,5,1)","v":""},{"$f":"MID(入力用!$D$107,6,1)","v":""},{"$f":"MID(入力用!$D$107,7,1)","v":""},{"$f":"MID(入力用!$D$107,8,1)","v":""},{"$f":"MID(入力用!$D$107,9,1)","v":""},{"$f":"MID(入力用!$D$107,10,1)","v":""},{"$f":"MID(入力用!$D$107,11,1)","v":""},{"$f":"MID(入力用!$D$107,12,1)","v":""},{"$f":"MID(入力用!$D$107,13,1)","v":""},{"$f":"MID(入力用!$D$107,14,1)","v":""},{"$f":"MID(入力用!$D$107,15,1)","v":""},{"$f":"MID(入力用!$D$107,16,1)","v":""},{"$f":"MID(入力用!$D$107,17,1)","v":""},{"$f":"MID(入力用!$D$107,18,1)","v":""},{"$f":"MID(入力用!$D$107,19,1)","v":""},{"$f":"MID(入力用!$D$107,20,1)","v":""}]
[null,null,null,null,null,null,null,null,null,null,null,null,null,null,null,null,null,null,null,null,null,null,null,null,null,{"$f":"IF(入力用!P120=2,入力用!S5,IF(入力用!P120=3,入力用!S6,IF(入力用!P120=4,入力用!S7,IF(入力用!P120=5,入力用!S8,IF(入力用!P120=6,入力用!L120,\"\")))))","v":""},null,null,null,null,null,null,null,null,null,null,null,null,{"$f":"IF(入力用!D121=\"\",\"\",入力用!D121)","v":""},null,null,null,null,null,"W",null,{"$f":"IF(入力用!P122=2,入力用!T5,IF(入力用!P122=3,入力用!T6,\"\"))","v":""},null,null,null,null,null,{"$f":"IF(入力用!D123=\"\",\"\",入力用!D123)","v":""},null,null,null,null,null,"VA",null,{"$f":"IF(入力用!D124=\"\",\"\",入力用!D124)","v":""},null,null,null,null,{"$f":"IF(入力用!P124=2,入力用!U5,IF(入力用!P124=3,入力用!U6,\"\"))","v":""},null,{"$f":"IF(入力用!P125=2,入力用!V5,IF(入力用!P125=3,入力用!V6,IF(入力用!P125=4,入力用!V7,IF(入力用!P125=5,入力用!L125,\"\"))))","v":""}]
[null,null,null,null,null,{"$f":"MID(入力用!$D$107,21,1)","v":""},{"$f":"MID(入力用!$D$107,22,1)","v":""},{"$f":"MID(入力用!$D$107,23,1)","v":""},{"$f":"MID(入力用!$D$107,24,1)","v":""},{"$f":"MID(入力用!$D$107,25,1)","v":""},{"$f":"MID(入力用!$D$107,26,1)","v":""},{"$f":"MID(入力用!$D$107,27,1)","v":""},{"$f":"MID(入力用!$D$107,28,1)","v":""},{"$f":"MID(入力用!$D$107,29,1)","v":""},{"$f":"MID(入力用!$D$107,30,1)","v":""},{"$f":"MID(入力用!$D$107,31,1)","v":""},{"$f":"MID(入力用!$D$107,32,1)","v":""},{"$f":"MID(入力用!$D$107,33,1)","v":""},{"$f":"MID(入力用!$D$107,34,1)","v":""},{"$f":"MID(入力用!$D$107,35,1)","v":""},{"$f":"MID(入力用!$D$107,36,1)","v":""},{"$f":"MID(入力用!$D$107,37,1)","v":""},{"$f":"MID(入力用!$D$107,38,1)","v":""},{"$f":"MID(入力用!$D$107,39,1)","v":""},{"$f":"MID(入力用!$D$107,40,1)","v":""}]
[]
[null,5,null,null,null,{"$f":"IF(入力用!D126=\"\",\"\",入力用!D126)","v":""},null,null,null,null,null,null,null,null,null,null,null,null,null,null,null,null,null,null,null,{"$f":"IF(入力用!P128=2,入力用!S5,IF(入力用!P128=3,入力用!S6,IF(入力用!P128=4,入力用!S7,IF(入力用!P128=5,入力用!S8,IF(入力用!P128=6,入力用!L128,\"\")))))","v":""},null,null,null,null,null,null,null,null,null,null,null,null,{"$f":"IF(入力用!D129=\"\",\"\",入力用!D129)","v":""},null,null,null,null,null,"W",null,{"$f":"IF(入力用!P130=2,入力用!T5,IF(入力用!P130=3,入力用!T6,\"\"))","v":""},null,null,null,null,null,{"$f":"IF(入力用!D131=\"\",\"\",入力用!D131)","v":""},null,null,null,null,null,"VA",null,{"$f":"IF(入力用!D132=\"\",\"\",入力用!D132)","v":""},null,null,null,null,{"$f":"IF(入力用!P132=2,入力用!U5,IF(入力用!P132=3,入力用!U6,\"\"))","v":""},null,{"$f":"IF(入力用!P133=2,入力用!V5,IF(入力用!P133=3,入力用!V6,IF(入力用!P133=4,入力用!V7,IF(入力用!P133=5,入力用!L133,\"\"))))","v":""},null,null,null,null,null,null,null,null,null,null,null,"010",null,null,null,null,null,null,null,null,null,null,null,null,null,null,null,null,null,null,null,null,null,null,null,null,null,null,null,null,"00"]
[]
[]
[null,null,null,null,null,null,null,null,null,null,null,null,null,null,null,null,null,null,null,null,null,null,null,null,null,{"$f":"IF(入力用!P134=2,入力用!S5,IF(入力用!P134=3,入力用!S6,IF(入力用!P134=4,入力用!S7,IF(入力用!P134=5,入力用!S8,IF(入力用!P134=6,入力用!L134,\"\")))))","v":""},null,null,null,null,null,null,null,null,null,null,null,null,{"$f":"IF(入力用!D135=\"\",\"\",入力用!D135)","v":""},null,null,null,null,null,"W",null,{"$f":"IF(入力用!P136=2,入力用!T5,IF(入力用!P136=3,入力用!T6,\"\"))","v":""},null,null,null,null,null,{"$f":"IF(入力用!D137=\"\",\"\",入力用!D137)","v":""},null,null,null,null,null,"VA",null,{"$f":"IF(入力用!D138=\"\",\"\",入力用!D138)","v":""},null,null,null,null,{"$f":"IF(入力用!P138=2,入力用!U5,IF(入力用!P138=3,入力用!U6,\"\"))","v":""},null,{"$f":"IF(入力用!P139=2,入力用!V5,IF(入力用!P139=3,入力用!V6,IF(入力用!P139=4,入力用!V7,IF(入力用!P139=5,入力用!L139,\"\"))))","v":""}]
[]
[null,null,null,null,null,{"$f":"MID(入力用!$D$127,1,1)","v":""},{"$f":"MID(入力用!$D$127,2,1)","v":""},{"$f":"MID(入力用!$D$127,3,1)","v":""},{"$f":"MID(入力用!$D$127,4,1)","v":""},{"$f":"MID(入力用!$D$127,5,1)","v":""},{"$f":"MID(入力用!$D$127,6,1)","v":""},{"$f":"MID(入力用!$D$127,7,1)","v":""},{"$f":"MID(入力用!$D$127,8,1)","v":""},{"$f":"MID(入力用!$D$127,9,1)","v":""},{"$f":"MID(入力用!$D$127,10,1)","v":""},{"$f":"MID(入力用!$D$127,11,1)","v":""},{"$f":"MID(入力用!$D$127,12,1)","v":""},{"$f":"MID(入力用!$D$127,13,1)","v":""},{"$f":"MID(入力用!$D$127,14,1)","v":""},{"$f":"MID(入力用!$D$127,15,1)","v":""},{"$f":"MID(入力用!$D$127,16,1)","v":""},{"$f":"MID(入力用!$D$127,17,1)","v":""},{"$f":"MID(入力用!$D$127,18,1)","v":""},{"$f":"MID(入力用!$D$127,19,1)","v":""},{"$f":"MID(入力用!$D$127,20,1)","v":""}]
[null,null,null,null,null,null,null,null,null,null,null,null,null,null,null,null,null,null,null,null,null,null,null,null,null,{"$f":"IF(入力用!P140=2,入力用!S5,IF(入力用!P140=3,入力用!S6,IF(入力用!P140=4,入力用!S7,IF(入力用!P140=5,入力用!S8,IF(入力用!P140=6,入力用!L140,\"\")))))","v":""},null,null,null,null,null,null,null,null,null,null,null,null,{"$f":"IF(入力用!D141=\"\",\"\",入力用!D141)","v":""},null,null,null,null,null,"W",null,{"$f":"IF(入力用!P142=2,入力用!T5,IF(入力用!P142=3,入力用!T6,\"\"))","v":""},null,null,null,null,null,{"$f":"IF(入力用!D143=\"\",\"\",入力用!D143)","v":""},null,null,null,null,null,"VA",null,{"$f":"IF(入力用!D144=\"\",\"\",入力用!D144)","v":""},null,null,null,null,{"$f":"IF(入力用!P144=2,入力用!U5,IF(入力用!P144=3,入力用!U6,\"\"))","v":""},null,{"$f":"IF(入力用!P145=2,入力用!V5,IF(入力用!P145=3,入力用!V6,IF(入力用!P145=4,入力用!V7,IF(入力用!P145=5,入力用!L145,\"\"))))","v":""}]
[null,null,null,null,null,{"$f":"MID(入力用!$D$127,21,1)","v":""},{"$f":"MID(入力用!$D$127,22,1)","v":""},{"$f":"MID(入力用!$D$127,23,1)","v":""},{"$f":"MID(入力用!$D$127,24,1)","v":""},{"$f":"MID(入力用!$D$127,25,1)","v":""},{"$f":"MID(入力用!$D$127,26,1)","v":""},{"$f":"MID(入力用!$D$127,27,1)","v":""},{"$f":"MID(入力用!$D$127,28,1)","v":""},{"$f":"MID(入力用!$D$127,29,1)","v":""},{"$f":"MID(入力用!$D$127,30,1)","v":""},{"$f":"MID(入力用!$D$127,31,1)","v":""},{"$f":"MID(入力用!$D$127,32,1)","v":""},{"$f":"MID(入力用!$D$127,33,1)","v":""},{"$f":"MID(入力用!$D$127,34,1)","v":""},{"$f":"MID(入力用!$D$127,35,1)","v":""},{"$f":"MID(入力用!$D$127,36,1)","v":""},{"$f":"MID(入力用!$D$127,37,1)","v":""},{"$f":"MID(入力用!$D$127,38,1)","v":""},{"$f":"MID(入力用!$D$127,39,1)","v":""},{"$f":"MID(入力用!$D$127,40,1)","v":""}]
[]
[null,6,null,null,null,{"$f":"IF(入力用!D146=\"\",\"\",入力用!D146)","v":""},null,null,null,null,null,null,null,null,null,null,null,null,null,null,null,null,null,null,null,{"$f":"IF(入力用!P148=2,入力用!S5,IF(入力用!P148=3,入力用!S6,IF(入力用!P148=4,入力用!S7,IF(入力用!P148=5,入力用!S8,IF(入力用!P148=6,入力用!L148,\"\")))))","v":""},null,null,null,null,null,null,null,null,null,null,null,null,{"$f":"IF(入力用!D149=\"\",\"\",入力用!D149)","v":""},null,null,null,null,null,"W",null,{"$f":"IF(入力用!P150=2,入力用!T5,IF(入力用!P150=3,入力用!T6,\"\"))","v":""},null,null,null,null,null,{"$f":"IF(入力用!D151=\"\",\"\",入力用!D151)","v":""},null,null,null,null,null,"VA",null,{"$f":"IF(入力用!D152=\"\",\"\",入力用!D152)","v":""},null,null,null,null,{"$f":"IF(入力用!P152=2,入力用!U5,IF(入力用!P152=3,入力用!U6,\"\"))","v":""},null,{"$f":"IF(入力用!P153=2,入力用!V5,IF(入力用!P153=3,入力用!V6,IF(入力用!P153=4,入力用!V7,IF(入力用!P153=5,入力用!L153,\"\"))))","v":""},null,null,null,null,null,null,null,null,null,null,null,"010",null,null,null,null,null,null,null,null,null,null,null,null,null,null,null,null,null,null,null,null,null,null,null,null,null,null,null,null,"00"]
[]
[]
[null,null,null,null,null,null,null,null,null,null,null,null,null,null,null,null,null,null,null,null,null,null,null,null,null,{"$f":"IF(入力用!P154=2,入力用!S5,IF(入力用!P154=3,入力用!S6,IF(入力用!P154=4,入力用!S7,IF(入力用!P154=5,入力用!S8,IF(入力用!P154=6,入力用!L154,\"\")))))","v":""},null,null,null,null,null,null,null,null,null,null,null,null,{"$f":"IF(入力用!D155=\"\",\"\",入力用!D155)","v":""},null,null,null,null,null,"W",null,{"$f":"IF(入力用!P156=2,入力用!T5,IF(入力用!P156=3,入力用!T6,\"\"))","v":""},null,null,null,null,null,{"$f":"IF(入力用!D157=\"\",\"\",入力用!D157)","v":""},null,null,null,null,null,"VA",null,{"$f":"IF(入力用!D158=\"\",\"\",入力用!D158)","v":""},null,null,null,null,{"$f":"IF(入力用!P158=2,入力用!U5,IF(入力用!P158=3,入力用!U6,\"\"))","v":""},null,{"$f":"IF(入力用!P159=2,入力用!V5,IF(入力用!P159=3,入力用!V6,IF(入力用!P159=4,入力用!V7,IF(入力用!P159=5,入力用!L159,\"\"))))","v":""}]
[]
[null,null,null,null,null,{"$f":"MID(入力用!$D$147,1,1)","v":""},{"$f":"MID(入力用!$D$147,2,1)","v":""},{"$f":"MID(入力用!$D$147,3,1)","v":""},{"$f":"MID(入力用!$D$147,4,1)","v":""},{"$f":"MID(入力用!$D$147,5,1)","v":""},{"$f":"MID(入力用!$D$147,6,1)","v":""},{"$f":"MID(入力用!$D$147,7,1)","v":""},{"$f":"MID(入力用!$D$147,8,1)","v":""},{"$f":"MID(入力用!$D$147,9,1)","v":""},{"$f":"MID(入力用!$D$147,10,1)","v":""},{"$f":"MID(入力用!$D$147,11,1)","v":""},{"$f":"MID(入力用!$D$147,12,1)","v":""},{"$f":"MID(入力用!$D$147,13,1)","v":""},{"$f":"MID(入力用!$D$147,14,1)","v":""},{"$f":"MID(入力用!$D$147,15,1)","v":""},{"$f":"MID(入力用!$D$147,16,1)","v":""},{"$f":"MID(入力用!$D$147,17,1)","v":""},{"$f":"MID(入力用!$D$147,18,1)","v":""},{"$f":"MID(入力用!$D$147,19,1)","v":""},{"$f":"MID(入力用!$D$147,20,1)","v":""}]
[null,null,null,null,null,null,null,null,null,null,null,null,null,null,null,null,null,null,null,null,null,null,null,null,null,{"$f":"IF(入力用!P160=2,入力用!S5,IF(入力用!P160=3,入力用!S6,IF(入力用!P160=4,入力用!S7,IF(入力用!P160=5,入力用!S8,IF(入力用!P160=6,入力用!L160,\"\")))))","v":""},null,null,null,null,null,null,null,null,null,null,null,null,{"$f":"IF(入力用!D161=\"\",\"\",入力用!D161)","v":""},null,null,null,null,null,"W",null,{"$f":"IF(入力用!P162=2,入力用!T5,IF(入力用!P162=3,入力用!T6,\"\"))","v":""},null,null,null,null,null,{"$f":"IF(入力用!D163=\"\",\"\",入力用!D163)","v":""},null,null,null,null,null,"VA",null,{"$f":"IF(入力用!D164=\"\",\"\",入力用!D164)","v":""},null,null,null,null,{"$f":"IF(入力用!P164=2,入力用!U5,IF(入力用!P164=3,入力用!U6,\"\"))","v":""},null,{"$f":"IF(入力用!P165=2,入力用!V5,IF(入力用!P165=3,入力用!V6,IF(入力用!P165=4,入力用!V7,IF(入力用!P165=5,入力用!L165,\"\"))))","v":""}]
[null,null,null,null,null,{"$f":"MID(入力用!$D$147,21,1)","v":""},{"$f":"MID(入力用!$D$147,22,1)","v":""},{"$f":"MID(入力用!$D$147,23,1)","v":""},{"$f":"MID(入力用!$D$147,24,1)","v":""},{"$f":"MID(入力用!$D$147,25,1)","v":""},{"$f":"MID(入力用!$D$147,26,1)","v":""},{"$f":"MID(入力用!$D$147,27,1)","v":""},{"$f":"MID(入力用!$D$147,28,1)","v":""},{"$f":"MID(入力用!$D$147,29,1)","v":""},{"$f":"MID(入力用!$D$147,30,1)","v":""},{"$f":"MID(入力用!$D$147,31,1)","v":""},{"$f":"MID(入力用!$D$147,32,1)","v":""},{"$f":"MID(入力用!$D$147,33,1)","v":""},{"$f":"MID(入力用!$D$147,34,1)","v":""},{"$f":"MID(入力用!$D$147,35,1)","v":""},{"$f":"MID(入力用!$D$147,36,1)","v":""},{"$f":"MID(入力用!$D$147,37,1)","v":""},{"$f":"MID(入力用!$D$147,38,1)","v":""},{"$f":"MID(入力用!$D$147,39,1)","v":""},{"$f":"MID(入力用!$D$147,40,1)","v":""}]
[]
[null,7,null,null,null,{"$f":"IF(入力用!D166=\"\",\"\",入力用!D166)","v":""},null,null,null,null,null,null,null,null,null,null,null,null,null,null,null,null,null,null,null,{"$f":"IF(入力用!P168=2,入力用!S5,IF(入力用!P168=3,入力用!S6,IF(入力用!P168=4,入力用!S7,IF(入力用!P168=5,入力用!S8,IF(入力用!P168=6,入力用!L168,\"\")))))","v":""},null,null,null,null,null,null,null,null,null,null,null,null,{"$f":"IF(入力用!D169=\"\",\"\",入力用!D169)","v":""},null,null,null,null,null,"W",null,{"$f":"IF(入力用!P170=2,入力用!T5,IF(入力用!P170=3,入力用!T6,\"\"))","v":""},null,null,null,null,null,{"$f":"IF(入力用!D171=\"\",\"\",入力用!D171)","v":""},null,null,null,null,null,"VA",null,{"$f":"IF(入力用!D172=\"\",\"\",入力用!D172)","v":""},null,null,null,null,{"$f":"IF(入力用!P172=2,入力用!U5,IF(入力用!P172=3,入力用!U6,\"\"))","v":""},null,{"$f":"IF(入力用!P173=2,入力用!V5,IF(入力用!P173=3,入力用!V6,IF(入力用!P173=4,入力用!V7,IF(入力用!P173=5,入力用!L173,\"\"))))","v":""},null,null,null,null,null,null,null,null,null,null,null,"010",null,null,null,null,null,null,null,null,null,null,null,null,null,null,null,null,null,null,null,null,null,null,null,null,null,null,null,null,"00"]
[]
[]
[null,null,null,null,null,null,null,null,null,null,null,null,null,null,null,null,null,null,null,null,null,null,null,null,null,{"$f":"IF(入力用!P174=2,入力用!S5,IF(入力用!P174=3,入力用!S6,IF(入力用!P174=4,入力用!S7,IF(入力用!P174=5,入力用!S8,IF(入力用!P174=6,入力用!L174,\"\")))))","v":""},null,null,null,null,null,null,null,null,null,null,null,null,{"$f":"IF(入力用!D175=\"\",\"\",入力用!D175)","v":""},null,null,null,null,null,"W",null,{"$f":"IF(入力用!P176=2,入力用!T5,IF(入力用!P176=3,入力用!T6,\"\"))","v":""},null,null,null,null,null,{"$f":"IF(入力用!D177=\"\",\"\",入力用!D177)","v":""},null,null,null,null,null,"VA",null,{"$f":"IF(入力用!D178=\"\",\"\",入力用!D178)","v":""},null,null,null,null,{"$f":"IF(入力用!P178=2,入力用!U5,IF(入力用!P178=3,入力用!U6,\"\"))","v":""},null,{"$f":"IF(入力用!P179=2,入力用!V5,IF(入力用!P179=3,入力用!V6,IF(入力用!P179=4,入力用!V7,IF(入力用!P179=5,入力用!L179,\"\"))))","v":""}]
[]
[null,null,null,null,null,{"$f":"MID(入力用!$D$167,1,1)","v":""},{"$f":"MID(入力用!$D$167,2,1)","v":""},{"$f":"MID(入力用!$D$167,3,1)","v":""},{"$f":"MID(入力用!$D$167,4,1)","v":""},{"$f":"MID(入力用!$D$167,5,1)","v":""},{"$f":"MID(入力用!$D$167,6,1)","v":""},{"$f":"MID(入力用!$D$167,7,1)","v":""},{"$f":"MID(入力用!$D$167,8,1)","v":""},{"$f":"MID(入力用!$D$167,9,1)","v":""},{"$f":"MID(入力用!$D$167,10,1)","v":""},{"$f":"MID(入力用!$D$167,11,1)","v":""},{"$f":"MID(入力用!$D$167,12,1)","v":""},{"$f":"MID(入力用!$D$167,13,1)","v":""},{"$f":"MID(入力用!$D$167,14,1)","v":""},{"$f":"MID(入力用!$D$167,15,1)","v":""},{"$f":"MID(入力用!$D$167,16,1)","v":""},{"$f":"MID(入力用!$D$167,17,1)","v":""},{"$f":"MID(入力用!$D$167,18,1)","v":""},{"$f":"MID(入力用!$D$167,19,1)","v":""},{"$f":"MID(入力用!$D$167,20,1)","v":""}]
[null,null,null,null,null,null,null,null,null,null,null,null,null,null,null,null,null,null,null,null,null,null,null,null,null,{"$f":"IF(入力用!P180=2,入力用!S5,IF(入力用!P180=3,入力用!S6,IF(入力用!P180=4,入力用!S7,IF(入力用!P180=5,入力用!S8,IF(入力用!P180=6,入力用!L180,\"\")))))","v":""},null,null,null,null,null,null,null,null,null,null,null,null,{"$f":"IF(入力用!D181=\"\",\"\",入力用!D181)","v":""},null,null,null,null,null,"W",null,{"$f":"IF(入力用!P182=2,入力用!T5,IF(入力用!P182=3,入力用!T6,\"\"))","v":""},null,null,null,null,null,{"$f":"IF(入力用!D183=\"\",\"\",入力用!D183)","v":""},null,null,null,null,null,"VA",null,{"$f":"IF(入力用!D184=\"\",\"\",入力用!D184)","v":""},null,null,null,null,{"$f":"IF(入力用!P184=2,入力用!U5,IF(入力用!P184=3,入力用!U6,\"\"))","v":""},null,{"$f":"IF(入力用!P185=2,入力用!V5,IF(入力用!P185=3,入力用!V6,IF(入力用!P185=4,入力用!V7,IF(入力用!P185=5,入力用!L185,\"\"))))","v":""}]
[null,null,null,null,null,{"$f":"MID(入力用!$D$167,21,1)","v":""},{"$f":"MID(入力用!$D$167,22,1)","v":""},{"$f":"MID(入力用!$D$167,23,1)","v":""},{"$f":"MID(入力用!$D$167,24,1)","v":""},{"$f":"MID(入力用!$D$167,25,1)","v":""},{"$f":"MID(入力用!$D$167,26,1)","v":""},{"$f":"MID(入力用!$D$167,27,1)","v":""},{"$f":"MID(入力用!$D$167,28,1)","v":""},{"$f":"MID(入力用!$D$167,29,1)","v":""},{"$f":"MID(入力用!$D$167,30,1)","v":""},{"$f":"MID(入力用!$D$167,31,1)","v":""},{"$f":"MID(入力用!$D$167,32,1)","v":""},{"$f":"MID(入力用!$D$167,33,1)","v":""},{"$f":"MID(入力用!$D$167,34,1)","v":""},{"$f":"MID(入力用!$D$167,35,1)","v":""},{"$f":"MID(入力用!$D$167,36,1)","v":""},{"$f":"MID(入力用!$D$167,37,1)","v":""},{"$f":"MID(入力用!$D$167,38,1)","v":""},{"$f":"MID(入力用!$D$167,39,1)","v":""},{"$f":"MID(入力用!$D$167,40,1)","v":""}]
[]
[null,8,null,null,null,{"$f":"IF(入力用!D186=\"\",\"\",入力用!D186)","v":""},null,null,null,null,null,null,null,null,null,null,null,null,null,null,null,null,null,null,null,{"$f":"IF(入力用!P188=2,入力用!S5,IF(入力用!P188=3,入力用!S6,IF(入力用!P188=4,入力用!S7,IF(入力用!P188=5,入力用!S8,IF(入力用!P188=6,入力用!L188,\"\")))))","v":""},null,null,null,null,null,null,null,null,null,null,null,null,{"$f":"IF(入力用!D189=\"\",\"\",入力用!D189)","v":""},null,null,null,null,null,"W",null,{"$f":"IF(入力用!P190=2,入力用!T5,IF(入力用!P190=3,入力用!T6,\"\"))","v":""},null,null,null,null,null,{"$f":"IF(入力用!D191=\"\",\"\",入力用!D191)","v":""},null,null,null,null,null,"VA",null,{"$f":"IF(入力用!D192=\"\",\"\",入力用!D192)","v":""},null,null,null,null,{"$f":"IF(入力用!P192=2,入力用!U5,IF(入力用!P192=3,入力用!U6,\"\"))","v":""},null,{"$f":"IF(入力用!P193=2,入力用!V5,IF(入力用!P193=3,入力用!V6,IF(入力用!P193=4,入力用!V7,IF(入力用!P193=5,入力用!L193,\"\"))))","v":""},null,null,null,null,null,null,null,null,null,null,null,"010",null,null,null,null,null,null,null,null,null,null,null,null,null,null,null,null,null,null,null,null,null,null,null,null,null,null,null,null,"00"]
[]
[]
[null,null,null,null,null,null,null,null,null,null,null,null,null,null,null,null,null,null,null,null,null,null,null,null,null,{"$f":"IF(入力用!P194=2,入力用!S5,IF(入力用!P194=3,入力用!S6,IF(入力用!P194=4,入力用!S7,IF(入力用!P194=5,入力用!S8,IF(入力用!P194=6,入力用!L194,\"\")))))","v":""},null,null,null,null,null,null,null,null,null,null,null,null,{"$f":"IF(入力用!D195=\"\",\"\",入力用!D195)","v":""},null,null,null,null,null,"W",null,{"$f":"IF(入力用!P196=2,入力用!T5,IF(入力用!P196=3,入力用!T6,\"\"))","v":""},null,null,null,null,null,{"$f":"IF(入力用!D197=\"\",\"\",入力用!D197)","v":""},null,null,null,null,null,"VA",null,{"$f":"IF(入力用!D198=\"\",\"\",入力用!D198)","v":""},null,null,null,null,{"$f":"IF(入力用!P198=2,入力用!U5,IF(入力用!P198=3,入力用!U6,\"\"))","v":""},null,{"$f":"IF(入力用!P199=2,入力用!V5,IF(入力用!P199=3,入力用!V6,IF(入力用!P199=4,入力用!V7,IF(入力用!P199=5,入力用!L199,\"\"))))","v":""}]
[]
[null,null,null,null,null,{"$f":"MID(入力用!$D$187,1,1)","v":""},{"$f":"MID(入力用!$D$187,2,1)","v":""},{"$f":"MID(入力用!$D$187,3,1)","v":""},{"$f":"MID(入力用!$D$187,4,1)","v":""},{"$f":"MID(入力用!$D$187,5,1)","v":""},{"$f":"MID(入力用!$D$187,6,1)","v":""},{"$f":"MID(入力用!$D$187,7,1)","v":""},{"$f":"MID(入力用!$D$187,8,1)","v":""},{"$f":"MID(入力用!$D$187,9,1)","v":""},{"$f":"MID(入力用!$D$187,10,1)","v":""},{"$f":"MID(入力用!$D$187,11,1)","v":""},{"$f":"MID(入力用!$D$187,12,1)","v":""},{"$f":"MID(入力用!$D$187,13,1)","v":""},{"$f":"MID(入力用!$D$187,14,1)","v":""},{"$f":"MID(入力用!$D$187,15,1)","v":""},{"$f":"MID(入力用!$D$187,16,1)","v":""},{"$f":"MID(入力用!$D$187,17,1)","v":""},{"$f":"MID(入力用!$D$187,18,1)","v":""},{"$f":"MID(入力用!$D$187,19,1)","v":""},{"$f":"MID(入力用!$D$187,20,1)","v":""}]
[null,null,null,null,null,null,null,null,null,null,null,null,null,null,null,null,null,null,null,null,null,null,null,null,null,{"$f":"IF(入力用!P200=2,入力用!S5,IF(入力用!P200=3,入力用!S6,IF(入力用!P200=4,入力用!S7,IF(入力用!P200=5,入力用!S8,IF(入力用!P200=6,入力用!L200,\"\")))))","v":""},null,null,null,null,null,null,null,null,null,null,null,null,{"$f":"IF(入力用!D201=\"\",\"\",入力用!D201)","v":""},null,null,null,null,null,"W",null,{"$f":"IF(入力用!P202=2,入力用!T5,IF(入力用!P202=3,入力用!T6,\"\"))","v":""},null,null,null,null,null,{"$f":"IF(入力用!D203=\"\",\"\",入力用!D203)","v":""},null,null,null,null,null,"VA",null,{"$f":"IF(入力用!D204=\"\",\"\",入力用!D204)","v":""},null,null,null,null,{"$f":"IF(入力用!P204=2,入力用!U5,IF(入力用!P204=3,入力用!U6,\"\"))","v":""},null,{"$f":"IF(入力用!P205=2,入力用!V5,IF(入力用!P205=3,入力用!V6,IF(入力用!P205=4,入力用!V7,IF(入力用!P205=5,入力用!L205,\"\"))))","v":""}]
[null,null,null,null,null,{"$f":"MID(入力用!$D$187,21,1)","v":""},{"$f":"MID(入力用!$D$187,22,1)","v":""},{"$f":"MID(入力用!$D$187,23,1)","v":""},{"$f":"MID(入力用!$D$187,24,1)","v":""},{"$f":"MID(入力用!$D$187,25,1)","v":""},{"$f":"MID(入力用!$D$187,26,1)","v":""},{"$f":"MID(入力用!$D$187,27,1)","v":""},{"$f":"MID(入力用!$D$187,28,1)","v":""},{"$f":"MID(入力用!$D$187,29,1)","v":""},{"$f":"MID(入力用!$D$187,30,1)","v":""},{"$f":"MID(入力用!$D$187,31,1)","v":""},{"$f":"MID(入力用!$D$187,32,1)","v":""},{"$f":"MID(入力用!$D$187,33,1)","v":""},{"$f":"MID(入力用!$D$187,34,1)","v":""},{"$f":"MID(入力用!$D$187,35,1)","v":""},{"$f":"MID(入力用!$D$187,36,1)","v":""},{"$f":"MID(入力用!$D$187,37,1)","v":""},{"$f":"MID(入力用!$D$187,38,1)","v":""},{"$f":"MID(入力用!$D$187,39,1)","v":""},{"$f":"MID(入力用!$D$187,40,1)","v":""}]
[]
[null,9,null,null,null,{"$f":"IF(入力用!D206=\"\",\"\",入力用!D206)","v":""},null,null,null,null,null,null,null,null,null,null,null,null,null,null,null,null,null,null,null,{"$f":"IF(入力用!P208=2,入力用!S5,IF(入力用!P208=3,入力用!S6,IF(入力用!P208=4,入力用!S7,IF(入力用!P208=5,入力用!S8,IF(入力用!P208=6,入力用!L208,\"\")))))","v":""},null,null,null,null,null,null,null,null,null,null,null,null,{"$f":"IF(入力用!D209=\"\",\"\",入力用!D209)","v":""},null,null,null,null,null,"W",null,{"$f":"IF(入力用!P210=2,入力用!T5,IF(入力用!P210=3,入力用!T6,\"\"))","v":""},null,null,null,null,null,{"$f":"IF(入力用!D211=\"\",\"\",入力用!D211)","v":""},null,null,null,null,null,"VA",null,{"$f":"IF(入力用!D212=\"\",\"\",入力用!D212)","v":""},null,null,null,null,{"$f":"IF(入力用!P212=2,入力用!U5,IF(入力用!P212=3,入力用!U6,\"\"))","v":""},null,{"$f":"IF(入力用!P213=2,入力用!V5,IF(入力用!P213=3,入力用!V6,IF(入力用!P213=4,入力用!V7,IF(入力用!P213=5,入力用!L213,\"\"))))","v":""},null,null,null,null,null,null,null,null,null,null,null,"010",null,null,null,null,null,null,null,null,null,null,null,null,null,null,null,null,null,null,null,null,null,null,null,null,null,null,null,null,"00"]
[]
[]
[null,null,null,null,null,null,null,null,null,null,null,null,null,null,null,null,null,null,null,null,null,null,null,null,null,{"$f":"IF(入力用!P214=2,入力用!S5,IF(入力用!P214=3,入力用!S6,IF(入力用!P214=4,入力用!S7,IF(入力用!P214=5,入力用!S8,IF(入力用!P214=6,入力用!L214,\"\")))))","v":""},null,null,null,null,null,null,null,null,null,null,null,null,{"$f":"IF(入力用!D215=\"\",\"\",入力用!D215)","v":""},null,null,null,null,null,"W",null,{"$f":"IF(入力用!P216=2,入力用!T5,IF(入力用!P216=3,入力用!T6,\"\"))","v":""},null,null,null,null,null,{"$f":"IF(入力用!D217=\"\",\"\",入力用!D217)","v":""},null,null,null,null,null,"VA",null,{"$f":"IF(入力用!D218=\"\",\"\",入力用!D218)","v":""},null,null,null,null,{"$f":"IF(入力用!P218=2,入力用!U5,IF(入力用!P218=3,入力用!U6,\"\"))","v":""},null,{"$f":"IF(入力用!P219=2,入力用!V5,IF(入力用!P219=3,入力用!V6,IF(入力用!P219=4,入力用!V7,IF(入力用!P219=5,入力用!L219,\"\"))))","v":""}]
[]
[null,null,null,null,null,{"$f":"MID(入力用!$D$207,1,1)","v":""},{"$f":"MID(入力用!$D$207,2,1)","v":""},{"$f":"MID(入力用!$D$207,3,1)","v":""},{"$f":"MID(入力用!$D$207,4,1)","v":""},{"$f":"MID(入力用!$D$207,5,1)","v":""},{"$f":"MID(入力用!$D$207,6,1)","v":""},{"$f":"MID(入力用!$D$207,7,1)","v":""},{"$f":"MID(入力用!$D$207,8,1)","v":""},{"$f":"MID(入力用!$D$207,9,1)","v":""},{"$f":"MID(入力用!$D$207,10,1)","v":""},{"$f":"MID(入力用!$D$207,11,1)","v":""},{"$f":"MID(入力用!$D$207,12,1)","v":""},{"$f":"MID(入力用!$D$207,13,1)","v":""},{"$f":"MID(入力用!$D$207,14,1)","v":""},{"$f":"MID(入力用!$D$207,15,1)","v":""},{"$f":"MID(入力用!$D$207,16,1)","v":""},{"$f":"MID(入力用!$D$207,17,1)","v":""},{"$f":"MID(入力用!$D$207,18,1)","v":""},{"$f":"MID(入力用!$D$207,19,1)","v":""},{"$f":"MID(入力用!$D$207,20,1)","v":""}]
[null,null,null,null,null,null,null,null,null,null,null,null,null,null,null,null,null,null,null,null,null,null,null,null,null,{"$f":"IF(入力用!P220=2,入力用!S5,IF(入力用!P220=3,入力用!S6,IF(入力用!P220=4,入力用!S7,IF(入力用!P220=5,入力用!S8,IF(入力用!P220=6,入力用!L220,\"\")))))","v":""},null,null,null,null,null,null,null,null,null,null,null,null,{"$f":"IF(入力用!D221=\"\",\"\",入力用!D221)","v":""},null,null,null,null,null,"W",null,{"$f":"IF(入力用!P222=2,入力用!T5,IF(入力用!P222=3,入力用!T6,\"\"))","v":""},null,null,null,null,null,{"$f":"IF(入力用!D223=\"\",\"\",入力用!D223)","v":""},null,null,null,null,null,"VA",null,{"$f":"IF(入力用!D224=\"\",\"\",入力用!D224)","v":""},null,null,null,null,{"$f":"IF(入力用!P224=2,入力用!U5,IF(入力用!P224=3,入力用!U6,\"\"))","v":""},null,{"$f":"IF(入力用!P225=2,入力用!V5,IF(入力用!P225=3,入力用!V6,IF(入力用!P225=4,入力用!V7,IF(入力用!P225=5,入力用!L225,\"\"))))","v":""}]
[null,null,null,null,null,{"$f":"MID(入力用!$D$207,21,1)","v":""},{"$f":"MID(入力用!$D$207,22,1)","v":""},{"$f":"MID(入力用!$D$207,23,1)","v":""},{"$f":"MID(入力用!$D$207,24,1)","v":""},{"$f":"MID(入力用!$D$207,25,1)","v":""},{"$f":"MID(入力用!$D$207,26,1)","v":""},{"$f":"MID(入力用!$D$207,27,1)","v":""},{"$f":"MID(入力用!$D$207,28,1)","v":""},{"$f":"MID(入力用!$D$207,29,1)","v":""},{"$f":"MID(入力用!$D$207,30,1)","v":""},{"$f":"MID(入力用!$D$207,31,1)","v":""},{"$f":"MID(入力用!$D$207,32,1)","v":""},{"$f":"MID(入力用!$D$207,33,1)","v":""},{"$f":"MID(入力用!$D$207,34,1)","v":""},{"$f":"MID(入力用!$D$207,35,1)","v":""},{"$f":"MID(入力用!$D$207,36,1)","v":""},{"$f":"MID(入力用!$D$207,37,1)","v":""},{"$f":"MID(入力用!$D$207,38,1)","v":""},{"$f":"MID(入力用!$D$207,39,1)","v":""},{"$f":"MID(入力用!$D$207,40,1)","v":""}]
[]
[]
[null,"　※　太枠内をご記入願います。",null,null,null,null,null,null,null,null,null,null,null,null,null,null,null,null,null,null,null,null,null,null,null,null,null,null,null,null,null,null,null,null,null,null,null,null,null,null,null,null,null,null,null,null,null,null,null,null,null,null,null,null,null,null,null,null,null,null,null,null,null,null,null,null,null,null,null,null,null,null,null,null,null,null,null,null,null,null,null,null,null,null,null,null,null,null,null,null,null,null,null,null,null,null,null,null,null,null,null,"受付"]
[]
[null,"　※　ご契約者さまが法人の場合は，代表者肩書および代表者名を"]
[]
[null,"　　　あわせてご記入願います。",null,null,null,null,null,null,null,null,null,null,null,null,null,null,null,null,null,null,null,null,null,null,null,null,null,null,null,null,null,null,null,null,null,null,null,null,null,"受　電\n希望日"]
[null,null,null,null,null,null,null,null,null,null,null,null,null,null,null,null,null,null,null,null,null,null,null,null,null,null,null,null,null,null,null,null,null,null,null,null,null,null,null,null,null,null,null,null,{"$f":"IF(入力用!D25=\"\",\"\",入力用!D25)","v":""},null,null,null,null,null,null,null,null,{"$f":"IF(入力用!F25=\"\",\"\",入力用!F25)","v":""},null,null,null,null,null,null,null,{"$f":"IF(入力用!I25=\"\",\"\",入力用!I25)","v":""}]
[null,"　※　ご提供いただいた個人情報は，電気事業の範囲内で利用いたします。",null,null,null,null,null,null,null,null,null,null,null,null,null,null,null,null,null,null,null,null,null,null,null,null,null,null,null,null,null,null,null,null,null,null,null,null,null,null,null,null,null,null,null,null,null,null,null,null,"年",null,null,null,null,null,null,null,"月",null,null,null,null,null,null,null,"日"]
[]
[]
[null,null,null,null,"拝啓　平素は弊社事業に格別のお引き立てを賜り，厚くお礼申し上げます。５６７８９０"]
[]
[]
[null,null,null,null,"　さて，御社よりお申込みをいただきました上記お客さまの電気のご使用につきまして，"]
[]
[]
[null,null,null,null,"本内容にて受付させていただきましたことをお知らせいたします。１２３４５６７８９０"]
[]
[]
[null,null,null,null,"１２３４５６７８９０１２３４５６７８９０１２３４５６７８９０１２３４５６７８敬具０"]
[]
[]
[]
[]
[]
[]
["北　海　道　電　力　ネ　ッ　ト　ワ　ー　ク　株　式　会　社"]

{"sheet":"２枚目","index":2,"n_rows":165,"n_cols":111,"rows_kept":165,"cut":false,"hidden":false,"merged":[[1,93,5,109],[127,102,135,104],[130,25,132,37],[130,38,132,43],[130,44,132,45],[130,46,132,51],[130,52,132,57],[130,58,132,59],[130,60,132,64],[130,65,132,66],[130,67,132,78],[133,25,135,37],[133,38,135,43],[133,44,135,45],[133,46,135,51],[133,52,135,57],[133,58,135,59],[133,60,135,64],[133,65,135,66],[133,67,135,78],[127,65,129,66],[127,67,129,78],[127,79,135,82],[127,83,135,85],[127,86,135,87],[127,88,135,90],[127,91,135,94],[127,95,135,97],[127,98,135,101],[127,1,135,4],[127,5,131,24],[127,25,129,37],[127,38,129,43],[127,44,129,45],[127,46,129,51],[127,52,129,57],[127,58,129,59],[127,60,129,64],[132,5,133,5],[134,5,135,5],[132,19,133,19],[132,20,133,20],[132,21,133,21],[132,22,133,22],[132,23,133,23],[132,24,133,24],[132,7,133,7],[132,8,133,8],[132,9,133,9],[118,102,126,104],[121,25,123,37],[121,38,123,43],[121,44,123,45],[121,46,123,51],[121,52,123,57],[121,58,123,59],[121,60,123,64],[121,65,123,66],[121,67,123,78],[124,25,126,37],[124,38,126,43],[124,44,126,45],[124,46,126,51],[124,52,126,57],[124,58,126,59],[124,60,126,64],[124,65,126,66],[124,67,126,78],[118,65,120,66],[118,67,120,78],[118,79,126,82],[118,83,126,85],[118,86,126,87],[118,88,126,90],[118,91,126,94],[118,95,126,97],[118,98,126,101],[118,1,126,4],[118,5,122,24],[118,25,120,37],[118,38,120,43],[118,44,120,45],[118,46,120,51],[118,52,120,57],[118,58,120,59],[118,60,120,64],[123,5,124,5],[125,5,126,5],[109,102,117,104],[112,25,114,37],[112,38,114,43],[112,44,114,45],[112,46,114,51],[112,52,114,57],[112,58,114,59],[112,60,114,64],[112,65,114,66],[112,67,114,78],[115,25,117,37],[115,38,117,43],[115,44,117,45],[115,46,117,51],[115,52,117,57],[115,58,117,59],[115,60,117,64],[115,65,117,66],[115,67,117,78],[109,65,111,66],[109,67,111,78],[109,79,117,82],[109,83,117,85],[109,86,117,87],[109,88,117,90],[109,91,117,94],[109,95,117,97],[109,98,117,101],[109,1,117,4],[109,5,113,24],[109,25,111,37],[109,38,111,43],[109,44,111,45],[109,46,111,51],[109,52,111,57],[109,58,111,59],[109,60,111,64],[114,5,115,5],[116,5,117,5],[114,21,115,21],[114,22,115,22],[114,23,115,23],[114,6,115,6],[114,7,115,7],[114,8,115,8],[114,9,115,9],[114,10,115,10],[114,11,115,11],[100,88,108,90],[100,91,108,94],[100,95,108,97],[100,98,108,101],[100,102,108,104],[103,25,105,37],[103,38,105,43],[103,44,105,45],[103,46,105,51],[103,52,105,57],[103,58,105,59],[103,60,105,64],[103,65,105,66],[103,67,105,78],[106,25,108,37],[106,38,108,43],[106,44,108,45],[106,46,108,51],[106,52,108,57],[106,58,108,59],[106,60,108,64],[106,65,108,66],[106,67,108,78],[100,46,102,51],[100,52,102,57],[100,58,102,59],[100,60,102,64],[100,65,102,66],[100,67,102,78],[100,79,108,82],[100,83,108,85],[100,86,108,87],[89,5,90,5],[100,5,104,24],[105,5,106,5],[107,5,108,5],[82,79,90,82],[82,83,90,85],[82,86,90,87],[107,6,108,6],[107,7,108,7],[107,8,108,8],[107,9,108,9],[107,10,108,10],[107,11,108,11],[107,12,108,12],[107,13,108,13],[94,65,96,66],[91,1,99,4],[91,5,95,24],[91,25,93,37],[91,38,93,43],[91,44,93,45],[91,46,93,51],[91,52,93,57],[91,58,93,59],[94,25,96,37],[94,38,96,43],[94,44,96,45],[94,46,96,51],[94,52,96,57],[94,58,96,59],[96,5,97,5],[97,25,99,37],[97,38,99,43],[97,44,99,45],[97,46,99,51],[97,52,99,57],[97,58,99,59],[98,5,99,5],[98,6,99,6],[98,7,99,7],[82,1,90,4],[82,5,86,24],[82,25,84,37],[82,38,84,43],[82,44,84,45],[82,46,84,51],[82,52,84,57],[82,58,84,59],[82,60,84,64],[85,25,87,37],[85,38,87,43],[85,44,87,45],[85,46,87,51],[85,52,87,57],[85,58,87,59],[85,60,87,64],[87,5,88,5],[88,25,90,37],[88,38,90,43],[88,44,90,45],[88,46,90,51],[88,52,90,57],[88,58,90,59],[88,60,90,64],[73,102,81,104],[76,25,78,37],[76,38,78,43],[76,44,78,45],[76,46,78,51],[76,52,78,57],[76,58,78,59],[76,60,78,64],[76,65,78,66],[76,67,78,78],[79,25,81,37],[79,38,81,43],[79,44,81,45],[79,46,81,51],[79,52,81,57],[79,58,81,59],[79,60,81,64],[79,65,81,66],[79,67,81,78],[73,65,75,66],[73,67,75,78],[73,79,81,82],[73,83,81,85],[73,86,81,87],[73,88,81,90],[73,91,81,94],[73,95,81,97],[73,98,81,101],[73,1,81,4],[73,5,77,24],[73,25,75,37],[73,38,75,43],[73,44,75,45],[73,46,75,51],[73,52,75,57],[73,58,75,59],[73,60,75,64],[78,5,79,5],[80,5,81,5],[80,14,81,14],[70,25,72,37],[70,38,72,43],[70,44,72,45],[70,46,72,51],[70,52,72,57],[70,58,72,59],[70,60,72,64],[70,65,72,66],[70,67,72,78],[67,25,69,37],[67,38,69,43],[67,44,69,45],[67,46,69,51],[67,52,69,57],[67,58,69,59],[67,60,69,64],[67,65,69,66],[67,67,69,78],[64,1,72,4],[64,5,68,24],[64,25,66,37],[64,38,66,43],[64,44,66,45],[64,46,66,51],[64,52,66,57],[64,58,66,59],[64,60,66,64],[69,5,70,5],[71,5,72,5],[69,16,70,16],[69,17,70,17],[69,18,70,18],[69,19,70,19],[69,20,70,20],[69,21,70,21],[69,22,70,22],[69,23,70,23],[69,6,70,6],[69,7,70,7],[69,8,70,8],[69,9,70,9],[69,10,70,10],[60,5,61,5],[61,25,63,37],[61,38,63,43],[61,44,63,45],[61,46,63,51],[61,52,63,57],[61,58,63,59],[61,60,63,64],[61,65,63,66],[62,5,63,5],[62,24,63,24],[60,19,61,19],[60,20,61,20],[60,21,61,21],[60,22,61,22],[60,23,61,23],[60,24,61,24],[55,25,57,37],[55,38,57,43],[55,44,57,45],[55,46,57,51],[55,52,57,57],[55,58,57,59],[55,60,57,64],[55,65,57,66],[55,67,57,78],[58,25,60,37],[58,38,60,43],[58,44,60,45],[58,46,60,51],[58,52,60,57],[58,58,60,59],[58,60,60,64],[58,65,60,66],[58,67,60,78],[52,44,54,45],[52,46,54,51],[52,52,54,57],[52,58,54,59],[52,60,54,64],[52,65,54,66],[52,67,54,78],[46,65,48,66],[46,67,48,78],[46,1,54,4],[46,5,50,24],[46,25,48,37],[46,38,48,43],[46,44,48,45],[46,46,48,51],[46,52,48,57],[46,58,48,59],[46,60,48,64],[51,5,52,5],[53,5,54,5],[53,14,54,14],[53,24,54,24],[53,15,54,15],[53,16,54,16],[49,25,51,37],[49,38,51,43],[49,44,51,45],[49,46,51,51],[49,52,51,57],[49,58,51,59],[49,60,51,64],[52,25,54,37],[52,38,54,43],[42,1,45,4],[42,5,43,24],[42,25,43,78],[42,79,43,110],[44,5,45,24],[44,25,45,37],[44,38,45,45],[44,46,45,51],[44,52,45,59],[44,60,45,66],[44,67,45,78],[44,79,45,82],[44,83,45,85],[44,86,45,87],[44,88,45,90],[44,91,45,94],[44,95,45,97],[44,98,45,101],[44,102,45,104],[100,25,102,37],[137,101,144,102],[28,64,33,68],[32,63,33,63],[32,52,33,56],[142,61,144,65],[142,53,144,57],[137,103,144,110],[136,75,142,79],[136,80,142,84],[136,85,142,89],[143,75,144,79],[143,80,144,84],[143,85,144,89],[34,86,41,95],[34,101,41,110],[32,57,33,57],[32,58,33,62],[28,16,30,63],[31,16,33,41],[32,42,33,45],[32,46,33,50],[32,51,33,51],[46,88,54,90],[132,6,133,6],[143,58,144,60],[78,17,79,17],[142,44,144,49],[78,21,79,21],[78,22,79,22],[78,23,79,23],[78,24,79,24],[80,6,81,6],[80,7,81,7],[107,14,108,14],[96,13,97,13],[96,14,97,14],[96,15,97,15],[96,16,97,16],[96,17,97,17],[96,18,97,18],[80,8,81,8],[80,9,81,9],[80,10,81,10],[80,11,81,11],[80,12,81,12],[80,13,81,13],[143,50,144,52],[6,0,9,110],[13,64,15,68],[13,85,15,89],[13,69,15,84],[10,1,11,25],[12,1,13,38],[13,90,15,110],[162,0,163,110],[149,3,151,109],[152,3,154,109],[155,3,157,109],[146,3,148,109],[136,39,144,43],[136,69,144,74],[51,15,52,15],[51,16,52,16],[51,17,52,17],[78,6,79,6],[78,7,79,7],[78,8,79,8],[78,9,79,9],[78,10,79,10],[143,66,144,68],[46,108,54,110],[46,105,54,107],[44,105,45,107],[44,108,45,110],[51,6,52,6],[51,7,52,7],[51,8,52,8],[62,6,63,6],[62,7,63,7],[62,8,63,8],[62,9,63,9],[62,10,63,10],[62,11,63,11],[62,12,63,12],[62,13,63,13],[62,14,63,14],[62,15,63,15],[62,16,63,16],[62,17,63,17],[62,18,63,18],[62,19,63,19],[62,20,63,20],[62,21,63,21],[62,22,63,22],[62,23,63,23],[55,1,63,4],[55,5,59,24],[78,11,79,11],[78,12,79,12],[78,13,79,13],[78,14,79,14],[78,15,79,15],[78,16,79,16],[78,18,79,18],[78,19,79,19],[78,20,79,20],[60,6,61,6],[60,7,61,7],[60,8,61,8],[60,9,61,9],[60,10,61,10],[60,11,61,11],[60,12,61,12],[60,13,61,13],[60,14,61,14],[60,15,61,15],[60,16,61,16],[60,17,61,17],[60,18,61,18],[87,6,88,6],[96,6,97,6],[96,7,97,7],[96,8,97,8],[96,9,97,9],[96,10,97,10],[96,11,97,11],[96,12,97,12],[91,108,99,110],[91,105,99,107],[91,67,93,78],[91,79,99,82],[91,83,99,85],[91,86,99,87],[91,88,99,90],[91,91,99,94],[91,95,99,97],[91,98,99,101],[91,102,99,104],[94,67,96,78],[97,67,99,78],[82,108,90,110],[82,65,84,66],[82,67,84,78],[82,88,90,90],[82,91,90,94],[82,95,90,97],[82,98,90,101],[82,102,90,104],[85,65,87,66],[85,67,87,78],[88,65,90,66],[107,15,108,15],[107,16,108,16],[107,17,108,17],[107,18,108,18],[107,19,108,19],[107,20,108,20],[107,21,108,21],[107,22,108,22],[107,23,108,23],[107,24,108,24],[100,38,102,43],[100,44,102,45],[88,67,90,78],[91,60,93,64],[91,65,93,66],[94,60,96,64],[100,1,108,4],[109,108,117,110],[118,105,126,107],[118,108,126,110],[123,8,124,8],[123,9,124,9],[123,10,124,10],[123,11,124,11],[123,12,124,12],[123,13,124,13],[123,14,124,14],[123,15,124,15],[123,16,124,16],[123,17,124,17],[123,18,124,18],[123,19,124,19],[123,20,124,20],[105,22,106,22],[105,23,106,23],[105,24,106,24],[114,17,115,17],[114,18,115,18],[114,19,115,19],[114,20,115,20],[127,108,135,110],[127,105,135,107],[109,105,117,107],[24,69,25,110],[16,75,19,110],[141,1,142,38],[21,20,22,38],[139,1,140,38],[23,16,27,63],[37,51,39,80],[20,100,21,102],[21,39,22,46],[21,47,22,63],[28,69,31,74],[28,75,31,110],[20,103,21,103],[73,105,81,107],[73,108,81,110],[82,105,90,107],[100,108,108,110],[100,105,108,107],[16,1,41,5],[16,64,27,68],[16,11,20,63],[21,11,22,19],[34,6,41,10],[23,11,27,15],[34,21,41,25],[34,46,41,50],[38,26,41,45],[34,11,41,20],[34,61,36,62],[34,63,36,80],[34,26,35,26],[16,6,22,10],[23,6,33,10],[28,11,33,15],[22,69,23,74],[22,75,23,110],[16,69,19,74],[20,109,21,110],[20,104,21,108],[20,69,21,74],[20,75,21,89],[20,90,21,99],[34,96,41,100],[34,81,41,85],[26,110,27,110],[64,108,72,110],[55,108,63,110],[55,105,63,107],[64,105,72,107],[55,79,63,82],[55,83,63,85],[55,86,63,87],[55,88,63,90],[55,91,63,94],[55,95,63,97],[55,98,63,101],[55,102,63,104],[64,86,72,87],[64,88,72,90],[64,91,72,94],[64,95,72,97],[64,98,72,101],[64,102,72,104],[26,69,27,88],[26,89,27,92],[26,93,27,97],[26,98,27,98],[32,105,33,109],[26,99,27,103],[26,104,27,104],[26,105,27,109],[32,110,33,110],[32,75,33,88],[32,69,33,74],[40,74,41,74],[40,75,41,79],[40,80,41,80],[32,93,33,97],[32,98,33,98],[32,99,33,103],[32,104,33,104],[32,89,33,92],[64,65,66,66],[64,67,66,78],[64,79,72,82],[64,83,72,85],[40,69,41,73],[46,91,54,94],[46,95,54,97],[46,98,54,101],[46,102,54,104],[49,65,51,66],[49,67,51,78],[46,79,54,82],[46,83,54,85],[46,86,54,87],[61,67,63,78],[97,60,99,64],[97,65,99,66],[123,6,124,6],[123,7,124,7],[123,21,124,21],[40,51,41,58],[40,59,41,62],[40,63,41,67],[40,68,41,68],[53,17,54,17],[53,18,54,18],[53,19,54,19],[53,20,54,20],[53,21,54,21],[53,22,54,22],[53,23,54,23],[53,6,54,6],[53,7,54,7],[53,8,54,8],[53,9,54,9],[53,10,54,10],[53,11,54,11],[53,12,54,12],[53,13,54,13],[164,0,165,110],[143,1,144,38],[137,1,138,38],[34,39,35,39],[34,40,35,40],[34,41,35,41],[34,42,35,42],[34,43,35,43],[34,44,35,44],[34,45,35,45],[36,44,37,44],[36,45,37,45],[34,51,36,52],[34,30,35,30],[34,31,35,31],[34,32,35,32],[34,33,35,33],[34,34,35,34],[34,35,35,35],[34,53,36,55],[34,56,36,56],[34,57,36,60],[36,39,37,39],[36,40,37,40],[36,41,37,41],[36,42,37,42],[36,43,37,43],[36,26,37,26],[36,27,37,27],[36,28,37,28],[36,29,37,29],[36,30,37,30],[36,31,37,31],[36,32,37,32],[36,33,37,33],[36,34,37,34],[34,36,35,36],[34,37,35,37],[34,38,35,38],[51,9,52,9],[51,10,52,10],[51,11,52,11],[51,12,52,12],[51,13,52,13],[51,14,52,14],[51,18,52,18],[51,19,52,19],[51,20,52,20],[51,21,52,21],[51,22,52,22],[51,23,52,23],[51,24,52,24],[36,35,37,35],[36,36,37,36],[36,37,37,37],[36,38,37,38],[34,27,35,27],[34,28,35,28],[34,29,35,29],[69,11,70,11],[69,12,70,12],[69,13,70,13],[69,14,70,14],[80,23,81,23],[69,24,70,24],[71,6,72,6],[71,7,72,7],[71,8,72,8],[71,9,72,9],[71,10,72,10],[71,11,72,11],[71,12,72,12],[71,13,72,13],[71,14,72,14],[71,15,72,15],[71,16,72,16],[71,17,72,17],[71,18,72,18],[71,19,72,19],[71,20,72,20],[71,21,72,21],[71,22,72,22],[71,23,72,23],[71,24,72,24],[69,15,70,15],[80,24,81,24],[87,19,88,19],[87,20,88,20],[87,21,88,21],[87,22,88,22],[87,23,88,23],[87,24,88,24],[80,15,81,15],[80,16,81,16],[80,17,81,17],[80,18,81,18],[80,19,81,19],[80,20,81,20],[80,21,81,21],[80,22,81,22],[87,7,88,7],[87,8,88,8],[87,9,88,9],[87,10,88,10],[87,11,88,11],[87,12,88,12],[87,13,88,13],[87,14,88,14],[87,15,88,15],[89,6,90,6],[89,7,90,7],[89,8,90,8],[89,9,90,9],[89,10,90,10],[89,11,90,11],[89,12,90,12],[89,13,90,13],[89,14,90,14],[89,15,90,15],[89,16,90,16],[89,17,90,17],[89,18,90,18],[89,19,90,19],[89,20,90,20],[89,21,90,21],[89,22,90,22],[89,23,90,23],[89,24,90,24],[87,16,88,16],[87,17,88,17],[87,18,88,18],[96,19,97,19],[96,20,97,20],[96,21,97,21],[96,22,97,22],[96,23,97,23],[96,24,97,24],[98,8,99,8],[98,9,99,9],[98,10,99,10],[98,11,99,11],[98,12,99,12],[98,13,99,13],[98,14,99,14],[98,15,99,15],[98,16,99,16],[98,17,99,17],[98,18,99,18],[98,19,99,19],[98,20,99,20],[98,21,99,21],[98,22,99,22],[98,23,99,23],[98,24,99,24],[105,6,106,6],[105,7,106,7],[105,8,106,8],[105,9,106,9],[105,10,106,10],[105,11,106,11],[105,12,106,12],[105,13,106,13],[105,14,106,14],[105,15,106,15],[105,16,106,16],[105,17,106,17],[105,18,106,18],[105,19,106,19],[105,20,106,20],[105,21,106,21],[114,13,115,13],[114,14,115,14],[114,24,115,24],[116,6,117,6],[116,7,117,7],[116,8,117,8],[116,9,117,9],[116,10,117,10],[116,11,117,11],[116,12,117,12],[116,13,117,13],[116,14,117,14],[116,15,117,15],[116,16,117,16],[116,17,117,17],[116,18,117,18],[116,19,117,19],[116,20,117,20],[116,21,117,21],[116,22,117,22],[116,23,117,23],[116,24,117,24],[114,15,115,15],[114,16,115,16],[123,22,124,22],[123,23,124,23],[123,24,124,24],[125,6,126,6],[125,7,126,7],[125,8,126,8],[125,9,126,9],[125,10,126,10],[125,11,126,11],[125,12,126,12],[125,13,126,13],[125,14,126,14],[125,15,126,15],[125,16,126,16],[125,17,126,17],[125,18,126,18],[125,19,126,19],[125,20,126,20],[125,21,126,21],[125,22,126,22],[125,23,126,23],[125,24,126,24],[114,12,115,12],[134,6,135,6],[134,7,135,7],[134,8,135,8],[134,9,135,9],[134,10,135,10],[134,11,135,11],[134,12,135,12],[134,13,135,13],[134,14,135,14],[134,22,135,22],[134,23,135,23],[134,24,135,24],[132,10,133,10],[132,11,133,11],[132,12,133,12],[132,13,133,13],[132,14,133,14],[132,15,133,15],[134,15,135,15],[132,16,133,16],[132,17,133,17],[132,18,133,18],[134,16,135,16],[134,17,135,17],[134,18,135,18],[134,19,135,19],[134,20,135,20],[134,21,135,21]]}
[]
[null,null,null,null,null,null,null,null,null,null,null,null,null,null,null,null,null,null,null,null,null,null,null,null,null,null,null,null,null,null,null,null,null,null,null,null,null,null,null,null,null,null,null,null,null,null,null,null,null,null,null,null,null,null,null,null,null,null,null,null,null,null,null,null,null,null,null,null,null,null,null,null,null,null,null,null,null,null,null,null,null,null,null,null,null,null,null,null,null,null,null,null,null,"離島等供給用"]
[]
[]
[]
[]
["定額制一括電気使用申込書（お客さま控）"]
[]
[]
[]
[null,"北海道電力ネットワーク株式会社　御中"]
[]
[null,"電気の使用について貴社離島等供給約款[低圧用]を承認のうえ申し込みます。"]
[null,null,null,null,null,null,null,null,null,null,null,null,null,null,null,null,null,null,null,null,null,null,null,null,null,null,null,null,null,null,null,null,null,null,null,null,null,null,null,null,null,null,null,null,null,null,null,null,null,null,null,null,null,null,null,null,null,null,null,null,null,null,null,null,"受付扱所名",null,null,null,null,null,null,null,null,null,null,null,null,null,null,null,null,null,null,null,null,"受付№"]
[]
[]
[null,"お 客 さ ま",null,null,null,null,"ご契約\n名　義",null,null,null,null,{"$f":"IF(入力用!D3=\"\",\"\",入力用!D3)","v":""},null,null,null,null,null,null,null,null,null,null,null,null,null,null,null,null,null,null,null,null,null,null,null,null,null,null,null,null,null,null,null,null,null,null,null,null,null,null,null,null,null,null,null,null,null,null,null,null,null,null,null,null,"電気工事会社",null,null,null,null," 会社名",null,null,null,null,null,{"$f":"IF(入力用!D9=\"\",\"\",入力用!D9)","v":""}]
[]
[]
[]
[null,null,null,null,null,null,null,null,null,null,null,null,null,null,null,null,null,null,null,null,null,null,null,null,null,null,null,null,null,null,null,null,null,null,null,null,null,null,null,null,null,null,null,null,null,null,null,null,null,null,null,null,null,null,null,null,null,null,null,null,null,null,null,null,null,null,null,null,null,"(担当者)",null,null,null,null,null,{"$f":"IF(入力用!D10=\"\",\"\",入力用!D10)","v":""},null,null,null,null,null,null,null,null,null,null,null,null,null,null,"工事会社№（",null,null,null,null,null,null,null,null,null,{"$f":"IF(入力用!D11=\"\",\"\",入力用!D11)","v":""},null,null,"-",{"$f":"IF(入力用!F11=\"\",\"\",入力用!F11)","v":""},null,null,null,null,")"]
[null,null,null,null,null,null,null,null,null,null,null,"（代表者肩書）",null,null,null,null,null,null,null,null,{"$f":"IF(入力用!D4=\"\",\"\",入力用!D4)","v":""},null,null,null,null,null,null,null,null,null,null,null,null,null,null,null,null,null,null,"（代表者名）",null,null,null,null,null,null,null,{"$f":"IF(入力用!D5=\"\",\"\",入力用!D5)","v":""}]
[null,null,null,null,null,null,null,null,null,null,null,null,null,null,null,null,null,null,null,null,null,null,null,null,null,null,null,null,null,null,null,null,null,null,null,null,null,null,null,null,null,null,null,null,null,null,null,null,null,null,null,null,null,null,null,null,null,null,null,null,null,null,null,null,null,null,null,null,null," 住　所",null,null,null,null,null,{"$f":"LEFT(入力用!D12,23)","v":""}]
[null,null,null,null,null,null,"街路灯\n管　理\n責任者",null,null,null,null,"氏　名",null,null,null,null,{"$f":"IF(入力用!D6=\"\",\"\",入力用!D6)","v":""}]
[null,null,null,null,null,null,null,null,null,null,null,null,null,null,null,null,null,null,null,null,null,null,null,null,null,null,null,null,null,null,null,null,null,null,null,null,null,null,null,null,null,null,null,null,null,null,null,null,null,null,null,null,null,null,null,null,null,null,null,null,null,null,null,null,null,null,null,null,null,{"$f":"MID(入力用!D12,24,27)","v":""}]
[]
[null,null,null,null,null,null,null,null,null,null,null,null,null,null,null,null,null,null,null,null,null,null,null,null,null,null,null,null,null,null,null,null,null,null,null,null,null,null,null,null,null,null,null,null,null,null,null,null,null,null,null,null,null,null,null,null,null,null,null,null,null,null,null,null,null,null,null,null,null,{"$f":"MID(入力用!D12,51,13)","v":""},null,null,null,null,null,null,null,null,null,null,null,null,null,null,null,null,null,null,null,"電話(",null,null,null,{"$f":"IF(入力用!D13=\"\",\"\",入力用!D13)","v":""},null,null,null,null,"-",{"$f":"IF(入力用!F13=\"\",\"\",入力用!F13)","v":""},null,null,null,null,"-",{"$f":"IF(入力用!I13=\"\",\"\",入力用!I13)","v":""},null,null,null,null,")"]
[]
[null,null,null,null,null,null,null,null,null,null,null,"住　所",null,null,null,null,{"$f":"LEFT(入力用!D7,31)","v":""},null,null,null,null,null,null,null,null,null,null,null,null,null,null,null,null,null,null,null,null,null,null,null,null,null,null,null,null,null,null,null,null,null,null,null,null,null,null,null,null,null,null,null,null,null,null,null,"建築会社",null,null,null,null," 会社名",null,null,null,null,null,{"$f":"IF(入力用!D14=\"\",\"\",入力用!D14)","v":""}]
[]
[]
[null,null,null,null,null,null,null,null,null,null,null,null,null,null,null,null,{"$f":"MID(入力用!D7,32,17)","v":""}]
[null,null,null,null,null,null,null,null,null,null,null,null,null,null,null,null,null,null,null,null,null,null,null,null,null,null,null,null,null,null,null,null,null,null,null,null,null,null,null,null,null,null,"電話(",null,null,null,{"$f":"IF(入力用!D8=\"\",\"\",入力用!D8)","v":""},null,null,null,null,"-",{"$f":"IF(入力用!F8=\"\",\"\",入力用!F8)","v":""},null,null,null,null,"-",{"$f":"IF(入力用!I8=\"\",\"\",入力用!I8)","v":""},null,null,null,null,")",null,null,null,null,null,"(担当者)",null,null,null,null,null,{"$f":"IF(入力用!D15=\"\",\"\",入力用!D15)","v":""},null,null,null,null,null,null,null,null,null,null,null,null,null,"電話(",null,null,null,{"$f":"IF(入力用!D16=\"\",\"\",入力用!D16)","v":""},null,null,null,null,"-",{"$f":"IF(入力用!F16=\"\",\"\",入力用!F16)","v":""},null,null,null,null,"-",{"$f":"IF(入力用!I16=\"\",\"\",入力用!I16)","v":""},null,null,null,null,")"]
[]
[null,null,null,null,null,null,"お支払\n方　法",null,null,null,null,{"$f":"IF(入力用!P17=2,入力用!P5,IF(入力用!P17=3,入力用!P6,IF(入力用!P17=4,入力用!P7,\"\")))","v":""},null,null,null,null,null,null,null,null,null,"支　払\n者　名",null,null,null,null,{"$f":"MID(入力用!$D$18,1,1)","v":""},{"$f":"MID(入力用!$D$18,2,1)","v":""},{"$f":"MID(入力用!$D$18,3,1)","v":""},{"$f":"MID(入力用!$D$18,4,1)","v":""},{"$f":"MID(入力用!$D$18,5,1)","v":""},{"$f":"MID(入力用!$D$18,6,1)","v":""},{"$f":"MID(入力用!$D$18,7,1)","v":""},{"$f":"MID(入力用!$D$18,8,1)","v":""},{"$f":"MID(入力用!$D$18,9,1)","v":""},{"$f":"MID(入力用!$D$18,10,1)","v":""},{"$f":"MID(入力用!$D$18,11,1)","v":""},{"$f":"MID(入力用!$D$18,12,1)","v":""},{"$f":"MID(入力用!$D$18,13,1)","v":""},{"$f":"MID(入力用!$D$18,14,1)","v":""},{"$f":"MID(入力用!$D$18,15,1)","v":""},{"$f":"MID(入力用!$D$18,16,1)","v":""},{"$f":"MID(入力用!$D$18,17,1)","v":""},{"$f":"MID(入力用!$D$18,18,1)","v":""},{"$f":"MID(入力用!$D$18,19,1)","v":""},{"$f":"MID(入力用!$D$18,20,1)","v":""},"請求書\n送付先",null,null,null,null,"(〒",null,{"$f":"LEFT(入力用!D20,3)","v":""},null,null,"-",{"$f":"RIGHT(入力用!D20,4)","v":""},null,null,null,")",null,{"$f":"IF(入力用!D21=\"同上\",\"\",LEFT(入力用!D21,11))","v":""},null,null,null,null,null,null,null,null,null,null,null,null,null,null,null,null,null,"契約種別",null,null,null,null,{"$f":"IF(入力用!P23=2,入力用!Q5,IF(入力用!P23=3,入力用!Q6,\"\"))","v":""},null,null,null,null,null,null,null,null,null,"供給電気\n方 式 ・\n供給電圧",null,null,null,null,{"$f":"IF(入力用!P24=2,入力用!R5,IF(入力用!P24=3,入力用!R6,IF(P26=4,入力用!R7,\"\")))","v":""}]
[]
[null,null,null,null,null,null,null,null,null,null,null,null,null,null,null,null,null,null,null,null,null,null,null,null,null,null,{"$f":"MID(入力用!$D$18,21,1)","v":""},{"$f":"MID(入力用!$D$18,22,1)","v":""},{"$f":"MID(入力用!$D$18,23,1)","v":""},{"$f":"MID(入力用!$D$18,24,1)","v":""},{"$f":"MID(入力用!$D$18,25,1)","v":""},{"$f":"MID(入力用!$D$18,26,1)","v":""},{"$f":"MID(入力用!$D$18,27,1)","v":""},{"$f":"MID(入力用!$D$18,28,1)","v":""},{"$f":"MID(入力用!$D$18,29,1)","v":""},{"$f":"MID(入力用!$D$18,30,1)","v":""},{"$f":"MID(入力用!$D$18,31,1)","v":""},{"$f":"MID(入力用!$D$18,32,1)","v":""},{"$f":"MID(入力用!$D$18,33,1)","v":""},{"$f":"MID(入力用!$D$18,34,1)","v":""},{"$f":"MID(入力用!$D$18,35,1)","v":""},{"$f":"MID(入力用!$D$18,36,1)","v":""},{"$f":"MID(入力用!$D$18,37,1)","v":""},{"$f":"MID(入力用!$D$18,38,1)","v":""},{"$f":"MID(入力用!$D$18,39,1)","v":""},{"$f":"MID(入力用!$D$18,40,1)","v":""}]
[null,null,null,null,null,null,null,null,null,null,null,null,null,null,null,null,null,null,null,null,null,null,null,null,null,null,null,null,null,null,null,null,null,null,null,null,null,null,null,null,null,null,null,null,null,null,null,null,null,null,null,{"$f":"IF(入力用!D21=\"同上\",入力用!D21,MID(入力用!D21,12,19))","v":""}]
[null,null,null,null,null,null,null,null,null,null,null,null,null,null,null,null,null,null,null,null,null,null,null,null,null,null,{"$f":"IF(入力用!D19=\"\",\"\",入力用!D19)","v":""}]
[]
[null,null,null,null,null,null,null,null,null,null,null,null,null,null,null,null,null,null,null,null,null,null,null,null,null,null,null,null,null,null,null,null,null,null,null,null,null,null,null,null,null,null,null,null,null,null,null,null,null,null,null,{"$f":"MID(入力用!D21,31,5)","v":""},null,null,null,null,null,null,null,"電話(",null,null,null,{"$f":"IF(入力用!D22=\"\",\"\",入力用!D22)","v":""},null,null,null,null,"-",{"$f":"IF(入力用!F22=\"\",\"\",入力用!F22)","v":""},null,null,null,null,"-",{"$f":"IF(入力用!I22=\"\",\"\",入力用!I22)","v":""},null,null,null,null,")"]
[]
[null,"受付№\n枝番",null,null,null,"　（上段）ご　使　用　場　所",null,null,null,null,null,null,null,null,null,null,null,null,null,null,null,null,null,null,null,"契　　　約　　　負　　　荷　　　設　　　備　　　内　　　訳",null,null,null,null,null,null,null,null,null,null,null,null,null,null,null,null,null,null,null,null,null,null,null,null,null,null,null,null,null,null,null,null,null,null,null,null,null,null,null,null,null,null,null,null,null,null,null,null,null,null,null,null,null,"供給地点特定番号"]
[]
[null,null,null,null,null,"　（下段）ご契約名義（カナ）",null,null,null,null,null,null,null,null,null,null,null,null,null,null,null,null,null,null,null,"機　　器　　種　　別",null,null,null,null,null,null,null,null,null,null,null,null,"出　力",null,null,null,null,null,null,null,"力　率",null,null,null,null,null,"入　力",null,null,null,null,null,null,null,"灯 個 数",null,null,null,null,null,null,"取　付　位　置",null,null,null,null,null,null,null,null,null,null,null,null,null,null,null,"発行\n回数",null,null,"支店",null,"ﾌﾞﾛｯｸ",null,null,"住所",null,null,null,"街区",null,null,"契約№",null,null,null,"枝番",null,null,"種別"]
[]
[null,0,null,null,null,{"$f":"IF(入力用!D26=\"\",\"\",入力用!D26)","v":""},null,null,null,null,null,null,null,null,null,null,null,null,null,null,null,null,null,null,null,{"$f":"IF(入力用!P28=2,入力用!S5,IF(入力用!P28=3,入力用!S6,IF(入力用!P28=4,入力用!S7,IF(入力用!P28=5,入力用!S8,IF(入力用!P28=6,入力用!L28,\"\")))))","v":""},null,null,null,null,null,null,null,null,null,null,null,null,{"$f":"IF(入力用!D29=\"\",\"\",入力用!D29)","v":""},null,null,null,null,null,"W",null,{"$f":"IF(入力用!P30=2,入力用!T5,IF(入力用!P30=3,入力用!T6,\"\"))","v":""},null,null,null,null,null,{"$f":"IF(入力用!D31=\"\",\"\",入力用!D31)","v":""},null,null,null,null,null,"VA",null,{"$f":"IF(入力用!D32=\"\",\"\",入力用!D32)","v":""},null,null,null,null,{"$f":"IF(入力用!P32=2,入力用!U5,IF(入力用!P32=3,入力用!U6,\"\"))","v":""},null,{"$f":"IF(入力用!P33=2,入力用!V5,IF(入力用!P33=3,入力用!V6,IF(入力用!P33=4,入力用!V7,IF(入力用!P33=5,入力用!L33,\"\"))))","v":""},null,null,null,null,null,null,null,null,null,null,null,"010",null,null,null,null,null,null,null,null,null,null,null,null,null,null,null,null,null,null,null,null,null,null,null,null,null,null,null,null,"00"]
[]
[]
[null,null,null,null,null,null,null,null,null,null,null,null,null,null,null,null,null,null,null,null,null,null,null,null,null,{"$f":"IF(入力用!P34=2,入力用!S5,IF(入力用!P34=3,入力用!S6,IF(入力用!P34=4,入力用!S7,IF(入力用!P34=5,入力用!S8,IF(入力用!P34=6,入力用!L34,\"\")))))","v":""},null,null,null,null,null,null,null,null,null,null,null,null,{"$f":"IF(入力用!D35=\"\",\"\",入力用!D35)","v":""},null,null,null,null,null,"W",null,{"$f":"IF(入力用!P36=2,入力用!T5,IF(入力用!P36=3,入力用!T6,\"\"))","v":""},null,null,null,null,null,{"$f":"IF(入力用!D37=\"\",\"\",入力用!D37)","v":""},null,null,null,null,null,"VA",null,{"$f":"IF(入力用!D38=\"\",\"\",入力用!D38)","v":""},null,null,null,null,{"$f":"IF(入力用!P38=2,入力用!U5,IF(入力用!P38=3,入力用!U6,\"\"))","v":""},null,{"$f":"IF(入力用!P39=2,入力用!V5,IF(入力用!P39=3,入力用!V6,IF(入力用!P39=4,入力用!V7,IF(入力用!P39=5,入力用!L39,\"\"))))","v":""}]
[]
[null,null,null,null,null,{"$f":"MID(入力用!$D$27,1,1)","v":""},{"$f":"MID(入力用!$D$27,2,1)","v":""},{"$f":"MID(入力用!$D$27,3,1)","v":""},{"$f":"MID(入力用!$D$27,4,1)","v":""},{"$f":"MID(入力用!$D$27,5,1)","v":""},{"$f":"MID(入力用!$D$27,6,1)","v":""},{"$f":"MID(入力用!$D$27,7,1)","v":""},{"$f":"MID(入力用!$D$27,8,1)","v":""},{"$f":"MID(入力用!$D$27,9,1)","v":""},{"$f":"MID(入力用!$D$27,10,1)","v":""},{"$f":"MID(入力用!$D$27,11,1)","v":""},{"$f":"MID(入力用!$D$27,12,1)","v":""},{"$f":"MID(入力用!$D$27,13,1)","v":""},{"$f":"MID(入力用!$D$27,14,1)","v":""},{"$f":"MID(入力用!$D$27,15,1)","v":""},{"$f":"MID(入力用!$D$27,16,1)","v":""},{"$f":"MID(入力用!$D$27,17,1)","v":""},{"$f":"MID(入力用!$D$27,18,1)","v":""},{"$f":"MID(入力用!$D$27,19,1)","v":""},{"$f":"MID(入力用!$D$27,20,1)","v":""}]
[null,null,null,null,null,null,null,null,null,null,null,null,null,null,null,null,null,null,null,null,null,null,null,null,null,{"$f":"IF(入力用!P40=2,入力用!S5,IF(入力用!P40=3,入力用!S6,IF(入力用!P40=4,入力用!S7,IF(入力用!P40=5,入力用!S8,IF(入力用!P40=6,入力用!L40,\"\")))))","v":""},null,null,null,null,null,null,null,null,null,null,null,null,{"$f":"IF(入力用!D41=\"\",\"\",入力用!D41)","v":""},null,null,null,null,null,"W",null,{"$f":"IF(入力用!P42=2,入力用!T5,IF(入力用!P42=3,入力用!T6,\"\"))","v":""},null,null,null,null,null,{"$f":"IF(入力用!D43=\"\",\"\",入力用!D43)","v":""},null,null,null,null,null,"VA",null,{"$f":"IF(入力用!D44=\"\",\"\",入力用!D44)","v":""},null,null,null,null,{"$f":"IF(入力用!P44=2,入力用!U5,IF(入力用!P44=3,入力用!U6,\"\"))","v":""},null,{"$f":"IF(入力用!P45=2,入力用!V5,IF(入力用!P45=3,入力用!V6,IF(入力用!P45=4,入力用!V7,IF(入力用!P45=5,入力用!L45,\"\"))))","v":""}]
[null,null,null,null,null,{"$f":"MID(入力用!$D$27,21,1)","v":""},{"$f":"MID(入力用!$D$27,22,1)","v":""},{"$f":"MID(入力用!$D$27,23,1)","v":""},{"$f":"MID(入力用!$D$27,24,1)","v":""},{"$f":"MID(入力用!$D$27,25,1)","v":""},{"$f":"MID(入力用!$D$27,26,1)","v":""},{"$f":"MID(入力用!$D$27,27,1)","v":""},{"$f":"MID(入力用!$D$27,28,1)","v":""},{"$f":"MID(入力用!$D$27,29,1)","v":""},{"$f":"MID(入力用!$D$27,30,1)","v":""},{"$f":"MID(入力用!$D$27,31,1)","v":""},{"$f":"MID(入力用!$D$27,32,1)","v":""},{"$f":"MID(入力用!$D$27,33,1)","v":""},{"$f":"MID(入力用!$D$27,34,1)","v":""},{"$f":"MID(入力用!$D$27,35,1)","v":""},{"$f":"MID(入力用!$D$27,36,1)","v":""},{"$f":"MID(入力用!$D$27,37,1)","v":""},{"$f":"MID(入力用!$D$27,38,1)","v":""},{"$f":"MID(入力用!$D$27,39,1)","v":""},{"$f":"MID(入力用!$D$27,40,1)","v":""}]
[]
[null,1,null,null,null,{"$f":"IF(入力用!D46=\"\",\"\",入力用!D46)","v":""},null,null,null,null,null,null,null,null,null,null,null,null,null,null,null,null,null,null,null,{"$f":"IF(入力用!P48=2,入力用!S5,IF(入力用!P48=3,入力用!S6,IF(入力用!P48=4,入力用!S7,IF(入力用!P48=5,入力用!S8,IF(入力用!P48=6,入力用!L48,\"\")))))","v":""},null,null,null,null,null,null,null,null,null,null,null,null,{"$f":"IF(入力用!D49=\"\",\"\",入力用!D49)","v":""},null,null,null,null,null,"W",null,{"$f":"IF(入力用!P50=2,入力用!T5,IF(入力用!P50=3,入力用!T6,\"\"))","v":""},null,null,null,null,null,{"$f":"IF(入力用!D51=\"\",\"\",入力用!D51)","v":""},null,null,null,null,null,"VA",null,{"$f":"IF(入力用!D52=\"\",\"\",入力用!D52)","v":""},null,null,null,null,{"$f":"IF(入力用!P52=2,入力用!U5,IF(入力用!P52=3,入力用!U6,\"\"))","v":""},null,{"$f":"IF(入力用!P53=2,入力用!V5,IF(入力用!P53=3,入力用!V6,IF(入力用!P53=4,入力用!V7,IF(入力用!P53=5,入力用!L53,\"\"))))","v":""},null,null,null,null,null,null,null,null,null,null,null,"010",null,null,null,null,null,null,null,null,null,null,null,null,null,null,null,null,null,null,null,null,null,null,null,null,null,null,null,null,"00"]
[]
[]
[null,null,null,null,null,null,null,null,null,null,null,null,null,null,null,null,null,null,null,null,null,null,null,null,null,{"$f":"IF(入力用!P54=2,入力用!S5,IF(入力用!P54=3,入力用!S6,IF(入力用!P54=4,入力用!S7,IF(入力用!P54=5,入力用!S8,IF(入力用!P54=6,入力用!L54,\"\")))))","v":""},null,null,null,null,null,null,null,null,null,null,null,null,{"$f":"IF(入力用!D55=\"\",\"\",入力用!D55)","v":""},null,null,null,null,null,"W",null,{"$f":"IF(入力用!P56=2,入力用!T5,IF(入力用!P56=3,入力用!T6,\"\"))","v":""},null,null,null,null,null,{"$f":"IF(入力用!D57=\"\",\"\",入力用!D57)","v":""},null,null,null,null,null,"VA",null,{"$f":"IF(入力用!D58=\"\",\"\",入力用!D58)","v":""},null,null,null,null,{"$f":"IF(入力用!P58=2,入力用!U5,IF(入力用!P58=3,入力用!U6,\"\"))","v":""},null,{"$f":"IF(入力用!P59=2,入力用!V5,IF(入力用!P59=3,入力用!V6,IF(入力用!P59=4,入力用!V7,IF(入力用!P59=5,入力用!L59,\"\"))))","v":""}]
[]
[null,null,null,null,null,{"$f":"MID(入力用!$D$47,1,1)","v":""},{"$f":"MID(入力用!$D$47,2,1)","v":""},{"$f":"MID(入力用!$D$47,3,1)","v":""},{"$f":"MID(入力用!$D$47,4,1)","v":""},{"$f":"MID(入力用!$D$47,5,1)","v":""},{"$f":"MID(入力用!$D$47,6,1)","v":""},{"$f":"MID(入力用!$D$47,7,1)","v":""},{"$f":"MID(入力用!$D$47,8,1)","v":""},{"$f":"MID(入力用!$D$47,9,1)","v":""},{"$f":"MID(入力用!$D$47,10,1)","v":""},{"$f":"MID(入力用!$D$47,11,1)","v":""},{"$f":"MID(入力用!$D$47,12,1)","v":""},{"$f":"MID(入力用!$D$47,13,1)","v":""},{"$f":"MID(入力用!$D$47,14,1)","v":""},{"$f":"MID(入力用!$D$47,15,1)","v":""},{"$f":"MID(入力用!$D$47,16,1)","v":""},{"$f":"MID(入力用!$D$47,17,1)","v":""},{"$f":"MID(入力用!$D$47,18,1)","v":""},{"$f":"MID(入力用!$D$47,19,1)","v":""},{"$f":"MID(入力用!$D$47,20,1)","v":""}]
[null,null,null,null,null,null,null,null,null,null,null,null,null,null,null,null,null,null,null,null,null,null,null,null,null,{"$f":"IF(入力用!P60=2,入力用!S5,IF(入力用!P60=3,入力用!S6,IF(入力用!P60=4,入力用!S7,IF(入力用!P60=5,入力用!S8,IF(入力用!P60=6,入力用!L60,\"\")))))","v":""},null,null,null,null,null,null,null,null,null,null,null,null,{"$f":"IF(入力用!D61=\"\",\"\",入力用!D61)","v":""},null,null,null,null,null,"W",null,{"$f":"IF(入力用!P62=2,入力用!T5,IF(入力用!P62=3,入力用!T6,\"\"))","v":""},null,null,null,null,null,{"$f":"IF(入力用!D63=\"\",\"\",入力用!D63)","v":""},null,null,null,null,null,"VA",null,{"$f":"IF(入力用!D64=\"\",\"\",入力用!D64)","v":""},null,null,null,null,{"$f":"IF(入力用!P64=2,入力用!U5,IF(入力用!P64=3,入力用!U6,\"\"))","v":""},null,{"$f":"IF(入力用!P65=2,入力用!V5,IF(入力用!P65=3,入力用!V6,IF(入力用!P65=4,入力用!V7,IF(入力用!P65=5,入力用!L65,\"\"))))","v":""}]
[null,null,null,null,null,{"$f":"MID(入力用!$D$47,21,1)","v":""},{"$f":"MID(入力用!$D$47,22,1)","v":""},{"$f":"MID(入力用!$D$47,23,1)","v":""},{"$f":"MID(入力用!$D$47,24,1)","v":""},{"$f":"MID(入力用!$D$47,25,1)","v":""},{"$f":"MID(入力用!$D$47,26,1)","v":""},{"$f":"MID(入力用!$D$47,27,1)","v":""},{"$f":"MID(入力用!$D$47,28,1)","v":""},{"$f":"MID(入力用!$D$47,29,1)","v":""},{"$f":"MID(入力用!$D$47,30,1)","v":""},{"$f":"MID(入力用!$D$47,31,1)","v":""},{"$f":"MID(入力用!$D$47,32,1)","v":""},{"$f":"MID(入力用!$D$47,33,1)","v":""},{"$f":"MID(入力用!$D$47,34,1)","v":""},{"$f":"MID(入力用!$D$47,35,1)","v":""},{"$f":"MID(入力用!$D$47,36,1)","v":""},{"$f":"MID(入力用!$D$47,37,1)","v":""},{"$f":"MID(入力用!$D$47,38,1)","v":""},{"$f":"MID(入力用!$D$47,39,1)","v":""},{"$f":"MID(入力用!$D$47,40,1)","v":""}]
[]
[null,2,null,null,null,{"$f":"IF(入力用!D66=\"\",\"\",入力用!D66)","v":""},null,null,null,null,null,null,null,null,null,null,null,null,null,null,null,null,null,null,null,{"$f":"IF(入力用!P68=2,入力用!S5,IF(入力用!P68=3,入力用!S6,IF(入力用!P68=4,入力用!S7,IF(入力用!P68=5,入力用!S8,IF(入力用!P68=6,入力用!L68,\"\")))))","v":""},null,null,null,null,null,null,null,null,null,null,null,null,{"$f":"IF(入力用!D69=\"\",\"\",入力用!D69)","v":""},null,null,null,null,null,"W",null,{"$f":"IF(入力用!P70=2,入力用!T5,IF(入力用!P70=3,入力用!T6,\"\"))","v":""},null,null,null,null,null,{"$f":"IF(入力用!D71=\"\",\"\",入力用!D71)","v":""},null,null,null,null,null,"VA",null,{"$f":"IF(入力用!D72=\"\",\"\",入力用!D72)","v":""},null,null,null,null,{"$f":"IF(入力用!P72=2,入力用!U5,IF(入力用!P72=3,入力用!U6,\"\"))","v":""},null,{"$f":"IF(入力用!P73=2,入力用!V5,IF(入力用!P73=3,入力用!V6,IF(入力用!P73=4,入力用!V7,IF(入力用!P73=5,入力用!L73,\"\"))))","v":""},null,null,null,null,null,null,null,null,null,null,null,"010",null,null,null,null,null,null,null,null,null,null,null,null,null,null,null,null,null,null,null,null,null,null,null,null,null,null,null,null,"00"]
[]
[]
[null,null,null,null,null,null,null,null,null,null,null,null,null,null,null,null,null,null,null,null,null,null,null,null,null,{"$f":"IF(入力用!P74=2,入力用!S5,IF(入力用!P74=3,入力用!S6,IF(入力用!P74=4,入力用!S7,IF(入力用!P74=5,入力用!S8,IF(入力用!P74=6,入力用!L74,\"\")))))","v":""},null,null,null,null,null,null,null,null,null,null,null,null,{"$f":"IF(入力用!D75=\"\",\"\",入力用!D75)","v":""},null,null,null,null,null,"W",null,{"$f":"IF(入力用!P76=2,入力用!T5,IF(入力用!P76=3,入力用!T6,\"\"))","v":""},null,null,null,null,null,{"$f":"IF(入力用!D77=\"\",\"\",入力用!D77)","v":""},null,null,null,null,null,"VA",null,{"$f":"IF(入力用!D78=\"\",\"\",入力用!D78)","v":""},null,null,null,null,{"$f":"IF(入力用!P78=2,入力用!U5,IF(入力用!P78=3,入力用!U6,\"\"))","v":""},null,{"$f":"IF(入力用!P79=2,入力用!V5,IF(入力用!P79=3,入力用!V6,IF(入力用!P79=4,入力用!V7,IF(入力用!P79=5,入力用!L79,\"\"))))","v":""}]
[]
[null,null,null,null,null,{"$f":"MID(入力用!$D$67,1,1)","v":""},{"$f":"MID(入力用!$D$67,2,1)","v":""},{"$f":"MID(入力用!$D$67,3,1)","v":""},{"$f":"MID(入力用!$D$67,4,1)","v":""},{"$f":"MID(入力用!$D$67,5,1)","v":""},{"$f":"MID(入力用!$D$67,6,1)","v":""},{"$f":"MID(入力用!$D$67,7,1)","v":""},{"$f":"MID(入力用!$D$67,8,1)","v":""},{"$f":"MID(入力用!$D$67,9,1)","v":""},{"$f":"MID(入力用!$D$67,10,1)","v":""},{"$f":"MID(入力用!$D$67,11,1)","v":""},{"$f":"MID(入力用!$D$67,12,1)","v":""},{"$f":"MID(入力用!$D$67,13,1)","v":""},{"$f":"MID(入力用!$D$67,14,1)","v":""},{"$f":"MID(入力用!$D$67,15,1)","v":""},{"$f":"MID(入力用!$D$67,16,1)","v":""},{"$f":"MID(入力用!$D$67,17,1)","v":""},{"$f":"MID(入力用!$D$67,18,1)","v":""},{"$f":"MID(入力用!$D$67,19,1)","v":""},{"$f":"MID(入力用!$D$67,20,1)","v":""}]
[null,null,null,null,null,null,null,null,null,null,null,null,null,null,null,null,null,null,null,null,null,null,null,null,null,{"$f":"IF(入力用!P80=2,入力用!S5,IF(入力用!P80=3,入力用!S6,IF(入力用!P80=4,入力用!S7,IF(入力用!P80=5,入力用!S8,IF(入力用!P80=6,入力用!L80,\"\")))))","v":""},null,null,null,null,null,null,null,null,null,null,null,null,{"$f":"IF(入力用!D81=\"\",\"\",入力用!D81)","v":""},null,null,null,null,null,"W",null,{"$f":"IF(入力用!P82=2,入力用!T5,IF(入力用!P82=3,入力用!T6,\"\"))","v":""},null,null,null,null,null,{"$f":"IF(入力用!D83=\"\",\"\",入力用!D83)","v":""},null,null,null,null,null,"VA",null,{"$f":"IF(入力用!D84=\"\",\"\",入力用!D84)","v":""},null,null,null,null,{"$f":"IF(入力用!P84=2,入力用!U5,IF(入力用!P84=3,入力用!U6,\"\"))","v":""},null,{"$f":"IF(入力用!P85=2,入力用!V5,IF(入力用!P85=3,入力用!V6,IF(入力用!P85=4,入力用!V7,IF(入力用!P85=5,入力用!L85,\"\"))))","v":""}]
[null,null,null,null,null,{"$f":"MID(入力用!$D$67,21,1)","v":""},{"$f":"MID(入力用!$D$67,22,1)","v":""},{"$f":"MID(入力用!$D$67,23,1)","v":""},{"$f":"MID(入力用!$D$67,24,1)","v":""},{"$f":"MID(入力用!$D$67,25,1)","v":""},{"$f":"MID(入力用!$D$67,26,1)","v":""},{"$f":"MID(入力用!$D$67,27,1)","v":""},{"$f":"MID(入力用!$D$67,28,1)","v":""},{"$f":"MID(入力用!$D$67,29,1)","v":""},{"$f":"MID(入力用!$D$67,30,1)","v":""},{"$f":"MID(入力用!$D$67,31,1)","v":""},{"$f":"MID(入力用!$D$67,32,1)","v":""},{"$f":"MID(入力用!$D$67,33,1)","v":""},{"$f":"MID(入力用!$D$67,34,1)","v":""},{"$f":"MID(入力用!$D$67,35,1)","v":""},{"$f":"MID(入力用!$D$67,36,1)","v":""},{"$f":"MID(入力用!$D$67,37,1)","v":""},{"$f":"MID(入力用!$D$67,38,1)","v":""},{"$f":"MID(入力用!$D$67,39,1)","v":""},{"$f":"MID(入力用!$D$67,40,1)","v":""}]
[]
[null,3,null,null,null,{"$f":"IF(入力用!D86=\"\",\"\",入力用!D86)","v":""},null,null,null,null,null,null,null,null,null,null,null,null,null,null,null,null,null,null,null,{"$f":"IF(入力用!P88=2,入力用!S5,IF(入力用!P88=3,入力用!S6,IF(入力用!P88=4,入力用!S7,IF(入力用!P88=5,入力用!S8,IF(入力用!P88=6,入力用!L88,\"\")))))","v":""},null,null,null,null,null,null,null,null,null,null,null,null,{"$f":"IF(入力用!D89=\"\",\"\",入力用!D89)","v":""},null,null,null,null,null,"W",null,{"$f":"IF(入力用!P90=2,入力用!T5,IF(入力用!P90=3,入力用!T6,\"\"))","v":""},null,null,null,null,null,{"$f":"IF(入力用!D91=\"\",\"\",入力用!D91)","v":""},null,null,null,null,null,"VA",null,{"$f":"IF(入力用!D92=\"\",\"\",入力用!D92)","v":""},null,null,null,null,{"$f":"IF(入力用!P92=2,入力用!U5,IF(入力用!P92=3,入力用!U6,\"\"))","v":""},null,{"$f":"IF(入力用!P93=2,入力用!V5,IF(入力用!P93=3,入力用!V6,IF(入力用!P93=4,入力用!V7,IF(入力用!P93=5,入力用!L93,\"\"))))","v":""},null,null,null,null,null,null,null,null,null,null,null,"010",null,null,null,null,null,null,null,null,null,null,null,null,null,null,null,null,null,null,null,null,null,null,null,null,null,null,null,null,"00"]
[]
[]
[null,null,null,null,null,null,null,null,null,null,null,null,null,null,null,null,null,null,null,null,null,null,null,null,null,{"$f":"IF(入力用!P94=2,入力用!S5,IF(入力用!P94=3,入力用!S6,IF(入力用!P94=4,入力用!S7,IF(入力用!P94=5,入力用!S8,IF(入力用!P94=6,入力用!L94,\"\")))))","v":""},null,null,null,null,null,null,null,null,null,null,null,null,{"$f":"IF(入力用!D95=\"\",\"\",入力用!D95)","v":""},null,null,null,null,null,"W",null,{"$f":"IF(入力用!P96=2,入力用!T5,IF(入力用!P96=3,入力用!T6,\"\"))","v":""},null,null,null,null,null,{"$f":"IF(入力用!D97=\"\",\"\",入力用!D97)","v":""},null,null,null,null,null,"VA",null,{"$f":"IF(入力用!D98=\"\",\"\",入力用!D98)","v":""},null,null,null,null,{"$f":"IF(入力用!P98=2,入力用!U5,IF(入力用!P98=3,入力用!U6,\"\"))","v":""},null,{"$f":"IF(入力用!P99=2,入力用!V5,IF(入力用!P99=3,入力用!V6,IF(入力用!P99=4,入力用!V7,IF(入力用!P99=5,入力用!L99,\"\"))))","v":""}]
[]
[null,null,null,null,null,{"$f":"MID(入力用!$D$87,1,1)","v":""},{"$f":"MID(入力用!$D$87,2,1)","v":""},{"$f":"MID(入力用!$D$87,3,1)","v":""},{"$f":"MID(入力用!$D$87,4,1)","v":""},{"$f":"MID(入力用!$D$87,5,1)","v":""},{"$f":"MID(入力用!$D$87,6,1)","v":""},{"$f":"MID(入力用!$D$87,7,1)","v":""},{"$f":"MID(入力用!$D$87,8,1)","v":""},{"$f":"MID(入力用!$D$87,9,1)","v":""},{"$f":"MID(入力用!$D$87,10,1)","v":""},{"$f":"MID(入力用!$D$87,11,1)","v":""},{"$f":"MID(入力用!$D$87,12,1)","v":""},{"$f":"MID(入力用!$D$87,13,1)","v":""},{"$f":"MID(入力用!$D$87,14,1)","v":""},{"$f":"MID(入力用!$D$87,15,1)","v":""},{"$f":"MID(入力用!$D$87,16,1)","v":""},{"$f":"MID(入力用!$D$87,17,1)","v":""},{"$f":"MID(入力用!$D$87,18,1)","v":""},{"$f":"MID(入力用!$D$87,19,1)","v":""},{"$f":"MID(入力用!$D$87,20,1)","v":""}]
[null,null,null,null,null,null,null,null,null,null,null,null,null,null,null,null,null,null,null,null,null,null,null,null,null,{"$f":"IF(入力用!P100=2,入力用!S5,IF(入力用!P100=3,入力用!S6,IF(入力用!P100=4,入力用!S7,IF(入力用!P100=5,入力用!S8,IF(入力用!P100=6,入力用!L100,\"\")))))","v":""},null,null,null,null,null,null,null,null,null,null,null,null,{"$f":"IF(入力用!D101=\"\",\"\",入力用!D101)","v":""},null,null,null,null,null,"W",null,{"$f":"IF(入力用!P102=2,入力用!T5,IF(入力用!P102=3,入力用!T6,\"\"))","v":""},null,null,null,null,null,{"$f":"IF(入力用!D103=\"\",\"\",入力用!D103)","v":""},null,null,null,null,null,"VA",null,{"$f":"IF(入力用!D104=\"\",\"\",入力用!D104)","v":""},null,null,null,null,{"$f":"IF(入力用!P104=2,入力用!U5,IF(入力用!P104=3,入力用!U6,\"\"))","v":""},null,{"$f":"IF(入力用!P105=2,入力用!V5,IF(入力用!P105=3,入力用!V6,IF(入力用!P105=4,入力用!V7,IF(入力用!P105=5,入力用!L105,\"\"))))","v":""}]
[null,null,null,null,null,{"$f":"MID(入力用!$D$87,21,1)","v":""},{"$f":"MID(入力用!$D$87,22,1)","v":""},{"$f":"MID(入力用!$D$87,23,1)","v":""},{"$f":"MID(入力用!$D$87,24,1)","v":""},{"$f":"MID(入力用!$D$87,25,1)","v":""},{"$f":"MID(入力用!$D$87,26,1)","v":""},{"$f":"MID(入力用!$D$87,27,1)","v":""},{"$f":"MID(入力用!$D$87,28,1)","v":""},{"$f":"MID(入力用!$D$87,29,1)","v":""},{"$f":"MID(入力用!$D$87,30,1)","v":""},{"$f":"MID(入力用!$D$87,31,1)","v":""},{"$f":"MID(入力用!$D$87,32,1)","v":""},{"$f":"MID(入力用!$D$87,33,1)","v":""},{"$f":"MID(入力用!$D$87,34,1)","v":""},{"$f":"MID(入力用!$D$87,35,1)","v":""},{"$f":"MID(入力用!$D$87,36,1)","v":""},{"$f":"MID(入力用!$D$87,37,1)","v":""},{"$f":"MID(入力用!$D$87,38,1)","v":""},{"$f":"MID(入力用!$D$87,39,1)","v":""},{"$f":"MID(入力用!$D$87,40,1)","v":""}]
[]
[null,4,null,null,null,{"$f":"IF(入力用!D106=\"\",\"\",入力用!D106)","v":""},null,null,null,null,null,null,null,null,null,null,null,null,null,null,null,null,null,null,null,{"$f":"IF(入力用!P108=2,入力用!S5,IF(入力用!P108=3,入力用!S6,IF(入力用!P108=4,入力用!S7,IF(入力用!P108=5,入力用!S8,IF(入力用!P108=6,入力用!L108,\"\")))))","v":""},null,null,null,null,null,null,null,null,null,null,null,null,{"$f":"IF(入力用!D109=\"\",\"\",入力用!D109)","v":""},null,null,null,null,null,"W",null,{"$f":"IF(入力用!P110=2,入力用!T5,IF(入力用!P110=3,入力用!T6,\"\"))","v":""},null,null,null,null,null,{"$f":"IF(入力用!D111=\"\",\"\",入力用!D111)","v":""},null,null,null,null,null,"VA",null,{"$f":"IF(入力用!D112=\"\",\"\",入力用!D112)","v":""},null,null,null,null,{"$f":"IF(入力用!P112=2,入力用!U5,IF(入力用!P112=3,入力用!U6,\"\"))","v":""},null,{"$f":"IF(入力用!P113=2,入力用!V5,IF(入力用!P113=3,入力用!V6,IF(入力用!P113=4,入力用!V7,IF(入力用!P113=5,入力用!L113,\"\"))))","v":""},null,null,null,null,null,null,null,null,null,null,null,"010",null,null,null,null,null,null,null,null,null,null,null,null,null,null,null,null,null,null,null,null,null,null,null,null,null,null,null,null,"00"]
[]
[]
[null,null,null,null,null,null,null,null,null,null,null,null,null,null,null,null,null,null,null,null,null,null,null,null,null,{"$f":"IF(入力用!P114=2,入力用!S5,IF(入力用!P114=3,入力用!S6,IF(入力用!P114=4,入力用!S7,IF(入力用!P114=5,入力用!S8,IF(入力用!P114=6,入力用!L114,\"\")))))","v":""},null,null,null,null,null,null,null,null,null,null,null,null,{"$f":"IF(入力用!D115=\"\",\"\",入力用!D115)","v":""},null,null,null,null,null,"W",null,{"$f":"IF(入力用!P116=2,入力用!T5,IF(入力用!P116=3,入力用!T6,\"\"))","v":""},null,null,null,null,null,{"$f":"IF(入力用!D117=\"\",\"\",入力用!D117)","v":""},null,null,null,null,null,"VA",null,{"$f":"IF(入力用!D118=\"\",\"\",入力用!D118)","v":""},null,null,null,null,{"$f":"IF(入力用!P118=2,入力用!U5,IF(入力用!P118=3,入力用!U6,\"\"))","v":""},null,{"$f":"IF(入力用!P119=2,入力用!V5,IF(入力用!P119=3,入力用!V6,IF(入力用!P119=4,入力用!V7,IF(入力用!P119=5,入力用!L119,\"\"))))","v":""}]
[]
[null,null,null,null,null,{"$f":"MID(入力用!$D$107,1,1)","v":""},{"$f":"MID(入力用!$D$107,2,1)","v":""},{"$f":"MID(入力用!$D$107,3,1)","v":""},{"$f":"MID(入力用!$D$107,4,1)","v":""},{"$f":"MID(入力用!$D$107,5,1)","v":""},{"$f":"MID(入力用!$D$107,6,1)","v":""},{"$f":"MID(入力用!$D$107,7,1)","v":""},{"$f":"MID(入力用!$D$107,8,1)","v":""},{"$f":"MID(入力用!$D$107,9,1)","v":""},{"$f":"MID(入力用!$D$107,10,1)","v":""},{"$f":"MID(入力用!$D$107,11,1)","v":""},{"$f":"MID(入力用!$D$107,12,1)","v":""},{"$f":"MID(入力用!$D$107,13,1)","v":""},{"$f":"MID(入力用!$D$107,14,1)","v":""},{"$f":"MID(入力用!$D$107,15,1)","v":""},{"$f":"MID(入力用!$D$107,16,1)","v":""},{"$f":"MID(入力用!$D$107,17,1)","v":""},{"$f":"MID(入力用!$D$107,18,1)","v":""},{"$f":"MID(入力用!$D$107,19,1)","v":""},{"$f":"MID(入力用!$D$107,20,1)","v":""}]
[null,null,null,null,null,null,null,null,null,null,null,null,null,null,null,null,null,null,null,null,null,null,null,null,null,{"$f":"IF(入力用!P120=2,入力用!S5,IF(入力用!P120=3,入力用!S6,IF(入力用!P120=4,入力用!S7,IF(入力用!P120=5,入力用!S8,IF(入力用!P120=6,入力用!L120,\"\")))))","v":""},null,null,null,null,null,null,null,null,null,null,null,null,{"$f":"IF(入力用!D121=\"\",\"\",入力用!D121)","v":""},null,null,null,null,null,"W",null,{"$f":"IF(入力用!P122=2,入力用!T5,IF(入力用!P122=3,入力用!T6,\"\"))","v":""},null,null,null,null,null,{"$f":"IF(入力用!D123=\"\",\"\",入力用!D123)","v":""},null,null,null,null,null,"VA",null,{"$f":"IF(入力用!D124=\"\",\"\",入力用!D124)","v":""},null,null,null,null,{"$f":"IF(入力用!P124=2,入力用!U5,IF(入力用!P124=3,入力用!U6,\"\"))","v":""},null,{"$f":"IF(入力用!P125=2,入力用!V5,IF(入力用!P125=3,入力用!V6,IF(入力用!P125=4,入力用!V7,IF(入力用!P125=5,入力用!L125,\"\"))))","v":""}]
[null,null,null,null,null,{"$f":"MID(入力用!$D$107,21,1)","v":""},{"$f":"MID(入力用!$D$107,22,1)","v":""},{"$f":"MID(入力用!$D$107,23,1)","v":""},{"$f":"MID(入力用!$D$107,24,1)","v":""},{"$f":"MID(入力用!$D$107,25,1)","v":""},{"$f":"MID(入力用!$D$107,26,1)","v":""},{"$f":"MID(入力用!$D$107,27,1)","v":""},{"$f":"MID(入力用!$D$107,28,1)","v":""},{"$f":"MID(入力用!$D$107,29,1)","v":""},{"$f":"MID(入力用!$D$107,30,1)","v":""},{"$f":"MID(入力用!$D$107,31,1)","v":""},{"$f":"MID(入力用!$D$107,32,1)","v":""},{"$f":"MID(入力用!$D$107,33,1)","v":""},{"$f":"MID(入力用!$D$107,34,1)","v":""},{"$f":"MID(入力用!$D$107,35,1)","v":""},{"$f":"MID(入力用!$D$107,36,1)","v":""},{"$f":"MID(入力用!$D$107,37,1)","v":""},{"$f":"MID(入力用!$D$107,38,1)","v":""},{"$f":"MID(入力用!$D$107,39,1)","v":""},{"$f":"MID(入力用!$D$107,40,1)","v":""}]
[]
[null,5,null,null,null,{"$f":"IF(入力用!D126=\"\",\"\",入力用!D126)","v":""},null,null,null,null,null,null,null,null,null,null,null,null,null,null,null,null,null,null,null,{"$f":"IF(入力用!P128=2,入力用!S5,IF(入力用!P128=3,入力用!S6,IF(入力用!P128=4,入力用!S7,IF(入力用!P128=5,入力用!S8,IF(入力用!P128=6,入力用!L128,\"\")))))","v":""},null,null,null,null,null,null,null,null,null,null,null,null,{"$f":"IF(入力用!D129=\"\",\"\",入力用!D129)","v":""},null,null,null,null,null,"W",null,{"$f":"IF(入力用!P130=2,入力用!T5,IF(入力用!P130=3,入力用!T6,\"\"))","v":""},null,null,null,null,null,{"$f":"IF(入力用!D131=\"\",\"\",入力用!D131)","v":""},null,null,null,null,null,"VA",null,{"$f":"IF(入力用!D132=\"\",\"\",入力用!D132)","v":""},null,null,null,null,{"$f":"IF(入力用!P132=2,入力用!U5,IF(入力用!P132=3,入力用!U6,\"\"))","v":""},null,{"$f":"IF(入力用!P133=2,入力用!V5,IF(入力用!P133=3,入力用!V6,IF(入力用!P133=4,入力用!V7,IF(入力用!P133=5,入力用!L133,\"\"))))","v":""},null,null,null,null,null,null,null,null,null,null,null,"010",null,null,null,null,null,null,null,null,null,null,null,null,null,null,null,null,null,null,null,null,null,null,null,null,null,null,null,null,"00"]
[]
[]
[null,null,null,null,null,null,null,null,null,null,null,null,null,null,null,null,null,null,null,null,null,null,null,null,null,{"$f":"IF(入力用!P134=2,入力用!S5,IF(入力用!P134=3,入力用!S6,IF(入力用!P134=4,入力用!S7,IF(入力用!P134=5,入力用!S8,IF(入力用!P134=6,入力用!L134,\"\")))))","v":""},null,null,null,null,null,null,null,null,null,null,null,null,{"$f":"IF(入力用!D135=\"\",\"\",入力用!D135)","v":""},null,null,null,null,null,"W",null,{"$f":"IF(入力用!P136=2,入力用!T5,IF(入力用!P136=3,入力用!T6,\"\"))","v":""},null,null,null,null,null,{"$f":"IF(入力用!D137=\"\",\"\",入力用!D137)","v":""},null,null,null,null,null,"VA",null,{"$f":"IF(入力用!D138=\"\",\"\",入力用!D138)","v":""},null,null,null,null,{"$f":"IF(入力用!P138=2,入力用!U5,IF(入力用!P138=3,入力用!U6,\"\"))","v":""},null,{"$f":"IF(入力用!P139=2,入力用!V5,IF(入力用!P139=3,入力用!V6,IF(入力用!P139=4,入力用!V7,IF(入力用!P139=5,入力用!L139,\"\"))))","v":""}]
[]
[null,null,null,null,null,{"$f":"MID(入力用!$D$127,1,1)","v":""},{"$f":"MID(入力用!$D$127,2,1)","v":""},{"$f":"MID(入力用!$D$127,3,1)","v":""},{"$f":"MID(入力用!$D$127,4,1)","v":""},{"$f":"MID(入力用!$D$127,5,1)","v":""},{"$f":"MID(入力用!$D$127,6,1)","v":""},{"$f":"MID(入力用!$D$127,7,1)","v":""},{"$f":"MID(入力用!$D$127,8,1)","v":""},{"$f":"MID(入力用!$D$127,9,1)","v":""},{"$f":"MID(入力用!$D$127,10,1)","v":""},{"$f":"MID(入力用!$D$127,11,1)","v":""},{"$f":"MID(入力用!$D$127,12,1)","v":""},{"$f":"MID(入力用!$D$127,13,1)","v":""},{"$f":"MID(入力用!$D$127,14,1)","v":""},{"$f":"MID(入力用!$D$127,15,1)","v":""},{"$f":"MID(入力用!$D$127,16,1)","v":""},{"$f":"MID(入力用!$D$127,17,1)","v":""},{"$f":"MID(入力用!$D$127,18,1)","v":""},{"$f":"MID(入力用!$D$127,19,1)","v":""},{"$f":"MID(入力用!$D$127,20,1)","v":""}]
[null,null,null,null,null,null,null,null,null,null,null,null,null,null,null,null,null,null,null,null,null,null,null,null,null,{"$f":"IF(入力用!P140=2,入力用!S5,IF(入力用!P140=3,入力用!S6,IF(入力用!P140=4,入力用!S7,IF(入力用!P140=5,入力用!S8,IF(入力用!P140=6,入力用!L140,\"\")))))","v":""},null,null,null,null,null,null,null,null,null,null,null,null,{"$f":"IF(入力用!D141=\"\",\"\",入力用!D141)","v":""},null,null,null,null,null,"W",null,{"$f":"IF(入力用!P142=2,入力用!T5,IF(入力用!P142=3,入力用!T6,\"\"))","v":""},null,null,null,null,null,{"$f":"IF(入力用!D143=\"\",\"\",入力用!D143)","v":""},null,null,null,null,null,"VA",null,{"$f":"IF(入力用!D144=\"\",\"\",入力用!D144)","v":""},null,null,null,null,{"$f":"IF(入力用!P144=2,入力用!U5,IF(入力用!P144=3,入力用!U6,\"\"))","v":""},null,{"$f":"IF(入力用!P145=2,入力用!V5,IF(入力用!P145=3,入力用!V6,IF(入力用!P145=4,入力用!V7,IF(入力用!P145=5,入力用!L145,\"\"))))","v":""}]
[null,null,null,null,null,{"$f":"MID(入力用!$D$127,21,1)","v":""},{"$f":"MID(入力用!$D$127,22,1)","v":""},{"$f":"MID(入力用!$D$127,23,1)","v":""},{"$f":"MID(入力用!$D$127,24,1)","v":""},{"$f":"MID(入力用!$D$127,25,1)","v":""},{"$f":"MID(入力用!$D$127,26,1)","v":""},{"$f":"MID(入力用!$D$127,27,1)","v":""},{"$f":"MID(入力用!$D$127,28,1)","v":""},{"$f":"MID(入力用!$D$127,29,1)","v":""},{"$f":"MID(入力用!$D$127,30,1)","v":""},{"$f":"MID(入力用!$D$127,31,1)","v":""},{"$f":"MID(入力用!$D$127,32,1)","v":""},{"$f":"MID(入力用!$D$127,33,1)","v":""},{"$f":"MID(入力用!$D$127,34,1)","v":""},{"$f":"MID(入力用!$D$127,35,1)","v":""},{"$f":"MID(入力用!$D$127,36,1)","v":""},{"$f":"MID(入力用!$D$127,37,1)","v":""},{"$f":"MID(入力用!$D$127,38,1)","v":""},{"$f":"MID(入力用!$D$127,39,1)","v":""},{"$f":"MID(入力用!$D$127,40,1)","v":""}]
[]
[null,6,null,null,null,{"$f":"IF(入力用!D146=\"\",\"\",入力用!D146)","v":""},null,null,null,null,null,null,null,null,null,null,null,null,null,null,null,null,null,null,null,{"$f":"IF(入力用!P148=2,入力用!S5,IF(入力用!P148=3,入力用!S6,IF(入力用!P148=4,入力用!S7,IF(入力用!P148=5,入力用!S8,IF(入力用!P148=6,入力用!L148,\"\")))))","v":""},null,null,null,null,null,null,null,null,null,null,null,null,{"$f":"IF(入力用!D149=\"\",\"\",入力用!D149)","v":""},null,null,null,null,null,"W",null,{"$f":"IF(入力用!P150=2,入力用!T5,IF(入力用!P150=3,入力用!T6,\"\"))","v":""},null,null,null,null,null,{"$f":"IF(入力用!D151=\"\",\"\",入力用!D151)","v":""},null,null,null,null,null,"VA",null,{"$f":"IF(入力用!D152=\"\",\"\",入力用!D152)","v":""},null,null,null,null,{"$f":"IF(入力用!P152=2,入力用!U5,IF(入力用!P152=3,入力用!U6,\"\"))","v":""},null,{"$f":"IF(入力用!P153=2,入力用!V5,IF(入力用!P153=3,入力用!V6,IF(入力用!P153=4,入力用!V7,IF(入力用!P153=5,入力用!L153,\"\"))))","v":""},null,null,null,null,null,null,null,null,null,null,null,"010",null,null,null,null,null,null,null,null,null,null,null,null,null,null,null,null,null,null,null,null,null,null,null,null,null,null,null,null,"00"]
[]
[]
[null,null,null,null,null,null,null,null,null,null,null,null,null,null,null,null,null,null,null,null,null,null,null,null,null,{"$f":"IF(入力用!P154=2,入力用!S5,IF(入力用!P154=3,入力用!S6,IF(入力用!P154=4,入力用!S7,IF(入力用!P154=5,入力用!S8,IF(入力用!P154=6,入力用!L154,\"\")))))","v":""},null,null,null,null,null,null,null,null,null,null,null,null,{"$f":"IF(入力用!D155=\"\",\"\",入力用!D155)","v":""},null,null,null,null,null,"W",null,{"$f":"IF(入力用!P156=2,入力用!T5,IF(入力用!P156=3,入力用!T6,\"\"))","v":""},null,null,null,null,null,{"$f":"IF(入力用!D157=\"\",\"\",入力用!D157)","v":""},null,null,null,null,null,"VA",null,{"$f":"IF(入力用!D158=\"\",\"\",入力用!D158)","v":""},null,null,null,null,{"$f":"IF(入力用!P158=2,入力用!U5,IF(入力用!P158=3,入力用!U6,\"\"))","v":""},null,{"$f":"IF(入力用!P159=2,入力用!V5,IF(入力用!P159=3,入力用!V6,IF(入力用!P159=4,入力用!V7,IF(入力用!P159=5,入力用!L159,\"\"))))","v":""}]
[]
[null,null,null,null,null,{"$f":"MID(入力用!$D$147,1,1)","v":""},{"$f":"MID(入力用!$D$147,2,1)","v":""},{"$f":"MID(入力用!$D$147,3,1)","v":""},{"$f":"MID(入力用!$D$147,4,1)","v":""},{"$f":"MID(入力用!$D$147,5,1)","v":""},{"$f":"MID(入力用!$D$147,6,1)","v":""},{"$f":"MID(入力用!$D$147,7,1)","v":""},{"$f":"MID(入力用!$D$147,8,1)","v":""},{"$f":"MID(入力用!$D$147,9,1)","v":""},{"$f":"MID(入力用!$D$147,10,1)","v":""},{"$f":"MID(入力用!$D$147,11,1)","v":""},{"$f":"MID(入力用!$D$147,12,1)","v":""},{"$f":"MID(入力用!$D$147,13,1)","v":""},{"$f":"MID(入力用!$D$147,14,1)","v":""},{"$f":"MID(入力用!$D$147,15,1)","v":""},{"$f":"MID(入力用!$D$147,16,1)","v":""},{"$f":"MID(入力用!$D$147,17,1)","v":""},{"$f":"MID(入力用!$D$147,18,1)","v":""},{"$f":"MID(入力用!$D$147,19,1)","v":""},{"$f":"MID(入力用!$D$147,20,1)","v":""}]
[null,null,null,null,null,null,null,null,null,null,null,null,null,null,null,null,null,null,null,null,null,null,null,null,null,{"$f":"IF(入力用!P160=2,入力用!S5,IF(入力用!P160=3,入力用!S6,IF(入力用!P160=4,入力用!S7,IF(入力用!P160=5,入力用!S8,IF(入力用!P160=6,入力用!L160,\"\")))))","v":""},null,null,null,null,null,null,null,null,null,null,null,null,{"$f":"IF(入力用!D161=\"\",\"\",入力用!D161)","v":""},null,null,null,null,null,"W",null,{"$f":"IF(入力用!P162=2,入力用!T5,IF(入力用!P162=3,入力用!T6,\"\"))","v":""},null,null,null,null,null,{"$f":"IF(入力用!D163=\"\",\"\",入力用!D163)","v":""},null,null,null,null,null,"VA",null,{"$f":"IF(入力用!D164=\"\",\"\",入力用!D164)","v":""},null,null,null,null,{"$f":"IF(入力用!P164=2,入力用!U5,IF(入力用!P164=3,入力用!U6,\"\"))","v":""},null,{"$f":"IF(入力用!P165=2,入力用!V5,IF(入力用!P165=3,入力用!V6,IF(入力用!P165=4,入力用!V7,IF(入力用!P165=5,入力用!L165,\"\"))))","v":""}]
[null,null,null,null,null,{"$f":"MID(入力用!$D$147,21,1)","v":""},{"$f":"MID(入力用!$D$147,22,1)","v":""},{"$f":"MID(入力用!$D$147,23,1)","v":""},{"$f":"MID(入力用!$D$147,24,1)","v":""},{"$f":"MID(入力用!$D$147,25,1)","v":""},{"$f":"MID(入力用!$D$147,26,1)","v":""},{"$f":"MID(入力用!$D$147,27,1)","v":""},{"$f":"MID(入力用!$D$147,28,1)","v":""},{"$f":"MID(入力用!$D$147,29,1)","v":""},{"$f":"MID(入力用!$D$147,30,1)","v":""},{"$f":"MID(入力用!$D$147,31,1)","v":""},{"$f":"MID(入力用!$D$147,32,1)","v":""},{"$f":"MID(入力用!$D$147,33,1)","v":""},{"$f":"MID(入力用!$D$147,34,1)","v":""},{"$f":"MID(入力用!$D$147,35,1)","v":""},{"$f":"MID(入力用!$D$147,36,1)","v":""},{"$f":"MID(入力用!$D$147,37,1)","v":""},{"$f":"MID(入力用!$D$147,38,1)","v":""},{"$f":"MID(入力用!$D$147,39,1)","v":""},{"$f":"MID(入力用!$D$147,40,1)","v":""}]
[]
[null,7,null,null,null,{"$f":"IF(入力用!D166=\"\",\"\",入力用!D166)","v":""},null,null,null,null,null,null,null,null,null,null,null,null,null,null,null,null,null,null,null,{"$f":"IF(入力用!P168=2,入力用!S5,IF(入力用!P168=3,入力用!S6,IF(入力用!P168=4,入力用!S7,IF(入力用!P168=5,入力用!S8,IF(入力用!P168=6,入力用!L168,\"\")))))","v":""},null,null,null,null,null,null,null,null,null,null,null,null,{"$f":"IF(入力用!D169=\"\",\"\",入力用!D169)","v":""},null,null,null,null,null,"W",null,{"$f":"IF(入力用!P170=2,入力用!T5,IF(入力用!P170=3,入力用!T6,\"\"))","v":""},null,null,null,null,null,{"$f":"IF(入力用!D171=\"\",\"\",入力用!D171)","v":""},null,null,null,null,null,"VA",null,{"$f":"IF(入力用!D172=\"\",\"\",入力用!D172)","v":""},null,null,null,null,{"$f":"IF(入力用!P172=2,入力用!U5,IF(入力用!P172=3,入力用!U6,\"\"))","v":""},null,{"$f":"IF(入力用!P173=2,入力用!V5,IF(入力用!P173=3,入力用!V6,IF(入力用!P173=4,入力用!V7,IF(入力用!P173=5,入力用!L173,\"\"))))","v":""},null,null,null,null,null,null,null,null,null,null,null,"010",null,null,null,null,null,null,null,null,null,null,null,null,null,null,null,null,null,null,null,null,null,null,null,null,null,null,null,null,"00"]
[]
[]
[null,null,null,null,null,null,null,null,null,null,null,null,null,null,null,null,null,null,null,null,null,null,null,null,null,{"$f":"IF(入力用!P174=2,入力用!S5,IF(入力用!P174=3,入力用!S6,IF(入力用!P174=4,入力用!S7,IF(入力用!P174=5,入力用!S8,IF(入力用!P174=6,入力用!L174,\"\")))))","v":""},null,null,null,null,null,null,null,null,null,null,null,null,{"$f":"IF(入力用!D175=\"\",\"\",入力用!D175)","v":""},null,null,null,null,null,"W",null,{"$f":"IF(入力用!P176=2,入力用!T5,IF(入力用!P176=3,入力用!T6,\"\"))","v":""},null,null,null,null,null,{"$f":"IF(入力用!D177=\"\",\"\",入力用!D177)","v":""},null,null,null,null,null,"VA",null,{"$f":"IF(入力用!D178=\"\",\"\",入力用!D178)","v":""},null,null,null,null,{"$f":"IF(入力用!P178=2,入力用!U5,IF(入力用!P178=3,入力用!U6,\"\"))","v":""},null,{"$f":"IF(入力用!P179=2,入力用!V5,IF(入力用!P179=3,入力用!V6,IF(入力用!P179=4,入力用!V7,IF(入力用!P179=5,入力用!L179,\"\"))))","v":""}]
[]
[null,null,null,null,null,{"$f":"MID(入力用!$D$167,1,1)","v":""},{"$f":"MID(入力用!$D$167,2,1)","v":""},{"$f":"MID(入力用!$D$167,3,1)","v":""},{"$f":"MID(入力用!$D$167,4,1)","v":""},{"$f":"MID(入力用!$D$167,5,1)","v":""},{"$f":"MID(入力用!$D$167,6,1)","v":""},{"$f":"MID(入力用!$D$167,7,1)","v":""},{"$f":"MID(入力用!$D$167,8,1)","v":""},{"$f":"MID(入力用!$D$167,9,1)","v":""},{"$f":"MID(入力用!$D$167,10,1)","v":""},{"$f":"MID(入力用!$D$167,11,1)","v":""},{"$f":"MID(入力用!$D$167,12,1)","v":""},{"$f":"MID(入力用!$D$167,13,1)","v":""},{"$f":"MID(入力用!$D$167,14,1)","v":""},{"$f":"MID(入力用!$D$167,15,1)","v":""},{"$f":"MID(入力用!$D$167,16,1)","v":""},{"$f":"MID(入力用!$D$167,17,1)","v":""},{"$f":"MID(入力用!$D$167,18,1)","v":""},{"$f":"MID(入力用!$D$167,19,1)","v":""},{"$f":"MID(入力用!$D$167,20,1)","v":""}]
[null,null,null,null,null,null,null,null,null,null,null,null,null,null,null,null,null,null,null,null,null,null,null,null,null,{"$f":"IF(入力用!P180=2,入力用!S5,IF(入力用!P180=3,入力用!S6,IF(入力用!P180=4,入力用!S7,IF(入力用!P180=5,入力用!S8,IF(入力用!P180=6,入力用!L180,\"\")))))","v":""},null,null,null,null,null,null,null,null,null,null,null,null,{"$f":"IF(入力用!D181=\"\",\"\",入力用!D181)","v":""},null,null,null,null,null,"W",null,{"$f":"IF(入力用!P182=2,入力用!T5,IF(入力用!P182=3,入力用!T6,\"\"))","v":""},null,null,null,null,null,{"$f":"IF(入力用!D183=\"\",\"\",入力用!D183)","v":""},null,null,null,null,null,"VA",null,{"$f":"IF(入力用!D184=\"\",\"\",入力用!D184)","v":""},null,null,null,null,{"$f":"IF(入力用!P184=2,入力用!U5,IF(入力用!P184=3,入力用!U6,\"\"))","v":""},null,{"$f":"IF(入力用!P185=2,入力用!V5,IF(入力用!P185=3,入力用!V6,IF(入力用!P185=4,入力用!V7,IF(入力用!P185=5,入力用!L185,\"\"))))","v":""}]
[null,null,null,null,null,{"$f":"MID(入力用!$D$167,21,1)","v":""},{"$f":"MID(入力用!$D$167,22,1)","v":""},{"$f":"MID(入力用!$D$167,23,1)","v":""},{"$f":"MID(入力用!$D$167,24,1)","v":""},{"$f":"MID(入力用!$D$167,25,1)","v":""},{"$f":"MID(入力用!$D$167,26,1)","v":""},{"$f":"MID(入力用!$D$167,27,1)","v":""},{"$f":"MID(入力用!$D$167,28,1)","v":""},{"$f":"MID(入力用!$D$167,29,1)","v":""},{"$f":"MID(入力用!$D$167,30,1)","v":""},{"$f":"MID(入力用!$D$167,31,1)","v":""},{"$f":"MID(入力用!$D$167,32,1)","v":""},{"$f":"MID(入力用!$D$167,33,1)","v":""},{"$f":"MID(入力用!$D$167,34,1)","v":""},{"$f":"MID(入力用!$D$167,35,1)","v":""},{"$f":"MID(入力用!$D$167,36,1)","v":""},{"$f":"MID(入力用!$D$167,37,1)","v":""},{"$f":"MID(入力用!$D$167,38,1)","v":""},{"$f":"MID(入力用!$D$167,39,1)","v":""},{"$f":"MID(入力用!$D$167,40,1)","v":""}]
[]
[null,8,null,null,null,{"$f":"IF(入力用!D186=\"\",\"\",入力用!D186)","v":""},null,null,null,null,null,null,null,null,null,null,null,null,null,null,null,null,null,null,null,{"$f":"IF(入力用!P188=2,入力用!S5,IF(入力用!P188=3,入力用!S6,IF(入力用!P188=4,入力用!S7,IF(入力用!P188=5,入力用!S8,IF(入力用!P188=6,入力用!L188,\"\")))))","v":""},null,null,null,null,null,null,null,null,null,null,null,null,{"$f":"IF(入力用!D189=\"\",\"\",入力用!D189)","v":""},null,null,null,null,null,"W",null,{"$f":"IF(入力用!P190=2,入力用!T5,IF(入力用!P190=3,入力用!T6,\"\"))","v":""},null,null,null,null,null,{"$f":"IF(入力用!D191=\"\",\"\",入力用!D191)","v":""},null,null,null,null,null,"VA",null,{"$f":"IF(入力用!D192=\"\",\"\",入力用!D192)","v":""},null,null,null,null,{"$f":"IF(入力用!P192=2,入力用!U5,IF(入力用!P192=3,入力用!U6,\"\"))","v":""},null,{"$f":"IF(入力用!P193=2,入力用!V5,IF(入力用!P193=3,入力用!V6,IF(入力用!P193=4,入力用!V7,IF(入力用!P193=5,入力用!L193,\"\"))))","v":""},null,null,null,null,null,null,null,null,null,null,null,"010",null,null,null,null,null,null,null,null,null,null,null,null,null,null,null,null,null,null,null,null,null,null,null,null,null,null,null,null,"00"]
[]
[]
[null,null,null,null,null,null,null,null,null,null,null,null,null,null,null,null,null,null,null,null,null,null,null,null,null,{"$f":"IF(入力用!P194=2,入力用!S5,IF(入力用!P194=3,入力用!S6,IF(入力用!P194=4,入力用!S7,IF(入力用!P194=5,入力用!S8,IF(入力用!P194=6,入力用!L194,\"\")))))","v":""},null,null,null,null,null,null,null,null,null,null,null,null,{"$f":"IF(入力用!D195=\"\",\"\",入力用!D195)","v":""},null,null,null,null,null,"W",null,{"$f":"IF(入力用!P196=2,入力用!T5,IF(入力用!P196=3,入力用!T6,\"\"))","v":""},null,null,null,null,null,{"$f":"IF(入力用!D197=\"\",\"\",入力用!D197)","v":""},null,null,null,null,null,"VA",null,{"$f":"IF(入力用!D198=\"\",\"\",入力用!D198)","v":""},null,null,null,null,{"$f":"IF(入力用!P198=2,入力用!U5,IF(入力用!P198=3,入力用!U6,\"\"))","v":""},null,{"$f":"IF(入力用!P199=2,入力用!V5,IF(入力用!P199=3,入力用!V6,IF(入力用!P199=4,入力用!V7,IF(入力用!P199=5,入力用!L199,\"\"))))","v":""}]
[]
[null,null,null,null,null,{"$f":"MID(入力用!$D$187,1,1)","v":""},{"$f":"MID(入力用!$D$187,2,1)","v":""},{"$f":"MID(入力用!$D$187,3,1)","v":""},{"$f":"MID(入力用!$D$187,4,1)","v":""},{"$f":"MID(入力用!$D$187,5,1)","v":""},{"$f":"MID(入力用!$D$187,6,1)","v":""},{"$f":"MID(入力用!$D$187,7,1)","v":""},{"$f":"MID(入力用!$D$187,8,1)","v":""},{"$f":"MID(入力用!$D$187,9,1)","v":""},{"$f":"MID(入力用!$D$187,10,1)","v":""},{"$f":"MID(入力用!$D$187,11,1)","v":""},{"$f":"MID(入力用!$D$187,12,1)","v":""},{"$f":"MID(入力用!$D$187,13,1)","v":""},{"$f":"MID(入力用!$D$187,14,1)","v":""},{"$f":"MID(入力用!$D$187,15,1)","v":""},{"$f":"MID(入力用!$D$187,16,1)","v":""},{"$f":"MID(入力用!$D$187,17,1)","v":""},{"$f":"MID(入力用!$D$187,18,1)","v":""},{"$f":"MID(入力用!$D$187,19,1)","v":""},{"$f":"MID(入力用!$D$187,20,1)","v":""}]
[null,null,null,null,null,null,null,null,null,null,null,null,null,null,null,null,null,null,null,null,null,null,null,null,null,{"$f":"IF(入力用!P200=2,入力用!S5,IF(入力用!P200=3,入力用!S6,IF(入力用!P200=4,入力用!S7,IF(入力用!P200=5,入力用!S8,IF(入力用!P200=6,入力用!L200,\"\")))))","v":""},null,null,null,null,null,null,null,null,null,null,null,null,{"$f":"IF(入力用!D201=\"\",\"\",入力用!D201)","v":""},null,null,null,null,null,"W",null,{"$f":"IF(入力用!P202=2,入力用!T5,IF(入力用!P202=3,入力用!T6,\"\"))","v":""},null,null,null,null,null,{"$f":"IF(入力用!D203=\"\",\"\",入力用!D203)","v":""},null,null,null,null,null,"VA",null,{"$f":"IF(入力用!D204=\"\",\"\",入力用!D204)","v":""},null,null,null,null,{"$f":"IF(入力用!P204=2,入力用!U5,IF(入力用!P204=3,入力用!U6,\"\"))","v":""},null,{"$f":"IF(入力用!P205=2,入力用!V5,IF(入力用!P205=3,入力用!V6,IF(入力用!P205=4,入力用!V7,IF(入力用!P205=5,入力用!L205,\"\"))))","v":""}]
[null,null,null,null,null,{"$f":"MID(入力用!$D$187,21,1)","v":""},{"$f":"MID(入力用!$D$187,22,1)","v":""},{"$f":"MID(入力用!$D$187,23,1)","v":""},{"$f":"MID(入力用!$D$187,24,1)","v":""},{"$f":"MID(入力用!$D$187,25,1)","v":""},{"$f":"MID(入力用!$D$187,26,1)","v":""},{"$f":"MID(入力用!$D$187,27,1)","v":""},{"$f":"MID(入力用!$D$187,28,1)","v":""},{"$f":"MID(入力用!$D$187,29,1)","v":""},{"$f":"MID(入力用!$D$187,30,1)","v":""},{"$f":"MID(入力用!$D$187,31,1)","v":""},{"$f":"MID(入力用!$D$187,32,1)","v":""},{"$f":"MID(入力用!$D$187,33,1)","v":""},{"$f":"MID(入力用!$D$187,34,1)","v":""},{"$f":"MID(入力用!$D$187,35,1)","v":""},{"$f":"MID(入力用!$D$187,36,1)","v":""},{"$f":"MID(入力用!$D$187,37,1)","v":""},{"$f":"MID(入力用!$D$187,38,1)","v":""},{"$f":"MID(入力用!$D$187,39,1)","v":""},{"$f":"MID(入力用!$D$187,40,1)","v":""}]
[]
[null,9,null,null,null,{"$f":"IF(入力用!D206=\"\",\"\",入力用!D206)","v":""},null,null,null,null,null,null,null,null,null,null,null,null,null,null,null,null,null,null,null,{"$f":"IF(入力用!P208=2,入力用!S5,IF(入力用!P208=3,入力用!S6,IF(入力用!P208=4,入力用!S7,IF(入力用!P208=5,入力用!S8,IF(入力用!P208=6,入力用!L208,\"\")))))","v":""},null,null,null,null,null,null,null,null,null,null,null,null,{"$f":"IF(入力用!D209=\"\",\"\",入力用!D209)","v":""},null,null,null,null,null,"W",null,{"$f":"IF(入力用!P210=2,入力用!T5,IF(入力用!P210=3,入力用!T6,\"\"))","v":""},null,null,null,null,null,{"$f":"IF(入力用!D211=\"\",\"\",入力用!D211)","v":""},null,null,null,null,null,"VA",null,{"$f":"IF(入力用!D212=\"\",\"\",入力用!D212)","v":""},null,null,null,null,{"$f":"IF(入力用!P212=2,入力用!U5,IF(入力用!P212=3,入力用!U6,\"\"))","v":""},null,{"$f":"IF(入力用!P213=2,入力用!V5,IF(入力用!P213=3,入力用!V6,IF(入力用!P213=4,入力用!V7,IF(入力用!P213=5,入力用!L213,\"\"))))","v":""},null,null,null,null,null,null,null,null,null,null,null,"010",null,null,null,null,null,null,null,null,null,null,null,null,null,null,null,null,null,null,null,null,null,null,null,null,null,null,null,null,"00"]
[]
[]
[null,null,null,null,null,null,null,null,null,null,null,null,null,null,null,null,null,null,null,null,null,null,null,null,null,{"$f":"IF(入力用!P214=2,入力用!S5,IF(入力用!P214=3,入力用!S6,IF(入力用!P214=4,入力用!S7,IF(入力用!P214=5,入力用!S8,IF(入力用!P214=6,入力用!L214,\"\")))))","v":""},null,null,null,null,null,null,null,null,null,null,null,null,{"$f":"IF(入力用!D215=\"\",\"\",入力用!D215)","v":""},null,null,null,null,null,"W",null,{"$f":"IF(入力用!P216=2,入力用!T5,IF(入力用!P216=3,入力用!T6,\"\"))","v":""},null,null,null,null,null,{"$f":"IF(入力用!D217=\"\",\"\",入力用!D217)","v":""},null,null,null,null,null,"VA",null,{"$f":"IF(入力用!D218=\"\",\"\",入力用!D218)","v":""},null,null,null,null,{"$f":"IF(入力用!P218=2,入力用!U5,IF(入力用!P218=3,入力用!U6,\"\"))","v":""},null,{"$f":"IF(入力用!P219=2,入力用!V5,IF(入力用!P219=3,入力用!V6,IF(入力用!P219=4,入力用!V7,IF(入力用!P219=5,入力用!L219,\"\"))))","v":""}]
[]
[null,null,null,null,null,{"$f":"MID(入力用!$D$207,1,1)","v":""},{"$f":"MID(入力用!$D$207,2,1)","v":""},{"$f":"MID(入力用!$D$207,3,1)","v":""},{"$f":"MID(入力用!$D$207,4,1)","v":""},{"$f":"MID(入力用!$D$207,5,1)","v":""},{"$f":"MID(入力用!$D$207,6,1)","v":""},{"$f":"MID(入力用!$D$207,7,1)","v":""},{"$f":"MID(入力用!$D$207,8,1)","v":""},{"$f":"MID(入力用!$D$207,9,1)","v":""},{"$f":"MID(入力用!$D$207,10,1)","v":""},{"$f":"MID(入力用!$D$207,11,1)","v":""},{"$f":"MID(入力用!$D$207,12,1)","v":""},{"$f":"MID(入力用!$D$207,13,1)","v":""},{"$f":"MID(入力用!$D$207,14,1)","v":""},{"$f":"MID(入力用!$D$207,15,1)","v":""},{"$f":"MID(入力用!$D$207,16,1)","v":""},{"$f":"MID(入力用!$D$207,17,1)","v":""},{"$f":"MID(入力用!$D$207,18,1)","v":""},{"$f":"MID(入力用!$D$207,19,1)","v":""},{"$f":"MID(入力用!$D$207,20,1)","v":""}]
[null,null,null,null,null,null,null,null,null,null,null,null,null,null,null,null,null,null,null,null,null,null,null,null,null,{"$f":"IF(入力用!P220=2,入力用!S5,IF(入力用!P220=3,入力用!S6,IF(入力用!P220=4,入力用!S7,IF(入力用!P220=5,入力用!S8,IF(入力用!P220=6,入力用!L220,\"\")))))","v":""},null,null,null,null,null,null,null,null,null,null,null,null,{"$f":"IF(入力用!D221=\"\",\"\",入力用!D221)","v":""},null,null,null,null,null,"W",null,{"$f":"IF(入力用!P222=2,入力用!T5,IF(入力用!P222=3,入力用!T6,\"\"))","v":""},null,null,null,null,null,{"$f":"IF(入力用!D223=\"\",\"\",入力用!D223)","v":""},null,null,null,null,null,"VA",null,{"$f":"IF(入力用!D224=\"\",\"\",入力用!D224)","v":""},null,null,null,null,{"$f":"IF(入力用!P224=2,入力用!U5,IF(入力用!P224=3,入力用!U6,\"\"))","v":""},null,{"$f":"IF(入力用!P225=2,入力用!V5,IF(入力用!P225=3,入力用!V6,IF(入力用!P225=4,入力用!V7,IF(入力用!P225=5,入力用!L225,\"\"))))","v":""}]
[null,null,null,null,null,{"$f":"MID(入力用!$D$207,21,1)","v":""},{"$f":"MID(入力用!$D$207,22,1)","v":""},{"$f":"MID(入力用!$D$207,23,1)","v":""},{"$f":"MID(入力用!$D$207,24,1)","v":""},{"$f":"MID(入力用!$D$207,25,1)","v":""},{"$f":"MID(入力用!$D$207,26,1)","v":""},{"$f":"MID(入力用!$D$207,27,1)","v":""},{"$f":"MID(入力用!$D$207,28,1)","v":""},{"$f":"MID(入力用!$D$207,29,1)","v":""},{"$f":"MID(入力用!$D$207,30,1)","v":""},{"$f":"MID(入力用!$D$207,31,1)","v":""},{"$f":"MID(入力用!$D$207,32,1)","v":""},{"$f":"MID(入力用!$D$207,33,1)","v":""},{"$f":"MID(入力用!$D$207,34,1)","v":""},{"$f":"MID(入力用!$D$207,35,1)","v":""},{"$f":"MID(入力用!$D$207,36,1)","v":""},{"$f":"MID(入力用!$D$207,37,1)","v":""},{"$f":"MID(入力用!$D$207,38,1)","v":""},{"$f":"MID(入力用!$D$207,39,1)","v":""},{"$f":"MID(入力用!$D$207,40,1)","v":""}]
[]
[null,null,null,null,null,null,null,null,null,null,null,null,null,null,null,null,null,null,null,null,null,null,null,null,null,null,null,null,null,null,null,null,null,null,null,null,null,null,null,"受　電\n希望日",null,null,null,null,null,null,null,null,null,null,null,null,null,null,null,null,null,null,null,null,null,null,null,null,null,null,null,null,null,"ご契約\n開始日\n(送電日)"]
[null,"　※　太枠内をご記入願います。",null,null,null,null,null,null,null,null,null,null,null,null,null,null,null,null,null,null,null,null,null,null,null,null,null,null,null,null,null,null,null,null,null,null,null,null,null,null,null,null,null,null,null,null,null,null,null,null,null,null,null,null,null,null,null,null,null,null,null,null,null,null,null,null,null,null,null,null,null,null,null,null,null,null,null,null,null,null,null,null,null,null,null,null,null,null,null,null,null,null,null,null,null,null,null,null,null,null,null,"受付"]
[]
[null,"　※　ご契約名義またはお支払方法更をご希望の場合は，カスタマーサービスセンター"]
[]
[null,"　　（0120-680-340）までご連絡ください。"]
[null,null,null,null,null,null,null,null,null,null,null,null,null,null,null,null,null,null,null,null,null,null,null,null,null,null,null,null,null,null,null,null,null,null,null,null,null,null,null,null,null,null,null,null,{"$f":"IF(入力用!D25=\"\",\"\",入力用!D25)","v":""},null,null,null,null,null,null,null,null,{"$f":"IF(入力用!F25=\"\",\"\",入力用!F25)","v":""},null,null,null,null,null,null,null,{"$f":"IF(入力用!I25=\"\",\"\",入力用!I25)","v":""}]
[null,"　※　受付業務は北海道電力㈱に委託しております。",null,null,null,null,null,null,null,null,null,null,null,null,null,null,null,null,null,null,null,null,null,null,null,null,null,null,null,null,null,null,null,null,null,null,null,null,null,null,null,null,null,null,null,null,null,null,null,null,"年",null,null,null,null,null,null,null,"月",null,null,null,null,null,null,null,"日",null,null,null,null,null,null,null,null,"年",null,null,null,null,"月",null,null,null,null,"日"]
[]
[]
[null,null,null,"拝啓　平素は弊社事業に格別のお引き立てを賜り，厚くお礼申し上げます。５６７８９０"]
[]
[]
[null,null,null,"　さて，この度お客さまの電気ご使用につきまして，本申込書記載の内容にてご契約させ"]
[]
[]
[null,null,null,"ていただきましたことをお知らせいたします。２３４５６７８９０１２３４５６７８９０"]
[]
[]
[null,null,null,"１２３４５６７８９０１２３４５６７８９０１２３４５６７８９０１２３４５６７８敬具１"]
[]
[]
[]
[]
[]
[]
["北　海　道　電　力　ネ　ッ　ト　ワ　ー　ク　株　式　会　社"]
[]
["※ご提供いただいた個人情報は，電気事業の範囲内で利用いたします。"]

{"sheet":"３枚目","index":3,"n_rows":163,"n_cols":111,"rows_kept":163,"cut":false,"hidden":false,"merged":[[1,93,5,109],[109,108,117,110],[118,108,126,110],[127,108,135,110],[127,25,129,37],[133,25,135,37],[130,25,132,37],[42,25,43,78],[42,79,43,110],[44,79,45,82],[46,79,54,82],[55,79,63,82],[64,79,72,82],[73,79,81,82],[82,79,90,82],[91,79,99,82],[100,79,108,82],[109,79,117,82],[118,79,126,82],[127,79,135,82],[44,108,45,110],[46,108,54,110],[55,108,63,110],[64,108,72,110],[73,108,81,110],[82,108,90,110],[91,108,99,110],[100,108,108,110],[118,1,126,4],[127,1,135,4],[44,25,45,37],[46,25,48,37],[49,25,51,37],[52,25,54,37],[55,25,57,37],[58,25,60,37],[61,25,63,37],[64,25,66,37],[67,25,69,37],[70,25,72,37],[73,25,75,37],[76,25,78,37],[79,25,81,37],[82,25,84,37],[85,25,87,37],[88,25,90,37],[91,25,93,37],[94,25,96,37],[97,25,99,37],[73,67,75,78],[76,67,78,78],[79,67,81,78],[82,67,84,78],[85,67,87,78],[100,25,102,37],[103,25,105,37],[106,25,108,37],[133,67,135,78],[100,67,102,78],[103,67,105,78],[106,67,108,78],[109,67,111,78],[112,67,114,78],[115,67,117,78],[118,67,120,78],[121,67,123,78],[124,67,126,78],[118,25,120,37],[121,25,123,37],[124,25,126,37],[124,60,126,64],[109,46,111,51],[112,44,114,45],[109,25,111,37],[112,25,114,37],[115,25,117,37],[64,38,66,43],[91,38,93,43],[49,38,51,43],[52,38,54,43],[55,65,57,66],[85,46,87,51],[76,65,78,66],[73,52,75,57],[73,58,75,59],[70,46,72,51],[58,58,60,59],[61,60,63,64],[58,65,60,66],[70,65,72,66],[70,60,72,64],[112,38,114,43],[106,58,108,59],[100,46,102,51],[103,46,105,51],[40,75,41,79],[40,68,41,68],[40,69,41,73],[34,96,41,100],[32,52,33,56],[34,53,36,55],[16,64,27,68],[16,11,20,63],[34,81,41,85],[34,43,35,43],[34,44,35,44],[34,45,35,45],[40,74,41,74],[40,80,41,80],[34,51,36,52],[36,26,37,26],[36,27,37,27],[36,28,37,28],[36,29,37,29],[36,30,37,30],[36,31,37,31],[125,8,126,8],[125,9,126,9],[21,11,22,19],[21,39,22,46],[21,20,22,38],[21,47,22,63],[23,11,27,15],[118,5,122,24],[136,39,144,43],[142,44,144,49],[142,53,144,57],[142,61,144,65],[143,50,144,52],[143,58,144,60],[132,23,133,23],[132,24,133,24],[134,23,135,23],[134,24,135,24],[88,38,90,43],[91,44,93,45],[116,5,117,5],[116,6,117,6],[116,7,117,7],[116,8,117,8],[98,23,99,23],[98,24,99,24],[116,9,117,9],[116,10,117,10],[116,11,117,11],[116,12,117,12],[116,13,117,13],[100,5,104,24],[105,23,106,23],[109,5,113,24],[114,5,115,5],[114,6,115,6],[114,7,115,7],[114,8,115,8],[114,9,115,9],[114,10,115,10],[114,11,115,11],[114,12,115,12],[114,13,115,13],[114,14,115,14],[114,15,115,15],[114,16,115,16],[114,17,115,17],[114,18,115,18],[80,17,81,17],[80,18,81,18],[114,21,115,21],[114,22,115,22],[114,23,115,23],[91,5,95,24],[98,5,99,5],[98,6,99,6],[98,7,99,7],[98,8,99,8],[98,9,99,9],[98,10,99,10],[98,11,99,11],[98,12,99,12],[98,13,99,13],[98,14,99,14],[98,15,99,15],[98,16,99,16],[98,17,99,17],[98,18,99,18],[98,19,99,19],[98,20,99,20],[98,21,99,21],[98,22,99,22],[64,5,68,24],[73,5,77,24],[62,5,63,5],[62,6,63,6],[62,7,63,7],[62,8,63,8],[62,9,63,9],[62,10,63,10],[62,18,63,18],[62,19,63,19],[62,20,63,20],[62,21,63,21],[64,1,72,4],[73,1,81,4],[82,1,90,4],[91,1,99,4],[100,1,108,4],[109,1,117,4],[109,105,117,107],[118,102,126,104],[109,86,117,87],[109,88,117,90],[109,91,117,94],[109,95,117,97],[118,88,126,90],[118,91,126,94],[109,98,117,101],[109,102,117,104],[118,105,126,107],[91,105,99,107],[100,102,108,104],[100,105,108,107],[91,102,99,104],[100,91,108,94],[91,98,99,101],[73,98,81,101],[62,14,63,14],[62,15,63,15],[62,16,63,16],[62,17,63,17],[61,38,63,43],[34,11,41,20],[42,1,45,4],[46,1,54,4],[55,1,63,4],[60,23,61,23],[60,24,61,24],[36,32,37,32],[36,33,37,33],[36,34,37,34],[36,35,37,35],[36,42,37,42],[36,43,37,43],[46,38,48,43],[36,39,37,39],[36,40,37,40],[36,41,37,41],[28,64,33,68],[34,21,41,25],[34,46,41,50],[34,56,36,56],[34,57,36,60],[34,61,36,62],[42,5,43,24],[44,5,45,24],[46,5,50,24],[36,44,37,44],[36,45,37,45],[44,67,45,78],[46,67,48,78],[49,67,51,78],[6,0,9,110],[13,85,15,89],[13,69,15,84],[38,26,41,45],[34,63,36,80],[37,51,39,80],[40,51,41,58],[40,59,41,62],[40,63,41,67],[32,63,33,63],[32,42,33,45],[32,46,33,50],[32,51,33,51],[20,109,21,110],[34,86,41,95],[34,101,41,110],[16,6,22,10],[23,6,33,10],[32,57,33,57],[32,58,33,62],[28,11,33,15],[28,16,30,63],[31,16,33,41],[26,99,27,103],[91,91,99,94],[91,95,99,97],[73,91,81,94],[73,95,81,97],[82,88,90,90],[82,91,90,94],[100,88,108,90],[44,83,45,85],[44,86,45,87],[44,88,45,90],[64,91,72,94],[55,83,63,85],[82,86,90,87],[82,83,90,85],[91,83,99,85],[91,86,99,87],[100,86,108,87],[100,83,108,85],[55,95,63,97],[91,88,99,90],[64,102,72,104],[64,95,72,97],[64,98,72,101],[82,98,90,101],[55,102,63,104],[55,105,63,107],[46,102,54,104],[55,88,63,90],[46,88,54,90],[46,91,54,94],[55,91,63,94],[82,95,90,97],[55,98,63,101],[127,5,131,24],[133,65,135,66],[127,95,135,97],[127,98,135,101],[130,46,132,51],[130,65,132,66],[127,83,135,85],[127,86,135,87],[127,88,135,90],[127,102,135,104],[127,105,135,107],[153,85,155,110],[156,85,158,110],[137,91,144,92],[137,93,144,100],[153,79,158,84],[137,103,144,110],[127,60,129,64],[130,60,132,64],[133,60,135,64],[127,65,129,66],[125,5,126,5],[125,6,126,6],[125,7,126,7],[73,88,81,90],[150,85,152,110],[44,102,45,104],[44,105,45,107],[64,105,72,107],[82,105,90,107],[73,102,81,104],[73,105,81,107],[82,102,90,104],[73,83,81,85],[73,86,81,87],[55,86,63,87],[46,86,54,87],[64,83,72,85],[118,95,126,97],[118,98,126,101],[46,95,54,97],[46,98,54,101],[46,105,54,107],[100,95,108,97],[100,98,108,101],[53,21,54,21],[53,22,54,22],[53,23,54,23],[53,24,54,24],[60,14,61,14],[60,15,61,15],[60,16,61,16],[60,17,61,17],[60,18,61,18],[60,19,61,19],[60,20,61,20],[60,21,61,21],[60,22,61,22],[55,5,59,24],[53,5,54,5],[53,6,54,6],[53,7,54,7],[53,8,54,8],[53,9,54,9],[53,10,54,10],[53,11,54,11],[53,12,54,12],[53,13,54,13],[53,15,54,15],[53,16,54,16],[53,17,54,17],[53,18,54,18],[53,19,54,19],[82,5,86,24],[80,5,81,5],[80,6,81,6],[80,7,81,7],[80,8,81,8],[80,9,81,9],[80,10,81,10],[80,11,81,11],[80,12,81,12],[80,13,81,13],[80,14,81,14],[80,15,81,15],[80,16,81,16],[80,19,81,19],[80,20,81,20],[62,22,63,22],[62,23,63,23],[60,5,61,5],[53,20,54,20],[85,65,87,66],[82,65,84,66],[64,44,66,45],[88,58,90,59],[55,44,57,45],[55,52,57,57],[46,46,48,51],[52,46,54,51],[79,65,81,66],[58,60,60,64],[73,46,75,51],[79,46,81,51],[73,65,75,66],[73,60,75,64],[76,60,78,64],[79,60,81,64],[82,60,84,64],[49,58,51,59],[52,58,54,59],[67,60,69,64],[64,52,66,57],[70,52,72,57],[70,58,72,59],[67,38,69,43],[52,65,54,66],[52,60,54,64],[58,46,60,51],[61,65,63,66],[64,65,66,66],[67,65,69,66],[67,44,69,45],[76,44,78,45],[44,91,45,94],[44,95,45,97],[44,98,45,101],[64,86,72,87],[64,88,72,90],[46,58,48,59],[46,83,54,85],[49,65,51,66],[46,60,48,64],[55,60,57,64],[64,60,66,64],[46,65,48,66],[52,67,54,78],[55,67,57,78],[58,67,60,78],[61,67,63,78],[64,67,66,78],[67,67,69,78],[70,67,72,78],[32,98,33,98],[32,99,33,103],[32,104,33,104],[32,110,33,110],[22,69,23,74],[22,75,23,110],[24,69,25,110],[26,69,27,88],[26,89,27,92],[26,93,27,97],[28,69,31,74],[28,75,31,110],[32,69,33,74],[32,75,33,88],[32,89,33,92],[32,93,33,97],[26,98,27,98],[26,110,27,110],[26,104,27,104],[26,105,27,109],[32,105,33,109],[97,65,99,66],[91,65,93,66],[88,65,90,66],[88,67,90,78],[91,67,93,78],[94,67,96,78],[97,67,99,78],[112,60,114,64],[115,60,117,64],[100,65,102,66],[106,65,108,66],[103,65,105,66],[112,65,114,66],[97,60,99,64],[94,65,96,66],[109,65,111,66],[115,65,117,66],[112,46,114,51],[106,52,108,57],[106,46,108,51],[109,52,111,57],[109,58,111,59],[118,83,126,85],[118,86,126,87],[121,65,123,66],[124,65,126,66],[118,65,120,66],[118,60,120,64],[121,46,123,51],[115,46,117,51],[112,58,114,59],[115,52,117,57],[115,58,117,59],[106,60,108,64],[109,60,111,64],[109,83,117,85],[112,52,114,57],[118,46,120,51],[121,44,123,45],[124,44,126,45],[121,38,123,43],[118,52,120,57],[118,58,120,59],[121,58,123,59],[121,60,123,64],[124,46,126,51],[124,52,126,57],[124,58,126,59],[124,38,126,43],[118,38,120,43],[127,91,135,94],[133,44,135,45],[133,38,135,43],[133,52,135,57],[133,58,135,59],[133,46,135,51],[127,38,129,43],[130,38,132,43],[127,67,129,78],[130,67,132,78],[127,58,129,59],[127,46,129,51],[127,52,129,57],[164,0,165,110],[136,75,142,79],[136,80,142,84],[136,85,142,89],[143,75,144,79],[143,80,144,84],[143,85,144,89],[146,2,160,6],[146,23,148,33],[137,1,139,16],[151,23,154,33],[157,23,159,33],[136,69,144,74],[137,101,144,102],[146,7,160,22],[143,66,144,68],[162,0,163,110],[97,46,99,51],[58,52,60,57],[67,46,69,51],[76,46,78,51],[91,46,93,51],[55,38,57,43],[58,38,60,43],[67,52,69,57],[67,58,69,59],[97,52,99,57],[97,58,99,59],[82,52,84,57],[82,58,84,59],[79,38,81,43],[82,38,84,43],[97,38,99,43],[82,44,84,45],[85,44,87,45],[94,38,96,43],[61,46,63,51],[61,44,63,45],[64,58,66,59],[61,52,63,57],[61,58,63,59],[106,38,108,43],[85,58,87,59],[103,44,105,45],[100,38,102,43],[103,38,105,43],[100,44,102,45],[130,44,132,45],[115,44,117,45],[118,44,120,45],[115,38,117,43],[106,44,108,45],[109,44,111,45],[130,52,132,57],[130,58,132,59],[127,44,129,45],[88,46,90,51],[94,46,96,51],[97,44,99,45],[85,38,87,43],[121,52,123,57],[109,38,111,43],[91,52,93,57],[91,58,93,59],[85,52,87,57],[103,52,105,57],[103,58,105,59],[100,60,102,64],[103,60,105,64],[100,52,102,57],[100,58,102,59],[79,52,81,57],[79,58,81,59],[76,52,78,57],[85,60,87,64],[88,60,90,64],[76,58,78,59],[91,60,93,64],[94,60,96,64],[94,52,96,57],[94,58,96,59],[49,60,51,64],[79,44,81,45],[55,46,57,51],[88,52,90,57],[70,38,72,43],[88,44,90,45],[70,44,72,45],[76,38,78,43],[73,38,75,43],[73,44,75,45],[49,52,51,57],[52,52,54,57],[52,44,54,45],[49,44,51,45],[55,58,57,59],[58,44,60,45],[49,46,51,51],[64,46,66,51],[82,46,84,51],[94,44,96,45],[51,23,52,23],[51,24,52,24],[36,36,37,36],[36,37,37,37],[36,38,37,38],[44,60,45,66],[34,41,35,41],[34,42,35,42],[10,1,11,25],[12,1,13,38],[51,6,52,6],[51,7,52,7],[51,8,52,8],[51,9,52,9],[51,10,52,10],[44,46,45,51],[46,52,48,57],[46,44,48,45],[44,38,45,45],[44,52,45,59],[16,1,41,5],[13,64,15,68],[23,16,27,63],[34,6,41,10],[13,90,15,110],[34,26,35,26],[34,27,35,27],[34,28,35,28],[34,29,35,29],[34,30,35,30],[34,31,35,31],[34,32,35,32],[34,33,35,33],[34,34,35,34],[34,35,35,35],[34,36,35,36],[34,37,35,37],[34,38,35,38],[34,39,35,39],[34,40,35,40],[16,69,19,74],[16,75,19,110],[20,69,21,74],[20,75,21,89],[20,90,21,99],[20,100,21,102],[20,103,21,103],[20,104,21,108],[60,6,61,6],[60,7,61,7],[60,8,61,8],[60,9,61,9],[60,10,61,10],[60,11,61,11],[60,12,61,12],[60,13,61,13],[51,14,52,14],[51,11,52,11],[51,12,52,12],[51,13,52,13],[53,14,54,14],[51,15,52,15],[51,16,52,16],[51,17,52,17],[51,18,52,18],[51,19,52,19],[51,20,52,20],[51,21,52,21],[51,22,52,22],[51,5,52,5],[62,24,63,24],[69,5,70,5],[69,6,70,6],[69,7,70,7],[69,8,70,8],[69,9,70,9],[69,10,70,10],[69,11,70,11],[69,12,70,12],[69,13,70,13],[69,14,70,14],[69,15,70,15],[69,16,70,16],[69,17,70,17],[69,18,70,18],[69,19,70,19],[69,20,70,20],[69,21,70,21],[69,22,70,22],[69,23,70,23],[69,24,70,24],[62,11,63,11],[62,12,63,12],[62,13,63,13],[71,16,72,16],[71,17,72,17],[71,18,72,18],[71,19,72,19],[71,20,72,20],[71,21,72,21],[71,22,72,22],[71,5,72,5],[71,6,72,6],[71,7,72,7],[71,8,72,8],[71,9,72,9],[71,10,72,10],[71,11,72,11],[71,12,72,12],[71,13,72,13],[71,23,72,23],[71,24,72,24],[78,5,79,5],[78,6,79,6],[78,7,79,7],[78,8,79,8],[78,9,79,9],[78,10,79,10],[78,11,79,11],[78,12,79,12],[78,13,79,13],[78,14,79,14],[78,15,79,15],[78,16,79,16],[78,17,79,17],[78,18,79,18],[78,19,79,19],[78,20,79,20],[78,21,79,21],[78,22,79,22],[78,23,79,23],[78,24,79,24],[71,14,72,14],[71,15,72,15],[80,21,81,21],[80,22,81,22],[80,23,81,23],[80,24,81,24],[87,5,88,5],[87,6,88,6],[87,7,88,7],[87,8,88,8],[87,9,88,9],[87,10,88,10],[87,11,88,11],[87,12,88,12],[87,13,88,13],[87,14,88,14],[87,15,88,15],[87,16,88,16],[87,17,88,17],[87,18,88,18],[87,19,88,19],[87,20,88,20],[87,21,88,21],[87,22,88,22],[87,23,88,23],[87,24,88,24],[89,16,90,16],[89,17,90,17],[89,18,90,18],[89,19,90,19],[89,20,90,20],[89,21,90,21],[89,22,90,22],[89,5,90,5],[89,6,90,6],[89,7,90,7],[89,8,90,8],[89,9,90,9],[89,10,90,10],[89,11,90,11],[89,12,90,12],[89,13,90,13],[89,23,90,23],[89,24,90,24],[96,5,97,5],[96,6,97,6],[96,7,97,7],[96,8,97,8],[96,9,97,9],[96,10,97,10],[96,11,97,11],[96,12,97,12],[96,13,97,13],[96,14,97,14],[96,15,97,15],[96,16,97,16],[96,17,97,17],[96,18,97,18],[96,19,97,19],[96,20,97,20],[96,21,97,21],[96,22,97,22],[96,23,97,23],[96,24,97,24],[89,14,90,14],[89,15,90,15],[105,24,106,24],[105,5,106,5],[105,6,106,6],[105,7,106,7],[105,8,106,8],[105,9,106,9],[105,10,106,10],[105,11,106,11],[105,12,106,12],[105,13,106,13],[105,14,106,14],[105,15,106,15],[105,16,106,16],[105,17,106,17],[105,18,106,18],[105,19,106,19],[105,20,106,20],[105,21,106,21],[105,22,106,22],[107,5,108,5],[107,6,108,6],[107,7,108,7],[107,8,108,8],[107,9,108,9],[107,10,108,10],[107,11,108,11],[107,12,108,12],[107,13,108,13],[107,14,108,14],[107,15,108,15],[107,16,108,16],[107,17,108,17],[107,18,108,18],[107,19,108,19],[107,20,108,20],[116,23,117,23],[116,24,117,24],[107,21,108,21],[107,22,108,22],[107,23,108,23],[107,24,108,24],[114,24,115,24],[116,16,117,16],[116,17,117,17],[116,18,117,18],[116,19,117,19],[116,20,117,20],[116,21,117,21],[116,22,117,22],[114,19,115,19],[114,20,115,20],[123,19,124,19],[123,20,124,20],[123,21,124,21],[123,22,124,22],[123,5,124,5],[123,6,124,6],[123,7,124,7],[123,8,124,8],[123,9,124,9],[123,10,124,10],[123,11,124,11],[123,12,124,12],[123,13,124,13],[123,23,124,23],[123,24,124,24],[116,14,117,14],[116,15,117,15],[125,10,126,10],[125,11,126,11],[125,12,126,12],[125,13,126,13],[125,14,126,14],[125,15,126,15],[125,16,126,16],[125,17,126,17],[125,18,126,18],[125,19,126,19],[125,20,126,20],[125,21,126,21],[125,22,126,22],[125,23,126,23],[125,24,126,24],[123,14,124,14],[123,15,124,15],[123,16,124,16],[123,17,124,17],[123,18,124,18],[132,5,133,5],[132,6,133,6],[132,7,133,7],[132,8,133,8],[132,9,133,9],[132,10,133,10],[132,11,133,11],[132,12,133,12],[132,13,133,13],[132,14,133,14],[132,15,133,15],[132,16,133,16],[132,17,133,17],[132,18,133,18],[132,19,133,19],[132,20,133,20],[132,21,133,21],[132,22,133,22],[134,5,135,5],[134,6,135,6],[134,7,135,7],[134,8,135,8],[134,9,135,9],[134,10,135,10],[134,11,135,11],[134,12,135,12],[134,13,135,13],[134,14,135,14],[134,15,135,15],[134,16,135,16],[134,17,135,17],[134,18,135,18],[134,19,135,19],[134,20,135,20],[134,21,135,21],[134,22,135,22]]}
[]
[null,null,null,null,null,null,null,null,null,null,null,null,null,null,null,null,null,null,null,null,null,null,null,null,null,null,null,null,null,null,null,null,null,null,null,null,null,null,null,null,null,null,null,null,null,null,null,null,null,null,null,null,null,null,null,null,null,null,null,null,null,null,null,null,null,null,null,null,null,null,null,null,null,null,null,null,null,null,null,null,null,null,null,null,null,null,null,null,null,null,null,null,null,"離島等供給用"]
[]
[]
[]
[]
["定額制一括電気使用申込書（ほくでんNW控）"]
[]
[]
[]
[null,"北海道電力ネットワーク株式会社　御中"]
[]
[null,"電気の使用について貴社離島等供給約款[低圧用]を承認のうえ申し込みます。"]
[null,null,null,null,null,null,null,null,null,null,null,null,null,null,null,null,null,null,null,null,null,null,null,null,null,null,null,null,null,null,null,null,null,null,null,null,null,null,null,null,null,null,null,null,null,null,null,null,null,null,null,null,null,null,null,null,null,null,null,null,null,null,null,null,"受付扱所名",null,null,null,null,null,null,null,null,null,null,null,null,null,null,null,null,null,null,null,null,"受付№"]
[]
[]
[null,"お 客 さ ま",null,null,null,null,"ご契約\n名　義",null,null,null,null,{"$f":"IF(入力用!D3=\"\",\"\",入力用!D3)","v":""},null,null,null,null,null,null,null,null,null,null,null,null,null,null,null,null,null,null,null,null,null,null,null,null,null,null,null,null,null,null,null,null,null,null,null,null,null,null,null,null,null,null,null,null,null,null,null,null,null,null,null,null,"電気工事会社",null,null,null,null," 会社名",null,null,null,null,null,{"$f":"IF(入力用!D9=\"\",\"\",入力用!D9)","v":""}]
[]
[]
[]
[null,null,null,null,null,null,null,null,null,null,null,null,null,null,null,null,null,null,null,null,null,null,null,null,null,null,null,null,null,null,null,null,null,null,null,null,null,null,null,null,null,null,null,null,null,null,null,null,null,null,null,null,null,null,null,null,null,null,null,null,null,null,null,null,null,null,null,null,null,"(担当者)",null,null,null,null,null,{"$f":"IF(入力用!D10=\"\",\"\",入力用!D10)","v":""},null,null,null,null,null,null,null,null,null,null,null,null,null,null,"工事会社№（",null,null,null,null,null,null,null,null,null,{"$f":"IF(入力用!D11=\"\",\"\",入力用!D11)","v":""},null,null,"-",{"$f":"IF(入力用!F11=\"\",\"\",入力用!F11)","v":""},null,null,null,null,")"]
[null,null,null,null,null,null,null,null,null,null,null,"（代表者肩書）",null,null,null,null,null,null,null,null,{"$f":"IF(入力用!D4=\"\",\"\",入力用!D4)","v":""},null,null,null,null,null,null,null,null,null,null,null,null,null,null,null,null,null,null,"（代表者名）",null,null,null,null,null,null,null,{"$f":"IF(入力用!D5=\"\",\"\",入力用!D5)","v":""}]
[null,null,null,null,null,null,null,null,null,null,null,null,null,null,null,null,null,null,null,null,null,null,null,null,null,null,null,null,null,null,null,null,null,null,null,null,null,null,null,null,null,null,null,null,null,null,null,null,null,null,null,null,null,null,null,null,null,null,null,null,null,null,null,null,null,null,null,null,null," 住　所",null,null,null,null,null,{"$f":"LEFT(入力用!D12,23)","v":""}]
[null,null,null,null,null,null,"街路灯\n管　理\n責任者",null,null,null,null,"氏　名",null,null,null,null,{"$f":"IF(入力用!D6=\"\",\"\",入力用!D6)","v":""}]
[null,null,null,null,null,null,null,null,null,null,null,null,null,null,null,null,null,null,null,null,null,null,null,null,null,null,null,null,null,null,null,null,null,null,null,null,null,null,null,null,null,null,null,null,null,null,null,null,null,null,null,null,null,null,null,null,null,null,null,null,null,null,null,null,null,null,null,null,null,{"$f":"MID(入力用!D12,24,27)","v":""}]
[]
[null,null,null,null,null,null,null,null,null,null,null,null,null,null,null,null,null,null,null,null,null,null,null,null,null,null,null,null,null,null,null,null,null,null,null,null,null,null,null,null,null,null,null,null,null,null,null,null,null,null,null,null,null,null,null,null,null,null,null,null,null,null,null,null,null,null,null,null,null,{"$f":"MID(入力用!D12,51,13)","v":""},null,null,null,null,null,null,null,null,null,null,null,null,null,null,null,null,null,null,null,"電話(",null,null,null,{"$f":"IF(入力用!D13=\"\",\"\",入力用!D13)","v":""},null,null,null,null,"-",{"$f":"IF(入力用!F13=\"\",\"\",入力用!F13)","v":""},null,null,null,null,"-",{"$f":"IF(入力用!I13=\"\",\"\",入力用!I13)","v":""},null,null,null,null,")"]
[]
[null,null,null,null,null,null,null,null,null,null,null,"住　所",null,null,null,null,{"$f":"LEFT(入力用!D7,31)","v":""},null,null,null,null,null,null,null,null,null,null,null,null,null,null,null,null,null,null,null,null,null,null,null,null,null,null,null,null,null,null,null,null,null,null,null,null,null,null,null,null,null,null,null,null,null,null,null,"建築会社",null,null,null,null," 会社名",null,null,null,null,null,{"$f":"IF(入力用!D14=\"\",\"\",入力用!D14)","v":""}]
[]
[]
[null,null,null,null,null,null,null,null,null,null,null,null,null,null,null,null,{"$f":"MID(入力用!D7,32,17)","v":""}]
[null,null,null,null,null,null,null,null,null,null,null,null,null,null,null,null,null,null,null,null,null,null,null,null,null,null,null,null,null,null,null,null,null,null,null,null,null,null,null,null,null,null,"電話(",null,null,null,{"$f":"IF(入力用!D8=\"\",\"\",入力用!D8)","v":""},null,null,null,null,"-",{"$f":"IF(入力用!F8=\"\",\"\",入力用!F8)","v":""},null,null,null,null,"-",{"$f":"IF(入力用!I8=\"\",\"\",入力用!I8)","v":""},null,null,null,null,")",null,null,null,null,null,"(担当者)",null,null,null,null,null,{"$f":"IF(入力用!D15=\"\",\"\",入力用!D15)","v":""},null,null,null,null,null,null,null,null,null,null,null,null,null,"電話(",null,null,null,{"$f":"IF(入力用!D16=\"\",\"\",入力用!D16)","v":""},null,null,null,null,"-",{"$f":"IF(入力用!F16=\"\",\"\",入力用!F16)","v":""},null,null,null,null,"-",{"$f":"IF(入力用!I16=\"\",\"\",入力用!I16)","v":""},null,null,null,null,")"]
[]
[null,null,null,null,null,null,"お支払\n方　法",null,null,null,null,{"$f":"IF(入力用!P17=2,入力用!P5,IF(入力用!P17=3,入力用!P6,IF(入力用!P17=4,入力用!P7,\"\")))","v":""},null,null,null,null,null,null,null,null,null,"支　払\n者　名",null,null,null,null,{"$f":"MID(入力用!$D$18,1,1)","v":""},{"$f":"MID(入力用!$D$18,2,1)","v":""},{"$f":"MID(入力用!$D$18,3,1)","v":""},{"$f":"MID(入力用!$D$18,4,1)","v":""},{"$f":"MID(入力用!$D$18,5,1)","v":""},{"$f":"MID(入力用!$D$18,6,1)","v":""},{"$f":"MID(入力用!$D$18,7,1)","v":""},{"$f":"MID(入力用!$D$18,8,1)","v":""},{"$f":"MID(入力用!$D$18,9,1)","v":""},{"$f":"MID(入力用!$D$18,10,1)","v":""},{"$f":"MID(入力用!$D$18,11,1)","v":""},{"$f":"MID(入力用!$D$18,12,1)","v":""},{"$f":"MID(入力用!$D$18,13,1)","v":""},{"$f":"MID(入力用!$D$18,14,1)","v":""},{"$f":"MID(入力用!$D$18,15,1)","v":""},{"$f":"MID(入力用!$D$18,16,1)","v":""},{"$f":"MID(入力用!$D$18,17,1)","v":""},{"$f":"MID(入力用!$D$18,18,1)","v":""},{"$f":"MID(入力用!$D$18,19,1)","v":""},{"$f":"MID(入力用!$D$18,20,1)","v":""},"請求書\n送付先",null,null,null,null,"(〒",null,{"$f":"LEFT(入力用!D20,3)","v":""},null,null,"-",{"$f":"RIGHT(入力用!D20,4)","v":""},null,null,null,")",null,{"$f":"IF(入力用!D21=\"同上\",\"\",LEFT(入力用!D21,11))","v":""},null,null,null,null,null,null,null,null,null,null,null,null,null,null,null,null,null,"契約種別",null,null,null,null,{"$f":"IF(入力用!P23=2,入力用!Q5,IF(入力用!P23=3,入力用!Q6,\"\"))","v":""},null,null,null,null,null,null,null,null,null,"供給電気\n方 式 ・\n供給電圧",null,null,null,null,{"$f":"IF(入力用!P24=2,入力用!R5,IF(入力用!P24=3,入力用!R6,IF(P26=4,入力用!R7,\"\")))","v":""}]
[]
[null,null,null,null,null,null,null,null,null,null,null,null,null,null,null,null,null,null,null,null,null,null,null,null,null,null,{"$f":"MID(入力用!$D$18,21,1)","v":""},{"$f":"MID(入力用!$D$18,22,1)","v":""},{"$f":"MID(入力用!$D$18,23,1)","v":""},{"$f":"MID(入力用!$D$18,24,1)","v":""},{"$f":"MID(入力用!$D$18,25,1)","v":""},{"$f":"MID(入力用!$D$18,26,1)","v":""},{"$f":"MID(入力用!$D$18,27,1)","v":""},{"$f":"MID(入力用!$D$18,28,1)","v":""},{"$f":"MID(入力用!$D$18,29,1)","v":""},{"$f":"MID(入力用!$D$18,30,1)","v":""},{"$f":"MID(入力用!$D$18,31,1)","v":""},{"$f":"MID(入力用!$D$18,32,1)","v":""},{"$f":"MID(入力用!$D$18,33,1)","v":""},{"$f":"MID(入力用!$D$18,34,1)","v":""},{"$f":"MID(入力用!$D$18,35,1)","v":""},{"$f":"MID(入力用!$D$18,36,1)","v":""},{"$f":"MID(入力用!$D$18,37,1)","v":""},{"$f":"MID(入力用!$D$18,38,1)","v":""},{"$f":"MID(入力用!$D$18,39,1)","v":""},{"$f":"MID(入力用!$D$18,40,1)","v":""}]
[null,null,null,null,null,null,null,null,null,null,null,null,null,null,null,null,null,null,null,null,null,null,null,null,null,null,null,null,null,null,null,null,null,null,null,null,null,null,null,null,null,null,null,null,null,null,null,null,null,null,null,{"$f":"IF(入力用!D21=\"同上\",入力用!D21,MID(入力用!D21,12,19))","v":""}]
[null,null,null,null,null,null,null,null,null,null,null,null,null,null,null,null,null,null,null,null,null,null,null,null,null,null,{"$f":"IF(入力用!D19=\"\",\"\",入力用!D19)","v":""}]
[]
[null,null,null,null,null,null,null,null,null,null,null,null,null,null,null,null,null,null,null,null,null,null,null,null,null,null,null,null,null,null,null,null,null,null,null,null,null,null,null,null,null,null,null,null,null,null,null,null,null,null,null,{"$f":"MID(入力用!D21,31,5)","v":""},null,null,null,null,null,null,null,"電話(",null,null,null,{"$f":"IF(入力用!D22=\"\",\"\",入力用!D22)","v":""},null,null,null,null,"-",{"$f":"IF(入力用!F22=\"\",\"\",入力用!F22)","v":""},null,null,null,null,"-",{"$f":"IF(入力用!I22=\"\",\"\",入力用!I22)","v":""},null,null,null,null,")"]
[]
[null,"受付№\n枝番",null,null,null,"　（上段）ご　使　用　場　所",null,null,null,null,null,null,null,null,null,null,null,null,null,null,null,null,null,null,null,"契　　　約　　　負　　　荷　　　設　　　備　　　内　　　訳",null,null,null,null,null,null,null,null,null,null,null,null,null,null,null,null,null,null,null,null,null,null,null,null,null,null,null,null,null,null,null,null,null,null,null,null,null,null,null,null,null,null,null,null,null,null,null,null,null,null,null,null,null,"供給地点特定番号"]
[]
[null,null,null,null,null,"　（下段）ご契約名義（カナ）",null,null,null,null,null,null,null,null,null,null,null,null,null,null,null,null,null,null,null,"機　　器　　種　　別",null,null,null,null,null,null,null,null,null,null,null,null,"出　力",null,null,null,null,null,null,null,"力　率",null,null,null,null,null,"入　力",null,null,null,null,null,null,null,"灯 個 数",null,null,null,null,null,null,"取　付　位　置",null,null,null,null,null,null,null,null,null,null,null,null,null,null,null,"発行\n回数",null,null,"支店",null,"ﾌﾞﾛｯｸ",null,null,"住所",null,null,null,"街区",null,null,"契約№",null,null,null,"枝番",null,null,"種別"]
[]
[null,0,null,null,null,{"$f":"IF(入力用!D26=\"\",\"\",入力用!D26)","v":""},null,null,null,null,null,null,null,null,null,null,null,null,null,null,null,null,null,null,null,{"$f":"IF(入力用!P28=2,入力用!S5,IF(入力用!P28=3,入力用!S6,IF(入力用!P28=4,入力用!S7,IF(入力用!P28=5,入力用!S8,IF(入力用!P28=6,入力用!L28,\"\")))))","v":""},null,null,null,null,null,null,null,null,null,null,null,null,{"$f":"IF(入力用!D29=\"\",\"\",入力用!D29)","v":""},null,null,null,null,null,"W",null,{"$f":"IF(入力用!P30=2,入力用!T5,IF(入力用!P30=3,入力用!T6,\"\"))","v":""},null,null,null,null,null,{"$f":"IF(入力用!D31=\"\",\"\",入力用!D31)","v":""},null,null,null,null,null,"VA",null,{"$f":"IF(入力用!D32=\"\",\"\",入力用!D32)","v":""},null,null,null,null,{"$f":"IF(入力用!P32=2,入力用!U5,IF(入力用!P32=3,入力用!U6,\"\"))","v":""},null,{"$f":"IF(入力用!P33=2,入力用!V5,IF(入力用!P33=3,入力用!V6,IF(入力用!P33=4,入力用!V7,IF(入力用!P33=5,入力用!L33,\"\"))))","v":""},null,null,null,null,null,null,null,null,null,null,null,"010",null,null,null,null,null,null,null,null,null,null,null,null,null,null,null,null,null,null,null,null,null,null,null,null,null,null,null,null,"00"]
[]
[]
[null,null,null,null,null,null,null,null,null,null,null,null,null,null,null,null,null,null,null,null,null,null,null,null,null,{"$f":"IF(入力用!P34=2,入力用!S5,IF(入力用!P34=3,入力用!S6,IF(入力用!P34=4,入力用!S7,IF(入力用!P34=5,入力用!S8,IF(入力用!P34=6,入力用!L34,\"\")))))","v":""},null,null,null,null,null,null,null,null,null,null,null,null,{"$f":"IF(入力用!D35=\"\",\"\",入力用!D35)","v":""},null,null,null,null,null,"W",null,{"$f":"IF(入力用!P36=2,入力用!T5,IF(入力用!P36=3,入力用!T6,\"\"))","v":""},null,null,null,null,null,{"$f":"IF(入力用!D37=\"\",\"\",入力用!D37)","v":""},null,null,null,null,null,"VA",null,{"$f":"IF(入力用!D38=\"\",\"\",入力用!D38)","v":""},null,null,null,null,{"$f":"IF(入力用!P38=2,入力用!U5,IF(入力用!P38=3,入力用!U6,\"\"))","v":""},null,{"$f":"IF(入力用!P39=2,入力用!V5,IF(入力用!P39=3,入力用!V6,IF(入力用!P39=4,入力用!V7,IF(入力用!P39=5,入力用!L39,\"\"))))","v":""}]
[]
[null,null,null,null,null,{"$f":"MID(入力用!$D$27,1,1)","v":""},{"$f":"MID(入力用!$D$27,2,1)","v":""},{"$f":"MID(入力用!$D$27,3,1)","v":""},{"$f":"MID(入力用!$D$27,4,1)","v":""},{"$f":"MID(入力用!$D$27,5,1)","v":""},{"$f":"MID(入力用!$D$27,6,1)","v":""},{"$f":"MID(入力用!$D$27,7,1)","v":""},{"$f":"MID(入力用!$D$27,8,1)","v":""},{"$f":"MID(入力用!$D$27,9,1)","v":""},{"$f":"MID(入力用!$D$27,10,1)","v":""},{"$f":"MID(入力用!$D$27,11,1)","v":""},{"$f":"MID(入力用!$D$27,12,1)","v":""},{"$f":"MID(入力用!$D$27,13,1)","v":""},{"$f":"MID(入力用!$D$27,14,1)","v":""},{"$f":"MID(入力用!$D$27,15,1)","v":""},{"$f":"MID(入力用!$D$27,16,1)","v":""},{"$f":"MID(入力用!$D$27,17,1)","v":""},{"$f":"MID(入力用!$D$27,18,1)","v":""},{"$f":"MID(入力用!$D$27,19,1)","v":""},{"$f":"MID(入力用!$D$27,20,1)","v":""}]
[null,null,null,null,null,null,null,null,null,null,null,null,null,null,null,null,null,null,null,null,null,null,null,null,null,{"$f":"IF(入力用!P40=2,入力用!S5,IF(入力用!P40=3,入力用!S6,IF(入力用!P40=4,入力用!S7,IF(入力用!P40=5,入力用!S8,IF(入力用!P40=6,入力用!L40,\"\")))))","v":""},null,null,null,null,null,null,null,null,null,null,null,null,{"$f":"IF(入力用!D41=\"\",\"\",入力用!D41)","v":""},null,null,null,null,null,"W",null,{"$f":"IF(入力用!P42=2,入力用!T5,IF(入力用!P42=3,入力用!T6,\"\"))","v":""},null,null,null,null,null,{"$f":"IF(入力用!D43=\"\",\"\",入力用!D43)","v":""},null,null,null,null,null,"VA",null,{"$f":"IF(入力用!D44=\"\",\"\",入力用!D44)","v":""},null,null,null,null,{"$f":"IF(入力用!P44=2,入力用!U5,IF(入力用!P44=3,入力用!U6,\"\"))","v":""},null,{"$f":"IF(入力用!P45=2,入力用!V5,IF(入力用!P45=3,入力用!V6,IF(入力用!P45=4,入力用!V7,IF(入力用!P45=5,入力用!L45,\"\"))))","v":""}]
[null,null,null,null,null,{"$f":"MID(入力用!$D$27,21,1)","v":""},{"$f":"MID(入力用!$D$27,22,1)","v":""},{"$f":"MID(入力用!$D$27,23,1)","v":""},{"$f":"MID(入力用!$D$27,24,1)","v":""},{"$f":"MID(入力用!$D$27,25,1)","v":""},{"$f":"MID(入力用!$D$27,26,1)","v":""},{"$f":"MID(入力用!$D$27,27,1)","v":""},{"$f":"MID(入力用!$D$27,28,1)","v":""},{"$f":"MID(入力用!$D$27,29,1)","v":""},{"$f":"MID(入力用!$D$27,30,1)","v":""},{"$f":"MID(入力用!$D$27,31,1)","v":""},{"$f":"MID(入力用!$D$27,32,1)","v":""},{"$f":"MID(入力用!$D$27,33,1)","v":""},{"$f":"MID(入力用!$D$27,34,1)","v":""},{"$f":"MID(入力用!$D$27,35,1)","v":""},{"$f":"MID(入力用!$D$27,36,1)","v":""},{"$f":"MID(入力用!$D$27,37,1)","v":""},{"$f":"MID(入力用!$D$27,38,1)","v":""},{"$f":"MID(入力用!$D$27,39,1)","v":""},{"$f":"MID(入力用!$D$27,40,1)","v":""}]
[]
[null,1,null,null,null,{"$f":"IF(入力用!D46=\"\",\"\",入力用!D46)","v":""},null,null,null,null,null,null,null,null,null,null,null,null,null,null,null,null,null,null,null,{"$f":"IF(入力用!P48=2,入力用!S5,IF(入力用!P48=3,入力用!S6,IF(入力用!P48=4,入力用!S7,IF(入力用!P48=5,入力用!S8,IF(入力用!P48=6,入力用!L48,\"\")))))","v":""},null,null,null,null,null,null,null,null,null,null,null,null,{"$f":"IF(入力用!D49=\"\",\"\",入力用!D49)","v":""},null,null,null,null,null,"W",null,{"$f":"IF(入力用!P50=2,入力用!T5,IF(入力用!P50=3,入力用!T6,\"\"))","v":""},null,null,null,null,null,{"$f":"IF(入力用!D51=\"\",\"\",入力用!D51)","v":""},null,null,null,null,null,"VA",null,{"$f":"IF(入力用!D52=\"\",\"\",入力用!D52)","v":""},null,null,null,null,{"$f":"IF(入力用!P52=2,入力用!U5,IF(入力用!P52=3,入力用!U6,\"\"))","v":""},null,{"$f":"IF(入力用!P53=2,入力用!V5,IF(入力用!P53=3,入力用!V6,IF(入力用!P53=4,入力用!V7,IF(入力用!P53=5,入力用!L53,\"\"))))","v":""},null,null,null,null,null,null,null,null,null,null,null,"010",null,null,null,null,null,null,null,null,null,null,null,null,null,null,null,null,null,null,null,null,null,null,null,null,null,null,null,null,"00"]
[]
[]
[null,null,null,null,null,null,null,null,null,null,null,null,null,null,null,null,null,null,null,null,null,null,null,null,null,{"$f":"IF(入力用!P54=2,入力用!S5,IF(入力用!P54=3,入力用!S6,IF(入力用!P54=4,入力用!S7,IF(入力用!P54=5,入力用!S8,IF(入力用!P54=6,入力用!L54,\"\")))))","v":""},null,null,null,null,null,null,null,null,null,null,null,null,{"$f":"IF(入力用!D55=\"\",\"\",入力用!D55)","v":""},null,null,null,null,null,"W",null,{"$f":"IF(入力用!P56=2,入力用!T5,IF(入力用!P56=3,入力用!T6,\"\"))","v":""},null,null,null,null,null,{"$f":"IF(入力用!D57=\"\",\"\",入力用!D57)","v":""},null,null,null,null,null,"VA",null,{"$f":"IF(入力用!D58=\"\",\"\",入力用!D58)","v":""},null,null,null,null,{"$f":"IF(入力用!P58=2,入力用!U5,IF(入力用!P58=3,入力用!U6,\"\"))","v":""},null,{"$f":"IF(入力用!P59=2,入力用!V5,IF(入力用!P59=3,入力用!V6,IF(入力用!P59=4,入力用!V7,IF(入力用!P59=5,入力用!L59,\"\"))))","v":""}]
[]
[null,null,null,null,null,{"$f":"MID(入力用!$D$47,1,1)","v":""},{"$f":"MID(入力用!$D$47,2,1)","v":""},{"$f":"MID(入力用!$D$47,3,1)","v":""},{"$f":"MID(入力用!$D$47,4,1)","v":""},{"$f":"MID(入力用!$D$47,5,1)","v":""},{"$f":"MID(入力用!$D$47,6,1)","v":""},{"$f":"MID(入力用!$D$47,7,1)","v":""},{"$f":"MID(入力用!$D$47,8,1)","v":""},{"$f":"MID(入力用!$D$47,9,1)","v":""},{"$f":"MID(入力用!$D$47,10,1)","v":""},{"$f":"MID(入力用!$D$47,11,1)","v":""},{"$f":"MID(入力用!$D$47,12,1)","v":""},{"$f":"MID(入力用!$D$47,13,1)","v":""},{"$f":"MID(入力用!$D$47,14,1)","v":""},{"$f":"MID(入力用!$D$47,15,1)","v":""},{"$f":"MID(入力用!$D$47,16,1)","v":""},{"$f":"MID(入力用!$D$47,17,1)","v":""},{"$f":"MID(入力用!$D$47,18,1)","v":""},{"$f":"MID(入力用!$D$47,19,1)","v":""},{"$f":"MID(入力用!$D$47,20,1)","v":""}]
[null,null,null,null,null,null,null,null,null,null,null,null,null,null,null,null,null,null,null,null,null,null,null,null,null,{"$f":"IF(入力用!P60=2,入力用!S5,IF(入力用!P60=3,入力用!S6,IF(入力用!P60=4,入力用!S7,IF(入力用!P60=5,入力用!S8,IF(入力用!P60=6,入力用!L60,\"\")))))","v":""},null,null,null,null,null,null,null,null,null,null,null,null,{"$f":"IF(入力用!D61=\"\",\"\",入力用!D61)","v":""},null,null,null,null,null,"W",null,{"$f":"IF(入力用!P62=2,入力用!T5,IF(入力用!P62=3,入力用!T6,\"\"))","v":""},null,null,null,null,null,{"$f":"IF(入力用!D63=\"\",\"\",入力用!D63)","v":""},null,null,null,null,null,"VA",null,{"$f":"IF(入力用!D64=\"\",\"\",入力用!D64)","v":""},null,null,null,null,{"$f":"IF(入力用!P64=2,入力用!U5,IF(入力用!P64=3,入力用!U6,\"\"))","v":""},null,{"$f":"IF(入力用!P65=2,入力用!V5,IF(入力用!P65=3,入力用!V6,IF(入力用!P65=4,入力用!V7,IF(入力用!P65=5,入力用!L65,\"\"))))","v":""}]
[null,null,null,null,null,{"$f":"MID(入力用!$D$47,21,1)","v":""},{"$f":"MID(入力用!$D$47,22,1)","v":""},{"$f":"MID(入力用!$D$47,23,1)","v":""},{"$f":"MID(入力用!$D$47,24,1)","v":""},{"$f":"MID(入力用!$D$47,25,1)","v":""},{"$f":"MID(入力用!$D$47,26,1)","v":""},{"$f":"MID(入力用!$D$47,27,1)","v":""},{"$f":"MID(入力用!$D$47,28,1)","v":""},{"$f":"MID(入力用!$D$47,29,1)","v":""},{"$f":"MID(入力用!$D$47,30,1)","v":""},{"$f":"MID(入力用!$D$47,31,1)","v":""},{"$f":"MID(入力用!$D$47,32,1)","v":""},{"$f":"MID(入力用!$D$47,33,1)","v":""},{"$f":"MID(入力用!$D$47,34,1)","v":""},{"$f":"MID(入力用!$D$47,35,1)","v":""},{"$f":"MID(入力用!$D$47,36,1)","v":""},{"$f":"MID(入力用!$D$47,37,1)","v":""},{"$f":"MID(入力用!$D$47,38,1)","v":""},{"$f":"MID(入力用!$D$47,39,1)","v":""},{"$f":"MID(入力用!$D$47,40,1)","v":""}]
[]
[null,2,null,null,null,{"$f":"IF(入力用!D66=\"\",\"\",入力用!D66)","v":""},null,null,null,null,null,null,null,null,null,null,null,null,null,null,null,null,null,null,null,{"$f":"IF(入力用!P68=2,入力用!S5,IF(入力用!P68=3,入力用!S6,IF(入力用!P68=4,入力用!S7,IF(入力用!P68=5,入力用!S8,IF(入力用!P68=6,入力用!L68,\"\")))))","v":""},null,null,null,null,null,null,null,null,null,null,null,null,{"$f":"IF(入力用!D69=\"\",\"\",入力用!D69)","v":""},null,null,null,null,null,"W",null,{"$f":"IF(入力用!P70=2,入力用!T5,IF(入力用!P70=3,入力用!T6,\"\"))","v":""},null,null,null,null,null,{"$f":"IF(入力用!D71=\"\",\"\",入力用!D71)","v":""},null,null,null,null,null,"VA",null,{"$f":"IF(入力用!D72=\"\",\"\",入力用!D72)","v":""},null,null,null,null,{"$f":"IF(入力用!P72=2,入力用!U5,IF(入力用!P72=3,入力用!U6,\"\"))","v":""},null,{"$f":"IF(入力用!P73=2,入力用!V5,IF(入力用!P73=3,入力用!V6,IF(入力用!P73=4,入力用!V7,IF(入力用!P73=5,入力用!L73,\"\"))))","v":""},null,null,null,null,null,null,null,null,null,null,null,"010",null,null,null,null,null,null,null,null,null,null,null,null,null,null,null,null,null,null,null,null,null,null,null,null,null,null,null,null,"00"]
[]
[]
[null,null,null,null,null,null,null,null,null,null,null,null,null,null,null,null,null,null,null,null,null,null,null,null,null,{"$f":"IF(入力用!P74=2,入力用!S5,IF(入力用!P74=3,入力用!S6,IF(入力用!P74=4,入力用!S7,IF(入力用!P74=5,入力用!S8,IF(入力用!P74=6,入力用!L74,\"\")))))","v":""},null,null,null,null,null,null,null,null,null,null,null,null,{"$f":"IF(入力用!D75=\"\",\"\",入力用!D75)","v":""},null,null,null,null,null,"W",null,{"$f":"IF(入力用!P76=2,入力用!T5,IF(入力用!P76=3,入力用!T6,\"\"))","v":""},null,null,null,null,null,{"$f":"IF(入力用!D77=\"\",\"\",入力用!D77)","v":""},null,null,null,null,null,"VA",null,{"$f":"IF(入力用!D78=\"\",\"\",入力用!D78)","v":""},null,null,null,null,{"$f":"IF(入力用!P78=2,入力用!U5,IF(入力用!P78=3,入力用!U6,\"\"))","v":""},null,{"$f":"IF(入力用!P79=2,入力用!V5,IF(入力用!P79=3,入力用!V6,IF(入力用!P79=4,入力用!V7,IF(入力用!P79=5,入力用!L79,\"\"))))","v":""}]
[]
[null,null,null,null,null,{"$f":"MID(入力用!$D$67,1,1)","v":""},{"$f":"MID(入力用!$D$67,2,1)","v":""},{"$f":"MID(入力用!$D$67,3,1)","v":""},{"$f":"MID(入力用!$D$67,4,1)","v":""},{"$f":"MID(入力用!$D$67,5,1)","v":""},{"$f":"MID(入力用!$D$67,6,1)","v":""},{"$f":"MID(入力用!$D$67,7,1)","v":""},{"$f":"MID(入力用!$D$67,8,1)","v":""},{"$f":"MID(入力用!$D$67,9,1)","v":""},{"$f":"MID(入力用!$D$67,10,1)","v":""},{"$f":"MID(入力用!$D$67,11,1)","v":""},{"$f":"MID(入力用!$D$67,12,1)","v":""},{"$f":"MID(入力用!$D$67,13,1)","v":""},{"$f":"MID(入力用!$D$67,14,1)","v":""},{"$f":"MID(入力用!$D$67,15,1)","v":""},{"$f":"MID(入力用!$D$67,16,1)","v":""},{"$f":"MID(入力用!$D$67,17,1)","v":""},{"$f":"MID(入力用!$D$67,18,1)","v":""},{"$f":"MID(入力用!$D$67,19,1)","v":""},{"$f":"MID(入力用!$D$67,20,1)","v":""}]
[null,null,null,null,null,null,null,null,null,null,null,null,null,null,null,null,null,null,null,null,null,null,null,null,null,{"$f":"IF(入力用!P80=2,入力用!S5,IF(入力用!P80=3,入力用!S6,IF(入力用!P80=4,入力用!S7,IF(入力用!P80=5,入力用!S8,IF(入力用!P80=6,入力用!L80,\"\")))))","v":""},null,null,null,null,null,null,null,null,null,null,null,null,{"$f":"IF(入力用!D81=\"\",\"\",入力用!D81)","v":""},null,null,null,null,null,"W",null,{"$f":"IF(入力用!P82=2,入力用!T5,IF(入力用!P82=3,入力用!T6,\"\"))","v":""},null,null,null,null,null,{"$f":"IF(入力用!D83=\"\",\"\",入力用!D83)","v":""},null,null,null,null,null,"VA",null,{"$f":"IF(入力用!D84=\"\",\"\",入力用!D84)","v":""},null,null,null,null,{"$f":"IF(入力用!P84=2,入力用!U5,IF(入力用!P84=3,入力用!U6,\"\"))","v":""},null,{"$f":"IF(入力用!P85=2,入力用!V5,IF(入力用!P85=3,入力用!V6,IF(入力用!P85=4,入力用!V7,IF(入力用!P85=5,入力用!L85,\"\"))))","v":""}]
[null,null,null,null,null,{"$f":"MID(入力用!$D$67,21,1)","v":""},{"$f":"MID(入力用!$D$67,22,1)","v":""},{"$f":"MID(入力用!$D$67,23,1)","v":""},{"$f":"MID(入力用!$D$67,24,1)","v":""},{"$f":"MID(入力用!$D$67,25,1)","v":""},{"$f":"MID(入力用!$D$67,26,1)","v":""},{"$f":"MID(入力用!$D$67,27,1)","v":""},{"$f":"MID(入力用!$D$67,28,1)","v":""},{"$f":"MID(入力用!$D$67,29,1)","v":""},{"$f":"MID(入力用!$D$67,30,1)","v":""},{"$f":"MID(入力用!$D$67,31,1)","v":""},{"$f":"MID(入力用!$D$67,32,1)","v":""},{"$f":"MID(入力用!$D$67,33,1)","v":""},{"$f":"MID(入力用!$D$67,34,1)","v":""},{"$f":"MID(入力用!$D$67,35,1)","v":""},{"$f":"MID(入力用!$D$67,36,1)","v":""},{"$f":"MID(入力用!$D$67,37,1)","v":""},{"$f":"MID(入力用!$D$67,38,1)","v":""},{"$f":"MID(入力用!$D$67,39,1)","v":""},{"$f":"MID(入力用!$D$67,40,1)","v":""}]
[]
[null,3,null,null,null,{"$f":"IF(入力用!D86=\"\",\"\",入力用!D86)","v":""},null,null,null,null,null,null,null,null,null,null,null,null,null,null,null,null,null,null,null,{"$f":"IF(入力用!P88=2,入力用!S5,IF(入力用!P88=3,入力用!S6,IF(入力用!P88=4,入力用!S7,IF(入力用!P88=5,入力用!S8,IF(入力用!P88=6,入力用!L88,\"\")))))","v":""},null,null,null,null,null,null,null,null,null,null,null,null,{"$f":"IF(入力用!D89=\"\",\"\",入力用!D89)","v":""},null,null,null,null,null,"W",null,{"$f":"IF(入力用!P90=2,入力用!T5,IF(入力用!P90=3,入力用!T6,\"\"))","v":""},null,null,null,null,null,{"$f":"IF(入力用!D91=\"\",\"\",入力用!D91)","v":""},null,null,null,null,null,"VA",null,{"$f":"IF(入力用!D92=\"\",\"\",入力用!D92)","v":""},null,null,null,null,{"$f":"IF(入力用!P92=2,入力用!U5,IF(入力用!P92=3,入力用!U6,\"\"))","v":""},null,{"$f":"IF(入力用!P93=2,入力用!V5,IF(入力用!P93=3,入力用!V6,IF(入力用!P93=4,入力用!V7,IF(入力用!P93=5,入力用!L93,\"\"))))","v":""},null,null,null,null,null,null,null,null,null,null,null,"010",null,null,null,null,null,null,null,null,null,null,null,null,null,null,null,null,null,null,null,null,null,null,null,null,null,null,null,null,"00"]
[]
[]
[null,null,null,null,null,null,null,null,null,null,null,null,null,null,null,null,null,null,null,null,null,null,null,null,null,{"$f":"IF(入力用!P94=2,入力用!S5,IF(入力用!P94=3,入力用!S6,IF(入力用!P94=4,入力用!S7,IF(入力用!P94=5,入力用!S8,IF(入力用!P94=6,入力用!L94,\"\")))))","v":""},null,null,null,null,null,null,null,null,null,null,null,null,{"$f":"IF(入力用!D95=\"\",\"\",入力用!D95)","v":""},null,null,null,null,null,"W",null,{"$f":"IF(入力用!P96=2,入力用!T5,IF(入力用!P96=3,入力用!T6,\"\"))","v":""},null,null,null,null,null,{"$f":"IF(入力用!D97=\"\",\"\",入力用!D97)","v":""},null,null,null,null,null,"VA",null,{"$f":"IF(入力用!D98=\"\",\"\",入力用!D98)","v":""},null,null,null,null,{"$f":"IF(入力用!P98=2,入力用!U5,IF(入力用!P98=3,入力用!U6,\"\"))","v":""},null,{"$f":"IF(入力用!P99=2,入力用!V5,IF(入力用!P99=3,入力用!V6,IF(入力用!P99=4,入力用!V7,IF(入力用!P99=5,入力用!L99,\"\"))))","v":""}]
[]
[null,null,null,null,null,{"$f":"MID(入力用!$D$87,1,1)","v":""},{"$f":"MID(入力用!$D$87,2,1)","v":""},{"$f":"MID(入力用!$D$87,3,1)","v":""},{"$f":"MID(入力用!$D$87,4,1)","v":""},{"$f":"MID(入力用!$D$87,5,1)","v":""},{"$f":"MID(入力用!$D$87,6,1)","v":""},{"$f":"MID(入力用!$D$87,7,1)","v":""},{"$f":"MID(入力用!$D$87,8,1)","v":""},{"$f":"MID(入力用!$D$87,9,1)","v":""},{"$f":"MID(入力用!$D$87,10,1)","v":""},{"$f":"MID(入力用!$D$87,11,1)","v":""},{"$f":"MID(入力用!$D$87,12,1)","v":""},{"$f":"MID(入力用!$D$87,13,1)","v":""},{"$f":"MID(入力用!$D$87,14,1)","v":""},{"$f":"MID(入力用!$D$87,15,1)","v":""},{"$f":"MID(入力用!$D$87,16,1)","v":""},{"$f":"MID(入力用!$D$87,17,1)","v":""},{"$f":"MID(入力用!$D$87,18,1)","v":""},{"$f":"MID(入力用!$D$87,19,1)","v":""},{"$f":"MID(入力用!$D$87,20,1)","v":""}]
[null,null,null,null,null,null,null,null,null,null,null,null,null,null,null,null,null,null,null,null,null,null,null,null,null,{"$f":"IF(入力用!P100=2,入力用!S5,IF(入力用!P100=3,入力用!S6,IF(入力用!P100=4,入力用!S7,IF(入力用!P100=5,入力用!S8,IF(入力用!P100=6,入力用!L100,\"\")))))","v":""},null,null,null,null,null,null,null,null,null,null,null,null,{"$f":"IF(入力用!D101=\"\",\"\",入力用!D101)","v":""},null,null,null,null,null,"W",null,{"$f":"IF(入力用!P102=2,入力用!T5,IF(入力用!P102=3,入力用!T6,\"\"))","v":""},null,null,null,null,null,{"$f":"IF(入力用!D103=\"\",\"\",入力用!D103)","v":""},null,null,null,null,null,"VA",null,{"$f":"IF(入力用!D104=\"\",\"\",入力用!D104)","v":""},null,null,null,null,{"$f":"IF(入力用!P104=2,入力用!U5,IF(入力用!P104=3,入力用!U6,\"\"))","v":""},null,{"$f":"IF(入力用!P105=2,入力用!V5,IF(入力用!P105=3,入力用!V6,IF(入力用!P105=4,入力用!V7,IF(入力用!P105=5,入力用!L105,\"\"))))","v":""}]
[null,null,null,null,null,{"$f":"MID(入力用!$D$87,21,1)","v":""},{"$f":"MID(入力用!$D$87,22,1)","v":""},{"$f":"MID(入力用!$D$87,23,1)","v":""},{"$f":"MID(入力用!$D$87,24,1)","v":""},{"$f":"MID(入力用!$D$87,25,1)","v":""},{"$f":"MID(入力用!$D$87,26,1)","v":""},{"$f":"MID(入力用!$D$87,27,1)","v":""},{"$f":"MID(入力用!$D$87,28,1)","v":""},{"$f":"MID(入力用!$D$87,29,1)","v":""},{"$f":"MID(入力用!$D$87,30,1)","v":""},{"$f":"MID(入力用!$D$87,31,1)","v":""},{"$f":"MID(入力用!$D$87,32,1)","v":""},{"$f":"MID(入力用!$D$87,33,1)","v":""},{"$f":"MID(入力用!$D$87,34,1)","v":""},{"$f":"MID(入力用!$D$87,35,1)","v":""},{"$f":"MID(入力用!$D$87,36,1)","v":""},{"$f":"MID(入力用!$D$87,37,1)","v":""},{"$f":"MID(入力用!$D$87,38,1)","v":""},{"$f":"MID(入力用!$D$87,39,1)","v":""},{"$f":"MID(入力用!$D$87,40,1)","v":""}]
[]
[null,4,null,null,null,{"$f":"IF(入力用!D106=\"\",\"\",入力用!D106)","v":""},null,null,null,null,null,null,null,null,null,null,null,null,null,null,null,null,null,null,null,{"$f":"IF(入力用!P108=2,入力用!S5,IF(入力用!P108=3,入力用!S6,IF(入力用!P108=4,入力用!S7,IF(入力用!P108=5,入力用!S8,IF(入力用!P108=6,入力用!L108,\"\")))))","v":""},null,null,null,null,null,null,null,null,null,null,null,null,{"$f":"IF(入力用!D109=\"\",\"\",入力用!D109)","v":""},null,null,null,null,null,"W",null,{"$f":"IF(入力用!P110=2,入力用!T5,IF(入力用!P110=3,入力用!T6,\"\"))","v":""},null,null,null,null,null,{"$f":"IF(入力用!D111=\"\",\"\",入力用!D111)","v":""},null,null,null,null,null,"VA",null,{"$f":"IF(入力用!D112=\"\",\"\",入力用!D112)","v":""},null,null,null,null,{"$f":"IF(入力用!P112=2,入力用!U5,IF(入力用!P112=3,入力用!U6,\"\"))","v":""},null,{"$f":"IF(入力用!P113=2,入力用!V5,IF(入力用!P113=3,入力用!V6,IF(入力用!P113=4,入力用!V7,IF(入力用!P113=5,入力用!L113,\"\"))))","v":""},null,null,null,null,null,null,null,null,null,null,null,"010",null,null,null,null,null,null,null,null,null,null,null,null,null,null,null,null,null,null,null,null,null,null,null,null,null,null,null,null,"00"]
[]
[]
[null,null,null,null,null,null,null,null,null,null,null,null,null,null,null,null,null,null,null,null,null,null,null,null,null,{"$f":"IF(入力用!P114=2,入力用!S5,IF(入力用!P114=3,入力用!S6,IF(入力用!P114=4,入力用!S7,IF(入力用!P114=5,入力用!S8,IF(入力用!P114=6,入力用!L114,\"\")))))","v":""},null,null,null,null,null,null,null,null,null,null,null,null,{"$f":"IF(入力用!D115=\"\",\"\",入力用!D115)","v":""},null,null,null,null,null,"W",null,{"$f":"IF(入力用!P116=2,入力用!T5,IF(入力用!P116=3,入力用!T6,\"\"))","v":""},null,null,null,null,null,{"$f":"IF(入力用!D117=\"\",\"\",入力用!D117)","v":""},null,null,null,null,null,"VA",null,{"$f":"IF(入力用!D118=\"\",\"\",入力用!D118)","v":""},null,null,null,null,{"$f":"IF(入力用!P118=2,入力用!U5,IF(入力用!P118=3,入力用!U6,\"\"))","v":""},null,{"$f":"IF(入力用!P119=2,入力用!V5,IF(入力用!P119=3,入力用!V6,IF(入力用!P119=4,入力用!V7,IF(入力用!P119=5,入力用!L119,\"\"))))","v":""}]
[]
[null,null,null,null,null,{"$f":"MID(入力用!$D$107,1,1)","v":""},{"$f":"MID(入力用!$D$107,2,1)","v":""},{"$f":"MID(入力用!$D$107,3,1)","v":""},{"$f":"MID(入力用!$D$107,4,1)","v":""},{"$f":"MID(入力用!$D$107,5,1)","v":""},{"$f":"MID(入力用!$D$107,6,1)","v":""},{"$f":"MID(入力用!$D$107,7,1)","v":""},{"$f":"MID(入力用!$D$107,8,1)","v":""},{"$f":"MID(入力用!$D$107,9,1)","v":""},{"$f":"MID(入力用!$D$107,10,1)","v":""},{"$f":"MID(入力用!$D$107,11,1)","v":""},{"$f":"MID(入力用!$D$107,12,1)","v":""},{"$f":"MID(入力用!$D$107,13,1)","v":""},{"$f":"MID(入力用!$D$107,14,1)","v":""},{"$f":"MID(入力用!$D$107,15,1)","v":""},{"$f":"MID(入力用!$D$107,16,1)","v":""},{"$f":"MID(入力用!$D$107,17,1)","v":""},{"$f":"MID(入力用!$D$107,18,1)","v":""},{"$f":"MID(入力用!$D$107,19,1)","v":""},{"$f":"MID(入力用!$D$107,20,1)","v":""}]
[null,null,null,null,null,null,null,null,null,null,null,null,null,null,null,null,null,null,null,null,null,null,null,null,null,{"$f":"IF(入力用!P120=2,入力用!S5,IF(入力用!P120=3,入力用!S6,IF(入力用!P120=4,入力用!S7,IF(入力用!P120=5,入力用!S8,IF(入力用!P120=6,入力用!L120,\"\")))))","v":""},null,null,null,null,null,null,null,null,null,null,null,null,{"$f":"IF(入力用!D121=\"\",\"\",入力用!D121)","v":""},null,null,null,null,null,"W",null,{"$f":"IF(入力用!P122=2,入力用!T5,IF(入力用!P122=3,入力用!T6,\"\"))","v":""},null,null,null,null,null,{"$f":"IF(入力用!D123=\"\",\"\",入力用!D123)","v":""},null,null,null,null,null,"VA",null,{"$f":"IF(入力用!D124=\"\",\"\",入力用!D124)","v":""},null,null,null,null,{"$f":"IF(入力用!P124=2,入力用!U5,IF(入力用!P124=3,入力用!U6,\"\"))","v":""},null,{"$f":"IF(入力用!P125=2,入力用!V5,IF(入力用!P125=3,入力用!V6,IF(入力用!P125=4,入力用!V7,IF(入力用!P125=5,入力用!L125,\"\"))))","v":""}]
[null,null,null,null,null,{"$f":"MID(入力用!$D$107,21,1)","v":""},{"$f":"MID(入力用!$D$107,22,1)","v":""},{"$f":"MID(入力用!$D$107,23,1)","v":""},{"$f":"MID(入力用!$D$107,24,1)","v":""},{"$f":"MID(入力用!$D$107,25,1)","v":""},{"$f":"MID(入力用!$D$107,26,1)","v":""},{"$f":"MID(入力用!$D$107,27,1)","v":""},{"$f":"MID(入力用!$D$107,28,1)","v":""},{"$f":"MID(入力用!$D$107,29,1)","v":""},{"$f":"MID(入力用!$D$107,30,1)","v":""},{"$f":"MID(入力用!$D$107,31,1)","v":""},{"$f":"MID(入力用!$D$107,32,1)","v":""},{"$f":"MID(入力用!$D$107,33,1)","v":""},{"$f":"MID(入力用!$D$107,34,1)","v":""},{"$f":"MID(入力用!$D$107,35,1)","v":""},{"$f":"MID(入力用!$D$107,36,1)","v":""},{"$f":"MID(入力用!$D$107,37,1)","v":""},{"$f":"MID(入力用!$D$107,38,1)","v":""},{"$f":"MID(入力用!$D$107,39,1)","v":""},{"$f":"MID(入力用!$D$107,40,1)","v":""}]
[]
[null,5,null,null,null,{"$f":"IF(入力用!D126=\"\",\"\",入力用!D126)","v":""},null,null,null,null,null,null,null,null,null,null,null,null,null,null,null,null,null,null,null,{"$f":"IF(入力用!P128=2,入力用!S5,IF(入力用!P128=3,入力用!S6,IF(入力用!P128=4,入力用!S7,IF(入力用!P128=5,入力用!S8,IF(入力用!P128=6,入力用!L128,\"\")))))","v":""},null,null,null,null,null,null,null,null,null,null,null,null,{"$f":"IF(入力用!D129=\"\",\"\",入力用!D129)","v":""},null,null,null,null,null,"W",null,{"$f":"IF(入力用!P130=2,入力用!T5,IF(入力用!P130=3,入力用!T6,\"\"))","v":""},null,null,null,null,null,{"$f":"IF(入力用!D131=\"\",\"\",入力用!D131)","v":""},null,null,null,null,null,"VA",null,{"$f":"IF(入力用!D132=\"\",\"\",入力用!D132)","v":""},null,null,null,null,{"$f":"IF(入力用!P132=2,入力用!U5,IF(入力用!P132=3,入力用!U6,\"\"))","v":""},null,{"$f":"IF(入力用!P133=2,入力用!V5,IF(入力用!P133=3,入力用!V6,IF(入力用!P133=4,入力用!V7,IF(入力用!P133=5,入力用!L133,\"\"))))","v":""},null,null,null,null,null,null,null,null,null,null,null,"010",null,null,null,null,null,null,null,null,null,null,null,null,null,null,null,null,null,null,null,null,null,null,null,null,null,null,null,null,"00"]
[]
[]
[null,null,null,null,null,null,null,null,null,null,null,null,null,null,null,null,null,null,null,null,null,null,null,null,null,{"$f":"IF(入力用!P134=2,入力用!S5,IF(入力用!P134=3,入力用!S6,IF(入力用!P134=4,入力用!S7,IF(入力用!P134=5,入力用!S8,IF(入力用!P134=6,入力用!L134,\"\")))))","v":""},null,null,null,null,null,null,null,null,null,null,null,null,{"$f":"IF(入力用!D135=\"\",\"\",入力用!D135)","v":""},null,null,null,null,null,"W",null,{"$f":"IF(入力用!P136=2,入力用!T5,IF(入力用!P136=3,入力用!T6,\"\"))","v":""},null,null,null,null,null,{"$f":"IF(入力用!D137=\"\",\"\",入力用!D137)","v":""},null,null,null,null,null,"VA",null,{"$f":"IF(入力用!D138=\"\",\"\",入力用!D138)","v":""},null,null,null,null,{"$f":"IF(入力用!P138=2,入力用!U5,IF(入力用!P138=3,入力用!U6,\"\"))","v":""},null,{"$f":"IF(入力用!P139=2,入力用!V5,IF(入力用!P139=3,入力用!V6,IF(入力用!P139=4,入力用!V7,IF(入力用!P139=5,入力用!L139,\"\"))))","v":""}]
[]
[null,null,null,null,null,{"$f":"MID(入力用!$D$127,1,1)","v":""},{"$f":"MID(入力用!$D$127,2,1)","v":""},{"$f":"MID(入力用!$D$127,3,1)","v":""},{"$f":"MID(入力用!$D$127,4,1)","v":""},{"$f":"MID(入力用!$D$127,5,1)","v":""},{"$f":"MID(入力用!$D$127,6,1)","v":""},{"$f":"MID(入力用!$D$127,7,1)","v":""},{"$f":"MID(入力用!$D$127,8,1)","v":""},{"$f":"MID(入力用!$D$127,9,1)","v":""},{"$f":"MID(入力用!$D$127,10,1)","v":""},{"$f":"MID(入力用!$D$127,11,1)","v":""},{"$f":"MID(入力用!$D$127,12,1)","v":""},{"$f":"MID(入力用!$D$127,13,1)","v":""},{"$f":"MID(入力用!$D$127,14,1)","v":""},{"$f":"MID(入力用!$D$127,15,1)","v":""},{"$f":"MID(入力用!$D$127,16,1)","v":""},{"$f":"MID(入力用!$D$127,17,1)","v":""},{"$f":"MID(入力用!$D$127,18,1)","v":""},{"$f":"MID(入力用!$D$127,19,1)","v":""},{"$f":"MID(入力用!$D$127,20,1)","v":""}]
[null,null,null,null,null,null,null,null,null,null,null,null,null,null,null,null,null,null,null,null,null,null,null,null,null,{"$f":"IF(入力用!P140=2,入力用!S5,IF(入力用!P140=3,入力用!S6,IF(入力用!P140=4,入力用!S7,IF(入力用!P140=5,入力用!S8,IF(入力用!P140=6,入力用!L140,\"\")))))","v":""},null,null,null,null,null,null,null,null,null,null,null,null,{"$f":"IF(入力用!D141=\"\",\"\",入力用!D141)","v":""},null,null,null,null,null,"W",null,{"$f":"IF(入力用!P142=2,入力用!T5,IF(入力用!P142=3,入力用!T6,\"\"))","v":""},null,null,null,null,null,{"$f":"IF(入力用!D143=\"\",\"\",入力用!D143)","v":""},null,null,null,null,null,"VA",null,{"$f":"IF(入力用!D144=\"\",\"\",入力用!D144)","v":""},null,null,null,null,{"$f":"IF(入力用!P144=2,入力用!U5,IF(入力用!P144=3,入力用!U6,\"\"))","v":""},null,{"$f":"IF(入力用!P145=2,入力用!V5,IF(入力用!P145=3,入力用!V6,IF(入力用!P145=4,入力用!V7,IF(入力用!P145=5,入力用!L145,\"\"))))","v":""}]
[null,null,null,null,null,{"$f":"MID(入力用!$D$127,21,1)","v":""},{"$f":"MID(入力用!$D$127,22,1)","v":""},{"$f":"MID(入力用!$D$127,23,1)","v":""},{"$f":"MID(入力用!$D$127,24,1)","v":""},{"$f":"MID(入力用!$D$127,25,1)","v":""},{"$f":"MID(入力用!$D$127,26,1)","v":""},{"$f":"MID(入力用!$D$127,27,1)","v":""},{"$f":"MID(入力用!$D$127,28,1)","v":""},{"$f":"MID(入力用!$D$127,29,1)","v":""},{"$f":"MID(入力用!$D$127,30,1)","v":""},{"$f":"MID(入力用!$D$127,31,1)","v":""},{"$f":"MID(入力用!$D$127,32,1)","v":""},{"$f":"MID(入力用!$D$127,33,1)","v":""},{"$f":"MID(入力用!$D$127,34,1)","v":""},{"$f":"MID(入力用!$D$127,35,1)","v":""},{"$f":"MID(入力用!$D$127,36,1)","v":""},{"$f":"MID(入力用!$D$127,37,1)","v":""},{"$f":"MID(入力用!$D$127,38,1)","v":""},{"$f":"MID(入力用!$D$127,39,1)","v":""},{"$f":"MID(入力用!$D$127,40,1)","v":""}]
[]
[null,6,null,null,null,{"$f":"IF(入力用!D146=\"\",\"\",入力用!D146)","v":""},null,null,null,null,null,null,null,null,null,null,null,null,null,null,null,null,null,null,null,{"$f":"IF(入力用!P148=2,入力用!S5,IF(入力用!P148=3,入力用!S6,IF(入力用!P148=4,入力用!S7,IF(入力用!P148=5,入力用!S8,IF(入力用!P148=6,入力用!L148,\"\")))))","v":""},null,null,null,null,null,null,null,null,null,null,null,null,{"$f":"IF(入力用!D149=\"\",\"\",入力用!D149)","v":""},null,null,null,null,null,"W",null,{"$f":"IF(入力用!P150=2,入力用!T5,IF(入力用!P150=3,入力用!T6,\"\"))","v":""},null,null,null,null,null,{"$f":"IF(入力用!D151=\"\",\"\",入力用!D151)","v":""},null,null,null,null,null,"VA",null,{"$f":"IF(入力用!D152=\"\",\"\",入力用!D152)","v":""},null,null,null,null,{"$f":"IF(入力用!P152=2,入力用!U5,IF(入力用!P152=3,入力用!U6,\"\"))","v":""},null,{"$f":"IF(入力用!P153=2,入力用!V5,IF(入力用!P153=3,入力用!V6,IF(入力用!P153=4,入力用!V7,IF(入力用!P153=5,入力用!L153,\"\"))))","v":""},null,null,null,null,null,null,null,null,null,null,null,"010",null,null,null,null,null,null,null,null,null,null,null,null,null,null,null,null,null,null,null,null,null,null,null,null,null,null,null,null,"00"]
[]
[]
[null,null,null,null,null,null,null,null,null,null,null,null,null,null,null,null,null,null,null,null,null,null,null,null,null,{"$f":"IF(入力用!P154=2,入力用!S5,IF(入力用!P154=3,入力用!S6,IF(入力用!P154=4,入力用!S7,IF(入力用!P154=5,入力用!S8,IF(入力用!P154=6,入力用!L154,\"\")))))","v":""},null,null,null,null,null,null,null,null,null,null,null,null,{"$f":"IF(入力用!D155=\"\",\"\",入力用!D155)","v":""},null,null,null,null,null,"W",null,{"$f":"IF(入力用!P156=2,入力用!T5,IF(入力用!P156=3,入力用!T6,\"\"))","v":""},null,null,null,null,null,{"$f":"IF(入力用!D157=\"\",\"\",入力用!D157)","v":""},null,null,null,null,null,"VA",null,{"$f":"IF(入力用!D158=\"\",\"\",入力用!D158)","v":""},null,null,null,null,{"$f":"IF(入力用!P158=2,入力用!U5,IF(入力用!P158=3,入力用!U6,\"\"))","v":""},null,{"$f":"IF(入力用!P159=2,入力用!V5,IF(入力用!P159=3,入力用!V6,IF(入力用!P159=4,入力用!V7,IF(入力用!P159=5,入力用!L159,\"\"))))","v":""}]
[]
[null,null,null,null,null,{"$f":"MID(入力用!$D$147,1,1)","v":""},{"$f":"MID(入力用!$D$147,2,1)","v":""},{"$f":"MID(入力用!$D$147,3,1)","v":""},{"$f":"MID(入力用!$D$147,4,1)","v":""},{"$f":"MID(入力用!$D$147,5,1)","v":""},{"$f":"MID(入力用!$D$147,6,1)","v":""},{"$f":"MID(入力用!$D$147,7,1)","v":""},{"$f":"MID(入力用!$D$147,8,1)","v":""},{"$f":"MID(入力用!$D$147,9,1)","v":""},{"$f":"MID(入力用!$D$147,10,1)","v":""},{"$f":"MID(入力用!$D$147,11,1)","v":""},{"$f":"MID(入力用!$D$147,12,1)","v":""},{"$f":"MID(入力用!$D$147,13,1)","v":""},{"$f":"MID(入力用!$D$147,14,1)","v":""},{"$f":"MID(入力用!$D$147,15,1)","v":""},{"$f":"MID(入力用!$D$147,16,1)","v":""},{"$f":"MID(入力用!$D$147,17,1)","v":""},{"$f":"MID(入力用!$D$147,18,1)","v":""},{"$f":"MID(入力用!$D$147,19,1)","v":""},{"$f":"MID(入力用!$D$147,20,1)","v":""}]
[null,null,null,null,null,null,null,null,null,null,null,null,null,null,null,null,null,null,null,null,null,null,null,null,null,{"$f":"IF(入力用!P160=2,入力用!S5,IF(入力用!P160=3,入力用!S6,IF(入力用!P160=4,入力用!S7,IF(入力用!P160=5,入力用!S8,IF(入力用!P160=6,入力用!L160,\"\")))))","v":""},null,null,null,null,null,null,null,null,null,null,null,null,{"$f":"IF(入力用!D161=\"\",\"\",入力用!D161)","v":""},null,null,null,null,null,"W",null,{"$f":"IF(入力用!P162=2,入力用!T5,IF(入力用!P162=3,入力用!T6,\"\"))","v":""},null,null,null,null,null,{"$f":"IF(入力用!D163=\"\",\"\",入力用!D163)","v":""},null,null,null,null,null,"VA",null,{"$f":"IF(入力用!D164=\"\",\"\",入力用!D164)","v":""},null,null,null,null,{"$f":"IF(入力用!P164=2,入力用!U5,IF(入力用!P164=3,入力用!U6,\"\"))","v":""},null,{"$f":"IF(入力用!P165=2,入力用!V5,IF(入力用!P165=3,入力用!V6,IF(入力用!P165=4,入力用!V7,IF(入力用!P165=5,入力用!L165,\"\"))))","v":""}]
[null,null,null,null,null,{"$f":"MID(入力用!$D$147,21,1)","v":""},{"$f":"MID(入力用!$D$147,22,1)","v":""},{"$f":"MID(入力用!$D$147,23,1)","v":""},{"$f":"MID(入力用!$D$147,24,1)","v":""},{"$f":"MID(入力用!$D$147,25,1)","v":""},{"$f":"MID(入力用!$D$147,26,1)","v":""},{"$f":"MID(入力用!$D$147,27,1)","v":""},{"$f":"MID(入力用!$D$147,28,1)","v":""},{"$f":"MID(入力用!$D$147,29,1)","v":""},{"$f":"MID(入力用!$D$147,30,1)","v":""},{"$f":"MID(入力用!$D$147,31,1)","v":""},{"$f":"MID(入力用!$D$147,32,1)","v":""},{"$f":"MID(入力用!$D$147,33,1)","v":""},{"$f":"MID(入力用!$D$147,34,1)","v":""},{"$f":"MID(入力用!$D$147,35,1)","v":""},{"$f":"MID(入力用!$D$147,36,1)","v":""},{"$f":"MID(入力用!$D$147,37,1)","v":""},{"$f":"MID(入力用!$D$147,38,1)","v":""},{"$f":"MID(入力用!$D$147,39,1)","v":""},{"$f":"MID(入力用!$D$147,40,1)","v":""}]
[]
[null,7,null,null,null,{"$f":"IF(入力用!D166=\"\",\"\",入力用!D166)","v":""},null,null,null,null,null,null,null,null,null,null,null,null,null,null,null,null,null,null,null,{"$f":"IF(入力用!P168=2,入力用!S5,IF(入力用!P168=3,入力用!S6,IF(入力用!P168=4,入力用!S7,IF(入力用!P168=5,入力用!S8,IF(入力用!P168=6,入力用!L168,\"\")))))","v":""},null,null,null,null,null,null,null,null,null,null,null,null,{"$f":"IF(入力用!D169=\"\",\"\",入力用!D169)","v":""},null,null,null,null,null,"W",null,{"$f":"IF(入力用!P170=2,入力用!T5,IF(入力用!P170=3,入力用!T6,\"\"))","v":""},null,null,null,null,null,{"$f":"IF(入力用!D171=\"\",\"\",入力用!D171)","v":""},null,null,null,null,null,"VA",null,{"$f":"IF(入力用!D172=\"\",\"\",入力用!D172)","v":""},null,null,null,null,{"$f":"IF(入力用!P172=2,入力用!U5,IF(入力用!P172=3,入力用!U6,\"\"))","v":""},null,{"$f":"IF(入力用!P173=2,入力用!V5,IF(入力用!P173=3,入力用!V6,IF(入力用!P173=4,入力用!V7,IF(入力用!P173=5,入力用!L173,\"\"))))","v":""},null,null,null,null,null,null,null,null,null,null,null,"010",null,null,null,null,null,null,null,null,null,null,null,null,null,null,null,null,null,null,null,null,null,null,null,null,null,null,null,null,"00"]
[]
[]
[null,null,null,null,null,null,null,null,null,null,null,null,null,null,null,null,null,null,null,null,null,null,null,null,null,{"$f":"IF(入力用!P174=2,入力用!S5,IF(入力用!P174=3,入力用!S6,IF(入力用!P174=4,入力用!S7,IF(入力用!P174=5,入力用!S8,IF(入力用!P174=6,入力用!L174,\"\")))))","v":""},null,null,null,null,null,null,null,null,null,null,null,null,{"$f":"IF(入力用!D175=\"\",\"\",入力用!D175)","v":""},null,null,null,null,null,"W",null,{"$f":"IF(入力用!P176=2,入力用!T5,IF(入力用!P176=3,入力用!T6,\"\"))","v":""},null,null,null,null,null,{"$f":"IF(入力用!D177=\"\",\"\",入力用!D177)","v":""},null,null,null,null,null,"VA",null,{"$f":"IF(入力用!D178=\"\",\"\",入力用!D178)","v":""},null,null,null,null,{"$f":"IF(入力用!P178=2,入力用!U5,IF(入力用!P178=3,入力用!U6,\"\"))","v":""},null,{"$f":"IF(入力用!P179=2,入力用!V5,IF(入力用!P179=3,入力用!V6,IF(入力用!P179=4,入力用!V7,IF(入力用!P179=5,入力用!L179,\"\"))))","v":""}]
[]
[null,null,null,null,null,{"$f":"MID(入力用!$D$167,1,1)","v":""},{"$f":"MID(入力用!$D$167,2,1)","v":""},{"$f":"MID(入力用!$D$167,3,1)","v":""},{"$f":"MID(入力用!$D$167,4,1)","v":""},{"$f":"MID(入力用!$D$167,5,1)","v":""},{"$f":"MID(入力用!$D$167,6,1)","v":""},{"$f":"MID(入力用!$D$167,7,1)","v":""},{"$f":"MID(入力用!$D$167,8,1)","v":""},{"$f":"MID(入力用!$D$167,9,1)","v":""},{"$f":"MID(入力用!$D$167,10,1)","v":""},{"$f":"MID(入力用!$D$167,11,1)","v":""},{"$f":"MID(入力用!$D$167,12,1)","v":""},{"$f":"MID(入力用!$D$167,13,1)","v":""},{"$f":"MID(入力用!$D$167,14,1)","v":""},{"$f":"MID(入力用!$D$167,15,1)","v":""},{"$f":"MID(入力用!$D$167,16,1)","v":""},{"$f":"MID(入力用!$D$167,17,1)","v":""},{"$f":"MID(入力用!$D$167,18,1)","v":""},{"$f":"MID(入力用!$D$167,19,1)","v":""},{"$f":"MID(入力用!$D$167,20,1)","v":""}]
[null,null,null,null,null,null,null,null,null,null,null,null,null,null,null,null,null,null,null,null,null,null,null,null,null,{"$f":"IF(入力用!P180=2,入力用!S5,IF(入力用!P180=3,入力用!S6,IF(入力用!P180=4,入力用!S7,IF(入力用!P180=5,入力用!S8,IF(入力用!P180=6,入力用!L180,\"\")))))","v":""},null,null,null,null,null,null,null,null,null,null,null,null,{"$f":"IF(入力用!D181=\"\",\"\",入力用!D181)","v":""},null,null,null,null,null,"W",null,{"$f":"IF(入力用!P182=2,入力用!T5,IF(入力用!P182=3,入力用!T6,\"\"))","v":""},null,null,null,null,null,{"$f":"IF(入力用!D183=\"\",\"\",入力用!D183)","v":""},null,null,null,null,null,"VA",null,{"$f":"IF(入力用!D184=\"\",\"\",入力用!D184)","v":""},null,null,null,null,{"$f":"IF(入力用!P184=2,入力用!U5,IF(入力用!P184=3,入力用!U6,\"\"))","v":""},null,{"$f":"IF(入力用!P185=2,入力用!V5,IF(入力用!P185=3,入力用!V6,IF(入力用!P185=4,入力用!V7,IF(入力用!P185=5,入力用!L185,\"\"))))","v":""}]
[null,null,null,null,null,{"$f":"MID(入力用!$D$167,21,1)","v":""},{"$f":"MID(入力用!$D$167,22,1)","v":""},{"$f":"MID(入力用!$D$167,23,1)","v":""},{"$f":"MID(入力用!$D$167,24,1)","v":""},{"$f":"MID(入力用!$D$167,25,1)","v":""},{"$f":"MID(入力用!$D$167,26,1)","v":""},{"$f":"MID(入力用!$D$167,27,1)","v":""},{"$f":"MID(入力用!$D$167,28,1)","v":""},{"$f":"MID(入力用!$D$167,29,1)","v":""},{"$f":"MID(入力用!$D$167,30,1)","v":""},{"$f":"MID(入力用!$D$167,31,1)","v":""},{"$f":"MID(入力用!$D$167,32,1)","v":""},{"$f":"MID(入力用!$D$167,33,1)","v":""},{"$f":"MID(入力用!$D$167,34,1)","v":""},{"$f":"MID(入力用!$D$167,35,1)","v":""},{"$f":"MID(入力用!$D$167,36,1)","v":""},{"$f":"MID(入力用!$D$167,37,1)","v":""},{"$f":"MID(入力用!$D$167,38,1)","v":""},{"$f":"MID(入力用!$D$167,39,1)","v":""},{"$f":"MID(入力用!$D$167,40,1)","v":""}]
[]
[null,8,null,null,null,{"$f":"IF(入力用!D186=\"\",\"\",入力用!D186)","v":""},null,null,null,null,null,null,null,null,null,null,null,null,null,null,null,null,null,null,null,{"$f":"IF(入力用!P188=2,入力用!S5,IF(入力用!P188=3,入力用!S6,IF(入力用!P188=4,入力用!S7,IF(入力用!P188=5,入力用!S8,IF(入力用!P188=6,入力用!L188,\"\")))))","v":""},null,null,null,null,null,null,null,null,null,null,null,null,{"$f":"IF(入力用!D189=\"\",\"\",入力用!D189)","v":""},null,null,null,null,null,"W",null,{"$f":"IF(入力用!P190=2,入力用!T5,IF(入力用!P190=3,入力用!T6,\"\"))","v":""},null,null,null,null,null,{"$f":"IF(入力用!D191=\"\",\"\",入力用!D191)","v":""},null,null,null,null,null,"VA",null,{"$f":"IF(入力用!D192=\"\",\"\",入力用!D192)","v":""},null,null,null,null,{"$f":"IF(入力用!P192=2,入力用!U5,IF(入力用!P192=3,入力用!U6,\"\"))","v":""},null,{"$f":"IF(入力用!P193=2,入力用!V5,IF(入力用!P193=3,入力用!V6,IF(入力用!P193=4,入力用!V7,IF(入力用!P193=5,入力用!L193,\"\"))))","v":""},null,null,null,null,null,null,null,null,null,null,null,"010",null,null,null,null,null,null,null,null,null,null,null,null,null,null,null,null,null,null,null,null,null,null,null,null,null,null,null,null,"00"]
[]
[]
[null,null,null,null,null,null,null,null,null,null,null,null,null,null,null,null,null,null,null,null,null,null,null,null,null,{"$f":"IF(入力用!P194=2,入力用!S5,IF(入力用!P194=3,入力用!S6,IF(入力用!P194=4,入力用!S7,IF(入力用!P194=5,入力用!S8,IF(入力用!P194=6,入力用!L194,\"\")))))","v":""},null,null,null,null,null,null,null,null,null,null,null,null,{"$f":"IF(入力用!D195=\"\",\"\",入力用!D195)","v":""},null,null,null,null,null,"W",null,{"$f":"IF(入力用!P196=2,入力用!T5,IF(入力用!P196=3,入力用!T6,\"\"))","v":""},null,null,null,null,null,{"$f":"IF(入力用!D197=\"\",\"\",入力用!D197)","v":""},null,null,null,null,null,"VA",null,{"$f":"IF(入力用!D198=\"\",\"\",入力用!D198)","v":""},null,null,null,null,{"$f":"IF(入力用!P198=2,入力用!U5,IF(入力用!P198=3,入力用!U6,\"\"))","v":""},null,{"$f":"IF(入力用!P199=2,入力用!V5,IF(入力用!P199=3,入力用!V6,IF(入力用!P199=4,入力用!V7,IF(入力用!P199=5,入力用!L199,\"\"))))","v":""}]
[]
[null,null,null,null,null,{"$f":"MID(入力用!$D$187,1,1)","v":""},{"$f":"MID(入力用!$D$187,2,1)","v":""},{"$f":"MID(入力用!$D$187,3,1)","v":""},{"$f":"MID(入力用!$D$187,4,1)","v":""},{"$f":"MID(入力用!$D$187,5,1)","v":""},{"$f":"MID(入力用!$D$187,6,1)","v":""},{"$f":"MID(入力用!$D$187,7,1)","v":""},{"$f":"MID(入力用!$D$187,8,1)","v":""},{"$f":"MID(入力用!$D$187,9,1)","v":""},{"$f":"MID(入力用!$D$187,10,1)","v":""},{"$f":"MID(入力用!$D$187,11,1)","v":""},{"$f":"MID(入力用!$D$187,12,1)","v":""},{"$f":"MID(入力用!$D$187,13,1)","v":""},{"$f":"MID(入力用!$D$187,14,1)","v":""},{"$f":"MID(入力用!$D$187,15,1)","v":""},{"$f":"MID(入力用!$D$187,16,1)","v":""},{"$f":"MID(入力用!$D$187,17,1)","v":""},{"$f":"MID(入力用!$D$187,18,1)","v":""},{"$f":"MID(入力用!$D$187,19,1)","v":""},{"$f":"MID(入力用!$D$187,20,1)","v":""}]
[null,null,null,null,null,null,null,null,null,null,null,null,null,null,null,null,null,null,null,null,null,null,null,null,null,{"$f":"IF(入力用!P200=2,入力用!S5,IF(入力用!P200=3,入力用!S6,IF(入力用!P200=4,入力用!S7,IF(入力用!P200=5,入力用!S8,IF(入力用!P200=6,入力用!L200,\"\")))))","v":""},null,null,null,null,null,null,null,null,null,null,null,null,{"$f":"IF(入力用!D201=\"\",\"\",入力用!D201)","v":""},null,null,null,null,null,"W",null,{"$f":"IF(入力用!P202=2,入力用!T5,IF(入力用!P202=3,入力用!T6,\"\"))","v":""},null,null,null,null,null,{"$f":"IF(入力用!D203=\"\",\"\",入力用!D203)","v":""},null,null,null,null,null,"VA",null,{"$f":"IF(入力用!D204=\"\",\"\",入力用!D204)","v":""},null,null,null,null,{"$f":"IF(入力用!P204=2,入力用!U5,IF(入力用!P204=3,入力用!U6,\"\"))","v":""},null,{"$f":"IF(入力用!P205=2,入力用!V5,IF(入力用!P205=3,入力用!V6,IF(入力用!P205=4,入力用!V7,IF(入力用!P205=5,入力用!L205,\"\"))))","v":""}]
[null,null,null,null,null,{"$f":"MID(入力用!$D$187,21,1)","v":""},{"$f":"MID(入力用!$D$187,22,1)","v":""},{"$f":"MID(入力用!$D$187,23,1)","v":""},{"$f":"MID(入力用!$D$187,24,1)","v":""},{"$f":"MID(入力用!$D$187,25,1)","v":""},{"$f":"MID(入力用!$D$187,26,1)","v":""},{"$f":"MID(入力用!$D$187,27,1)","v":""},{"$f":"MID(入力用!$D$187,28,1)","v":""},{"$f":"MID(入力用!$D$187,29,1)","v":""},{"$f":"MID(入力用!$D$187,30,1)","v":""},{"$f":"MID(入力用!$D$187,31,1)","v":""},{"$f":"MID(入力用!$D$187,32,1)","v":""},{"$f":"MID(入力用!$D$187,33,1)","v":""},{"$f":"MID(入力用!$D$187,34,1)","v":""},{"$f":"MID(入力用!$D$187,35,1)","v":""},{"$f":"MID(入力用!$D$187,36,1)","v":""},{"$f":"MID(入力用!$D$187,37,1)","v":""},{"$f":"MID(入力用!$D$187,38,1)","v":""},{"$f":"MID(入力用!$D$187,39,1)","v":""},{"$f":"MID(入力用!$D$187,40,1)","v":""}]
[]
[null,9,null,null,null,{"$f":"IF(入力用!D206=\"\",\"\",入力用!D206)","v":""},null,null,null,null,null,null,null,null,null,null,null,null,null,null,null,null,null,null,null,{"$f":"IF(入力用!P208=2,入力用!S5,IF(入力用!P208=3,入力用!S6,IF(入力用!P208=4,入力用!S7,IF(入力用!P208=5,入力用!S8,IF(入力用!P208=6,入力用!L208,\"\")))))","v":""},null,null,null,null,null,null,null,null,null,null,null,null,{"$f":"IF(入力用!D209=\"\",\"\",入力用!D209)","v":""},null,null,null,null,null,"W",null,{"$f":"IF(入力用!P210=2,入力用!T5,IF(入力用!P210=3,入力用!T6,\"\"))","v":""},null,null,null,null,null,{"$f":"IF(入力用!D211=\"\",\"\",入力用!D211)","v":""},null,null,null,null,null,"VA",null,{"$f":"IF(入力用!D212=\"\",\"\",入力用!D212)","v":""},null,null,null,null,{"$f":"IF(入力用!P212=2,入力用!U5,IF(入力用!P212=3,入力用!U6,\"\"))","v":""},null,{"$f":"IF(入力用!P213=2,入力用!V5,IF(入力用!P213=3,入力用!V6,IF(入力用!P213=4,入力用!V7,IF(入力用!P213=5,入力用!L213,\"\"))))","v":""},null,null,null,null,null,null,null,null,null,null,null,"010",null,null,null,null,null,null,null,null,null,null,null,null,null,null,null,null,null,null,null,null,null,null,null,null,null,null,null,null,"00"]
[]
[]
[null,null,null,null,null,null,null,null,null,null,null,null,null,null,null,null,null,null,null,null,null,null,null,null,null,{"$f":"IF(入力用!P214=2,入力用!S5,IF(入力用!P214=3,入力用!S6,IF(入力用!P214=4,入力用!S7,IF(入力用!P214=5,入力用!S8,IF(入力用!P214=6,入力用!L214,\"\")))))","v":""},null,null,null,null,null,null,null,null,null,null,null,null,{"$f":"IF(入力用!D215=\"\",\"\",入力用!D215)","v":""},null,null,null,null,null,"W",null,{"$f":"IF(入力用!P216=2,入力用!T5,IF(入力用!P216=3,入力用!T6,\"\"))","v":""},null,null,null,null,null,{"$f":"IF(入力用!D217=\"\",\"\",入力用!D217)","v":""},null,null,null,null,null,"VA",null,{"$f":"IF(入力用!D218=\"\",\"\",入力用!D218)","v":""},null,null,null,null,{"$f":"IF(入力用!P218=2,入力用!U5,IF(入力用!P218=3,入力用!U6,\"\"))","v":""},null,{"$f":"IF(入力用!P219=2,入力用!V5,IF(入力用!P219=3,入力用!V6,IF(入力用!P219=4,入力用!V7,IF(入力用!P219=5,入力用!L219,\"\"))))","v":""}]
[]
[null,null,null,null,null,{"$f":"MID(入力用!$D$207,1,1)","v":""},{"$f":"MID(入力用!$D$207,2,1)","v":""},{"$f":"MID(入力用!$D$207,3,1)","v":""},{"$f":"MID(入力用!$D$207,4,1)","v":""},{"$f":"MID(入力用!$D$207,5,1)","v":""},{"$f":"MID(入力用!$D$207,6,1)","v":""},{"$f":"MID(入力用!$D$207,7,1)","v":""},{"$f":"MID(入力用!$D$207,8,1)","v":""},{"$f":"MID(入力用!$D$207,9,1)","v":""},{"$f":"MID(入力用!$D$207,10,1)","v":""},{"$f":"MID(入力用!$D$207,11,1)","v":""},{"$f":"MID(入力用!$D$207,12,1)","v":""},{"$f":"MID(入力用!$D$207,13,1)","v":""},{"$f":"MID(入力用!$D$207,14,1)","v":""},{"$f":"MID(入力用!$D$207,15,1)","v":""},{"$f":"MID(入力用!$D$207,16,1)","v":""},{"$f":"MID(入力用!$D$207,17,1)","v":""},{"$f":"MID(入力用!$D$207,18,1)","v":""},{"$f":"MID(入力用!$D$207,19,1)","v":""},{"$f":"MID(入力用!$D$207,20,1)","v":""}]
[null,null,null,null,null,null,null,null,null,null,null,null,null,null,null,null,null,null,null,null,null,null,null,null,null,{"$f":"IF(入力用!P220=2,入力用!S5,IF(入力用!P220=3,入力用!S6,IF(入力用!P220=4,入力用!S7,IF(入力用!P220=5,入力用!S8,IF(入力用!P220=6,入力用!L220,\"\")))))","v":""},null,null,null,null,null,null,null,null,null,null,null,null,{"$f":"IF(入力用!D221=\"\",\"\",入力用!D221)","v":""},null,null,null,null,null,"W",null,{"$f":"IF(入力用!P222=2,入力用!T5,IF(入力用!P222=3,入力用!T6,\"\"))","v":""},null,null,null,null,null,{"$f":"IF(入力用!D223=\"\",\"\",入力用!D223)","v":""},null,null,null,null,null,"VA",null,{"$f":"IF(入力用!D224=\"\",\"\",入力用!D224)","v":""},null,null,null,null,{"$f":"IF(入力用!P224=2,入力用!U5,IF(入力用!P224=3,入力用!U6,\"\"))","v":""},null,{"$f":"IF(入力用!P225=2,入力用!V5,IF(入力用!P225=3,入力用!V6,IF(入力用!P225=4,入力用!V7,IF(入力用!P225=5,入力用!L225,\"\"))))","v":""}]
[null,null,null,null,null,{"$f":"MID(入力用!$D$207,21,1)","v":""},{"$f":"MID(入力用!$D$207,22,1)","v":""},{"$f":"MID(入力用!$D$207,23,1)","v":""},{"$f":"MID(入力用!$D$207,24,1)","v":""},{"$f":"MID(入力用!$D$207,25,1)","v":""},{"$f":"MID(入力用!$D$207,26,1)","v":""},{"$f":"MID(入力用!$D$207,27,1)","v":""},{"$f":"MID(入力用!$D$207,28,1)","v":""},{"$f":"MID(入力用!$D$207,29,1)","v":""},{"$f":"MID(入力用!$D$207,30,1)","v":""},{"$f":"MID(入力用!$D$207,31,1)","v":""},{"$f":"MID(入力用!$D$207,32,1)","v":""},{"$f":"MID(入力用!$D$207,33,1)","v":""},{"$f":"MID(入力用!$D$207,34,1)","v":""},{"$f":"MID(入力用!$D$207,35,1)","v":""},{"$f":"MID(入力用!$D$207,36,1)","v":""},{"$f":"MID(入力用!$D$207,37,1)","v":""},{"$f":"MID(入力用!$D$207,38,1)","v":""},{"$f":"MID(入力用!$D$207,39,1)","v":""},{"$f":"MID(入力用!$D$207,40,1)","v":""}]
[]
[null,null,null,null,null,null,null,null,null,null,null,null,null,null,null,null,null,null,null,null,null,null,null,null,null,null,null,null,null,null,null,null,null,null,null,null,null,null,null,"受　電\n希望日",null,null,null,null,null,null,null,null,null,null,null,null,null,null,null,null,null,null,null,null,null,null,null,null,null,null,null,null,null,"送電日\n(異動日)"]
[null,"＜備考＞",null,null,null,null,null,null,null,null,null,null,null,null,null,null,null,null,null,null,null,null,null,null,null,null,null,null,null,null,null,null,null,null,null,null,null,null,null,null,null,null,null,null,null,null,null,null,null,null,null,null,null,null,null,null,null,null,null,null,null,null,null,null,null,null,null,null,null,null,null,null,null,null,null,null,null,null,null,null,null,null,null,null,null,null,null,null,null,null,null,"受付",null,null,null,null,null,null,null,null,null,"図面照査"]
[]
[]
[]
[]
[null,null,null,null,null,null,null,null,null,null,null,null,null,null,null,null,null,null,null,null,null,null,null,null,null,null,null,null,null,null,null,null,null,null,null,null,null,null,null,null,null,null,null,null,{"$f":"IF(入力用!D25=\"\",\"\",入力用!D25)","v":""},null,null,null,null,null,null,null,null,{"$f":"IF(入力用!F25=\"\",\"\",入力用!F25)","v":""},null,null,null,null,null,null,null,{"$f":"IF(入力用!I25=\"\",\"\",入力用!I25)","v":""}]
[null,null,null,null,null,null,null,null,null,null,null,null,null,null,null,null,null,null,null,null,null,null,null,null,null,null,null,null,null,null,null,null,null,null,null,null,null,null,null,null,null,null,null,null,null,null,null,null,null,null,"年",null,null,null,null,null,null,null,"月",null,null,null,null,null,null,null,"日",null,null,null,null,null,null,null,null,"年",null,null,null,null,"月",null,null,null,null,"日"]
[]
[]
[null,null,"施設組合印",null,null,null,null,null,null,null,null,null,null,null,null,null,null,null,null,null,null,null,null,"住　　所"]
[]
[]
[]
[null,null,null,null,null,null,null,null,null,null,null,null,null,null,null,null,null,null,null,null,null,null,null,null,null,null,null,null,null,null,null,null,null,null,null,null,null,null,null,null,null,null,null,null,null,null,null,null,null,null,null,null,null,null,null,null,null,null,null,null,null,null,null,null,null,null,null,null,null,null,null,null,null,null,null,null,null,null,null,null,null,null,null,null,null,"北電コード№　　　　　　　　　　　　　　　"]
[null,null,null,null,null,null,null,null,null,null,null,null,null,null,null,null,null,null,null,null,null,null,null,"工　　事\n会 社 名"]
[]
[null,null,null,null,null,null,null,null,null,null,null,null,null,null,null,null,null,null,null,null,null,null,null,null,null,null,null,null,null,null,null,null,null,null,null,null,null,null,null,null,null,null,null,null,null,null,null,null,null,null,null,null,null,null,null,null,null,null,null,null,null,null,null,null,null,null,null,null,null,null,null,null,null,null,null,null,null,null,null,"印",null,null,null,null,null,"ＴＥＬ　　　　　　　　　　　　　　　　　　　　"]
[]
[]
[null,null,null,null,null,null,null,null,null,null,null,null,null,null,null,null,null,null,null,null,null,null,null,null,null,null,null,null,null,null,null,null,null,null,null,null,null,null,null,null,null,null,null,null,null,null,null,null,null,null,null,null,null,null,null,null,null,null,null,null,null,null,null,null,null,null,null,null,null,null,null,null,null,null,null,null,null,null,null,null,null,null,null,null,null,"工事会社連絡箱№　　　　　　　　　　　"]
[null,null,null,null,null,null,null,null,null,null,null,null,null,null,null,null,null,null,null,null,null,null,null,"氏　　名"]
[]
[]
[]
[]
["北　海　道　電　力　ネ　ッ　ト　ワ　ー　ク　株　式　会　社"]