{"text_format":"1","workbook":"xlsx","n_sheets":4,"sheets":["入力用","１枚目","２枚目","３枚目"],"not_rendered":{"charts":0,"images":0,"macros":1,"external_links":0,"defined_names":4,"comments":1,"pivot_tables":0},"unopened":[],"bounds":{"document_bytes":16777216,"sheet_cells":100000,"rows_first":2000,"rows_last":500,"rows_between":2000,"halvings":0,"cell_chars":16384,"cell_head_chars":4096},"cells_cut":0,"cells_raw":0,"read":"whole","date_system":"1900"}

{"sheet":"入力用","index":0,"n_rows":145,"n_cols":22,"rows_kept":145,"cut":false,"hidden":false,"merged":[[142,0,144,0],[142,2,142,10],[143,2,143,10],[144,3,144,4],[137,0,141,0],[137,2,137,10],[138,3,138,4],[141,3,141,4],[139,19,139,20],[140,3,140,4],[140,19,140,20],[127,0,131,0],[127,2,127,10],[128,3,128,4],[130,3,130,4],[132,0,136,0],[132,2,132,10],[133,3,133,4],[136,3,136,4],[131,3,131,4],[135,3,135,4],[117,0,121,0],[117,2,117,10],[118,3,118,4],[120,3,120,4],[121,3,121,4],[122,0,126,0],[122,2,122,10],[123,3,123,4],[125,3,125,4],[126,3,126,4],[107,0,111,0],[107,2,107,10],[108,3,108,4],[110,3,110,4],[111,3,111,4],[112,0,116,0],[112,2,112,10],[113,3,113,4],[115,3,115,4],[116,3,116,4],[97,0,101,0],[97,2,97,10],[98,3,98,4],[100,3,100,4],[101,3,101,4],[102,0,106,0],[102,2,102,10],[103,3,103,4],[105,3,105,4],[106,3,106,4],[85,0,90,0],[85,15,85,19],[86,3,86,4],[88,3,88,4],[89,3,89,4],[91,0,96,0],[91,15,91,19],[92,3,92,4],[94,3,94,4],[95,3,95,4],[73,0,78,0],[73,15,73,19],[74,3,74,4],[76,3,76,4],[77,3,77,4],[79,0,84,0],[79,15,79,19],[80,3,80,4],[82,3,82,4],[83,3,83,4],[61,0,66,0],[61,15,61,19],[62,3,62,4],[64,3,64,4],[65,3,65,4],[67,0,72,0],[67,15,67,19],[68,3,68,4],[70,3,70,4],[71,3,71,4],[49,0,54,0],[49,15,49,19],[50,3,50,4],[52,3,52,4],[53,3,53,4],[55,0,60,0],[55,15,55,19],[56,3,56,4],[58,3,58,4],[59,3,59,4],[37,0,42,0],[37,15,37,19],[38,3,38,4],[40,3,40,4],[41,3,41,4],[43,0,48,0],[43,15,43,19],[44,3,44,4],[46,3,46,4],[47,3,47,4],[36,7,36,8],[25,0,26,0],[25,2,25,10],[26,4,26,5],[26,7,26,8],[29,0,29,1],[29,4,29,5],[29,8,29,9],[27,0,27,1],[27,2,27,8],[30,0,30,1],[31,0,31,1],[32,0,32,1],[32,2,32,10],[33,0,33,1],[34,0,36,0],[34,2,34,10],[35,2,35,10],[36,4,36,5],[28,2,28,6],[16,2,16,10],[17,2,17,10],[18,4,18,5],[18,7,18,8],[19,0,19,1],[20,0,21,0],[20,2,20,10],[21,2,21,10],[22,0,24,0],[22,2,22,5],[23,2,23,10],[24,4,24,5],[24,7,24,8],[16,0,18,0],[7,0,8,0],[7,2,7,5],[8,2,8,10],[2,14,2,21],[3,0,6,0],[3,2,3,10],[4,2,4,10],[5,2,5,10],[6,2,6,10],[9,0,10,0],[9,4,9,5],[9,7,9,8],[10,4,10,5],[10,7,10,8],[11,0,15,0],[11,2,11,10],[11,16,11,17],[12,2,12,10],[13,4,13,5],[14,2,14,10],[15,4,15,5],[15,7,15,8]]}
[]
[null,null,null,null,null,null,null,null,null,null,null,null,null,false,{"$f":"IF(N2=TRUE,1,0)","v":0}]
[{"$f":"IF(L3=\"\",\"印刷されましたら，「NW控」の裏面に施設組合印および御社の社印を押印してください。\",\"必要事項をすべて入力すると，右の表示が消えます。\")","v":"必要事項をすべて入力すると，右の表示が消えます。"},null,null,null,null,null,null,null,null,null,null,{"$f":"IF(M3=\"\",\"\",M3)","v":"入力に不備があります。"},{"$f":"IF(COUNTBLANK(M4:M5)+COUNTBLANK(M8:M31)+COUNTBLANK(M33:M145)=139,\"\",\"入力に不備があります。\")","v":"入力に不備があります。"},null,"ドロップダウンリスト"]
["ご契約名義","フリガナ",null,null,null,null,null,null,null,null,null,{"$f":"IF(M4=\"\",\"\",M4)","v":"←入力してください。"},{"$f":"IF(C4=\"\",\"←入力してください。\",IF(LEN(ASC(C4))>40,\"←「゛」「゜」を含め，40文字以内としてください。\",\"\"))","v":"←入力してください。"},null,"支払方法","契約種別","供給電気方式・供給電圧","本契約前の臨時契約の有無","電灯機器種別","電灯力率","電灯取付位置","小型機器力率"]
[null,"漢字",null,null,null,null,null,null,null,null,null,"←入力してください。",{"$f":"IF(C5=\"\",\"←入力してください。\",\"\")","v":"←入力してください。"}]
[null,"代表者肩書",null,null,null,null,null,null,null,null,null,"ご契約者が個人名ではない場合は入力してください。",{"$f":"IF(C6=\"\",\"ご契約者が個人名ではない場合は入力してください。\",\"\")","v":"ご契約者が個人名ではない場合は入力してください。"},null,"振込用紙","定額電灯","単相2線式100Ｖ","有","水銀灯","高力率型","ほくでん柱","高力率型"]
[null,"代表者名",null,null,null,null,null,null,null,null,null,"ご契約者が個人名ではない場合は入力してください。",{"$f":"IF(C7=\"\",\"ご契約者が個人名ではない場合は入力してください。\",\"\")","v":"ご契約者が個人名ではない場合は入力してください。"},null,"口座振替","公衆街路灯Ａ","単相2線式200Ｖ","無","ナトリウム灯","低力率型","ＮＴＴ柱","低力率型"]
["ご使用場所","郵便番号",null,null,null,null,null,null,null,null,null,"←入力してください。",{"$f":"IF(C8=\"\",\"←入力してください。\",IF(OR(AND(MID(C8,4,1)<>\"-\",LEN(C8)<>7),AND(MID(C8,4,1)=\"-\",LEN(C8)<>8)),\"←入力誤りです。\",\"\"))","v":"←入力してください。"},null,"クレジット","深夜電力Ａ","単相3線式100V・200V",null,"けい光灯",null,"お客さま柱"]
[null,"住所",null,null,null,null,null,null,null,null,null,"←入力してください。",{"$f":"IF(C9=\"\",\"←入力してください。\",\"\")","v":"←入力してください。"},null,null,null,"3相3線式200V",null,"白熱電球",null,"その他"]
["電話番号","固定",null,"-",null,null,"-",null,null,null,null,"",{"$f":"IF(OR(C10=\"\",E10=\"\",H10=\"\"),\"\",IF(OR(LEN(H10)<>4,LEN(C10)+LEN(E10)+LEN(H10)<>10),\"←入力内容が不正です。\",\"\"))","v":""},null,null,null,null,null,"その他"]
[null,"携帯",null,"-",null,null,"-",null,null,null,null,"",{"$f":"IF(OR(C11=\"\",E11=\"\",K11=\"\"),\"\",IF(OR(LEN(K11)<>4,LEN(C11)+LEN(E11)+LEN(K11)<>11),\"←入力内容が不正です。\",\"\"))","v":""}]
["電気工事会社","会社名",null,null,null,null,null,null,null,null,null,"←入力してください。",{"$f":"IF(C12=\"\",\"←入力してください。\",\"\")","v":"←入力してください。"},null,null,null,"利用内容作成",null,"電設Ｎｅｔ申込"]
[null,"担当者",null,null,null,null,null,null,null,null,null,"←入力してください。",{"$f":"IF(C13=\"\",\"←入力してください。\",\"\")","v":"←入力してください。"},null,null,null,"1桁目",{"$f":"IF(O38=2,\"H\",IF(O38=3,\"N\",IF(O38=4,\"F\",IF(O38=5,\"I\",\"　\"))))","v":"　"}]
[null,"工事会社№",null,"-",null,null,null,null,null,null,null,"←入力してください。",{"$f":"IF(OR(C14=\"\",E14=\"\"),\"←入力してください。\",IF(OR(LEN(C14)<>2,LEN(E14)<>3),\"←入力内容が不正です。\",\"\"))","v":"←入力してください。"},null,null,null,"2桁目",{"$f":"IF(O38=5,\"　\",IF(O40=2,\"H\",IF(O40=3,\"L\",\"　\")))","v":"　"},"有"]
[null,"住所",null,null,null,null,null,null,null,null,null,"←入力してください。",{"$f":"IF(C15=\"\",\"←入力してください。\",\"\")","v":"←入力してください。"},null,null,null,"4～6桁目",{"$f":"IF(C39=\"\",\"　　　\",IF(C39<10,\"00\"&C39,IF(C39<100,\"0\"&C39,C39)))","v":"　　　"},"無"]
[null,"電話",null,"-",null,null,"-",null,null,null,null,"←入力してください。",{"$f":"IF(AND(C16=\"\",E16=\"\",H16=\"\"),\"←入力してください。\",IF(OR(LEN(H16)<>4,LEN(C16)+LEN(E16)+LEN(H16)<10,LEN(C16)+LEN(E16)+LEN(H16)>11),\"←入力内容が不正です。\",\"\"))","v":"←入力してください。"},null,null,null,"8桁目",{"$f":"IF(O43=2,\"A\",IF(O43=3,\"B\",IF(O43=4,\"C\",IF(O43=5,\"D\",\"　\"))))","v":"　"}]
["建築会社","会社名",null,null,null,null,null,null,null,null,null,"",{"$f":"IF(AND(C18=\"\",C19=\"\",E19=\"\",H19=\"\"),\"\",IF(C17=\"\",\"←入力してください。\",\"\"))","v":""},null,null,null,"10桁目",{"$f":"IF(C42+C48+C54+C60+C66+C72+C78+C84+C90+C96>1,\"W\",\"　\")","v":"　"}]
[null,"担当者",null,null,null,null,null,null,null,null,null,"",{"$f":"IF(AND(C17=\"\",C19=\"\",E19=\"\",H19=\"\"),\"\",IF(C18=\"\",\"←入力してください。\",\"\"))","v":""},null,null,null,"合計",{"$f":"IF(O31=3,R13&R14&\"　\"&R15&\"　\"&R16&\"　\"&R17,\"\")","v":""}]
[null,"電話",null,"-",null,null,"-",null,null,null,null,"",{"$f":"IF(LEN(C19)+LEN(E19)+LEN(H19)=0,\"\",IF(OR(LEN(H19)<>4,LEN(C19)+LEN(E19)+LEN(H19)<10,LEN(C19)+LEN(E19)+LEN(H19)>11),\"←入力内容が不正です。\",\"\"))","v":""},null,1]
["お支払方法",null,null,null,null,null,null,null,null,null,null,"←選択してください。",{"$f":"IF(O20=1,\"←選択してください。\",\"\")","v":"←選択してください。"},null,1]
["支払者名","フリガナ",null,null,null,null,null,null,null,null,null,"",{"$f":"IF(AND(C21=\"\",C22=\"\"),\"\",IF(AND(C21=\"\",C22<>\"同上\"),\"←入力してください。\",IF(LEN(ASC(C21))>40,\"←「゛」「゜」を含め，40文字以内としてください。\",\"\")))","v":""}]
[null,"漢字",null,null,null,null,null,null,null,null,null,"←入力してください。",{"$f":"IF(C22=\"\",\"←入力してください。\",\"\")","v":"←入力してください。"}]
["請求書送付先","郵便番号",null,null,null,null,null,null,null,null,null,"",{"$f":"IF(AND(C23=\"\",C24=\"\"),\"\",IF(AND(C23=\"\",C24<>\"同上\"),\"←入力してください。\",IF(C23=\"\",\"\",IF(OR(AND(MID(C23,4,1)<>\"-\",LEN(C23)<>7),AND(MID(C23,4,1)=\"-\",LEN(C23)<>8)),\"←入力誤りです。\",\"\"))))","v":""}]
[null,"住所",null,null,null,null,null,null,null,null,null,"←入力してください。",{"$f":"IF(C24=\"\",\"←入力してください。\",\"\")","v":"←入力してください。"}]
[null,"電話",null,"-",null,null,"-",null,null,null,null,"",{"$f":"IF(AND(C24=\"\",C25=\"\",E25=\"\",H25=\"\"),\"\",IF(C24=\"同上\",\"\",IF(AND(C25=\"\",E25=\"\",H25=\"\"),\"←入力してください。\",IF(OR(LEN(H25)<>4,LEN(C25)+LEN(E25)+LEN(H25)<10,LEN(C25)+LEN(E25)+LEN(H25)>11),\"←入力内容が不正です。\",\"\"))))","v":""}]
["ご連絡先","住所",null,null,null,null,null,null,null,null,null,"←入力してください。",{"$f":"IF(C26=\"\",\"←入力してください。\",\"\")","v":"←入力してください。"}]
[null,"電話",null,"-",null,null,"-",null,null,null,null,"",{"$f":"IF(AND(C26=\"\",C27=\"\",E27=\"\",H27=\"\"),\"\",IF(OR(C26=\"同上\",C26=\"同左\"),\"\",IF(AND(C27=\"\",E27=\"\",H27=\"\"),\"←入力してください。\",IF(OR(LEN(H27)<>4,LEN(C27)+LEN(E27)+LEN(H27)<10,LEN(C27)+LEN(E27)+LEN(H27)>11),\"←入力内容が不正です。\",\"\"))))","v":""},null,1]
["電設Ｎｅｔ申込",null,null,null,null,null,null,null,null,null,null,{"$f":"IF(M28=\"\",\"\",M28)","v":"←選択してください。"},{"$f":"IF(O28=1,\"←選択してください。\",\"\")","v":"←選択してください。"},null,1]
["電設工事番号",null,null,null,null,null,null,null,null,null,null,{"$f":"IF(M29=\"\",\"\",M29)","v":""},{"$f":"IF(OR(O28=1,O28=3),\"\",IF(LEN(ASC(C29))>10,\"←10桁の番号を入力してください。\",\"\"))","v":""}]
["受電希望日",null,null,"年",null,null,"月",null,"日",null,null,{"$f":"IF(M30=\"\",\"\",M30)","v":"←入力してください。"},{"$f":"IF(OR(C30=\"\",E30=\"\",H30=\"\"),\"←入力してください。\",IF(AND(ISNUMBER(C30),ISNUMBER(E30),ISNUMBER(H30)),IF(OR(C30<1,E30<1,E30>12,H30<1,H30>31),\"←入力内容が不正です。\",\"\"),\"←数字を入力してください。\"))","v":"←入力してください。"},null,1]
["契約種別",null,null,null,null,null,null,null,null,null,null,"←選択してください。",{"$f":"IF(O31=1,\"←選択してください。\",\"\")","v":"←選択してください。"},null,1]
["供給電気方式・供給電圧",null,null,null,null,null,null,null,null,null,null,"←選択してください。",{"$f":"IF(O32=1,\"←選択してください。\",IF(O32=5,\"←間違いありませんか？\",\"\"))","v":"←選択してください。"},null,1]
["フリーエリア計器払出事業所名",null,null,null,null,null,null,null,null,null,null,"←希望がなければ「なし」と入力してください。",{"$f":"IF(C33=\"\",\"←希望がなければ「なし」と入力してください。\",\"\")","v":"←希望がなければ「なし」と入力してください。"},null,1]
["本契約前の臨時契約の有無",null,null,null,null,null,null,null,null,null,null,"←選択してください。",{"$f":"IF(O34=1,\"←選択してください。\",\"\")","v":"←選択してください。"},null,1]
["街路灯\n管理責任者","氏名",null,null,null,null,null,null,null,null,null,"",{"$f":"IF(AND(C35=\"\",O31=3),\"←入力してください。\",\"\")","v":""}]
[null,"住所",null,null,null,null,null,null,null,null,null,"",{"$f":"IF(AND(C36=\"\",O31=3),\"←入力してください。\",\"\")","v":""},null,1]
[null,"電話",null,"-",null,null,"-",null,null,null,null,"",{"$f":"IF(OR(C37=\"\",E37=\"\",H37=\"\"),\"\",IF(OR(LEN(H37)<>4,LEN(C37)+LEN(E37)+LEN(H37)<>10),\"←入力内容が不正です。\",\"\"))","v":""},null,1]
["電灯１","機器種別",null,null,null,null,null,null,null,null,null,"",{"$f":"IF(AND(O38=1,Q42>0,O$31>1,O$31<4),\"←選択してください。\",IF(AND(K38=\"\",O38=6,O$31>1,O$31<4),\"←具体的な機器種別を入力してください。\",IF(AND(O$31=4,O38>1),\"←深夜電力Ａの場合，選択できません。\",\"\")))","v":""},null,1,"入力値算定"]
[null,"出力",null,"W",null,null,null,null,null,null,null,"",{"$f":"IF(AND(O31=4,C39<>\"\"),\"←深夜電力Ａの場合，入力できません。\",IF(OR(C39=\"\",ISNUMBER(C39)),IF(AND(O31=2,T141>400),\"定額電灯の総容量の上限400VAを超えています。\",IF(AND(O31=3,T141>999),\"公衆街路灯Ａの総容量の上限999VAを超えています。\",IF(AND(OR(O31=2,O31=3),T141=0),\"負荷設備内訳を入力してください。\",\"\"))),\"←数字を入力してください。\"))","v":""},null,1,"水銀灯",{"$f":"IF(O40=2,IF(C39<=40,60,IF(C39<=60,80,IF(C39<=80,100,IF(C39<=100,150,IF(C39<=125,160,IF(C39<=200,250,IF(C39<=250,300,\"\"))))))),\"\")","v":""},{"$f":"IF(O40=2,IF(C39<=250,Q39,IF(C39<=300,350,IF(C39<=400,500,IF(C39<=700,800,IF(C39<=1000,1200,\"\"))))),\"\")","v":""},{"$f":"IF(O40=3,IF(C39<=40,130,IF(C39<=60,170,IF(C39<=80,190,IF(C39<=100,200,IF(C39<=125,290,IF(C39<=200,400,IF(C39<=250,500,\"\"))))))),R39)","v":""},{"$f":"IF(O40=3,IF(C39<=250,S39,IF(C39<=300,550,IF(C39<=400,750,IF(C39<=700,1200,IF(C39<=1000,1750,\"\"))))),R39)","v":""}]
[null,"力率",null,null,null,null,null,null,null,null,null,"",{"$f":"IF(AND(O$31<4,C41=\"\",C39<>\"\",O38<>5,O40=1),\"←選択してください。\",IF(AND(O$31=4,O40>1),\"←深夜電力Ａの場合，選択できません。\",\"\"))","v":""},null,1,"ナトリウム灯",{"$f":"IF(O40=2,IF(C39=150,190,IF(C39=250,300,IF(C39=400,500,IF(C39=700,840,\"\")))),IF(O40=3,ROUND(C39*1.4,0),\"\"))","v":""}]
[null,"入力",null,"VA",null,null,null,null,null,null,null,"",{"$f":"IF(AND(O$31=4,C41<>\"\"),\"←深夜電力Ａの場合，入力できません。\",IF(OR(C41=\"\",ISNUMBER(C41)),\"\",\"←数字を入力してください。\"))","v":""},null,1,"けい光灯",{"$f":"IF(O40=2,ROUND(C39*1.5,0),IF(O40=3,C39*2,\"\"))","v":""}]
[null,"灯数",null,"灯",null,null,null,null,null,null,null,"",{"$f":"IF(AND(O$31=4,C42<>\"\"),\"←深夜電力Ａの場合，入力できません。\",IF(OR(C42=\"\",ISNUMBER(C42)),\"\",\"←数字を入力してください。\"))","v":""},null,1,"結果",{"$f":"IF(C41<>\"\",C41,IF(O38=5,C39,IF(C39=\"\",0,IF(OR(O38=2,K38=\"メタルハライドランプ\"),T39,IF(O38=3,Q40,IF(O38=4,Q41,IF(OR(O39=5,K38=\"ハロゲンランプ\"),C39,\"\")))))))","v":0}]
[null,"取付位置",null,null,null,null,null,null,null,null,null,"",{"$f":"IF(AND(K43=\"\",O43=5,O$31>1,O$31<4),\"←具体的な取付位置を入力してください。\",IF(AND(O$31=4,O43>1),\"←深夜電力Ａの場合，選択できません。\",\"\"))","v":""},null,1]
["電灯２","機器種別",null,null,null,null,null,null,null,null,null,"",{"$f":"IF(AND(O44=1,Q48>0,O$31>1,O$31<4),\"←選択してください。\",IF(AND(K44=\"\",O44=6,O$31>1,O$31<4),\"←具体的な機器種別を入力してください。\",IF(AND(O$31=4,O44>1),\"←深夜電力Ａの場合，選択できません。\",\"\")))","v":""},null,1,"入力値算定"]
[null,"出力",null,"W",null,null,null,null,null,null,null,"",{"$f":"IF(AND(O$31=4,C45<>\"\"),\"←深夜電力Ａの場合，入力できません。\",IF(OR(C45=\"\",ISNUMBER(C45)),\"\",\"←数字を入力してください。\"))","v":""},null,1,"水銀灯",{"$f":"IF(O46=2,IF(C45<=40,60,IF(C45<=60,80,IF(C45<=80,100,IF(C45<=100,150,IF(C45<=125,160,IF(C45<=200,250,IF(C45<=250,300,\"\"))))))),\"\")","v":""},{"$f":"IF(O46=2,IF(C45<=250,Q45,IF(C45<=300,350,IF(C45<=400,500,IF(C45<=700,800,IF(C45<=1000,1200,\"\"))))),\"\")","v":""},{"$f":"IF(O46=3,IF(C45<=40,130,IF(C45<=60,170,IF(C45<=80,190,IF(C45<=100,200,IF(C45<=125,290,IF(C45<=200,400,IF(C45<=250,500,\"\"))))))),R45)","v":""},{"$f":"IF(O46=3,IF(C45<=250,S45,IF(C45<=300,550,IF(C45<=400,750,IF(C45<=700,1200,IF(C45<=1000,1750,\"\"))))),R45)","v":""}]
[null,"力率",null,null,null,null,null,null,null,null,null,"",{"$f":"IF(AND(O$31<4,C47=\"\",C45<>\"\",O44<>5,O46=1),\"←選択してください。\",IF(AND(O$31=4,O46>1),\"←深夜電力Ａの場合，選択できません。\",\"\"))","v":""},null,1,"ナトリウム灯",{"$f":"IF(O46=2,IF(C45=150,190,IF(C45=250,300,IF(C45=400,500,IF(C45=700,840,\"\")))),IF(O46=3,ROUND(C45*1.4,0),\"\"))","v":""}]
[null,"入力",null,"VA",null,null,null,null,null,null,null,"","",null,1,"けい光灯",{"$f":"IF(O46=2,ROUND(C45*1.5,0),IF(O46=3,C45*2,\"\"))","v":""}]
[null,"灯数",null,"灯",null,null,null,null,null,null,null,"","",null,1,"結果",{"$f":"IF(C47<>\"\",C47,IF(O44=5,C45,IF(C45=\"\",0,IF(OR(O44=2,K44=\"メタルハライドランプ\"),T45,IF(O44=3,Q46,IF(O44=4,Q47,IF(OR(O45=5,K44=\"ハロゲンランプ\"),C45,\"\")))))))","v":0}]
[null,"取付位置",null,null,null,null,null,null,null,null,null,"",{"$f":"IF(AND(K49=\"\",O49=5,O$31>1,O$31<4),\"←具体的な取付位置を入力してください。\",IF(AND(O$31=4,O49>1),\"←深夜電力Ａの場合，選択できません。\",\"\"))","v":""},null,1]
["電灯３","機器種別",null,null,null,null,null,null,null,null,null,"",{"$f":"IF(AND(O50=1,Q54>0,O$31>1,O$31<4),\"←選択してください。\",IF(AND(K50=\"\",O50=6,O$31>1,O$31<4),\"←具体的な機器種別を入力してください。\",IF(AND(O$31=4,O50>1),\"←深夜電力Ａの場合，選択できません。\",\"\")))","v":""},null,1,"入力値算定"]
[null,"出力",null,"W",null,null,null,null,null,null,null,"","",null,1,"水銀灯",{"$f":"IF(O52=2,IF(C51<=40,60,IF(C51<=60,80,IF(C51<=80,100,IF(C51<=100,150,IF(C51<=125,160,IF(C51<=200,250,IF(C51<=250,300,\"\"))))))),\"\")","v":""},{"$f":"IF(O52=2,IF(C51<=250,Q51,IF(C51<=300,350,IF(C51<=400,500,IF(C51<=700,800,IF(C51<=1000,1200,\"\"))))),\"\")","v":""},{"$f":"IF(O52=3,IF(C51<=40,130,IF(C51<=60,170,IF(C51<=80,190,IF(C51<=100,200,IF(C51<=125,290,IF(C51<=200,400,IF(C51<=250,500,\"\"))))))),R51)","v":""},{"$f":"IF(O52=3,IF(C51<=250,S51,IF(C51<=300,550,IF(C51<=400,750,IF(C51<=700,1200,IF(C51<=1000,1750,\"\"))))),R51)","v":""}]
[null,"力率",null,null,null,null,null,null,null,null,null,"",{"$f":"IF(AND(O$31<4,C53=\"\",C51<>\"\",O50<>5,O52=1),\"←選択してください。\",IF(AND(O$31=4,O52>1),\"←深夜電力Ａの場合，選択できません。\",\"\"))","v":""},null,1,"ナトリウム灯",{"$f":"IF(O52=2,IF(C51=150,190,IF(C51=250,300,IF(C51=400,500,IF(C51=700,840,\"\")))),IF(O52=3,ROUND(C51*1.4,0),\"\"))","v":""}]
[null,"入力",null,"VA",null,null,null,null,null,null,null,"","",null,1,"けい光灯",{"$f":"IF(O52=2,ROUND(C51*1.5,0),IF(O52=3,C51*2,\"\"))","v":""}]
[null,"灯数",null,"灯",null,null,null,null,null,null,null,"","",null,1,"結果",{"$f":"IF(C53<>\"\",C53,IF(O50=5,C51,IF(C51=\"\",0,IF(OR(O50=2,K50=\"メタルハライドランプ\"),T51,IF(O50=3,Q52,IF(O50=4,Q53,IF(OR(O51=5,K50=\"ハロゲンランプ\"),C51,\"\")))))))","v":0}]
[null,"取付位置",null,null,null,null,null,null,null,null,null,"",{"$f":"IF(AND(K55=\"\",O55=5,O$31>1,O$31<4),\"←具体的な取付位置を入力してください。\",IF(AND(O$31=4,O55>1),\"←深夜電力Ａの場合，選択できません。\",\"\"))","v":""},null,1]
["電灯４","機器種別",null,null,null,null,null,null,null,null,null,"",{"$f":"IF(AND(O56=1,Q60>0,O$31>1,O$31<4),\"←選択してください。\",IF(AND(K56=\"\",O56=6,O$31>1,O$31<4),\"←具体的な機器種別を入力してください。\",IF(AND(O$31=4,O56>1),\"←深夜電力Ａの場合，選択できません。\",\"\")))","v":""},null,1,"入力値算定"]
[null,"出力",null,"W",null,null,null,null,null,null,null,"","",null,1,"水銀灯",{"$f":"IF(O58=2,IF(C57<=40,60,IF(C57<=60,80,IF(C57<=80,100,IF(C57<=100,150,IF(C57<=125,160,IF(C57<=200,250,IF(C57<=250,300,\"\"))))))),\"\")","v":""},{"$f":"IF(O58=2,IF(C57<=250,Q57,IF(C57<=300,350,IF(C57<=400,500,IF(C57<=700,800,IF(C57<=1000,1200,\"\"))))),\"\")","v":""},{"$f":"IF(O58=3,IF(C57<=40,130,IF(C57<=60,170,IF(C57<=80,190,IF(C57<=100,200,IF(C57<=125,290,IF(C57<=200,400,IF(C57<=250,500,\"\"))))))),R57)","v":""},{"$f":"IF(O58=3,IF(C57<=250,S57,IF(C57<=300,550,IF(C57<=400,750,IF(C57<=700,1200,IF(C57<=1000,1750,\"\"))))),R57)","v":""}]
[null,"力率",null,null,null,null,null,null,null,null,null,"",{"$f":"IF(AND(O$31<4,C59=\"\",C57<>\"\",O56<>5,O58=1),\"←選択してください。\",IF(AND(O$31=4,O58>1),\"←深夜電力Ａの場合，選択できません。\",\"\"))","v":""},null,1,"ナトリウム灯",{"$f":"IF(O58=2,IF(C57=150,190,IF(C57=250,300,IF(C57=400,500,IF(C57=700,840,\"\")))),IF(O58=3,ROUND(C57*1.4,0),\"\"))","v":""}]
[null,"入力",null,"VA",null,null,null,null,null,null,null,"","",null,1,"けい光灯",{"$f":"IF(O58=2,ROUND(C57*1.5,0),IF(O58=3,C57*2,\"\"))","v":""}]
[null,"灯数",null,"灯",null,null,null,null,null,null,null,"","",null,1,"結果",{"$f":"IF(C59<>\"\",C59,IF(O56=5,C57,IF(C57=\"\",0,IF(OR(O56=2,K56=\"メタルハライドランプ\"),T57,IF(O56=3,Q58,IF(O56=4,Q59,IF(OR(O57=5,K56=\"ハロゲンランプ\"),C57,\"\")))))))","v":0}]
[null,"取付位置",null,null,null,null,null,null,null,null,null,"",{"$f":"IF(AND(K61=\"\",O61=5,O$31>1,O$31<4),\"←具体的な取付位置を入力してください。\",IF(AND(O$31=4,O61>1),\"←深夜電力Ａの場合，選択できません。\",\"\"))","v":""},null,1]
["電灯５","機器種別",null,null,null,null,null,null,null,null,null,"",{"$f":"IF(AND(O62=1,Q66>0,O$31>1,O$31<4),\"←選択してください。\",IF(AND(K62=\"\",O62=6,O$31>1,O$31<4),\"←具体的な機器種別を入力してください。\",IF(AND(O$31=4,O62>1),\"←深夜電力Ａの場合，選択できません。\",\"\")))","v":""},null,1,"入力値算定"]
[null,"出力",null,"W",null,null,null,null,null,null,null,"","",null,1,"水銀灯",{"$f":"IF(O64=2,IF(C63<=40,60,IF(C63<=60,80,IF(C63<=80,100,IF(C63<=100,150,IF(C63<=125,160,IF(C63<=200,250,IF(C63<=250,300,\"\"))))))),\"\")","v":""},{"$f":"IF(O64=2,IF(C63<=250,Q63,IF(C63<=300,350,IF(C63<=400,500,IF(C63<=700,800,IF(C63<=1000,1200,\"\"))))),\"\")","v":""},{"$f":"IF(O64=3,IF(C63<=40,130,IF(C63<=60,170,IF(C63<=80,190,IF(C63<=100,200,IF(C63<=125,290,IF(C63<=200,400,IF(C63<=250,500,\"\"))))))),R63)","v":""},{"$f":"IF(O64=3,IF(C63<=250,S63,IF(C63<=300,550,IF(C63<=400,750,IF(C63<=700,1200,IF(C63<=1000,1750,\"\"))))),R63)","v":""}]
[null,"力率",null,null,null,null,null,null,null,null,null,"",{"$f":"IF(AND(O$31<4,C65=\"\",C63<>\"\",O62<>5,O64=1),\"←選択してください。\",IF(AND(O$31=4,O64>1),\"←深夜電力Ａの場合，選択できません。\",\"\"))","v":""},null,1,"ナトリウム灯",{"$f":"IF(O64=2,IF(C63=150,190,IF(C63=250,300,IF(C63=400,500,IF(C63=700,840,\"\")))),IF(O64=3,ROUND(C63*1.4,0),\"\"))","v":""}]
[null,"入力",null,"VA",null,null,null,null,null,null,null,"","",null,1,"けい光灯",{"$f":"IF(O64=2,ROUND(C63*1.5,0),IF(O64=3,C63*2,\"\"))","v":""}]
[null,"灯数",null,"灯",null,null,null,null,null,null,null,"","",null,1,"結果",{"$f":"IF(C65<>\"\",C65,IF(O62=5,C63,IF(C63=\"\",0,IF(OR(O62=2,K62=\"メタルハライドランプ\"),T63,IF(O62=3,Q64,IF(O62=4,Q65,IF(OR(O63=5,K62=\"ハロゲンランプ\"),C63,\"\")))))))","v":0}]
[null,"取付位置",null,null,null,null,null,null,null,null,null,"",{"$f":"IF(AND(K67=\"\",O67=5,O$31>1,O$31<4),\"←具体的な取付位置を入力してください。\",IF(AND(O$31=4,O67>1),\"←深夜電力Ａの場合，選択できません。\",\"\"))","v":""},null,1]
["電灯６","機器種別",null,null,null,null,null,null,null,null,null,"",{"$f":"IF(AND(O68=1,Q72>0,O$31>1,O$31<4),\"←選択してください。\",IF(AND(K68=\"\",O68=6,O$31>1,O$31<4),\"←具体的な機器種別を入力してください。\",IF(AND(O$31=4,O68>1),\"←深夜電力Ａの場合，選択できません。\",\"\")))","v":""},null,1,"入力値算定"]
[null,"出力",null,"W",null,null,null,null,null,null,null,"","",null,1,"水銀灯",{"$f":"IF(O70=2,IF(C69<=40,60,IF(C69<=60,80,IF(C69<=80,100,IF(C69<=100,150,IF(C69<=125,160,IF(C69<=200,250,IF(C69<=250,300,\"\"))))))),\"\")","v":""},{"$f":"IF(O70=2,IF(C69<=250,Q69,IF(C69<=300,350,IF(C69<=400,500,IF(C69<=700,800,IF(C69<=1000,1200,\"\"))))),\"\")","v":""},{"$f":"IF(O70=3,IF(C69<=40,130,IF(C69<=60,170,IF(C69<=80,190,IF(C69<=100,200,IF(C69<=125,290,IF(C69<=200,400,IF(C69<=250,500,\"\"))))))),R69)","v":""},{"$f":"IF(O70=3,IF(C69<=250,S69,IF(C69<=300,550,IF(C69<=400,750,IF(C69<=700,1200,IF(C69<=1000,1750,\"\"))))),R69)","v":""}]
[null,"力率",null,null,null,null,null,null,null,null,null,"",{"$f":"IF(AND(O$31<4,C71=\"\",C69<>\"\",O68<>5,O70=1),\"←選択してください。\",IF(AND(O$31=4,O70>1),\"←深夜電力Ａの場合，選択できません。\",\"\"))","v":""},null,1,"ナトリウム灯",{"$f":"IF(O70=2,IF(C69=150,190,IF(C69=250,300,IF(C69=400,500,IF(C69=700,840,\"\")))),IF(O70=3,ROUND(C69*1.4,0),\"\"))","v":""}]
[null,"入力",null,"VA",null,null,null,null,null,null,null,{"$f":"IF(M71=\"\",\"\",M71)","v":""},"",null,1,"けい光灯",{"$f":"IF(O70=2,ROUND(C69*1.5,0),IF(O70=3,C69*2,\"\"))","v":""}]
[null,"灯数",null,"灯",null,null,null,null,null,null,null,"","",null,1,"結果",{"$f":"IF(C71<>\"\",C71,IF(O68=5,C69,IF(C69=\"\",0,IF(OR(O68=2,K68=\"メタルハライドランプ\"),T69,IF(O68=3,Q70,IF(O68=4,Q71,IF(OR(O69=5,K68=\"ハロゲンランプ\"),C69,\"\")))))))","v":0}]
[null,"取付位置",null,null,null,null,null,null,null,null,null,"",{"$f":"IF(AND(K73=\"\",O73=5,O$31>1,O$31<4),\"←具体的な取付位置を入力してください。\",IF(AND(O$31=4,O73>1),\"←深夜電力Ａの場合，選択できません。\",\"\"))","v":""},null,1]
["電灯７","機器種別",null,null,null,null,null,null,null,null,null,"",{"$f":"IF(AND(O74=1,Q78>0,O$31>1,O$31<4),\"←選択してください。\",IF(AND(K74=\"\",O74=6,O$31>1,O$31<4),\"←具体的な機器種別を入力してください。\",IF(AND(O$31=4,O74>1),\"←深夜電力Ａの場合，選択できません。\",\"\")))","v":""},null,1,"入力値算定"]
[null,"出力",null,"W",null,null,null,null,null,null,null,"","",null,1,"水銀灯",{"$f":"IF(O76=2,IF(C75<=40,60,IF(C75<=60,80,IF(C75<=80,100,IF(C75<=100,150,IF(C75<=125,160,IF(C75<=200,250,IF(C75<=250,300,\"\"))))))),\"\")","v":""},{"$f":"IF(O76=2,IF(C75<=250,Q75,IF(C75<=300,350,IF(C75<=400,500,IF(C75<=700,800,IF(C75<=1000,1200,\"\"))))),\"\")","v":""},{"$f":"IF(O76=3,IF(C75<=40,130,IF(C75<=60,170,IF(C75<=80,190,IF(C75<=100,200,IF(C75<=125,290,IF(C75<=200,400,IF(C75<=250,500,\"\"))))))),R75)","v":""},{"$f":"IF(O76=3,IF(C75<=250,S75,IF(C75<=300,550,IF(C75<=400,750,IF(C75<=700,1200,IF(C75<=1000,1750,\"\"))))),R75)","v":""}]
[null,"力率",null,null,null,null,null,null,null,null,null,"",{"$f":"IF(AND(O$31<4,C77=\"\",C75<>\"\",O74<>5,O76=1),\"←選択してください。\",IF(AND(O$31=4,O76>1),\"←深夜電力Ａの場合，選択できません。\",\"\"))","v":""},null,1,"ナトリウム灯",{"$f":"IF(O76=2,IF(C75=150,190,IF(C75=250,300,IF(C75=400,500,IF(C75=700,840,\"\")))),IF(O76=3,ROUND(C75*1.4,0),\"\"))","v":""}]
[null,"入力",null,"VA",null,null,null,null,null,null,null,"","",null,1,"けい光灯",{"$f":"IF(O76=2,ROUND(C75*1.5,0),IF(O76=3,C75*2,\"\"))","v":""}]
[null,"灯数",null,"灯",null,null,null,null,null,null,null,"","",null,1,"結果",{"$f":"IF(C77<>\"\",C77,IF(O74=5,C75,IF(C75=\"\",0,IF(OR(O74=2,K74=\"メタルハライドランプ\"),T75,IF(O74=3,Q76,IF(O74=4,Q77,IF(OR(O75=5,K74=\"ハロゲンランプ\"),C75,\"\")))))))","v":0}]
[null,"取付位置",null,null,null,null,null,null,null,null,null,"",{"$f":"IF(AND(K79=\"\",O79=5,O$31>1,O$31<4),\"←具体的な取付位置を入力してください。\",IF(AND(O$31=4,O79>1),\"←深夜電力Ａの場合，選択できません。\",\"\"))","v":""},null,1]
["電灯８","機器種別",null,null,null,null,null,null,null,null,null,"",{"$f":"IF(AND(O80=1,Q84>0,O$31>1,O$31<4),\"←選択してください。\",IF(AND(K80=\"\",O80=6,O$31>1,O$31<4),\"←具体的な機器種別を入力してください。\",IF(AND(O$31=4,O80>1),\"←深夜電力Ａの場合，選択できません。\",\"\")))","v":""},null,1,"入力値算定"]
[null,"出力",null,"W",null,null,null,null,null,null,null,"","",null,1,"水銀灯",{"$f":"IF(O82=2,IF(C81<=40,60,IF(C81<=60,80,IF(C81<=80,100,IF(C81<=100,150,IF(C81<=125,160,IF(C81<=200,250,IF(C81<=250,300,\"\"))))))),\"\")","v":""},{"$f":"IF(O82=2,IF(C81<=250,Q81,IF(C81<=300,350,IF(C81<=400,500,IF(C81<=700,800,IF(C81<=1000,1200,\"\"))))),\"\")","v":""},{"$f":"IF(O82=3,IF(C81<=40,130,IF(C81<=60,170,IF(C81<=80,190,IF(C81<=100,200,IF(C81<=125,290,IF(C81<=200,400,IF(C81<=250,500,\"\"))))))),R81)","v":""},{"$f":"IF(O82=3,IF(C81<=250,S81,IF(C81<=300,550,IF(C81<=400,750,IF(C81<=700,1200,IF(C81<=1000,1750,\"\"))))),R81)","v":""}]
[null,"力率",null,null,null,null,null,null,null,null,null,"",{"$f":"IF(AND(O$31<4,C83=\"\",C81<>\"\",O80<>5,O82=1),\"←選択してください。\",IF(AND(O$31=4,O82>1),\"←深夜電力Ａの場合，選択できません。\",\"\"))","v":""},null,1,"ナトリウム灯",{"$f":"IF(O82=2,IF(C81=150,190,IF(C81=250,300,IF(C81=400,500,IF(C81=700,840,\"\")))),IF(O82=3,ROUND(C81*1.4,0),\"\"))","v":""}]
[null,"入力",null,"VA",null,null,null,null,null,null,null,"","",null,1,"けい光灯",{"$f":"IF(O82=2,ROUND(C81*1.5,0),IF(O82=3,C81*2,\"\"))","v":""}]
[null,"灯数",null,"灯",null,null,null,null,null,null,null,"","",null,1,"結果",{"$f":"IF(C83<>\"\",C83,IF(O80=5,C81,IF(C81=\"\",0,IF(OR(O80=2,K80=\"メタルハライドランプ\"),T81,IF(O80=3,Q82,IF(O80=4,Q83,IF(OR(O81=5,K80=\"ハロゲンランプ\"),C81,\"\")))))))","v":0}]
[null,"取付位置",null,null,null,null,null,null,null,null,null,"",{"$f":"IF(AND(K85=\"\",O85=5,O$31>1,O$31<4),\"←具体的な取付位置を入力してください。\",IF(AND(O$31=4,O85>1),\"←深夜電力Ａの場合，選択できません。\",\"\"))","v":""},null,1]
["電灯９","機器種別",null,null,null,null,null,null,null,null,null,"",{"$f":"IF(AND(O86=1,Q90>0,O$31>1,O$31<4),\"←選択してください。\",IF(AND(K86=\"\",O86=6,O$31>1,O$31<4),\"←具体的な機器種別を入力してください。\",IF(AND(O$31=4,O86>1),\"←深夜電力Ａの場合，選択できません。\",\"\")))","v":""},null,1,"入力値算定"]
[null,"出力",null,"W",null,null,null,null,null,null,null,"","",null,1,"水銀灯",{"$f":"IF(O88=2,IF(C87<=40,60,IF(C87<=60,80,IF(C87<=80,100,IF(C87<=100,150,IF(C87<=125,160,IF(C87<=200,250,IF(C87<=250,300,\"\"))))))),\"\")","v":""},{"$f":"IF(O88=2,IF(C87<=250,Q87,IF(C87<=300,350,IF(C87<=400,500,IF(C87<=700,800,IF(C87<=1000,1200,\"\"))))),\"\")","v":""},{"$f":"IF(O88=3,IF(C87<=40,130,IF(C87<=60,170,IF(C87<=80,190,IF(C87<=100,200,IF(C87<=125,290,IF(C87<=200,400,IF(C87<=250,500,\"\"))))))),R87)","v":""},{"$f":"IF(O88=3,IF(C87<=250,S87,IF(C87<=300,550,IF(C87<=400,750,IF(C87<=700,1200,IF(C87<=1000,1750,\"\"))))),R87)","v":""}]
[null,"力率",null,null,null,null,null,null,null,null,null,"",{"$f":"IF(AND(O$31<4,C89=\"\",C87<>\"\",O86<>5,O88=1),\"←選択してください。\",IF(AND(O$31=4,O88>1),\"←深夜電力Ａの場合，選択できません。\",\"\"))","v":""},null,1,"ナトリウム灯",{"$f":"IF(O88=2,IF(C87=150,190,IF(C87=250,300,IF(C87=400,500,IF(C87=700,840,\"\")))),IF(O88=3,ROUND(C87*1.4,0),\"\"))","v":""}]
[null,"入力",null,"VA",null,null,null,null,null,null,null,"","",null,1,"けい光灯",{"$f":"IF(O88=2,ROUND(C87*1.5,0),IF(O88=3,C87*2,\"\"))","v":""}]
[null,"灯数",null,"灯",null,null,null,null,null,null,null,"","",null,1,"結果",{"$f":"IF(C89<>\"\",C89,IF(O86=5,C87,IF(C87=\"\",0,IF(OR(O86=2,K86=\"メタルハライドランプ\"),T87,IF(O86=3,Q88,IF(O86=4,Q89,IF(OR(O87=5,K86=\"ハロゲンランプ\"),C87,\"\")))))))","v":0}]
[null,"取付位置",null,null,null,null,null,null,null,null,null,"",{"$f":"IF(AND(K91=\"\",O91=5,O$31>1,O$31<4),\"←具体的な取付位置を入力してください。\",IF(AND(O$31=4,O91>1),\"←深夜電力Ａの場合，選択できません。\",\"\"))","v":""},null,1]
["電灯１０","機器種別",null,null,null,null,null,null,null,null,null,"",{"$f":"IF(AND(O92=1,Q96>0,O$31>1,O$31<4),\"←選択してください。\",IF(AND(K92=\"\",O92=6,O$31>1,O$31<4),\"←具体的な機器種別を入力してください。\",IF(AND(O$31=4,O92>1),\"←深夜電力Ａの場合，選択できません。\",\"\")))","v":""},null,1,"入力値算定"]
[null,"出力",null,"W",null,null,null,null,null,null,null,"",{"$f":"IF(AND(O$31=4,C93<>\"\"),\"←深夜電力Ａの場合，入力できません。\",IF(OR(C93=\"\",ISNUMBER(C93)),\"\",\"←数字を入力してください。\"))","v":""},null,1,"水銀灯",{"$f":"IF(O94=2,IF(C93<=40,60,IF(C93<=60,80,IF(C93<=80,100,IF(C93<=100,150,IF(C93<=125,160,IF(C93<=200,250,IF(C93<=250,300,\"\"))))))),\"\")","v":""},{"$f":"IF(O94=2,IF(C93<=250,Q93,IF(C93<=300,350,IF(C93<=400,500,IF(C93<=700,800,IF(C93<=1000,1200,\"\"))))),\"\")","v":""},{"$f":"IF(O94=3,IF(C93<=40,130,IF(C93<=60,170,IF(C93<=80,190,IF(C93<=100,200,IF(C93<=125,290,IF(C93<=200,400,IF(C93<=250,500,\"\"))))))),R93)","v":""},{"$f":"IF(O94=3,IF(C93<=250,S93,IF(C93<=300,550,IF(C93<=400,750,IF(C93<=700,1200,IF(C93<=1000,1750,\"\"))))),R93)","v":""}]
[null,"力率",null,null,null,null,null,null,null,null,null,"",{"$f":"IF(AND(O$31<4,C95=\"\",C93<>\"\",O92<>5,O94=1),\"←選択してください。\",IF(AND(O$31=4,O94>1),\"←深夜電力Ａの場合，選択できません。\",\"\"))","v":""},null,1,"ナトリウム灯",{"$f":"IF(O94=2,IF(C93=150,190,IF(C93=250,300,IF(C93=400,500,IF(C93=700,840,\"\")))),IF(O94=3,ROUND(C93*1.4,0),\"\"))","v":""}]
[null,"入力",null,"VA",null,null,null,null,null,null,null,"",{"$f":"IF(AND(O$31=4,C95<>\"\"),\"←深夜電力Ａの場合，入力できません。\",IF(OR(C95=\"\",ISNUMBER(C95)),\"\",\"←数字を入力してください。\"))","v":""},null,1,"けい光灯",{"$f":"IF(O94=2,ROUND(C93*1.5,0),IF(O94=3,C93*2,\"\"))","v":""}]
[null,"灯数",null,"灯",null,null,null,null,null,null,null,"",{"$f":"IF(AND(O$31=4,C96<>\"\"),\"←深夜電力Ａの場合，入力できません。\",IF(OR(C96=\"\",ISNUMBER(C96)),\"\",\"←数字を入力してください。\"))","v":""},null,1,"結果",{"$f":"IF(C95<>\"\",C95,IF(O92=5,C93,IF(C93=\"\",0,IF(OR(O92=2,K92=\"メタルハライドランプ\"),T93,IF(O92=3,Q94,IF(O92=4,Q95,IF(OR(O93=5,K92=\"ハロゲンランプ\"),C93,\"\")))))))","v":0}]
[null,"取付位置",null,null,null,null,null,null,null,null,null,"",{"$f":"IF(AND(K97=\"\",O97=5,O$31>1,O$31<4),\"←具体的な取付位置を入力してください。\",IF(AND(O$31=4,O97>1),\"←深夜電力Ａの場合，選択できません。\",\"\"))","v":""},null,1]
["小型機器１","機器種別",null,null,null,null,null,null,null,null,null,"",{"$f":"IF(AND(C98=\"\",Q102>0,O$31>1,O$31<4),\"←入力してください。\",IF(AND(O$31=4,C98<>\"\"),\"←深夜電力Ａの場合，入力できません。\",\"\"))","v":""},null,1]
[null,"出力",null,"W",null,null,null,null,null,null,null,"",{"$f":"IF(AND(O$31=4,C99<>\"\"),\"←深夜電力Ａの場合，入力できません。\",IF(OR(C99=\"\",ISNUMBER(C99)),\"\",\"←数字を入力してください。\"))","v":""},null,1]
[null,"力率",null,null,null,null,null,null,null,null,null,"",{"$f":"IF(AND(O$31<4,C101=\"\",C99<>\"\",O98<>5,O100=1),\"←選択してください。\",IF(AND(O$31=4,O100>1),\"←深夜電力Ａの場合，選択できません。\",\"\"))","v":""},null,1,"入力・出力データチェック"]
[null,"入力",null,"VA",null,null,null,null,null,null,null,"",{"$f":"IF(AND(O$31=4,C101<>\"\"),\"←深夜電力Ａの場合，入力できません。\",IF(OR(C101=\"\",ISNUMBER(C101)),\"\",\"←数字を入力してください。\"))","v":""},null,null,{"$f":"IF(C101=\"\",IF(C99=\"\",0,\"\"),C101)","v":0}]
[null,"個数",null,"個",null,null,null,null,null,null,null,"",{"$f":"IF(AND(O$31=4,C102<>\"\"),\"←深夜電力Ａの場合，入力できません。\",IF(OR(C102=\"\",ISNUMBER(C102)),\"\",\"←数字を入力してください。\"))","v":""}]
["小型機器２","機器種別",null,null,null,null,null,null,null,null,null,"",{"$f":"IF(AND(C103=\"\",Q107>0,O$31>1,O$31<4),\"←入力してください。\",IF(AND(O$31=4,C103<>\"\"),\"←深夜電力Ａの場合，入力できません。\",\"\"))","v":""},null,1]
[null,"出力",null,"W",null,null,null,null,null,null,null,"",{"$f":"IF(AND(O$31=4,C104<>\"\"),\"←深夜電力Ａの場合，入力できません。\",IF(OR(C104=\"\",ISNUMBER(C104)),\"\",\"←数字を入力してください。\"))","v":""},null,1]
[null,"力率",null,null,null,null,null,null,null,null,null,"",{"$f":"IF(AND(O$31<4,C106=\"\",C104<>\"\",O103<>5,O105=1),\"←選択してください。\",IF(AND(O$31=4,O105>1),\"←深夜電力Ａの場合，選択できません。\",\"\"))","v":""},null,1,"入力・出力データチェック"]
[null,"入力",null,"VA",null,null,null,null,null,null,null,"",{"$f":"IF(AND(O$31=4,C106<>\"\"),\"←深夜電力Ａの場合，入力できません。\",IF(OR(C106=\"\",ISNUMBER(C106)),\"\",\"←数字を入力してください。\"))","v":""},null,null,{"$f":"IF(C106=\"\",IF(C104=\"\",0,\"\"),C106)","v":0}]
[null,"個数",null,"個",null,null,null,null,null,null,null,"",{"$f":"IF(AND(O$31=4,C107<>\"\"),\"←深夜電力Ａの場合，入力できません。\",IF(OR(C107=\"\",ISNUMBER(C107)),\"\",\"←数字を入力してください。\"))","v":""}]
["小型機器３","機器種別",null,null,null,null,null,null,null,null,null,"",{"$f":"IF(AND(C108=\"\",Q112>0,O$31>1,O$31<4),\"←入力してください。\",IF(AND(O$31=4,C108<>\"\"),\"←深夜電力Ａの場合，入力できません。\",\"\"))","v":""},null,1]
[null,"出力",null,"W",null,null,null,null,null,null,null,"",{"$f":"IF(AND(O$31=4,C109<>\"\"),\"←深夜電力Ａの場合，入力できません。\",IF(OR(C109=\"\",ISNUMBER(C109)),\"\",\"←数字を入力してください。\"))","v":""},null,1]
[null,"力率",null,null,null,null,null,null,null,null,null,"",{"$f":"IF(AND(O$31<4,C111=\"\",C109<>\"\",O108<>5,O110=1),\"←選択してください。\",IF(AND(O$31=4,O110>1),\"←深夜電力Ａの場合，選択できません。\",\"\"))","v":""},null,1,"入力・出力データチェック"]
[null,"入力",null,"VA",null,null,null,null,null,null,null,"",{"$f":"IF(AND(O$31=4,C111<>\"\"),\"←深夜電力Ａの場合，入力できません。\",IF(OR(C111=\"\",ISNUMBER(C111)),\"\",\"←数字を入力してください。\"))","v":""},null,null,{"$f":"IF(C111=\"\",IF(C109=\"\",0,\"\"),C111)","v":0}]
[null,"個数",null,"個",null,null,null,null,null,null,null,"",{"$f":"IF(AND(O$31=4,C112<>\"\"),\"←深夜電力Ａの場合，入力できません。\",IF(OR(C112=\"\",ISNUMBER(C112)),\"\",\"←数字を入力してください。\"))","v":""}]
["小型機器４","機器種別",null,null,null,null,null,null,null,null,null,"",{"$f":"IF(AND(C113=\"\",Q117>0,O$31>1,O$31<4),\"←入力してください。\",IF(AND(O$31=4,C113<>\"\"),\"←深夜電力Ａの場合，入力できません。\",\"\"))","v":""},null,1]
[null,"出力",null,"W",null,null,null,null,null,null,null,"",{"$f":"IF(AND(O$31=4,C114<>\"\"),\"←深夜電力Ａの場合，入力できません。\",IF(OR(C114=\"\",ISNUMBER(C114)),\"\",\"←数字を入力してください。\"))","v":""},null,1]
[null,"力率",null,null,null,null,null,null,null,null,null,"",{"$f":"IF(AND(O$31<4,C116=\"\",C114<>\"\",O113<>5,O115=1),\"←選択してください。\",IF(AND(O$31=4,O115>1),\"←深夜電力Ａの場合，選択できません。\",\"\"))","v":""},null,1,"入力・出力データチェック"]
[null,"入力",null,"VA",null,null,null,null,null,null,null,"",{"$f":"IF(AND(O$31=4,C116<>\"\"),\"←深夜電力Ａの場合，入力できません。\",IF(OR(C116=\"\",ISNUMBER(C116)),\"\",\"←数字を入力してください。\"))","v":""},null,null,{"$f":"IF(C116=\"\",IF(C114=\"\",0,\"\"),C116)","v":0}]
[null,"個数",null,"個",null,null,null,null,null,null,null,"",{"$f":"IF(AND(O$31=4,C117<>\"\"),\"←深夜電力Ａの場合，入力できません。\",IF(OR(C117=\"\",ISNUMBER(C117)),\"\",\"←数字を入力してください。\"))","v":""}]
["小型機器５","機器種別",null,null,null,null,null,null,null,null,null,"",{"$f":"IF(AND(C118=\"\",Q122>0,O$31>1,O$31<4),\"←入力してください。\",IF(AND(O$31=4,C118<>\"\"),\"←深夜電力Ａの場合，入力できません。\",\"\"))","v":""},null,1]
[null,"出力",null,"W",null,null,null,null,null,null,null,"",{"$f":"IF(AND(O$31=4,C119<>\"\"),\"←深夜電力Ａの場合，入力できません。\",IF(OR(C119=\"\",ISNUMBER(C119)),\"\",\"←数字を入力してください。\"))","v":""},null,1]
[null,"力率",null,null,null,null,null,null,null,null,null,"",{"$f":"IF(AND(O$31<4,C121=\"\",C119<>\"\",O118<>5,O120=1),\"←選択してください。\",IF(AND(O$31=4,O120>1),\"←深夜電力Ａの場合，選択できません。\",\"\"))","v":""},null,1,"入力・出力データチェック"]
[null,"入力",null,"VA",null,null,null,null,null,null,null,"",{"$f":"IF(AND(O$31=4,C121<>\"\"),\"←深夜電力Ａの場合，入力できません。\",IF(OR(C121=\"\",ISNUMBER(C121)),\"\",\"←数字を入力してください。\"))","v":""},null,null,{"$f":"IF(C121=\"\",IF(C119=\"\",0,\"\"),C121)","v":0}]
[null,"個数",null,"個",null,null,null,null,null,null,null,"",{"$f":"IF(AND(O$31=4,C122<>\"\"),\"←深夜電力Ａの場合，入力できません。\",IF(OR(C122=\"\",ISNUMBER(C122)),\"\",\"←数字を入力してください。\"))","v":""}]
["小型機器６","機器種別",null,null,null,null,null,null,null,null,null,"",{"$f":"IF(AND(C123=\"\",Q127>0,O$31>1,O$31<4),\"←入力してください。\",IF(AND(O$31=4,C123<>\"\"),\"←深夜電力Ａの場合，入力できません。\",\"\"))","v":""},null,1]
[null,"出力",null,"W",null,null,null,null,null,null,null,"",{"$f":"IF(AND(O$31=4,C124<>\"\"),\"←深夜電力Ａの場合，入力できません。\",IF(OR(C124=\"\",ISNUMBER(C124)),\"\",\"←数字を入力してください。\"))","v":""},null,1]
[null,"力率",null,null,null,null,null,null,null,null,null,"",{"$f":"IF(AND(O$31<4,C126=\"\",C124<>\"\",O123<>5,O125=1),\"←選択してください。\",IF(AND(O$31=4,O125>1),\"←深夜電力Ａの場合，選択できません。\",\"\"))","v":""},null,1,"入力・出力データチェック"]
[null,"入力",null,"VA",null,null,null,null,null,null,null,"",{"$f":"IF(AND(O$31=4,C126<>\"\"),\"←深夜電力Ａの場合，入力できません。\",IF(OR(C126=\"\",ISNUMBER(C126)),\"\",\"←数字を入力してください。\"))","v":""},null,null,{"$f":"IF(C126=\"\",IF(C124=\"\",0,\"\"),C126)","v":0}]
[null,"個数",null,"個",null,null,null,null,null,null,null,"",{"$f":"IF(AND(O$31=4,C127<>\"\"),\"←深夜電力Ａの場合，入力できません。\",IF(OR(C127=\"\",ISNUMBER(C127)),\"\",\"←数字を入力してください。\"))","v":""}]
["小型機器７","機器種別",null,null,null,null,null,null,null,null,null,"",{"$f":"IF(AND(C128=\"\",Q132>0,O$31>1,O$31<4),\"←入力してください。\",IF(AND(O$31=4,C128<>\"\"),\"←深夜電力Ａの場合，入力できません。\",\"\"))","v":""},null,1]
[null,"出力",null,"W",null,null,null,null,null,null,null,"",{"$f":"IF(AND(O$31=4,C129<>\"\"),\"←深夜電力Ａの場合，入力できません。\",IF(OR(C129=\"\",ISNUMBER(C129)),\"\",\"←数字を入力してください。\"))","v":""},null,1]
[null,"力率",null,null,null,null,null,null,null,null,null,"",{"$f":"IF(AND(O$31<4,C131=\"\",C129<>\"\",O128<>5,O130=1),\"←選択してください。\",IF(AND(O$31=4,O130>1),\"←深夜電力Ａの場合，選択できません。\",\"\"))","v":""},null,1,"入力・出力データチェック"]
[null,"入力",null,"VA",null,null,null,null,null,null,null,"",{"$f":"IF(AND(O$31=4,C131<>\"\"),\"←深夜電力Ａの場合，入力できません。\",IF(OR(C131=\"\",ISNUMBER(C131)),\"\",\"←数字を入力してください。\"))","v":""},null,null,{"$f":"IF(C131=\"\",IF(C129=\"\",0,\"\"),C131)","v":0}]
[null,"個数",null,"個",null,null,null,null,null,null,null,"",{"$f":"IF(AND(O$31=4,C132<>\"\"),\"←深夜電力Ａの場合，入力できません。\",IF(OR(C132=\"\",ISNUMBER(C132)),\"\",\"←数字を入力してください。\"))","v":""}]
["小型機器８","機器種別",null,null,null,null,null,null,null,null,null,"",{"$f":"IF(AND(C133=\"\",Q137>0,O$31>1,O$31<4),\"←入力してください。\",IF(AND(O$31=4,C133<>\"\"),\"←深夜電力Ａの場合，入力できません。\",\"\"))","v":""},null,1]
[null,"出力",null,"W",null,null,null,null,null,null,null,"",{"$f":"IF(AND(O$31=4,C134<>\"\"),\"←深夜電力Ａの場合，入力できません。\",IF(OR(C134=\"\",ISNUMBER(C134)),\"\",\"←数字を入力してください。\"))","v":""},null,1]
[null,"力率",null,null,null,null,null,null,null,null,null,{"$f":"IF(M135=\"\",\"\",M135)","v":""},{"$f":"IF(AND(O$31<4,C136=\"\",C134<>\"\",O133<>5,O135=1),\"←選択してください。\",IF(AND(O$31=4,O135>1),\"←深夜電力Ａの場合，選択できません。\",\"\"))","v":""},null,1,"入力・出力データチェック"]
[null,"入力",null,"VA",null,null,null,null,null,null,null,"",{"$f":"IF(AND(O$31=4,C136<>\"\"),\"←深夜電力Ａの場合，入力できません。\",IF(OR(C136=\"\",ISNUMBER(C136)),\"\",\"←数字を入力してください。\"))","v":""},null,null,{"$f":"IF(C136=\"\",IF(C134=\"\",0,\"\"),C136)","v":0}]
[null,"個数",null,"個",null,null,null,null,null,null,null,"",{"$f":"IF(AND(O$31=4,C137<>\"\"),\"←深夜電力Ａの場合，入力できません。\",IF(OR(C137=\"\",ISNUMBER(C137)),\"\",\"←数字を入力してください。\"))","v":""}]
["小型機器９","機器種別",null,null,null,null,null,null,null,null,null,"",{"$f":"IF(AND(C138=\"\",Q142>0,O$31>1,O$31<4),\"←入力してください。\",IF(AND(O$31=4,C138<>\"\"),\"←深夜電力Ａの場合，入力できません。\",\"\"))","v":""},null,1]
[null,"出力",null,"W",null,null,null,null,null,null,null,"",{"$f":"IF(AND(O$31=4,C139<>\"\"),\"←深夜電力Ａの場合，入力できません。\",IF(OR(C139=\"\",ISNUMBER(C139)),\"\",\"←数字を入力してください。\"))","v":""},null,1]
[null,"力率",null,null,null,null,null,null,null,null,null,"",{"$f":"IF(AND(O$31<4,C141=\"\",C139<>\"\",O138<>5,O140=1),\"←選択してください。\",IF(AND(O$31=4,O140>1),\"←深夜電力Ａの場合，選択できません。\",\"\"))","v":""},null,1,"入力・出力データチェック",null,null,"入力値合計","種別ごとの容量チェック用"]
[null,"入力",null,"VA",null,null,null,null,null,1,null,"",{"$f":"IF(AND(O$31=4,C141<>\"\"),\"←深夜電力Ａの場合，入力できません。\",IF(OR(C141=\"\",ISNUMBER(C141)),\"\",\"←数字を入力してください。\"))","v":""},null,null,{"$f":"IF(C141=\"\",IF(C139=\"\",0,\"\"),C141)","v":0},null,null,{"$f":"IF(OR(Q42=\"\",Q48=\"\",Q54=\"\",Q60=\"\",Q66=\"\",Q72=\"\",Q78=\"\",Q84=\"\",Q90=\"\",Q96=\"\",P101=\"\",P106=\"\",P111=\"\",P116=\"\",P121=\"\",P126=\"\",P131=\"\",P136=\"\",P141=\"\"),\"\",Q42*C42+Q48*C48+Q54*C54+Q60*C60+Q66*C66+Q72*C72+Q78*C78+Q84*C84+Q90*C90+Q96*C96+P101*C102+P106*C107+P111*C112+P116*C117+P121*C122+P126*C127+P131*C132+P136*C137+P141*C142)","v":0},{"$f":"MAX(C39,C41)*C42+MAX(C45,C47)*C48+MAX(C51,C53)*C54+MAX(C57,C59)*C60+MAX(C63,C65)*C66+MAX(C69,C71)*C67+MAX(C75,C77)*C78+MAX(C81,C83)*C84+MAX(C87,C89)*C90+MAX(C93,C95)*C96+MAX(C99,C101)*C102+MAX(C104,C106)*C107+MAX(C109,C111)*C112+MAX(C114,C116)*C117+MAX(C119,C121)*C122+MAX(C124,C126)*C127+MAX(C129,C131)*C132+MAX(C134,C136)*C137+MAX(C139,C141)*C142","v":0}]
[null,"個数",null,"個",null,null,null,null,null,null,null,"",{"$f":"IF(AND(O$31=4,C142<>\"\"),\"←深夜電力Ａの場合，入力できません。\",IF(OR(C142=\"\",ISNUMBER(C142)),\"\",\"←数字を入力してください。\"))","v":""}]
["温水器","メーカー",null,null,null,null,null,null,null,null,null,"",{"$f":"IF(AND(O31=4,C143=\"\"),\"←入力してください。\",IF(AND(O31<4,C143<>\"\"),\"←深夜電力Ａ以外では入力できません。\",\"\"))","v":""}]
[null,"型式",null,null,null,null,null,null,null,null,null,{"$f":"IF(M144=\"\",\"\",M144)","v":""},{"$f":"IF(AND(O31=4,C144=\"\"),\"←入力してください。\",IF(AND(O31<4,C144<>\"\"),\"←深夜電力Ａ以外では入力できません。\",\"\"))","v":""}]
[null,"容量",null,"kW",null,null,null,null,null,null,null,{"$f":"IF(M145=\"\",\"\",M145)","v":""},{"$f":"IF(AND(O31<4,C145<>\"\"),\"←深夜電力Ａ以外では入力できません。\",IF(AND(O31=4,C145=\"\"),\"←入力してください。\",IF(OR(C145=\"\",ISNUMBER(C145)),IF(C145>0.5,\"0.5kW以下としてください。\",\"\"),\"←数字を入力してください。\")))","v":""}]

{"sheet":"１枚目","index":1,"n_rows":171,"n_cols":111,"rows_kept":171,"cut":false,"hidden":false,"merged":[[120,52,123,56],[34,11,40,20],[148,3,150,109],[90,48,92,59],[99,60,101,69],[102,70,104,72],[111,6,113,34],[111,35,113,44],[111,45,113,47],[111,48,113,59],[111,60,113,69],[108,6,110,34],[108,35,110,44],[108,45,110,47],[108,48,110,59],[139,3,141,109],[142,3,144,109],[145,3,147,109],[105,6,107,34],[93,35,95,44],[93,6,95,34],[105,35,107,44],[105,45,107,47],[105,48,107,59],[99,48,101,59],[79,35,81,44],[67,80,69,99],[73,45,75,47],[96,35,98,44],[76,6,78,34],[99,6,101,34],[99,35,101,44],[102,77,104,79],[102,73,104,76],[67,6,69,34],[105,77,107,79],[102,35,104,44],[102,45,104,47],[102,48,104,59],[64,80,66,99],[82,45,84,47],[82,80,84,99],[93,60,95,69],[99,70,101,72],[79,80,81,99],[73,80,75,99],[61,80,63,99],[76,70,78,72],[67,70,69,72],[96,45,98,47],[96,48,98,59],[99,45,101,47],[96,77,98,79],[87,77,89,79],[82,77,84,79],[99,77,101,79],[90,77,92,79],[90,70,92,72],[61,70,63,72],[64,77,66,79],[93,45,95,47],[79,77,81,79],[73,70,75,72],[73,60,75,69],[79,48,81,59],[73,48,75,59],[58,45,60,47],[79,70,81,72],[58,77,60,79],[61,73,63,76],[61,77,63,79],[61,60,63,69],[61,45,63,47],[70,45,72,47],[76,48,78,59],[41,105,46,109],[39,104,40,104],[41,65,46,72],[41,73,46,88],[41,94,46,97],[47,84,52,89],[39,105,40,109],[55,77,57,79],[53,73,54,79],[39,93,40,97],[85,48,86,59],[70,77,72,79],[67,73,69,76],[64,70,66,72],[67,48,69,59],[67,77,69,79],[58,60,60,69],[58,70,60,72],[67,60,69,69],[64,60,66,69],[70,48,72,59],[76,80,78,99],[39,51,40,58],[39,63,40,67],[61,48,63,59],[58,48,60,59],[76,60,78,69],[79,60,81,69],[76,73,78,76],[76,77,78,79],[73,77,75,79],[73,73,75,76],[79,73,81,76],[34,53,35,55],[55,73,57,76],[39,98,40,98],[47,42,49,83],[34,81,40,85],[47,90,49,104],[50,90,52,104],[41,98,46,104],[41,46,46,50],[55,45,57,47],[55,48,57,59],[55,70,57,72],[55,35,57,44],[34,56,35,56],[34,51,35,52],[41,51,46,64],[39,80,40,80],[39,86,40,88],[39,89,40,92],[39,75,40,79],[36,86,38,110],[34,63,35,80],[41,110,46,110],[39,110,40,110],[111,77,113,79],[116,19,119,51],[120,4,121,27],[124,4,125,27],[85,1,113,5],[87,6,89,34],[114,19,115,51],[87,45,89,47],[87,48,89,59],[90,45,92,47],[85,6,86,34],[102,6,104,34],[90,60,92,69],[87,73,89,76],[85,60,86,72],[120,28,127,30],[120,31,123,35],[120,36,123,38],[120,39,123,40],[120,41,123,43],[120,44,123,48],[120,49,123,51],[116,6,119,18],[120,1,127,3],[155,1,157,16],[111,73,113,76],[82,48,84,59],[90,73,92,76],[96,6,98,34],[85,35,86,47],[87,60,89,69],[99,73,101,76],[96,73,98,76],[126,4,127,27],[108,73,110,76],[115,72,119,89],[115,67,119,71],[108,70,110,72],[87,70,89,72],[85,73,86,79],[82,70,84,72],[82,73,84,76],[131,1,132,97],[129,1,130,97],[93,77,95,79],[93,70,95,72],[96,70,98,72],[108,77,110,79],[70,35,72,44],[53,1,84,5],[44,23,46,27],[73,35,75,44],[79,45,81,47],[76,35,78,44],[70,6,72,34],[73,6,75,34],[44,6,46,11],[41,31,46,35],[61,6,63,34],[53,35,54,47],[55,6,57,34],[61,35,63,44],[58,35,60,44],[34,21,40,25],[64,35,66,44],[64,45,66,47],[67,35,69,44],[43,36,46,45],[64,6,66,34],[58,6,60,34],[53,6,54,34],[44,15,46,19],[45,20,46,22],[38,26,40,45],[50,35,52,61],[36,51,38,80],[58,80,60,99],[55,80,57,99],[39,99,40,103],[39,74,40,74],[39,69,40,73],[41,89,46,93],[34,86,35,110],[49,6,52,34],[45,12,46,14],[64,48,66,59],[41,1,43,30],[17,28,18,28],[17,29,18,29],[23,11,24,19],[31,14,33,19],[31,28,33,28],[31,29,33,35],[28,11,30,63],[17,11,18,17],[17,58,18,63],[25,17,27,20],[17,30,18,30],[17,31,18,31],[17,38,18,38],[20,103,21,103],[17,34,18,34],[17,35,18,35],[17,36,18,36],[17,37,18,37],[17,51,18,51],[6,0,9,110],[14,85,16,89],[14,69,16,84],[14,64,16,68],[14,90,16,110],[17,1,40,5],[25,11,27,12],[25,13,27,15],[31,11,33,13],[19,11,22,63],[31,20,33,20],[34,6,40,10],[25,16,27,16],[32,104,33,104],[32,105,33,109],[28,75,31,110],[32,75,33,88],[31,6,33,10],[26,99,27,103],[22,75,23,110],[24,69,25,110],[26,105,27,109],[26,89,27,92],[26,93,27,97],[31,47,33,54],[31,56,33,63],[23,47,24,63],[31,55,33,55],[17,64,27,68],[17,69,19,74],[32,110,33,110],[32,93,33,97],[25,23,27,63],[32,99,33,103],[28,64,33,68],[23,39,24,46],[23,20,24,38],[31,46,33,46],[31,21,33,27],[28,69,31,74],[20,100,21,102],[32,89,33,92],[32,98,33,98],[31,36,33,38],[47,35,48,41],[53,80,54,99],[51,83,52,83],[51,62,52,65],[51,66,52,70],[51,71,52,71],[51,72,52,76],[51,78,52,82],[34,61,35,62],[36,35,37,35],[36,36,37,36],[36,37,37,37],[36,38,37,38],[36,39,37,39],[32,69,33,74],[31,39,33,45],[39,59,40,62],[53,48,54,59],[53,60,54,72],[39,68,40,68],[34,46,40,50],[34,57,35,60],[163,0,164,110],[165,0,166,110],[114,52,115,66],[55,101,62,102],[55,103,62,110],[120,63,123,65],[124,31,127,35],[124,36,127,38],[124,39,127,40],[124,41,127,43],[124,44,127,48],[124,49,127,51],[124,52,127,56],[124,63,127,65],[120,57,123,59],[120,60,123,62],[124,57,127,59],[124,60,127,62],[114,6,115,18],[93,48,95,59],[82,6,84,34],[122,4,123,27],[114,1,119,5],[82,35,84,44],[17,52,18,52],[17,50,18,50],[17,53,18,53],[17,54,18,54],[17,55,18,55],[17,56,18,56],[17,39,18,39],[58,73,60,76],[70,73,72,76],[64,73,66,76],[70,60,72,69],[70,70,72,72],[55,60,57,69],[17,75,19,110],[20,69,21,74],[20,75,21,89],[20,109,21,110],[20,90,21,99],[26,98,27,98],[20,104,21,108],[22,69,23,74],[26,104,27,104],[26,110,27,110],[26,69,27,88],[45,28,46,30],[51,77,52,77],[133,1,134,97],[111,70,113,72],[116,52,119,63],[102,60,104,69],[93,73,95,76],[96,60,98,69],[116,64,119,66],[105,60,107,69],[108,60,110,69],[105,73,107,76],[105,70,107,72],[82,60,84,69],[90,6,92,34],[87,35,89,44],[90,35,92,44],[47,6,48,12],[76,45,78,47],[67,45,69,47],[70,80,72,99],[44,1,46,5],[79,6,81,34],[47,1,52,5],[36,40,37,40],[36,41,37,41],[36,42,37,42],[36,43,37,43],[36,44,37,44],[36,45,37,45],[11,1,12,25],[13,1,14,38],[41,36,42,45],[17,6,24,10],[25,6,30,10],[25,21,27,22],[17,32,18,32],[17,33,18,33],[17,18,18,18],[17,19,18,19],[17,20,18,20],[17,21,18,21],[17,22,18,22],[17,23,18,23],[17,24,18,24],[17,25,18,25],[17,26,18,26],[17,27,18,27],[34,39,35,39],[34,40,35,40],[34,41,35,41],[34,42,35,42],[34,43,35,43],[34,44,35,44],[34,45,35,45],[17,48,18,48],[17,49,18,49],[17,40,18,40],[17,41,18,41],[17,42,18,42],[17,43,18,43],[17,44,18,44],[17,45,18,45],[17,46,18,46],[17,47,18,47],[1,93,5,109],[36,26,37,26],[36,27,37,27],[36,28,37,28],[36,29,37,29],[36,30,37,30],[36,31,37,31],[36,32,37,32],[36,33,37,33],[36,34,37,34],[17,57,18,57],[34,26,35,26],[34,27,35,27],[34,28,35,28],[34,29,35,29],[34,30,35,30],[34,31,35,31],[34,32,35,32],[34,33,35,33],[34,34,35,34],[34,35,35,35],[34,36,35,36],[34,37,35,37],[34,38,35,38]]}
[]
[null,null,null,null,null,null,null,null,null,null,null,null,null,null,null,null,null,null,null,null,null,null,null,null,null,null,null,null,null,null,null,null,null,null,null,null,null,null,null,null,null,null,null,null,null,null,null,null,null,null,null,null,null,null,null,null,null,null,null,null,null,null,null,null,null,null,null,null,null,null,null,null,null,null,null,null,null,null,null,null,null,null,null,null,null,null,null,null,null,null,null,null,null,"離島等供給用"]
[]
[]
[]
[]
["定額制電気使用申込書（工事会社様控）"]
[]
[]
[]
[]
[null,"北海道電力ネットワーク株式会社　御中"]
[]
[null,"電気の使用について貴社離島等供給約款[低圧用]を承認のうえ申し込みます。"]
[null,null,null,null,null,null,null,null,null,null,null,null,null,null,null,null,null,null,null,null,null,null,null,null,null,null,null,null,null,null,null,null,null,null,null,null,null,null,null,null,null,null,null,null,null,null,null,null,null,null,null,null,null,null,null,null,null,null,null,null,null,null,null,null,"受付扱所名",null,null,null,null,null,null,null,null,null,null,null,null,null,null,null,null,null,null,null,null,"受付№"]
[]
[]
[null,"お 客 さ ま",null,null,null,null,"ご契約名義",null,null,null,null,"（フリガナ）",null,null,null,null,null,null,{"$f":"DBCS(MID(ASC(入力用!C4),1,1))","v":""},{"$f":"DBCS(MID(ASC(入力用!C4),2,1))","v":""},{"$f":"DBCS(MID(ASC(入力用!C4),3,1))","v":""},{"$f":"DBCS(MID(ASC(入力用!C4),4,1))","v":""},{"$f":"DBCS(MID(ASC(入力用!C4),5,1))","v":""},{"$f":"DBCS(MID(ASC(入力用!C4),6,1))","v":""},{"$f":"DBCS(MID(ASC(入力用!C4),7,1))","v":""},{"$f":"DBCS(MID(ASC(入力用!C4),8,1))","v":""},{"$f":"DBCS(MID(ASC(入力用!C4),9,1))","v":""},{"$f":"DBCS(MID(ASC(入力用!C4),10,1))","v":""},{"$f":"DBCS(MID(ASC(入力用!C4),11,1))","v":""},{"$f":"DBCS(MID(ASC(入力用!C4),12,1))","v":""},{"$f":"DBCS(MID(ASC(入力用!C4),13,1))","v":""},{"$f":"DBCS(MID(ASC(入力用!C4),14,1))","v":""},{"$f":"DBCS(MID(ASC(入力用!C4),15,1))","v":""},{"$f":"DBCS(MID(ASC(入力用!C4),16,1))","v":""},{"$f":"DBCS(MID(ASC(入力用!C4),17,1))","v":""},{"$f":"DBCS(MID(ASC(入力用!C4),18,1))","v":""},{"$f":"DBCS(MID(ASC(入力用!C4),19,1))","v":""},{"$f":"DBCS(MID(ASC(入力用!C4),20,1))","v":""},{"$f":"DBCS(MID(ASC(入力用!C4),21,1))","v":""},{"$f":"DBCS(MID(ASC(入力用!C4),22,1))","v":""},{"$f":"DBCS(MID(ASC(入力用!C4),23,1))","v":""},{"$f":"DBCS(MID(ASC(入力用!C4),24,1))","v":""},{"$f":"DBCS(MID(ASC(入力用!C4),25,1))","v":""},{"$f":"DBCS(MID(ASC(入力用!C4),26,1))","v":""},{"$f":"DBCS(MID(ASC(入力用!C4),27,1))","v":""},{"$f":"DBCS(MID(ASC(入力用!C4),28,1))","v":""},{"$f":"DBCS(MID(ASC(入力用!C4),29,1))","v":""},{"$f":"DBCS(MID(ASC(入力用!C4),30,1))","v":""},{"$f":"DBCS(MID(ASC(入力用!C4),31,1))","v":""},{"$f":"DBCS(MID(ASC(入力用!C4),32,1))","v":""},{"$f":"DBCS(MID(ASC(入力用!C4),33,1))","v":""},{"$f":"DBCS(MID(ASC(入力用!C4),34,1))","v":""},{"$f":"DBCS(MID(ASC(入力用!C4),35,1))","v":""},{"$f":"DBCS(MID(ASC(入力用!C4),36,1))","v":""},{"$f":"DBCS(MID(ASC(入力用!C4),37,1))","v":""},{"$f":"DBCS(MID(ASC(入力用!C4),38,1))","v":""},{"$f":"DBCS(MID(ASC(入力用!C4),39,1))","v":""},{"$f":"DBCS(MID(ASC(入力用!C4),40,1))","v":""},null,null,null,null,null,null,"電気工事会社",null,null,null,null," 会社名",null,null,null,null,null,{"$f":"IF(入力用!C12=\"\",\"\",入力用!C12)","v":""}]
[]
[null,null,null,null,null,null,null,null,null,null,null,{"$f":"IF(入力用!C5=\"\",\"\",入力用!C5)","v":""}]
[null,null,null,null,null,null,null,null,null,null,null,null,null,null,null,null,null,null,null,null,null,null,null,null,null,null,null,null,null,null,null,null,null,null,null,null,null,null,null,null,null,null,null,null,null,null,null,null,null,null,null,null,null,null,null,null,null,null,null,null,null,null,null,null,null,null,null,null,null,"(担当者)",null,null,null,null,null,{"$f":"IF(入力用!C13=\"\",\"\",入力用!C13)","v":""},null,null,null,null,null,null,null,null,null,null,null,null,null,null,"工事会社№（",null,null,null,null,null,null,null,null,null,{"$f":"IF(入力用!C14=\"\",\"\",入力用!C14)","v":""},null,null,"-",{"$f":"IF(入力用!E14=\"\",\"\",入力用!E14)","v":""},null,null,null,null,")"]
[]
[null,null,null,null,null,null,null,null,null,null,null,null,null,null,null,null,null,null,null,null,null,null,null,null,null,null,null,null,null,null,null,null,null,null,null,null,null,null,null,null,null,null,null,null,null,null,null,null,null,null,null,null,null,null,null,null,null,null,null,null,null,null,null,null,null,null,null,null,null," 住　所",null,null,null,null,null,{"$f":"LEFT(入力用!C15,24)","v":""}]
[null,null,null,null,null,null,null,null,null,null,null,"（代表者肩書）",null,null,null,null,null,null,null,null,{"$f":"IF(入力用!C6=\"\",\"\",入力用!C6)","v":""},null,null,null,null,null,null,null,null,null,null,null,null,null,null,null,null,null,null,"（代表者名）",null,null,null,null,null,null,null,{"$f":"IF(入力用!C7=\"\",\"\",入力用!C7)","v":""}]
[null,null,null,null,null,null,null,null,null,null,null,null,null,null,null,null,null,null,null,null,null,null,null,null,null,null,null,null,null,null,null,null,null,null,null,null,null,null,null,null,null,null,null,null,null,null,null,null,null,null,null,null,null,null,null,null,null,null,null,null,null,null,null,null,null,null,null,null,null,{"$f":"MID(入力用!C15,25,28)","v":""}]
[null,null,null,null,null,null,"ご使用\n場　所",null,null,null,null,"(〒",null,{"$f":"LEFT(入力用!C8,3)","v":""},null,null,"-",{"$f":"RIGHT(入力用!C8,4)","v":""},null,null,null,")",null,{"$f":"LEFT(入力用!C9,25)","v":""}]
[null,null,null,null,null,null,null,null,null,null,null,null,null,null,null,null,null,null,null,null,null,null,null,null,null,null,null,null,null,null,null,null,null,null,null,null,null,null,null,null,null,null,null,null,null,null,null,null,null,null,null,null,null,null,null,null,null,null,null,null,null,null,null,null,null,null,null,null,null,{"$f":"MID(入力用!C15,53,12)","v":""},null,null,null,null,null,null,null,null,null,null,null,null,null,null,null,null,null,null,null,"電話(",null,null,null,{"$f":"IF(入力用!C16=\"\",\"\",入力用!C16)","v":""},null,null,null,null,"-",{"$f":"IF(入力用!E16=\"\",\"\",入力用!E16)","v":""},null,null,null,null,"-",{"$f":"IF(入力用!H16=\"\",\"\",入力用!H16)","v":""},null,null,null,null,")"]
[]
[null,null,null,null,null,null,null,null,null,null,null,{"$f":"MID(入力用!C9,26,33)","v":""},null,null,null,null,null,null,null,null,null,null,null,null,null,null,null,null,null,null,null,null,null,null,null,null,null,null,null,null,null,null,null,null,null,null,null,null,null,null,null,null,null,null,null,null,null,null,null,null,null,null,null,null,"建築会社",null,null,null,null," 会社名",null,null,null,null,null,{"$f":"IF(入力用!C17=\"\",\"\",入力用!C17)","v":""}]
[]
[]
[null,null,null,null,null,null,"電話番号",null,null,null,null,"固定",null,null,{"$f":"IF(入力用!C10=\"\",\"\",入力用!C10)","v":""},null,null,null,null,null,"-",{"$f":"IF(入力用!E10=\"\",\"\",入力用!E10)","v":""},null,null,null,null,null,null,"-",{"$f":"IF(入力用!H10=\"\",\"\",入力用!H10)","v":""},null,null,null,null,null,null,"携帯",null,null,{"$f":"IF(入力用!C11=\"\",\"\",入力用!C11)","v":""},null,null,null,null,null,null,"-",{"$f":"IF(入力用!E11=\"\",\"\",入力用!E11)","v":""},null,null,null,null,null,null,null,"-",{"$f":"IF(入力用!H11=\"\",\"\",入力用!H11)","v":""}]
[null,null,null,null,null,null,null,null,null,null,null,null,null,null,null,null,null,null,null,null,null,null,null,null,null,null,null,null,null,null,null,null,null,null,null,null,null,null,null,null,null,null,null,null,null,null,null,null,null,null,null,null,null,null,null,null,null,null,null,null,null,null,null,null,null,null,null,null,null,"(担当者)",null,null,null,null,null,{"$f":"IF(入力用!C18=\"\",\"\",入力用!C18)","v":""},null,null,null,null,null,null,null,null,null,null,null,null,null,"電話(",null,null,null,{"$f":"IF(入力用!C19=\"\",\"\",入力用!C19)","v":""},null,null,null,null,"-",{"$f":"IF(入力用!E19=\"\",\"\",入力用!E19)","v":""},null,null,null,null,"-",{"$f":"IF(入力用!H19=\"\",\"\",入力用!H19)","v":""},null,null,null,null,")"]
[]
[null,null,null,null,null,null,"お支払\n方　法",null,null,null,null,{"$f":"IF(入力用!O20=2,入力用!O6,IF(入力用!O20=3,入力用!O7,IF(入力用!O20=4,入力用!O8,\"\")))","v":""},null,null,null,null,null,null,null,null,null,"支　払\n者　名",null,null,null,null,{"$f":"DBCS(MID(ASC(入力用!C21),1,1))","v":""},{"$f":"DBCS(MID(ASC(入力用!C21),2,1))","v":""},{"$f":"DBCS(MID(ASC(入力用!C21),3,1))","v":""},{"$f":"DBCS(MID(ASC(入力用!C21),4,1))","v":""},{"$f":"DBCS(MID(ASC(入力用!C21),5,1))","v":""},{"$f":"DBCS(MID(ASC(入力用!C21),6,1))","v":""},{"$f":"DBCS(MID(ASC(入力用!C21),7,1))","v":""},{"$f":"DBCS(MID(ASC(入力用!C21),8,1))","v":""},{"$f":"DBCS(MID(ASC(入力用!C21),9,1))","v":""},{"$f":"DBCS(MID(ASC(入力用!C21),10,1))","v":""},{"$f":"DBCS(MID(ASC(入力用!C21),11,1))","v":""},{"$f":"DBCS(MID(ASC(入力用!C21),12,1))","v":""},{"$f":"DBCS(MID(ASC(入力用!C21),13,1))","v":""},{"$f":"DBCS(MID(ASC(入力用!C21),14,1))","v":""},{"$f":"DBCS(MID(ASC(入力用!C21),15,1))","v":""},{"$f":"DBCS(MID(ASC(入力用!C21),16,1))","v":""},{"$f":"DBCS(MID(ASC(入力用!C21),17,1))","v":""},{"$f":"DBCS(MID(ASC(入力用!C21),18,1))","v":""},{"$f":"DBCS(MID(ASC(入力用!C21),19,1))","v":""},{"$f":"DBCS(MID(ASC(入力用!C21),20,1))","v":""},"請求書\n送付先",null,null,null,null,"(〒",null,{"$f":"LEFT(入力用!C23,3)","v":""},null,null,"-",{"$f":"RIGHT(入力用!C23,4)","v":""},null,null,null,")",null,{"$f":"IF(入力用!C24=\"同上\",\"\",LEFT(入力用!C24,12))","v":""},null,null,null,null,null,null,null,null,null,null,null,null,null,null,null,null,null,"ご連絡先",null,null,null,null,{"$f":"IF(OR(入力用!C26=\"同上\",入力用!C26=\"同左\"),\"\",LEFT(入力用!C26,17))","v":""}]
[]
[null,null,null,null,null,null,null,null,null,null,null,null,null,null,null,null,null,null,null,null,null,null,null,null,null,null,{"$f":"DBCS(MID(ASC(入力用!C21),21,1))","v":""},{"$f":"DBCS(MID(ASC(入力用!C21),22,1))","v":""},{"$f":"DBCS(MID(ASC(入力用!C21),23,1))","v":""},{"$f":"DBCS(MID(ASC(入力用!C21),24,1))","v":""},{"$f":"DBCS(MID(ASC(入力用!C21),25,1))","v":""},{"$f":"DBCS(MID(ASC(入力用!C21),26,1))","v":""},{"$f":"DBCS(MID(ASC(入力用!C21),27,1))","v":""},{"$f":"DBCS(MID(ASC(入力用!C21),28,1))","v":""},{"$f":"DBCS(MID(ASC(入力用!C21),29,1))","v":""},{"$f":"DBCS(MID(ASC(入力用!C21),30,1))","v":""},{"$f":"DBCS(MID(ASC(入力用!C21),31,1))","v":""},{"$f":"DBCS(MID(ASC(入力用!C21),32,1))","v":""},{"$f":"DBCS(MID(ASC(入力用!C21),33,1))","v":""},{"$f":"DBCS(MID(ASC(入力用!C21),34,1))","v":""},{"$f":"DBCS(MID(ASC(入力用!C21),35,1))","v":""},{"$f":"DBCS(MID(ASC(入力用!C21),36,1))","v":""},{"$f":"DBCS(MID(ASC(入力用!C21),37,1))","v":""},{"$f":"DBCS(MID(ASC(入力用!C21),38,1))","v":""},{"$f":"DBCS(MID(ASC(入力用!C21),39,1))","v":""},{"$f":"DBCS(MID(ASC(入力用!C21),40,1))","v":""},null,null,null,null,null,{"$f":"IF(入力用!C24=\"同上\",入力用!C24,MID(入力用!C24,13,20))","v":""},null,null,null,null,null,null,null,null,null,null,null,null,null,null,null,null,null,null,null,null,null,null,null,null,null,null,null,null,null,null,null,null,null,null,{"$f":"IF(OR(入力用!C26=\"同上\",入力用!C26=\"同左\"),入力用!C26,MID(入力用!C26,18,17))","v":""}]
[]
[null,null,null,null,null,null,null,null,null,null,null,null,null,null,null,null,null,null,null,null,null,null,null,null,null,null,{"$f":"IF(入力用!C22=\"\",\"\",入力用!C22)","v":""}]
[null,null,null,null,null,null,null,null,null,null,null,null,null,null,null,null,null,null,null,null,null,null,null,null,null,null,null,null,null,null,null,null,null,null,null,null,null,null,null,null,null,null,null,null,null,null,null,null,null,null,null,{"$f":"MID(入力用!C24,33,5)","v":""},null,null,null,null,null,null,null,"電話(",null,null,null,{"$f":"IF(入力用!C25=\"\",\"\",入力用!C25)","v":""},null,null,null,null,"-",{"$f":"IF(入力用!E25=\"\",\"\",入力用!E25)","v":""},null,null,null,null,"-",{"$f":"IF(入力用!H25=\"\",\"\",入力用!H25)","v":""},null,null,null,null,")",null,null,null,null,null,{"$f":"IF(OR(入力用!C26=\"同上\",入力用!C26=\"同左\"),\"\",MID(入力用!C26,35,1))","v":""},null,null,"電話(",null,null,null,{"$f":"IF(入力用!C27=\"\",\"\",入力用!C27)","v":""},null,null,null,null,"-",{"$f":"IF(入力用!E27=\"\",\"\",入力用!E27)","v":""},null,null,null,null,"-",{"$f":"IF(入力用!H27=\"\",\"\",入力用!H27)","v":""},null,null,null,null,")"]
[]
[null,null,null,null,null,null,null,null,null,null,null,null,null,null,null,null,null,null,null,null,null,null,null,null,null,null,null,null,null,null,null,"契約\n種別",null,null,null,null,null,null,null,null,null,null,null,null,null,null,"供給電気\n方 式 ・\n供給電圧",null,null,null,null,{"$f":"IF(入力用!O32=2,入力用!Q6,IF(入力用!O32=3,入力用!Q7,IF(入力用!O32=4,入力用!Q8,IF(入力用!O32=5,入力用!Q9,\"\"))))","v":""},null,null,null,null,null,null,null,null,null,null,null,null,null,"フリーエリア\n計器払出希望\n事 業 所 名",null,null,null,null,null,null,null,{"$f":"IF(入力用!C33=\"\",\"\",入力用!C33)","v":""},null,null,null,null,null,null,null,null,null,null,null,null,null,null,null,"本契約前\nの臨時契\n約の有無",null,null,null,null,{"$f":"IF(入力用!O34=2,入力用!R6,IF(入力用!O34=3,入力用!R7,\"\"))","v":""},null,null,null,"臨時受付№(",null,null,null,null,null,null,null,null,null,null,null,")"]
[]
[null,null,null,null,null,null,null,null,null,null,null,null,null,null,null,null,null,null,null,null,null,null,null,null,null,null,null,null,null,null,null,null,null,null,null,null,{"$f":"IF(入力用!O31=2,入力用!P6,IF(入力用!O31=3,入力用!P7,IF(入力用!O31=4,入力用!P8,\"\")))","v":""}]
[null,"受　 電\n希望日",null,null,null,null,{"$f":"IF(入力用!C30=\"\",\"\",入力用!C30)","v":""},null,null,null,null,null,null,null,null,{"$f":"IF(入力用!E30=\"\",\"\",入力用!E30)","v":""},null,null,null,null,null,null,null,{"$f":"IF(入力用!H30=\"\",\"\",入力用!H30)","v":""}]
[null,null,null,null,null,null,null,null,null,null,null,null,"年",null,null,null,null,null,null,null,"月",null,null,null,null,null,null,null,"日"]
[]
[null,"街路灯\n管　理\n責任者",null,null,null,null,"責任者名",null,null,null,null,null,null,null,null,null,null,null,null,null,null,null,null,null,null,null,null,null,null,null,null,null,null,null,null,"住　所",null,null,null,null,null,null,{"$f":"LEFT(入力用!C36,39)","v":""},null,null,null,null,null,null,null,null,null,null,null,null,null,null,null,null,null,null,null,null,null,null,null,null,null,null,null,null,null,null,null,null,null,null,null,null,null,null,null,null,null,"電設Ｎｅｔ\n申込",null,null,null,null,null,{"$f":"IF(入力用!O28=2,入力用!S14,IF(入力用!O28=3,入力用!S15,\"\"))","v":""}]
[]
[null,null,null,null,null,null,{"$f":"IF(入力用!C35=\"\",\"\",入力用!C35)","v":""}]
[null,null,null,null,null,null,null,null,null,null,null,null,null,null,null,null,null,null,null,null,null,null,null,null,null,null,null,null,null,null,null,null,null,null,null,{"$f":"MID(入力用!C36,40,29)","v":""},null,null,null,null,null,null,null,null,null,null,null,null,null,null,null,null,null,null,null,null,null,null,null,null,null,null,null,null,null,null,null,null,null,null,null,null,null,null,null,null,null,null,null,null,null,null,null,null,null,null,null,null,null,null,{"$f":"IF(入力用!C29=\"\",\"\",入力用!C29)","v":""}]
[null,null,null,null,null,null,null,null,null,null,null,null,null,null,null,null,null,null,null,null,null,null,null,null,null,null,null,null,null,null,null,null,null,null,null,null,null,null,null,null,null,null,null,null,null,null,null,null,null,null,null,null,null,null,null,null,null,null,null,null,null,null,"電話(",null,null,null,{"$f":"IF(入力用!C37=\"\",\"\",入力用!C37)","v":""},null,null,null,null,"-",{"$f":"IF(入力用!E37=\"\",\"\",入力用!E37)","v":""},null,null,null,null,"-",{"$f":"IF(入力用!H37=\"\",\"\",入力用!H37)","v":""},null,null,null,null,")"]
[]
[null,"電　　　　　　　　灯",null,null,null,null,"機　　器　　種　　別",null,null,null,null,null,null,null,null,null,null,null,null,null,null,null,null,null,null,null,null,null,null,null,null,null,null,null,null,"出　力",null,null,null,null,null,null,null,null,null,null,null,null,"力　　率",null,null,null,null,null,null,null,null,null,null,null,"入　力",null,null,null,null,null,null,null,null,null,null,null,null,"灯　数",null,null,null,null,null,null,"取　付　位　置"]
[]
[null,null,null,null,null,null,{"$f":"IF(入力用!O38=2,入力用!S$6,IF(入力用!O38=3,入力用!S$7,IF(入力用!O38=4,入力用!S$8,IF(入力用!O38=5,入力用!S$9,IF(入力用!O38=6,入力用!K38,\"\")))))","v":""},null,null,null,null,null,null,null,null,null,null,null,null,null,null,null,null,null,null,null,null,null,null,null,null,null,null,null,null,{"$f":"IF(入力用!C39=\"\",\"\",入力用!C39)","v":""},null,null,null,null,null,null,null,null,null,"Ｗ",null,null,{"$f":"IF(入力用!O38=5,\"－\",IF(入力用!O40=2,入力用!T$6,IF(入力用!O40=3,入力用!T$7,\"\")))","v":""},null,null,null,null,null,null,null,null,null,null,null,{"$f":"IF(入力用!Q42=0,\"\",入力用!Q42)","v":""},null,null,null,null,null,null,null,null,null,"VA",null,null,{"$f":"IF(入力用!C42=\"\",\"\",入力用!C42)","v":""},null,null,null,"灯",null,null,{"$f":"IF(入力用!O43=2,入力用!U$6,IF(入力用!O43=3,入力用!U$7,IF(入力用!O43=4,入力用!U$8,IF(入力用!O43=5,入力用!K43,\"\"))))","v":""},null,null,null,null,null,null,null,null,null,null,null,null,null,null,null,null,null,null,null,null,"受付"]
[]
[]
[null,null,null,null,null,null,{"$f":"IF(入力用!O44=2,入力用!S$6,IF(入力用!O44=3,入力用!S$7,IF(入力用!O44=4,入力用!S$8,IF(入力用!O44=5,入力用!S$9,IF(入力用!O44=6,入力用!K44,\"\")))))","v":""},null,null,null,null,null,null,null,null,null,null,null,null,null,null,null,null,null,null,null,null,null,null,null,null,null,null,null,null,{"$f":"IF(入力用!C45=\"\",\"\",入力用!C45)","v":""},null,null,null,null,null,null,null,null,null,"Ｗ",null,null,{"$f":"IF(入力用!O44=5,\"－\",IF(入力用!O46=2,入力用!T$6,IF(入力用!O46=3,入力用!T$7,\"\")))","v":""},null,null,null,null,null,null,null,null,null,null,null,{"$f":"IF(入力用!Q48=0,\"\",入力用!Q48)","v":""},null,null,null,null,null,null,null,null,null,"VA",null,null,{"$f":"IF(入力用!C48=\"\",\"\",入力用!C48)","v":""},null,null,null,"灯",null,null,{"$f":"IF(入力用!O49=2,入力用!U$6,IF(入力用!O49=3,入力用!U$7,IF(入力用!O49=4,入力用!U$8,IF(入力用!O49=5,入力用!K49,\"\"))))","v":""}]
[]
[]
[null,null,null,null,null,null,{"$f":"IF(入力用!O50=2,入力用!S$6,IF(入力用!O50=3,入力用!S$7,IF(入力用!O50=4,入力用!S$8,IF(入力用!O50=5,入力用!S$9,IF(入力用!O50=6,入力用!K50,\"\")))))","v":""},null,null,null,null,null,null,null,null,null,null,null,null,null,null,null,null,null,null,null,null,null,null,null,null,null,null,null,null,{"$f":"IF(入力用!C51=\"\",\"\",入力用!C51)","v":""},null,null,null,null,null,null,null,null,null,"Ｗ",null,null,{"$f":"IF(入力用!O50=5,\"－\",IF(入力用!O52=2,入力用!T$6,IF(入力用!O52=3,入力用!T$7,\"\")))","v":""},null,null,null,null,null,null,null,null,null,null,null,{"$f":"IF(入力用!Q54=0,\"\",入力用!Q54)","v":""},null,null,null,null,null,null,null,null,null,"VA",null,null,{"$f":"IF(入力用!C54=\"\",\"\",入力用!C54)","v":""},null,null,null,"灯",null,null,{"$f":"IF(入力用!O55=2,入力用!U$6,IF(入力用!O55=3,入力用!U$7,IF(入力用!O55=4,入力用!U$8,IF(入力用!O55=5,入力用!K55,\"\"))))","v":""}]
[]
[]
[null,null,null,null,null,null,{"$f":"IF(入力用!O56=2,入力用!S$6,IF(入力用!O56=3,入力用!S$7,IF(入力用!O56=4,入力用!S$8,IF(入力用!O56=5,入力用!S$9,IF(入力用!O56=6,入力用!K56,\"\")))))","v":""},null,null,null,null,null,null,null,null,null,null,null,null,null,null,null,null,null,null,null,null,null,null,null,null,null,null,null,null,{"$f":"IF(入力用!C57=\"\",\"\",入力用!C57)","v":""},null,null,null,null,null,null,null,null,null,"Ｗ",null,null,{"$f":"IF(入力用!O56=5,\"－\",IF(入力用!O58=2,入力用!T$6,IF(入力用!O58=3,入力用!T$7,\"\")))","v":""},null,null,null,null,null,null,null,null,null,null,null,{"$f":"IF(入力用!Q60=0,\"\",入力用!Q60)","v":""},null,null,null,null,null,null,null,null,null,"VA",null,null,{"$f":"IF(入力用!C60=\"\",\"\",入力用!C60)","v":""},null,null,null,"灯",null,null,{"$f":"IF(入力用!O61=2,入力用!U$6,IF(入力用!O61=3,入力用!U$7,IF(入力用!O61=4,入力用!U$8,IF(入力用!O61=5,入力用!K61,\"\"))))","v":""}]
[]
[]
[null,null,null,null,null,null,{"$f":"IF(入力用!O62=2,入力用!S$6,IF(入力用!O62=3,入力用!S$7,IF(入力用!O62=4,入力用!S$8,IF(入力用!O62=5,入力用!S$9,IF(入力用!O62=6,入力用!K62,\"\")))))","v":""},null,null,null,null,null,null,null,null,null,null,null,null,null,null,null,null,null,null,null,null,null,null,null,null,null,null,null,null,{"$f":"IF(入力用!C63=\"\",\"\",入力用!C63)","v":""},null,null,null,null,null,null,null,null,null,"Ｗ",null,null,{"$f":"IF(入力用!O62=5,\"－\",IF(入力用!O64=2,入力用!T$6,IF(入力用!O64=3,入力用!T$7,\"\")))","v":""},null,null,null,null,null,null,null,null,null,null,null,{"$f":"IF(入力用!Q66=0,\"\",入力用!Q66)","v":""},null,null,null,null,null,null,null,null,null,"VA",null,null,{"$f":"IF(入力用!C66=\"\",\"\",入力用!C66)","v":""},null,null,null,"灯",null,null,{"$f":"IF(入力用!O67=2,入力用!U$6,IF(入力用!O67=3,入力用!U$7,IF(入力用!O67=4,入力用!U$8,IF(入力用!O67=5,入力用!K67,\"\"))))","v":""}]
[]
[]
[null,null,null,null,null,null,{"$f":"IF(入力用!O68=2,入力用!S$6,IF(入力用!O68=3,入力用!S$7,IF(入力用!O68=4,入力用!S$8,IF(入力用!O68=5,入力用!S$9,IF(入力用!O68=6,入力用!K68,\"\")))))","v":""},null,null,null,null,null,null,null,null,null,null,null,null,null,null,null,null,null,null,null,null,null,null,null,null,null,null,null,null,{"$f":"IF(入力用!C69=\"\",\"\",入力用!C69)","v":""},null,null,null,null,null,null,null,null,null,"Ｗ",null,null,{"$f":"IF(入力用!O68=5,\"－\",IF(入力用!O70=2,入力用!T$6,IF(入力用!O70=3,入力用!T$7,\"\")))","v":""},null,null,null,null,null,null,null,null,null,null,null,{"$f":"IF(入力用!Q72=0,\"\",入力用!Q72)","v":""},null,null,null,null,null,null,null,null,null,"VA",null,null,{"$f":"IF(入力用!C72=\"\",\"\",入力用!C72)","v":""},null,null,null,"灯",null,null,{"$f":"IF(入力用!O73=2,入力用!U$6,IF(入力用!O73=3,入力用!U$7,IF(入力用!O73=4,入力用!U$8,IF(入力用!O73=5,入力用!K73,\"\"))))","v":""}]
[]
[]
[null,null,null,null,null,null,{"$f":"IF(入力用!O74=2,入力用!S$6,IF(入力用!O74=3,入力用!S$7,IF(入力用!O74=4,入力用!S$8,IF(入力用!O74=5,入力用!S$9,IF(入力用!O74=6,入力用!K74,\"\")))))","v":""},null,null,null,null,null,null,null,null,null,null,null,null,null,null,null,null,null,null,null,null,null,null,null,null,null,null,null,null,{"$f":"IF(入力用!C75=\"\",\"\",入力用!C75)","v":""},null,null,null,null,null,null,null,null,null,"Ｗ",null,null,{"$f":"IF(入力用!O74=5,\"－\",IF(入力用!O76=2,入力用!T$6,IF(入力用!O76=3,入力用!T$7,\"\")))","v":""},null,null,null,null,null,null,null,null,null,null,null,{"$f":"IF(入力用!Q78=0,\"\",入力用!Q78)","v":""},null,null,null,null,null,null,null,null,null,"VA",null,null,{"$f":"IF(入力用!C78=\"\",\"\",入力用!C78)","v":""},null,null,null,"灯",null,null,{"$f":"IF(入力用!O79=2,入力用!U$6,IF(入力用!O79=3,入力用!U$7,IF(入力用!O79=4,入力用!U$8,IF(入力用!O79=5,入力用!K79,\"\"))))","v":""}]
[]
[]
[null,null,null,null,null,null,{"$f":"IF(入力用!O80=2,入力用!S$6,IF(入力用!O80=3,入力用!S$7,IF(入力用!O80=4,入力用!S$8,IF(入力用!O80=5,入力用!S$9,IF(入力用!O80=6,入力用!K80,\"\")))))","v":""},null,null,null,null,null,null,null,null,null,null,null,null,null,null,null,null,null,null,null,null,null,null,null,null,null,null,null,null,{"$f":"IF(入力用!C81=\"\",\"\",入力用!C81)","v":""},null,null,null,null,null,null,null,null,null,"Ｗ",null,null,{"$f":"IF(入力用!O80=5,\"－\",IF(入力用!O82=2,入力用!T$6,IF(入力用!O82=3,入力用!T$7,\"\")))","v":""},null,null,null,null,null,null,null,null,null,null,null,{"$f":"IF(入力用!Q84=0,\"\",入力用!Q84)","v":""},null,null,null,null,null,null,null,null,null,"VA",null,null,{"$f":"IF(入力用!C84=\"\",\"\",入力用!C84)","v":""},null,null,null,"灯",null,null,{"$f":"IF(入力用!O85=2,入力用!U$6,IF(入力用!O85=3,入力用!U$7,IF(入力用!O85=4,入力用!U$8,IF(入力用!O85=5,入力用!K85,\"\"))))","v":""}]
[]
[]
[null,null,null,null,null,null,{"$f":"IF(入力用!O86=2,入力用!S$6,IF(入力用!O86=3,入力用!S$7,IF(入力用!O86=4,入力用!S$8,IF(入力用!O86=5,入力用!S$9,IF(入力用!O86=6,入力用!K86,\"\")))))","v":""},null,null,null,null,null,null,null,null,null,null,null,null,null,null,null,null,null,null,null,null,null,null,null,null,null,null,null,null,{"$f":"IF(入力用!C87=\"\",\"\",入力用!C87)","v":""},null,null,null,null,null,null,null,null,null,"Ｗ",null,null,{"$f":"IF(入力用!O86=5,\"－\",IF(入力用!O88=2,入力用!T$6,IF(入力用!O88=3,入力用!T$7,\"\")))","v":""},null,null,null,null,null,null,null,null,null,null,null,{"$f":"IF(入力用!Q90=0,\"\",入力用!Q90)","v":""},null,null,null,null,null,null,null,null,null,"VA",null,null,{"$f":"IF(入力用!C90=\"\",\"\",入力用!C90)","v":""},null,null,null,"灯",null,null,{"$f":"IF(入力用!O91=2,入力用!U$6,IF(入力用!O91=3,入力用!U$7,IF(入力用!O91=4,入力用!U$8,IF(入力用!O91=5,入力用!K91,\"\"))))","v":""}]
[]
[]
[null,null,null,null,null,null,{"$f":"IF(入力用!O92=2,入力用!S$6,IF(入力用!O92=3,入力用!S$7,IF(入力用!O92=4,入力用!S$8,IF(入力用!O92=5,入力用!S$9,IF(入力用!O92=6,入力用!K92,\"\")))))","v":""},null,null,null,null,null,null,null,null,null,null,null,null,null,null,null,null,null,null,null,null,null,null,null,null,null,null,null,null,{"$f":"IF(入力用!C93=\"\",\"\",入力用!C93)","v":""},null,null,null,null,null,null,null,null,null,"Ｗ",null,null,{"$f":"IF(入力用!O92=5,\"－\",IF(入力用!O92=2,入力用!T$6,IF(入力用!O92=3,入力用!T$7,\"\")))","v":""},null,null,null,null,null,null,null,null,null,null,null,{"$f":"IF(入力用!Q96=0,\"\",入力用!Q96)","v":""},null,null,null,null,null,null,null,null,null,"VA",null,null,{"$f":"IF(入力用!C96=\"\",\"\",入力用!C96)","v":""},null,null,null,"灯",null,null,{"$f":"IF(入力用!O97=2,入力用!U$6,IF(入力用!O97=3,入力用!U$7,IF(入力用!O97=4,入力用!U$8,IF(入力用!O97=5,入力用!K97,\"\"))))","v":""}]
[]
[]
[null,"小　　型　　機　　器",null,null,null,null,"機　　器　　種　　別",null,null,null,null,null,null,null,null,null,null,null,null,null,null,null,null,null,null,null,null,null,null,null,null,null,null,null,null,"出　力",null,null,null,null,null,null,null,null,null,null,null,null,"力　　率",null,null,null,null,null,null,null,null,null,null,null,"入　力",null,null,null,null,null,null,null,null,null,null,null,null,"個　数"]
[]
[null,null,null,null,null,null,{"$f":"IF(入力用!C98=\"\",\"\",入力用!C98)","v":""},null,null,null,null,null,null,null,null,null,null,null,null,null,null,null,null,null,null,null,null,null,null,null,null,null,null,null,null,{"$f":"IF(入力用!C99=\"\",\"\",入力用!C99)","v":""},null,null,null,null,null,null,null,null,null,"Ｗ",null,null,{"$f":"IF(入力用!O100=2,入力用!V$6,IF(入力用!O100=3,入力用!V$7,\"\"))","v":""},null,null,null,null,null,null,null,null,null,null,null,{"$f":"IF(入力用!C101=\"\",\"\",入力用!C101)","v":""},null,null,null,null,null,null,null,null,null,"VA",null,null,{"$f":"IF(入力用!C102=\"\",\"\",入力用!C102)","v":""},null,null,null,"個"]
[]
[]
[null,null,null,null,null,null,{"$f":"IF(入力用!C103=\"\",\"\",入力用!C103)","v":""},null,null,null,null,null,null,null,null,null,null,null,null,null,null,null,null,null,null,null,null,null,null,null,null,null,null,null,null,{"$f":"IF(入力用!C104=\"\",\"\",入力用!C104)","v":""},null,null,null,null,null,null,null,null,null,"Ｗ",null,null,{"$f":"IF(入力用!O105=2,入力用!V$6,IF(入力用!O105=3,入力用!V$7,\"\"))","v":""},null,null,null,null,null,null,null,null,null,null,null,{"$f":"IF(入力用!C106=\"\",\"\",入力用!C106)","v":""},null,null,null,null,null,null,null,null,null,"VA",null,null,{"$f":"IF(入力用!C107=\"\",\"\",入力用!C107)","v":""},null,null,null,"個"]
[]
[]
[null,null,null,null,null,null,{"$f":"IF(入力用!C108=\"\",\"\",入力用!C108)","v":""},null,null,null,null,null,null,null,null,null,null,null,null,null,null,null,null,null,null,null,null,null,null,null,null,null,null,null,null,{"$f":"IF(入力用!C109=\"\",\"\",入力用!C109)","v":""},null,null,null,null,null,null,null,null,null,"Ｗ",null,null,{"$f":"IF(入力用!O110=2,入力用!V$6,IF(入力用!O110=3,入力用!V$7,\"\"))","v":""},null,null,null,null,null,null,null,null,null,null,null,{"$f":"IF(入力用!C111=\"\",\"\",入力用!C111)","v":""},null,null,null,null,null,null,null,null,null,"VA",null,null,{"$f":"IF(入力用!C112=\"\",\"\",入力用!C112)","v":""},null,null,null,"個"]
[]
[]
[null,null,null,null,null,null,{"$f":"IF(入力用!C113=\"\",\"\",入力用!C113)","v":""},null,null,null,null,null,null,null,null,null,null,null,null,null,null,null,null,null,null,null,null,null,null,null,null,null,null,null,null,{"$f":"IF(入力用!C114=\"\",\"\",入力用!C114)","v":""},null,null,null,null,null,null,null,null,null,"Ｗ",null,null,{"$f":"IF(入力用!O115=2,入力用!V$6,IF(入力用!O115=3,入力用!V$7,\"\"))","v":""},null,null,null,null,null,null,null,null,null,null,null,{"$f":"IF(入力用!C116=\"\",\"\",入力用!C116)","v":""},null,null,null,null,null,null,null,null,null,"VA",null,null,{"$f":"IF(入力用!C117=\"\",\"\",入力用!C117)","v":""},null,null,null,"個"]
[]
[]
[null,null,null,null,null,null,{"$f":"IF(入力用!C118=\"\",\"\",入力用!C118)","v":""},null,null,null,null,null,null,null,null,null,null,null,null,null,null,null,null,null,null,null,null,null,null,null,null,null,null,null,null,{"$f":"IF(入力用!C119=\"\",\"\",入力用!C119)","v":""},null,null,null,null,null,null,null,null,null,"Ｗ",null,null,{"$f":"IF(入力用!O120=2,入力用!V$6,IF(入力用!O120=3,入力用!V$7,\"\"))","v":""},null,null,null,null,null,null,null,null,null,null,null,{"$f":"IF(入力用!C121=\"\",\"\",入力用!C121)","v":""},null,null,null,null,null,null,null,null,null,"VA",null,null,{"$f":"IF(入力用!C122=\"\",\"\",入力用!C122)","v":""},null,null,null,"個"]
[]
[]
[null,null,null,null,null,null,{"$f":"IF(入力用!C123=\"\",\"\",入力用!C123)","v":""},null,null,null,null,null,null,null,null,null,null,null,null,null,null,null,null,null,null,null,null,null,null,null,null,null,null,null,null,{"$f":"IF(入力用!C124=\"\",\"\",入力用!C124)","v":""},null,null,null,null,null,null,null,null,null,"Ｗ",null,null,{"$f":"IF(入力用!O125=2,入力用!V$6,IF(入力用!O125=3,入力用!V$7,\"\"))","v":""},null,null,null,null,null,null,null,null,null,null,null,{"$f":"IF(入力用!C126=\"\",\"\",入力用!C126)","v":""},null,null,null,null,null,null,null,null,null,"VA",null,null,{"$f":"IF(入力用!C127=\"\",\"\",入力用!C127)","v":""},null,null,null,"個"]
[]
[]
[null,null,null,null,null,null,{"$f":"IF(入力用!C128=\"\",\"\",入力用!C128)","v":""},null,null,null,null,null,null,null,null,null,null,null,null,null,null,null,null,null,null,null,null,null,null,null,null,null,null,null,null,{"$f":"IF(入力用!C129=\"\",\"\",入力用!C129)","v":""},null,null,null,null,null,null,null,null,null,"Ｗ",null,null,{"$f":"IF(入力用!O130=2,入力用!V$6,IF(入力用!O130=3,入力用!V$7,\"\"))","v":""},null,null,null,null,null,null,null,null,null,null,null,{"$f":"IF(入力用!C131=\"\",\"\",入力用!C131)","v":""},null,null,null,null,null,null,null,null,null,"VA",null,null,{"$f":"IF(入力用!C132=\"\",\"\",入力用!C132)","v":""},null,null,null,"個"]
[]
[]
[null,null,null,null,null,null,{"$f":"IF(入力用!C133=\"\",\"\",入力用!C133)","v":""},null,null,null,null,null,null,null,null,null,null,null,null,null,null,null,null,null,null,null,null,null,null,null,null,null,null,null,null,{"$f":"IF(入力用!C134=\"\",\"\",入力用!C134)","v":""},null,null,null,null,null,null,null,null,null,"Ｗ",null,null,{"$f":"IF(入力用!O135=2,入力用!V$6,IF(入力用!O135=3,入力用!V$7,\"\"))","v":""},null,null,null,null,null,null,null,null,null,null,null,{"$f":"IF(入力用!C136=\"\",\"\",入力用!C136)","v":""},null,null,null,null,null,null,null,null,null,"VA",null,null,{"$f":"IF(入力用!C137=\"\",\"\",入力用!C137)","v":""},null,null,null,"個"]
[]
[]
[null,null,null,null,null,null,{"$f":"IF(入力用!C138=\"\",\"\",入力用!C138)","v":""},null,null,null,null,null,null,null,null,null,null,null,null,null,null,null,null,null,null,null,null,null,null,null,null,null,null,null,null,{"$f":"IF(入力用!C139=\"\",\"\",入力用!C139)","v":""},null,null,null,null,null,null,null,null,null,"Ｗ",null,null,{"$f":"IF(入力用!O140=2,入力用!V$6,IF(入力用!O140=3,入力用!V$7,\"\"))","v":""},null,null,null,null,null,null,null,null,null,null,null,{"$f":"IF(入力用!C141=\"\",\"\",入力用!C141)","v":""},null,null,null,null,null,null,null,null,null,"VA",null,null,{"$f":"IF(入力用!C142=\"\",\"\",入力用!C142)","v":""},null,null,null,"個"]
[]
[]
[null,"温水器",null,null,null,null,"メーカー",null,null,null,null,null,null,null,null,null,null,null,null,"型　　　　　式",null,null,null,null,null,null,null,null,null,null,null,null,null,null,null,null,null,null,null,null,null,null,null,null,null,null,null,null,null,null,null,null,"容　　量"]
[null,null,null,null,null,null,null,null,null,null,null,null,null,null,null,null,null,null,null,null,null,null,null,null,null,null,null,null,null,null,null,null,null,null,null,null,null,null,null,null,null,null,null,null,null,null,null,null,null,null,null,null,null,null,null,null,null,null,null,null,null,null,null,null,null,null,null,"通電\n時間",null,null,null,null,"・21時～翌5時 ・0時～8時\n・22時～翌6時 ・1時～9時\n・23時～翌7時"]
[null,null,null,null,null,null,{"$f":"IF(入力用!C143=\"\",\"\",入力用!C143)","v":""},null,null,null,null,null,null,null,null,null,null,null,null,{"$f":"IF(入力用!C144=\"\",\"\",入力用!C144)","v":""},null,null,null,null,null,null,null,null,null,null,null,null,null,null,null,null,null,null,null,null,null,null,null,null,null,null,null,null,null,null,null,null,{"$f":"IF(入力用!C145=\"\",\"\",入力用!C145)","v":""},null,null,null,null,null,null,null,null,null,null,null,"kW"]
[]
[]
[]
[null,"異動種別",null,null,"・新設　　 　・減少　 　　　・転出",null,null,null,null,null,null,null,null,null,null,null,null,null,null,null,null,null,null,null,null,null,null,null,"供給地点特定番号",null,null,null,null,null,null,null,"発行\n回数",null,null,"支店",null,"ﾌﾞﾛｯｸ",null,null,"住所",null,null,null,null,"街区",null,null,"契約№",null,null,null,null,"枝番",null,null,"種別"]
[]
[null,null,null,null,"・種変(+)　　・設備撤去　　・名義変更"]
[]
[null,null,null,null,"・ｺｰﾄﾞ変(+)　・設備変更　　 ・その他",null,null,null,null,null,null,null,null,null,null,null,null,null,null,null,null,null,null,null,null,null,null,null,null,null,null,"010",null,null,null,null,null,null,null,null,null,null,null,null,null,null,null,null,null,null,null,null,null,null,null,null,null,null,null,null,{"$f":"'３枚目'!AK42","v":""},null,null,"00"]
[]
[null,null,null,null,"・増加　　 　・転入　　　　（　　　　）"]
[]
[]
[null,"　※　太枠内をご記入願います。"]
[]
[null,"　※　ご契約者さまが法人の場合は，代表者肩書および代表者名をあわせてご記入願います。"]
[]
[null,"　※　ご提供いただいた個人情報は，電気事業の範囲内で利用いたします。"]
[]
[]
[]
[]
[]
[null,null,null,"拝啓　平素は弊社事業に格別のお引き立てを賜り，厚くお礼申し上げます。５６７８９０"]
[]
[]
[null,null,null,"　さて，御社よりお申込みをいただきました上記お客さまの電気のご使用につきまして，"]
[]
[]
[null,null,null,"本内容にて受付させていただきましたことをお知らせいたします。１２３４５６７８９０"]
[]
[]
[null,null,null,"１２３４５６７８９０１２３４５６７８９０１２３４５６７８９０１２３４５６７敬具０"]
[]
[]
[]
[]
[]
[]
[null,"＜連絡事項＞"]
[]
[]
[]
[]
[]
[]
[]
["北　海　道　電　力　ネ　ッ　ト　ワ　ー　ク　株　式　会　社"]
[]
[]
[]
[]
["北　海　道　電　力　株　式　会　社"]
[]
["www.hepco.co.jp"]

{"sheet":"２枚目","index":2,"n_rows":171,"n_cols":111,"rows_kept":171,"cut":false,"hidden":false,"merged":[[120,71,125,74],[120,75,125,78],[120,79,125,82],[126,71,127,74],[126,75,127,78],[126,79,127,82],[34,11,40,20],[6,1,9,110],[99,35,101,44],[99,45,101,47],[99,48,101,59],[108,35,110,44],[108,45,110,47],[87,48,89,59],[93,45,95,47],[90,6,92,34],[90,35,92,44],[105,6,107,34],[108,48,110,59],[105,45,107,47],[85,48,86,59],[108,77,110,79],[82,73,84,76],[99,77,101,79],[99,60,101,69],[90,48,92,59],[111,48,113,59],[99,73,101,76],[105,73,107,76],[108,73,110,76],[108,60,110,69],[93,73,95,76],[93,60,95,69],[96,60,98,69],[102,60,104,69],[105,60,107,69],[111,60,113,69],[111,73,113,76],[96,48,98,59],[93,77,95,79],[93,70,95,72],[93,48,95,59],[67,80,69,99],[61,70,63,72],[31,55,33,55],[79,70,81,72],[82,60,84,69],[82,70,84,72],[87,77,89,79],[82,77,84,79],[79,73,81,76],[79,80,81,99],[82,80,84,99],[70,73,72,76],[73,80,75,99],[73,73,75,76],[73,77,75,79],[76,80,78,99],[76,73,78,76],[76,77,78,79],[76,70,78,72],[85,60,86,72],[87,73,89,76],[70,80,72,99],[87,70,89,72],[41,110,46,110],[41,94,46,97],[26,110,27,110],[23,20,24,38],[23,39,24,46],[36,45,37,45],[53,6,54,34],[53,48,54,59],[50,35,52,61],[34,56,35,56],[47,35,48,41],[34,57,35,60],[44,23,46,27],[38,26,40,45],[41,36,42,45],[41,51,46,64],[34,53,35,55],[36,51,38,80],[41,65,46,72],[20,104,21,108],[32,89,33,92],[32,93,33,97],[32,110,33,110],[25,21,27,22],[31,39,33,45],[28,69,31,74],[20,109,21,110],[22,75,23,110],[24,69,25,110],[26,69,27,88],[26,89,27,92],[26,99,27,103],[26,104,27,104],[26,105,27,109],[32,104,33,104],[31,36,33,38],[31,47,33,54],[31,46,33,46],[32,75,33,88],[28,64,33,68],[32,69,33,74],[31,56,33,63],[26,98,27,98],[155,1,157,16],[55,6,57,34],[58,6,60,34],[93,35,95,44],[93,6,95,34],[58,35,60,44],[105,35,107,44],[102,35,104,44],[70,35,72,44],[96,6,98,34],[96,35,98,44],[111,35,113,44],[136,3,138,109],[139,3,141,109],[142,3,144,109],[145,3,147,109],[148,3,150,109],[151,3,153,109],[61,60,63,69],[64,80,66,99],[133,1,134,97],[131,1,132,97],[129,1,130,97],[87,45,89,47],[47,1,52,5],[31,20,33,20],[44,6,46,11],[44,15,46,19],[45,28,46,30],[31,21,33,27],[45,20,46,22],[47,6,48,12],[41,1,46,5],[17,1,40,5],[25,17,27,20],[25,23,27,63],[17,58,18,63],[19,11,22,63],[31,6,33,10],[34,6,40,10],[17,11,18,17],[25,11,27,12],[25,16,27,16],[25,13,27,15],[28,11,30,63],[17,24,18,24],[17,25,18,25],[43,36,46,45],[14,85,16,89],[17,64,27,68],[22,69,23,74],[20,69,21,74],[26,93,27,97],[14,64,16,68],[14,69,16,84],[14,90,16,110],[23,47,24,63],[17,75,19,110],[17,69,19,74],[17,47,18,47],[17,48,18,48],[17,49,18,49],[17,50,18,50],[17,51,18,51],[17,54,18,54],[17,55,18,55],[17,56,18,56],[17,57,18,57],[20,103,21,103],[20,75,21,89],[20,90,21,99],[20,100,21,102],[53,60,54,72],[55,60,57,69],[34,39,35,39],[34,40,35,40],[34,41,35,41],[34,42,35,42],[34,43,35,43],[34,44,35,44],[34,45,35,45],[34,63,35,80],[34,61,35,62],[36,44,37,44],[39,69,40,73],[51,77,52,77],[41,46,46,50],[53,35,54,47],[41,31,46,35],[39,80,40,80],[39,63,40,67],[39,74,40,74],[55,77,57,79],[36,43,37,43],[28,75,31,110],[34,27,35,27],[34,28,35,28],[34,29,35,29],[34,30,35,30],[70,48,72,59],[61,45,63,47],[67,35,69,44],[36,26,37,26],[36,27,37,27],[36,28,37,28],[34,46,40,50],[34,51,35,52],[34,31,35,31],[34,32,35,32],[34,33,35,33],[34,34,35,34],[34,35,35,35],[34,36,35,36],[34,37,35,37],[34,38,35,38],[41,98,46,104],[39,86,40,88],[39,68,40,68],[73,48,75,59],[64,48,66,59],[67,48,69,59],[79,77,81,79],[70,77,72,79],[67,77,69,79],[73,70,75,72],[67,60,69,69],[76,48,78,59],[67,70,69,72],[70,70,72,72],[64,60,66,69],[70,60,72,69],[64,73,66,76],[64,77,66,79],[76,60,78,69],[73,60,75,69],[67,73,69,76],[82,48,84,59],[90,77,92,79],[79,60,81,69],[120,44,123,48],[120,49,123,51],[120,52,123,56],[124,44,127,48],[85,73,86,79],[115,72,119,89],[102,48,104,59],[102,77,104,79],[102,70,104,72],[111,77,113,79],[90,70,92,72],[105,77,107,79],[96,73,98,76],[96,77,98,79],[99,70,101,72],[102,73,104,76],[96,70,98,72],[105,70,107,72],[116,52,119,63],[87,60,89,69],[90,73,92,76],[124,63,127,65],[85,35,86,47],[87,35,89,44],[87,6,89,34],[90,60,92,69],[116,64,119,66],[102,6,104,34],[124,57,127,59],[124,60,127,62],[126,4,127,27],[85,6,86,34],[99,6,101,34],[85,1,113,5],[90,45,92,47],[96,45,98,47],[111,45,113,47],[124,49,127,51],[124,52,127,56],[39,104,40,104],[51,71,52,71],[51,72,52,76],[58,70,60,72],[58,77,60,79],[55,45,57,47],[51,66,52,70],[61,73,63,76],[64,70,66,72],[47,42,49,83],[53,73,54,79],[55,70,57,72],[55,80,57,99],[53,80,54,99],[51,78,52,82],[64,45,66,47],[64,35,66,44],[47,90,49,104],[50,90,52,104],[55,48,57,59],[61,35,63,44],[61,48,63,59],[58,73,60,76],[55,73,57,76],[32,99,33,103],[39,105,40,109],[39,98,40,98],[39,93,40,97],[32,98,33,98],[39,110,40,110],[32,105,33,109],[39,89,40,92],[11,1,12,25],[13,1,14,38],[17,18,18,18],[17,19,18,19],[17,20,18,20],[17,21,18,21],[17,22,18,22],[17,23,18,23],[17,6,24,10],[23,11,24,19],[17,26,18,26],[17,27,18,27],[17,28,18,28],[34,86,35,110],[34,81,40,85],[36,86,38,110],[120,1,127,3],[51,83,52,83],[120,63,123,65],[45,12,46,14],[25,6,30,10],[34,21,40,25],[31,28,33,28],[31,29,33,35],[39,51,40,58],[49,6,52,34],[39,75,40,79],[39,59,40,62],[58,60,60,69],[61,80,63,99],[55,35,57,44],[58,80,60,99],[39,99,40,103],[58,45,60,47],[51,62,52,65],[58,48,60,59],[114,6,115,18],[120,57,123,59],[120,60,123,62],[120,66,127,70],[31,11,33,13],[31,14,33,19],[34,26,35,26],[163,0,164,110],[165,0,166,110],[47,84,52,89],[41,89,46,93],[41,73,46,88],[55,101,62,102],[55,103,62,110],[79,48,81,59],[41,105,46,109],[61,77,63,79],[111,70,113,72],[115,67,119,71],[116,6,119,18],[116,19,119,51],[108,70,110,72],[114,52,115,66],[102,45,104,47],[114,19,115,51],[108,6,110,34],[105,48,107,59],[111,6,113,34],[17,29,18,29],[17,30,18,30],[17,31,18,31],[17,32,18,32],[17,33,18,33],[17,34,18,34],[17,35,18,35],[17,36,18,36],[17,37,18,37],[17,38,18,38],[17,39,18,39],[17,52,18,52],[17,53,18,53],[17,42,18,42],[17,44,18,44],[17,45,18,45],[17,46,18,46],[17,40,18,40],[17,41,18,41],[17,43,18,43],[36,39,37,39],[36,40,37,40],[36,41,37,41],[36,42,37,42],[120,28,127,30],[120,31,123,35],[120,36,123,38],[120,39,123,40],[120,41,123,43],[124,31,127,35],[124,36,127,38],[124,39,127,40],[124,41,127,43],[36,29,37,29],[36,30,37,30],[36,31,37,31],[36,32,37,32],[36,33,37,33],[36,34,37,34],[36,35,37,35],[36,36,37,36],[36,37,37,37],[79,6,81,34],[1,93,5,109],[61,6,63,34],[67,6,69,34],[82,35,84,44],[73,45,75,47],[70,6,72,34],[124,4,125,27],[120,4,121,27],[122,4,123,27],[53,1,84,5],[82,6,84,34],[67,45,69,47],[114,1,119,5],[82,45,84,47],[64,6,66,34],[76,35,78,44],[76,45,78,47],[79,35,81,44],[79,45,81,47],[70,45,72,47],[73,6,75,34],[76,6,78,34],[73,35,75,44],[36,38,37,38]]}
[]
[null,null,null,null,null,null,null,null,null,null,null,null,null,null,null,null,null,null,null,null,null,null,null,null,null,null,null,null,null,null,null,null,null,null,null,null,null,null,null,null,null,null,null,null,null,null,null,null,null,null,null,null,null,null,null,null,null,null,null,null,null,null,null,null,null,null,null,null,null,null,null,null,null,null,null,null,null,null,null,null,null,null,null,null,null,null,null,null,null,null,null,null,null,"離島等供給用"]
[]
[]
[]
[]
[null,"定額制電気使用申込書（お客さま控）"]
[]
[]
[]
[]
[null,"北海道電力ネットワーク株式会社　御中"]
[]
[null,"電気の使用について貴社離島等供給約款[低圧用]を承認のうえ申し込みます。"]
[null,null,null,null,null,null,null,null,null,null,null,null,null,null,null,null,null,null,null,null,null,null,null,null,null,null,null,null,null,null,null,null,null,null,null,null,null,null,null,null,null,null,null,null,null,null,null,null,null,null,null,null,null,null,null,null,null,null,null,null,null,null,null,null,"受付扱所名",null,null,null,null,null,null,null,null,null,null,null,null,null,null,null,null,null,null,null,null,"受付№"]
[]
[]
[null,"お 客 さ ま",null,null,null,null,"ご契約名義",null,null,null,null,"（フリガナ）",null,null,null,null,null,null,{"$f":"DBCS(MID(ASC(入力用!C4),1,1))","v":""},{"$f":"DBCS(MID(ASC(入力用!C4),2,1))","v":""},{"$f":"DBCS(MID(ASC(入力用!C4),3,1))","v":""},{"$f":"DBCS(MID(ASC(入力用!C4),4,1))","v":""},{"$f":"DBCS(MID(ASC(入力用!C4),5,1))","v":""},{"$f":"DBCS(MID(ASC(入力用!C4),6,1))","v":""},{"$f":"DBCS(MID(ASC(入力用!C4),7,1))","v":""},{"$f":"DBCS(MID(ASC(入力用!C4),8,1))","v":""},{"$f":"DBCS(MID(ASC(入力用!C4),9,1))","v":""},{"$f":"DBCS(MID(ASC(入力用!C4),10,1))","v":""},{"$f":"DBCS(MID(ASC(入力用!C4),11,1))","v":""},{"$f":"DBCS(MID(ASC(入力用!C4),12,1))","v":""},{"$f":"DBCS(MID(ASC(入力用!C4),13,1))","v":""},{"$f":"DBCS(MID(ASC(入力用!C4),14,1))","v":""},{"$f":"DBCS(MID(ASC(入力用!C4),15,1))","v":""},{"$f":"DBCS(MID(ASC(入力用!C4),16,1))","v":""},{"$f":"DBCS(MID(ASC(入力用!C4),17,1))","v":""},{"$f":"DBCS(MID(ASC(入力用!C4),18,1))","v":""},{"$f":"DBCS(MID(ASC(入力用!C4),19,1))","v":""},{"$f":"DBCS(MID(ASC(入力用!C4),20,1))","v":""},{"$f":"DBCS(MID(ASC(入力用!C4),21,1))","v":""},{"$f":"DBCS(MID(ASC(入力用!C4),22,1))","v":""},{"$f":"DBCS(MID(ASC(入力用!C4),23,1))","v":""},{"$f":"DBCS(MID(ASC(入力用!C4),24,1))","v":""},{"$f":"DBCS(MID(ASC(入力用!C4),25,1))","v":""},{"$f":"DBCS(MID(ASC(入力用!C4),26,1))","v":""},{"$f":"DBCS(MID(ASC(入力用!C4),27,1))","v":""},{"$f":"DBCS(MID(ASC(入力用!C4),28,1))","v":""},{"$f":"DBCS(MID(ASC(入力用!C4),29,1))","v":""},{"$f":"DBCS(MID(ASC(入力用!C4),30,1))","v":""},{"$f":"DBCS(MID(ASC(入力用!C4),31,1))","v":""},{"$f":"DBCS(MID(ASC(入力用!C4),32,1))","v":""},{"$f":"DBCS(MID(ASC(入力用!C4),33,1))","v":""},{"$f":"DBCS(MID(ASC(入力用!C4),34,1))","v":""},{"$f":"DBCS(MID(ASC(入力用!C4),35,1))","v":""},{"$f":"DBCS(MID(ASC(入力用!C4),36,1))","v":""},{"$f":"DBCS(MID(ASC(入力用!C4),37,1))","v":""},{"$f":"DBCS(MID(ASC(入力用!C4),38,1))","v":""},{"$f":"DBCS(MID(ASC(入力用!C4),39,1))","v":""},{"$f":"DBCS(MID(ASC(入力用!C4),40,1))","v":""},null,null,null,null,null,null,"電気工事会社",null,null,null,null," 会社名",null,null,null,null,null,{"$f":"IF(入力用!C12=\"\",\"\",入力用!C12)","v":""}]
[]
[null,null,null,null,null,null,null,null,null,null,null,{"$f":"IF(入力用!C5=\"\",\"\",入力用!C5)","v":""}]
[null,null,null,null,null,null,null,null,null,null,null,null,null,null,null,null,null,null,null,null,null,null,null,null,null,null,null,null,null,null,null,null,null,null,null,null,null,null,null,null,null,null,null,null,null,null,null,null,null,null,null,null,null,null,null,null,null,null,null,null,null,null,null,null,null,null,null,null,null,"(担当者)",null,null,null,null,null,{"$f":"IF(入力用!C13=\"\",\"\",入力用!C13)","v":""},null,null,null,null,null,null,null,null,null,null,null,null,null,null,"工事会社№（",null,null,null,null,null,null,null,null,null,{"$f":"IF(入力用!C14=\"\",\"\",入力用!C14)","v":""},null,null,"-",{"$f":"IF(入力用!E14=\"\",\"\",入力用!E14)","v":""},null,null,null,null,")"]
[]
[null,null,null,null,null,null,null,null,null,null,null,null,null,null,null,null,null,null,null,null,null,null,null,null,null,null,null,null,null,null,null,null,null,null,null,null,null,null,null,null,null,null,null,null,null,null,null,null,null,null,null,null,null,null,null,null,null,null,null,null,null,null,null,null,null,null,null,null,null," 住　所",null,null,null,null,null,{"$f":"LEFT(入力用!C15,24)","v":""}]
[null,null,null,null,null,null,null,null,null,null,null,"（代表者肩書）",null,null,null,null,null,null,null,null,{"$f":"IF(入力用!C6=\"\",\"\",入力用!C6)","v":""},null,null,null,null,null,null,null,null,null,null,null,null,null,null,null,null,null,null,"（代表者名）",null,null,null,null,null,null,null,{"$f":"IF(入力用!C7=\"\",\"\",入力用!C7)","v":""}]
[null,null,null,null,null,null,null,null,null,null,null,null,null,null,null,null,null,null,null,null,null,null,null,null,null,null,null,null,null,null,null,null,null,null,null,null,null,null,null,null,null,null,null,null,null,null,null,null,null,null,null,null,null,null,null,null,null,null,null,null,null,null,null,null,null,null,null,null,null,{"$f":"MID(入力用!C15,25,28)","v":""}]
[null,null,null,null,null,null,"ご使用\n場　所",null,null,null,null,"(〒",null,{"$f":"LEFT(入力用!C8,3)","v":""},null,null,"-",{"$f":"RIGHT(入力用!C8,4)","v":""},null,null,null,")",null,{"$f":"LEFT(入力用!C9,25)","v":""}]
[null,null,null,null,null,null,null,null,null,null,null,null,null,null,null,null,null,null,null,null,null,null,null,null,null,null,null,null,null,null,null,null,null,null,null,null,null,null,null,null,null,null,null,null,null,null,null,null,null,null,null,null,null,null,null,null,null,null,null,null,null,null,null,null,null,null,null,null,null,{"$f":"MID(入力用!C15,53,12)","v":""},null,null,null,null,null,null,null,null,null,null,null,null,null,null,null,null,null,null,null,"電話(",null,null,null,{"$f":"IF(入力用!C16=\"\",\"\",入力用!C16)","v":""},null,null,null,null,"-",{"$f":"IF(入力用!E16=\"\",\"\",入力用!E16)","v":""},null,null,null,null,"-",{"$f":"IF(入力用!H16=\"\",\"\",入力用!H16)","v":""},null,null,null,null,")"]
[]
[null,null,null,null,null,null,null,null,null,null,null,{"$f":"MID(入力用!C9,26,33)","v":""},null,null,null,null,null,null,null,null,null,null,null,null,null,null,null,null,null,null,null,null,null,null,null,null,null,null,null,null,null,null,null,null,null,null,null,null,null,null,null,null,null,null,null,null,null,null,null,null,null,null,null,null,"建築会社",null,null,null,null," 会社名",null,null,null,null,null,{"$f":"IF(入力用!C17=\"\",\"\",入力用!C17)","v":""}]
[]
[]
[null,null,null,null,null,null,"電話番号",null,null,null,null,"固定",null,null,{"$f":"IF(入力用!C10=\"\",\"\",入力用!C10)","v":""},null,null,null,null,null,"-",{"$f":"IF(入力用!E10=\"\",\"\",入力用!E10)","v":""},null,null,null,null,null,null,"-",{"$f":"IF(入力用!H10=\"\",\"\",入力用!H10)","v":""},null,null,null,null,null,null,"携帯",null,null,{"$f":"IF(入力用!C11=\"\",\"\",入力用!C11)","v":""},null,null,null,null,null,null,"-",{"$f":"IF(入力用!E11=\"\",\"\",入力用!E11)","v":""},null,null,null,null,null,null,null,"-",{"$f":"IF(入力用!H11=\"\",\"\",入力用!H11)","v":""}]
[null,null,null,null,null,null,null,null,null,null,null,null,null,null,null,null,null,null,null,null,null,null,null,null,null,null,null,null,null,null,null,null,null,null,null,null,null,null,null,null,null,null,null,null,null,null,null,null,null,null,null,null,null,null,null,null,null,null,null,null,null,null,null,null,null,null,null,null,null,"(担当者)",null,null,null,null,null,{"$f":"IF(入力用!C18=\"\",\"\",入力用!C18)","v":""},null,null,null,null,null,null,null,null,null,null,null,null,null,"電話(",null,null,null,{"$f":"IF(入力用!C19=\"\",\"\",入力用!C19)","v":""},null,null,null,null,"-",{"$f":"IF(入力用!E19=\"\",\"\",入力用!E19)","v":""},null,null,null,null,"-",{"$f":"IF(入力用!H19=\"\",\"\",入力用!H19)","v":""},null,null,null,null,")"]
[]
[null,null,null,null,null,null,"お支払\n方　法",null,null,null,null,{"$f":"IF(入力用!O20=2,入力用!O6,IF(入力用!O20=3,入力用!O7,IF(入力用!O20=4,入力用!O8,\"\")))","v":""},null,null,null,null,null,null,null,null,null,"支　払\n者　名",null,null,null,null,{"$f":"DBCS(MID(ASC(入力用!C21),1,1))","v":""},{"$f":"DBCS(MID(ASC(入力用!C21),2,1))","v":""},{"$f":"DBCS(MID(ASC(入力用!C21),3,1))","v":""},{"$f":"DBCS(MID(ASC(入力用!C21),4,1))","v":""},{"$f":"DBCS(MID(ASC(入力用!C21),5,1))","v":""},{"$f":"DBCS(MID(ASC(入力用!C21),6,1))","v":""},{"$f":"DBCS(MID(ASC(入力用!C21),7,1))","v":""},{"$f":"DBCS(MID(ASC(入力用!C21),8,1))","v":""},{"$f":"DBCS(MID(ASC(入力用!C21),9,1))","v":""},{"$f":"DBCS(MID(ASC(入力用!C21),10,1))","v":""},{"$f":"DBCS(MID(ASC(入力用!C21),11,1))","v":""},{"$f":"DBCS(MID(ASC(入力用!C21),12,1))","v":""},{"$f":"DBCS(MID(ASC(入力用!C21),13,1))","v":""},{"$f":"DBCS(MID(ASC(入力用!C21),14,1))","v":""},{"$f":"DBCS(MID(ASC(入力用!C21),15,1))","v":""},{"$f":"DBCS(MID(ASC(入力用!C21),16,1))","v":""},{"$f":"DBCS(MID(ASC(入力用!C21),17,1))","v":""},{"$f":"DBCS(MID(ASC(入力用!C21),18,1))","v":""},{"$f":"DBCS(MID(ASC(入力用!C21),19,1))","v":""},{"$f":"DBCS(MID(ASC(入力用!C21),20,1))","v":""},"請求書\n送付先",null,null,null,null,"(〒",null,{"$f":"LEFT(入力用!C23,3)","v":""},null,null,"-",{"$f":"RIGHT(入力用!C23,4)","v":""},null,null,null,")",null,{"$f":"IF(入力用!C24=\"同上\",\"\",LEFT(入力用!C24,12))","v":""},null,null,null,null,null,null,null,null,null,null,null,null,null,null,null,null,null,"ご連絡先",null,null,null,null,{"$f":"IF(OR(入力用!C26=\"同上\",入力用!C26=\"同左\"),\"\",LEFT(入力用!C26,17))","v":""}]
[]
[null,null,null,null,null,null,null,null,null,null,null,null,null,null,null,null,null,null,null,null,null,null,null,null,null,null,{"$f":"DBCS(MID(ASC(入力用!C21),21,1))","v":""},{"$f":"DBCS(MID(ASC(入力用!C21),22,1))","v":""},{"$f":"DBCS(MID(ASC(入力用!C21),23,1))","v":""},{"$f":"DBCS(MID(ASC(入力用!C21),24,1))","v":""},{"$f":"DBCS(MID(ASC(入力用!C21),25,1))","v":""},{"$f":"DBCS(MID(ASC(入力用!C21),26,1))","v":""},{"$f":"DBCS(MID(ASC(入力用!C21),27,1))","v":""},{"$f":"DBCS(MID(ASC(入力用!C21),28,1))","v":""},{"$f":"DBCS(MID(ASC(入力用!C21),29,1))","v":""},{"$f":"DBCS(MID(ASC(入力用!C21),30,1))","v":""},{"$f":"DBCS(MID(ASC(入力用!C21),31,1))","v":""},{"$f":"DBCS(MID(ASC(入力用!C21),32,1))","v":""},{"$f":"DBCS(MID(ASC(入力用!C21),33,1))","v":""},{"$f":"DBCS(MID(ASC(入力用!C21),34,1))","v":""},{"$f":"DBCS(MID(ASC(入力用!C21),35,1))","v":""},{"$f":"DBCS(MID(ASC(入力用!C21),36,1))","v":""},{"$f":"DBCS(MID(ASC(入力用!C21),37,1))","v":""},{"$f":"DBCS(MID(ASC(入力用!C21),38,1))","v":""},{"$f":"DBCS(MID(ASC(入力用!C21),39,1))","v":""},{"$f":"DBCS(MID(ASC(入力用!C21),40,1))","v":""},null,null,null,null,null,{"$f":"IF(入力用!C24=\"同上\",入力用!C24,MID(入力用!C24,13,20))","v":""},null,null,null,null,null,null,null,null,null,null,null,null,null,null,null,null,null,null,null,null,null,null,null,null,null,null,null,null,null,null,null,null,null,null,{"$f":"IF(OR(入力用!C26=\"同上\",入力用!C26=\"同左\"),入力用!C26,MID(入力用!C26,18,17))","v":""}]
[]
[null,null,null,null,null,null,null,null,null,null,null,null,null,null,null,null,null,null,null,null,null,null,null,null,null,null,{"$f":"IF(入力用!C22=\"\",\"\",入力用!C22)","v":""}]
[null,null,null,null,null,null,null,null,null,null,null,null,null,null,null,null,null,null,null,null,null,null,null,null,null,null,null,null,null,null,null,null,null,null,null,null,null,null,null,null,null,null,null,null,null,null,null,null,null,null,null,{"$f":"MID(入力用!C24,33,5)","v":""},null,null,null,null,null,null,null,"電話(",null,null,null,{"$f":"IF(入力用!C25=\"\",\"\",入力用!C25)","v":""},null,null,null,null,"-",{"$f":"IF(入力用!E25=\"\",\"\",入力用!E25)","v":""},null,null,null,null,"-",{"$f":"IF(入力用!H25=\"\",\"\",入力用!H25)","v":""},null,null,null,null,")",null,null,null,null,null,{"$f":"IF(OR(入力用!C26=\"同上\",入力用!C26=\"同左\"),\"\",MID(入力用!C26,35,1))","v":""},null,null,"電話(",null,null,null,{"$f":"IF(入力用!C27=\"\",\"\",入力用!C27)","v":""},null,null,null,null,"-",{"$f":"IF(入力用!E27=\"\",\"\",入力用!E27)","v":""},null,null,null,null,"-",{"$f":"IF(入力用!H27=\"\",\"\",入力用!H27)","v":""},null,null,null,null,")"]
[]
[null,"受　 電\n希望日",null,null,null,null,null,null,null,null,null,null,null,null,null,null,null,null,null,null,null,null,null,null,null,null,null,null,null,null,null,"契約\n種別",null,null,null,null,null,null,null,null,null,null,null,null,null,null,"供給電気\n方 式 ・\n供給電圧",null,null,null,null,{"$f":"IF(入力用!O32=2,入力用!Q6,IF(入力用!O32=3,入力用!Q7,IF(入力用!O32=4,入力用!Q8,IF(入力用!O32=5,入力用!Q9,\"\"))))","v":""},null,null,null,null,null,null,null,null,null,null,null,null,null,"フリーエリア\n計器払出希望\n事 業 所 名",null,null,null,null,null,null,null,{"$f":"IF(入力用!C33=\"\",\"\",入力用!C33)","v":""},null,null,null,null,null,null,null,null,null,null,null,null,null,null,null,"本契約前\nの臨時契\n約の有無",null,null,null,null,{"$f":"IF(入力用!O34=2,入力用!R6,IF(入力用!O34=3,入力用!R7,\"\"))","v":""},null,null,null,"臨時受付№(",null,null,null,null,null,null,null,null,null,null,null,")"]
[]
[null,null,null,null,null,null,null,null,null,null,null,null,null,null,null,null,null,null,null,null,null,null,null,null,null,null,null,null,null,null,null,null,null,null,null,null,{"$f":"IF(入力用!O31=2,入力用!P6,IF(入力用!O31=3,入力用!P7,IF(入力用!O31=4,入力用!P8,\"\")))","v":""}]
[null,null,null,null,null,null,{"$f":"IF(入力用!C30=\"\",\"\",入力用!C30)","v":""},null,null,null,null,null,null,null,null,{"$f":"IF(入力用!E30=\"\",\"\",入力用!E30)","v":""},null,null,null,null,null,null,null,{"$f":"IF(入力用!H30=\"\",\"\",入力用!H30)","v":""}]
[null,null,null,null,null,null,null,null,null,null,null,null,"年",null,null,null,null,null,null,null,"月",null,null,null,null,null,null,null,"日"]
[]
[null,"街路灯\n管　理\n責任者",null,null,null,null,"責任者名",null,null,null,null,null,null,null,null,null,null,null,null,null,null,null,null,null,null,null,null,null,null,null,null,null,null,null,null,"住　所",null,null,null,null,null,null,{"$f":"LEFT(入力用!C36,39)","v":""},null,null,null,null,null,null,null,null,null,null,null,null,null,null,null,null,null,null,null,null,null,null,null,null,null,null,null,null,null,null,null,null,null,null,null,null,null,null,null,null,null,"電設Ｎｅｔ\n申込",null,null,null,null,null,{"$f":"IF(入力用!O28=2,入力用!S14,IF(入力用!O28=3,入力用!S15,\"\"))","v":""}]
[]
[null,null,null,null,null,null,{"$f":"IF(入力用!C35=\"\",\"\",入力用!C35)","v":""}]
[null,null,null,null,null,null,null,null,null,null,null,null,null,null,null,null,null,null,null,null,null,null,null,null,null,null,null,null,null,null,null,null,null,null,null,{"$f":"MID(入力用!C36,40,29)","v":""},null,null,null,null,null,null,null,null,null,null,null,null,null,null,null,null,null,null,null,null,null,null,null,null,null,null,null,null,null,null,null,null,null,null,null,null,null,null,null,null,null,null,null,null,null,null,null,null,null,null,null,null,null,null,{"$f":"IF(入力用!C29=\"\",\"\",入力用!C29)","v":""}]
[null,null,null,null,null,null,null,null,null,null,null,null,null,null,null,null,null,null,null,null,null,null,null,null,null,null,null,null,null,null,null,null,null,null,null,null,null,null,null,null,null,null,null,null,null,null,null,null,null,null,null,null,null,null,null,null,null,null,null,null,null,null,"電話(",null,null,null,{"$f":"IF(入力用!C37=\"\",\"\",入力用!C37)","v":""},null,null,null,null,"-",{"$f":"IF(入力用!E37=\"\",\"\",入力用!E37)","v":""},null,null,null,null,"-",{"$f":"IF(入力用!H37=\"\",\"\",入力用!H37)","v":""},null,null,null,null,")"]
[]
[null,"電　　　　　　　　灯",null,null,null,null,"機　　器　　種　　別",null,null,null,null,null,null,null,null,null,null,null,null,null,null,null,null,null,null,null,null,null,null,null,null,null,null,null,null,"出　力",null,null,null,null,null,null,null,null,null,null,null,null,"力　　率",null,null,null,null,null,null,null,null,null,null,null,"入　力",null,null,null,null,null,null,null,null,null,null,null,null,"灯　数",null,null,null,null,null,null,"取　付　位　置"]
[]
[null,null,null,null,null,null,{"$f":"IF(入力用!O38=2,入力用!S$6,IF(入力用!O38=3,入力用!S$7,IF(入力用!O38=4,入力用!S$8,IF(入力用!O38=5,入力用!S$9,IF(入力用!O38=6,入力用!K38,\"\")))))","v":""},null,null,null,null,null,null,null,null,null,null,null,null,null,null,null,null,null,null,null,null,null,null,null,null,null,null,null,null,{"$f":"IF(入力用!C39=\"\",\"\",入力用!C39)","v":""},null,null,null,null,null,null,null,null,null,"Ｗ",null,null,{"$f":"IF(入力用!O38=5,\"－\",IF(入力用!O40=2,入力用!T$6,IF(入力用!O40=3,入力用!T$7,\"\")))","v":""},null,null,null,null,null,null,null,null,null,null,null,{"$f":"IF(入力用!Q42=0,\"\",入力用!Q42)","v":""},null,null,null,null,null,null,null,null,null,"VA",null,null,{"$f":"IF(入力用!C42=\"\",\"\",入力用!C42)","v":""},null,null,null,"灯",null,null,{"$f":"IF(入力用!O43=2,入力用!U$6,IF(入力用!O43=3,入力用!U$7,IF(入力用!O43=4,入力用!U$8,IF(入力用!O43=5,入力用!K43,\"\"))))","v":""},null,null,null,null,null,null,null,null,null,null,null,null,null,null,null,null,null,null,null,null,"受付"]
[]
[]
[null,null,null,null,null,null,{"$f":"IF(入力用!O44=2,入力用!S$6,IF(入力用!O44=3,入力用!S$7,IF(入力用!O44=4,入力用!S$8,IF(入力用!O44=5,入力用!S$9,IF(入力用!O44=6,入力用!K44,\"\")))))","v":""},null,null,null,null,null,null,null,null,null,null,null,null,null,null,null,null,null,null,null,null,null,null,null,null,null,null,null,null,{"$f":"IF(入力用!C45=\"\",\"\",入力用!C45)","v":""},null,null,null,null,null,null,null,null,null,"Ｗ",null,null,{"$f":"IF(入力用!O44=5,\"－\",IF(入力用!O46=2,入力用!T$6,IF(入力用!O46=3,入力用!T$7,\"\")))","v":""},null,null,null,null,null,null,null,null,null,null,null,{"$f":"IF(入力用!Q48=0,\"\",入力用!Q48)","v":""},null,null,null,null,null,null,null,null,null,"VA",null,null,{"$f":"IF(入力用!C48=\"\",\"\",入力用!C48)","v":""},null,null,null,"灯",null,null,{"$f":"IF(入力用!O49=2,入力用!U$6,IF(入力用!O49=3,入力用!U$7,IF(入力用!O49=4,入力用!U$8,IF(入力用!O49=5,入力用!K49,\"\"))))","v":""}]
[]
[]
[null,null,null,null,null,null,{"$f":"IF(入力用!O50=2,入力用!S$6,IF(入力用!O50=3,入力用!S$7,IF(入力用!O50=4,入力用!S$8,IF(入力用!O50=5,入力用!S$9,IF(入力用!O50=6,入力用!K50,\"\")))))","v":""},null,null,null,null,null,null,null,null,null,null,null,null,null,null,null,null,null,null,null,null,null,null,null,null,null,null,null,null,{"$f":"IF(入力用!C51=\"\",\"\",入力用!C51)","v":""},null,null,null,null,null,null,null,null,null,"Ｗ",null,null,{"$f":"IF(入力用!O50=5,\"－\",IF(入力用!O52=2,入力用!T$6,IF(入力用!O52=3,入力用!T$7,\"\")))","v":""},null,null,null,null,null,null,null,null,null,null,null,{"$f":"IF(入力用!Q54=0,\"\",入力用!Q54)","v":""},null,null,null,null,null,null,null,null,null,"VA",null,null,{"$f":"IF(入力用!C54=\"\",\"\",入力用!C54)","v":""},null,null,null,"灯",null,null,{"$f":"IF(入力用!O55=2,入力用!U$6,IF(入力用!O55=3,入力用!U$7,IF(入力用!O55=4,入力用!U$8,IF(入力用!O55=5,入力用!K55,\"\"))))","v":""}]
[]
[]
[null,null,null,null,null,null,{"$f":"IF(入力用!O56=2,入力用!S$6,IF(入力用!O56=3,入力用!S$7,IF(入力用!O56=4,入力用!S$8,IF(入力用!O56=5,入力用!S$9,IF(入力用!O56=6,入力用!K56,\"\")))))","v":""},null,null,null,null,null,null,null,null,null,null,null,null,null,null,null,null,null,null,null,null,null,null,null,null,null,null,null,null,{"$f":"IF(入力用!C57=\"\",\"\",入力用!C57)","v":""},null,null,null,null,null,null,null,null,null,"Ｗ",null,null,{"$f":"IF(入力用!O56=5,\"－\",IF(入力用!O58=2,入力用!T$6,IF(入力用!O58=3,入力用!T$7,\"\")))","v":""},null,null,null,null,null,null,null,null,null,null,null,{"$f":"IF(入力用!Q60=0,\"\",入力用!Q60)","v":""},null,null,null,null,null,null,null,null,null,"VA",null,null,{"$f":"IF(入力用!C60=\"\",\"\",入力用!C60)","v":""},null,null,null,"灯",null,null,{"$f":"IF(入力用!O61=2,入力用!U$6,IF(入力用!O61=3,入力用!U$7,IF(入力用!O61=4,入力用!U$8,IF(入力用!O61=5,入力用!K61,\"\"))))","v":""}]
[]
[]
[null,null,null,null,null,null,{"$f":"IF(入力用!O62=2,入力用!S$6,IF(入力用!O62=3,入力用!S$7,IF(入力用!O62=4,入力用!S$8,IF(入力用!O62=5,入力用!S$9,IF(入力用!O62=6,入力用!K62,\"\")))))","v":""},null,null,null,null,null,null,null,null,null,null,null,null,null,null,null,null,null,null,null,null,null,null,null,null,null,null,null,null,{"$f":"IF(入力用!C63=\"\",\"\",入力用!C63)","v":""},null,null,null,null,null,null,null,null,null,"Ｗ",null,null,{"$f":"IF(入力用!O62=5,\"－\",IF(入力用!O64=2,入力用!T$6,IF(入力用!O64=3,入力用!T$7,\"\")))","v":""},null,null,null,null,null,null,null,null,null,null,null,{"$f":"IF(入力用!Q66=0,\"\",入力用!Q66)","v":""},null,null,null,null,null,null,null,null,null,"VA",null,null,{"$f":"IF(入力用!C66=\"\",\"\",入力用!C66)","v":""},null,null,null,"灯",null,null,{"$f":"IF(入力用!O67=2,入力用!U$6,IF(入力用!O67=3,入力用!U$7,IF(入力用!O67=4,入力用!U$8,IF(入力用!O67=5,入力用!K67,\"\"))))","v":""}]
[]
[]
[null,null,null,null,null,null,{"$f":"IF(入力用!O68=2,入力用!S$6,IF(入力用!O68=3,入力用!S$7,IF(入力用!O68=4,入力用!S$8,IF(入力用!O68=5,入力用!S$9,IF(入力用!O68=6,入力用!K68,\"\")))))","v":""},null,null,null,null,null,null,null,null,null,null,null,null,null,null,null,null,null,null,null,null,null,null,null,null,null,null,null,null,{"$f":"IF(入力用!C69=\"\",\"\",入力用!C69)","v":""},null,null,null,null,null,null,null,null,null,"Ｗ",null,null,{"$f":"IF(入力用!O68=5,\"－\",IF(入力用!O70=2,入力用!T$6,IF(入力用!O70=3,入力用!T$7,\"\")))","v":""},null,null,null,null,null,null,null,null,null,null,null,{"$f":"IF(入力用!Q72=0,\"\",入力用!Q72)","v":""},null,null,null,null,null,null,null,null,null,"VA",null,null,{"$f":"IF(入力用!C72=\"\",\"\",入力用!C72)","v":""},null,null,null,"灯",null,null,{"$f":"IF(入力用!O73=2,入力用!U$6,IF(入力用!O73=3,入力用!U$7,IF(入力用!O73=4,入力用!U$8,IF(入力用!O73=5,入力用!K73,\"\"))))","v":""}]
[]
[]
[null,null,null,null,null,null,{"$f":"IF(入力用!O74=2,入力用!S$6,IF(入力用!O74=3,入力用!S$7,IF(入力用!O74=4,入力用!S$8,IF(入力用!O74=5,入力用!S$9,IF(入力用!O74=6,入力用!K74,\"\")))))","v":""},null,null,null,null,null,null,null,null,null,null,null,null,null,null,null,null,null,null,null,null,null,null,null,null,null,null,null,null,{"$f":"IF(入力用!C75=\"\",\"\",入力用!C75)","v":""},null,null,null,null,null,null,null,null,null,"Ｗ",null,null,{"$f":"IF(入力用!O74=5,\"－\",IF(入力用!O76=2,入力用!T$6,IF(入力用!O76=3,入力用!T$7,\"\")))","v":""},null,null,null,null,null,null,null,null,null,null,null,{"$f":"IF(入力用!Q78=0,\"\",入力用!Q78)","v":""},null,null,null,null,null,null,null,null,null,"VA",null,null,{"$f":"IF(入力用!C78=\"\",\"\",入力用!C78)","v":""},null,null,null,"灯",null,null,{"$f":"IF(入力用!O79=2,入力用!U$6,IF(入力用!O79=3,入力用!U$7,IF(入力用!O79=4,入力用!U$8,IF(入力用!O79=5,入力用!K79,\"\"))))","v":""}]
[]
[]
[null,null,null,null,null,null,{"$f":"IF(入力用!O80=2,入力用!S$6,IF(入力用!O80=3,入力用!S$7,IF(入力用!O80=4,入力用!S$8,IF(入力用!O80=5,入力用!S$9,IF(入力用!O80=6,入力用!K80,\"\")))))","v":""},null,null,null,null,null,null,null,null,null,null,null,null,null,null,null,null,null,null,null,null,null,null,null,null,null,null,null,null,{"$f":"IF(入力用!C81=\"\",\"\",入力用!C81)","v":""},null,null,null,null,null,null,null,null,null,"Ｗ",null,null,{"$f":"IF(入力用!O80=5,\"－\",IF(入力用!O82=2,入力用!T$6,IF(入力用!O82=3,入力用!T$7,\"\")))","v":""},null,null,null,null,null,null,null,null,null,null,null,{"$f":"IF(入力用!Q84=0,\"\",入力用!Q84)","v":""},null,null,null,null,null,null,null,null,null,"VA",null,null,{"$f":"IF(入力用!C84=\"\",\"\",入力用!C84)","v":""},null,null,null,"灯",null,null,{"$f":"IF(入力用!O85=2,入力用!U$6,IF(入力用!O85=3,入力用!U$7,IF(入力用!O85=4,入力用!U$8,IF(入力用!O85=5,入力用!K85,\"\"))))","v":""}]
[]
[]
[null,null,null,null,null,null,{"$f":"IF(入力用!O86=2,入力用!S$6,IF(入力用!O86=3,入力用!S$7,IF(入力用!O86=4,入力用!S$8,IF(入力用!O86=5,入力用!S$9,IF(入力用!O86=6,入力用!K86,\"\")))))","v":""},null,null,null,null,null,null,null,null,null,null,null,null,null,null,null,null,null,null,null,null,null,null,null,null,null,null,null,null,{"$f":"IF(入力用!C87=\"\",\"\",入力用!C87)","v":""},null,null,null,null,null,null,null,null,null,"Ｗ",null,null,{"$f":"IF(入力用!O86=5,\"－\",IF(入力用!O88=2,入力用!T$6,IF(入力用!O88=3,入力用!T$7,\"\")))","v":""},null,null,null,null,null,null,null,null,null,null,null,{"$f":"IF(入力用!Q90=0,\"\",入力用!Q90)","v":""},null,null,null,null,null,null,null,null,null,"VA",null,null,{"$f":"IF(入力用!C90=\"\",\"\",入力用!C90)","v":""},null,null,null,"灯",null,null,{"$f":"IF(入力用!O91=2,入力用!U$6,IF(入力用!O91=3,入力用!U$7,IF(入力用!O91=4,入力用!U$8,IF(入力用!O91=5,入力用!K91,\"\"))))","v":""}]
[]
[]
[null,null,null,null,null,null,{"$f":"IF(入力用!O92=2,入力用!S$6,IF(入力用!O92=3,入力用!S$7,IF(入力用!O92=4,入力用!S$8,IF(入力用!O92=5,入力用!S$9,IF(入力用!O92=6,入力用!K92,\"\")))))","v":""},null,null,null,null,null,null,null,null,null,null,null,null,null,null,null,null,null,null,null,null,null,null,null,null,null,null,null,null,{"$f":"IF(入力用!C93=\"\",\"\",入力用!C93)","v":""},null,null,null,null,null,null,null,null,null,"Ｗ",null,null,{"$f":"IF(入力用!O92=5,\"－\",IF(入力用!O92=2,入力用!T$6,IF(入力用!O92=3,入力用!T$7,\"\")))","v":""},null,null,null,null,null,null,null,null,null,null,null,{"$f":"IF(入力用!Q96=0,\"\",入力用!Q96)","v":""},null,null,null,null,null,null,null,null,null,"VA",null,null,{"$f":"IF(入力用!C96=\"\",\"\",入力用!C96)","v":""},null,null,null,"灯",null,null,{"$f":"IF(入力用!O97=2,入力用!U$6,IF(入力用!O97=3,入力用!U$7,IF(入力用!O97=4,入力用!U$8,IF(入力用!O97=5,入力用!K97,\"\"))))","v":""}]
[]
[]
[null,"小　　型　　機　　器",null,null,null,null,"機　　器　　種　　別",null,null,null,null,null,null,null,null,null,null,null,null,null,null,null,null,null,null,null,null,null,null,null,null,null,null,null,null,"出　力",null,null,null,null,null,null,null,null,null,null,null,null,"力　　率",null,null,null,null,null,null,null,null,null,null,null,"入　力",null,null,null,null,null,null,null,null,null,null,null,null,"個　数"]
[]
[null,null,null,null,null,null,{"$f":"IF(入力用!C98=\"\",\"\",入力用!C98)","v":""},null,null,null,null,null,null,null,null,null,null,null,null,null,null,null,null,null,null,null,null,null,null,null,null,null,null,null,null,{"$f":"IF(入力用!C99=\"\",\"\",入力用!C99)","v":""},null,null,null,null,null,null,null,null,null,"Ｗ",null,null,{"$f":"IF(入力用!O100=2,入力用!V$6,IF(入力用!O100=3,入力用!V$7,\"\"))","v":""},null,null,null,null,null,null,null,null,null,null,null,{"$f":"IF(入力用!C101=\"\",\"\",入力用!C101)","v":""},null,null,null,null,null,null,null,null,null,"VA",null,null,{"$f":"IF(入力用!C102=\"\",\"\",入力用!C102)","v":""},null,null,null,"個"]
[]
[]
[null,null,null,null,null,null,{"$f":"IF(入力用!C103=\"\",\"\",入力用!C103)","v":""},null,null,null,null,null,null,null,null,null,null,null,null,null,null,null,null,null,null,null,null,null,null,null,null,null,null,null,null,{"$f":"IF(入力用!C104=\"\",\"\",入力用!C104)","v":""},null,null,null,null,null,null,null,null,null,"Ｗ",null,null,{"$f":"IF(入力用!O105=2,入力用!V$6,IF(入力用!O105=3,入力用!V$7,\"\"))","v":""},null,null,null,null,null,null,null,null,null,null,null,{"$f":"IF(入力用!C106=\"\",\"\",入力用!C106)","v":""},null,null,null,null,null,null,null,null,null,"VA",null,null,{"$f":"IF(入力用!C107=\"\",\"\",入力用!C107)","v":""},null,null,null,"個"]
[]
[]
[null,null,null,null,null,null,{"$f":"IF(入力用!C108=\"\",\"\",入力用!C108)","v":""},null,null,null,null,null,null,null,null,null,null,null,null,null,null,null,null,null,null,null,null,null,null,null,null,null,null,null,null,{"$f":"IF(入力用!C109=\"\",\"\",入力用!C109)","v":""},null,null,null,null,null,null,null,null,null,"Ｗ",null,null,{"$f":"IF(入力用!O110=2,入力用!V$6,IF(入力用!O110=3,入力用!V$7,\"\"))","v":""},null,null,null,null,null,null,null,null,null,null,null,{"$f":"IF(入力用!C111=\"\",\"\",入力用!C111)","v":""},null,null,null,null,null,null,null,null,null,"VA",null,null,{"$f":"IF(入力用!C112=\"\",\"\",入力用!C112)","v":""},null,null,null,"個"]
[]
[]
[null,null,null,null,null,null,{"$f":"IF(入力用!C113=\"\",\"\",入力用!C113)","v":""},null,null,null,null,null,null,null,null,null,null,null,null,null,null,null,null,null,null,null,null,null,null,null,null,null,null,null,null,{"$f":"IF(入力用!C114=\"\",\"\",入力用!C114)","v":""},null,null,null,null,null,null,null,null,null,"Ｗ",null,null,{"$f":"IF(入力用!O115=2,入力用!V$6,IF(入力用!O115=3,入力用!V$7,\"\"))","v":""},null,null,null,null,null,null,null,null,null,null,null,{"$f":"IF(入力用!C116=\"\",\"\",入力用!C116)","v":""},null,null,null,null,null,null,null,null,null,"VA",null,null,{"$f":"IF(入力用!C117=\"\",\"\",入力用!C117)","v":""},null,null,null,"個"]
[]
[]
[null,null,null,null,null,null,{"$f":"IF(入力用!C118=\"\",\"\",入力用!C118)","v":""},null,null,null,null,null,null,null,null,null,null,null,null,null,null,null,null,null,null,null,null,null,null,null,null,null,null,null,null,{"$f":"IF(入力用!C119=\"\",\"\",入力用!C119)","v":""},null,null,null,null,null,null,null,null,null,"Ｗ",null,null,{"$f":"IF(入力用!O120=2,入力用!V$6,IF(入力用!O120=3,入力用!V$7,\"\"))","v":""},null,null,null,null,null,null,null,null,null,null,null,{"$f":"IF(入力用!C121=\"\",\"\",入力用!C121)","v":""},null,null,null,null,null,null,null,null,null,"VA",null,null,{"$f":"IF(入力用!C122=\"\",\"\",入力用!C122)","v":""},null,null,null,"個"]
[]
[]
[null,null,null,null,null,null,{"$f":"IF(入力用!C123=\"\",\"\",入力用!C123)","v":""},null,null,null,null,null,null,null,null,null,null,null,null,null,null,null,null,null,null,null,null,null,null,null,null,null,null,null,null,{"$f":"IF(入力用!C124=\"\",\"\",入力用!C124)","v":""},null,null,null,null,null,null,null,null,null,"Ｗ",null,null,{"$f":"IF(入力用!O125=2,入力用!V$6,IF(入力用!O125=3,入力用!V$7,\"\"))","v":""},null,null,null,null,null,null,null,null,null,null,null,{"$f":"IF(入力用!C126=\"\",\"\",入力用!C126)","v":""},null,null,null,null,null,null,null,null,null,"VA",null,null,{"$f":"IF(入力用!C127=\"\",\"\",入力用!C127)","v":""},null,null,null,"個"]
[]
[]
[null,null,null,null,null,null,{"$f":"IF(入力用!C128=\"\",\"\",入力用!C128)","v":""},null,null,null,null,null,null,null,null,null,null,null,null,null,null,null,null,null,null,null,null,null,null,null,null,null,null,null,null,{"$f":"IF(入力用!C129=\"\",\"\",入力用!C129)","v":""},null,null,null,null,null,null,null,null,null,"Ｗ",null,null,{"$f":"IF(入力用!O130=2,入力用!V$6,IF(入力用!O130=3,入力用!V$7,\"\"))","v":""},null,null,null,null,null,null,null,null,null,null,null,{"$f":"IF(入力用!C131=\"\",\"\",入力用!C131)","v":""},null,null,null,null,null,null,null,null,null,"VA",null,null,{"$f":"IF(入力用!C132=\"\",\"\",入力用!C132)","v":""},null,null,null,"個"]
[]
[]
[null,null,null,null,null,null,{"$f":"IF(入力用!C133=\"\",\"\",入力用!C133)","v":""},null,null,null,null,null,null,null,null,null,null,null,null,null,null,null,null,null,null,null,null,null,null,null,null,null,null,null,null,{"$f":"IF(入力用!C134=\"\",\"\",入力用!C134)","v":""},null,null,null,null,null,null,null,null,null,"Ｗ",null,null,{"$f":"IF(入力用!O135=2,入力用!V$6,IF(入力用!O135=3,入力用!V$7,\"\"))","v":""},null,null,null,null,null,null,null,null,null,null,null,{"$f":"IF(入力用!C136=\"\",\"\",入力用!C136)","v":""},null,null,null,null,null,null,null,null,null,"VA",null,null,{"$f":"IF(入力用!C137=\"\",\"\",入力用!C137)","v":""},null,null,null,"個"]
[]
[]
[null,null,null,null,null,null,{"$f":"IF(入力用!C138=\"\",\"\",入力用!C138)","v":""},null,null,null,null,null,null,null,null,null,null,null,null,null,null,null,null,null,null,null,null,null,null,null,null,null,null,null,null,{"$f":"IF(入力用!C139=\"\",\"\",入力用!C139)","v":""},null,null,null,null,null,null,null,null,null,"Ｗ",null,null,{"$f":"IF(入力用!O140=2,入力用!V$6,IF(入力用!O140=3,入力用!V$7,\"\"))","v":""},null,null,null,null,null,null,null,null,null,null,null,{"$f":"IF(入力用!C141=\"\",\"\",入力用!C141)","v":""},null,null,null,null,null,null,null,null,null,"VA",null,null,{"$f":"IF(入力用!C142=\"\",\"\",入力用!C142)","v":""},null,null,null,"個"]
[]
[]
[null,"温水器",null,null,null,null,"メーカー",null,null,null,null,null,null,null,null,null,null,null,null,"型　　　　　式",null,null,null,null,null,null,null,null,null,null,null,null,null,null,null,null,null,null,null,null,null,null,null,null,null,null,null,null,null,null,null,null,"容　　量"]
[null,null,null,null,null,null,null,null,null,null,null,null,null,null,null,null,null,null,null,null,null,null,null,null,null,null,null,null,null,null,null,null,null,null,null,null,null,null,null,null,null,null,null,null,null,null,null,null,null,null,null,null,null,null,null,null,null,null,null,null,null,null,null,null,null,null,null,"通電\n時間",null,null,null,null,"・21時～翌5時 ・0時～8時\n・22時～翌6時 ・1時～9時\n・23時～翌7時"]
[null,null,null,null,null,null,{"$f":"IF(入力用!C143=\"\",\"\",入力用!C143)","v":""},null,null,null,null,null,null,null,null,null,null,null,null,{"$f":"IF(入力用!C144=\"\",\"\",入力用!C144)","v":""},null,null,null,null,null,null,null,null,null,null,null,null,null,null,null,null,null,null,null,null,null,null,null,null,null,null,null,null,null,null,null,null,{"$f":"IF(入力用!C145=\"\",\"\",入力用!C145)","v":""},null,null,null,null,null,null,null,null,null,null,null,"kW"]
[]
[]
[]
[null,"異動種別",null,null,"・新設　　 　・減少　 　　　・転出",null,null,null,null,null,null,null,null,null,null,null,null,null,null,null,null,null,null,null,null,null,null,null,"供給地点特定番号",null,null,null,null,null,null,null,"発行\n回数",null,null,"支店",null,"ﾌﾞﾛｯｸ",null,null,"住所",null,null,null,null,"街区",null,null,"契約№",null,null,null,null,"枝番",null,null,"種別",null,null,null,null,null,"送電日\n（異動日）"]
[]
[null,null,null,null,"・種変(+)　　・設備撤去　　・名義変更"]
[]
[null,null,null,null,"・ｺｰﾄﾞ変(+)　・設備変更　　 ・その他",null,null,null,null,null,null,null,null,null,null,null,null,null,null,null,null,null,null,null,null,null,null,null,null,null,null,"010",null,null,null,null,null,null,null,null,null,null,null,null,null,null,null,null,null,null,null,null,null,null,null,null,null,null,null,null,{"$f":"'３枚目'!AK42","v":""},null,null,"00"]
[]
[null,null,null,null,"・増加　　 　・転入　　　　（　　　　）",null,null,null,null,null,null,null,null,null,null,null,null,null,null,null,null,null,null,null,null,null,null,null,null,null,null,null,null,null,null,null,null,null,null,null,null,null,null,null,null,null,null,null,null,null,null,null,null,null,null,null,null,null,null,null,null,null,null,null,null,null,null,null,null,null,null,"年",null,null,null,"月",null,null,null,"日"]
[]
[]
[null,"　※　太枠内をご記入願います。"]
[]
[null,"　※　ご契約名義またはお支払方法変更をご希望の場合は，カスタマーサービスセンター（0120-680-340）までご連絡ください。"]
[]
[null,"　※　ご提供いただいた個人情報は，電気事業の範囲内で利用いたします。"]
[]
[]
[null,null,null,"拝啓　平素は弊社事業に格別のお引き立てを賜り，厚くお礼申し上げます。５６７８９０"]
[]
[]
[null,null,null,"　さて，この度お客さまの電気ご使用につきまして，本申込書記載の内容にてご契約させ"]
[]
[]
[null,null,null,"ていただきましたことをお知らせいたします。２３４５６７８９０１２３４５６７８９０"]
[]
[]
[null,null,null,"　また，「ご契約内容のお知らせについて」を別途送付させていただきますので，あわせ"]
[]
[]
[null,null,null,"てご確認いただきますようお願いいたします。２３４５６７８９０１２３４５６７８９０"]
[]
[]
[null,null,null,"１２３４５６７８９０１２３４５６７８９０１２３４５６７８９０１２３４５６７敬具０"]
[]
[]
[]
[null,"＜連絡事項＞"]
[]
[]
[]
[]
[]
[]
[]
["北　海　道　電　力　ネ　ッ　ト　ワ　ー　ク　株　式　会　社"]
[]
[]
[]
[]
["北　海　道　電　力　株　式　会　社"]
[]
["www.hepco.co.jp"]

{"sheet":"３枚目","index":3,"n_rows":181,"n_cols":111,"rows_kept":181,"cut":false,"hidden":false,"merged":[[41,46,46,50],[47,42,49,83],[41,36,42,45],[47,35,48,41],[50,35,52,61],[51,62,52,65],[70,70,72,72],[61,35,63,44],[55,35,57,44],[61,48,63,59],[58,48,60,59],[58,35,60,44],[58,45,60,47],[124,63,127,65],[120,63,123,65],[120,66,127,70],[124,31,127,35],[148,1,150,16],[99,73,101,76],[93,77,95,79],[164,30,166,51],[53,73,54,79],[53,35,54,47],[167,30,169,51],[124,57,127,59],[120,52,123,56],[111,6,113,34],[120,44,123,48],[128,14,129,23],[116,64,119,66],[124,4,125,27],[114,1,119,5],[120,1,127,3],[128,1,135,3],[136,1,141,3],[128,10,129,13],[132,24,133,33],[140,35,141,55],[134,4,135,13],[120,60,123,62],[120,49,123,51],[136,13,141,15],[140,16,141,31],[134,24,135,33],[130,34,131,43],[120,4,121,27],[136,4,141,12],[170,30,172,51],[171,94,172,96],[165,80,168,83],[128,94,131,96],[128,91,131,93],[128,85,131,87],[171,84,172,87],[165,90,166,99],[167,86,168,89],[167,90,168,99],[169,86,170,89],[128,44,135,48],[128,49,131,68],[132,94,135,96],[142,40,146,42],[142,26,146,39],[142,43,146,56],[163,84,164,99],[165,84,170,85],[132,49,135,68],[128,34,129,40],[128,24,129,33],[138,35,139,55],[138,16,139,31],[39,74,40,74],[39,75,40,79],[39,80,40,80],[36,51,38,80],[39,68,40,68],[28,64,33,68],[31,21,33,27],[31,28,33,28],[28,69,31,74],[34,51,35,52],[34,53,35,55],[28,11,30,63],[31,39,33,45],[31,36,33,38],[34,45,35,45],[34,56,35,56],[34,42,35,42],[34,11,40,20],[39,63,40,67],[34,63,35,80],[36,32,37,32],[36,33,37,33],[39,69,40,73],[45,28,46,30],[38,26,40,45],[39,51,40,58],[39,59,40,62],[34,43,35,43],[34,44,35,44],[36,43,37,43],[36,44,37,44],[36,45,37,45],[36,35,37,35],[36,36,37,36],[36,37,37,37],[36,38,37,38],[36,39,37,39],[36,40,37,40],[36,41,37,41],[36,42,37,42],[36,26,37,26],[36,27,37,27],[36,28,37,28],[36,29,37,29],[36,30,37,30],[36,31,37,31],[43,36,46,45],[20,104,21,108],[20,109,21,110],[22,69,23,74],[20,75,21,89],[20,90,21,99],[20,100,21,102],[20,103,21,103],[22,75,23,110],[26,69,27,88],[26,89,27,92],[26,93,27,97],[32,99,33,103],[32,104,33,104],[26,98,27,98],[26,110,27,110],[26,99,27,103],[26,104,27,104],[26,105,27,109],[32,105,33,109],[32,98,33,98],[137,103,144,110],[169,80,172,83],[132,97,135,99],[129,101,136,102],[137,101,144,102],[132,85,135,87],[165,86,166,89],[171,97,172,99],[128,97,131,99],[121,101,128,102],[171,88,172,93],[153,103,160,110],[153,101,160,102],[145,101,152,102],[132,88,135,90],[169,90,170,99],[121,103,128,110],[161,101,168,102],[161,103,168,110],[89,91,91,98],[92,91,94,98],[79,77,81,79],[82,77,84,79],[85,73,86,79],[93,73,95,76],[90,73,92,76],[90,77,92,79],[145,103,152,110],[97,101,104,102],[113,103,120,110],[129,103,136,110],[128,82,131,84],[128,79,135,81],[132,82,135,84],[120,79,125,82],[132,91,135,93],[128,88,131,90],[111,77,113,79],[111,94,113,96],[111,80,113,93],[126,79,127,82],[126,71,127,74],[82,73,84,76],[41,1,46,5],[58,6,60,34],[82,80,84,99],[55,80,57,99],[47,1,52,5],[41,73,46,88],[79,60,81,69],[79,70,81,72],[82,60,84,69],[82,70,84,72],[73,77,75,79],[73,73,75,76],[76,77,78,79],[58,80,60,99],[61,80,63,99],[79,35,81,44],[73,48,75,59],[76,45,78,47],[79,48,81,59],[76,35,78,44],[73,35,75,44],[61,45,63,47],[64,77,66,79],[70,60,72,69],[6,0,9,110],[17,6,24,10],[14,64,16,68],[14,85,16,89],[17,64,27,68],[25,6,30,10],[17,1,40,5],[23,11,24,19],[23,20,24,38],[25,16,27,16],[17,11,18,17],[25,21,27,22],[25,11,27,12],[20,69,21,74],[24,69,25,110],[14,69,16,84],[17,69,19,74],[17,75,19,110],[25,17,27,20],[28,75,31,110],[32,69,33,74],[32,75,33,88],[32,89,33,92],[32,110,33,110],[32,93,33,97],[97,103,104,110],[105,101,112,102],[105,103,112,110],[113,101,120,102],[87,70,89,72],[93,70,95,72],[108,45,110,47],[102,48,104,59],[109,80,110,96],[111,73,113,76],[102,73,104,76],[96,70,98,72],[99,77,101,79],[99,70,101,72],[102,77,104,79],[89,103,96,110],[81,103,88,110],[120,57,123,59],[105,77,107,79],[111,70,113,72],[87,60,89,69],[90,60,92,69],[105,73,107,76],[132,4,133,13],[132,14,133,23],[136,32,141,34],[134,34,135,43],[132,34,133,43],[130,14,131,23],[124,41,127,43],[108,48,110,59],[85,35,86,47],[120,28,127,30],[130,24,131,33],[128,41,129,43],[124,52,127,56],[136,16,137,31],[136,35,137,55],[120,41,123,43],[120,39,123,40],[116,19,119,51],[120,31,123,35],[120,36,123,38],[114,6,115,18],[87,73,89,76],[108,70,110,72],[90,48,92,59],[93,48,95,59],[96,48,98,59],[96,60,98,69],[99,60,101,69],[102,60,104,69],[105,60,107,69],[108,35,110,44],[102,35,104,44],[87,35,89,44],[99,35,101,44],[105,35,107,44],[31,6,33,10],[76,6,78,34],[79,6,81,34],[82,6,84,34],[73,6,75,34],[34,21,40,25],[34,6,40,10],[61,6,63,34],[31,11,33,13],[47,6,48,12],[44,6,46,11],[45,20,46,22],[45,12,46,14],[31,14,33,19],[31,20,33,20],[44,23,46,27],[44,15,46,19],[49,6,52,34],[36,34,37,34],[41,31,46,35],[67,35,69,44],[70,35,72,44],[53,6,54,34],[55,6,57,34],[67,6,69,34],[76,48,78,59],[87,45,89,47],[96,6,98,34],[90,6,92,34],[90,35,92,44],[93,6,95,34],[93,35,95,44],[67,45,69,47],[70,45,72,47],[67,48,69,59],[79,45,81,47],[73,45,75,47],[70,6,72,34],[70,48,72,59],[64,6,66,34],[102,45,104,47],[99,48,101,59],[105,45,107,47],[105,48,107,59],[124,44,127,48],[130,4,131,13],[134,14,135,23],[128,4,129,9],[114,52,115,66],[116,6,119,18],[126,4,127,27],[124,39,127,40],[124,36,127,38],[53,1,84,5],[102,6,104,34],[82,45,84,47],[53,60,54,72],[53,48,54,59],[82,48,84,59],[87,6,89,34],[82,35,84,44],[85,48,86,59],[90,70,92,72],[120,75,125,78],[124,49,127,51],[126,75,127,78],[116,52,119,63],[122,4,123,27],[115,72,119,89],[115,67,119,71],[96,35,98,44],[111,35,113,44],[99,6,101,34],[99,45,101,47],[108,6,110,34],[105,6,107,34],[102,70,104,72],[105,70,107,72],[85,1,113,5],[85,6,86,34],[90,45,92,47],[93,45,95,47],[96,45,98,47],[108,60,110,69],[111,45,113,47],[114,19,115,51],[93,60,95,69],[92,89,94,90],[89,89,91,90],[55,70,57,72],[58,70,60,72],[64,35,66,44],[64,45,66,47],[61,60,63,69],[64,60,66,69],[67,70,69,72],[64,48,66,59],[64,73,66,76],[67,60,69,69],[76,60,78,69],[73,60,75,69],[70,73,72,76],[89,101,96,102],[89,82,91,88],[73,101,80,102],[61,70,63,72],[58,60,60,69],[64,70,66,72],[55,60,57,69],[73,70,75,72],[76,80,78,99],[79,80,81,99],[61,77,63,79],[67,73,69,76],[67,77,69,79],[76,73,78,76],[76,70,78,72],[61,73,63,76],[58,77,60,79],[55,77,57,79],[58,73,60,76],[55,73,57,76],[79,73,81,76],[96,77,98,79],[96,73,98,76],[70,77,72,79],[39,98,40,98],[39,93,40,97],[39,110,40,110],[39,105,40,109],[86,82,88,88],[86,89,88,93],[86,94,88,98],[57,101,64,102],[53,80,54,99],[47,90,49,104],[50,90,52,104],[65,101,72,102],[64,80,66,99],[81,101,88,102],[73,103,80,110],[73,80,75,99],[65,103,72,110],[67,80,69,99],[70,80,72,99],[34,81,40,85],[34,86,35,110],[36,86,38,110],[39,86,40,88],[39,89,40,92],[120,71,125,74],[111,48,113,59],[111,60,113,69],[85,60,86,72],[108,73,110,76],[108,77,110,79],[87,48,89,59],[87,77,89,79],[124,60,127,62],[41,105,46,109],[47,84,52,89],[51,78,52,82],[51,83,52,83],[41,89,46,93],[92,82,94,88],[41,110,46,110],[41,94,46,97],[39,99,40,103],[39,104,40,104],[41,98,46,104],[11,1,12,25],[13,1,14,38],[51,77,52,77],[55,48,57,59],[31,46,33,46],[23,39,24,46],[23,47,24,63],[34,46,40,50],[31,47,33,54],[31,55,33,55],[31,56,33,63],[25,23,27,63],[34,57,35,60],[34,61,35,62],[31,29,33,35],[51,66,52,70],[51,71,52,71],[41,51,46,64],[51,72,52,76],[41,65,46,72],[25,13,27,15],[55,45,57,47],[17,58,18,63],[19,11,22,63],[167,73,169,75],[167,76,169,78],[167,65,169,67],[167,68,169,72],[170,76,172,78],[170,68,172,72],[170,52,172,54],[167,52,169,54],[164,65,166,67],[164,68,166,72],[167,57,169,59],[167,60,169,64],[17,36,18,36],[17,37,18,37],[17,38,18,38],[14,90,16,110],[170,73,172,75],[167,55,169,56],[174,0,175,110],[176,0,177,110],[57,103,64,110],[162,20,172,21],[162,22,163,29],[162,30,163,51],[162,52,163,78],[164,22,172,29],[170,55,172,56],[170,57,172,59],[170,65,172,67],[164,60,166,64],[170,60,172,64],[164,73,166,75],[164,76,166,78],[164,52,166,54],[164,55,166,56],[164,57,166,59],[17,27,18,27],[17,28,18,28],[17,29,18,29],[17,30,18,30],[17,31,18,31],[17,32,18,32],[17,33,18,33],[17,34,18,34],[17,35,18,35],[17,18,18,18],[17,19,18,19],[17,20,18,20],[17,21,18,21],[17,22,18,22],[17,23,18,23],[17,24,18,24],[17,25,18,25],[17,26,18,26],[34,41,35,41],[17,56,18,56],[17,39,18,39],[17,40,18,40],[17,41,18,41],[17,42,18,42],[17,43,18,43],[17,44,18,44],[17,45,18,45],[17,46,18,46],[17,47,18,47],[17,48,18,48],[17,49,18,49],[17,50,18,50],[17,51,18,51],[17,52,18,52],[17,53,18,53],[17,54,18,54],[17,55,18,55],[1,93,5,109],[142,1,146,4],[142,5,146,21],[142,22,146,25],[142,57,146,62],[142,63,146,79],[142,80,146,83],[142,84,146,93],[17,57,18,57],[34,26,35,26],[34,27,35,27],[34,28,35,28],[34,29,35,29],[34,30,35,30],[34,31,35,31],[34,32,35,32],[34,33,35,33],[34,34,35,34],[34,35,35,35],[34,36,35,36],[34,37,35,37],[34,38,35,38],[34,39,35,39],[34,40,35,40]]}
[]
[null,null,null,null,null,null,null,null,null,null,null,null,null,null,null,null,null,null,null,null,null,null,null,null,null,null,null,null,null,null,null,null,null,null,null,null,null,null,null,null,null,null,null,null,null,null,null,null,null,null,null,null,null,null,null,null,null,null,null,null,null,null,null,null,null,null,null,null,null,null,null,null,null,null,null,null,null,null,null,null,null,null,null,null,null,null,null,null,null,null,null,null,null,"離島等供給用"]
[]
[]
[]
[]
["定額制電気使用申込書（ほくでんNW控）"]
[]
[]
[]
[]
[null,"北海道電力ネットワーク株式会社　御中"]
[]
[null,"電気の使用について貴社離島等供給約款[低圧用]を承認のうえ申し込みます。"]
[null,null,null,null,null,null,null,null,null,null,null,null,null,null,null,null,null,null,null,null,null,null,null,null,null,null,null,null,null,null,null,null,null,null,null,null,null,null,null,null,null,null,null,null,null,null,null,null,null,null,null,null,null,null,null,null,null,null,null,null,null,null,null,null,"受付扱所名",null,null,null,null,null,null,null,null,null,null,null,null,null,null,null,null,null,null,null,null,"受付№"]
[]
[]
[null,"お 客 さ ま",null,null,null,null,"ご契約名義",null,null,null,null,"（フリガナ）",null,null,null,null,null,null,{"$f":"DBCS(MID(ASC(入力用!C4),1,1))","v":""},{"$f":"DBCS(MID(ASC(入力用!C4),2,1))","v":""},{"$f":"DBCS(MID(ASC(入力用!C4),3,1))","v":""},{"$f":"DBCS(MID(ASC(入力用!C4),4,1))","v":""},{"$f":"DBCS(MID(ASC(入力用!C4),5,1))","v":""},{"$f":"DBCS(MID(ASC(入力用!C4),6,1))","v":""},{"$f":"DBCS(MID(ASC(入力用!C4),7,1))","v":""},{"$f":"DBCS(MID(ASC(入力用!C4),8,1))","v":""},{"$f":"DBCS(MID(ASC(入力用!C4),9,1))","v":""},{"$f":"DBCS(MID(ASC(入力用!C4),10,1))","v":""},{"$f":"DBCS(MID(ASC(入力用!C4),11,1))","v":""},{"$f":"DBCS(MID(ASC(入力用!C4),12,1))","v":""},{"$f":"DBCS(MID(ASC(入力用!C4),13,1))","v":""},{"$f":"DBCS(MID(ASC(入力用!C4),14,1))","v":""},{"$f":"DBCS(MID(ASC(入力用!C4),15,1))","v":""},{"$f":"DBCS(MID(ASC(入力用!C4),16,1))","v":""},{"$f":"DBCS(MID(ASC(入力用!C4),17,1))","v":""},{"$f":"DBCS(MID(ASC(入力用!C4),18,1))","v":""},{"$f":"DBCS(MID(ASC(入力用!C4),19,1))","v":""},{"$f":"DBCS(MID(ASC(入力用!C4),20,1))","v":""},{"$f":"DBCS(MID(ASC(入力用!C4),21,1))","v":""},{"$f":"DBCS(MID(ASC(入力用!C4),22,1))","v":""},{"$f":"DBCS(MID(ASC(入力用!C4),23,1))","v":""},{"$f":"DBCS(MID(ASC(入力用!C4),24,1))","v":""},{"$f":"DBCS(MID(ASC(入力用!C4),25,1))","v":""},{"$f":"DBCS(MID(ASC(入力用!C4),26,1))","v":""},{"$f":"DBCS(MID(ASC(入力用!C4),27,1))","v":""},{"$f":"DBCS(MID(ASC(入力用!C4),28,1))","v":""},{"$f":"DBCS(MID(ASC(入力用!C4),29,1))","v":""},{"$f":"DBCS(MID(ASC(入力用!C4),30,1))","v":""},{"$f":"DBCS(MID(ASC(入力用!C4),31,1))","v":""},{"$f":"DBCS(MID(ASC(入力用!C4),32,1))","v":""},{"$f":"DBCS(MID(ASC(入力用!C4),33,1))","v":""},{"$f":"DBCS(MID(ASC(入力用!C4),34,1))","v":""},{"$f":"DBCS(MID(ASC(入力用!C4),35,1))","v":""},{"$f":"DBCS(MID(ASC(入力用!C4),36,1))","v":""},{"$f":"DBCS(MID(ASC(入力用!C4),37,1))","v":""},{"$f":"DBCS(MID(ASC(入力用!C4),38,1))","v":""},{"$f":"DBCS(MID(ASC(入力用!C4),39,1))","v":""},{"$f":"DBCS(MID(ASC(入力用!C4),40,1))","v":""},null,null,null,null,null,null,"電気工事会社",null,null,null,null," 会社名",null,null,null,null,null,{"$f":"IF(入力用!C12=\"\",\"\",入力用!C12)","v":""}]
[]
[null,null,null,null,null,null,null,null,null,null,null,{"$f":"IF(入力用!C5=\"\",\"\",入力用!C5)","v":""}]
[null,null,null,null,null,null,null,null,null,null,null,null,null,null,null,null,null,null,null,null,null,null,null,null,null,null,null,null,null,null,null,null,null,null,null,null,null,null,null,null,null,null,null,null,null,null,null,null,null,null,null,null,null,null,null,null,null,null,null,null,null,null,null,null,null,null,null,null,null,"(担当者)",null,null,null,null,null,{"$f":"IF(入力用!C13=\"\",\"\",入力用!C13)","v":""},null,null,null,null,null,null,null,null,null,null,null,null,null,null,"工事会社№（",null,null,null,null,null,null,null,null,null,{"$f":"IF(入力用!C14=\"\",\"\",入力用!C14)","v":""},null,null,"-",{"$f":"IF(入力用!E14=\"\",\"\",入力用!E14)","v":""},null,null,null,null,")"]
[]
[null,null,null,null,null,null,null,null,null,null,null,null,null,null,null,null,null,null,null,null,null,null,null,null,null,null,null,null,null,null,null,null,null,null,null,null,null,null,null,null,null,null,null,null,null,null,null,null,null,null,null,null,null,null,null,null,null,null,null,null,null,null,null,null,null,null,null,null,null," 住　所",null,null,null,null,null,{"$f":"LEFT(入力用!C15,24)","v":""}]
[null,null,null,null,null,null,null,null,null,null,null,"（代表者肩書）",null,null,null,null,null,null,null,null,{"$f":"IF(入力用!C6=\"\",\"\",入力用!C6)","v":""},null,null,null,null,null,null,null,null,null,null,null,null,null,null,null,null,null,null,"（代表者名）",null,null,null,null,null,null,null,{"$f":"IF(入力用!C7=\"\",\"\",入力用!C7)","v":""}]
[null,null,null,null,null,null,null,null,null,null,null,null,null,null,null,null,null,null,null,null,null,null,null,null,null,null,null,null,null,null,null,null,null,null,null,null,null,null,null,null,null,null,null,null,null,null,null,null,null,null,null,null,null,null,null,null,null,null,null,null,null,null,null,null,null,null,null,null,null,{"$f":"MID(入力用!C15,25,28)","v":""}]
[null,null,null,null,null,null,"ご使用\n場　所",null,null,null,null,"(〒",null,{"$f":"LEFT(入力用!C8,3)","v":""},null,null,"-",{"$f":"RIGHT(入力用!C8,4)","v":""},null,null,null,")",null,{"$f":"LEFT(入力用!C9,25)","v":""}]
[null,null,null,null,null,null,null,null,null,null,null,null,null,null,null,null,null,null,null,null,null,null,null,null,null,null,null,null,null,null,null,null,null,null,null,null,null,null,null,null,null,null,null,null,null,null,null,null,null,null,null,null,null,null,null,null,null,null,null,null,null,null,null,null,null,null,null,null,null,{"$f":"MID(入力用!C15,53,12)","v":""},null,null,null,null,null,null,null,null,null,null,null,null,null,null,null,null,null,null,null,"電話(",null,null,null,{"$f":"IF(入力用!C16=\"\",\"\",入力用!C16)","v":""},null,null,null,null,"-",{"$f":"IF(入力用!E16=\"\",\"\",入力用!E16)","v":""},null,null,null,null,"-",{"$f":"IF(入力用!H16=\"\",\"\",入力用!H16)","v":""},null,null,null,null,")"]
[]
[null,null,null,null,null,null,null,null,null,null,null,{"$f":"MID(入力用!C9,26,33)","v":""},null,null,null,null,null,null,null,null,null,null,null,null,null,null,null,null,null,null,null,null,null,null,null,null,null,null,null,null,null,null,null,null,null,null,null,null,null,null,null,null,null,null,null,null,null,null,null,null,null,null,null,null,"建築会社",null,null,null,null," 会社名",null,null,null,null,null,{"$f":"IF(入力用!C17=\"\",\"\",入力用!C17)","v":""}]
[]
[]
[null,null,null,null,null,null,"電話番号",null,null,null,null,"固定",null,null,{"$f":"IF(入力用!C10=\"\",\"\",入力用!C10)","v":""},null,null,null,null,null,"-",{"$f":"IF(入力用!E10=\"\",\"\",入力用!E10)","v":""},null,null,null,null,null,null,"-",{"$f":"IF(入力用!H10=\"\",\"\",入力用!H10)","v":""},null,null,null,null,null,null,"携帯",null,null,{"$f":"IF(入力用!C11=\"\",\"\",入力用!C11)","v":""},null,null,null,null,null,null,"-",{"$f":"IF(入力用!E11=\"\",\"\",入力用!E11)","v":""},null,null,null,null,null,null,null,"-",{"$f":"IF(入力用!H11=\"\",\"\",入力用!H11)","v":""}]
[null,null,null,null,null,null,null,null,null,null,null,null,null,null,null,null,null,null,null,null,null,null,null,null,null,null,null,null,null,null,null,null,null,null,null,null,null,null,null,null,null,null,null,null,null,null,null,null,null,null,null,null,null,null,null,null,null,null,null,null,null,null,null,null,null,null,null,null,null,"(担当者)",null,null,null,null,null,{"$f":"IF(入力用!C18=\"\",\"\",入力用!C18)","v":""},null,null,null,null,null,null,null,null,null,null,null,null,null,"電話(",null,null,null,{"$f":"IF(入力用!C19=\"\",\"\",入力用!C19)","v":""},null,null,null,null,"-",{"$f":"IF(入力用!E19=\"\",\"\",入力用!E19)","v":""},null,null,null,null,"-",{"$f":"IF(入力用!H19=\"\",\"\",入力用!H19)","v":""},null,null,null,null,")"]
[]
[null,null,null,null,null,null,"お支払\n方　法",null,null,null,null,{"$f":"IF(OR(入力用!O20=2,入力用!O20=4),\"口座振込\",IF(入力用!O20=3,\"口座振替\",\"\"))","v":""},null,null,null,null,null,null,null,null,null,"支　払\n者　名",null,null,null,null,{"$f":"DBCS(MID(ASC(入力用!C21),1,1))","v":""},{"$f":"DBCS(MID(ASC(入力用!C21),2,1))","v":""},{"$f":"DBCS(MID(ASC(入力用!C21),3,1))","v":""},{"$f":"DBCS(MID(ASC(入力用!C21),4,1))","v":""},{"$f":"DBCS(MID(ASC(入力用!C21),5,1))","v":""},{"$f":"DBCS(MID(ASC(入力用!C21),6,1))","v":""},{"$f":"DBCS(MID(ASC(入力用!C21),7,1))","v":""},{"$f":"DBCS(MID(ASC(入力用!C21),8,1))","v":""},{"$f":"DBCS(MID(ASC(入力用!C21),9,1))","v":""},{"$f":"DBCS(MID(ASC(入力用!C21),10,1))","v":""},{"$f":"DBCS(MID(ASC(入力用!C21),11,1))","v":""},{"$f":"DBCS(MID(ASC(入力用!C21),12,1))","v":""},{"$f":"DBCS(MID(ASC(入力用!C21),13,1))","v":""},{"$f":"DBCS(MID(ASC(入力用!C21),14,1))","v":""},{"$f":"DBCS(MID(ASC(入力用!C21),15,1))","v":""},{"$f":"DBCS(MID(ASC(入力用!C21),16,1))","v":""},{"$f":"DBCS(MID(ASC(入力用!C21),17,1))","v":""},{"$f":"DBCS(MID(ASC(入力用!C21),18,1))","v":""},{"$f":"DBCS(MID(ASC(入力用!C21),19,1))","v":""},{"$f":"DBCS(MID(ASC(入力用!C21),20,1))","v":""},"請求書\n送付先",null,null,null,null,"(〒",null,{"$f":"LEFT(入力用!C23,3)","v":""},null,null,"-",{"$f":"RIGHT(入力用!C23,4)","v":""},null,null,null,")",null,{"$f":"IF(入力用!C24=\"同上\",\"\",LEFT(入力用!C24,12))","v":""},null,null,null,null,null,null,null,null,null,null,null,null,null,null,null,null,null,"ご連絡先",null,null,null,null,{"$f":"IF(OR(入力用!C26=\"同上\",入力用!C26=\"同左\"),\"\",LEFT(入力用!C26,17))","v":""}]
[]
[null,null,null,null,null,null,null,null,null,null,null,null,null,null,null,null,null,null,null,null,null,null,null,null,null,null,{"$f":"DBCS(MID(ASC(入力用!C21),21,1))","v":""},{"$f":"DBCS(MID(ASC(入力用!C21),22,1))","v":""},{"$f":"DBCS(MID(ASC(入力用!C21),23,1))","v":""},{"$f":"DBCS(MID(ASC(入力用!C21),24,1))","v":""},{"$f":"DBCS(MID(ASC(入力用!C21),25,1))","v":""},{"$f":"DBCS(MID(ASC(入力用!C21),26,1))","v":""},{"$f":"DBCS(MID(ASC(入力用!C21),27,1))","v":""},{"$f":"DBCS(MID(ASC(入力用!C21),28,1))","v":""},{"$f":"DBCS(MID(ASC(入力用!C21),29,1))","v":""},{"$f":"DBCS(MID(ASC(入力用!C21),30,1))","v":""},{"$f":"DBCS(MID(ASC(入力用!C21),31,1))","v":""},{"$f":"DBCS(MID(ASC(入力用!C21),32,1))","v":""},{"$f":"DBCS(MID(ASC(入力用!C21),33,1))","v":""},{"$f":"DBCS(MID(ASC(入力用!C21),34,1))","v":""},{"$f":"DBCS(MID(ASC(入力用!C21),35,1))","v":""},{"$f":"DBCS(MID(ASC(入力用!C21),36,1))","v":""},{"$f":"DBCS(MID(ASC(入力用!C21),37,1))","v":""},{"$f":"DBCS(MID(ASC(入力用!C21),38,1))","v":""},{"$f":"DBCS(MID(ASC(入力用!C21),39,1))","v":""},{"$f":"DBCS(MID(ASC(入力用!C21),40,1))","v":""},null,null,null,null,null,{"$f":"IF(入力用!C24=\"同上\",入力用!C24,MID(入力用!C24,13,20))","v":""},null,null,null,null,null,null,null,null,null,null,null,null,null,null,null,null,null,null,null,null,null,null,null,null,null,null,null,null,null,null,null,null,null,null,{"$f":"IF(OR(入力用!C26=\"同上\",入力用!C26=\"同左\"),入力用!C26,MID(入力用!C26,18,17))","v":""}]
[]
[null,null,null,null,null,null,null,null,null,null,null,null,null,null,null,null,null,null,null,null,null,null,null,null,null,null,{"$f":"IF(入力用!C22=\"\",\"\",入力用!C22)","v":""}]
[null,null,null,null,null,null,null,null,null,null,null,null,null,null,null,null,null,null,null,null,null,null,null,null,null,null,null,null,null,null,null,null,null,null,null,null,null,null,null,null,null,null,null,null,null,null,null,null,null,null,null,{"$f":"MID(入力用!C24,33,5)","v":""},null,null,null,null,null,null,null,"電話(",null,null,null,{"$f":"IF(入力用!C25=\"\",\"\",入力用!C25)","v":""},null,null,null,null,"-",{"$f":"IF(入力用!E25=\"\",\"\",入力用!E25)","v":""},null,null,null,null,"-",{"$f":"IF(入力用!H25=\"\",\"\",入力用!H25)","v":""},null,null,null,null,")",null,null,null,null,null,{"$f":"IF(OR(入力用!C26=\"同上\",入力用!C26=\"同左\"),\"\",MID(入力用!C26,35,1))","v":""},null,null,"電話(",null,null,null,{"$f":"IF(入力用!C27=\"\",\"\",入力用!C27)","v":""},null,null,null,null,"-",{"$f":"IF(入力用!E27=\"\",\"\",入力用!E27)","v":""},null,null,null,null,"-",{"$f":"IF(入力用!H27=\"\",\"\",入力用!H27)","v":""},null,null,null,null,")"]
[]
[null,"受　 電\n希望日",null,null,null,null,null,null,null,null,null,null,null,null,null,null,null,null,null,null,null,null,null,null,null,null,null,null,null,null,null,"契約\n種別",null,null,null,null,{"$f":"IF(入力用!O31=2,\"01\",IF(入力用!O31=3,\"02\",IF(入力用!O31=4,\"91\",\"\")))","v":""},null,null,null,null,null,null,null,null,null,"供給電気\n方 式 ・\n供給電圧",null,null,null,null,{"$f":"IF(入力用!O32=2,入力用!Q6,IF(入力用!O32=3,入力用!Q7,IF(入力用!O32=4,入力用!Q8,IF(入力用!O32=5,入力用!Q9,\"\"))))","v":""},null,null,null,null,null,null,null,null,null,null,null,null,null,"フリーエリア\n計器払出希望\n事 業 所 名",null,null,null,null,null,null,null,{"$f":"IF(入力用!C33=\"\",\"\",入力用!C33)","v":""},null,null,null,null,null,null,null,null,null,null,null,null,null,null,null,"本契約前\nの臨時契\n約の有無",null,null,null,null,{"$f":"IF(入力用!O34=2,入力用!R6,IF(入力用!O34=3,入力用!R7,\"\"))","v":""},null,null,null,"臨時受付№(",null,null,null,null,null,null,null,null,null,null,null,")"]
[]
[null,null,null,null,null,null,null,null,null,null,null,null,null,null,null,null,null,null,null,null,null,null,null,null,null,null,null,null,null,null,null,null,null,null,null,null,{"$f":"IF(入力用!O31=2,入力用!P6,IF(入力用!O31=3,入力用!P7,IF(入力用!O31=4,入力用!P8,\"\")))","v":""}]
[null,null,null,null,null,null,{"$f":"IF(入力用!C30=\"\",\"\",入力用!C30)","v":""},null,null,null,null,null,null,null,null,{"$f":"IF(入力用!E30=\"\",\"\",入力用!E30)","v":""},null,null,null,null,null,null,null,{"$f":"IF(入力用!H30=\"\",\"\",入力用!H30)","v":""}]
[null,null,null,null,null,null,null,null,null,null,null,null,"年",null,null,null,null,null,null,null,"月",null,null,null,null,null,null,null,"日"]
[]
[null,"街路灯\n管　理\n責任者",null,null,null,null,"責任者名",null,null,null,null,null,null,null,null,null,null,null,null,null,null,null,null,null,null,null,null,null,null,null,null,null,null,null,null,"住　所",null,null,null,null,null,null,{"$f":"LEFT(入力用!C36,39)","v":""},null,null,null,null,null,null,null,null,null,null,null,null,null,null,null,null,null,null,null,null,null,null,null,null,null,null,null,null,null,null,null,null,null,null,null,null,null,null,null,null,null,"電設Ｎｅｔ\n申込",null,null,null,null,null,{"$f":"IF(入力用!O28=2,入力用!S14,IF(入力用!O28=3,入力用!S15,\"\"))","v":""}]
[]
[null,null,null,null,null,null,{"$f":"IF(入力用!C35=\"\",\"\",入力用!C35)","v":""}]
[null,null,null,null,null,null,null,null,null,null,null,null,null,null,null,null,null,null,null,null,null,null,null,null,null,null,null,null,null,null,null,null,null,null,null,{"$f":"MID(入力用!C36,40,29)","v":""},null,null,null,null,null,null,null,null,null,null,null,null,null,null,null,null,null,null,null,null,null,null,null,null,null,null,null,null,null,null,null,null,null,null,null,null,null,null,null,null,null,null,null,null,null,null,null,null,null,null,null,null,null,null,{"$f":"IF(入力用!C29=\"\",\"\",入力用!C29)","v":""}]
[null,null,null,null,null,null,null,null,null,null,null,null,null,null,null,null,null,null,null,null,null,null,null,null,null,null,null,null,null,null,null,null,null,null,null,null,null,null,null,null,null,null,null,null,null,null,null,null,null,null,null,null,null,null,null,null,null,null,null,null,null,null,"電話(",null,null,null,{"$f":"IF(入力用!C37=\"\",\"\",入力用!C37)","v":""},null,null,null,null,"-",{"$f":"IF(入力用!E37=\"\",\"\",入力用!E37)","v":""},null,null,null,null,"-",{"$f":"IF(入力用!H37=\"\",\"\",入力用!H37)","v":""},null,null,null,null,")"]
[]
[null,"電　　　　　　　　灯",null,null,null,null,"機　　器　　種　　別",null,null,null,null,null,null,null,null,null,null,null,null,null,null,null,null,null,null,null,null,null,null,null,null,null,null,null,null,"出　力",null,null,null,null,null,null,null,null,null,null,null,null,"力　　率",null,null,null,null,null,null,null,null,null,null,null,"入　力",null,null,null,null,null,null,null,null,null,null,null,null,"灯　数",null,null,null,null,null,null,"取　付　位　置"]
[]
[null,null,null,null,null,null,{"$f":"IF(入力用!O38=2,入力用!S$6,IF(入力用!O38=3,入力用!S$7,IF(入力用!O38=4,入力用!S$8,IF(入力用!O38=5,入力用!S$9,IF(入力用!O38=6,入力用!K38,\"\")))))","v":""},null,null,null,null,null,null,null,null,null,null,null,null,null,null,null,null,null,null,null,null,null,null,null,null,null,null,null,null,{"$f":"IF(入力用!C39=\"\",\"\",入力用!C39)","v":""},null,null,null,null,null,null,null,null,null,"Ｗ",null,null,{"$f":"IF(入力用!O38=5,\"－\",IF(入力用!O40=2,入力用!T$6,IF(入力用!O40=3,入力用!T$7,\"\")))","v":""},null,null,null,null,null,null,null,null,null,null,null,{"$f":"IF(入力用!Q42=0,\"\",入力用!Q42)","v":""},null,null,null,null,null,null,null,null,null,"VA",null,null,{"$f":"IF(入力用!C42=\"\",\"\",入力用!C42)","v":""},null,null,null,"灯",null,null,{"$f":"IF(入力用!O43=2,入力用!U$6,IF(入力用!O43=3,入力用!U$7,IF(入力用!O43=4,入力用!U$8,IF(入力用!O43=5,入力用!K43,\"\"))))","v":""}]
[]
[null,null,null,null,null,null,null,null,null,null,null,null,null,null,null,null,null,null,null,null,null,null,null,null,null,null,null,null,null,null,null,null,null,null,null,null,null,null,null,null,null,null,null,null,null,null,null,null,null,null,null,null,null,null,null,null,null,null,null,null,null,null,null,null,null,null,null,null,null,null,null,null,null,null,null,null,null,null,null,null,null,null,null,null,null,null,null,null,null,null,null,null,null,null,null,null,null,null,null,null,null,"受付"]
[null,null,null,null,null,null,{"$f":"IF(入力用!O44=2,入力用!S$6,IF(入力用!O44=3,入力用!S$7,IF(入力用!O44=4,入力用!S$8,IF(入力用!O44=5,入力用!S$9,IF(入力用!O44=6,入力用!K44,\"\")))))","v":""},null,null,null,null,null,null,null,null,null,null,null,null,null,null,null,null,null,null,null,null,null,null,null,null,null,null,null,null,{"$f":"IF(入力用!C45=\"\",\"\",入力用!C45)","v":""},null,null,null,null,null,null,null,null,null,"Ｗ",null,null,{"$f":"IF(入力用!O44=5,\"－\",IF(入力用!O46=2,入力用!T$6,IF(入力用!O46=3,入力用!T$7,\"\")))","v":""},null,null,null,null,null,null,null,null,null,null,null,{"$f":"IF(入力用!Q48=0,\"\",入力用!Q48)","v":""},null,null,null,null,null,null,null,null,null,"VA",null,null,{"$f":"IF(入力用!C48=\"\",\"\",入力用!C48)","v":""},null,null,null,"灯",null,null,{"$f":"IF(入力用!O49=2,入力用!U$6,IF(入力用!O49=3,入力用!U$7,IF(入力用!O49=4,入力用!U$8,IF(入力用!O49=5,入力用!K49,\"\"))))","v":""}]
[]
[]
[null,null,null,null,null,null,{"$f":"IF(入力用!O50=2,入力用!S$6,IF(入力用!O50=3,入力用!S$7,IF(入力用!O50=4,入力用!S$8,IF(入力用!O50=5,入力用!S$9,IF(入力用!O50=6,入力用!K50,\"\")))))","v":""},null,null,null,null,null,null,null,null,null,null,null,null,null,null,null,null,null,null,null,null,null,null,null,null,null,null,null,null,{"$f":"IF(入力用!C51=\"\",\"\",入力用!C51)","v":""},null,null,null,null,null,null,null,null,null,"Ｗ",null,null,{"$f":"IF(入力用!O50=5,\"－\",IF(入力用!O52=2,入力用!T$6,IF(入力用!O52=3,入力用!T$7,\"\")))","v":""},null,null,null,null,null,null,null,null,null,null,null,{"$f":"IF(入力用!Q54=0,\"\",入力用!Q54)","v":""},null,null,null,null,null,null,null,null,null,"VA",null,null,{"$f":"IF(入力用!C54=\"\",\"\",入力用!C54)","v":""},null,null,null,"灯",null,null,{"$f":"IF(入力用!O55=2,入力用!U$6,IF(入力用!O55=3,入力用!U$7,IF(入力用!O55=4,入力用!U$8,IF(入力用!O55=5,入力用!K55,\"\"))))","v":""}]
[]
[]
[null,null,null,null,null,null,{"$f":"IF(入力用!O56=2,入力用!S$6,IF(入力用!O56=3,入力用!S$7,IF(入力用!O56=4,入力用!S$8,IF(入力用!O56=5,入力用!S$9,IF(入力用!O56=6,入力用!K56,\"\")))))","v":""},null,null,null,null,null,null,null,null,null,null,null,null,null,null,null,null,null,null,null,null,null,null,null,null,null,null,null,null,{"$f":"IF(入力用!C57=\"\",\"\",入力用!C57)","v":""},null,null,null,null,null,null,null,null,null,"Ｗ",null,null,{"$f":"IF(入力用!O56=5,\"－\",IF(入力用!O58=2,入力用!T$6,IF(入力用!O58=3,入力用!T$7,\"\")))","v":""},null,null,null,null,null,null,null,null,null,null,null,{"$f":"IF(入力用!Q60=0,\"\",入力用!Q60)","v":""},null,null,null,null,null,null,null,null,null,"VA",null,null,{"$f":"IF(入力用!C60=\"\",\"\",入力用!C60)","v":""},null,null,null,"灯",null,null,{"$f":"IF(入力用!O61=2,入力用!U$6,IF(入力用!O61=3,入力用!U$7,IF(入力用!O61=4,入力用!U$8,IF(入力用!O61=5,入力用!K61,\"\"))))","v":""}]
[null,null,null,null,null,null,null,null,null,null,null,null,null,null,null,null,null,null,null,null,null,null,null,null,null,null,null,null,null,null,null,null,null,null,null,null,null,null,null,null,null,null,null,null,null,null,null,null,null,null,null,null,null,null,null,null,null,null,null,null,null,null,null,null,null,null,null,null,null,null,null,null,null,null,null,null,null,null,null,null,null,null,null,null,null,null,null,null,null,null,null,null,null,null,null,null,null,null,null,null,null,"図面照査"]
[]
[null,null,null,null,null,null,{"$f":"IF(入力用!O62=2,入力用!S$6,IF(入力用!O62=3,入力用!S$7,IF(入力用!O62=4,入力用!S$8,IF(入力用!O62=5,入力用!S$9,IF(入力用!O62=6,入力用!K62,\"\")))))","v":""},null,null,null,null,null,null,null,null,null,null,null,null,null,null,null,null,null,null,null,null,null,null,null,null,null,null,null,null,{"$f":"IF(入力用!C63=\"\",\"\",入力用!C63)","v":""},null,null,null,null,null,null,null,null,null,"Ｗ",null,null,{"$f":"IF(入力用!O62=5,\"－\",IF(入力用!O64=2,入力用!T$6,IF(入力用!O64=3,入力用!T$7,\"\")))","v":""},null,null,null,null,null,null,null,null,null,null,null,{"$f":"IF(入力用!Q66=0,\"\",入力用!Q66)","v":""},null,null,null,null,null,null,null,null,null,"VA",null,null,{"$f":"IF(入力用!C66=\"\",\"\",入力用!C66)","v":""},null,null,null,"灯",null,null,{"$f":"IF(入力用!O67=2,入力用!U$6,IF(入力用!O67=3,入力用!U$7,IF(入力用!O67=4,入力用!U$8,IF(入力用!O67=5,入力用!K67,\"\"))))","v":""}]
[]
[]
[null,null,null,null,null,null,{"$f":"IF(入力用!O68=2,入力用!S$6,IF(入力用!O68=3,入力用!S$7,IF(入力用!O68=4,入力用!S$8,IF(入力用!O68=5,入力用!S$9,IF(入力用!O68=6,入力用!K68,\"\")))))","v":""},null,null,null,null,null,null,null,null,null,null,null,null,null,null,null,null,null,null,null,null,null,null,null,null,null,null,null,null,{"$f":"IF(入力用!C69=\"\",\"\",入力用!C69)","v":""},null,null,null,null,null,null,null,null,null,"Ｗ",null,null,{"$f":"IF(入力用!O68=5,\"－\",IF(入力用!O70=2,入力用!T$6,IF(入力用!O70=3,入力用!T$7,\"\")))","v":""},null,null,null,null,null,null,null,null,null,null,null,{"$f":"IF(入力用!Q72=0,\"\",入力用!Q72)","v":""},null,null,null,null,null,null,null,null,null,"VA",null,null,{"$f":"IF(入力用!C72=\"\",\"\",入力用!C72)","v":""},null,null,null,"灯",null,null,{"$f":"IF(入力用!O73=2,入力用!U$6,IF(入力用!O73=3,入力用!U$7,IF(入力用!O73=4,入力用!U$8,IF(入力用!O73=5,入力用!K73,\"\"))))","v":""}]
[]
[]
[null,null,null,null,null,null,{"$f":"IF(入力用!O74=2,入力用!S$6,IF(入力用!O74=3,入力用!S$7,IF(入力用!O74=4,入力用!S$8,IF(入力用!O74=5,入力用!S$9,IF(入力用!O74=6,入力用!K74,\"\")))))","v":""},null,null,null,null,null,null,null,null,null,null,null,null,null,null,null,null,null,null,null,null,null,null,null,null,null,null,null,null,{"$f":"IF(入力用!C75=\"\",\"\",入力用!C75)","v":""},null,null,null,null,null,null,null,null,null,"Ｗ",null,null,{"$f":"IF(入力用!O74=5,\"－\",IF(入力用!O76=2,入力用!T$6,IF(入力用!O76=3,入力用!T$7,\"\")))","v":""},null,null,null,null,null,null,null,null,null,null,null,{"$f":"IF(入力用!Q78=0,\"\",入力用!Q78)","v":""},null,null,null,null,null,null,null,null,null,"VA",null,null,{"$f":"IF(入力用!C78=\"\",\"\",入力用!C78)","v":""},null,null,null,"灯",null,null,{"$f":"IF(入力用!O79=2,入力用!U$6,IF(入力用!O79=3,入力用!U$7,IF(入力用!O79=4,入力用!U$8,IF(入力用!O79=5,入力用!K79,\"\"))))","v":""},null,null,null,null,null,null,null,null,null,null,null,null,null,null,null,null,null,null,null,null,"外線設計"]
[]
[]
[null,null,null,null,null,null,{"$f":"IF(入力用!O80=2,入力用!S$6,IF(入力用!O80=3,入力用!S$7,IF(入力用!O80=4,入力用!S$8,IF(入力用!O80=5,入力用!S$9,IF(入力用!O80=6,入力用!K80,\"\")))))","v":""},null,null,null,null,null,null,null,null,null,null,null,null,null,null,null,null,null,null,null,null,null,null,null,null,null,null,null,null,{"$f":"IF(入力用!C81=\"\",\"\",入力用!C81)","v":""},null,null,null,null,null,null,null,null,null,"Ｗ",null,null,{"$f":"IF(入力用!O80=5,\"－\",IF(入力用!O82=2,入力用!T$6,IF(入力用!O82=3,入力用!T$7,\"\")))","v":""},null,null,null,null,null,null,null,null,null,null,null,{"$f":"IF(入力用!Q84=0,\"\",入力用!Q84)","v":""},null,null,null,null,null,null,null,null,null,"VA",null,null,{"$f":"IF(入力用!C84=\"\",\"\",入力用!C84)","v":""},null,null,null,"灯",null,null,{"$f":"IF(入力用!O85=2,入力用!U$6,IF(入力用!O85=3,入力用!U$7,IF(入力用!O85=4,入力用!U$8,IF(入力用!O85=5,入力用!K85,\"\"))))","v":""}]
[]
[]
[null,null,null,null,null,null,{"$f":"IF(入力用!O86=2,入力用!S$6,IF(入力用!O86=3,入力用!S$7,IF(入力用!O86=4,入力用!S$8,IF(入力用!O86=5,入力用!S$9,IF(入力用!O86=6,入力用!K86,\"\")))))","v":""},null,null,null,null,null,null,null,null,null,null,null,null,null,null,null,null,null,null,null,null,null,null,null,null,null,null,null,null,{"$f":"IF(入力用!C87=\"\",\"\",入力用!C87)","v":""},null,null,null,null,null,null,null,null,null,"Ｗ",null,null,{"$f":"IF(入力用!O86=5,\"－\",IF(入力用!O88=2,入力用!T$6,IF(入力用!O88=3,入力用!T$7,\"\")))","v":""},null,null,null,null,null,null,null,null,null,null,null,{"$f":"IF(入力用!Q90=0,\"\",入力用!Q90)","v":""},null,null,null,null,null,null,null,null,null,"VA",null,null,{"$f":"IF(入力用!C90=\"\",\"\",入力用!C90)","v":""},null,null,null,"灯",null,null,{"$f":"IF(入力用!O91=2,入力用!U$6,IF(入力用!O91=3,入力用!U$7,IF(入力用!O91=4,入力用!U$8,IF(入力用!O91=5,入力用!K91,\"\"))))","v":""}]
[]
[null,null,null,null,null,null,null,null,null,null,null,null,null,null,null,null,null,null,null,null,null,null,null,null,null,null,null,null,null,null,null,null,null,null,null,null,null,null,null,null,null,null,null,null,null,null,null,null,null,null,null,null,null,null,null,null,null,null,null,null,null,null,null,null,null,null,null,null,null,null,null,null,null,null,null,null,null,null,null,null,null,null,null,null,null,null,null,null,null,null,null,null,null,null,null,null,null,null,null,null,null,"負担金計算"]
[null,null,null,null,null,null,{"$f":"IF(入力用!O92=2,入力用!S$6,IF(入力用!O92=3,入力用!S$7,IF(入力用!O92=4,入力用!S$8,IF(入力用!O92=5,入力用!S$9,IF(入力用!O92=6,入力用!K92,\"\")))))","v":""},null,null,null,null,null,null,null,null,null,null,null,null,null,null,null,null,null,null,null,null,null,null,null,null,null,null,null,null,{"$f":"IF(入力用!C93=\"\",\"\",入力用!C93)","v":""},null,null,null,null,null,null,null,null,null,"Ｗ",null,null,{"$f":"IF(入力用!O92=5,\"－\",IF(入力用!O92=2,入力用!T$6,IF(入力用!O92=3,入力用!T$7,\"\")))","v":""},null,null,null,null,null,null,null,null,null,null,null,{"$f":"IF(入力用!Q96=0,\"\",入力用!Q96)","v":""},null,null,null,null,null,null,null,null,null,"VA",null,null,{"$f":"IF(入力用!C96=\"\",\"\",入力用!C96)","v":""},null,null,null,"灯",null,null,{"$f":"IF(入力用!O97=2,入力用!U$6,IF(入力用!O97=3,入力用!U$7,IF(入力用!O97=4,入力用!U$8,IF(入力用!O97=5,入力用!K97,\"\"))))","v":""}]
[]
[]
[null,"小　　型　　機　　器",null,null,null,null,"機　　器　　種　　別",null,null,null,null,null,null,null,null,null,null,null,null,null,null,null,null,null,null,null,null,null,null,null,null,null,null,null,null,"出　力",null,null,null,null,null,null,null,null,null,null,null,null,"力　　率",null,null,null,null,null,null,null,null,null,null,null,"入　力",null,null,null,null,null,null,null,null,null,null,null,null,"個　数"]
[null,null,null,null,null,null,null,null,null,null,null,null,null,null,null,null,null,null,null,null,null,null,null,null,null,null,null,null,null,null,null,null,null,null,null,null,null,null,null,null,null,null,null,null,null,null,null,null,null,null,null,null,null,null,null,null,null,null,null,null,null,null,null,null,null,null,null,null,null,null,null,null,null,null,null,null,null,null,null,null,null,null,"引込以下工事",null,null,null,null,null,null,"要",null,null,null,null,"不要"]
[null,null,null,null,null,null,{"$f":"IF(入力用!C98=\"\",\"\",入力用!C98)","v":""},null,null,null,null,null,null,null,null,null,null,null,null,null,null,null,null,null,null,null,null,null,null,null,null,null,null,null,null,{"$f":"IF(入力用!C99=\"\",\"\",入力用!C99)","v":""},null,null,null,null,null,null,null,null,null,"Ｗ",null,null,{"$f":"IF(入力用!O100=2,入力用!V$6,IF(入力用!O100=3,入力用!V$7,\"\"))","v":""},null,null,null,null,null,null,null,null,null,null,null,{"$f":"IF(入力用!C101=\"\",\"\",入力用!C101)","v":""},null,null,null,null,null,null,null,null,null,"VA",null,null,{"$f":"IF(入力用!C102=\"\",\"\",入力用!C102)","v":""},null,null,null,"個"]
[]
[null,null,null,null,null,null,null,null,null,null,null,null,null,null,null,null,null,null,null,null,null,null,null,null,null,null,null,null,null,null,null,null,null,null,null,null,null,null,null,null,null,null,null,null,null,null,null,null,null,null,null,null,null,null,null,null,null,null,null,null,null,null,null,null,null,null,null,null,null,null,null,null,null,null,null,null,null,null,null,null,null,null,"メッセンジャー",null,null,null,null,null,null," №",null,null,null,null,null,null,null,null,null,null,null,"負担金入金"]
[null,null,null,null,null,null,{"$f":"IF(入力用!C103=\"\",\"\",入力用!C103)","v":""},null,null,null,null,null,null,null,null,null,null,null,null,null,null,null,null,null,null,null,null,null,null,null,null,null,null,null,null,{"$f":"IF(入力用!C104=\"\",\"\",入力用!C104)","v":""},null,null,null,null,null,null,null,null,null,"Ｗ",null,null,{"$f":"IF(入力用!O105=2,入力用!V$6,IF(入力用!O105=3,入力用!V$7,\"\"))","v":""},null,null,null,null,null,null,null,null,null,null,null,{"$f":"IF(入力用!C106=\"\",\"\",入力用!C106)","v":""},null,null,null,null,null,null,null,null,null,"VA",null,null,{"$f":"IF(入力用!C107=\"\",\"\",入力用!C107)","v":""},null,null,null,"個"]
[]
[null,null,null,null,null,null,null,null,null,null,null,null,null,null,null,null,null,null,null,null,null,null,null,null,null,null,null,null,null,null,null,null,null,null,null,null,null,null,null,null,null,null,null,null,null,null,null,null,null,null,null,null,null,null,null,null,null,null,null,null,null,null,null,null,null,null,null,null,null,null,null,null,null,null,null,null,null,null,null,null,null,null,"外 線 工 事",null,null,null,null,null,null," №"]
[null,null,null,null,null,null,{"$f":"IF(入力用!C108=\"\",\"\",入力用!C108)","v":""},null,null,null,null,null,null,null,null,null,null,null,null,null,null,null,null,null,null,null,null,null,null,null,null,null,null,null,null,{"$f":"IF(入力用!C109=\"\",\"\",入力用!C109)","v":""},null,null,null,null,null,null,null,null,null,"Ｗ",null,null,{"$f":"IF(入力用!O110=2,入力用!V$6,IF(入力用!O110=3,入力用!V$7,\"\"))","v":""},null,null,null,null,null,null,null,null,null,null,null,{"$f":"IF(入力用!C111=\"\",\"\",入力用!C111)","v":""},null,null,null,null,null,null,null,null,null,"VA",null,null,{"$f":"IF(入力用!C112=\"\",\"\",入力用!C112)","v":""},null,null,null,"個"]
[]
[]
[null,null,null,null,null,null,{"$f":"IF(入力用!C113=\"\",\"\",入力用!C113)","v":""},null,null,null,null,null,null,null,null,null,null,null,null,null,null,null,null,null,null,null,null,null,null,null,null,null,null,null,null,{"$f":"IF(入力用!C114=\"\",\"\",入力用!C114)","v":""},null,null,null,null,null,null,null,null,null,"Ｗ",null,null,{"$f":"IF(入力用!O115=2,入力用!V$6,IF(入力用!O115=3,入力用!V$7,\"\"))","v":""},null,null,null,null,null,null,null,null,null,null,null,{"$f":"IF(入力用!C116=\"\",\"\",入力用!C116)","v":""},null,null,null,null,null,null,null,null,null,"VA",null,null,{"$f":"IF(入力用!C117=\"\",\"\",入力用!C117)","v":""},null,null,null,"個"]
[null,null,null,null,null,null,null,null,null,null,null,null,null,null,null,null,null,null,null,null,null,null,null,null,null,null,null,null,null,null,null,null,null,null,null,null,null,null,null,null,null,null,null,null,null,null,null,null,null,null,null,null,null,null,null,null,null,null,null,null,null,null,null,null,null,null,null,null,null,null,null,null,null,null,null,null,null,null,null,null,null,null,null,null,null,null,null,null,null,null,null,null,null,null,null,null,null,null,null,null,null,"計器払出"]
[]
[null,null,null,null,null,null,{"$f":"IF(入力用!C118=\"\",\"\",入力用!C118)","v":""},null,null,null,null,null,null,null,null,null,null,null,null,null,null,null,null,null,null,null,null,null,null,null,null,null,null,null,null,{"$f":"IF(入力用!C119=\"\",\"\",入力用!C119)","v":""},null,null,null,null,null,null,null,null,null,"Ｗ",null,null,{"$f":"IF(入力用!O120=2,入力用!V$6,IF(入力用!O120=3,入力用!V$7,\"\"))","v":""},null,null,null,null,null,null,null,null,null,null,null,{"$f":"IF(入力用!C121=\"\",\"\",入力用!C121)","v":""},null,null,null,null,null,null,null,null,null,"VA",null,null,{"$f":"IF(入力用!C122=\"\",\"\",入力用!C122)","v":""},null,null,null,"個"]
[]
[]
[null,null,null,null,null,null,{"$f":"IF(入力用!C123=\"\",\"\",入力用!C123)","v":""},null,null,null,null,null,null,null,null,null,null,null,null,null,null,null,null,null,null,null,null,null,null,null,null,null,null,null,null,{"$f":"IF(入力用!C124=\"\",\"\",入力用!C124)","v":""},null,null,null,null,null,null,null,null,null,"Ｗ",null,null,{"$f":"IF(入力用!O125=2,入力用!V$6,IF(入力用!O125=3,入力用!V$7,\"\"))","v":""},null,null,null,null,null,null,null,null,null,null,null,{"$f":"IF(入力用!C126=\"\",\"\",入力用!C126)","v":""},null,null,null,null,null,null,null,null,null,"VA",null,null,{"$f":"IF(入力用!C127=\"\",\"\",入力用!C127)","v":""},null,null,null,"個"]
[]
[]
[null,null,null,null,null,null,{"$f":"IF(入力用!C128=\"\",\"\",入力用!C128)","v":""},null,null,null,null,null,null,null,null,null,null,null,null,null,null,null,null,null,null,null,null,null,null,null,null,null,null,null,null,{"$f":"IF(入力用!C129=\"\",\"\",入力用!C129)","v":""},null,null,null,null,null,null,null,null,null,"Ｗ",null,null,{"$f":"IF(入力用!O130=2,入力用!V$6,IF(入力用!O130=3,入力用!V$7,\"\"))","v":""},null,null,null,null,null,null,null,null,null,null,null,{"$f":"IF(入力用!C131=\"\",\"\",入力用!C131)","v":""},null,null,null,null,null,null,null,null,null,"VA",null,null,{"$f":"IF(入力用!C132=\"\",\"\",入力用!C132)","v":""},null,null,null,"個",null,null,null,null,null,null,null,null,null,null,null,null,null,null,null,null,null,null,null,null,null,null,null,"送電申込受付"]
[]
[]
[null,null,null,null,null,null,{"$f":"IF(入力用!C133=\"\",\"\",入力用!C133)","v":""},null,null,null,null,null,null,null,null,null,null,null,null,null,null,null,null,null,null,null,null,null,null,null,null,null,null,null,null,{"$f":"IF(入力用!C134=\"\",\"\",入力用!C134)","v":""},null,null,null,null,null,null,null,null,null,"Ｗ",null,null,{"$f":"IF(入力用!O135=2,入力用!V$6,IF(入力用!O135=3,入力用!V$7,\"\"))","v":""},null,null,null,null,null,null,null,null,null,null,null,{"$f":"IF(入力用!C136=\"\",\"\",入力用!C136)","v":""},null,null,null,null,null,null,null,null,null,"VA",null,null,{"$f":"IF(入力用!C137=\"\",\"\",入力用!C137)","v":""},null,null,null,"個"]
[null,null,null,null,null,null,null,null,null,null,null,null,null,null,null,null,null,null,null,null,null,null,null,null,null,null,null,null,null,null,null,null,null,null,null,null,null,null,null,null,null,null,null,null,null,null,null,null,null,null,null,null,null,null,null,null,null,null,null,null,null,null,null,null,null,null,null,null,null,null,null,null,null,null,null,null,null,null,null,null,"電灯・小型機器総容量"]
[]
[null,null,null,null,null,null,{"$f":"IF(入力用!C138=\"\",\"\",入力用!C138)","v":""},null,null,null,null,null,null,null,null,null,null,null,null,null,null,null,null,null,null,null,null,null,null,null,null,null,null,null,null,{"$f":"IF(入力用!C139=\"\",\"\",入力用!C139)","v":""},null,null,null,null,null,null,null,null,null,"Ｗ",null,null,{"$f":"IF(入力用!O140=2,入力用!V$6,IF(入力用!O140=3,入力用!V$7,\"\"))","v":""},null,null,null,null,null,null,null,null,null,null,null,{"$f":"IF(入力用!C141=\"\",\"\",入力用!C141)","v":""},null,null,null,null,null,null,null,null,null,"VA",null,null,{"$f":"IF(入力用!C142=\"\",\"\",入力用!C142)","v":""},null,null,null,"個",null,null,{"$f":"IF(入力用!S141=0,\"\",入力用!S141)","v":""},null,null,null,null,null,null,null,null,null,null,null,null,null,"VA"]
[]
[null,null,null,null,null,null,null,null,null,null,null,null,null,null,null,null,null,null,null,null,null,null,null,null,null,null,null,null,null,null,null,null,null,null,null,null,null,null,null,null,null,null,null,null,null,null,null,null,null,null,null,null,null,null,null,null,null,null,null,null,null,null,null,null,null,null,null,null,null,null,null,null,null,null,null,null,null,null,null,null,null,null,null,null,null,null,null,null,null,null,null,null,null,null,null,null,null,null,null,null,null,"契約確認"]
[null,"温水器",null,null,null,null,"メーカー",null,null,null,null,null,null,null,null,null,null,null,null,"型　　　　　式",null,null,null,null,null,null,null,null,null,null,null,null,null,null,null,null,null,null,null,null,null,null,null,null,null,null,null,null,null,null,null,null,"容　　量"]
[null,null,null,null,null,null,null,null,null,null,null,null,null,null,null,null,null,null,null,null,null,null,null,null,null,null,null,null,null,null,null,null,null,null,null,null,null,null,null,null,null,null,null,null,null,null,null,null,null,null,null,null,null,null,null,null,null,null,null,null,null,null,null,null,null,null,null,"通電\n時間",null,null,null,null,"・21時～翌5時 ・0時～8時\n・22時～翌6時 ・1時～9時\n・23時～翌7時"]
[null,null,null,null,null,null,{"$f":"IF(入力用!C143=\"\",\"\",入力用!C143)","v":""},null,null,null,null,null,null,null,null,null,null,null,null,{"$f":"IF(入力用!C144=\"\",\"\",入力用!C144)","v":""},null,null,null,null,null,null,null,null,null,null,null,null,null,null,null,null,null,null,null,null,null,null,null,null,null,null,null,null,null,null,null,null,{"$f":"IF(入力用!C145=\"\",\"\",入力用!C145)","v":""},null,null,null,null,null,null,null,null,null,null,null,"kW"]
[]
[]
[]
[null,"異動種別",null,null,"・ 新設　　 　・ 減少　 　　　・ 転出",null,null,null,null,null,null,null,null,null,null,null,null,null,null,null,null,null,null,null,null,null,null,null,"供給地点特定番号",null,null,null,null,null,null,null,"発行\n回数",null,null,"支店",null,"ﾌﾞﾛｯｸ",null,null,"住所",null,null,null,null,"街区",null,null,"契約№",null,null,null,null,"枝番",null,null,"種別",null,null,null,null,null,"送電日\n（異動日）"]
[null,null,null,null,null,null,null,null,null,null,null,null,null,null,null,null,null,null,null,null,null,null,null,null,null,null,null,null,null,null,null,null,null,null,null,null,null,null,null,null,null,null,null,null,null,null,null,null,null,null,null,null,null,null,null,null,null,null,null,null,null,null,null,null,null,null,null,null,null,null,null,null,null,null,null,null,null,null,null,null,null,null,null,null,null,null,null,null,null,null,null,null,null,null,null,null,null,null,null,null,null,"上長確認"]
[null,null,null,null,"・ 種変(+)　　・ 設備撤去　　・ 名義変更"]
[]
[null,null,null,null,"・ ｺｰﾄﾞ変(+)　・ 設備変更　　 ・その他",null,null,null,null,null,null,null,null,null,null,null,null,null,null,null,null,null,null,null,null,null,null,null,null,null,null,"010",null,null,null,null,null,null,null,null,null,null,null,null,null,null,null,null,null,null,null,null,null,null,null,null,null,null,null,null,{"$f":"AK42","v":""},null,null,"00"]
[]
[null,null,null,null,"・ 増加　　 　・ 転入　　　　（　　　　）",null,null,null,null,null,null,null,null,null,null,null,null,null,null,null,null,null,null,null,null,null,null,null,null,null,null,null,null,null,null,null,null,null,null,null,null,null,null,null,null,null,null,null,null,null,null,null,null,null,null,null,null,null,null,null,null,null,null,null,null,null,null,null,null,null,null,"年",null,null,null,"月",null,null,null,"日"]
[]
[null,"業種",null,null,"定額電灯",null,null,null,null,null,null,null,null,null,"・ 工場",null,null,null,null,null,null,null,null,null,"・ 劇場･娯楽場",null,null,null,null,null,null,null,null,null,"公衆街路灯",null,null,null,null,null,null,null,null,null,"系統連系情報",null,null,null,null,"・系統連系有　　・系統連系無",null,null,null,null,null,null,null,null,null,null,null,null,null,null,null,null,null,null,null,null,null,null,null,null,null,null,null,null,null,"引込柱№",null,null,"画",null,null,"区",null,null,"図",null,null,"番",null,null,"の",null,null,"号"]
[null,null,null,null,null,null,null,null,null,null,null,null,null,null,null,null,null,null,null,null,null,null,null,null,null,null,null,null,null,null,null,null,null,null,null,null,null,null,null,null,null,null,null,null,null,null,null,null,null,null,null,null,null,null,null,null,null,null,null,null,null,null,null,null,null,null,null,null,null,null,null,null,null,null,null,null,null,null,null,null,null,null,null,null,null,null,null,null,null,null,null,null,null,null,null,null,null,null,null,null,null,"竣工調査"]
[null,null,null,null,"・ 住宅",null,null,null,null,null,null,null,null,null,"・ 事務所",null,null,null,null,null,null,null,null,null,"・ その他",null,null,null,null,null,null,null,null,null,"・ 街路灯"]
[]
[null,null,null,null,"・ ｱﾊﾟｰﾄ･寮（集合住宅）",null,null,null,null,null,null,null,null,null,"・ 旅館･飲食店",null,null,null,null,null,null,null,null,null,null,null,null,null,null,null,null,null,null,null,"・ 信号･表示灯",null,null,null,null,null,null,null,null,null,null,null,null,null,null,"・逆潮流有　　・逆潮流無"]
[]
[null,null,null,null,"・ 商店",null,null,null,null,null,null,null,null,null,"・ 病院･学校",null,null,null,null,null,null,null,null,null,null,null,null,null,null,null,null,null,null,null,"・ その他"]
[]
[null,"供給\n電気\n方式",null,null,{"$f":"IF(入力用!O32=2,\"単相2線100V\",IF(入力用!O32=3,\"単相2線200V\",IF(入力用!O32=4,\"単相3線100V\",IF(入力用!O32=5,\"3相3線200V\",\"\"))))","v":""},null,null,null,null,null,null,null,null,"計量\n区分",null,null,"・ 21～5時　・ 24～8時",null,null,null,null,null,null,null,null,null,null,null,null,null,null,null,"ＴＳ\n取付\n区分",null,null,"・ 通常　　　　 　・ 切替型"]
[null,null,null,null,null,null,null,null,null,null,null,null,null,null,null,null,null,null,null,null,null,null,null,null,null,null,null,null,null,null,null,null,null,null,null,null,null,null,null,null,null,null,null,null,null,null,null,null,null,null,null,null,null,null,null,null,null,null,null,null,null,null,null,null,null,null,null,null,null,null,null,null,null,null,null,null,null,null,null,null,null,null,null,null,null,null,null,null,null,null,null,null,null,null,null,null,null,null,null,null,null,"完了確認"]
[null,null,null,null,null,null,null,null,null,null,null,null,null,null,null,null,"・ 22～6時　・ 1～9時",null,null,null,null,null,null,null,null,null,null,null,null,null,null,null,null,null,null,"・ 共用･ＴＳなし"]
[]
[null,null,null,null,null,null,null,null,null,null,null,null,null,null,null,null,"・ 23～7時",null,null,null,null,null,null,null,null,null,null,null,null,null,null,null,null,null,null,"・ 併用･高圧ＡＳ"]
[]
[null,"支払者\n番号",null,null,null,null,null,null,null,null,null,null,null,null,null,null,null,null,null,null,null,null,"まとめ\n請求",null,null,null,"・有　　　・無",null,null,null,null,null,null,null,null,null,null,null,null,null,"支払\n番号",null,null,null,null,null,null,null,null,null,null,null,null,null,null,null,null,"決済\nアクセスキー",null,null,null,null,null,null,null,null,null,null,null,null,null,null,null,null,null,null,null,null,null,null,"請求書\n要　否",null,null,null,"・否　　　・要"]
[]
[]
[null,null,null,null,null,null,null,null,null,null,null,null,null,null,null,null,null,null,null,null,null,null,null,null,null,null,null,null,null,null,null,null,null,null,null,null,null,null,null,null,null,null,null,null,null,null,null,null,null,null,null,null,null,null,null,null,null,null,null,null,null,null,null,null,null,null,null,null,null,null,null,null,null,null,null,null,null,null,null,null,null,null,null,null,null,null,null,null,null,null,null,null,null,null,null,null,null,null,null,null,null,"完了連絡"]
[]
[]
[null,"＜備考＞"]
[]
[]
[]
[]
[null,null,null,null,null,null,null,null,null,null,null,null,null,null,null,null,null,null,null,null,null,null,null,null,null,null,null,null,null,null,null,null,null,null,null,null,null,null,null,null,null,null,null,null,null,null,null,null,null,null,null,null,null,null,null,null,null,null,null,null,null,null,null,null,null,null,null,null,null,null,null,null,null,null,null,null,null,null,null,null,null,null,null,null,null,null,null,null,null,null,null,null,null,null,null,null,null,null,null,null,null,"ＤＭ送付"]
[]
[]
[]
[]
[]
[]
[]
[null,null,null,null,null,null,null,null,null,null,null,null,null,null,null,null,null,null,null,null,null,null,null,null,null,null,null,null,null,null,null,null,null,null,null,null,null,null,null,null,null,null,null,null,null,null,null,null,null,null,null,null,null,null,null,null,null,null,null,null,null,null,null,null,null,null,null,null,null,null,null,null,null,null,null,null,null,null,null,null,null,null,null,null,null,null,null,null,null,null,null,null,null,null,null,null,null,null,null,null,null,"照合"]
[null,null,null,null,null,null,null,null,null,null,null,null,null,null,null,null,null,null,null,null,"他契約登録",null,"要 ・ 不要",null,null,null,null,null,null,null,"他契約登録番号",null,null,null,null,null,null,null,null,null,null,null,null,null,null,null,null,null,null,null,null,null,"　□供給地点他契約登録済"]
["北　海　道　電　力　株　式　会　社",null,null,null,null,null,null,null,null,null,null,null,null,null,null,null,null,null,null,null,null,null,null,null,null,null,null,null,null,null,null,null,null,null,null,null,null,null,null,null,null,null,null,null,null,null,null,null,null,null,null,null,null,null,null,null,null,null,null,null,null,null,null,null,null,null,null,null,null,null,null,null,null,null,null,null,null,null,null,null,null,null,null,null,"取　外　計　器"]
[]
["www.hepco.co.jp",null,null,null,null,null,null,null,null,null,null,null,null,null,null,null,null,null,null,null,null,null,null,null,null,null,null,null,null,null,null,null,null,null,null,null,null,null,null,null,null,null,null,null,null,null,null,null,null,null,null,null,null,null,null,null,null,null,null,null,null,null,null,null,null,null,null,null,null,null,null,null,null,null,null,null,null,null,null,null,"計器\n増設",null,null,null,"指示数"]
[]
[null,null,null,null,null,null,null,null,null,null,null,null,null,null,null,null,null,null,null,null,null,null,null,null,null,null,null,null,null,null,null,null,null,null,null,null,null,null,null,null,null,null,null,null,null,null,null,null,null,null,null,null,null,null,null,null,null,null,null,null,null,null,null,null,null,null,null,null,null,null,null,null,null,null,null,null,null,null,null,null,null,null,null,null,null,null,"ﾋﾟｰｸ/午後"]
[]
[null,null,null,null,null,null,null,null,null,null,null,null,null,null,null,null,null,null,null,null,null,null,null,null,null,null,null,null,null,null,null,null,null,null,null,null,null,null,null,null,null,null,null,null,null,null,null,null,null,null,null,null,null,null,null,null,null,null,null,null,null,null,null,null,null,null,null,null,null,null,null,null,null,null,null,null,null,null,null,null,null,null,null,null,null,null,"夜　間"]
[]
[null,null,null,null,null,null,null,null,null,null,null,null,null,null,null,null,null,null,null,null,null,null,null,null,null,null,null,null,null,null,null,null,null,null,null,null,null,null,null,null,null,null,null,null,null,null,null,null,null,null,null,null,null,null,null,null,null,null,null,null,null,null,null,null,null,null,null,null,null,null,null,null,null,null,null,null,null,null,null,null,null,null,null,null,"計器№",null,null,null,null,null,null,null,null,null,"乗率"]
[]
[]
["北　海　道　電　力　ネ　ッ　ト　ワ　ー　ク　株　式　会　社"]
[]
[]
[]
["北　海　道　電　力　株　式　会　社"]
[]
["www.hepco.co.jp"]